Workbook

Sheet Temps de délivrance par ref
A1: N° ODP | B1: Type BV | C1: N° du BV | D1: Date du retrait | E1: Heure du retrait | F1: Temps d'attente client | G1: Référence produit | H1: Rayon article
A2: BVL614974_1 | B2: =LEFT(A2,3) -> BVL | C2: =LEFT(A2,9) -> BVL614974 | D2: =VLOOKUP(C2,'Details lignes remises '!$D$5:$U$50,3,FALSE) -> 44837 | E2: =VLOOKUP(C2,'Details lignes remises '!$D$5:$U$50,4,FALSE) -> 25569.4 | F2: =VLOOKUP(C2,'Details lignes remises '!$D$5:$U$50,17,FALSE) -> 00:13:12 | G2: =VLOOKUP(C2,'BV par ref produits'!$B$4:$F$50,3,TRUE) -> 67216233
A3: BVL614974_1 | B3: =LEFT(A3,3) -> BVL | C3: =LEFT(A3,9) -> BVL614974 | D3: =VLOOKUP(C3,'Details lignes remises '!$D$5:$U$50,3,FALSE) -> 44837 | E3: =VLOOKUP(C3,'Details lignes remises '!$D$5:$U$50,4,FALSE) -> 25569.4 | F3: =VLOOKUP(C3,'Details lignes remises '!$D$5:$U$50,17,FALSE) -> 00:13:12 | G3: =VLOOKUP(C3,'BV par ref produits'!$B$4:$F$50,3,TRUE) -> 67216233
A4: BVL614978_1 | B4: =LEFT(A4,3) -> BVL | C4: =LEFT(A4,9) -> BVL614978 | D4: =VLOOKUP(C4,'Details lignes remises '!$D$5:$U$50,3,FALSE) -> 44837 | E4: =VLOOKUP(C4,'Details lignes remises '!$D$5:$U$50,4,FALSE) -> 25569.416 | F4: =VLOOKUP(C4,'Details lignes remises '!$D$5:$U$50,17,FALSE) -> 00:32:21 | G4: =VLOOKUP(C4,'BV par ref produits'!$B$4:$F$50,3,TRUE) -> 84855816
A5: BVL614978_1 | B5: =LEFT(A5,3) -> BVL | C5: =LEFT(A5,9) -> BVL614978 | D5: =VLOOKUP(C5,'Details lignes remises '!$D$5:$U$50,3,FALSE) -> 44837 | E5: =VLOOKUP(C5,'Details lignes remises '!$D$5:$U$50,4,FALSE) -> 25569.416 | F5: =VLOOKUP(C5,'Details lignes remises '!$D$5:$U$50,17,FALSE) -> 00:32:21 | G5: =VLOOKUP(C5,'BV par ref produits'!$B$4:$F$50,3,TRUE) -> 84855816
A6: BVL614983_1 | B6: =LEFT(A6,3) -> BVL | C6: =LEFT(A6,9) -> BVL614983 | D6: =VLOOKUP(C6,'Details lignes remises '!$D$5:$U$50,3,FALSE) -> 44837 | E6: =VLOOKUP(C6,'Details lignes remises '!$D$5:$U$50,4,FALSE) -> 25569.423 | F6: =VLOOKUP(C6,'Details lignes remises '!$D$5:$U$50,17,FALSE) -> 00:21:02 | G6: =VLOOKUP(C6,'BV par ref produits'!$B$4:$F$50,3,TRUE) -> 70716912
A7: BVL614995_1 | B7: =LEFT(A7,3) -> BVL | C7: =LEFT(A7,9) -> BVL614995 | D7: =VLOOKUP(C7,'Details lignes remises '!$D$5:$U$50,3,FALSE) -> 44837 | E7: =VLOOKUP(C7,'Details lignes remises '!$D$5:$U$50,4,FALSE) -> 25569.439 | F7: =VLOOKUP(C7,'Details lignes remises '!$D$5:$U$50,17,FALSE) -> 00:11:22 | G7: =VLOOKUP(C7,'BV par ref produits'!$B$4:$F$50,3,TRUE) -> 70716912
A8: BVL615009_1 | B8: =LEFT(A8,3) -> BVL | C8: =LEFT(A8,9) -> BVL615009 | D8: =VLOOKUP(C8,'Details lignes remises '!$D$5:$U$50,3,FALSE) -> 44837 | E8: =VLOOKUP(C8,'Details lignes remises '!$D$5:$U$50,4,FALSE) -> 25569.472 | F8: =VLOOKUP(C8,'Details lignes remises '!$D$5:$U$50,17,FALSE) -> 00:10:56 | G8: =VLOOKUP(C8,'BV par ref produits'!$B$4:$F$50,3,TRUE) -> 70716912
A9: BVL615014_1 | B9: =LEFT(A9,3) -> BVL | C9: =LEFT(A9,9) -> BVL615014 | D9: =VLOOKUP(C9,'Details lignes remises '!$D$5:$U$50,3,FALSE) -> 44837 | E9: =VLOOKUP(C9,'Details lignes remises '!$D$5:$U$50,4,FALSE) -> 25569.504 | F9: =VLOOKUP(C9,'Details lignes remises '!$D$5:$U$50,17,FALSE) -> 00:07:23 | G9: =VLOOKUP(C9,'BV par ref produits'!$B$4:$F$50,3,TRUE) -> 70716912
A10: BVL615027_1 | B10: =LEFT(A10,3) -> BVL | C10: =LEFT(A10,9) -> BVL615027 | D10: =VLOOKUP(C10,'Details lignes remises '!$D$5:$U$50,3,FALSE) -> 44837 | E10: =VLOOKUP(C10,'Details lignes remises '!$D$5:$U$50,4,FALSE) -> 25569.487 | F10: =VLOOKUP(C10,'Details lignes remises '!$D$5:$U$50,17,FALSE) -> 00:12:31 | G10: =VLOOKUP(C10,'BV par ref produits'!$B$4:$F$50,3,TRUE) -> 70716912
A11: BVL615040_1 | B11: =LEFT(A11,3) -> BVL | C11: =LEFT(A11,9) -> BVL615040 | D11: =VLOOKUP(C11,'Details lignes remises '!$D$5:$U$50,3,FALSE) -> 44837 | E11: =VLOOKUP(C11,'Details lignes remises '!$D$5:$U$50,4,FALSE) -> 25569.541 | F11: =VLOOKUP(C11,'Details lignes remises '!$D$5:$U$50,17,FALSE) -> 00:09:59 | G11: =VLOOKUP(C11,'BV par ref produits'!$B$4:$F$50,3,TRUE) -> 70716912
A12: BVL615052_1 | B12: =LEFT(A12,3) -> BVL | C12: =LEFT(A12,9) -> BVL615052 | D12: =VLOOKUP(C12,'Details lignes remises '!$D$5:$U$50,3,FALSE) -> 44837 | E12: =VLOOKUP(C12,'Details lignes remises '!$D$5:$U$50,4,FALSE) -> 25569.544 | F12: =VLOOKUP(C12,'Details lignes remises '!$D$5:$U$50,17,FALSE) -> 02:05:58 | G12: =VLOOKUP(C12,'BV par ref produits'!$B$4:$F$50,3,TRUE) -> 70716912
A13: BVL615073_1 | B13: =LEFT(A13,3) -> BVL | C13: =LEFT(A13,9) -> BVL615073 | D13: =VLOOKUP(C13,'Details lignes remises '!$D$5:$U$50,3,FALSE) -> 44837 | E13: =VLOOKUP(C13,'Details lignes remises '!$D$5:$U$50,4,FALSE) -> 25569.564 | F13: =VLOOKUP(C13,'Details lignes remises '!$D$5:$U$50,17,FALSE) -> 00:31:31 | G13: =VLOOKUP(C13,'BV par ref produits'!$B$4:$F$50,3,TRUE) -> 70716912
... A32: BVL615181_1 | B32: =LEFT(A32,3) -> BVL | C32: =LEFT(A32,9) -> BVL615181 | D32: =VLOOKUP(C32,'Details lignes remises '!$D$5:$U$50,3,FALSE) -> 44837 | E32: =VLOOKUP(C32,'Details lignes remises '!$D$5:$U$50,4,FALSE) -> 25569.805 | F32: =VLOOKUP(C32,'Details lignes remises '!$D$5:$U$50,17,FALSE) -> 13:37:24 | G32: =VLOOKUP(C32,'BV par ref produits'!$B$4:$F$50,3,TRUE) -> 70716912

Sheet BV par ref produits
G2: 17971
B3: Numéro ODP | C3: No rayon (info article) | D3: Réf Article | E3: Désignation Article | F3: Topage implantation picking en RES (à la veille de la requête) | G3: Nombre de BV
B4: BVL614163_1 | C4: 6 | D4: 82222337 | E4: CX ARTENSARCTIC BLAN MAT REC30X90 1.08M2 | G4: 1
B5: BVL614539_1 | C5: 7 | D5: 82010234 | E5: IDEALSOFT RECEVEUR GRES BLC 90X90CM | G5: 1
B6: BVL614556_1 | C6: 8 | D6: 82929857 | E6: CHAUF EAU 200L SOCLE CANGAR SAUTER VS | G6: 1
B7: BVL614562_1 | C7: 8 | D7: 82929857 | E7: CHAUF EAU 200L SOCLE CANGAR SAUTER VS | G7: 1
B8: BVL614571_1 | C8: 9 | D8: 70646842 | E8: PCH AKOLA CL4 22X145X3000MM | G8: 1
B9: BVL614575_1 | C9: 8 | D9: 66272332 | E9: RAD ACIER ADAPT EQUATION L40 H90 931W | G9: 1
B10: BVL614576_1 | C10: 7 | D10: 82209770 | E10: REMIX PTE PIVOT VT/CHR 77.5/80.5CM | F10: RES | G10: 1
B11: BVL614590_1 | C11: 9 | D11: 64421812 | E11: 1PX POTEAU PIN CARRE 7X7X180CM | F11: RES | G11: 1
B12: BVL614590_1 | C12: 9 | D12: 82717608 | E12: PANNEAU DROIT MIKA 180X180 30MM | F12: RES | G12: 1
B13: BVL614594_1 | C13: 9 | D13: 64421812 | E13: 1PX POTEAU PIN CARRE 7X7X180CM | F13: RES | G13: 1
B14: BVL614623_1 | C14: 7 | D14: 80096212 | E14: REMIX PAROI ITALIENN 8MM VT/NR 117-118.5 | F14: RES | G14: 1
B15: BVL614650_1 | C15: 8 | D15: 82273198 | E15: RAD AC EASY 22C4 6X0600 1032W L60 H60 | G15: 1
B16: BVL614652_1 | C16: 9 | D16: 69127464 | E16: LAME CLOTURE SAPIN 2.8X14.5X180CM QUICK | G16: 1
B17: BVL614652_1 | C17: 9 | D17: 82003875 | E17: POTEAU RAINURE EN U YONA 9X9X240CM | G17: 1
B18: BVL614683_1 | C18: 5 | D18: 80129371 | E18: 2 POIGNEES CUISINE MILOS S ACIER L15.4CM | F18: RES | G18: 1
B19: BVL614710_1 | C19: 9 | D19: 82717614 | E19: PANNEAU DROIT ELIA 90X180 18MM | G19: 1
B20: BVL614727_1 | C20: 6 | D20: 82222009 | E20: CX NO NAME FROSTY BLC GLOSSY20X20 1.4M2 | F20: RES | G20: 1
B21: BVL614750_1 | C21: 8 | D21: 84177762 | E21: RAD DBL SC NOIROT RADIASOFT V 1500W BL | G21: 1
B22: BVL614753_1 | C22: 8 | D22: 66272346 | E22: RAD ACIER ADAPT EQUATION L60 H90 1396W | G22: 1
B23: BVL614780_1 | C23: 9 | D23: 82717598 | E23: PANNEAU DROIT MIKA 90X180 30MM | F23: RES | G23: 1
B24: BVL614782_1 | C24: 2 | D24: 80027612 | E24: PORTE ENTREE PVC ELEGANCE2 215X80 PD BL | G24: 1
B25: BVL614797_1 | C25: 7 | D25: 67216240 | E25: SOFA BAIGNOIRE 180X80 CM | G25: 1
B26: BVL614801_1 | C26: 8 | D26: 70485765 | E26: RAD DSC MALAO 2000W SAUTER | G26: 1
B27: BVL614836_1 | C27: 5 | D27: 79951802 | E27: CAISSON HAUT BLANC L60XH39XP35 | F27: RES | G27: 1
B28: BVL614841_1 | C28: 6 | D28: 72452352 | E28: PQT FORTE M CHENE BLOND BOH V 0.99M2 | G28: 1
B29: BVL614862_1 | C29: 8 | D29: 82929918 | E29: CHAUF EAU 200L ACI EQUATION2 VM | F29: RES | G29: 1
B30: BVL614864_1 | C30: 9 | D30: 82879569 | E30: LAMBOURDE PIN VERT CL4 45X70X2400MM | F30: RES | G30: 1
B31: BVL614866_1 | C31: 6 | D31: 89168604 | E31: CX ARTENS IN LIVING NAT CL20X120 1.2M2 | G31: 1
B32: BVL614883_1 | C32: 6 | D32: 70567112 | E32: PDP BETON ARTENS ATELIER BRIQUE 1M² | G32: 1
B33: BVL614883_1 | C33: 6 | D33: 72452296 | E33: PQT FORTE XL CHENE NATUREL CAMP V 1.37M2 | G33: 1
B34: BVL614883_1 | C34: 6 | D34: 82737128 | E34: STR INTENSO 12MM COTTAGE2 CREA LINE 1.33 | G34: 1
B35: BVL614883_1 | C35: 8 | D35: 69469036 | E35: PLAQUE SOL NOIR 100X75 | G35: 1
B36: BVL614891_1 | C36: 8 | D36: 82929914 | E36: CHAUF EAU 100L ACI EQUATION2 VM | G36: 1
B37: BVL614905_1 | C37: 8 | D37: 82273198 | E37: RAD AC EASY 22C4 6X0600 1032W L60 H60 | G37: 1
B38: BVL614907_1 | C38: 6 | D38: 70285145 | E38: TIME HEXAGONE 21X18 FICELLE 0.46M² | G38: 1
B39: BVL614907_1 | C39: 6 | D39: 70285173 | E39: TIME HEXAGONE 21X18 ANTHRACITE 0.46M² | G39: 1
B40: BVL614907_1 | C40: 6 | D40: 70285180 | E40: TIME HEXAGONE 21X18 GRIS CIMENT 0.46M² | G40: 1
B41: BVL614918_1 | C41: 5 | D41: 80129456 | E41: LOT DE 4 PIEDS A VISSER PLASTIQUE H10 CM | F41: RES | G41: 1
B42: BVL614922_1 | C42: 6 | D42: 80181753 | E42: CX MEGEVE 20X120 BOIS CLAIR 0.96M² | G42: 1
B43: BVL614934_1 | C43: 9 | D43: 82737109 | E43: PCH KUHMO PIN VERT CL4 27X145X2400MM | F43: RES | G43: 1
B44: BVL614935_1 | C44: 6 | D44: 80036705 | E44: STR INTENSO 12MM FERNIE 1.495M² | G44: 1
B45: BVL614941_1 | C45: 8 | D45: 82246626 | E45: CHAUFFE EAU 150L EQUATION BASIC | G45: 1
B46: BVL614952_1 | C46: 8 | D46: 66272283 | E46: RAD ACIER ADAPT EQUATION L60 H70 1146W | G46: 1
B47: BVL614969_1 | C47: 7 | D47: 67216233 | E47: SOFA BAIGNOIRE 170X75 CM | F47: RES | G47: 1
B48: BVL614974_1 | C48: 8 | D48: 82246622 | E48: 1PX CHAUFFE EAU 100L BLINDE | G48: 1
B49: BVL614974_1 | C49: 8 | D49: 84855816 | E49: TREPIED CE VERTICAL MURAL D500/570 | F49: RES | G49: 1
B50: BVL614978_1 | C50: 9 | D50: 70716912 | E50: DALLE SUPPORT PLOT A VERIN 25X25X4.5CM | F50: RES | G50: 1

Sheet Details lignes remises 
B4: v_motif_odp | C4: Nb Chargements | D4: N° de CC | E4: Total Vl Valide Chargement | F4: Date Arrivee Transporteur ou Client | G4: Heure Arrivee Transporteur ou Client | H4: V_Temps Création de Remise | I4: Date Creation | J4: Heure Creation | K4: V_Temps Prise en Charge Remise | L4: Date Attribution Remise | M4: Heure Attribution Remise | N4: V_Temps Réalisation Remise | O4: Date Destinataire Remise | P4: Heure Appel Destinataire Remise | Q4: V_Temps de Chargement Remise | R4: Date Validation Chargement | S4: Heure Validation Chargement | T4: V_Temps d'attente client | U4: V_TempsPar Quartile
B5: BVL | C5: 1 | D5: BVL614974 | E5: 2 | F5: 44837 | G5: 25569.4 | H5: 00:00:37 | I5: 44837 | J5: 25569.4 | K5: 00:08:32 | L5: 44837 | M5: 25569.406 | N5: :: | Q5: :: | R5: 44837 | S5: 25569.409 | T5: 00:13:12 | U5: 2 - Temps 10-30 min
B6: BVL | C6: 1 | D6: BVL614978 | E6: 49 | F6: 44837 | G6: 25569.416 | H6: 00:00:41 | I6: 44837 | J6: 25569.416 | K6: 00:30:38 | L6: 44837 | M6: 25569.437 | N6: :: | Q6: :: | R6: 44837 | S6: 25569.438 | T6: 00:32:21 | U6: 3 - Temps 30-60 min
B7: BVL | C7: 1 | D7: BVL614983 | E7: 1 | F7: 44837 | G7: 25569.423 | H7: 00:00:54 | I7: 44837 | J7: 25569.424 | K7: 00:19:30 | L7: 44837 | M7: 25569.437 | N7: :: | Q7: :: | R7: 44837 | S7: 25569.438 | T7: 00:21:02 | U7: 2 - Temps 10-30 min
B8: BVL | C8: 1 | D8: BVL614995 | E8: 1 | F8: 44837 | G8: 25569.439 | H8: 00:00:32 | I8: 44837 | J8: 25569.439 | K8: 00:09:03 | L8: 44837 | M8: 25569.445 | N8: :: | Q8: :: | R8: 44837 | S8: 25569.447 | T8: 00:11:22 | U8: 2 - Temps 10-30 min
B9: BVL | C9: 1 | D9: BVL615009 | E9: 18 | F9: 44837 | G9: 25569.472 | H9: 00:00:49 | I9: 44837 | J9: 25569.473 | K9: 00:05:06 | L9: 44837 | M9: 25569.477 | N9: :: | Q9: :: | R9: 44837 | S9: 25569.48 | T9: 00:10:56 | U9: 2 - Temps 10-30 min
B10: BVL | C10: 1 | D10: BVL615014 | E10: 1 | F10: 44837 | G10: 25569.504 | H10: 00:00:52 | I10: 44837 | J10: 25569.504 | K10: 00:06:17 | L10: 44837 | M10: 25569.509 | N10: 00:00:03 | O10: 44837 | P10: 25569.509 | Q10: 00:00:11 | R10: 44837 | S10: 25569.509 | T10: 00:07:23 | U10: 1 - Temps < 10 min
B11: BVL | C11: 1 | D11: BVL615027 | E11: 17 | F11: 44837 | G11: 25569.487 | H11: 00:01:21 | I11: 44837 | J11: 25569.488 | K11: 00:06:15 | L11: 44837 | M11: 25569.492 | N11: :: | Q11: :: | R11: 44837 | S11: 25569.495 | T11: 00:12:31 | U11: 2 - Temps 10-30 min
B12: BVL | C12: 1 | D12: BVL615040 | E12: 1 | F12: 44837 | G12: 25569.541 | H12: 00:00:34 | I12: 44837 | J12: 25569.541 | K12: 00:09:16 | L12: 44837 | M12: 25569.548 | N12: 00:00:04 | O12: 44837 | P12: 25569.548 | Q12: 00:00:05 | R12: 44837 | S12: 25569.548 | T12: 00:09:59 | U12: 1 - Temps < 10 min
B13: BVL | C13: 1 | D13: BVL615052 | E13: 16 | F13: 44837 | G13: 25569.544 | H13: 00:01:11 | I13: 44837 | J13: 25569.545 | K13: :: | N13: :: | Q13: :: | R13: 44837 | S13: 25569.632 | T13: 02:05:58 | U13: 4 - Temps 1-12h
B14: BVL | C14: 1 | D14: BVL615073 | E14: 15 | F14: 44837 | G14: 25569.564 | H14: 00:00:55 | I14: 44837 | J14: 25569.565 | K14: 00:30:27 | L14: 44837 | M14: 25569.586 | N14: 00:00:05 | O14: 44837 | P14: 25569.586 | Q14: 00:00:04 | R14: 44837 | S14: 25569.586 | T14: 00:31:31 | U14: 3 - Temps 30-60 min
B15: BVL | C15: 1 | D15: BVL615083 | E15: 18 | F15: 44837 | G15: 25569.6 | H15: 00:00:49 | I15: 44837 | J15: 25569.601 | K15: 00:32:34 | L15: 44837 | M15: 25569.624 | N15: 00:00:04 | O15: 44837 | P15: 25569.624 | Q15: 00:00:07 | R15: 44837 | S15: 25569.624 | T15: 00:33:34 | U15: 3 - Temps 30-60 min
B16: BVL | C16: 1 | D16: BVL615092 | E16: 6 | F16: 44837 | G16: 25569.601 | H16: 00:01:17 | I16: 44837 | J16: 25569.602 | K16: 00:22:23 | L16: 44837 | M16: 25569.617 | N16: 00:00:03 | O16: 44837 | P16: 25569.617 | Q16: 00:00:06 | R16: 44837 | S16: 25569.617 | T16: 00:23:49 | U16: 2 - Temps 10-30 min
B17: BVL | C17: 1 | D17: BVL615093 | E17: 30 | F17: 44837 | G17: 25569.601 | H17: 00:01:10 | I17: 44837 | J17: 25569.602 | K17: 00:30:16 | L17: 44837 | M17: 25569.623 | N17: 00:00:06 | O17: 44837 | P17: 25569.623 | Q17: 00:00:05 | R17: 44837 | S17: 25569.623 | T17: 00:31:37 | U17: 3 - Temps 30-60 min
B18: BVL | C18: 1 | D18: BVL615098 | E18: 5 | F18: 44837 | G18: 25569.621 | H18: 00:00:43 | I18: 44837 | J18: 25569.621 | K18: 00:16:33 | L18: 44837 | M18: 25569.633 | N18: 00:00:05 | O18: 44837 | P18: 25569.633 | Q18: 00:00:03 | R18: 44837 | S18: 25569.633 | T18: 00:17:24 | U18: 2 - Temps 10-30 min
B19: BVL | C19: 1 | D19: BVL615099 | E19: 1 | F19: 44837 | G19: 25569.646 | H19: 00:00:32 | I19: 44837 | J19: 25569.646 | K19: 00:34:55 | L19: 44837 | M19: 25569.67 | N19: :: | Q19: :: | R19: 44837 | S19: 25569.671 | T19: 00:36:57 | U19: 3 - Temps 30-60 min
B20: BVL | C20: 1 | D20: BVL615101 | E20: 2 | F20: 44837 | G20: 25569.625 | H20: 00:01:06 | I20: 44837 | J20: 25569.626 | K20: 00:27:51 | L20: 44837 | M20: 25569.645 | N20: 00:00:05 | O20: 44837 | P20: 25569.645 | Q20: 00:00:04 | R20: 44837 | S20: 25569.645 | T20: 00:29:06 | U20: 2 - Temps 10-30 min
B21: BVL | C21: 1 | D21: BVL615118 | E21: 15 | F21: 44837 | G21: 25569.655 | H21: 00:00:35 | I21: 44837 | J21: 25569.656 | K21: 00:12:40 | L21: 44837 | M21: 25569.665 | N21: :: | Q21: :: | R21: 44837 | S21: 25569.665 | T21: 00:13:23 | U21: 2 - Temps 10-30 min
B22: BVL | C22: 1 | D22: BVL615139 | E22: 7 | F22: 44837 | G22: 25569.702 | H22: 00:01:02 | I22: 44837 | J22: 25569.703 | K22: 00:11:23 | L22: 44837 | M22: 25569.711 | N22: 00:00:05 | O22: 44837 | P22: 25569.711 | Q22: 00:01:31 | R22: 44837 | S22: 25569.712 | T22: 00:14:01 | U22: 2 - Temps 10-30 min
B23: BVL | C23: 1 | D23: BVL615149 | E23: 1 | F23: 44837 | G23: 25569.721 | H23: 00:01:16 | I23: 44837 | J23: 25569.722 | K23: 00:12:46 | L23: 44837 | M23: 25569.731 | N23: :: | Q23: :: | R23: 44837 | S23: 25569.733 | T23: 00:16:10 | U23: 2 - Temps 10-30 min
B24: BVL | C24: 1 | D24: BVL615152 | E24: 4 | F24: 44837 | G24: 25569.721 | H24: 00:00:58 | I24: 44837 | J24: 25569.722 | K24: 00:07:26 | L24: 44837 | M24: 25569.727 | N24: :: | Q24: :: | R24: 44837 | S24: 25569.728 | T24: 00:10:29 | U24: 2 - Temps 10-30 min
B25: BVL | C25: 1 | D25: BVL615158 | E25: 14 | F25: 44837 | G25: 25569.731 | H25: 00:01:00 | I25: 44837 | J25: 25569.732 | K25: 00:09:55 | L25: 44837 | M25: 25569.739 | N25: :: | Q25: :: | R25: 44837 | S25: 25569.743 | T25: 00:16:38 | U25: 2 - Temps 10-30 min
B26: BVL | C26: 1 | D26: BVL615176 | E26: 5 | F26: 44837 | G26: 25569.783 | H26: 00:00:26 | I26: 44837 | J26: 25569.783 | K26: :: | N26: :: | Q26: :: | R26: 44838 | S26: 25569.372 | T26: 14:09:27 | U26: 5 - Temps >12h
B27: BVL | C27: 1 | D27: BVL615177 | E27: 2 | F27: 44837 | G27: 25569.797 | H27: 00:00:39 | I27: 44837 | J27: 25569.797 | K27: :: | N27: :: | Q27: :: | R27: 44838 | S27: 25569.375 | T27: 13:52:46 | U27: 5 - Temps >12h
B28: BVL | C28: 1 | D28: BVL615179 | E28: 1 | F28: 44837 | G28: 25569.793 | H28: 00:01:05 | I28: 44837 | J28: 25569.794 | K28: 00:09:49 | L28: 44837 | M28: 25569.801 | N28: :: | Q28: :: | R28: 44837 | S28: 25569.802 | T28: 00:12:54 | U28: 2 - Temps 10-30 min
B29: BVL | C29: 1 | D29: BVL615181 | E29: 1 | F29: 44837 | G29: 25569.805 | H29: 00:01:23 | I29: 44837 | J29: 25569.806 | K29: :: | N29: :: | Q29: :: | R29: 44838 | S29: 25569.372 | T29: 13:37:24 | U29: 5 - Temps >12h
B30: BVL | C30: 1 | D30: BVL616361 | E30: 2 | F30: 44844 | G30: 25569.431 | H30: 00:01:10 | I30: 44844 | J30: 25569.431 | K30: 00:07:16 | L30: 44844 | M30: 25569.436 | N30: :: | Q30: :: | R30: 44844 | S30: 25569.437 | T30: 00:09:42 | U30: 1 - Temps < 10 min
B31: BVL | C31: 1 | D31: BVL616365 | E31: 1 | F31: 44844 | G31: 25569.446 | H31: 00:01:00 | I31: 44844 | J31: 25569.447 | K31: 00:11:20 | L31: 44844 | M31: 25569.455 | N31: :: | Q31: :: | R31: 44844 | S31: 25569.456 | T31: 00:15:08 | U31: 2 - Temps 10-30 min
B32: BVL | C32: 1 | D32: BVL616372 | E32: 2 | F32: 44844 | G32: 25569.454 | H32: 00:01:03 | I32: 44844 | J32: 25569.454 | K32: 00:13:22 | L32: 44844 | M32: 25569.464 | N32: :: | Q32: :: | R32: 44844 | S32: 25569.465 | T32: 00:16:49 | U32: 2 - Temps 10-30 min
B33: BVL | C33: 1 | D33: BVL616387 | E33: 4 | F33: 44844 | G33: 25569.483 | H33: 00:01:05 | I33: 44844 | J33: 25569.484 | K33: 00:09:46 | L33: 44844 | M33: 25569.49 | N33: :: | Q33: :: | R33: 44844 | S33: 25569.491 | T33: 00:11:54 | U33: 2 - Temps 10-30 min
B34: BVL | C34: 1 | D34: BVL616390 | E34: 1 | F34: 44844 | G34: 25569.49 | H34: 00:01:10 | I34: 44844 | J34: 25569.491 | K34: 00:15:46 | L34: 44844 | M34: 25569.502 | N34: :: | Q34: :: | R34: 44844 | S34: 25569.505 | T34: 00:21:22 | U34: 2 - Temps 10-30 min
B35: BVL | C35: 1 | D35: BVL616393 | E35: 1 | F35: 44844 | G35: 25569.493 | H35: 00:01:22 | I35: 44844 | J35: 25569.494 | K35: 00:14:58 | L35: 44844 | M35: 25569.504 | N35: :: | Q35: :: | R35: 44844 | S35: 25569.505 | T35: 00:16:34 | U35: 2 - Temps 10-30 min
B36: BVL | C36: 1 | D36: BVL616400 | E36: 10 | F36: 44844 | G36: 25569.503 | H36: 00:01:24 | I36: 44844 | J36: 25569.504 | K36: 00:08:15 | L36: 44844 | M36: 25569.51 | N36: 00:00:05 | O36: 44844 | P36: 25569.51 | Q36: 00:00:03 | R36: 44844 | S36: 25569.51 | T36: 00:09:47 | U36: 1 - Temps < 10 min
B37: BVL | C37: 1 | D37: BVL616404 | E37: 1 | F37: 44844 | G37: 25569.518 | H37: 00:00:48 | I37: 44844 | J37: 25569.519 | K37: 00:07:05 | L37: 44844 | M37: 25569.524 | N37: :: | Q37: :: | R37: 44844 | S37: 25569.525 | T37: 00:09:46 | U37: 1 - Temps < 10 min
B38: BVL | C38: 1 | D38: BVL616412 | E38: 1 | F38: 44844 | G38: 25569.534 | H38: 00:00:49 | I38: 44844 | J38: 25569.535 | K38: 00:02:32 | L38: 44844 | M38: 25569.537 | N38: :: | Q38: :: | R38: 44844 | S38: 25569.54 | T38: 00:08:47 | U38: 1 - Temps < 10 min
B39: BVL | C39: 1 | D39: BVL616414 | E39: 14 | F39: 44844 | G39: 25569.536 | H39: 00:01:02 | I39: 44844 | J39: 25569.537 | K39: :: | N39: :: | Q39: :: | R39: 44844 | S39: 25569.609 | T39: 01:44:47 | U39: 4 - Temps 1-12h
B40: BVL | C40: 1 | D40: BVL616418 | E40: 2 | F40: 44844 | G40: 25569.541 | H40: 00:00:55 | I40: 44844 | J40: 25569.542 | K40: 00:08:18 | L40: 44844 | M40: 25569.548 | N40: :: | Q40: :: | R40: 44844 | S40: 25569.55 | T40: 00:12:12 | U40: 2 - Temps 10-30 min
B41: BVL | C41: 1 | D41: BVL616449 | E41: 24 | F41: 44844 | G41: 25569.612 | H41: 00:00:54 | I41: 44844 | J41: 25569.613 | K41: 00:07:35 | L41: 44844 | M41: 25569.618 | N41: :: | Q41: :: | R41: 44844 | S41: 25569.621 | T41: 00:13:07 | U41: 2 - Temps 10-30 min
B42: BVL | C42: 1 | D42: BVL616455 | E42: 19 | F42: 44844 | G42: 25569.642 | H42: 00:00:29 | I42: 44844 | J42: 25569.643 | K42: 00:12:17 | L42: 44844 | M42: 25569.651 | N42: :: | Q42: :: | R42: 44844 | S42: 25569.653 | T42: 00:15:12 | U42: 2 - Temps 10-30 min
B43: BVL | C43: 1 | D43: BVL616467 | E43: 1 | F43: 44844 | G43: 25569.656 | H43: 00:00:50 | I43: 44844 | J43: 25569.656 | K43: 00:07:25 | L43: 44844 | M43: 25569.662 | N43: :: | Q43: :: | R43: 44844 | S43: 25569.662 | T43: 00:09:34 | U43: 1 - Temps < 10 min
B44: BVL | C44: 1 | D44: BVL616483 | E44: 1 | F44: 44844 | G44: 25569.689 | H44: 00:00:47 | I44: 44844 | J44: 25569.69 | K44: 00:07:45 | L44: 44844 | M44: 25569.695 | N44: :: | Q44: :: | R44: 44844 | S44: 25569.697 | T44: 00:11:54 | U44: 2 - Temps 10-30 min
B45: BVL | C45: 1 | D45: BVL616500 | E45: 1 | F45: 44844 | G45: 25569.734 | H45: 00:00:37 | I45: 44844 | J45: 25569.734 | K45: 00:12:29 | L45: 44844 | M45: 25569.743 | N45: :: | Q45: :: | R45: 44844 | S45: 25569.745 | T45: 00:16:07 | U45: 2 - Temps 10-30 min
B46: BVL | C46: 1 | D46: BVL616501 | E46: 10 | F46: 44844 | G46: 25569.745 | H46: 00:00:47 | I46: 44844 | J46: 25569.745 | K46: 00:17:19 | L46: 44844 | M46: 25569.757 | N46: 00:00:04 | O46: 44844 | P46: 25569.757 | Q46: 00:00:07 | R46: 44844 | S46: 25569.757 | T46: 00:18:17 | U46: 2 - Temps 10-30 min
B47: BVL | C47: 1 | D47: BVL616503 | E47: 26 | F47: 44844 | G47: 25569.763 | H47: 00:00:31 | I47: 44844 | J47: 25569.763 | K47: 00:05:41 | L47: 44844 | M47: 25569.767 | N47: :: | Q47: :: | R47: 44844 | S47: 25569.768 | T47: 00:07:44 | U47: 1 - Temps < 10 min
B48: BVL | C48: 1 | D48: BVL616505 | E48: 3 | F48: 44844 | G48: 25569.757 | H48: 00:00:39 | I48: 44844 | J48: 25569.758 | K48: 00:06:29 | L48: 44844 | M48: 25569.762 | N48: 00:00:02 | O48: 44844 | P48: 25569.762 | Q48: 00:00:06 | R48: 44844 | S48: 25569.762 | T48: 00:07:16 | U48: 1 - Temps < 10 min
B49: BVL | C49: 1 | D49: BVL616509 | E49: 35 | F49: 44844 | G49: 25569.775 | H49: 00:00:55 | I49: 44844 | J49: 25569.776 | K49: 00:18:45 | L49: 44844 | M49: 25569.789 | N49: 00:00:03 | O49: 44844 | P49: 25569.789 | Q49: 00:00:05 | R49: 44844 | S49: 25569.789 | T49: 00:19:48 | U49: 2 - Temps 10-30 min
B50: BVL | C50: 1 | D50: BVL616524 | E50: 2 | F50: 44844 | G50: 25569.786 | H50: 00:00:52 | I50: 44844 | J50: 25569.786 | K50: 00:09:16 | L50: 44844 | M50: 25569.793 | N50: :: | Q50: :: | R50: 44844 | S50: 25569.797 | T50: 00:15:53 | U50: 2 - Temps 10-30 min
