Workbook

Sheet grp_naf
A2: 1512E | B2: 1512E-1721Z-1723Z-4939Z-6420Z
A3: 1721Z | B3: 1512E-1721Z-1723Z-4939Z-6420Z
A4: 1723Z | B4: 1512E-1721Z-1723Z-4939Z-6420Z
A5: 4939Z | B5: 1512E-1721Z-1723Z-4939Z-6420Z
A6: 6420Z | B6: 1512E-1721Z-1723Z-4939Z-6420Z

Sheet Avec IDCC
A1: N° ADH | B1: MAIL | C1: RAISON_SOCIALE | D1: NAF | E1: CCN_APPLIQUEE | F1: EFFECTIF | G1: CPN_222 | H1: CO_CTNA_A36_1 | I1: VA_MINI_CTNU_A36_1 | J1: Groupe NAF | K1: Effectif2
A2: 058650463000 | B2: nsimba-cabinetwoh@fr.oleane.com | C2: CLAYDON | D2: 803Z | E2: 3131 | F2: 1 | G2: Oui | H2: NIVE | I2: III | J2: =IFERROR(VLOOKUP(Tableau2[[#This Row],[NAF]],grp_naf!$A:$B,2,FALSE),"AUTRES NAF") -> AUTRES NAF | K2: =IF(AND(ISNUMBER(Tableau2[[#This Row],[EFFECTIF]]),Tableau2[[#This Row],[EFFECTIF]]>0),"avec effectif","sans effectif ou inconnu") -> avec effectif
A3: 058329243000 | C3: POWER SERVICE | D3: 804D | E3: 3131 | F3: 37 | G3: Oui | H3: NIVE | I3: III | J3: =IFERROR(VLOOKUP(Tableau2[[#This Row],[NAF]],grp_naf!$A:$B,2,FALSE),"AUTRES NAF") -> AUTRES NAF | K3: =IF(AND(ISNUMBER(Tableau2[[#This Row],[EFFECTIF]]),Tableau2[[#This Row],[EFFECTIF]]>0),"avec effectif","sans effectif ou inconnu") -> avec effectif
A4: 058208859000 | C4: HYDRO FRANCE | D4: 1723Z | E4: 0650 | F4: 82 | G4: Oui | H4: COEF | I4: 200 | J4: =IFERROR(VLOOKUP(Tableau2[[#This Row],[NAF]],grp_naf!$A:$B,2,FALSE),"AUTRES NAF") -> 1512E-1721Z-1723Z-4939Z-6420Z | K4: =IF(AND(ISNUMBER(Tableau2[[#This Row],[EFFECTIF]]),Tableau2[[#This Row],[EFFECTIF]]>0),"avec effectif","sans effectif ou inconnu") -> avec effectif
A5: 058208859000 | C5: HYDRO FRANCE | D5: 5210Z | E5: 3131 | F5: 82 | G5: Oui | H5: NIVE | I5: III | J5: =IFERROR(VLOOKUP(Tableau2[[#This Row],[NAF]],grp_naf!$A:$B,2,FALSE),"AUTRES NAF") -> AUTRES NAF | K5: =IF(AND(ISNUMBER(Tableau2[[#This Row],[EFFECTIF]]),Tableau2[[#This Row],[EFFECTIF]]>0),"avec effectif","sans effectif ou inconnu") -> avec effectif
A6: 058648996000 | C6: CONTINENTAL | D6: 4939Z | E6: 0650 | F6: 0 | G6: Oui | H6: NIVE | I6: III | J6: =IFERROR(VLOOKUP(Tableau2[[#This Row],[NAF]],grp_naf!$A:$B,2,FALSE),"AUTRES NAF") -> 1512E-1721Z-1723Z-4939Z-6420Z | K6: =IF(AND(ISNUMBER(Tableau2[[#This Row],[EFFECTIF]]),Tableau2[[#This Row],[EFFECTIF]]>0),"avec effectif","sans effectif ou inconnu") -> sans effectif ou inconnu
A7: 058648813000 | C7: LAFARGE | D7: 4772Z | E7: 0573 | F7: 113 | G7: Non | J7: =IFERROR(VLOOKUP(Tableau2[[#This Row],[NAF]],grp_naf!$A:$B,2,FALSE),"AUTRES NAF") -> AUTRES NAF | K7: =IF(AND(ISNUMBER(Tableau2[[#This Row],[EFFECTIF]]),Tableau2[[#This Row],[EFFECTIF]]>0),"avec effectif","sans effectif ou inconnu") -> avec effectif
A8: 058636916000 | B8: sgs@fiduciaire-mallet.com | C8: BORGO | D8: 6420Z | E8: 0650 | F8: 7 | G8: Non | J8: =IFERROR(VLOOKUP(Tableau2[[#This Row],[NAF]],grp_naf!$A:$B,2,FALSE),"AUTRES NAF") -> 1512E-1721Z-1723Z-4939Z-6420Z | K8: =IF(AND(ISNUMBER(Tableau2[[#This Row],[EFFECTIF]]),Tableau2[[#This Row],[EFFECTIF]]>0),"avec effectif","sans effectif ou inconnu") -> avec effectif
A9: 058651348000 | C9: VERTU | D9: 1721Z | E9: 0650 | F9: 23 | G9: Oui | H9: NIVE | I9: III | J9: =IFERROR(VLOOKUP(Tableau2[[#This Row],[NAF]],grp_naf!$A:$B,2,FALSE),"AUTRES NAF") -> 1512E-1721Z-1723Z-4939Z-6420Z | K9: =IF(AND(ISNUMBER(Tableau2[[#This Row],[EFFECTIF]]),Tableau2[[#This Row],[EFFECTIF]]>0),"avec effectif","sans effectif ou inconnu") -> avec effectif
A10: 058632133000 | C10: STE CONGOLAISE | D10: 1032Z | E10: 2972 | F10: 21 | G10: Non | J10: =IFERROR(VLOOKUP(Tableau2[[#This Row],[NAF]],grp_naf!$A:$B,2,FALSE),"AUTRES NAF") -> AUTRES NAF | K10: =IF(AND(ISNUMBER(Tableau2[[#This Row],[EFFECTIF]]),Tableau2[[#This Row],[EFFECTIF]]>0),"avec effectif","sans effectif ou inconnu") -> avec effectif
A11: 058651348000 | B11: lict@sfec.fr | C11: VERTU | D11: 1039Z | E11: 2972 | F11: 23 | G11: Oui | H11: NIVE | I11: III | J11: =IFERROR(VLOOKUP(Tableau2[[#This Row],[NAF]],grp_naf!$A:$B,2,FALSE),"AUTRES NAF") -> AUTRES NAF | K11: =IF(AND(ISNUMBER(Tableau2[[#This Row],[EFFECTIF]]),Tableau2[[#This Row],[EFFECTIF]]>0),"avec effectif","sans effectif ou inconnu") -> avec effectif
A12: 058651348000 | C12: VERTU | D12: 1512Z | E12: 0650 | F12: 23 | G12: Oui | H12: NIVE | I12: III | J12: =IFERROR(VLOOKUP(Tableau2[[#This Row],[NAF]],grp_naf!$A:$B,2,FALSE),"AUTRES NAF") -> AUTRES NAF | K12: =IF(AND(ISNUMBER(Tableau2[[#This Row],[EFFECTIF]]),Tableau2[[#This Row],[EFFECTIF]]>0),"avec effectif","sans effectif ou inconnu") -> avec effectif
A13: 058640053000 | C13: CDISCOUNT | D13: 1512Z | E13: 0650 | F13: 9 | G13: Non | J13: =IFERROR(VLOOKUP(Tableau2[[#This Row],[NAF]],grp_naf!$A:$B,2,FALSE),"AUTRES NAF") -> AUTRES NAF | K13: =IF(AND(ISNUMBER(Tableau2[[#This Row],[EFFECTIF]]),Tableau2[[#This Row],[EFFECTIF]]>0),"avec effectif","sans effectif ou inconnu") -> avec effectif
A14: 058651348000 | C14: VERTU | D14: 3831Z | E14: 3131 | F14: 23 | G14: Oui | H14: NIVE | I14: III | J14: =IFERROR(VLOOKUP(Tableau2[[#This Row],[NAF]],grp_naf!$A:$B,2,FALSE),"AUTRES NAF") -> AUTRES NAF | K14: =IF(AND(ISNUMBER(Tableau2[[#This Row],[EFFECTIF]]),Tableau2[[#This Row],[EFFECTIF]]>0),"avec effectif","sans effectif ou inconnu") -> avec effectif
A15: 058649395000 | C15: METALTECK | D15: 3831Z | E15: 3131 | F15: 1 | G15: Non | J15: =IFERROR(VLOOKUP(Tableau2[[#This Row],[NAF]],grp_naf!$A:$B,2,FALSE),"AUTRES NAF") -> AUTRES NAF | K15: =IF(AND(ISNUMBER(Tableau2[[#This Row],[EFFECTIF]]),Tableau2[[#This Row],[EFFECTIF]]>0),"avec effectif","sans effectif ou inconnu") -> avec effectif
A16: 058659991000 | B16: contact@abcd-consultants.fr | C16: JURLIQUE | D16: 4641Z | E16: 0029 | F16: 5 | G16: Oui | H16: NIVE | I16: V | J16: =IFERROR(VLOOKUP(Tableau2[[#This Row],[NAF]],grp_naf!$A:$B,2,FALSE),"AUTRES NAF") -> AUTRES NAF | K16: =IF(AND(ISNUMBER(Tableau2[[#This Row],[EFFECTIF]]),Tableau2[[#This Row],[EFFECTIF]]>0),"avec effectif","sans effectif ou inconnu") -> avec effectif
A17: 058669288000 | B17: alix.mugnier@tmf-group.com | C17: EMESA | D17: 4641Z | E17: 0029 | F17: Inconnu | G17: Oui | H17: CATE | I17: D | J17: =IFERROR(VLOOKUP(Tableau2[[#This Row],[NAF]],grp_naf!$A:$B,2,FALSE),"AUTRES NAF") -> AUTRES NAF | K17: =IF(AND(ISNUMBER(Tableau2[[#This Row],[EFFECTIF]]),Tableau2[[#This Row],[EFFECTIF]]>0),"avec effectif","sans effectif ou inconnu") -> sans effectif ou inconnu
A18: 058250646000 | C18: SA WEVER | D18: 4641Z | E18: 2972 | F18: 4 | G18: Non | J18: =IFERROR(VLOOKUP(Tableau2[[#This Row],[NAF]],grp_naf!$A:$B,2,FALSE),"AUTRES NAF") -> AUTRES NAF | K18: =IF(AND(ISNUMBER(Tableau2[[#This Row],[EFFECTIF]]),Tableau2[[#This Row],[EFFECTIF]]>0),"avec effectif","sans effectif ou inconnu") -> avec effectif

Sheet Feuil2
A1: CCN_APPLIQUEE | B1: (Tous)
A2: MAIL | B2: (Tous)
A3: EFFECTIF | B3: (Tous)
A4: CPN_222 | B4: (Tous)
B6: Étiquettes de colonnes
B7: 1512E-1721Z-1723Z-4939Z-6420Z | C7: AUTRES NAF | D7: Total général
A8: Nombre de N° ADH | B8: 4 | C8: 13 | D8: 17

Sheet synthèse
A1: IDCC | B1: TOTAL | G1: 0650
A2: NAF | B2: IDCC/ NAF CONCERNES | G2: 1512E-1721Z-1723Z-4939Z-6420Z
B3: Total | C3: Mails | D3: Dont Art 36 | E3: Courrier | F3: Dont Art 36 | G3: Total | H3: Mail | I3: Dont ART.36 | J3: Courrier | K3: Dont ART.36
A4: INTERNATIONAL | B4: =G4+L4+Q4+V4+AA4+AF4+AK4+AP4 -> 1 | C4: =H4+M4+R4+W4+AB4+AG4+AL4+AQ4 -> 0 | D4: =I4+N4+S4+X4+AC4+AH4+AM4+AR4 -> 0 | E4: =J4+O4+T4+Y4+AD4+AI4+AN4+AS4 -> 0 | F4: =K4+P4+U4+Z4+AE4+AJ4+AO4+AT4 -> 0 | G4: =G7+G8 -> 1 | H4: =H7+H8 -> 0 | I4: =I7+I8 -> 0 | J4: =J7+J8 -> 0 | K4: =K7+K8 -> 0
A7: sans effectif ou inconnu | B7: =G7+L7+Q7+V7+AA7+AF7+AK7+AP7 -> 1 | C7: =H7+M7+R7+W7+AB7+AG7+AL7+AQ7 -> 0 | D7: =I7+N7+S7+X7+AC7+AH7+AM7+AR7 -> 0 | E7: =J7+O7+T7+Y7+AD7+AI7+AN7+AS7 -> 0 | F7: =K7+P7+U7+Z7+AE7+AJ7+AO7+AT7 -> 0 | G7: =COUNTIFS('Avec IDCC'!$E:$E,G$1,'Avec IDCC'!$K:$K,$A7,'Avec IDCC'!$J:$J,G$2) -> 1
A8: avec effectif | B8: =G8+L8+Q8+V8+AA8+AF8+AK8+AP8 -> 0 | C8: =H8+M8+R8+W8+AB8+AG8+AL8+AQ8 -> 0 | D8: =I8+N8+S8+X8+AC8+AH8+AM8+AR8 -> 0 | E8: =J8+O8+T8+Y8+AD8+AI8+AN8+AS8 -> 0 | F8: =K8+P8+U8+Z8+AE8+AJ8+AO8+AT8 -> 0
