Workbook
Name AC_ARR: #REF!
Name AC_ARR: #REF!
Name AC_ARR: #REF!
Name bi_rate_wd: #REF!
Name bi_rate_wd: #REF!
Name bi_rate_wd: #REF!
Name bi_rate_we: #REF!
Name bi_rate_we: #REF!
Name bi_rate_we: #REF!
Name bi_ratio_wd: #REF!
Name bi_ratio_wd: #REF!
Name bi_ratio_wd: #REF!
Name bi_ratio_we: #REF!
Name bi_ratio_we: #REF!
Name bi_ratio_we: #REF!
Name BI_WD: #REF!
Name BI_WD: #REF!
Name BI_WD: #REF!
Name BI_WE: #REF!
Name BI_WE: #REF!
Name BI_WE: #REF!
Name Decimals: [2]Setup!$B$6
Name inventory: #REF!
Name inventory: #REF!
Name inventory: #REF!
Name Li_rate_wD: #REF!
Name Li_rate_wD: #REF!
Name Li_rate_wD: #REF!
Name li_rate_we: #REF!
Name li_rate_we: #REF!
Name li_rate_we: #REF!
Name num_pax: #REF!
Name num_pax: #REF!
Name num_pax: #REF!
Name rate_wd: #REF!
Name rate_wd: #REF!
Name rate_wd: #REF!
Name rate_we: #REF!
Name rate_we: #REF!
Name rate_we: #REF!

Sheet Sheet1
AB3: JHC : 06/04/2018
D4: Code Hôtel : A5T2 | H4: Nom Hôtel : Hotel Mercure Paris Gennevilliers (F) | U4: Devise : EURO
AB6: Utilisateur : HA5T2AT
C7: Code ERP : 81866.HA5T2 | H7: Marque : Mercure
K11: Analyse des ventes par produit (hors taxe)
I14: Journée du 05/04/2018 | M14: Cumul mois | Q14: Cumul Année | W14: Cumul mois Année-1 | AD14: Cumul Année-1
B15: Produit | I15: CA | J15: Qte | L15: PM | M15: CA | N15: Qte | O15: PM | Q15: CA | R15: Qte | S15: PM | W15: CA | Y15: Qte | AC15: PM | AD15: CA | AE15: Qte | AG15: PM
B16: Hébergement
B17: Chambres
B18: D2C - Chambre 2 lits double | M18: 669.44 | N18: 9 | O18: 74.38 | Q18: 669.44 | R18: 9 | S18: 74.38
B19: DBB - Chambre Privilège lit double | I19: 356.12 | J19: 6 | L19: 59.35 | M19: 3321.7 | N19: 38 | O19: 87.41 | Q19: 3448.98 | R19: 40 | S19: 86.22
B20: DBC - Chambre Double | I20: 1108.69 | J20: 17 | L20: 65.22 | M20: 5180.01 | N20: 68 | O20: 76.18 | Q20: 5459.19 | R20: 72 | S20: 75.82
B21: DSC - Chambre 1 lit Double et 1 lit simple | I21: 211.46 | J21: 2 | L21: 105.73 | M21: 755.1 | N21: 9 | O21: 83.9 | Q21: 871.46 | R21: 10 | S21: 87.15
B22: SAD - Jr Suite 1 Db bec + Sofa | I22: 99.68 | J22: 1 | L22: 99.68 | M22: 515.4 | N22: 5 | O22: 103.08 | Q22: 515.4 | R22: 5 | S22: 103.08
B23: TWC - Chambre 2 lits simples | I23: 1137.45 | J23: 20 | L23: 56.87 | M23: 2722.99 | N23: 48 | O23: 56.73 | Q23: 2722.99 | R23: 48 | S23: 56.73
B24: Total Chambres | I24: 2913.4 | J24: 46 | L24: 63.334783 | M24: 13164.64 | N24: 177 | O24: 74.376497 | Q24: 13687.46 | R24: 184 | S24: 74.38837 | AC24: 0 | AG24: 0
B25: Autre CA
B26: APN - Supplément animal | M26: 9.09 | O26: 9.09 | Q26: 9.09 | S26: 9.09
B27: ARE - Régul Chambre | M27: -44.55 | Q27: -44.55
B28: Total Autre CA | L28: 0 | M28: -35.46 | O28: 0 | Q28: -35.46 | S28: 0 | AC28: 0 | AG28: 0
B29: Total Hébergement | I29: 2913.4 | J29: 46 | L29: 63.334783 | M29: 13129.18 | N29: 177 | O29: 74.176158 | Q29: 13652 | R29: 184 | S29: 74.195652 | AC29: 0 | AG29: 0
B30: Petits Déjeuners
B31: PDJ Restaurant 1
B32: PDJ - Petit Déjeuner | I32: 208.61 | J32: 20 | L32: 10.43 | M32: 664.48 | N32: 61 | O32: 10.89 | Q32: 710.84 | R32: 65 | S32: 10.94
B33: PDG - Petit Déjeuner Groupe | I33: 305.46 | J33: 56 | L33: 5.45 | M33: 490.91 | N33: 90 | O33: 5.45 | Q33: 490.91 | R33: 90 | S33: 5.45
B34: Total PDJ Restaurant 1 | I34: 514.07 | J34: 76 | L34: 6.7640789 | M34: 1155.39 | N34: 151 | O34: 7.6515894 | Q34: 1201.75 | R34: 155 | S34: 7.7532258 | AC34: 0 | AG34: 0
B35: Total Petits Déjeuners | I35: 514.07 | J35: 76 | L35: 6.7640789 | M35: 1155.39 | N35: 151 | O35: 7.6515894 | Q35: 1201.75 | R35: 155 | S35: 7.7532258 | AC35: 0 | AG35: 0
B36: Restaurants et Banquets
B37: Restaurant 1 Midi
B38: RMX - Restaurant Midi [N] | I38: 285.18 | J38: 9 | L38: 31.69 | M38: 804.08 | N38: 42 | O38: 19.14 | Q38: 804.08 | R38: 42 | S38: 19.14
B39: RMXA - Restaurant Midi [BA] | I39: 20.17 | M39: 106.68 | Q39: 106.68
B40: RMXB - Restaurant Midi [BS] | I40: 20 | M40: 55.45 | Q40: 55.45
B41: Total Restaurant 1 Midi | I41: 325.35 | J41: 9 | L41: 36.15 | M41: 966.21 | N41: 42 | O41: 23.005 | Q41: 966.21 | R41: 42 | S41: 23.005 | AC41: 0 | AG41: 0
B42: Restaurant 1 Soir
B43: RSH - Restaurant Soir [N] | I43: 186.91 | J43: 9 | L43: 20.77 | M43: 1222.52 | N43: 59 | O43: 20.72 | Q43: 1222.52 | R43: 59 | S43: 20.72
B44: RS1 - Restaurant Soir
B45: RSHA - Restaurant Soir [BA] | I45: 107.25 | M45: 357.42 | Q45: 357.42
B46: RSHB - Restaurant Soir [BS] | I46: 20 | M46: 68.19 | Q46: 68.19
B47: Total Restaurant 1 Soir | I47: 314.16 | J47: 9 | L47: 34.906667 | M47: 1648.13 | N47: 59 | O47: 27.934407 | Q47: 1648.13 | R47: 59 | S47: 27.934407 | AC47: 0 | AG47: 0
B48: Room Service Midi
...

Sheet Hébergement
H1: MANAGER FLASH | N1: RESERVATION STATISTIC / RATE CATEGORY
D2: BUDGET | H2: REEL
C4: Date | D4: PM TTC | E4: PM HT | F4: TO | G4: Nombre de chambre louées | H4: CA TOTAL HEBERGEMENT TTC | I4: CA TOTAL HEBERGEMENT HT | J4: PM HT | K4: TO | L4: PM TTC | M4: Nombre de chambre louées | N4: =+[1]Données!F32 -> 0 | O4: =+[1]Données!F33 -> 0 | P4: =+[1]Données!F34 -> 0 | Q4: =+[1]Données!F35 -> 0 | R4: =+[1]Données!F36 -> 0 | S4: =+[1]Données!F37 -> 0 | T4: Ok ? | U4: CA Heb HT Cumul
A6: =IF(MONTH(C6)=MONTH(TODAY()),1,0) -> 0 | B6: =IF(A6=0,0,IF(C6<TODAY(),MONTH($C6),0)) -> 0 | C6: =DATE([1]Données!H8,1,1) -> 43101 | D6: =VLOOKUP($C6,'[1]Résumé date'!$D$8:$H$387,'[1]Résumé date'!E$6,FALSE) -> 0 | E6: =VLOOKUP($C6,'[1]Résumé date'!$D$8:$H$387,'[1]Résumé date'!F$6,FALSE) -> 0 | F6: =VLOOKUP($C6,'[1]Résumé date'!$D$8:$H$387,'[1]Résumé date'!G$6,FALSE) -> 0 | G6: =VLOOKUP($C6,'[1]Résumé date'!$D$8:$H$387,'[1]Résumé date'!H$6,FALSE) -> 0 | I6: =(H6)/1.1 -> 0 | J6: =L6*(1+[1]Données!$K$15) -> 0 | K6: =+M6/[1]Données!$H$14 -> 0 | T6: =IF(M6=0,"",+IF(SUM(N6:S6)=M6,"OK","ATTENTION")) | U6: =SUM($H$6:H6) -> 0
A7: =IF(MONTH(C7)=MONTH(TODAY()),1,0) -> 0 | B7: =IF(A7=0,0,IF(C7<TODAY(),MONTH($C7),0)) -> 0 | C7: =C6+1 -> 43102 | D7: =VLOOKUP($C7,'[1]Résumé date'!$D$8:$H$387,'[1]Résumé date'!E$6,FALSE) -> 0 | E7: =VLOOKUP($C7,'[1]Résumé date'!$D$8:$H$387,'[1]Résumé date'!F$6,FALSE) -> 0 | F7: =VLOOKUP($C7,'[1]Résumé date'!$D$8:$H$387,'[1]Résumé date'!G$6,FALSE) -> 0 | G7: =VLOOKUP($C7,'[1]Résumé date'!$D$8:$H$387,'[1]Résumé date'!H$6,FALSE) -> 0 | I7: =(H7)/1.1 -> 0 | J7: =L7*(1+[1]Données!$K$15) -> 0 | K7: =+M7/[1]Données!$H$14 -> 0 | T7: =IF(M7=0,"",+IF(SUM(N7:S7)=M7,"OK","ATTENTION")) | U7: =SUM($H$6:H7) -> 0
A8: =IF(MONTH(C8)=MONTH(TODAY()),1,0) -> 0 | B8: =IF(A8=0,0,IF(C8<TODAY(),MONTH($C8),0)) -> 0 | C8: =C7+1 -> 43103 | D8: =VLOOKUP($C8,'[1]Résumé date'!$D$8:$H$387,'[1]Résumé date'!E$6,FALSE) -> 0 | E8: =VLOOKUP($C8,'[1]Résumé date'!$D$8:$H$387,'[1]Résumé date'!F$6,FALSE) -> 0 | F8: =VLOOKUP($C8,'[1]Résumé date'!$D$8:$H$387,'[1]Résumé date'!G$6,FALSE) -> 0 | G8: =VLOOKUP($C8,'[1]Résumé date'!$D$8:$H$387,'[1]Résumé date'!H$6,FALSE) -> 0 | I8: =(H8)/1.1 -> 0 | J8: =L8*(1+[1]Données!$K$15) -> 0 | K8: =+M8/[1]Données!$H$14 -> 0 | T8: =IF(M8=0,"",+IF(SUM(N8:S8)=M8,"OK","ATTENTION")) | U8: =SUM($H$6:H8) -> 0
A9: =IF(MONTH(C9)=MONTH(TODAY()),1,0) -> 0 | B9: =IF(A9=0,0,IF(C9<TODAY(),MONTH($C9),0)) -> 0 | C9: =C8+1 -> 43104 | D9: =VLOOKUP($C9,'[1]Résumé date'!$D$8:$H$387,'[1]Résumé date'!E$6,FALSE) -> 0 | E9: =VLOOKUP($C9,'[1]Résumé date'!$D$8:$H$387,'[1]Résumé date'!F$6,FALSE) -> 0 | F9: =VLOOKUP($C9,'[1]Résumé date'!$D$8:$H$387,'[1]Résumé date'!G$6,FALSE) -> 0 | G9: =VLOOKUP($C9,'[1]Résumé date'!$D$8:$H$387,'[1]Résumé date'!H$6,FALSE) -> 0 | I9: =(H9)/1.1 -> 0 | J9: =L9*(1+[1]Données!$K$15) -> 0 | K9: =+M9/[1]Données!$H$14 -> 0 | T9: =IF(M9=0,"",+IF(SUM(N9:S9)=M9,"OK","ATTENTION")) | U9: =SUM($H$6:H9) -> 0
A10: =IF(MONTH(C10)=MONTH(TODAY()),1,0) -> 0 | B10: =IF(A10=0,0,IF(C10<TODAY(),MONTH($C10),0)) -> 0 | C10: =C9+1 -> 43105 | D10: =VLOOKUP($C10,'[1]Résumé date'!$D$8:$H$387,'[1]Résumé date'!E$6,FALSE) -> 0 | E10: =VLOOKUP($C10,'[1]Résumé date'!$D$8:$H$387,'[1]Résumé date'!F$6,FALSE) -> 0 | F10: =VLOOKUP($C10,'[1]Résumé date'!$D$8:$H$387,'[1]Résumé date'!G$6,FALSE) -> 0 | G10: =VLOOKUP($C10,'[1]Résumé date'!$D$8:$H$387,'[1]Résumé date'!H$6,FALSE) -> 0 | I10: =(H10)/1.1 -> 0 | J10: =L10*(1+[1]Données!$K$15) -> 0 | K10: =+M10/[1]Données!$H$14 -> 0 | T10: =IF(M10=0,"",+IF(SUM(N10:S10)=M10,"OK","ATTENTION")) | U10: =SUM($H$6:H10) -> 0
A11: =IF(MONTH(C11)=MONTH(TODAY()),1,0) -> 0 | B11: =IF(A11=0,0,IF(C11<TODAY(),MONTH($C11),0)) -> 0 | C11: =C10+1 -> 43106 | D11: =VLOOKUP($C11,'[1]Résumé date'!$D$8:$H$387,'[1]Résumé date'!E$6,FALSE) -> 0 | E11: =VLOOKUP($C11,'[1]Résumé date'!$D$8:$H$387,'[1]Résumé date'!F$6,FALSE) -> 0 | F11: =VLOOKUP($C11,'[1]Résumé date'!$D$8:$H$387,'[1]Résumé date'!G$6,FALSE) -> 0 | G11: =VLOOKUP($C11,'[1]Résumé date'!$D$8:$H$387,'[1]Résumé date'!H$6,FALSE) -> 0 | I11: =(H11)/1.1 -> 0 | J11: =L11*(1+[1]Données!$K$15) -> 0 | K11: =+M11/[1]Données!$H$14 -> 0 | T11: =IF(M11=0,"",+IF(SUM(N11:S11)=M11,"OK","ATTENTION")) | U11: =SUM($H$6:H11) -> 0
A12: =IF(MONTH(C12)=MONTH(TODAY()),1,0) -> 0 | B12: =IF(A12=0,0,IF(C12<TODAY(),MONTH($C12),0)) -> 0 | C12: =C11+1 -> 43107 | D12: =VLOOKUP($C12,'[1]Résumé date'!$D$8:$H$387,'[1]Résumé date'!E$6,FALSE) -> 0 | E12: =VLOOKUP($C12,'[1]Résumé date'!$D$8:$H$387,'[1]Résumé date'!F$6,FALSE) -> 0 | F12: =VLOOKUP($C12,'[1]Résumé date'!$D$8:$H$387,'[1]Résumé date'!G$6,FALSE) -> 0 | G12: =VLOOKUP($C12,'[1]Résumé date'!$D$8:$H$387,'[1]Résumé date'!H$6,FALSE) -> 0 | I12: =(H12)/1.1 -> 0 | J12: =L12*(1+[1]Données!$K$15) -> 0 | K12: =+M12/[1]Données!$H$14 -> 0 | T12: =IF(M12=0,"",+IF(SUM(N12:S12)=M12,"OK","ATTENTION")) | U12: =SUM($H$6:H12) -> 0
A13: =IF(MONTH(C13)=MONTH(TODAY()),1,0) -> 0 | B13: =IF(A13=0,0,IF(C13<TODAY(),MONTH($C13),0)) -> 0 | C13: =C12+1 -> 43108 | D13: =VLOOKUP($C13,'[1]Résumé date'!$D$8:$H$387,'[1]Résumé date'!E$6,FALSE) -> 0 | E13: =VLOOKUP($C13,'[1]Résumé date'!$D$8:$H$387,'[1]Résumé date'!F$6,FALSE) -> 0 | F13: =VLOOKUP($C13,'[1]Résumé date'!$D$8:$H$387,'[1]Résumé date'!G$6,FALSE) -> 0 | G13: =VLOOKUP($C13,'[1]Résumé date'!$D$8:$H$387,'[1]Résumé date'!H$6,FALSE) -> 0 | I13: =(H13)/1.1 -> 0 | J13: =L13*(1+[1]Données!$K$15) -> 0 | K13: =+M13/[1]Données!$H$14 -> 0 | T13: =IF(M13=0,"",+IF(SUM(N13:S13)=M13,"OK","ATTENTION")) | U13: =SUM($H$6:H13) -> 0
A14: =IF(MONTH(C14)=MONTH(TODAY()),1,0) -> 0 | B14: =IF(A14=0,0,IF(C14<TODAY(),MONTH($C14),0)) -> 0 | C14: =C13+1 -> 43109 | D14: =VLOOKUP($C14,'[1]Résumé date'!$D$8:$H$387,'[1]Résumé date'!E$6,FALSE) -> 0 | E14: =VLOOKUP($C14,'[1]Résumé date'!$D$8:$H$387,'[1]Résumé date'!F$6,FALSE) -> 0 | F14: =VLOOKUP($C14,'[1]Résumé date'!$D$8:$H$387,'[1]Résumé date'!G$6,FALSE) -> 0 | G14: =VLOOKUP($C14,'[1]Résumé date'!$D$8:$H$387,'[1]Résumé date'!H$6,FALSE) -> 0 | I14: =(H14)/1.1 -> 0 | J14: =L14*(1+[1]Données!$K$15) -> 0 | K14: =+M14/[1]Données!$H$14 -> 0 | T14: =IF(M14=0,"",+IF(SUM(N14:S14)=M14,"OK","ATTENTION")) | U14: =SUM($H$6:H14) -> 0
A15: =IF(MONTH(C15)=MONTH(TODAY()),1,0) -> 0 | B15: =IF(A15=0,0,IF(C15<TODAY(),MONTH($C15),0)) -> 0 | C15: =C14+1 -> 43110 | D15: =VLOOKUP($C15,'[1]Résumé date'!$D$8:$H$387,'[1]Résumé date'!E$6,FALSE) -> 0 | E15: =VLOOKUP($C15,'[1]Résumé date'!$D$8:$H$387,'[1]Résumé date'!F$6,FALSE) -> 0 | F15: =VLOOKUP($C15,'[1]Résumé date'!$D$8:$H$387,'[1]Résumé date'!G$6,FALSE) -> 0 | G15: =VLOOKUP($C15,'[1]Résumé date'!$D$8:$H$387,'[1]Résumé date'!H$6,FALSE) -> 0 | I15: =(H15)/1.1 -> 0 | J15: =L15*(1+[1]Données!$K$15) -> 0 | K15: =+M15/[1]Données!$H$14 -> 0 | T15: =IF(M15=0,"",+IF(SUM(N15:S15)=M15,"OK","ATTENTION")) | U15: =SUM($H$6:H15) -> 0
A16: =IF(MONTH(C16)=MONTH(TODAY()),1,0) -> 0 | B16: =IF(A16=0,0,IF(C16<TODAY(),MONTH($C16),0)) -> 0 | C16: =C15+1 -> 43111 | D16: =VLOOKUP($C16,'[1]Résumé date'!$D$8:$H$387,'[1]Résumé date'!E$6,FALSE) -> 0 | E16: =VLOOKUP($C16,'[1]Résumé date'!$D$8:$H$387,'[1]Résumé date'!F$6,FALSE) -> 0 | F16: =VLOOKUP($C16,'[1]Résumé date'!$D$8:$H$387,'[1]Résumé date'!G$6,FALSE) -> 0 | G16: =VLOOKUP($C16,'[1]Résumé date'!$D$8:$H$387,'[1]Résumé date'!H$6,FALSE) -> 0 | I16: =(H16)/1.1 -> 0 | J16: =L16*(1+[1]Données!$K$15) -> 0 | K16: =+M16/[1]Données!$H$14 -> 0 | T16: =IF(M16=0,"",+IF(SUM(N16:S16)=M16,"OK","ATTENTION")) | U16: =SUM($H$6:H16) -> 0
A17: =IF(MONTH(C17)=MONTH(TODAY()),1,0) -> 0 | B17: =IF(A17=0,0,IF(C17<TODAY(),MONTH($C17),0)) -> 0 | C17: =C16+1 -> 43112 | D17: =VLOOKUP($C17,'[1]Résumé date'!$D$8:$H$387,'[1]Résumé date'!E$6,FALSE) -> 0 | E17: =VLOOKUP($C17,'[1]Résumé date'!$D$8:$H$387,'[1]Résumé date'!F$6,FALSE) -> 0 | F17: =VLOOKUP($C17,'[1]Résumé date'!$D$8:$H$387,'[1]Résumé date'!G$6,FALSE) -> 0 | G17: =VLOOKUP($C17,'[1]Résumé date'!$D$8:$H$387,'[1]Résumé date'!H$6,FALSE) -> 0 | I17: =(H17)/1.1 -> 0 | J17: =L17*(1+[1]Données!$K$15) -> 0 | K17: =+M17/[1]Données!$H$14 -> 0 | T17: =IF(M17=0,"",+IF(SUM(N17:S17)=M17,"OK","ATTENTION")) | U17: =SUM($H$6:H17) -> 0
A18: =IF(MONTH(C18)=MONTH(TODAY()),1,0) -> 0 | B18: =IF(A18=0,0,IF(C18<TODAY(),MONTH($C18),0)) -> 0 | C18: =C17+1 -> 43113 | D18: =VLOOKUP($C18,'[1]Résumé date'!$D$8:$H$387,'[1]Résumé date'!E$6,FALSE) -> 0 | E18: =VLOOKUP($C18,'[1]Résumé date'!$D$8:$H$387,'[1]Résumé date'!F$6,FALSE) -> 0 | F18: =VLOOKUP($C18,'[1]Résumé date'!$D$8:$H$387,'[1]Résumé date'!G$6,FALSE) -> 0 | G18: =VLOOKUP($C18,'[1]Résumé date'!$D$8:$H$387,'[1]Résumé date'!H$6,FALSE) -> 0 | I18: =(H18)/1.1 -> 0 | J18: =L18*(1+[1]Données!$K$15) -> 0 | K18: =+M18/[1]Données!$H$14 -> 0 | T18: =IF(M18=0,"",+IF(SUM(N18:S18)=M18,"OK","ATTENTION")) | U18: =SUM($H$6:H18) -> 0
... A36: =IF(MONTH(C36)=MONTH(TODAY()),1,0) -> 0 | B36: =IF(A36=0,0,IF(C36<TODAY(),MONTH($C36),0)) -> 0 | C36: =C35+1 -> 43131 | D36: =VLOOKUP($C36,'[1]Résumé date'!$D$8:$H$387,'[1]Résumé date'!E$6,FALSE) -> 0 | E36: =VLOOKUP($C36,'[1]Résumé date'!$D$8:$H$387,'[1]Résumé date'!F$6,FALSE) -> 0 | F36: =VLOOKUP($C36,'[1]Résumé date'!$D$8:$H$387,'[1]Résumé date'!G$6,FALSE) -> 0 | G36: =VLOOKUP($C36,'[1]Résumé date'!$D$8:$H$387,'[1]Résumé date'!H$6,FALSE) -> 0 | I36: =(H36)/1.1 -> 0 | J36: =L36*(1+[1]Données!$K$15) -> 0 | K36: =+M36/[1]Données!$H$14 -> 0 | T36: =IF(M36=0,"",+IF(SUM(N36:S36)=M36,"OK","ATTENTION")) | U36: =SUM($H$6:H36) -> 0
A37: =IF(MONTH(C37)=MONTH(TODAY()),1,0) -> 0 | B37: =IF(A37=0,IF(C37<TODAY(),MONTH($C37),0),0) -> 2 | C37: =C36+1 -> 43132 | D37: =VLOOKUP($C37,'[1]Résumé date'!$D$8:$H$387,'[1]Résumé date'!E$6,FALSE) -> 0 | E37: =VLOOKUP($C37,'[1]Résumé date'!$D$8:$H$387,'[1]Résumé date'!F$6,FALSE) -> 0 | F37: =VLOOKUP($C37,'[1]Résumé date'!$D$8:$H$387,'[1]Résumé date'!G$6,FALSE) -> 0 | G37: =VLOOKUP($C37,'[1]Résumé date'!$D$8:$H$387,'[1]Résumé date'!H$6,FALSE) -> 0 | I37: =(H37)/1.1 -> 0 | J37: =L37*(1+[1]Données!$K$15) -> 0 | K37: =+M37/[1]Données!$H$14 -> 0 | T37: =IF(M37=0,"",+IF(SUM(N37:S37)=M37,"OK","ATTENTION")) | U37: =SUM($H$37:H37) -> 0
A38: =IF(MONTH(C38)=MONTH(TODAY()),1,0) -> 0 | B38: =IF(A38=0,IF(C38<TODAY(),MONTH($C38),0),0) -> 2 | C38: =C37+1 -> 43133 | D38: =VLOOKUP($C38,'[1]Résumé date'!$D$8:$H$387,'[1]Résumé date'!E$6,FALSE) -> 0 | E38: =VLOOKUP($C38,'[1]Résumé date'!$D$8:$H$387,'[1]Résumé date'!F$6,FALSE) -> 0 | F38: =VLOOKUP($C38,'[1]Résumé date'!$D$8:$H$387,'[1]Résumé date'!G$6,FALSE) -> 0 | G38: =VLOOKUP($C38,'[1]Résumé date'!$D$8:$H$387,'[1]Résumé date'!H$6,FALSE) -> 0 | I38: =(H38)/1.1 -> 0 | J38: =L38*(1+[1]Données!$K$15) -> 0 | K38: =+M38/[1]Données!$H$14 -> 0 | T38: =IF(M38=0,"",+IF(SUM(N38:S38)=M38,"OK","ATTENTION")) | U38: =SUM($H$37:H38) -> 0
A39: =IF(MONTH(C39)=MONTH(TODAY()),1,0) -> 0 | B39: =IF(A39=0,IF(C39<TODAY(),MONTH($C39),0),0) -> 2 | C39: =C38+1 -> 43134 | D39: =VLOOKUP($C39,'[1]Résumé date'!$D$8:$H$387,'[1]Résumé date'!E$6,FALSE) -> 0 | E39: =VLOOKUP($C39,'[1]Résumé date'!$D$8:$H$387,'[1]Résumé date'!F$6,FALSE) -> 0 | F39: =VLOOKUP($C39,'[1]Résumé date'!$D$8:$H$387,'[1]Résumé date'!G$6,FALSE) -> 0 | G39: =VLOOKUP($C39,'[1]Résumé date'!$D$8:$H$387,'[1]Résumé date'!H$6,FALSE) -> 0 | I39: =(H39)/1.1 -> 0 | J39: =L39*(1+[1]Données!$K$15) -> 0 | K39: =+M39/[1]Données!$H$14 -> 0 | T39: =IF(M39=0,"",+IF(SUM(N39:S39)=M39,"OK","ATTENTION")) | U39: =SUM($H$37:H39) -> 0
A40: =IF(MONTH(C40)=MONTH(TODAY()),1,0) -> 0 | B40: =IF(A40=0,IF(C40<TODAY(),MONTH($C40),0),0) -> 2 | C40: =C39+1 -> 43135 | D40: =VLOOKUP($C40,'[1]Résumé date'!$D$8:$H$387,'[1]Résumé date'!E$6,FALSE) -> 0 | E40: =VLOOKUP($C40,'[1]Résumé date'!$D$8:$H$387,'[1]Résumé date'!F$6,FALSE) -> 0 | F40: =VLOOKUP($C40,'[1]Résumé date'!$D$8:$H$387,'[1]Résumé date'!G$6,FALSE) -> 0 | G40: =VLOOKUP($C40,'[1]Résumé date'!$D$8:$H$387,'[1]Résumé date'!H$6,FALSE) -> 0 | I40: =(H40)/1.1 -> 0 | J40: =L40*(1+[1]Données!$K$15) -> 0 | K40: =+M40/[1]Données!$H$14 -> 0 | T40: =IF(M40=0,"",+IF(SUM(N40:S40)=M40,"OK","ATTENTION")) | U40: =SUM($H$37:H40) -> 0
A41: =IF(MONTH(C41)=MONTH(TODAY()),1,0) -> 0 | B41: =IF(A41=0,IF(C41<TODAY(),MONTH($C41),0),0) -> 2 | C41: =C40+1 -> 43136 | D41: =VLOOKUP($C41,'[1]Résumé date'!$D$8:$H$387,'[1]Résumé date'!E$6,FALSE) -> 0 | E41: =VLOOKUP($C41,'[1]Résumé date'!$D$8:$H$387,'[1]Résumé date'!F$6,FALSE) -> 0 | F41: =VLOOKUP($C41,'[1]Résumé date'!$D$8:$H$387,'[1]Résumé date'!G$6,FALSE) -> 0 | G41: =VLOOKUP($C41,'[1]Résumé date'!$D$8:$H$387,'[1]Résumé date'!H$6,FALSE) -> 0 | I41: =(H41)/1.1 -> 0 | J41: =L41*(1+[1]Données!$K$15) -> 0 | K41: =+M41/[1]Données!$H$14 -> 0 | T41: =IF(M41=0,"",+IF(SUM(N41:S41)=M41,"OK","ATTENTION")) | U41: =SUM($H$37:H41) -> 0
A42: =IF(MONTH(C42)=MONTH(TODAY()),1,0) -> 0 | B42: =IF(A42=0,IF(C42<TODAY(),MONTH($C42),0),0) -> 2 | C42: =C41+1 -> 43137 | D42: =VLOOKUP($C42,'[1]Résumé date'!$D$8:$H$387,'[1]Résumé date'!E$6,FALSE) -> 0 | E42: =VLOOKUP($C42,'[1]Résumé date'!$D$8:$H$387,'[1]Résumé date'!F$6,FALSE) -> 0 | F42: =VLOOKUP($C42,'[1]Résumé date'!$D$8:$H$387,'[1]Résumé date'!G$6,FALSE) -> 0 | G42: =VLOOKUP($C42,'[1]Résumé date'!$D$8:$H$387,'[1]Résumé date'!H$6,FALSE) -> 0 | I42: =(H42)/1.1 -> 0 | J42: =L42*(1+[1]Données!$K$15) -> 0 | K42: =+M42/[1]Données!$H$14 -> 0 | T42: =IF(M42=0,"",+IF(SUM(N42:S42)=M42,"OK","ATTENTION")) | U42: =SUM($H$37:H42) -> 0
A43: =IF(MONTH(C43)=MONTH(TODAY()),1,0) -> 0 | B43: =IF(A43=0,IF(C43<TODAY(),MONTH($C43),0),0) -> 2 | C43: =C42+1 -> 43138 | D43: =VLOOKUP($C43,'[1]Résumé date'!$D$8:$H$387,'[1]Résumé date'!E$6,FALSE) -> 0 | E43: =VLOOKUP($C43,'[1]Résumé date'!$D$8:$H$387,'[1]Résumé date'!F$6,FALSE) -> 0 | F43: =VLOOKUP($C43,'[1]Résumé date'!$D$8:$H$387,'[1]Résumé date'!G$6,FALSE) -> 0 | G43: =VLOOKUP($C43,'[1]Résumé date'!$D$8:$H$387,'[1]Résumé date'!H$6,FALSE) -> 0 | I43: =(H43)/1.1 -> 0 | J43: =L43*(1+[1]Données!$K$15) -> 0 | K43: =+M43/[1]Données!$H$14 -> 0 | T43: =IF(M43=0,"",+IF(SUM(N43:S43)=M43,"OK","ATTENTION")) | U43: =SUM($H$37:H43) -> 0
A44: =IF(MONTH(C44)=MONTH(TODAY()),1,0) -> 0 | B44: =IF(A44=0,IF(C44<TODAY(),MONTH($C44),0),0) -> 2 | C44: =C43+1 -> 43139 | D44: =VLOOKUP($C44,'[1]Résumé date'!$D$8:$H$387,'[1]Résumé date'!E$6,FALSE) -> 0 | E44: =VLOOKUP($C44,'[1]Résumé date'!$D$8:$H$387,'[1]Résumé date'!F$6,FALSE) -> 0 | F44: =VLOOKUP($C44,'[1]Résumé date'!$D$8:$H$387,'[1]Résumé date'!G$6,FALSE) -> 0 | G44: =VLOOKUP($C44,'[1]Résumé date'!$D$8:$H$387,'[1]Résumé date'!H$6,FALSE) -> 0 | I44: =(H44)/1.1 -> 0 | J44: =L44*(1+[1]Données!$K$15) -> 0 | K44: =+M44/[1]Données!$H$14 -> 0 | T44: =IF(M44=0,"",+IF(SUM(N44:S44)=M44,"OK","ATTENTION")) | U44: =SUM($H$37:H44) -> 0
A45: =IF(MONTH(C45)=MONTH(TODAY()),1,0) -> 0 | B45: =IF(A45=0,IF(C45<TODAY(),MONTH($C45),0),0) -> 2 | C45: =C44+1 -> 43140 | D45: =VLOOKUP($C45,'[1]Résumé date'!$D$8:$H$387,'[1]Résumé date'!E$6,FALSE) -> 0 | E45: =VLOOKUP($C45,'[1]Résumé date'!$D$8:$H$387,'[1]Résumé date'!F$6,FALSE) -> 0 | F45: =VLOOKUP($C45,'[1]Résumé date'!$D$8:$H$387,'[1]Résumé date'!G$6,FALSE) -> 0 | G45: =VLOOKUP($C45,'[1]Résumé date'!$D$8:$H$387,'[1]Résumé date'!H$6,FALSE) -> 0 | I45: =(H45)/1.1 -> 0 | J45: =L45*(1+[1]Données!$K$15) -> 0 | K45: =+M45/[1]Données!$H$14 -> 0 | T45: =IF(M45=0,"",+IF(SUM(N45:S45)=M45,"OK","ATTENTION")) | U45: =SUM($H$37:H45) -> 0
A46: =IF(MONTH(C46)=MONTH(TODAY()),1,0) -> 0 | B46: =IF(A46=0,IF(C46<TODAY(),MONTH($C46),0),0) -> 2 | C46: =C45+1 -> 43141 | D46: =VLOOKUP($C46,'[1]Résumé date'!$D$8:$H$387,'[1]Résumé date'!E$6,FALSE) -> 0 | E46: =VLOOKUP($C46,'[1]Résumé date'!$D$8:$H$387,'[1]Résumé date'!F$6,FALSE) -> 0 | F46: =VLOOKUP($C46,'[1]Résumé date'!$D$8:$H$387,'[1]Résumé date'!G$6,FALSE) -> 0 | G46: =VLOOKUP($C46,'[1]Résumé date'!$D$8:$H$387,'[1]Résumé date'!H$6,FALSE) -> 0 | I46: =(H46)/1.1 -> 0 | J46: =L46*(1+[1]Données!$K$15) -> 0 | K46: =+M46/[1]Données!$H$14 -> 0 | T46: =IF(M46=0,"",+IF(SUM(N46:S46)=M46,"OK","ATTENTION")) | U46: =SUM($H$37:H46) -> 0
A47: =IF(MONTH(C47)=MONTH(TODAY()),1,0) -> 0 | B47: =IF(A47=0,IF(C47<TODAY(),MONTH($C47),0),0) -> 2 | C47: =C46+1 -> 43142 | D47: =VLOOKUP($C47,'[1]Résumé date'!$D$8:$H$387,'[1]Résumé date'!E$6,FALSE) -> 0 | E47: =VLOOKUP($C47,'[1]Résumé date'!$D$8:$H$387,'[1]Résumé date'!F$6,FALSE) -> 0 | F47: =VLOOKUP($C47,'[1]Résumé date'!$D$8:$H$387,'[1]Résumé date'!G$6,FALSE) -> 0 | G47: =VLOOKUP($C47,'[1]Résumé date'!$D$8:$H$387,'[1]Résumé date'!H$6,FALSE) -> 0 | I47: =(H47)/1.1 -> 0 | J47: =L47*(1+[1]Données!$K$15) -> 0 | K47: =+M47/[1]Données!$H$14 -> 0 | T47: =IF(M47=0,"",+IF(SUM(N47:S47)=M47,"OK","ATTENTION")) | U47: =SUM($H$37:H47) -> 0
A48: =IF(MONTH(C48)=MONTH(TODAY()),1,0) -> 0 | B48: =IF(A48=0,IF(C48<TODAY(),MONTH($C48),0),0) -> 2 | C48: =C47+1 -> 43143 | D48: =VLOOKUP($C48,'[1]Résumé date'!$D$8:$H$387,'[1]Résumé date'!E$6,FALSE) -> 0 | E48: =VLOOKUP($C48,'[1]Résumé date'!$D$8:$H$387,'[1]Résumé date'!F$6,FALSE) -> 0 | F48: =VLOOKUP($C48,'[1]Résumé date'!$D$8:$H$387,'[1]Résumé date'!G$6,FALSE) -> 0 | G48: =VLOOKUP($C48,'[1]Résumé date'!$D$8:$H$387,'[1]Résumé date'!H$6,FALSE) -> 0 | I48: =(H48)/1.1 -> 0 | J48: =L48*(1+[1]Données!$K$15) -> 0 | K48: =+M48/[1]Données!$H$14 -> 0 | T48: =IF(M48=0,"",+IF(SUM(N48:S48)=M48,"OK","ATTENTION")) | U48: =SUM($H$37:H48) -> 0
... A64: =IF(MONTH(C64)=MONTH(TODAY()),1,0) -> 0 | B64: =IF(A64=0,IF(C64<TODAY(),MONTH($C64),0),0) -> 2 | C64: =C63+1 -> 43159 | D64: =VLOOKUP($C64,'[1]Résumé date'!$D$8:$H$387,'[1]Résumé date'!E$6,FALSE) -> 0 | E64: =VLOOKUP($C64,'[1]Résumé date'!$D$8:$H$387,'[1]Résumé date'!F$6,FALSE) -> 0 | F64: =VLOOKUP($C64,'[1]Résumé date'!$D$8:$H$387,'[1]Résumé date'!G$6,FALSE) -> 0 | G64: =VLOOKUP($C64,'[1]Résumé date'!$D$8:$H$387,'[1]Résumé date'!H$6,FALSE) -> 0 | I64: =(H64)/1.1 -> 0 | J64: =L64*(1+[1]Données!$K$15) -> 0 | K64: =+M64/[1]Données!$H$14 -> 0 | T64: =IF(M64=0,"",+IF(SUM(N64:S64)=M64,"OK","ATTENTION")) | U64: =SUM($H$37:H64) -> 0
A65: =IF(MONTH(C65)=MONTH(TODAY()),1,0) -> 0 | B65: =IF(C65<TODAY(),MONTH($C65),0) -> 3 | C65: =C64+1 -> 43160 | D65: =VLOOKUP($C65,'[1]Résumé date'!$D$8:$H$387,'[1]Résumé date'!E$6,FALSE) -> 0 | E65: =VLOOKUP($C65,'[1]Résumé date'!$D$8:$H$387,'[1]Résumé date'!F$6,FALSE) -> 0 | F65: =VLOOKUP($C65,'[1]Résumé date'!$D$8:$H$387,'[1]Résumé date'!G$6,FALSE) -> 0 | G65: =VLOOKUP($C65,'[1]Résumé date'!$D$8:$H$387,'[1]Résumé date'!H$6,FALSE) -> 0 | I65: =(H65)/1.1 -> 0 | J65: =L65*(1+[1]Données!$K$15) -> 0 | K65: =+M65/[1]Données!$H$14 -> 0 | T65: =IF(M65=0,"",+IF(SUM(N65:S65)=M65,"OK","ATTENTION")) | U65: =SUM($H$65:H65) -> 0
A66: =IF(MONTH(C66)=MONTH(TODAY()),1,0) -> 0 | B66: =IF(C66<TODAY(),MONTH($C66),0) -> 3 | C66: =C65+1 -> 43161 | D66: =VLOOKUP($C66,'[1]Résumé date'!$D$8:$H$387,'[1]Résumé date'!E$6,FALSE) -> 0 | E66: =VLOOKUP($C66,'[1]Résumé date'!$D$8:$H$387,'[1]Résumé date'!F$6,FALSE) -> 0 | F66: =VLOOKUP($C66,'[1]Résumé date'!$D$8:$H$387,'[1]Résumé date'!G$6,FALSE) -> 0 | G66: =VLOOKUP($C66,'[1]Résumé date'!$D$8:$H$387,'[1]Résumé date'!H$6,FALSE) -> 0 | I66: =(H66)/1.1 -> 0 | J66: =L66*(1+[1]Données!$K$15) -> 0 | K66: =+M66/[1]Données!$H$14 -> 0 | T66: =IF(M66=0,"",+IF(SUM(N66:S66)=M66,"OK","ATTENTION")) | U66: =SUM($H$65:H66) -> 0
A67: =IF(MONTH(C67)=MONTH(TODAY()),1,0) -> 0 | B67: =IF(C67<TODAY(),MONTH($C67),0) -> 3 | C67: =C66+1 -> 43162 | D67: =VLOOKUP($C67,'[1]Résumé date'!$D$8:$H$387,'[1]Résumé date'!E$6,FALSE) -> 0 | E67: =VLOOKUP($C67,'[1]Résumé date'!$D$8:$H$387,'[1]Résumé date'!F$6,FALSE) -> 0 | F67: =VLOOKUP($C67,'[1]Résumé date'!$D$8:$H$387,'[1]Résumé date'!G$6,FALSE) -> 0 | G67: =VLOOKUP($C67,'[1]Résumé date'!$D$8:$H$387,'[1]Résumé date'!H$6,FALSE) -> 0 | I67: =(H67)/1.1 -> 0 | J67: =L67*(1+[1]Données!$K$15) -> 0 | K67: =+M67/[1]Données!$H$14 -> 0 | T67: =IF(M67=0,"",+IF(SUM(N67:S67)=M67,"OK","ATTENTION")) | U67: =SUM($H$65:H67) -> 0
A68: =IF(MONTH(C68)=MONTH(TODAY()),1,0) -> 0 | B68: =IF(C68<TODAY(),MONTH($C68),0) -> 3 | C68: =C67+1 -> 43163 | D68: =VLOOKUP($C68,'[1]Résumé date'!$D$8:$H$387,'[1]Résumé date'!E$6,FALSE) -> 0 | E68: =VLOOKUP($C68,'[1]Résumé date'!$D$8:$H$387,'[1]Résumé date'!F$6,FALSE) -> 0 | F68: =VLOOKUP($C68,'[1]Résumé date'!$D$8:$H$387,'[1]Résumé date'!G$6,FALSE) -> 0 | G68: =VLOOKUP($C68,'[1]Résumé date'!$D$8:$H$387,'[1]Résumé date'!H$6,FALSE) -> 0 | I68: =(H68)/1.1 -> 0 | J68: =L68*(1+[1]Données!$K$15) -> 0 | K68: =+M68/[1]Données!$H$14 -> 0 | T68: =IF(M68=0,"",+IF(SUM(N68:S68)=M68,"OK","ATTENTION")) | U68: =SUM($H$65:H68) -> 0
A69: =IF(MONTH(C69)=MONTH(TODAY()),1,0) -> 0 | B69: =IF(C69<TODAY(),MONTH($C69),0) -> 3 | C69: =C68+1 -> 43164 | D69: =VLOOKUP($C69,'[1]Résumé date'!$D$8:$H$387,'[1]Résumé date'!E$6,FALSE) -> 0 | E69: =VLOOKUP($C69,'[1]Résumé date'!$D$8:$H$387,'[1]Résumé date'!F$6,FALSE) -> 0 | F69: =VLOOKUP($C69,'[1]Résumé date'!$D$8:$H$387,'[1]Résumé date'!G$6,FALSE) -> 0 | G69: =VLOOKUP($C69,'[1]Résumé date'!$D$8:$H$387,'[1]Résumé date'!H$6,FALSE) -> 0 | I69: =(H69)/1.1 -> 0 | J69: =L69*(1+[1]Données!$K$15) -> 0 | K69: =+M69/[1]Données!$H$14 -> 0 | T69: =IF(M69=0,"",+IF(SUM(N69:S69)=M69,"OK","ATTENTION")) | U69: =SUM($H$65:H69) -> 0
A70: =IF(MONTH(C70)=MONTH(TODAY()),1,0) -> 0 | B70: =IF(C70<TODAY(),MONTH($C70),0) -> 3 | C70: =C69+1 -> 43165 | D70: =VLOOKUP($C70,'[1]Résumé date'!$D$8:$H$387,'[1]Résumé date'!E$6,FALSE) -> 0 | E70: =VLOOKUP($C70,'[1]Résumé date'!$D$8:$H$387,'[1]Résumé date'!F$6,FALSE) -> 0 | F70: =VLOOKUP($C70,'[1]Résumé date'!$D$8:$H$387,'[1]Résumé date'!G$6,FALSE) -> 0 | G70: =VLOOKUP($C70,'[1]Résumé date'!$D$8:$H$387,'[1]Résumé date'!H$6,FALSE) -> 0 | I70: =(H70)/1.1 -> 0 | J70: =L70*(1+[1]Données!$K$15) -> 0 | K70: =+M70/[1]Données!$H$14 -> 0 | T70: =IF(M70=0,"",+IF(SUM(N70:S70)=M70,"OK","ATTENTION")) | U70: =SUM($H$65:H70) -> 0
A71: =IF(MONTH(C71)=MONTH(TODAY()),1,0) -> 0 | B71: =IF(C71<TODAY(),MONTH($C71),0) -> 3 | C71: =C70+1 -> 43166 | D71: =VLOOKUP($C71,'[1]Résumé date'!$D$8:$H$387,'[1]Résumé date'!E$6,FALSE) -> 0 | E71: =VLOOKUP($C71,'[1]Résumé date'!$D$8:$H$387,'[1]Résumé date'!F$6,FALSE) -> 0 | F71: =VLOOKUP($C71,'[1]Résumé date'!$D$8:$H$387,'[1]Résumé date'!G$6,FALSE) -> 0 | G71: =VLOOKUP($C71,'[1]Résumé date'!$D$8:$H$387,'[1]Résumé date'!H$6,FALSE) -> 0 | I71: =(H71)/1.1 -> 0 | J71: =L71*(1+[1]Données!$K$15) -> 0 | K71: =+M71/[1]Données!$H$14 -> 0 | T71: =IF(M71=0,"",+IF(SUM(N71:S71)=M71,"OK","ATTENTION")) | U71: =SUM($H$65:H71) -> 0
A72: =IF(MONTH(C72)=MONTH(TODAY()),1,0) -> 0 | B72: =IF(C72<TODAY(),MONTH($C72),0) -> 3 | C72: =C71+1 -> 43167 | D72: =VLOOKUP($C72,'[1]Résumé date'!$D$8:$H$387,'[1]Résumé date'!E$6,FALSE) -> 0 | E72: =VLOOKUP($C72,'[1]Résumé date'!$D$8:$H$387,'[1]Résumé date'!F$6,FALSE) -> 0 | F72: =VLOOKUP($C72,'[1]Résumé date'!$D$8:$H$387,'[1]Résumé date'!G$6,FALSE) -> 0 | G72: =VLOOKUP($C72,'[1]Résumé date'!$D$8:$H$387,'[1]Résumé date'!H$6,FALSE) -> 0 | I72: =(H72)/1.1 -> 0 | J72: =L72*(1+[1]Données!$K$15) -> 0 | K72: =+M72/[1]Données!$H$14 -> 0 | T72: =IF(M72=0,"",+IF(SUM(N72:S72)=M72,"OK","ATTENTION")) | U72: =SUM($H$65:H72) -> 0
A73: =IF(MONTH(C73)=MONTH(TODAY()),1,0) -> 0 | B73: =IF(C73<TODAY(),MONTH($C73),0) -> 3 | C73: =C72+1 -> 43168 | D73: =VLOOKUP($C73,'[1]Résumé date'!$D$8:$H$387,'[1]Résumé date'!E$6,FALSE) -> 0 | E73: =VLOOKUP($C73,'[1]Résumé date'!$D$8:$H$387,'[1]Résumé date'!F$6,FALSE) -> 0 | F73: =VLOOKUP($C73,'[1]Résumé date'!$D$8:$H$387,'[1]Résumé date'!G$6,FALSE) -> 0 | G73: =VLOOKUP($C73,'[1]Résumé date'!$D$8:$H$387,'[1]Résumé date'!H$6,FALSE) -> 0 | I73: =(H73)/1.1 -> 0 | J73: =L73*(1+[1]Données!$K$15) -> 0 | K73: =+M73/[1]Données!$H$14 -> 0 | T73: =IF(M73=0,"",+IF(SUM(N73:S73)=M73,"OK","ATTENTION")) | U73: =SUM($H$65:H73) -> 0
A74: =IF(MONTH(C74)=MONTH(TODAY()),1,0) -> 0 | B74: =IF(C74<TODAY(),MONTH($C74),0) -> 3 | C74: =C73+1 -> 43169 | D74: =VLOOKUP($C74,'[1]Résumé date'!$D$8:$H$387,'[1]Résumé date'!E$6,FALSE) -> 0 | E74: =VLOOKUP($C74,'[1]Résumé date'!$D$8:$H$387,'[1]Résumé date'!F$6,FALSE) -> 0 | F74: =VLOOKUP($C74,'[1]Résumé date'!$D$8:$H$387,'[1]Résumé date'!G$6,FALSE) -> 0 | G74: =VLOOKUP($C74,'[1]Résumé date'!$D$8:$H$387,'[1]Résumé date'!H$6,FALSE) -> 0 | I74: =(H74)/1.1 -> 0 | J74: =L74*(1+[1]Données!$K$15) -> 0 | K74: =+M74/[1]Données!$H$14 -> 0 | T74: =IF(M74=0,"",+IF(SUM(N74:S74)=M74,"OK","ATTENTION")) | U74: =SUM($H$65:H74) -> 0
...

Sheet Autre revenus
C5: Date | D5: Petits Déjeuners | E5: PDJ Restaurant 1 | F5: PDJ - Petit Déjeuner | G5: PDG - Petit Déjeuner Groupe | H5: Total PDJ Restaurant 1 | I5: Total Petits Déjeuners | J5: Restaurants et Banquets | K5: Restaurant 1 Midi | L5: RMX - Restaurant Midi [N] | M5: RMXA - Restaurant Midi [BA] | N5: RMXB - Restaurant Midi [BS] | O5: Total Restaurant 1 Midi | P5: Restaurant 1 Soir | Q5: RSH - Restaurant Soir [N] | R5: RS1 - Restaurant Soir | S5: RSHA - Restaurant Soir [BA] | T5: RSHB - Restaurant Soir [BS] | U5: Total Restaurant 1 Soir | V5: Room Service Midi | W5: ROSE - Room Service [N] | X5: ROSB - Room Service [BS] | Y5: ROSA - Room Service [BA] | Z5: Total Room Service Midi | AA5: Banquet Midi | AB5: RJE - Journée Etude [N] | AC5: RJEA - Journée Etude [BA] | AD5: RJEB - Journée Etude [BS] | AE5: RSU - Sur Mersure [N] | AF5: RSUA - Sur Mersure [BA] | AG5: RSUB - Sur Mersure [BS] | AH5: Total Banquet Midi | AI5: Banquet Soir | AJ5: RLC - Cocktail [N] | AK5: RLCA - Cocktail [BA] | AL5: RLCB - Cocktail [BS] | AM5: RSS - Séminaire Résidentiel [N] | AN5: RSSB - Séminaire Résidentiel [BS] | AO5: RSSA - Séminaire Résidentiel [BA] | AP5: GTS - Groupe Loisir [N] | AQ5: GTSA - Groupe Loisir [BA] | AR5: GTSB - Groupe Loisir [BS] | AS5: Total Banquet Soir | AT5: Banquet Cocktail | AU5: RPA - Pause [N] | AV5: Total Banquet Cocktail | AW5: Total Restaurants et Banquets | AX5: Bar | AY5: Bar 1 Soir | AZ5: BS - Bar Soir [N] | BA5: BSOA - Bar Soir [BA] | BB5: BSOB - Bar Soir [BS] | BC5: Total Bar 1 Soir | BD5: Total Bar | BE5: Location de Salle | BF5: Location de Salle | BG5: LOS - Location salle | BH5: Total Location de Salle | BI5: Total Location de Salle | BJ5: Ventes Diverses | BK5: Divers Autres | BL5: AFF - Affranchissement | BM5: BAG - Bagages | BN5: Total Divers Autres | BO5: Boutique | BP5: BOU - Boutique [20%] | BQ5: BOUR - Boutique [10%] | BR5: Total Boutique | BS5: Total Ventes Diverses | BT5: Hors C.A. | BU5: Taxes | BV5: TXS - Taxe de Séjour | BW5: TPT - Taxe Départementale | BX5: Total Taxes | BY5: Total Hors C.A. | BZ5: Total
A6: =IF(MONTH(C6)=MONTH(TODAY()),1,0) -> 0 | B6: =IF(A6=0,0,IF(C6<TODAY(),MONTH($C6),0)) -> 0 | C6: =Hébergement!C6 -> 43101
A7: =IF(MONTH(C7)=MONTH(TODAY()),1,0) -> 0 | B7: =IF(A7=0,0,IF(C7<TODAY(),MONTH($C7),0)) -> 0 | C7: =Hébergement!C7 -> 43102
A8: =IF(MONTH(C8)=MONTH(TODAY()),1,0) -> 0 | B8: =IF(A8=0,0,IF(C8<TODAY(),MONTH($C8),0)) -> 0 | C8: =Hébergement!C8 -> 43103
A9: =IF(MONTH(C9)=MONTH(TODAY()),1,0) -> 0 | B9: =IF(A9=0,0,IF(C9<TODAY(),MONTH($C9),0)) -> 0 | C9: =Hébergement!C9 -> 43104
A10: =IF(MONTH(C10)=MONTH(TODAY()),1,0) -> 0 | B10: =IF(A10=0,0,IF(C10<TODAY(),MONTH($C10),0)) -> 0 | C10: =Hébergement!C10 -> 43105
A11: =IF(MONTH(C11)=MONTH(TODAY()),1,0) -> 0 | B11: =IF(A11=0,0,IF(C11<TODAY(),MONTH($C11),0)) -> 0 | C11: =Hébergement!C11 -> 43106
A12: =IF(MONTH(C12)=MONTH(TODAY()),1,0) -> 0 | B12: =IF(A12=0,0,IF(C12<TODAY(),MONTH($C12),0)) -> 0 | C12: =Hébergement!C12 -> 43107 | AE12: =AA12/[1]Données!$K$11 -> 0 | AF12: =Y12/[1]Données!$K$10 -> 0 | AG12: =AA12 -> 0 | AH12: =Y12+AB12 -> 0
A13: =IF(MONTH(C13)=MONTH(TODAY()),1,0) -> 0 | B13: =IF(A13=0,0,IF(C13<TODAY(),MONTH($C13),0)) -> 0 | C13: =Hébergement!C13 -> 43108 | AE13: =AA13/[1]Données!$K$11 -> 0 | AF13: =Y13/[1]Données!$K$10 -> 0 | AG13: =AA13 -> 0 | AH13: =Y13+AB13 -> 0
A14: =IF(MONTH(C14)=MONTH(TODAY()),1,0) -> 0 | B14: =IF(A14=0,0,IF(C14<TODAY(),MONTH($C14),0)) -> 0 | C14: =Hébergement!C14 -> 43109 | AE14: =AA14/[1]Données!$K$11 -> 0 | AF14: =Y14/[1]Données!$K$10 -> 0 | AG14: =AA14 -> 0 | AH14: =Y14+AB14 -> 0
A15: =IF(MONTH(C15)=MONTH(TODAY()),1,0) -> 0 | B15: =IF(A15=0,0,IF(C15<TODAY(),MONTH($C15),0)) -> 0 | C15: =Hébergement!C15 -> 43110 | AE15: =AA15/[1]Données!$K$11 -> 0 | AF15: =Y15/[1]Données!$K$10 -> 0 | AG15: =AA15 -> 0 | AH15: =Y15+AB15 -> 0
A16: =IF(MONTH(C16)=MONTH(TODAY()),1,0) -> 0 | B16: =IF(A16=0,0,IF(C16<TODAY(),MONTH($C16),0)) -> 0 | C16: =Hébergement!C16 -> 43111 | AE16: =AA16/[1]Données!$K$11 -> 0 | AF16: =Y16/[1]Données!$K$10 -> 0 | AG16: =AA16 -> 0 | AH16: =Y16+AB16 -> 0
A17: =IF(MONTH(C17)=MONTH(TODAY()),1,0) -> 0 | B17: =IF(A17=0,0,IF(C17<TODAY(),MONTH($C17),0)) -> 0 | C17: =Hébergement!C17 -> 43112 | AE17: =AA17/[1]Données!$K$11 -> 0 | AF17: =Y17/[1]Données!$K$10 -> 0 | AG17: =AA17 -> 0 | AH17: =Y17+AB17 -> 0
A18: =IF(MONTH(C18)=MONTH(TODAY()),1,0) -> 0 | B18: =IF(A18=0,0,IF(C18<TODAY(),MONTH($C18),0)) -> 0 | C18: =Hébergement!C18 -> 43113 | AE18: =AA18/[1]Données!$K$11 -> 0 | AF18: =Y18/[1]Données!$K$10 -> 0 | AG18: =AA18 -> 0 | AH18: =Y18+AB18 -> 0
A19: =IF(MONTH(C19)=MONTH(TODAY()),1,0) -> 0 | B19: =IF(A19=0,0,IF(C19<TODAY(),MONTH($C19),0)) -> 0 | C19: =Hébergement!C19 -> 43114 | AE19: =AA19/[1]Données!$K$11 -> 0 | AF19: =Y19/[1]Données!$K$10 -> 0 | AG19: =AA19 -> 0 | AH19: =Y19+AB19 -> 0
A20: =IF(MONTH(C20)=MONTH(TODAY()),1,0) -> 0 | B20: =IF(A20=0,0,IF(C20<TODAY(),MONTH($C20),0)) -> 0 | C20: =Hébergement!C20 -> 43115 | AE20: =AA20/[1]Données!$K$11 -> 0 | AF20: =Y20/[1]Données!$K$10 -> 0 | AG20: =AA20 -> 0 | AH20: =Y20+AB20 -> 0
A21: =IF(MONTH(C21)=MONTH(TODAY()),1,0) -> 0 | B21: =IF(A21=0,0,IF(C21<TODAY(),MONTH($C21),0)) -> 0 | C21: =Hébergement!C21 -> 43116 | AE21: =AA21/[1]Données!$K$11 -> 0 | AF21: =Y21/[1]Données!$K$10 -> 0 | AG21: =AA21 -> 0 | AH21: =Y21+AB21 -> 0
A22: =IF(MONTH(C22)=MONTH(TODAY()),1,0) -> 0 | B22: =IF(A22=0,0,IF(C22<TODAY(),MONTH($C22),0)) -> 0 | C22: =Hébergement!C22 -> 43117 | AE22: =AA22/[1]Données!$K$11 -> 0 | AF22: =Y22/[1]Données!$K$10 -> 0 | AG22: =AA22 -> 0 | AH22: =Y22+AB22 -> 0
A23: =IF(MONTH(C23)=MONTH(TODAY()),1,0) -> 0 | B23: =IF(A23=0,0,IF(C23<TODAY(),MONTH($C23),0)) -> 0 | C23: =Hébergement!C23 -> 43118 | AE23: =AA23/[1]Données!$K$11 -> 0 | AF23: =Y23/[1]Données!$K$10 -> 0 | AG23: =AA23 -> 0 | AH23: =Y23+AB23 -> 0
... A36: =IF(MONTH(C36)=MONTH(TODAY()),1,0) -> 0 | B36: =IF(A36=0,0,IF(C36<TODAY(),MONTH($C36),0)) -> 0 | C36: =Hébergement!C36 -> 43131 | AE36: =AA36/[1]Données!$K$11 -> 0 | AF36: =Y36/[1]Données!$K$10 -> 0 | AG36: =AA36 -> 0 | AH36: =Y36+AB36 -> 0
A37: =IF(MONTH(C37)=MONTH(TODAY()),1,0) -> 0 | B37: =IF(A37=0,IF(C37<TODAY(),MONTH($C37),0),0) -> 2 | C37: =Hébergement!C37 -> 43132 | AE37: =AA37/[1]Données!$K$11 -> 0 | AF37: =Y37/[1]Données!$K$10 -> 0 | AG37: =AA37 -> 0 | AH37: =Y37+AB37 -> 0
A38: =IF(MONTH(C38)=MONTH(TODAY()),1,0) -> 0 | B38: =IF(A38=0,IF(C38<TODAY(),MONTH($C38),0),0) -> 2 | C38: =Hébergement!C38 -> 43133 | AE38: =AA38/[1]Données!$K$11 -> 0 | AF38: =Y38/[1]Données!$K$10 -> 0 | AG38: =AA38 -> 0 | AH38: =Y38+AB38 -> 0
A39: =IF(MONTH(C39)=MONTH(TODAY()),1,0) -> 0 | B39: =IF(A39=0,IF(C39<TODAY(),MONTH($C39),0),0) -> 2 | C39: =Hébergement!C39 -> 43134 | AE39: =AA39/[1]Données!$K$11 -> 0 | AF39: =Y39/[1]Données!$K$10 -> 0 | AG39: =AA39 -> 0 | AH39: =Y39+AB39 -> 0
A40: =IF(MONTH(C40)=MONTH(TODAY()),1,0) -> 0 | B40: =IF(A40=0,IF(C40<TODAY(),MONTH($C40),0),0) -> 2 | C40: =Hébergement!C40 -> 43135 | AE40: =AA40/[1]Données!$K$11 -> 0 | AF40: =Y40/[1]Données!$K$10 -> 0 | AG40: =AA40 -> 0 | AH40: =Y40+AB40 -> 0
A41: =IF(MONTH(C41)=MONTH(TODAY()),1,0) -> 0 | B41: =IF(A41=0,IF(C41<TODAY(),MONTH($C41),0),0) -> 2 | C41: =Hébergement!C41 -> 43136 | AE41: =AA41/[1]Données!$K$11 -> 0 | AF41: =Y41/[1]Données!$K$10 -> 0 | AG41: =AA41 -> 0 | AH41: =Y41+AB41 -> 0
A42: =IF(MONTH(C42)=MONTH(TODAY()),1,0) -> 0 | B42: =IF(A42=0,IF(C42<TODAY(),MONTH($C42),0),0) -> 2 | C42: =Hébergement!C42 -> 43137 | AE42: =AA42/[1]Données!$K$11 -> 0 | AF42: =Y42/[1]Données!$K$10 -> 0 | AG42: =AA42 -> 0 | AH42: =Y42+AB42 -> 0
A43: =IF(MONTH(C43)=MONTH(TODAY()),1,0) -> 0 | B43: =IF(A43=0,IF(C43<TODAY(),MONTH($C43),0),0) -> 2 | C43: =Hébergement!C43 -> 43138 | AE43: =AA43/[1]Données!$K$11 -> 0 | AF43: =Y43/[1]Données!$K$10 -> 0 | AG43: =AA43 -> 0 | AH43: =Y43+AB43 -> 0
A44: =IF(MONTH(C44)=MONTH(TODAY()),1,0) -> 0 | B44: =IF(A44=0,IF(C44<TODAY(),MONTH($C44),0),0) -> 2 | C44: =Hébergement!C44 -> 43139 | AE44: =AA44/[1]Données!$K$11 -> 0 | AF44: =Y44/[1]Données!$K$10 -> 0 | AG44: =AA44 -> 0 | AH44: =Y44+AB44 -> 0
A45: =IF(MONTH(C45)=MONTH(TODAY()),1,0) -> 0 | B45: =IF(A45=0,IF(C45<TODAY(),MONTH($C45),0),0) -> 2 | C45: =Hébergement!C45 -> 43140 | AE45: =AA45/[1]Données!$K$11 -> 0 | AF45: =Y45/[1]Données!$K$10 -> 0 | AG45: =AA45 -> 0 | AH45: =Y45+AB45 -> 0
A46: =IF(MONTH(C46)=MONTH(TODAY()),1,0) -> 0 | B46: =IF(A46=0,IF(C46<TODAY(),MONTH($C46),0),0) -> 2 | C46: =Hébergement!C46 -> 43141 | AE46: =AA46/[1]Données!$K$11 -> 0 | AF46: =Y46/[1]Données!$K$10 -> 0 | AG46: =AA46 -> 0 | AH46: =Y46+AB46 -> 0
A47: =IF(MONTH(C47)=MONTH(TODAY()),1,0) -> 0 | B47: =IF(A47=0,IF(C47<TODAY(),MONTH($C47),0),0) -> 2 | C47: =Hébergement!C47 -> 43142 | AE47: =AA47/[1]Données!$K$11 -> 0 | AF47: =Y47/[1]Données!$K$10 -> 0 | AG47: =AA47 -> 0 | AH47: =Y47+AB47 -> 0
A48: =IF(MONTH(C48)=MONTH(TODAY()),1,0) -> 0 | B48: =IF(A48=0,IF(C48<TODAY(),MONTH($C48),0),0) -> 2 | C48: =Hébergement!C48 -> 43143 | AE48: =AA48/[1]Données!$K$11 -> 0 | AF48: =Y48/[1]Données!$K$10 -> 0 | AG48: =AA48 -> 0 | AH48: =Y48+AB48 -> 0
... A64: =IF(MONTH(C64)=MONTH(TODAY()),1,0) -> 0 | B64: =IF(A64=0,IF(C64<TODAY(),MONTH($C64),0),0) -> 2 | C64: =Hébergement!C64 -> 43159 | AE64: =AA64/[1]Données!$K$11 -> 0 | AF64: =Y64/[1]Données!$K$10 -> 0 | AG64: =AA64 -> 0 | AH64: =Y64+AB64 -> 0
A65: =IF(MONTH(C65)=MONTH(TODAY()),1,0) -> 0 | B65: =IF(C65<TODAY(),MONTH($C65),0) -> 3 | C65: =Hébergement!C65 -> 43160 | AE65: =AA65/[1]Données!$K$11 -> 0 | AF65: =Y65/[1]Données!$K$10 -> 0 | AG65: =AA65 -> 0 | AH65: =Y65+AB65 -> 0
A66: =IF(MONTH(C66)=MONTH(TODAY()),1,0) -> 0 | B66: =IF(C66<TODAY(),MONTH($C66),0) -> 3 | C66: =Hébergement!C66 -> 43161 | AE66: =AA66/[1]Données!$K$11 -> 0 | AF66: =Y66/[1]Données!$K$10 -> 0 | AG66: =AA66 -> 0 | AH66: =Y66+AB66 -> 0
A67: =IF(MONTH(C67)=MONTH(TODAY()),1,0) -> 0 | B67: =IF(C67<TODAY(),MONTH($C67),0) -> 3 | C67: =Hébergement!C67 -> 43162 | AE67: =AA67/[1]Données!$K$11 -> 0 | AF67: =Y67/[1]Données!$K$10 -> 0 | AG67: =AA67 -> 0 | AH67: =Y67+AB67 -> 0
A68: =IF(MONTH(C68)=MONTH(TODAY()),1,0) -> 0 | B68: =IF(C68<TODAY(),MONTH($C68),0) -> 3 | C68: =Hébergement!C68 -> 43163 | AE68: =AA68/[1]Données!$K$11 -> 0 | AF68: =Y68/[1]Données!$K$10 -> 0 | AG68: =AA68 -> 0 | AH68: =Y68+AB68 -> 0
A69: =IF(MONTH(C69)=MONTH(TODAY()),1,0) -> 0 | B69: =IF(C69<TODAY(),MONTH($C69),0) -> 3 | C69: =Hébergement!C69 -> 43164 | AE69: =AA69/[1]Données!$K$11 -> 0 | AF69: =Y69/[1]Données!$K$10 -> 0 | AG69: =AA69 -> 0 | AH69: =Y69+AB69 -> 0
A70: =IF(MONTH(C70)=MONTH(TODAY()),1,0) -> 0 | B70: =IF(C70<TODAY(),MONTH($C70),0) -> 3 | C70: =Hébergement!C70 -> 43165 | AE70: =AA70/[1]Données!$K$11 -> 0 | AF70: =Y70/[1]Données!$K$10 -> 0 | AG70: =AA70 -> 0 | AH70: =Y70+AB70 -> 0
A71: =IF(MONTH(C71)=MONTH(TODAY()),1,0) -> 0 | B71: =IF(C71<TODAY(),MONTH($C71),0) -> 3 | C71: =Hébergement!C71 -> 43166 | AE71: =AA71/[1]Données!$K$11 -> 0 | AF71: =Y71/[1]Données!$K$10 -> 0 | AG71: =AA71 -> 0 | AH71: =Y71+AB71 -> 0
...

Sheet Hébergement (2)
A1: =+Hébergement!A1 -> 0 | B1: =+Hébergement!B1 -> 0 | C1: =+Hébergement!C1 -> 0 | D1: =+Hébergement!D1 -> 0 | E1: =+Hébergement!E1 -> 0 | F1: =+Hébergement!F1 -> 0 | G1: =+Hébergement!G1 -> 0 | H1: =+Hébergement!H1 -> MANAGER FLASH | ... U1: =+Hébergement!U1 -> 0
A2: =+Hébergement!A2 -> 0 | B2: =+Hébergement!B2 -> 0 | C2: =+Hébergement!C2 -> 0 | D2: =+Hébergement!D2 -> BUDGET | E2: =+Hébergement!E2 -> 0 | F2: =+Hébergement!F2 -> 0 | G2: =+Hébergement!G2 -> 0 | H2: =+Hébergement!H2 -> REEL | ... U2: =+Hébergement!U2 -> 0
A3: =+Hébergement!A3 -> 0 | B3: =+Hébergement!B3 -> 0 | C3: =+Hébergement!C3 -> 0 | D3: =+Hébergement!D3 -> 0 | E3: =+Hébergement!E3 -> 0 | F3: =+Hébergement!F3 -> 0 | G3: =+Hébergement!G3 -> 0 | H3: =+Hébergement!H3 -> 0 | ... U3: =+Hébergement!U3 -> 0
A4: =+Hébergement!A4 -> 0 | B4: =+Hébergement!B4 -> 0 | C4: =+Hébergement!C4 -> Date | D4: =+Hébergement!D4 -> PM TTC | E4: =+Hébergement!E4 -> PM HT | F4: =+Hébergement!F4 -> TO | G4: =+Hébergement!G4 -> Nombre de chambre louées | H4: =+Hébergement!H4 -> CA TOTAL HEBERGEMENT TTC | ... U4: =+Hébergement!U4 -> CA Heb HT Cumul
A5: =+Hébergement!A5 -> 0 | B5: =+Hébergement!B5 -> 0 | C5: =+Hébergement!C5 -> 0 | D5: =+Hébergement!D5 -> 0 | E5: =+Hébergement!E5 -> 0 | F5: =+Hébergement!F5 -> 0 | G5: =+Hébergement!G5 -> 0 | H5: =+Hébergement!H5 -> 0 | ... U5: =+Hébergement!U5 -> 0
A6: =+Hébergement!A6 -> 0 | B6: =+Hébergement!B6 -> 0 | C6: =+Hébergement!C6 -> 43101 | D6: =+Hébergement!D6 -> 0 | E6: =+Hébergement!E6 -> 0 | F6: =+Hébergement!F6 -> 0 | G6: =+Hébergement!G6 -> 0 | H6: =+Hébergement!H6 -> 0 | ... U6: =+Hébergement!U6 -> 0
A7: =+Hébergement!A7 -> 0 | B7: =+Hébergement!B7 -> 0 | C7: =+Hébergement!C7 -> 43102 | D7: =+Hébergement!D7 -> 0 | E7: =+Hébergement!E7 -> 0 | F7: =+Hébergement!F7 -> 0 | G7: =+Hébergement!G7 -> 0 | H7: =+Hébergement!H7 -> 0 | ... U7: =+Hébergement!U7 -> 0
A8: =+Hébergement!A8 -> 0 | B8: =+Hébergement!B8 -> 0 | C8: =+Hébergement!C8 -> 43103 | D8: =+Hébergement!D8 -> 0 | E8: =+Hébergement!E8 -> 0 | F8: =+Hébergement!F8 -> 0 | G8: =+Hébergement!G8 -> 0 | H8: =+Hébergement!H8 -> 0 | ... U8: =+Hébergement!U8 -> 0
A9: =+Hébergement!A9 -> 0 | B9: =+Hébergement!B9 -> 0 | C9: =+Hébergement!C9 -> 43104 | D9: =+Hébergement!D9 -> 0 | E9: =+Hébergement!E9 -> 0 | F9: =+Hébergement!F9 -> 0 | G9: =+Hébergement!G9 -> 0 | H9: =+Hébergement!H9 -> 0 | ... U9: =+Hébergement!U9 -> 0
A10: =+Hébergement!A10 -> 0 | B10: =+Hébergement!B10 -> 0 | C10: =+Hébergement!C10 -> 43105 | D10: =+Hébergement!D10 -> 0 | E10: =+Hébergement!E10 -> 0 | F10: =+Hébergement!F10 -> 0 | G10: =+Hébergement!G10 -> 0 | H10: =+Hébergement!H10 -> 0 | ... U10: =+Hébergement!U10 -> 0
A11: =+Hébergement!A11 -> 0 | B11: =+Hébergement!B11 -> 0 | C11: =+Hébergement!C11 -> 43106 | D11: =+Hébergement!D11 -> 0 | E11: =+Hébergement!E11 -> 0 | F11: =+Hébergement!F11 -> 0 | G11: =+Hébergement!G11 -> 0 | H11: =+Hébergement!H11 -> 0 | ... U11: =+Hébergement!U11 -> 0
A12: =+Hébergement!A12 -> 0 | B12: =+Hébergement!B12 -> 0 | C12: =+Hébergement!C12 -> 43107 | D12: =+Hébergement!D12 -> 0 | E12: =+Hébergement!E12 -> 0 | F12: =+Hébergement!F12 -> 0 | G12: =+Hébergement!G12 -> 0 | H12: =+Hébergement!H12 -> 0 | ... U12: =+Hébergement!U12 -> 0
... A95: =+Hébergement!A95 -> 0 | B95: =+Hébergement!B95 -> 3 | C95: =+Hébergement!C95 -> 43190 | D95: =+Hébergement!D95 -> 0 | E95: =+Hébergement!E95 -> 0 | F95: =+Hébergement!F95 -> 0 | G95: =+Hébergement!G95 -> 0 | H95: =+Hébergement!H95 -> 0 | ... U95: =+Hébergement!U95 -> 0
A96: =+Hébergement!A96 -> 1 | B96: =+Hébergement!B96 -> 4 | C96: =+Hébergement!C96 -> 43191 | D96: =+Hébergement!D96 -> 58.588 | E96: =+Hébergement!E96 -> 53.261818 | F96: =+Hébergement!F96 -> 0.3 | G96: =+Hébergement!G96 -> 43.2 | H96: 449.65 | I96: 408.77273 | J96: 98.923 | K96: 0.034722222 | L96: 89.93 | M96: 5 | N96: 0 | O96: 0 | P96: 0 | Q96: 0 | R96: 0 | S96: 0 | T96: 0 | U96: =+Hébergement!U96 -> 449.65
A97: =+Hébergement!A97 -> 1 | B97: =+Hébergement!B97 -> 4 | C97: =+Hébergement!C97 -> 43192 | D97: =+Hébergement!D97 -> 58.588 | E97: =+Hébergement!E97 -> 53.261818 | F97: =+Hébergement!F97 -> 0.3 | G97: =+Hébergement!G97 -> 43.2 | H97: 521.76 | I97: 474.32727 | J97: 63.767 | K97: 0.0625 | L97: 57.97 | M97: 9 | N97: 0 | O97: 0 | P97: 0 | Q97: 0 | R97: 0 | S97: 0 | T97: 0 | U97: =+Hébergement!U97 -> 971.41
A98: =+Hébergement!A98 -> 1 | B98: =+Hébergement!B98 -> 4 | C98: =+Hébergement!C98 -> 43193 | D98: =+Hébergement!D98 -> 58.588 | E98: =+Hébergement!E98 -> 53.261818 | F98: =+Hébergement!F98 -> 0.3 | G98: =+Hébergement!G98 -> 43.2 | H98: 3827.9 | I98: 3479.9091 | J98: 91.542 | K98: 0.31944444 | L98: 83.22 | M98: 46 | N98: 0 | O98: 0 | P98: 0 | Q98: 0 | R98: 0 | S98: 0 | T98: 0 | U98: =+Hébergement!U98 -> 4799.31
A99: =+Hébergement!A99 -> 1 | B99: =+Hébergement!B99 -> 4 | C99: =+Hébergement!C99 -> 43194 | D99: =+Hébergement!D99 -> 113.234 | E99: =+Hébergement!E99 -> 102.94 | F99: =+Hébergement!F99 -> 0.76 | G99: =+Hébergement!G99 -> 109.44 | H99: 6438.1 | I99: 5852.8182 | J99: 99.748 | K99: 0.49305556 | L99: 90.68 | M99: 71 | N99: 0 | O99: 0 | P99: 0 | Q99: 0 | R99: 0 | S99: 0 | T99: 0 | U99: =+Hébergement!U99 -> 11237.41
A100: =+Hébergement!A100 -> 1 | B100: =+Hébergement!B100 -> 4 | C100: =+Hébergement!C100 -> 43195 | D100: =+Hébergement!D100 -> 58.588 | E100: =+Hébergement!E100 -> 53.261818 | F100: =+Hébergement!F100 -> 0.3 | G100: =+Hébergement!G100 -> 43.2 | H100: 3204.72 | I100: 2913.3818 | J100: 76.637 | K100: 0.31944444 | L100: 69.67 | M100: 46 | N100: 0 | O100: 0 | P100: 0 | Q100: 0 | R100: 0 | S100: 0 | T100: 0 | U100: =+Hébergement!U100 -> 14442.13
A101: =+Hébergement!A101 -> 1 | B101: =+Hébergement!B101 -> 4 | C101: =+Hébergement!C101 -> 43196 | D101: =+Hébergement!D101 -> 58.588 | E101: =+Hébergement!E101 -> 53.261818 | F101: =+Hébergement!F101 -> 0.3 | G101: =+Hébergement!G101 -> 43.2 | H101: 0 | I101: 0 | J101: 0 | K101: 0 | L101: 0 | M101: 0 | N101: 0 | O101: 0 | P101: 0 | Q101: 0 | R101: 0 | S101: 0 | T101: 0 | U101: =+Hébergement!U101 -> 14442.13
A102: =+Hébergement!A102 -> 1 | B102: =+Hébergement!B102 -> 4 | C102: =+Hébergement!C102 -> 43197 | D102: =+Hébergement!D102 -> 58.588 | E102: =+Hébergement!E102 -> 53.261818 | F102: =+Hébergement!F102 -> 0.3 | G102: =+Hébergement!G102 -> 43.2 | H102: 0 | I102: 0 | J102: 0 | K102: 0 | L102: 0 | M102: 0 | N102: 0 | O102: 0 | P102: 0 | Q102: 0 | R102: 0 | S102: 0 | T102: 0 | U102: =+Hébergement!U102 -> 14442.13
A103: =+Hébergement!A103 -> 1 | B103: =+Hébergement!B103 -> 4 | C103: =+Hébergement!C103 -> 43198 | D103: =+Hébergement!D103 -> 58.588 | E103: =+Hébergement!E103 -> 53.261818 | F103: =+Hébergement!F103 -> 0.3 | G103: =+Hébergement!G103 -> 43.2 | H103: 0 | I103: 0 | J103: 0 | K103: 0 | L103: 0 | M103: 0 | N103: 0 | O103: 0 | P103: 0 | Q103: 0 | R103: 0 | S103: 0 | T103: 0 | U103: =+Hébergement!U103 -> 14442.13
A104: =+Hébergement!A104 -> 1 | B104: =+Hébergement!B104 -> 0 | C104: =+Hébergement!C104 -> 43199 | D104: =+Hébergement!D104 -> 102.738 | E104: =+Hébergement!E104 -> 93.398182 | F104: =+Hébergement!F104 -> 0.65 | G104: =+Hébergement!G104 -> 93.6 | H104: 0 | I104: 0 | J104: 0 | K104: 0 | L104: 0 | M104: 0 | N104: 0 | O104: 0 | P104: 0 | Q104: 0 | R104: 0 | S104: 0 | T104: 0 | U104: =+Hébergement!U104 -> 14442.13
A105: =+Hébergement!A105 -> 1 | B105: =+Hébergement!B105 -> 0 | C105: =+Hébergement!C105 -> 43200 | D105: =+Hébergement!D105 -> 113.234 | E105: =+Hébergement!E105 -> 102.94 | F105: =+Hébergement!F105 -> 0.76 | G105: =+Hébergement!G105 -> 109.44 | H105: 0 | I105: 0 | J105: 0 | K105: 0 | L105: 0 | M105: 0 | N105: 0 | O105: 0 | P105: 0 | Q105: 0 | R105: 0 | S105: 0 | T105: 0 | U105: =+Hébergement!U105 -> 14442.13
A106: =+Hébergement!A106 -> 1 | B106: =+Hébergement!B106 -> 0 | C106: =+Hébergement!C106 -> 43201 | D106: =+Hébergement!D106 -> 121.71429 | E106: =+Hébergement!E106 -> 110.64935 | F106: =+Hébergement!F106 -> 0.72916667 | G106: =+Hébergement!G106 -> 105 | H106: 0 | I106: 0 | J106: 0 | K106: 0 | L106: 0 | M106: 0 | N106: 0 | O106: 0 | P106: 0 | Q106: 0 | R106: 0 | S106: 0 | T106: 0 | U106: =+Hébergement!U106 -> 14442.13
A107: =+Hébergement!A107 -> 1 | B107: =+Hébergement!B107 -> 0 | C107: =+Hébergement!C107 -> 43202 | D107: =+Hébergement!D107 -> 121.71429 | E107: =+Hébergement!E107 -> 110.64935 | F107: =+Hébergement!F107 -> 0.72916667 | G107: =+Hébergement!G107 -> 105 | H107: 0 | I107: 0 | J107: 0 | K107: 0 | L107: 0 | M107: 0 | N107: 0 | O107: 0 | P107: 0 | Q107: 0 | R107: 0 | S107: 0 | T107: 0 | U107: =+Hébergement!U107 -> 14442.13
... A443: =+Hébergement!A443 -> 0 | B443: =+Hébergement!B443 -> 0 | C443: =+Hébergement!C443 -> 0 | D443: =+Hébergement!D443 -> 0 | E443: =+Hébergement!E443 -> 0 | F443: =+Hébergement!F443 -> 0 | G443: =+Hébergement!G443 -> 0 | H443: 0 | I443: 0 | J443: 0 | K443: 0 | L443: 0 | M443: 0 | N443: 0 | O443: 0 | P443: 0 | Q443: 0 | R443: 0 | S443: 0 | T443: 0 | U443: =+Hébergement!U443 -> 0

Sheet Autre revenus (2)
C5: Date | D5: Petits Déjeuners | E5: PDJ Restaurant 1 | F5: PDJ - Petit Déjeuner | G5: PDG - Petit Déjeuner Groupe | H5: Total PDJ Restaurant 1 | I5: Total Petits Déjeuners | J5: Restaurants et Banquets | K5: Restaurant 1 Midi | L5: RMX - Restaurant Midi [N] | M5: RMXA - Restaurant Midi [BA] | N5: RMXB - Restaurant Midi [BS] | O5: Total Restaurant 1 Midi | P5: Restaurant 1 Soir | Q5: RSH - Restaurant Soir [N] | R5: RS1 - Restaurant Soir | S5: RSHA - Restaurant Soir [BA] | T5: RSHB - Restaurant Soir [BS] | U5: Total Restaurant 1 Soir | V5: Room Service Midi | W5: ROSE - Room Service [N] | X5: ROSB - Room Service [BS] | Y5: ROSA - Room Service [BA] | Z5: Total Room Service Midi | AA5: Banquet Midi | AB5: RJE - Journée Etude [N] | AC5: RJEA - Journée Etude [BA] | AD5: RJEB - Journée Etude [BS] | AE5: RSU - Sur Mersure [N] | AF5: RSUA - Sur Mersure [BA] | AG5: RSUB - Sur Mersure [BS] | AH5: Total Banquet Midi | AI5: Banquet Soir | AJ5: RLC - Cocktail [N] | AK5: RLCA - Cocktail [BA] | AL5: RLCB - Cocktail [BS] | AM5: RSS - Séminaire Résidentiel [N] | AN5: RSSB - Séminaire Résidentiel [BS] | AO5: RSSA - Séminaire Résidentiel [BA] | AP5: GTS - Groupe Loisir [N] | AQ5: GTSA - Groupe Loisir [BA] | AR5: GTSB - Groupe Loisir [BS] | AS5: Total Banquet Soir | AT5: Banquet Cocktail | AU5: RPA - Pause [N] | AV5: Total Banquet Cocktail | AW5: Total Restaurants et Banquets | AX5: Bar | AY5: Bar 1 Soir | AZ5: BS - Bar Soir [N] | BA5: BSOA - Bar Soir [BA] | BB5: BSOB - Bar Soir [BS] | BC5: Total Bar 1 Soir | BD5: Total Bar | BE5: Location de Salle | BF5: Location de Salle | BG5: LOS - Location salle | BH5: Total Location de Salle | BI5: Total Location de Salle | BJ5: Ventes Diverses | BK5: Divers Autres | BL5: AFF - Affranchissement | BM5: BAG - Bagages | BN5: Total Divers Autres | BO5: Boutique | BP5: BOU - Boutique [20%] | BQ5: BOUR - Boutique [10%] | BR5: Total Boutique | BS5: Total Ventes Diverses | BT5: Hors C.A. | BU5: Taxes | BV5: TXS - Taxe de Séjour | BW5: TPT - Taxe Départementale | BX5: Total Taxes | BY5: Total Hors C.A. | BZ5: Total
A6: =IF(MONTH(C6)=MONTH(TODAY()),1,0) -> 0 | B6: =IF(A6=0,0,IF(C6<TODAY(),MONTH($C6),0)) -> 0 | C6: =Hébergement!C6 -> 43101
A7: =IF(MONTH(C7)=MONTH(TODAY()),1,0) -> 0 | B7: =IF(A7=0,0,IF(C7<TODAY(),MONTH($C7),0)) -> 0 | C7: =Hébergement!C7 -> 43102
A8: =IF(MONTH(C8)=MONTH(TODAY()),1,0) -> 0 | B8: =IF(A8=0,0,IF(C8<TODAY(),MONTH($C8),0)) -> 0 | C8: =Hébergement!C8 -> 43103
A9: =IF(MONTH(C9)=MONTH(TODAY()),1,0) -> 0 | B9: =IF(A9=0,0,IF(C9<TODAY(),MONTH($C9),0)) -> 0 | C9: =Hébergement!C9 -> 43104
A10: =IF(MONTH(C10)=MONTH(TODAY()),1,0) -> 0 | B10: =IF(A10=0,0,IF(C10<TODAY(),MONTH($C10),0)) -> 0 | C10: =Hébergement!C10 -> 43105
A11: =IF(MONTH(C11)=MONTH(TODAY()),1,0) -> 0 | B11: =IF(A11=0,0,IF(C11<TODAY(),MONTH($C11),0)) -> 0 | C11: =Hébergement!C11 -> 43106
A12: =IF(MONTH(C12)=MONTH(TODAY()),1,0) -> 0 | B12: =IF(A12=0,0,IF(C12<TODAY(),MONTH($C12),0)) -> 0 | C12: =Hébergement!C12 -> 43107 | AE12: =AA12/[1]Données!$K$11 -> 0 | AF12: =Y12/[1]Données!$K$10 -> 0 | AG12: =AA12 -> 0 | AH12: =Y12+AB12 -> 0
A13: =IF(MONTH(C13)=MONTH(TODAY()),1,0) -> 0 | B13: =IF(A13=0,0,IF(C13<TODAY(),MONTH($C13),0)) -> 0 | C13: =Hébergement!C13 -> 43108 | AE13: =AA13/[1]Données!$K$11 -> 0 | AF13: =Y13/[1]Données!$K$10 -> 0 | AG13: =AA13 -> 0 | AH13: =Y13+AB13 -> 0
A14: =IF(MONTH(C14)=MONTH(TODAY()),1,0) -> 0 | B14: =IF(A14=0,0,IF(C14<TODAY(),MONTH($C14),0)) -> 0 | C14: =Hébergement!C14 -> 43109 | AE14: =AA14/[1]Données!$K$11 -> 0 | AF14: =Y14/[1]Données!$K$10 -> 0 | AG14: =AA14 -> 0 | AH14: =Y14+AB14 -> 0
A15: =IF(MONTH(C15)=MONTH(TODAY()),1,0) -> 0 | B15: =IF(A15=0,0,IF(C15<TODAY(),MONTH($C15),0)) -> 0 | C15: =Hébergement!C15 -> 43110 | AE15: =AA15/[1]Données!$K$11 -> 0 | AF15: =Y15/[1]Données!$K$10 -> 0 | AG15: =AA15 -> 0 | AH15: =Y15+AB15 -> 0
A16: =IF(MONTH(C16)=MONTH(TODAY()),1,0) -> 0 | B16: =IF(A16=0,0,IF(C16<TODAY(),MONTH($C16),0)) -> 0 | C16: =Hébergement!C16 -> 43111 | AE16: =AA16/[1]Données!$K$11 -> 0 | AF16: =Y16/[1]Données!$K$10 -> 0 | AG16: =AA16 -> 0 | AH16: =Y16+AB16 -> 0
A17: =IF(MONTH(C17)=MONTH(TODAY()),1,0) -> 0 | B17: =IF(A17=0,0,IF(C17<TODAY(),MONTH($C17),0)) -> 0 | C17: =Hébergement!C17 -> 43112 | AE17: =AA17/[1]Données!$K$11 -> 0 | AF17: =Y17/[1]Données!$K$10 -> 0 | AG17: =AA17 -> 0 | AH17: =Y17+AB17 -> 0
A18: =IF(MONTH(C18)=MONTH(TODAY()),1,0) -> 0 | B18: =IF(A18=0,0,IF(C18<TODAY(),MONTH($C18),0)) -> 0 | C18: =Hébergement!C18 -> 43113 | AE18: =AA18/[1]Données!$K$11 -> 0 | AF18: =Y18/[1]Données!$K$10 -> 0 | AG18: =AA18 -> 0 | AH18: =Y18+AB18 -> 0
A19: =IF(MONTH(C19)=MONTH(TODAY()),1,0) -> 0 | B19: =IF(A19=0,0,IF(C19<TODAY(),MONTH($C19),0)) -> 0 | C19: =Hébergement!C19 -> 43114 | AE19: =AA19/[1]Données!$K$11 -> 0 | AF19: =Y19/[1]Données!$K$10 -> 0 | AG19: =AA19 -> 0 | AH19: =Y19+AB19 -> 0
A20: =IF(MONTH(C20)=MONTH(TODAY()),1,0) -> 0 | B20: =IF(A20=0,0,IF(C20<TODAY(),MONTH($C20),0)) -> 0 | C20: =Hébergement!C20 -> 43115 | AE20: =AA20/[1]Données!$K$11 -> 0 | AF20: =Y20/[1]Données!$K$10 -> 0 | AG20: =AA20 -> 0 | AH20: =Y20+AB20 -> 0
A21: =IF(MONTH(C21)=MONTH(TODAY()),1,0) -> 0 | B21: =IF(A21=0,0,IF(C21<TODAY(),MONTH($C21),0)) -> 0 | C21: =Hébergement!C21 -> 43116 | AE21: =AA21/[1]Données!$K$11 -> 0 | AF21: =Y21/[1]Données!$K$10 -> 0 | AG21: =AA21 -> 0 | AH21: =Y21+AB21 -> 0
A22: =IF(MONTH(C22)=MONTH(TODAY()),1,0) -> 0 | B22: =IF(A22=0,0,IF(C22<TODAY(),MONTH($C22),0)) -> 0 | C22: =Hébergement!C22 -> 43117 | AE22: =AA22/[1]Données!$K$11 -> 0 | AF22: =Y22/[1]Données!$K$10 -> 0 | AG22: =AA22 -> 0 | AH22: =Y22+AB22 -> 0
A23: =IF(MONTH(C23)=MONTH(TODAY()),1,0) -> 0 | B23: =IF(A23=0,0,IF(C23<TODAY(),MONTH($C23),0)) -> 0 | C23: =Hébergement!C23 -> 43118 | AE23: =AA23/[1]Données!$K$11 -> 0 | AF23: =Y23/[1]Données!$K$10 -> 0 | AG23: =AA23 -> 0 | AH23: =Y23+AB23 -> 0
... A36: =IF(MONTH(C36)=MONTH(TODAY()),1,0) -> 0 | B36: =IF(A36=0,0,IF(C36<TODAY(),MONTH($C36),0)) -> 0 | C36: =Hébergement!C36 -> 43131 | AE36: =AA36/[1]Données!$K$11 -> 0 | AF36: =Y36/[1]Données!$K$10 -> 0 | AG36: =AA36 -> 0 | AH36: =Y36+AB36 -> 0
A37: =IF(MONTH(C37)=MONTH(TODAY()),1,0) -> 0 | B37: =IF(A37=0,IF(C37<TODAY(),MONTH($C37),0),0) -> 2 | C37: =Hébergement!C37 -> 43132 | AE37: =AA37/[1]Données!$K$11 -> 0 | AF37: =Y37/[1]Données!$K$10 -> 0 | AG37: =AA37 -> 0 | AH37: =Y37+AB37 -> 0
A38: =IF(MONTH(C38)=MONTH(TODAY()),1,0) -> 0 | B38: =IF(A38=0,IF(C38<TODAY(),MONTH($C38),0),0) -> 2 | C38: =Hébergement!C38 -> 43133 | AE38: =AA38/[1]Données!$K$11 -> 0 | AF38: =Y38/[1]Données!$K$10 -> 0 | AG38: =AA38 -> 0 | AH38: =Y38+AB38 -> 0
A39: =IF(MONTH(C39)=MONTH(TODAY()),1,0) -> 0 | B39: =IF(A39=0,IF(C39<TODAY(),MONTH($C39),0),0) -> 2 | C39: =Hébergement!C39 -> 43134 | AE39: =AA39/[1]Données!$K$11 -> 0 | AF39: =Y39/[1]Données!$K$10 -> 0 | AG39: =AA39 -> 0 | AH39: =Y39+AB39 -> 0
A40: =IF(MONTH(C40)=MONTH(TODAY()),1,0) -> 0 | B40: =IF(A40=0,IF(C40<TODAY(),MONTH($C40),0),0) -> 2 | C40: =Hébergement!C40 -> 43135 | AE40: =AA40/[1]Données!$K$11 -> 0 | AF40: =Y40/[1]Données!$K$10 -> 0 | AG40: =AA40 -> 0 | AH40: =Y40+AB40 -> 0
A41: =IF(MONTH(C41)=MONTH(TODAY()),1,0) -> 0 | B41: =IF(A41=0,IF(C41<TODAY(),MONTH($C41),0),0) -> 2 | C41: =Hébergement!C41 -> 43136 | AE41: =AA41/[1]Données!$K$11 -> 0 | AF41: =Y41/[1]Données!$K$10 -> 0 | AG41: =AA41 -> 0 | AH41: =Y41+AB41 -> 0
A42: =IF(MONTH(C42)=MONTH(TODAY()),1,0) -> 0 | B42: =IF(A42=0,IF(C42<TODAY(),MONTH($C42),0),0) -> 2 | C42: =Hébergement!C42 -> 43137 | AE42: =AA42/[1]Données!$K$11 -> 0 | AF42: =Y42/[1]Données!$K$10 -> 0 | AG42: =AA42 -> 0 | AH42: =Y42+AB42 -> 0
A43: =IF(MONTH(C43)=MONTH(TODAY()),1,0) -> 0 | B43: =IF(A43=0,IF(C43<TODAY(),MONTH($C43),0),0) -> 2 | C43: =Hébergement!C43 -> 43138 | AE43: =AA43/[1]Données!$K$11 -> 0 | AF43: =Y43/[1]Données!$K$10 -> 0 | AG43: =AA43 -> 0 | AH43: =Y43+AB43 -> 0
A44: =IF(MONTH(C44)=MONTH(TODAY()),1,0) -> 0 | B44: =IF(A44=0,IF(C44<TODAY(),MONTH($C44),0),0) -> 2 | C44: =Hébergement!C44 -> 43139 | AE44: =AA44/[1]Données!$K$11 -> 0 | AF44: =Y44/[1]Données!$K$10 -> 0 | AG44: =AA44 -> 0 | AH44: =Y44+AB44 -> 0
A45: =IF(MONTH(C45)=MONTH(TODAY()),1,0) -> 0 | B45: =IF(A45=0,IF(C45<TODAY(),MONTH($C45),0),0) -> 2 | C45: =Hébergement!C45 -> 43140 | AE45: =AA45/[1]Données!$K$11 -> 0 | AF45: =Y45/[1]Données!$K$10 -> 0 | AG45: =AA45 -> 0 | AH45: =Y45+AB45 -> 0
A46: =IF(MONTH(C46)=MONTH(TODAY()),1,0) -> 0 | B46: =IF(A46=0,IF(C46<TODAY(),MONTH($C46),0),0) -> 2 | C46: =Hébergement!C46 -> 43141 | AE46: =AA46/[1]Données!$K$11 -> 0 | AF46: =Y46/[1]Données!$K$10 -> 0 | AG46: =AA46 -> 0 | AH46: =Y46+AB46 -> 0
A47: =IF(MONTH(C47)=MONTH(TODAY()),1,0) -> 0 | B47: =IF(A47=0,IF(C47<TODAY(),MONTH($C47),0),0) -> 2 | C47: =Hébergement!C47 -> 43142 | AE47: =AA47/[1]Données!$K$11 -> 0 | AF47: =Y47/[1]Données!$K$10 -> 0 | AG47: =AA47 -> 0 | AH47: =Y47+AB47 -> 0
A48: =IF(MONTH(C48)=MONTH(TODAY()),1,0) -> 0 | B48: =IF(A48=0,IF(C48<TODAY(),MONTH($C48),0),0) -> 2 | C48: =Hébergement!C48 -> 43143 | AE48: =AA48/[1]Données!$K$11 -> 0 | AF48: =Y48/[1]Données!$K$10 -> 0 | AG48: =AA48 -> 0 | AH48: =Y48+AB48 -> 0
... A64: =IF(MONTH(C64)=MONTH(TODAY()),1,0) -> 0 | B64: =IF(A64=0,IF(C64<TODAY(),MONTH($C64),0),0) -> 2 | C64: =Hébergement!C64 -> 43159 | AE64: =AA64/[1]Données!$K$11 -> 0 | AF64: =Y64/[1]Données!$K$10 -> 0 | AG64: =AA64 -> 0 | AH64: =Y64+AB64 -> 0
A65: =IF(MONTH(C65)=MONTH(TODAY()),1,0) -> 0 | B65: =IF(C65<TODAY(),MONTH($C65),0) -> 3 | C65: =Hébergement!C65 -> 43160 | AE65: =AA65/[1]Données!$K$11 -> 0 | AF65: =Y65/[1]Données!$K$10 -> 0 | AG65: =AA65 -> 0 | AH65: =Y65+AB65 -> 0
A66: =IF(MONTH(C66)=MONTH(TODAY()),1,0) -> 0 | B66: =IF(C66<TODAY(),MONTH($C66),0) -> 3 | C66: =Hébergement!C66 -> 43161 | AE66: =AA66/[1]Données!$K$11 -> 0 | AF66: =Y66/[1]Données!$K$10 -> 0 | AG66: =AA66 -> 0 | AH66: =Y66+AB66 -> 0
A67: =IF(MONTH(C67)=MONTH(TODAY()),1,0) -> 0 | B67: =IF(C67<TODAY(),MONTH($C67),0) -> 3 | C67: =Hébergement!C67 -> 43162 | AE67: =AA67/[1]Données!$K$11 -> 0 | AF67: =Y67/[1]Données!$K$10 -> 0 | AG67: =AA67 -> 0 | AH67: =Y67+AB67 -> 0
A68: =IF(MONTH(C68)=MONTH(TODAY()),1,0) -> 0 | B68: =IF(C68<TODAY(),MONTH($C68),0) -> 3 | C68: =Hébergement!C68 -> 43163 | AE68: =AA68/[1]Données!$K$11 -> 0 | AF68: =Y68/[1]Données!$K$10 -> 0 | AG68: =AA68 -> 0 | AH68: =Y68+AB68 -> 0
A69: =IF(MONTH(C69)=MONTH(TODAY()),1,0) -> 0 | B69: =IF(C69<TODAY(),MONTH($C69),0) -> 3 | C69: =Hébergement!C69 -> 43164 | AE69: =AA69/[1]Données!$K$11 -> 0 | AF69: =Y69/[1]Données!$K$10 -> 0 | AG69: =AA69 -> 0 | AH69: =Y69+AB69 -> 0
A70: =IF(MONTH(C70)=MONTH(TODAY()),1,0) -> 0 | B70: =IF(C70<TODAY(),MONTH($C70),0) -> 3 | C70: =Hébergement!C70 -> 43165 | AE70: =AA70/[1]Données!$K$11 -> 0 | AF70: =Y70/[1]Données!$K$10 -> 0 | AG70: =AA70 -> 0 | AH70: =Y70+AB70 -> 0
A71: =IF(MONTH(C71)=MONTH(TODAY()),1,0) -> 0 | B71: =IF(C71<TODAY(),MONTH($C71),0) -> 3 | C71: =Hébergement!C71 -> 43166 | AE71: =AA71/[1]Données!$K$11 -> 0 | AF71: =Y71/[1]Données!$K$10 -> 0 | AG71: =AA71 -> 0 | AH71: =Y71+AB71 -> 0
...
