Workbook

Sheet Paramètres
B3: ANNEE CIVILE : | C3: 2018
B4: BUREAU :
B6: ="Tarifs "&C3 -> Tarifs 2018
B7: Type | C7: Mission | D7: De 1 à 5 salariés | E7: De 6 à 10 salariés | F7: Au-delà de 10 salariés | H7: Liste bureaux | J7: Liste collaborateurs | K7: Code couleur
B8: Forfaits SO1 Mission social | C8: Bulletins (tarif unitaire) | D8: 21.5 | E8: 18.5 | F8: 15.5 | H8: Perpignan | J8: Anne-Marie Subra
C9: Bulletins refaits (tarif unitaire) | D9: =D8/2 -> 10.75 | E9: =E8/2 -> 9.25 | F9: =F8/2 -> 7.75 | H9: Planchand | J9: Brigitte Cayo
C10: Forfait gestion sociale | D10: 80 | E10: 100 | F10: 150 | H10: Saint Estève | J10: Clara Bouneggar
C11: Forfait création | D11: 90 | E11: 90 | F11: 90 | H11: Argelès sur Mer | J11: Francoise Olive
C12: Forfait reprise | D12: 130 | E12: 200 | F12: 300 | H12: Tous les sites | J12: Mehdi Chaal
B13: Missions ponctuelles SO2 Social conseil | C13: Divers | D13: 0 | E13: =D13 -> 0 | F13: =E13 -> 0 | J13: Nazha Hassani
C14: Lettre de promesse d'embauche | D14: 20 | E14: =D14 -> 20 | F14: =E14 -> 20 | J14: Sebastien Terrie
C15: Déclaration préalable à l'embauche | D15: 10 | E15: =D15 -> 10 | F15: =E15 -> 10 | J15: Severine Lencou
C16: Contrat de travail classique | D16: 45 | E16: =D16 -> 45 | F16: =E16 -> 45 | J16: Victoria Peron
C17: Contrat de travail spécifique | D17: 90 | E17: =D17 -> 90 | F17: =E17 -> 90 | J17: Tous les collaborateurs
C18: Avenant contrat classique | D18: 20 | E18: =D18 -> 20 | F18: =E18 -> 20
C19: Avenant contrat spécifique | D19: 0 | E19: =D19 -> 0 | F19: =E19 -> 0
C20: Contrat CERFA appentissage | D20: 45 | E20: =D20 -> 45 | F20: =E20 -> 45
C21: Constat de rupture à l'amiable CDD | D21: 30 | E21: =D21 -> 30 | F21: =E21 -> 30
C22: Rupture contrat d'apprentissage | D22: 30 | E22: =D22 -> 30 | F22: =E22 -> 30
C23: Documents de fin de contrat | D23: 22 | E23: =D23 -> 22 | F23: =E23 -> 22
C24: Déclaration accident de travail | D24: 30 | E24: =D24 -> 30 | F24: =E24 -> 30
C25: DSN évenementielle | D25: 7 | E25: =D25 -> 7 | F25: =E25 -> 7
C26: Avenant de renouvell. périoade essai | D26: 20 | E26: =D26 -> 20 | F26: =E26 -> 20
C27: Courrier info fin de période d'essai | D27: 20 | E27: =D27 -> 20 | F27: =E27 -> 20
C28: Courrier rupture période d'essai | D28: 20 | E28: =D28 -> 20 | F28: =E28 -> 20
C29: Simul bulletin salaire | D29: 15 | E29: =D29 -> 15 | F29: =E29 -> 15
... C32: Courrier salariés / administratif | D32: 15 | E32: =D32 -> 15 | F32: =E32 -> 15
B33: Missions exceptionnelles | C33: Licenciement économique individuel | D33: 650 | E33: =D33 -> 650 | F33: =E33 -> 650
C34: Licenciement économique collectif | E34: =D34 -> 0 | F34: =E34 -> 0
C35: Licenciement inaptitude | D35: 650 | E35: =D35 -> 650 | F35: =E35 -> 650
C36: Licenciement motif personnel | D36: 550 | E36: =D36 -> 550 | F36: =E36 -> 550
C37: Licenciement fin de chantier | D37: 250 | E37: =D37 -> 250 | F37: =E37 -> 250
C38: Rupture conventionnelle | D38: 450 | E38: =D38 -> 450 | F38: =E38 -> 450
C39: Procédure de mise à pied | D39: 250 | E39: =D39 -> 250 | F39: =E39 -> 250
C40: Assist. mise en place activ. partielle | D40: 40 | E40: =D40 -> 40 | F40: =E40 -> 40
C41: Assist. état mensuel activ. partielle | D41: 35 | E41: =D41 -> 35 | F41: =E41 -> 35
C42: Assist. contrôle URSSAF | E42: =D42 -> 0 | F42: =E42 -> 0
C43: Audit social complet | E43: =D43 -> 0 | F43: =E43 -> 0
C44: Assist. réalisation paye sur site | E44: =D44 -> 0 | F44: =E44 -> 0
C45: Mise en conformité décision unilatérale | E45: =D45 -> 0 | F45: =E45 -> 0
...

Sheet Totaux mensuels
B2: Nom client : | D2: =MID(CELL("nomfichier",A1),FIND("]",CELL("nomfichier",A1))+1,32) -> Totaux mensuels
B3: N° client : | D3: 5100000
B4: ="Collaborateur (dossiers "&Paramètres!C4&")" -> Collaborateur (dossiers ) | D4: Tous les collaborateurs
B5: Site | D5: Tous les sites
B6: Effectif moyen prévu : | C6: =IF(D6=Paramètres!D7,2,IF(D6=Paramètres!E7,3,IF(D6=Paramètres!F7,4,"erreur"))) -> 2 | D6: De 1 à 5 salariés
B7: =CONCATENATE(D4,"_",D5) -> Tous les collaborateurs_Tous les sites
B8: Informations utiles au dossier :
B15: Missions | D15: Janvier | G15: Février | J15: Mars | M15: Avril | P15: Mai | S15: Juin | V15: Juillet | Y15: Août | AB15: Septembre | AE15: Octobre | AH15: Novembre | AK15: Décembre | AN15: TOTAL
D16: Qté | E16: P.U. | F16: Montant | G16: Qté | H16: P.U. | I16: Montant | J16: Qté | K16: P.U. | L16: Montant | M16: Qté | N16: P.U. | O16: Montant | P16: Qté | Q16: P.U. | R16: Montant | S16: Qté | T16: P.U. | U16: Montant | V16: Qté | W16: P.U. | X16: Montant | Y16: Qté | Z16: P.U. | AA16: Montant | AB16: Qté | AC16: P.U. | AD16: Montant | AE16: Qté | AF16: P.U. | AG16: Montant | AH16: Qté | AI16: P.U. | AJ16: Montant | AK16: Qté | AL16: P.U. | AM16: Montant | AN16: Qté | AO16: P.U. | AP16: Montant
B17: =Paramètres!C8 -> Bulletins (tarif unitaire) | C17: =IF(AP17>0,"X","") | E17: =IF(D17=0,VLOOKUP($B17,[1]Paramètres!$C$7:$F$55,$C$6,FALSE),F17/D17) -> 21.5 | H17: =IF(G17=0,VLOOKUP($B17,[1]Paramètres!$C$7:$F$55,$C$6,FALSE),I17/G17) -> 21.5 | K17: =IF(J17=0,VLOOKUP($B17,[1]Paramètres!$C$7:$F$55,$C$6,FALSE),L17/J17) -> 21.5 | N17: =IF(M17=0,VLOOKUP($B17,[1]Paramètres!$C$7:$F$55,$C$6,FALSE),O17/M17) -> 21.5 | Q17: =IF(P17=0,VLOOKUP($B17,[1]Paramètres!$C$7:$F$55,$C$6,FALSE),R17/P17) -> 21.5 | T17: =IF(S17=0,VLOOKUP($B17,[1]Paramètres!$C$7:$F$55,$C$6,FALSE),U17/S17) -> 21.5 | W17: =IF(V17=0,VLOOKUP($B17,[1]Paramètres!$C$7:$F$55,$C$6,FALSE),X17/V17) -> 21.5 | Z17: =IF(Y17=0,VLOOKUP($B17,[1]Paramètres!$C$7:$F$55,$C$6,FALSE),AA17/Y17) -> 21.5 | AC17: =IF(AB17=0,VLOOKUP($B17,[1]Paramètres!$C$7:$F$55,$C$6,FALSE),AD17/AB17) -> 21.5 | AF17: =IF(AE17=0,VLOOKUP($B17,[1]Paramètres!$C$7:$F$55,$C$6,FALSE),AG17/AE17) -> 21.5 | AI17: =IF(AH17=0,VLOOKUP($B17,[1]Paramètres!$C$7:$F$55,$C$6,FALSE),AJ17/AH17) -> 21.5 | AL17: =IF(AK17=0,VLOOKUP($B17,[1]Paramètres!$C$7:$F$55,$C$6,FALSE),AM17/AK17) -> 21.5 | AN17: =SUM(D17,G17,J17,M17,P17,S17,V17,Y17,AB17,AE17,AH17,AK17) -> 0 | AO17: =VLOOKUP($B17,[1]Paramètres!$C$7:$F$55,$C$6,FALSE) -> 21.5 | AP17: =SUM(F17,I17,L17,O17,R17,U17,X17,AA17,AD17,AG17,AJ17,AM17) -> 0
B18: =[1]Paramètres!C9 -> Bulletins refaits (tarif unitaire) | C18: =IF(AP18>0,"X","") | E18: =IF(D18=0,VLOOKUP($B18,[1]Paramètres!$C$7:$F$55,$C$6,FALSE),F18/D18) -> 10.75 | H18: =IF(G18=0,VLOOKUP($B18,[1]Paramètres!$C$7:$F$55,$C$6,FALSE),I18/G18) -> 10.75 | K18: =IF(J18=0,VLOOKUP($B18,[1]Paramètres!$C$7:$F$55,$C$6,FALSE),L18/J18) -> 10.75 | N18: =IF(M18=0,VLOOKUP($B18,[1]Paramètres!$C$7:$F$55,$C$6,FALSE),O18/M18) -> 10.75 | Q18: =IF(P18=0,VLOOKUP($B18,[1]Paramètres!$C$7:$F$55,$C$6,FALSE),R18/P18) -> 10.75 | T18: =IF(S18=0,VLOOKUP($B18,[1]Paramètres!$C$7:$F$55,$C$6,FALSE),U18/S18) -> 10.75 | W18: =IF(V18=0,VLOOKUP($B18,[1]Paramètres!$C$7:$F$55,$C$6,FALSE),X18/V18) -> 10.75 | Z18: =IF(Y18=0,VLOOKUP($B18,[1]Paramètres!$C$7:$F$55,$C$6,FALSE),AA18/Y18) -> 10.75 | AC18: =IF(AB18=0,VLOOKUP($B18,[1]Paramètres!$C$7:$F$55,$C$6,FALSE),AD18/AB18) -> 10.75 | AF18: =IF(AE18=0,VLOOKUP($B18,[1]Paramètres!$C$7:$F$55,$C$6,FALSE),AG18/AE18) -> 10.75 | AI18: =IF(AH18=0,VLOOKUP($B18,[1]Paramètres!$C$7:$F$55,$C$6,FALSE),AJ18/AH18) -> 10.75 | AL18: =IF(AK18=0,VLOOKUP($B18,[1]Paramètres!$C$7:$F$55,$C$6,FALSE),AM18/AK18) -> 10.75 | AN18: =SUM(D18,G18,J18,M18,P18,S18,V18,Y18,AB18,AE18,AH18,AK18) -> 0 | AO18: =VLOOKUP($B18,[1]Paramètres!$C$7:$F$55,$C$6,FALSE) -> 10.75 | AP18: =SUM(F18,I18,L18,O18,R18,U18,X18,AA18,AD18,AG18,AJ18,AM18) -> 0
B19: =[1]Paramètres!C10 -> Forfait gestion sociale | C19: =IF(AP19>0,"X","") | E19: =IF(D19=0,VLOOKUP($B19,[1]Paramètres!$C$7:$F$55,$C$6,FALSE),F19/D19) -> 80 | H19: =IF(G19=0,VLOOKUP($B19,[1]Paramètres!$C$7:$F$55,$C$6,FALSE),I19/G19) -> 80 | K19: =IF(J19=0,VLOOKUP($B19,[1]Paramètres!$C$7:$F$55,$C$6,FALSE),L19/J19) -> 80 | N19: =IF(M19=0,VLOOKUP($B19,[1]Paramètres!$C$7:$F$55,$C$6,FALSE),O19/M19) -> 80 | Q19: =IF(P19=0,VLOOKUP($B19,[1]Paramètres!$C$7:$F$55,$C$6,FALSE),R19/P19) -> 80 | T19: =IF(S19=0,VLOOKUP($B19,[1]Paramètres!$C$7:$F$55,$C$6,FALSE),U19/S19) -> 80 | W19: =IF(V19=0,VLOOKUP($B19,[1]Paramètres!$C$7:$F$55,$C$6,FALSE),X19/V19) -> 80 | Z19: =IF(Y19=0,VLOOKUP($B19,[1]Paramètres!$C$7:$F$55,$C$6,FALSE),AA19/Y19) -> 80 | AC19: =IF(AB19=0,VLOOKUP($B19,[1]Paramètres!$C$7:$F$55,$C$6,FALSE),AD19/AB19) -> 80 | AF19: =IF(AE19=0,VLOOKUP($B19,[1]Paramètres!$C$7:$F$55,$C$6,FALSE),AG19/AE19) -> 80 | AI19: =IF(AH19=0,VLOOKUP($B19,[1]Paramètres!$C$7:$F$55,$C$6,FALSE),AJ19/AH19) -> 80 | AL19: =IF(AK19=0,VLOOKUP($B19,[1]Paramètres!$C$7:$F$55,$C$6,FALSE),AM19/AK19) -> 80 | AN19: =SUM(D19,G19,J19,M19,P19,S19,V19,Y19,AB19,AE19,AH19,AK19) -> 0 | AO19: =VLOOKUP($B19,[1]Paramètres!$C$7:$F$55,$C$6,FALSE) -> 80 | AP19: =SUM(F19,I19,L19,O19,R19,U19,X19,AA19,AD19,AG19,AJ19,AM19) -> 0
B20: =[1]Paramètres!C11 -> Forfait création | C20: =IF(AP20>0,"X","") | E20: =IF(D20=0,VLOOKUP($B20,[1]Paramètres!$C$7:$F$55,$C$6,FALSE),F20/D20) -> 90 | H20: =IF(G20=0,VLOOKUP($B20,[1]Paramètres!$C$7:$F$55,$C$6,FALSE),I20/G20) -> 90 | K20: =IF(J20=0,VLOOKUP($B20,[1]Paramètres!$C$7:$F$55,$C$6,FALSE),L20/J20) -> 90 | N20: =IF(M20=0,VLOOKUP($B20,[1]Paramètres!$C$7:$F$55,$C$6,FALSE),O20/M20) -> 90 | Q20: =IF(P20=0,VLOOKUP($B20,[1]Paramètres!$C$7:$F$55,$C$6,FALSE),R20/P20) -> 90 | T20: =IF(S20=0,VLOOKUP($B20,[1]Paramètres!$C$7:$F$55,$C$6,FALSE),U20/S20) -> 90 | W20: =IF(V20=0,VLOOKUP($B20,[1]Paramètres!$C$7:$F$55,$C$6,FALSE),X20/V20) -> 90 | Z20: =IF(Y20=0,VLOOKUP($B20,[1]Paramètres!$C$7:$F$55,$C$6,FALSE),AA20/Y20) -> 90 | AC20: =IF(AB20=0,VLOOKUP($B20,[1]Paramètres!$C$7:$F$55,$C$6,FALSE),AD20/AB20) -> 90 | AF20: =IF(AE20=0,VLOOKUP($B20,[1]Paramètres!$C$7:$F$55,$C$6,FALSE),AG20/AE20) -> 90 | AI20: =IF(AH20=0,VLOOKUP($B20,[1]Paramètres!$C$7:$F$55,$C$6,FALSE),AJ20/AH20) -> 90 | AL20: =IF(AK20=0,VLOOKUP($B20,[1]Paramètres!$C$7:$F$55,$C$6,FALSE),AM20/AK20) -> 90 | AN20: =SUM(D20,G20,J20,M20,P20,S20,V20,Y20,AB20,AE20,AH20,AK20) -> 0 | AO20: =VLOOKUP($B20,[1]Paramètres!$C$7:$F$55,$C$6,FALSE) -> 90 | AP20: =SUM(F20,I20,L20,O20,R20,U20,X20,AA20,AD20,AG20,AJ20,AM20) -> 0
B21: =[1]Paramètres!C12 -> Forfait reprise | C21: =IF(AP21>0,"X","") | E21: =IF(D21=0,VLOOKUP($B21,[1]Paramètres!$C$7:$F$55,$C$6,FALSE),F21/D21) -> 130 | H21: =IF(G21=0,VLOOKUP($B21,[1]Paramètres!$C$7:$F$55,$C$6,FALSE),I21/G21) -> 130 | K21: =IF(J21=0,VLOOKUP($B21,[1]Paramètres!$C$7:$F$55,$C$6,FALSE),L21/J21) -> 130 | N21: =IF(M21=0,VLOOKUP($B21,[1]Paramètres!$C$7:$F$55,$C$6,FALSE),O21/M21) -> 130 | Q21: =IF(P21=0,VLOOKUP($B21,[1]Paramètres!$C$7:$F$55,$C$6,FALSE),R21/P21) -> 130 | T21: =IF(S21=0,VLOOKUP($B21,[1]Paramètres!$C$7:$F$55,$C$6,FALSE),U21/S21) -> 130 | W21: =IF(V21=0,VLOOKUP($B21,[1]Paramètres!$C$7:$F$55,$C$6,FALSE),X21/V21) -> 130 | Z21: =IF(Y21=0,VLOOKUP($B21,[1]Paramètres!$C$7:$F$55,$C$6,FALSE),AA21/Y21) -> 130 | AC21: =IF(AB21=0,VLOOKUP($B21,[1]Paramètres!$C$7:$F$55,$C$6,FALSE),AD21/AB21) -> 130 | AF21: =IF(AE21=0,VLOOKUP($B21,[1]Paramètres!$C$7:$F$55,$C$6,FALSE),AG21/AE21) -> 130 | AI21: =IF(AH21=0,VLOOKUP($B21,[1]Paramètres!$C$7:$F$55,$C$6,FALSE),AJ21/AH21) -> 130 | AL21: =IF(AK21=0,VLOOKUP($B21,[1]Paramètres!$C$7:$F$55,$C$6,FALSE),AM21/AK21) -> 130 | AN21: =SUM(D21,G21,J21,M21,P21,S21,V21,Y21,AB21,AE21,AH21,AK21) -> 0 | AO21: =VLOOKUP($B21,[1]Paramètres!$C$7:$F$55,$C$6,FALSE) -> 130 | AP21: =SUM(F21,I21,L21,O21,R21,U21,X21,AA21,AD21,AG21,AJ21,AM21) -> 0
B22: TOTAL SO1 Mission social | C22: X | AP22: =SUM(AP17:AP21) -> 0
B23: =[1]Paramètres!C13 -> Divers | C23: =IF(AP23>0,"X","") | E23: =IF(D23=0,VLOOKUP($B23,[1]Paramètres!$C$7:$F$55,$C$6,FALSE),F23/D23) -> 0 | H23: =IF(G23=0,VLOOKUP($B23,[1]Paramètres!$C$7:$F$55,$C$6,FALSE),I23/G23) -> 0 | K23: =IF(J23=0,VLOOKUP($B23,[1]Paramètres!$C$7:$F$55,$C$6,FALSE),L23/J23) -> 0 | N23: =IF(M23=0,VLOOKUP($B23,[1]Paramètres!$C$7:$F$55,$C$6,FALSE),O23/M23) -> 0 | Q23: =IF(P23=0,VLOOKUP($B23,[1]Paramètres!$C$7:$F$55,$C$6,FALSE),R23/P23) -> 0 | T23: =IF(S23=0,VLOOKUP($B23,[1]Paramètres!$C$7:$F$55,$C$6,FALSE),U23/S23) -> 0 | W23: =IF(V23=0,VLOOKUP($B23,[1]Paramètres!$C$7:$F$55,$C$6,FALSE),X23/V23) -> 0 | Z23: =IF(Y23=0,VLOOKUP($B23,[1]Paramètres!$C$7:$F$55,$C$6,FALSE),AA23/Y23) -> 0 | AC23: =IF(AB23=0,VLOOKUP($B23,[1]Paramètres!$C$7:$F$55,$C$6,FALSE),AD23/AB23) -> 0 | AF23: =IF(AE23=0,VLOOKUP($B23,[1]Paramètres!$C$7:$F$55,$C$6,FALSE),AG23/AE23) -> 0 | AI23: =IF(AH23=0,VLOOKUP($B23,[1]Paramètres!$C$7:$F$55,$C$6,FALSE),AJ23/AH23) -> 0 | AL23: =IF(AK23=0,VLOOKUP($B23,[1]Paramètres!$C$7:$F$55,$C$6,FALSE),AM23/AK23) -> 0 | AN23: =SUM(D23,G23,J23,M23,P23,S23,V23,Y23,AB23,AE23,AH23,AK23) -> 0 | AO23: =VLOOKUP($B23,[1]Paramètres!$C$7:$F$55,$C$6,FALSE) -> 0 | AP23: =SUM(F23,I23,L23,O23,R23,U23,X23,AA23,AD23,AG23,AJ23,AM23) -> 0
B24: =[1]Paramètres!C14 -> Lettre de promesse d'embauche | C24: =IF(AP24>0,"X","") | E24: =IF(D24=0,VLOOKUP($B24,[1]Paramètres!$C$7:$F$55,$C$6,FALSE),F24/D24) -> 20 | H24: =IF(G24=0,VLOOKUP($B24,[1]Paramètres!$C$7:$F$55,$C$6,FALSE),I24/G24) -> 20 | K24: =IF(J24=0,VLOOKUP($B24,[1]Paramètres!$C$7:$F$55,$C$6,FALSE),L24/J24) -> 20 | N24: =IF(M24=0,VLOOKUP($B24,[1]Paramètres!$C$7:$F$55,$C$6,FALSE),O24/M24) -> 20 | Q24: =IF(P24=0,VLOOKUP($B24,[1]Paramètres!$C$7:$F$55,$C$6,FALSE),R24/P24) -> 20 | T24: =IF(S24=0,VLOOKUP($B24,[1]Paramètres!$C$7:$F$55,$C$6,FALSE),U24/S24) -> 20 | W24: =IF(V24=0,VLOOKUP($B24,[1]Paramètres!$C$7:$F$55,$C$6,FALSE),X24/V24) -> 20 | Z24: =IF(Y24=0,VLOOKUP($B24,[1]Paramètres!$C$7:$F$55,$C$6,FALSE),AA24/Y24) -> 20 | AC24: =IF(AB24=0,VLOOKUP($B24,[1]Paramètres!$C$7:$F$55,$C$6,FALSE),AD24/AB24) -> 20 | AF24: =IF(AE24=0,VLOOKUP($B24,[1]Paramètres!$C$7:$F$55,$C$6,FALSE),AG24/AE24) -> 20 | AI24: =IF(AH24=0,VLOOKUP($B24,[1]Paramètres!$C$7:$F$55,$C$6,FALSE),AJ24/AH24) -> 20 | AL24: =IF(AK24=0,VLOOKUP($B24,[1]Paramètres!$C$7:$F$55,$C$6,FALSE),AM24/AK24) -> 20 | AN24: =SUM(D24,G24,J24,M24,P24,S24,V24,Y24,AB24,AE24,AH24,AK24) -> 0 | AO24: =VLOOKUP($B24,[1]Paramètres!$C$7:$F$55,$C$6,FALSE) -> 20 | AP24: =SUM(F24,I24,L24,O24,R24,U24,X24,AA24,AD24,AG24,AJ24,AM24) -> 0
B25: =[1]Paramètres!C15 -> Déclaration préalable à l'embauche | C25: =IF(AP25>0,"X","") | E25: =IF(D25=0,VLOOKUP($B25,[1]Paramètres!$C$7:$F$55,$C$6,FALSE),F25/D25) -> 10 | H25: =IF(G25=0,VLOOKUP($B25,[1]Paramètres!$C$7:$F$55,$C$6,FALSE),I25/G25) -> 10 | K25: =IF(J25=0,VLOOKUP($B25,[1]Paramètres!$C$7:$F$55,$C$6,FALSE),L25/J25) -> 10 | N25: =IF(M25=0,VLOOKUP($B25,[1]Paramètres!$C$7:$F$55,$C$6,FALSE),O25/M25) -> 10 | Q25: =IF(P25=0,VLOOKUP($B25,[1]Paramètres!$C$7:$F$55,$C$6,FALSE),R25/P25) -> 10 | T25: =IF(S25=0,VLOOKUP($B25,[1]Paramètres!$C$7:$F$55,$C$6,FALSE),U25/S25) -> 10 | W25: =IF(V25=0,VLOOKUP($B25,[1]Paramètres!$C$7:$F$55,$C$6,FALSE),X25/V25) -> 10 | Z25: =IF(Y25=0,VLOOKUP($B25,[1]Paramètres!$C$7:$F$55,$C$6,FALSE),AA25/Y25) -> 10 | AC25: =IF(AB25=0,VLOOKUP($B25,[1]Paramètres!$C$7:$F$55,$C$6,FALSE),AD25/AB25) -> 10 | AF25: =IF(AE25=0,VLOOKUP($B25,[1]Paramètres!$C$7:$F$55,$C$6,FALSE),AG25/AE25) -> 10 | AI25: =IF(AH25=0,VLOOKUP($B25,[1]Paramètres!$C$7:$F$55,$C$6,FALSE),AJ25/AH25) -> 10 | AL25: =IF(AK25=0,VLOOKUP($B25,[1]Paramètres!$C$7:$F$55,$C$6,FALSE),AM25/AK25) -> 10 | AN25: =SUM(D25,G25,J25,M25,P25,S25,V25,Y25,AB25,AE25,AH25,AK25) -> 0 | AO25: =VLOOKUP($B25,[1]Paramètres!$C$7:$F$55,$C$6,FALSE) -> 10 | AP25: =SUM(F25,I25,L25,O25,R25,U25,X25,AA25,AD25,AG25,AJ25,AM25) -> 0
B26: =[1]Paramètres!C16 -> Contrat de travail classique | C26: =IF(AP26>0,"X","") | E26: =IF(D26=0,VLOOKUP($B26,[1]Paramètres!$C$7:$F$55,$C$6,FALSE),F26/D26) -> 45 | H26: =IF(G26=0,VLOOKUP($B26,[1]Paramètres!$C$7:$F$55,$C$6,FALSE),I26/G26) -> 45 | K26: =IF(J26=0,VLOOKUP($B26,[1]Paramètres!$C$7:$F$55,$C$6,FALSE),L26/J26) -> 45 | N26: =IF(M26=0,VLOOKUP($B26,[1]Paramètres!$C$7:$F$55,$C$6,FALSE),O26/M26) -> 45 | Q26: =IF(P26=0,VLOOKUP($B26,[1]Paramètres!$C$7:$F$55,$C$6,FALSE),R26/P26) -> 45 | T26: =IF(S26=0,VLOOKUP($B26,[1]Paramètres!$C$7:$F$55,$C$6,FALSE),U26/S26) -> 45 | W26: =IF(V26=0,VLOOKUP($B26,[1]Paramètres!$C$7:$F$55,$C$6,FALSE),X26/V26) -> 45 | Z26: =IF(Y26=0,VLOOKUP($B26,[1]Paramètres!$C$7:$F$55,$C$6,FALSE),AA26/Y26) -> 45 | AC26: =IF(AB26=0,VLOOKUP($B26,[1]Paramètres!$C$7:$F$55,$C$6,FALSE),AD26/AB26) -> 45 | AF26: =IF(AE26=0,VLOOKUP($B26,[1]Paramètres!$C$7:$F$55,$C$6,FALSE),AG26/AE26) -> 45 | AI26: =IF(AH26=0,VLOOKUP($B26,[1]Paramètres!$C$7:$F$55,$C$6,FALSE),AJ26/AH26) -> 45 | AL26: =IF(AK26=0,VLOOKUP($B26,[1]Paramètres!$C$7:$F$55,$C$6,FALSE),AM26/AK26) -> 45 | AN26: =SUM(D26,G26,J26,M26,P26,S26,V26,Y26,AB26,AE26,AH26,AK26) -> 0 | AO26: =VLOOKUP($B26,[1]Paramètres!$C$7:$F$55,$C$6,FALSE) -> 45 | AP26: =SUM(F26,I26,L26,O26,R26,U26,X26,AA26,AD26,AG26,AJ26,AM26) -> 0
B27: =[1]Paramètres!C17 -> Contrat de travail spécifique | C27: =IF(AP27>0,"X","") | E27: =IF(D27=0,VLOOKUP($B27,[1]Paramètres!$C$7:$F$55,$C$6,FALSE),F27/D27) -> 90 | H27: =IF(G27=0,VLOOKUP($B27,[1]Paramètres!$C$7:$F$55,$C$6,FALSE),I27/G27) -> 90 | K27: =IF(J27=0,VLOOKUP($B27,[1]Paramètres!$C$7:$F$55,$C$6,FALSE),L27/J27) -> 90 | N27: =IF(M27=0,VLOOKUP($B27,[1]Paramètres!$C$7:$F$55,$C$6,FALSE),O27/M27) -> 90 | Q27: =IF(P27=0,VLOOKUP($B27,[1]Paramètres!$C$7:$F$55,$C$6,FALSE),R27/P27) -> 90 | T27: =IF(S27=0,VLOOKUP($B27,[1]Paramètres!$C$7:$F$55,$C$6,FALSE),U27/S27) -> 90 | W27: =IF(V27=0,VLOOKUP($B27,[1]Paramètres!$C$7:$F$55,$C$6,FALSE),X27/V27) -> 90 | Z27: =IF(Y27=0,VLOOKUP($B27,[1]Paramètres!$C$7:$F$55,$C$6,FALSE),AA27/Y27) -> 90 | AC27: =IF(AB27=0,VLOOKUP($B27,[1]Paramètres!$C$7:$F$55,$C$6,FALSE),AD27/AB27) -> 90 | AF27: =IF(AE27=0,VLOOKUP($B27,[1]Paramètres!$C$7:$F$55,$C$6,FALSE),AG27/AE27) -> 90 | AI27: =IF(AH27=0,VLOOKUP($B27,[1]Paramètres!$C$7:$F$55,$C$6,FALSE),AJ27/AH27) -> 90 | AL27: =IF(AK27=0,VLOOKUP($B27,[1]Paramètres!$C$7:$F$55,$C$6,FALSE),AM27/AK27) -> 90 | AN27: =SUM(D27,G27,J27,M27,P27,S27,V27,Y27,AB27,AE27,AH27,AK27) -> 0 | AO27: =VLOOKUP($B27,[1]Paramètres!$C$7:$F$55,$C$6,FALSE) -> 90 | AP27: =SUM(F27,I27,L27,O27,R27,U27,X27,AA27,AD27,AG27,AJ27,AM27) -> 0
B28: =[1]Paramètres!C18 -> Avenant contrat classique | C28: =IF(AP28>0,"X","") | E28: =IF(D28=0,VLOOKUP($B28,[1]Paramètres!$C$7:$F$55,$C$6,FALSE),F28/D28) -> 20 | H28: =IF(G28=0,VLOOKUP($B28,[1]Paramètres!$C$7:$F$55,$C$6,FALSE),I28/G28) -> 20 | K28: =IF(J28=0,VLOOKUP($B28,[1]Paramètres!$C$7:$F$55,$C$6,FALSE),L28/J28) -> 20 | N28: =IF(M28=0,VLOOKUP($B28,[1]Paramètres!$C$7:$F$55,$C$6,FALSE),O28/M28) -> 20 | Q28: =IF(P28=0,VLOOKUP($B28,[1]Paramètres!$C$7:$F$55,$C$6,FALSE),R28/P28) -> 20 | T28: =IF(S28=0,VLOOKUP($B28,[1]Paramètres!$C$7:$F$55,$C$6,FALSE),U28/S28) -> 20 | W28: =IF(V28=0,VLOOKUP($B28,[1]Paramètres!$C$7:$F$55,$C$6,FALSE),X28/V28) -> 20 | Z28: =IF(Y28=0,VLOOKUP($B28,[1]Paramètres!$C$7:$F$55,$C$6,FALSE),AA28/Y28) -> 20 | AC28: =IF(AB28=0,VLOOKUP($B28,[1]Paramètres!$C$7:$F$55,$C$6,FALSE),AD28/AB28) -> 20 | AF28: =IF(AE28=0,VLOOKUP($B28,[1]Paramètres!$C$7:$F$55,$C$6,FALSE),AG28/AE28) -> 20 | AI28: =IF(AH28=0,VLOOKUP($B28,[1]Paramètres!$C$7:$F$55,$C$6,FALSE),AJ28/AH28) -> 20 | AL28: =IF(AK28=0,VLOOKUP($B28,[1]Paramètres!$C$7:$F$55,$C$6,FALSE),AM28/AK28) -> 20 | AN28: =SUM(D28,G28,J28,M28,P28,S28,V28,Y28,AB28,AE28,AH28,AK28) -> 0 | AO28: =VLOOKUP($B28,[1]Paramètres!$C$7:$F$55,$C$6,FALSE) -> 20 | AP28: =SUM(F28,I28,L28,O28,R28,U28,X28,AA28,AD28,AG28,AJ28,AM28) -> 0
B29: =[1]Paramètres!C19 -> Avenant contrat spécifique | C29: =IF(AP29>0,"X","") | E29: =IF(D29=0,VLOOKUP($B29,[1]Paramètres!$C$7:$F$55,$C$6,FALSE),F29/D29) -> 0 | H29: =IF(G29=0,VLOOKUP($B29,[1]Paramètres!$C$7:$F$55,$C$6,FALSE),I29/G29) -> 0 | K29: =IF(J29=0,VLOOKUP($B29,[1]Paramètres!$C$7:$F$55,$C$6,FALSE),L29/J29) -> 0 | N29: =IF(M29=0,VLOOKUP($B29,[1]Paramètres!$C$7:$F$55,$C$6,FALSE),O29/M29) -> 0 | Q29: =IF(P29=0,VLOOKUP($B29,[1]Paramètres!$C$7:$F$55,$C$6,FALSE),R29/P29) -> 0 | T29: =IF(S29=0,VLOOKUP($B29,[1]Paramètres!$C$7:$F$55,$C$6,FALSE),U29/S29) -> 0 | W29: =IF(V29=0,VLOOKUP($B29,[1]Paramètres!$C$7:$F$55,$C$6,FALSE),X29/V29) -> 0 | Z29: =IF(Y29=0,VLOOKUP($B29,[1]Paramètres!$C$7:$F$55,$C$6,FALSE),AA29/Y29) -> 0 | AC29: =IF(AB29=0,VLOOKUP($B29,[1]Paramètres!$C$7:$F$55,$C$6,FALSE),AD29/AB29) -> 0 | AF29: =IF(AE29=0,VLOOKUP($B29,[1]Paramètres!$C$7:$F$55,$C$6,FALSE),AG29/AE29) -> 0 | AI29: =IF(AH29=0,VLOOKUP($B29,[1]Paramètres!$C$7:$F$55,$C$6,FALSE),AJ29/AH29) -> 0 | AL29: =IF(AK29=0,VLOOKUP($B29,[1]Paramètres!$C$7:$F$55,$C$6,FALSE),AM29/AK29) -> 0 | AN29: =SUM(D29,G29,J29,M29,P29,S29,V29,Y29,AB29,AE29,AH29,AK29) -> 0 | AO29: =VLOOKUP($B29,[1]Paramètres!$C$7:$F$55,$C$6,FALSE) -> 0 | AP29: =SUM(F29,I29,L29,O29,R29,U29,X29,AA29,AD29,AG29,AJ29,AM29) -> 0
B30: =[1]Paramètres!C20 -> Contrat CERFA appentissage | C30: =IF(AP30>0,"X","") | E30: =IF(D30=0,VLOOKUP($B30,[1]Paramètres!$C$7:$F$55,$C$6,FALSE),F30/D30) -> 45 | H30: =IF(G30=0,VLOOKUP($B30,[1]Paramètres!$C$7:$F$55,$C$6,FALSE),I30/G30) -> 45 | K30: =IF(J30=0,VLOOKUP($B30,[1]Paramètres!$C$7:$F$55,$C$6,FALSE),L30/J30) -> 45 | N30: =IF(M30=0,VLOOKUP($B30,[1]Paramètres!$C$7:$F$55,$C$6,FALSE),O30/M30) -> 45 | Q30: =IF(P30=0,VLOOKUP($B30,[1]Paramètres!$C$7:$F$55,$C$6,FALSE),R30/P30) -> 45 | T30: =IF(S30=0,VLOOKUP($B30,[1]Paramètres!$C$7:$F$55,$C$6,FALSE),U30/S30) -> 45 | W30: =IF(V30=0,VLOOKUP($B30,[1]Paramètres!$C$7:$F$55,$C$6,FALSE),X30/V30) -> 45 | Z30: =IF(Y30=0,VLOOKUP($B30,[1]Paramètres!$C$7:$F$55,$C$6,FALSE),AA30/Y30) -> 45 | AC30: =IF(AB30=0,VLOOKUP($B30,[1]Paramètres!$C$7:$F$55,$C$6,FALSE),AD30/AB30) -> 45 | AF30: =IF(AE30=0,VLOOKUP($B30,[1]Paramètres!$C$7:$F$55,$C$6,FALSE),AG30/AE30) -> 45 | AI30: =IF(AH30=0,VLOOKUP($B30,[1]Paramètres!$C$7:$F$55,$C$6,FALSE),AJ30/AH30) -> 45 | AL30: =IF(AK30=0,VLOOKUP($B30,[1]Paramètres!$C$7:$F$55,$C$6,FALSE),AM30/AK30) -> 45 | AN30: =SUM(D30,G30,J30,M30,P30,S30,V30,Y30,AB30,AE30,AH30,AK30) -> 0 | AO30: =VLOOKUP($B30,[1]Paramètres!$C$7:$F$55,$C$6,FALSE) -> 45 | AP30: =SUM(F30,I30,L30,O30,R30,U30,X30,AA30,AD30,AG30,AJ30,AM30) -> 0
B31: =[1]Paramètres!C21 -> Constat de rupture à l'amiable CDD | C31: =IF(AP31>0,"X","") | E31: =IF(D31=0,VLOOKUP($B31,[1]Paramètres!$C$7:$F$55,$C$6,FALSE),F31/D31) -> 30 | H31: =IF(G31=0,VLOOKUP($B31,[1]Paramètres!$C$7:$F$55,$C$6,FALSE),I31/G31) -> 30 | K31: =IF(J31=0,VLOOKUP($B31,[1]Paramètres!$C$7:$F$55,$C$6,FALSE),L31/J31) -> 30 | N31: =IF(M31=0,VLOOKUP($B31,[1]Paramètres!$C$7:$F$55,$C$6,FALSE),O31/M31) -> 30 | Q31: =IF(P31=0,VLOOKUP($B31,[1]Paramètres!$C$7:$F$55,$C$6,FALSE),R31/P31) -> 30 | T31: =IF(S31=0,VLOOKUP($B31,[1]Paramètres!$C$7:$F$55,$C$6,FALSE),U31/S31) -> 30 | W31: =IF(V31=0,VLOOKUP($B31,[1]Paramètres!$C$7:$F$55,$C$6,FALSE),X31/V31) -> 30 | Z31: =IF(Y31=0,VLOOKUP($B31,[1]Paramètres!$C$7:$F$55,$C$6,FALSE),AA31/Y31) -> 30 | AC31: =IF(AB31=0,VLOOKUP($B31,[1]Paramètres!$C$7:$F$55,$C$6,FALSE),AD31/AB31) -> 30 | AF31: =IF(AE31=0,VLOOKUP($B31,[1]Paramètres!$C$7:$F$55,$C$6,FALSE),AG31/AE31) -> 30 | AI31: =IF(AH31=0,VLOOKUP($B31,[1]Paramètres!$C$7:$F$55,$C$6,FALSE),AJ31/AH31) -> 30 | AL31: =IF(AK31=0,VLOOKUP($B31,[1]Paramètres!$C$7:$F$55,$C$6,FALSE),AM31/AK31) -> 30 | AN31: =SUM(D31,G31,J31,M31,P31,S31,V31,Y31,AB31,AE31,AH31,AK31) -> 0 | AO31: =VLOOKUP($B31,[1]Paramètres!$C$7:$F$55,$C$6,FALSE) -> 30 | AP31: =SUM(F31,I31,L31,O31,R31,U31,X31,AA31,AD31,AG31,AJ31,AM31) -> 0
B32: =[1]Paramètres!C22 -> Rupture contrat d'apprentissage | C32: =IF(AP32>0,"X","") | E32: =IF(D32=0,VLOOKUP($B32,[1]Paramètres!$C$7:$F$55,$C$6,FALSE),F32/D32) -> 30 | H32: =IF(G32=0,VLOOKUP($B32,[1]Paramètres!$C$7:$F$55,$C$6,FALSE),I32/G32) -> 30 | K32: =IF(J32=0,VLOOKUP($B32,[1]Paramètres!$C$7:$F$55,$C$6,FALSE),L32/J32) -> 30 | N32: =IF(M32=0,VLOOKUP($B32,[1]Paramètres!$C$7:$F$55,$C$6,FALSE),O32/M32) -> 30 | Q32: =IF(P32=0,VLOOKUP($B32,[1]Paramètres!$C$7:$F$55,$C$6,FALSE),R32/P32) -> 30 | T32: =IF(S32=0,VLOOKUP($B32,[1]Paramètres!$C$7:$F$55,$C$6,FALSE),U32/S32) -> 30 | W32: =IF(V32=0,VLOOKUP($B32,[1]Paramètres!$C$7:$F$55,$C$6,FALSE),X32/V32) -> 30 | Z32: =IF(Y32=0,VLOOKUP($B32,[1]Paramètres!$C$7:$F$55,$C$6,FALSE),AA32/Y32) -> 30 | AC32: =IF(AB32=0,VLOOKUP($B32,[1]Paramètres!$C$7:$F$55,$C$6,FALSE),AD32/AB32) -> 30 | AF32: =IF(AE32=0,VLOOKUP($B32,[1]Paramètres!$C$7:$F$55,$C$6,FALSE),AG32/AE32) -> 30 | AI32: =IF(AH32=0,VLOOKUP($B32,[1]Paramètres!$C$7:$F$55,$C$6,FALSE),AJ32/AH32) -> 30 | AL32: =IF(AK32=0,VLOOKUP($B32,[1]Paramètres!$C$7:$F$55,$C$6,FALSE),AM32/AK32) -> 30 | AN32: =SUM(D32,G32,J32,M32,P32,S32,V32,Y32,AB32,AE32,AH32,AK32) -> 0 | AO32: =VLOOKUP($B32,[1]Paramètres!$C$7:$F$55,$C$6,FALSE) -> 30 | AP32: =SUM(F32,I32,L32,O32,R32,U32,X32,AA32,AD32,AG32,AJ32,AM32) -> 0
B33: =[1]Paramètres!C23 -> Documents de fin de contrat | C33: =IF(AP33>0,"X","") | E33: =IF(D33=0,VLOOKUP($B33,[1]Paramètres!$C$7:$F$55,$C$6,FALSE),F33/D33) -> 22 | H33: =IF(G33=0,VLOOKUP($B33,[1]Paramètres!$C$7:$F$55,$C$6,FALSE),I33/G33) -> 22 | K33: =IF(J33=0,VLOOKUP($B33,[1]Paramètres!$C$7:$F$55,$C$6,FALSE),L33/J33) -> 22 | N33: =IF(M33=0,VLOOKUP($B33,[1]Paramètres!$C$7:$F$55,$C$6,FALSE),O33/M33) -> 22 | Q33: =IF(P33=0,VLOOKUP($B33,[1]Paramètres!$C$7:$F$55,$C$6,FALSE),R33/P33) -> 22 | T33: =IF(S33=0,VLOOKUP($B33,[1]Paramètres!$C$7:$F$55,$C$6,FALSE),U33/S33) -> 22 | W33: =IF(V33=0,VLOOKUP($B33,[1]Paramètres!$C$7:$F$55,$C$6,FALSE),X33/V33) -> 22 | Z33: =IF(Y33=0,VLOOKUP($B33,[1]Paramètres!$C$7:$F$55,$C$6,FALSE),AA33/Y33) -> 22 | AC33: =IF(AB33=0,VLOOKUP($B33,[1]Paramètres!$C$7:$F$55,$C$6,FALSE),AD33/AB33) -> 22 | AF33: =IF(AE33=0,VLOOKUP($B33,[1]Paramètres!$C$7:$F$55,$C$6,FALSE),AG33/AE33) -> 22 | AI33: =IF(AH33=0,VLOOKUP($B33,[1]Paramètres!$C$7:$F$55,$C$6,FALSE),AJ33/AH33) -> 22 | AL33: =IF(AK33=0,VLOOKUP($B33,[1]Paramètres!$C$7:$F$55,$C$6,FALSE),AM33/AK33) -> 22 | AN33: =SUM(D33,G33,J33,M33,P33,S33,V33,Y33,AB33,AE33,AH33,AK33) -> 0 | AO33: =VLOOKUP($B33,[1]Paramètres!$C$7:$F$55,$C$6,FALSE) -> 22 | AP33: =SUM(F33,I33,L33,O33,R33,U33,X33,AA33,AD33,AG33,AJ33,AM33) -> 0
B34: =[1]Paramètres!C24 -> Déclaration accident de travail | C34: =IF(AP34>0,"X","") | E34: =IF(D34=0,VLOOKUP($B34,[1]Paramètres!$C$7:$F$55,$C$6,FALSE),F34/D34) -> 30 | H34: =IF(G34=0,VLOOKUP($B34,[1]Paramètres!$C$7:$F$55,$C$6,FALSE),I34/G34) -> 30 | K34: =IF(J34=0,VLOOKUP($B34,[1]Paramètres!$C$7:$F$55,$C$6,FALSE),L34/J34) -> 30 | N34: =IF(M34=0,VLOOKUP($B34,[1]Paramètres!$C$7:$F$55,$C$6,FALSE),O34/M34) -> 30 | Q34: =IF(P34=0,VLOOKUP($B34,[1]Paramètres!$C$7:$F$55,$C$6,FALSE),R34/P34) -> 30 | T34: =IF(S34=0,VLOOKUP($B34,[1]Paramètres!$C$7:$F$55,$C$6,FALSE),U34/S34) -> 30 | W34: =IF(V34=0,VLOOKUP($B34,[1]Paramètres!$C$7:$F$55,$C$6,FALSE),X34/V34) -> 30 | Z34: =IF(Y34=0,VLOOKUP($B34,[1]Paramètres!$C$7:$F$55,$C$6,FALSE),AA34/Y34) -> 30 | AC34: =IF(AB34=0,VLOOKUP($B34,[1]Paramètres!$C$7:$F$55,$C$6,FALSE),AD34/AB34) -> 30 | AF34: =IF(AE34=0,VLOOKUP($B34,[1]Paramètres!$C$7:$F$55,$C$6,FALSE),AG34/AE34) -> 30 | AI34: =IF(AH34=0,VLOOKUP($B34,[1]Paramètres!$C$7:$F$55,$C$6,FALSE),AJ34/AH34) -> 30 | AL34: =IF(AK34=0,VLOOKUP($B34,[1]Paramètres!$C$7:$F$55,$C$6,FALSE),AM34/AK34) -> 30 | AN34: =SUM(D34,G34,J34,M34,P34,S34,V34,Y34,AB34,AE34,AH34,AK34) -> 0 | AO34: =VLOOKUP($B34,[1]Paramètres!$C$7:$F$55,$C$6,FALSE) -> 30 | AP34: =SUM(F34,I34,L34,O34,R34,U34,X34,AA34,AD34,AG34,AJ34,AM34) -> 0
... B42: =[1]Paramètres!C32 -> Courrier salariés / administratif | C42: =IF(AP42>0,"X","") | E42: =IF(D42=0,VLOOKUP($B42,[1]Paramètres!$C$7:$F$55,$C$6,FALSE),F42/D42) -> 15 | H42: =IF(G42=0,VLOOKUP($B42,[1]Paramètres!$C$7:$F$55,$C$6,FALSE),I42/G42) -> 15 | K42: =IF(J42=0,VLOOKUP($B42,[1]Paramètres!$C$7:$F$55,$C$6,FALSE),L42/J42) -> 15 | N42: =IF(M42=0,VLOOKUP($B42,[1]Paramètres!$C$7:$F$55,$C$6,FALSE),O42/M42) -> 15 | Q42: =IF(P42=0,VLOOKUP($B42,[1]Paramètres!$C$7:$F$55,$C$6,FALSE),R42/P42) -> 15 | T42: =IF(S42=0,VLOOKUP($B42,[1]Paramètres!$C$7:$F$55,$C$6,FALSE),U42/S42) -> 15 | W42: =IF(V42=0,VLOOKUP($B42,[1]Paramètres!$C$7:$F$55,$C$6,FALSE),X42/V42) -> 15 | Z42: =IF(Y42=0,VLOOKUP($B42,[1]Paramètres!$C$7:$F$55,$C$6,FALSE),AA42/Y42) -> 15 | AC42: =IF(AB42=0,VLOOKUP($B42,[1]Paramètres!$C$7:$F$55,$C$6,FALSE),AD42/AB42) -> 15 | AF42: =IF(AE42=0,VLOOKUP($B42,[1]Paramètres!$C$7:$F$55,$C$6,FALSE),AG42/AE42) -> 15 | AI42: =IF(AH42=0,VLOOKUP($B42,[1]Paramètres!$C$7:$F$55,$C$6,FALSE),AJ42/AH42) -> 15 | AL42: =IF(AK42=0,VLOOKUP($B42,[1]Paramètres!$C$7:$F$55,$C$6,FALSE),AM42/AK42) -> 15 | AN42: =SUM(D42,G42,J42,M42,P42,S42,V42,Y42,AB42,AE42,AH42,AK42) -> 0 | AO42: =VLOOKUP($B42,[1]Paramètres!$C$7:$F$55,$C$6,FALSE) -> 15 | AP42: =SUM(F42,I42,L42,O42,R42,U42,X42,AA42,AD42,AG42,AJ42,AM42) -> 0
B43: TOTAL SO2 Social conseil | C43: X | AP43: =SUM(AP23:AP42) -> 0
B44: =[1]Paramètres!C33 -> Licenciement économique individuel | C44: =IF(AP44>0,"X","") | E44: =IF(D44=0,VLOOKUP($B44,[1]Paramètres!$C$7:$F$55,$C$6,FALSE),F44/D44) -> 650 | G44: ='[1]1-50'!G44+'[1]51-100'!G44+'[1]101-150'!G44+'[1]151-200'!G44+'[1]201-250'!G44+'[1]251-300'!G44 -> 0 | H44: =IF(G44=0,VLOOKUP($B44,[1]Paramètres!$C$7:$F$55,$C$6,FALSE),I44/G44) -> 650 | I44: ='[1]1-50'!I44+'[1]51-100'!I44+'[1]101-150'!I44+'[1]151-200'!I44+'[1]201-250'!I44+'[1]251-300'!I44 -> 0 | J44: ='[1]1-50'!J44+'[1]51-100'!J44+'[1]101-150'!J44+'[1]151-200'!J44+'[1]201-250'!J44+'[1]251-300'!J44 -> 0 | K44: =IF(J44=0,VLOOKUP($B44,[1]Paramètres!$C$7:$F$55,$C$6,FALSE),L44/J44) -> 650 | L44: ='[1]1-50'!L44+'[1]51-100'!L44+'[1]101-150'!L44+'[1]151-200'!L44+'[1]201-250'!L44+'[1]251-300'!L44 -> 0 | M44: ='[1]1-50'!M44+'[1]51-100'!M44+'[1]101-150'!M44+'[1]151-200'!M44+'[1]201-250'!M44+'[1]251-300'!M44 -> 0 | N44: =IF(M44=0,VLOOKUP($B44,[1]Paramètres!$C$7:$F$55,$C$6,FALSE),O44/M44) -> 650 | O44: ='[1]1-50'!O44+'[1]51-100'!O44+'[1]101-150'!O44+'[1]151-200'!O44+'[1]201-250'!O44+'[1]251-300'!O44 -> 0 | P44: ='[1]1-50'!P44+'[1]51-100'!P44+'[1]101-150'!P44+'[1]151-200'!P44+'[1]201-250'!P44+'[1]251-300'!P44 -> 0 | Q44: =IF(P44=0,VLOOKUP($B44,[1]Paramètres!$C$7:$F$55,$C$6,FALSE),R44/P44) -> 650 | R44: ='[1]1-50'!R44+'[1]51-100'!R44+'[1]101-150'!R44+'[1]151-200'!R44+'[1]201-250'!R44+'[1]251-300'!R44 -> 0 | S44: ='[1]1-50'!S44+'[1]51-100'!S44+'[1]101-150'!S44+'[1]151-200'!S44+'[1]201-250'!S44+'[1]251-300'!S44 -> 0 | T44: =IF(S44=0,VLOOKUP($B44,[1]Paramètres!$C$7:$F$55,$C$6,FALSE),U44/S44) -> 650 | U44: ='[1]1-50'!U44+'[1]51-100'!U44+'[1]101-150'!U44+'[1]151-200'!U44+'[1]201-250'!U44+'[1]251-300'!U44 -> 0 | V44: ='[1]1-50'!V44+'[1]51-100'!V44+'[1]101-150'!V44+'[1]151-200'!V44+'[1]201-250'!V44+'[1]251-300'!V44 -> 0 | W44: =IF(V44=0,VLOOKUP($B44,[1]Paramètres!$C$7:$F$55,$C$6,FALSE),X44/V44) -> 650 | X44: ='[1]1-50'!X44+'[1]51-100'!X44+'[1]101-150'!X44+'[1]151-200'!X44+'[1]201-250'!X44+'[1]251-300'!X44 -> 0 | Y44: ='[1]1-50'!Y44+'[1]51-100'!Y44+'[1]101-150'!Y44+'[1]151-200'!Y44+'[1]201-250'!Y44+'[1]251-300'!Y44 -> 0 | Z44: =IF(Y44=0,VLOOKUP($B44,[1]Paramètres!$C$7:$F$55,$C$6,FALSE),AA44/Y44) -> 650 | AA44: ='[1]1-50'!AA44+'[1]51-100'!AA44+'[1]101-150'!AA44+'[1]151-200'!AA44+'[1]201-250'!AA44+'[1]251-300'!AA44 -> 0 | AB44: ='[1]1-50'!AB44+'[1]51-100'!AB44+'[1]101-150'!AB44+'[1]151-200'!AB44+'[1]201-250'!AB44+'[1]251-300'!AB44 -> 0 | AC44: =IF(AB44=0,VLOOKUP($B44,[1]Paramètres!$C$7:$F$55,$C$6,FALSE),AD44/AB44) -> 650 | AD44: ='[1]1-50'!AD44+'[1]51-100'!AD44+'[1]101-150'!AD44+'[1]151-200'!AD44+'[1]201-250'!AD44+'[1]251-300'!AD44 -> 0 | AE44: ='[1]1-50'!AE44+'[1]51-100'!AE44+'[1]101-150'!AE44+'[1]151-200'!AE44+'[1]201-250'!AE44+'[1]251-300'!AE44 -> 0 | AF44: =IF(AE44=0,VLOOKUP($B44,[1]Paramètres!$C$7:$F$55,$C$6,FALSE),AG44/AE44) -> 650 | AG44: ='[1]1-50'!AG44+'[1]51-100'!AG44+'[1]101-150'!AG44+'[1]151-200'!AG44+'[1]201-250'!AG44+'[1]251-300'!AG44 -> 0 | AH44: ='[1]1-50'!AH44+'[1]51-100'!AH44+'[1]101-150'!AH44+'[1]151-200'!AH44+'[1]201-250'!AH44+'[1]251-300'!AH44 -> 0 | AI44: =IF(AH44=0,VLOOKUP($B44,[1]Paramètres!$C$7:$F$55,$C$6,FALSE),AJ44/AH44) -> 650 | AJ44: ='[1]1-50'!AJ44+'[1]51-100'!AJ44+'[1]101-150'!AJ44+'[1]151-200'!AJ44+'[1]201-250'!AJ44+'[1]251-300'!AJ44 -> 0 | AK44: ='[1]1-50'!AK44+'[1]51-100'!AK44+'[1]101-150'!AK44+'[1]151-200'!AK44+'[1]201-250'!AK44+'[1]251-300'!AK44 -> 0 | AL44: =IF(AK44=0,VLOOKUP($B44,[1]Paramètres!$C$7:$F$55,$C$6,FALSE),AM44/AK44) -> 650 | AM44: ='[1]1-50'!AM44+'[1]51-100'!AM44+'[1]101-150'!AM44+'[1]151-200'!AM44+'[1]201-250'!AM44+'[1]251-300'!AM44 -> 0 | AN44: =SUM(D44,G44,J44,M44,P44,S44,V44,Y44,AB44,AE44,AH44,AK44) -> 0 | AO44: =VLOOKUP($B44,[1]Paramètres!$C$7:$F$55,$C$6,FALSE) -> 650 | AP44: =SUM(F44,I44,L44,O44,R44,U44,X44,AA44,AD44,AG44,AJ44,AM44) -> 0
B45: =[1]Paramètres!C34 -> Licenciement économique collectif | C45: =IF(AP45>0,"X","") | E45: =IF(D45=0,VLOOKUP($B45,[1]Paramètres!$C$7:$F$55,$C$6,FALSE),F45/D45) -> 0 | G45: ='[1]1-50'!G45+'[1]51-100'!G45+'[1]101-150'!G45+'[1]151-200'!G45+'[1]201-250'!G45+'[1]251-300'!G45 -> 0 | H45: =IF(G45=0,VLOOKUP($B45,[1]Paramètres!$C$7:$F$55,$C$6,FALSE),I45/G45) -> 0 | I45: ='[1]1-50'!I45+'[1]51-100'!I45+'[1]101-150'!I45+'[1]151-200'!I45+'[1]201-250'!I45+'[1]251-300'!I45 -> 0 | J45: ='[1]1-50'!J45+'[1]51-100'!J45+'[1]101-150'!J45+'[1]151-200'!J45+'[1]201-250'!J45+'[1]251-300'!J45 -> 0 | K45: =IF(J45=0,VLOOKUP($B45,[1]Paramètres!$C$7:$F$55,$C$6,FALSE),L45/J45) -> 0 | L45: ='[1]1-50'!L45+'[1]51-100'!L45+'[1]101-150'!L45+'[1]151-200'!L45+'[1]201-250'!L45+'[1]251-300'!L45 -> 0 | M45: ='[1]1-50'!M45+'[1]51-100'!M45+'[1]101-150'!M45+'[1]151-200'!M45+'[1]201-250'!M45+'[1]251-300'!M45 -> 0 | N45: =IF(M45=0,VLOOKUP($B45,[1]Paramètres!$C$7:$F$55,$C$6,FALSE),O45/M45) -> 0 | O45: ='[1]1-50'!O45+'[1]51-100'!O45+'[1]101-150'!O45+'[1]151-200'!O45+'[1]201-250'!O45+'[1]251-300'!O45 -> 0 | P45: ='[1]1-50'!P45+'[1]51-100'!P45+'[1]101-150'!P45+'[1]151-200'!P45+'[1]201-250'!P45+'[1]251-300'!P45 -> 0 | Q45: =IF(P45=0,VLOOKUP($B45,[1]Paramètres!$C$7:$F$55,$C$6,FALSE),R45/P45) -> 0 | R45: ='[1]1-50'!R45+'[1]51-100'!R45+'[1]101-150'!R45+'[1]151-200'!R45+'[1]201-250'!R45+'[1]251-300'!R45 -> 0 | S45: ='[1]1-50'!S45+'[1]51-100'!S45+'[1]101-150'!S45+'[1]151-200'!S45+'[1]201-250'!S45+'[1]251-300'!S45 -> 0 | T45: =IF(S45=0,VLOOKUP($B45,[1]Paramètres!$C$7:$F$55,$C$6,FALSE),U45/S45) -> 0 | U45: ='[1]1-50'!U45+'[1]51-100'!U45+'[1]101-150'!U45+'[1]151-200'!U45+'[1]201-250'!U45+'[1]251-300'!U45 -> 0 | V45: ='[1]1-50'!V45+'[1]51-100'!V45+'[1]101-150'!V45+'[1]151-200'!V45+'[1]201-250'!V45+'[1]251-300'!V45 -> 0 | W45: =IF(V45=0,VLOOKUP($B45,[1]Paramètres!$C$7:$F$55,$C$6,FALSE),X45/V45) -> 0 | X45: ='[1]1-50'!X45+'[1]51-100'!X45+'[1]101-150'!X45+'[1]151-200'!X45+'[1]201-250'!X45+'[1]251-300'!X45 -> 0 | Y45: ='[1]1-50'!Y45+'[1]51-100'!Y45+'[1]101-150'!Y45+'[1]151-200'!Y45+'[1]201-250'!Y45+'[1]251-300'!Y45 -> 0 | Z45: =IF(Y45=0,VLOOKUP($B45,[1]Paramètres!$C$7:$F$55,$C$6,FALSE),AA45/Y45) -> 0 | AA45: ='[1]1-50'!AA45+'[1]51-100'!AA45+'[1]101-150'!AA45+'[1]151-200'!AA45+'[1]201-250'!AA45+'[1]251-300'!AA45 -> 0 | AB45: ='[1]1-50'!AB45+'[1]51-100'!AB45+'[1]101-150'!AB45+'[1]151-200'!AB45+'[1]201-250'!AB45+'[1]251-300'!AB45 -> 0 | AC45: =IF(AB45=0,VLOOKUP($B45,[1]Paramètres!$C$7:$F$55,$C$6,FALSE),AD45/AB45) -> 0 | AD45: ='[1]1-50'!AD45+'[1]51-100'!AD45+'[1]101-150'!AD45+'[1]151-200'!AD45+'[1]201-250'!AD45+'[1]251-300'!AD45 -> 0 | AE45: ='[1]1-50'!AE45+'[1]51-100'!AE45+'[1]101-150'!AE45+'[1]151-200'!AE45+'[1]201-250'!AE45+'[1]251-300'!AE45 -> 0 | AF45: =IF(AE45=0,VLOOKUP($B45,[1]Paramètres!$C$7:$F$55,$C$6,FALSE),AG45/AE45) -> 0 | AG45: ='[1]1-50'!AG45+'[1]51-100'!AG45+'[1]101-150'!AG45+'[1]151-200'!AG45+'[1]201-250'!AG45+'[1]251-300'!AG45 -> 0 | AH45: ='[1]1-50'!AH45+'[1]51-100'!AH45+'[1]101-150'!AH45+'[1]151-200'!AH45+'[1]201-250'!AH45+'[1]251-300'!AH45 -> 0 | AI45: =IF(AH45=0,VLOOKUP($B45,[1]Paramètres!$C$7:$F$55,$C$6,FALSE),AJ45/AH45) -> 0 | AJ45: ='[1]1-50'!AJ45+'[1]51-100'!AJ45+'[1]101-150'!AJ45+'[1]151-200'!AJ45+'[1]201-250'!AJ45+'[1]251-300'!AJ45 -> 0 | AK45: ='[1]1-50'!AK45+'[1]51-100'!AK45+'[1]101-150'!AK45+'[1]151-200'!AK45+'[1]201-250'!AK45+'[1]251-300'!AK45 -> 0 | AL45: =IF(AK45=0,VLOOKUP($B45,[1]Paramètres!$C$7:$F$55,$C$6,FALSE),AM45/AK45) -> 0 | AM45: ='[1]1-50'!AM45+'[1]51-100'!AM45+'[1]101-150'!AM45+'[1]151-200'!AM45+'[1]201-250'!AM45+'[1]251-300'!AM45 -> 0 | AN45: =SUM(D45,G45,J45,M45,P45,S45,V45,Y45,AB45,AE45,AH45,AK45) -> 0 | AO45: =VLOOKUP($B45,[1]Paramètres!$C$7:$F$55,$C$6,FALSE) -> 0 | AP45: =SUM(F45,I45,L45,O45,R45,U45,X45,AA45,AD45,AG45,AJ45,AM45) -> 0
B46: =[1]Paramètres!C35 -> Licenciement inaptitude | C46: =IF(AP46>0,"X","") | E46: =IF(D46=0,VLOOKUP($B46,[1]Paramètres!$C$7:$F$55,$C$6,FALSE),F46/D46) -> 650 | G46: ='[1]1-50'!G46+'[1]51-100'!G46+'[1]101-150'!G46+'[1]151-200'!G46+'[1]201-250'!G46+'[1]251-300'!G46 -> 0 | H46: =IF(G46=0,VLOOKUP($B46,[1]Paramètres!$C$7:$F$55,$C$6,FALSE),I46/G46) -> 650 | I46: ='[1]1-50'!I46+'[1]51-100'!I46+'[1]101-150'!I46+'[1]151-200'!I46+'[1]201-250'!I46+'[1]251-300'!I46 -> 0 | J46: ='[1]1-50'!J46+'[1]51-100'!J46+'[1]101-150'!J46+'[1]151-200'!J46+'[1]201-250'!J46+'[1]251-300'!J46 -> 0 | K46: =IF(J46=0,VLOOKUP($B46,[1]Paramètres!$C$7:$F$55,$C$6,FALSE),L46/J46) -> 650 | L46: ='[1]1-50'!L46+'[1]51-100'!L46+'[1]101-150'!L46+'[1]151-200'!L46+'[1]201-250'!L46+'[1]251-300'!L46 -> 0 | M46: ='[1]1-50'!M46+'[1]51-100'!M46+'[1]101-150'!M46+'[1]151-200'!M46+'[1]201-250'!M46+'[1]251-300'!M46 -> 0 | N46: =IF(M46=0,VLOOKUP($B46,[1]Paramètres!$C$7:$F$55,$C$6,FALSE),O46/M46) -> 650 | O46: ='[1]1-50'!O46+'[1]51-100'!O46+'[1]101-150'!O46+'[1]151-200'!O46+'[1]201-250'!O46+'[1]251-300'!O46 -> 0 | P46: ='[1]1-50'!P46+'[1]51-100'!P46+'[1]101-150'!P46+'[1]151-200'!P46+'[1]201-250'!P46+'[1]251-300'!P46 -> 0 | Q46: =IF(P46=0,VLOOKUP($B46,[1]Paramètres!$C$7:$F$55,$C$6,FALSE),R46/P46) -> 650 | R46: ='[1]1-50'!R46+'[1]51-100'!R46+'[1]101-150'!R46+'[1]151-200'!R46+'[1]201-250'!R46+'[1]251-300'!R46 -> 0 | S46: ='[1]1-50'!S46+'[1]51-100'!S46+'[1]101-150'!S46+'[1]151-200'!S46+'[1]201-250'!S46+'[1]251-300'!S46 -> 0 | T46: =IF(S46=0,VLOOKUP($B46,[1]Paramètres!$C$7:$F$55,$C$6,FALSE),U46/S46) -> 650 | U46: ='[1]1-50'!U46+'[1]51-100'!U46+'[1]101-150'!U46+'[1]151-200'!U46+'[1]201-250'!U46+'[1]251-300'!U46 -> 0 | V46: ='[1]1-50'!V46+'[1]51-100'!V46+'[1]101-150'!V46+'[1]151-200'!V46+'[1]201-250'!V46+'[1]251-300'!V46 -> 0 | W46: =IF(V46=0,VLOOKUP($B46,[1]Paramètres!$C$7:$F$55,$C$6,FALSE),X46/V46) -> 650 | X46: ='[1]1-50'!X46+'[1]51-100'!X46+'[1]101-150'!X46+'[1]151-200'!X46+'[1]201-250'!X46+'[1]251-300'!X46 -> 0 | Y46: ='[1]1-50'!Y46+'[1]51-100'!Y46+'[1]101-150'!Y46+'[1]151-200'!Y46+'[1]201-250'!Y46+'[1]251-300'!Y46 -> 0 | Z46: =IF(Y46=0,VLOOKUP($B46,[1]Paramètres!$C$7:$F$55,$C$6,FALSE),AA46/Y46) -> 650 | AA46: ='[1]1-50'!AA46+'[1]51-100'!AA46+'[1]101-150'!AA46+'[1]151-200'!AA46+'[1]201-250'!AA46+'[1]251-300'!AA46 -> 0 | AB46: ='[1]1-50'!AB46+'[1]51-100'!AB46+'[1]101-150'!AB46+'[1]151-200'!AB46+'[1]201-250'!AB46+'[1]251-300'!AB46 -> 0 | AC46: =IF(AB46=0,VLOOKUP($B46,[1]Paramètres!$C$7:$F$55,$C$6,FALSE),AD46/AB46) -> 650 | AD46: ='[1]1-50'!AD46+'[1]51-100'!AD46+'[1]101-150'!AD46+'[1]151-200'!AD46+'[1]201-250'!AD46+'[1]251-300'!AD46 -> 0 | AE46: ='[1]1-50'!AE46+'[1]51-100'!AE46+'[1]101-150'!AE46+'[1]151-200'!AE46+'[1]201-250'!AE46+'[1]251-300'!AE46 -> 0 | AF46: =IF(AE46=0,VLOOKUP($B46,[1]Paramètres!$C$7:$F$55,$C$6,FALSE),AG46/AE46) -> 650 | AG46: ='[1]1-50'!AG46+'[1]51-100'!AG46+'[1]101-150'!AG46+'[1]151-200'!AG46+'[1]201-250'!AG46+'[1]251-300'!AG46 -> 0 | AH46: ='[1]1-50'!AH46+'[1]51-100'!AH46+'[1]101-150'!AH46+'[1]151-200'!AH46+'[1]201-250'!AH46+'[1]251-300'!AH46 -> 0 | AI46: =IF(AH46=0,VLOOKUP($B46,[1]Paramètres!$C$7:$F$55,$C$6,FALSE),AJ46/AH46) -> 650 | AJ46: ='[1]1-50'!AJ46+'[1]51-100'!AJ46+'[1]101-150'!AJ46+'[1]151-200'!AJ46+'[1]201-250'!AJ46+'[1]251-300'!AJ46 -> 0 | AK46: ='[1]1-50'!AK46+'[1]51-100'!AK46+'[1]101-150'!AK46+'[1]151-200'!AK46+'[1]201-250'!AK46+'[1]251-300'!AK46 -> 0 | AL46: =IF(AK46=0,VLOOKUP($B46,[1]Paramètres!$C$7:$F$55,$C$6,FALSE),AM46/AK46) -> 650 | AM46: ='[1]1-50'!AM46+'[1]51-100'!AM46+'[1]101-150'!AM46+'[1]151-200'!AM46+'[1]201-250'!AM46+'[1]251-300'!AM46 -> 0 | AN46: =SUM(D46,G46,J46,M46,P46,S46,V46,Y46,AB46,AE46,AH46,AK46) -> 0 | AO46: =VLOOKUP($B46,[1]Paramètres!$C$7:$F$55,$C$6,FALSE) -> 650 | AP46: =SUM(F46,I46,L46,O46,R46,U46,X46,AA46,AD46,AG46,AJ46,AM46) -> 0
B47: =[1]Paramètres!C36 -> Licenciement motif personnel | C47: =IF(AP47>0,"X","") | E47: =IF(D47=0,VLOOKUP($B47,[1]Paramètres!$C$7:$F$55,$C$6,FALSE),F47/D47) -> 550 | G47: ='[1]1-50'!G47+'[1]51-100'!G47+'[1]101-150'!G47+'[1]151-200'!G47+'[1]201-250'!G47+'[1]251-300'!G47 -> 0 | H47: =IF(G47=0,VLOOKUP($B47,[1]Paramètres!$C$7:$F$55,$C$6,FALSE),I47/G47) -> 550 | I47: ='[1]1-50'!I47+'[1]51-100'!I47+'[1]101-150'!I47+'[1]151-200'!I47+'[1]201-250'!I47+'[1]251-300'!I47 -> 0 | J47: ='[1]1-50'!J47+'[1]51-100'!J47+'[1]101-150'!J47+'[1]151-200'!J47+'[1]201-250'!J47+'[1]251-300'!J47 -> 0 | K47: =IF(J47=0,VLOOKUP($B47,[1]Paramètres!$C$7:$F$55,$C$6,FALSE),L47/J47) -> 550 | L47: ='[1]1-50'!L47+'[1]51-100'!L47+'[1]101-150'!L47+'[1]151-200'!L47+'[1]201-250'!L47+'[1]251-300'!L47 -> 0 | M47: ='[1]1-50'!M47+'[1]51-100'!M47+'[1]101-150'!M47+'[1]151-200'!M47+'[1]201-250'!M47+'[1]251-300'!M47 -> 0 | N47: =IF(M47=0,VLOOKUP($B47,[1]Paramètres!$C$7:$F$55,$C$6,FALSE),O47/M47) -> 550 | O47: ='[1]1-50'!O47+'[1]51-100'!O47+'[1]101-150'!O47+'[1]151-200'!O47+'[1]201-250'!O47+'[1]251-300'!O47 -> 0 | P47: ='[1]1-50'!P47+'[1]51-100'!P47+'[1]101-150'!P47+'[1]151-200'!P47+'[1]201-250'!P47+'[1]251-300'!P47 -> 0 | Q47: =IF(P47=0,VLOOKUP($B47,[1]Paramètres!$C$7:$F$55,$C$6,FALSE),R47/P47) -> 550 | R47: ='[1]1-50'!R47+'[1]51-100'!R47+'[1]101-150'!R47+'[1]151-200'!R47+'[1]201-250'!R47+'[1]251-300'!R47 -> 0 | S47: ='[1]1-50'!S47+'[1]51-100'!S47+'[1]101-150'!S47+'[1]151-200'!S47+'[1]201-250'!S47+'[1]251-300'!S47 -> 0 | T47: =IF(S47=0,VLOOKUP($B47,[1]Paramètres!$C$7:$F$55,$C$6,FALSE),U47/S47) -> 550 | U47: ='[1]1-50'!U47+'[1]51-100'!U47+'[1]101-150'!U47+'[1]151-200'!U47+'[1]201-250'!U47+'[1]251-300'!U47 -> 0 | V47: ='[1]1-50'!V47+'[1]51-100'!V47+'[1]101-150'!V47+'[1]151-200'!V47+'[1]201-250'!V47+'[1]251-300'!V47 -> 0 | W47: =IF(V47=0,VLOOKUP($B47,[1]Paramètres!$C$7:$F$55,$C$6,FALSE),X47/V47) -> 550 | X47: ='[1]1-50'!X47+'[1]51-100'!X47+'[1]101-150'!X47+'[1]151-200'!X47+'[1]201-250'!X47+'[1]251-300'!X47 -> 0 | Y47: ='[1]1-50'!Y47+'[1]51-100'!Y47+'[1]101-150'!Y47+'[1]151-200'!Y47+'[1]201-250'!Y47+'[1]251-300'!Y47 -> 0 | Z47: =IF(Y47=0,VLOOKUP($B47,[1]Paramètres!$C$7:$F$55,$C$6,FALSE),AA47/Y47) -> 550 | AA47: ='[1]1-50'!AA47+'[1]51-100'!AA47+'[1]101-150'!AA47+'[1]151-200'!AA47+'[1]201-250'!AA47+'[1]251-300'!AA47 -> 0 | AB47: ='[1]1-50'!AB47+'[1]51-100'!AB47+'[1]101-150'!AB47+'[1]151-200'!AB47+'[1]201-250'!AB47+'[1]251-300'!AB47 -> 0 | AC47: =IF(AB47=0,VLOOKUP($B47,[1]Paramètres!$C$7:$F$55,$C$6,FALSE),AD47/AB47) -> 550 | AD47: ='[1]1-50'!AD47+'[1]51-100'!AD47+'[1]101-150'!AD47+'[1]151-200'!AD47+'[1]201-250'!AD47+'[1]251-300'!AD47 -> 0 | AE47: ='[1]1-50'!AE47+'[1]51-100'!AE47+'[1]101-150'!AE47+'[1]151-200'!AE47+'[1]201-250'!AE47+'[1]251-300'!AE47 -> 0 | AF47: =IF(AE47=0,VLOOKUP($B47,[1]Paramètres!$C$7:$F$55,$C$6,FALSE),AG47/AE47) -> 550 | AG47: ='[1]1-50'!AG47+'[1]51-100'!AG47+'[1]101-150'!AG47+'[1]151-200'!AG47+'[1]201-250'!AG47+'[1]251-300'!AG47 -> 0 | AH47: ='[1]1-50'!AH47+'[1]51-100'!AH47+'[1]101-150'!AH47+'[1]151-200'!AH47+'[1]201-250'!AH47+'[1]251-300'!AH47 -> 0 | AI47: =IF(AH47=0,VLOOKUP($B47,[1]Paramètres!$C$7:$F$55,$C$6,FALSE),AJ47/AH47) -> 550 | AJ47: ='[1]1-50'!AJ47+'[1]51-100'!AJ47+'[1]101-150'!AJ47+'[1]151-200'!AJ47+'[1]201-250'!AJ47+'[1]251-300'!AJ47 -> 0 | AK47: ='[1]1-50'!AK47+'[1]51-100'!AK47+'[1]101-150'!AK47+'[1]151-200'!AK47+'[1]201-250'!AK47+'[1]251-300'!AK47 -> 0 | AL47: =IF(AK47=0,VLOOKUP($B47,[1]Paramètres!$C$7:$F$55,$C$6,FALSE),AM47/AK47) -> 550 | AM47: ='[1]1-50'!AM47+'[1]51-100'!AM47+'[1]101-150'!AM47+'[1]151-200'!AM47+'[1]201-250'!AM47+'[1]251-300'!AM47 -> 0 | AN47: =SUM(D47,G47,J47,M47,P47,S47,V47,Y47,AB47,AE47,AH47,AK47) -> 0 | AO47: =VLOOKUP($B47,[1]Paramètres!$C$7:$F$55,$C$6,FALSE) -> 550 | AP47: =SUM(F47,I47,L47,O47,R47,U47,X47,AA47,AD47,AG47,AJ47,AM47) -> 0
B48: =[1]Paramètres!C37 -> Licenciement fin de chantier | C48: =IF(AP48>0,"X","") | E48: =IF(D48=0,VLOOKUP($B48,[1]Paramètres!$C$7:$F$55,$C$6,FALSE),F48/D48) -> 250 | G48: ='[1]1-50'!G48+'[1]51-100'!G48+'[1]101-150'!G48+'[1]151-200'!G48+'[1]201-250'!G48+'[1]251-300'!G48 -> 0 | H48: =IF(G48=0,VLOOKUP($B48,[1]Paramètres!$C$7:$F$55,$C$6,FALSE),I48/G48) -> 250 | I48: ='[1]1-50'!I48+'[1]51-100'!I48+'[1]101-150'!I48+'[1]151-200'!I48+'[1]201-250'!I48+'[1]251-300'!I48 -> 0 | J48: ='[1]1-50'!J48+'[1]51-100'!J48+'[1]101-150'!J48+'[1]151-200'!J48+'[1]201-250'!J48+'[1]251-300'!J48 -> 0 | K48: =IF(J48=0,VLOOKUP($B48,[1]Paramètres!$C$7:$F$55,$C$6,FALSE),L48/J48) -> 250 | L48: ='[1]1-50'!L48+'[1]51-100'!L48+'[1]101-150'!L48+'[1]151-200'!L48+'[1]201-250'!L48+'[1]251-300'!L48 -> 0 | M48: ='[1]1-50'!M48+'[1]51-100'!M48+'[1]101-150'!M48+'[1]151-200'!M48+'[1]201-250'!M48+'[1]251-300'!M48 -> 0 | N48: =IF(M48=0,VLOOKUP($B48,[1]Paramètres!$C$7:$F$55,$C$6,FALSE),O48/M48) -> 250 | O48: ='[1]1-50'!O48+'[1]51-100'!O48+'[1]101-150'!O48+'[1]151-200'!O48+'[1]201-250'!O48+'[1]251-300'!O48 -> 0 | P48: ='[1]1-50'!P48+'[1]51-100'!P48+'[1]101-150'!P48+'[1]151-200'!P48+'[1]201-250'!P48+'[1]251-300'!P48 -> 0 | Q48: =IF(P48=0,VLOOKUP($B48,[1]Paramètres!$C$7:$F$55,$C$6,FALSE),R48/P48) -> 250 | R48: ='[1]1-50'!R48+'[1]51-100'!R48+'[1]101-150'!R48+'[1]151-200'!R48+'[1]201-250'!R48+'[1]251-300'!R48 -> 0 | S48: ='[1]1-50'!S48+'[1]51-100'!S48+'[1]101-150'!S48+'[1]151-200'!S48+'[1]201-250'!S48+'[1]251-300'!S48 -> 0 | T48: =IF(S48=0,VLOOKUP($B48,[1]Paramètres!$C$7:$F$55,$C$6,FALSE),U48/S48) -> 250 | U48: ='[1]1-50'!U48+'[1]51-100'!U48+'[1]101-150'!U48+'[1]151-200'!U48+'[1]201-250'!U48+'[1]251-300'!U48 -> 0 | V48: ='[1]1-50'!V48+'[1]51-100'!V48+'[1]101-150'!V48+'[1]151-200'!V48+'[1]201-250'!V48+'[1]251-300'!V48 -> 0 | W48: =IF(V48=0,VLOOKUP($B48,[1]Paramètres!$C$7:$F$55,$C$6,FALSE),X48/V48) -> 250 | X48: ='[1]1-50'!X48+'[1]51-100'!X48+'[1]101-150'!X48+'[1]151-200'!X48+'[1]201-250'!X48+'[1]251-300'!X48 -> 0 | Y48: ='[1]1-50'!Y48+'[1]51-100'!Y48+'[1]101-150'!Y48+'[1]151-200'!Y48+'[1]201-250'!Y48+'[1]251-300'!Y48 -> 0 | Z48: =IF(Y48=0,VLOOKUP($B48,[1]Paramètres!$C$7:$F$55,$C$6,FALSE),AA48/Y48) -> 250 | AA48: ='[1]1-50'!AA48+'[1]51-100'!AA48+'[1]101-150'!AA48+'[1]151-200'!AA48+'[1]201-250'!AA48+'[1]251-300'!AA48 -> 0 | AB48: ='[1]1-50'!AB48+'[1]51-100'!AB48+'[1]101-150'!AB48+'[1]151-200'!AB48+'[1]201-250'!AB48+'[1]251-300'!AB48 -> 0 | AC48: =IF(AB48=0,VLOOKUP($B48,[1]Paramètres!$C$7:$F$55,$C$6,FALSE),AD48/AB48) -> 250 | AD48: ='[1]1-50'!AD48+'[1]51-100'!AD48+'[1]101-150'!AD48+'[1]151-200'!AD48+'[1]201-250'!AD48+'[1]251-300'!AD48 -> 0 | AE48: ='[1]1-50'!AE48+'[1]51-100'!AE48+'[1]101-150'!AE48+'[1]151-200'!AE48+'[1]201-250'!AE48+'[1]251-300'!AE48 -> 0 | AF48: =IF(AE48=0,VLOOKUP($B48,[1]Paramètres!$C$7:$F$55,$C$6,FALSE),AG48/AE48) -> 250 | AG48: ='[1]1-50'!AG48+'[1]51-100'!AG48+'[1]101-150'!AG48+'[1]151-200'!AG48+'[1]201-250'!AG48+'[1]251-300'!AG48 -> 0 | AH48: ='[1]1-50'!AH48+'[1]51-100'!AH48+'[1]101-150'!AH48+'[1]151-200'!AH48+'[1]201-250'!AH48+'[1]251-300'!AH48 -> 0 | AI48: =IF(AH48=0,VLOOKUP($B48,[1]Paramètres!$C$7:$F$55,$C$6,FALSE),AJ48/AH48) -> 250 | AJ48: ='[1]1-50'!AJ48+'[1]51-100'!AJ48+'[1]101-150'!AJ48+'[1]151-200'!AJ48+'[1]201-250'!AJ48+'[1]251-300'!AJ48 -> 0 | AK48: ='[1]1-50'!AK48+'[1]51-100'!AK48+'[1]101-150'!AK48+'[1]151-200'!AK48+'[1]201-250'!AK48+'[1]251-300'!AK48 -> 0 | AL48: =IF(AK48=0,VLOOKUP($B48,[1]Paramètres!$C$7:$F$55,$C$6,FALSE),AM48/AK48) -> 250 | AM48: ='[1]1-50'!AM48+'[1]51-100'!AM48+'[1]101-150'!AM48+'[1]151-200'!AM48+'[1]201-250'!AM48+'[1]251-300'!AM48 -> 0 | AN48: =SUM(D48,G48,J48,M48,P48,S48,V48,Y48,AB48,AE48,AH48,AK48) -> 0 | AO48: =VLOOKUP($B48,[1]Paramètres!$C$7:$F$55,$C$6,FALSE) -> 250 | AP48: =SUM(F48,I48,L48,O48,R48,U48,X48,AA48,AD48,AG48,AJ48,AM48) -> 0
B49: =[1]Paramètres!C38 -> Rupture conventionnelle | C49: =IF(AP49>0,"X","") | E49: =IF(D49=0,VLOOKUP($B49,[1]Paramètres!$C$7:$F$55,$C$6,FALSE),F49/D49) -> 450 | G49: ='[1]1-50'!G49+'[1]51-100'!G49+'[1]101-150'!G49+'[1]151-200'!G49+'[1]201-250'!G49+'[1]251-300'!G49 -> 0 | H49: =IF(G49=0,VLOOKUP($B49,[1]Paramètres!$C$7:$F$55,$C$6,FALSE),I49/G49) -> 450 | I49: ='[1]1-50'!I49+'[1]51-100'!I49+'[1]101-150'!I49+'[1]151-200'!I49+'[1]201-250'!I49+'[1]251-300'!I49 -> 0 | J49: ='[1]1-50'!J49+'[1]51-100'!J49+'[1]101-150'!J49+'[1]151-200'!J49+'[1]201-250'!J49+'[1]251-300'!J49 -> 0 | K49: =IF(J49=0,VLOOKUP($B49,[1]Paramètres!$C$7:$F$55,$C$6,FALSE),L49/J49) -> 450 | L49: ='[1]1-50'!L49+'[1]51-100'!L49+'[1]101-150'!L49+'[1]151-200'!L49+'[1]201-250'!L49+'[1]251-300'!L49 -> 0 | M49: ='[1]1-50'!M49+'[1]51-100'!M49+'[1]101-150'!M49+'[1]151-200'!M49+'[1]201-250'!M49+'[1]251-300'!M49 -> 0 | N49: =IF(M49=0,VLOOKUP($B49,[1]Paramètres!$C$7:$F$55,$C$6,FALSE),O49/M49) -> 450 | O49: ='[1]1-50'!O49+'[1]51-100'!O49+'[1]101-150'!O49+'[1]151-200'!O49+'[1]201-250'!O49+'[1]251-300'!O49 -> 0 | P49: ='[1]1-50'!P49+'[1]51-100'!P49+'[1]101-150'!P49+'[1]151-200'!P49+'[1]201-250'!P49+'[1]251-300'!P49 -> 0 | Q49: =IF(P49=0,VLOOKUP($B49,[1]Paramètres!$C$7:$F$55,$C$6,FALSE),R49/P49) -> 450 | R49: ='[1]1-50'!R49+'[1]51-100'!R49+'[1]101-150'!R49+'[1]151-200'!R49+'[1]201-250'!R49+'[1]251-300'!R49 -> 0 | S49: ='[1]1-50'!S49+'[1]51-100'!S49+'[1]101-150'!S49+'[1]151-200'!S49+'[1]201-250'!S49+'[1]251-300'!S49 -> 0 | T49: =IF(S49=0,VLOOKUP($B49,[1]Paramètres!$C$7:$F$55,$C$6,FALSE),U49/S49) -> 450 | U49: ='[1]1-50'!U49+'[1]51-100'!U49+'[1]101-150'!U49+'[1]151-200'!U49+'[1]201-250'!U49+'[1]251-300'!U49 -> 0 | V49: ='[1]1-50'!V49+'[1]51-100'!V49+'[1]101-150'!V49+'[1]151-200'!V49+'[1]201-250'!V49+'[1]251-300'!V49 -> 0 | W49: =IF(V49=0,VLOOKUP($B49,[1]Paramètres!$C$7:$F$55,$C$6,FALSE),X49/V49) -> 450 | X49: ='[1]1-50'!X49+'[1]51-100'!X49+'[1]101-150'!X49+'[1]151-200'!X49+'[1]201-250'!X49+'[1]251-300'!X49 -> 0 | Y49: ='[1]1-50'!Y49+'[1]51-100'!Y49+'[1]101-150'!Y49+'[1]151-200'!Y49+'[1]201-250'!Y49+'[1]251-300'!Y49 -> 0 | Z49: =IF(Y49=0,VLOOKUP($B49,[1]Paramètres!$C$7:$F$55,$C$6,FALSE),AA49/Y49) -> 450 | AA49: ='[1]1-50'!AA49+'[1]51-100'!AA49+'[1]101-150'!AA49+'[1]151-200'!AA49+'[1]201-250'!AA49+'[1]251-300'!AA49 -> 0 | AB49: ='[1]1-50'!AB49+'[1]51-100'!AB49+'[1]101-150'!AB49+'[1]151-200'!AB49+'[1]201-250'!AB49+'[1]251-300'!AB49 -> 0 | AC49: =IF(AB49=0,VLOOKUP($B49,[1]Paramètres!$C$7:$F$55,$C$6,FALSE),AD49/AB49) -> 450 | AD49: ='[1]1-50'!AD49+'[1]51-100'!AD49+'[1]101-150'!AD49+'[1]151-200'!AD49+'[1]201-250'!AD49+'[1]251-300'!AD49 -> 0 | AE49: ='[1]1-50'!AE49+'[1]51-100'!AE49+'[1]101-150'!AE49+'[1]151-200'!AE49+'[1]201-250'!AE49+'[1]251-300'!AE49 -> 0 | AF49: =IF(AE49=0,VLOOKUP($B49,[1]Paramètres!$C$7:$F$55,$C$6,FALSE),AG49/AE49) -> 450 | AG49: ='[1]1-50'!AG49+'[1]51-100'!AG49+'[1]101-150'!AG49+'[1]151-200'!AG49+'[1]201-250'!AG49+'[1]251-300'!AG49 -> 0 | AH49: ='[1]1-50'!AH49+'[1]51-100'!AH49+'[1]101-150'!AH49+'[1]151-200'!AH49+'[1]201-250'!AH49+'[1]251-300'!AH49 -> 0 | AI49: =IF(AH49=0,VLOOKUP($B49,[1]Paramètres!$C$7:$F$55,$C$6,FALSE),AJ49/AH49) -> 450 | AJ49: ='[1]1-50'!AJ49+'[1]51-100'!AJ49+'[1]101-150'!AJ49+'[1]151-200'!AJ49+'[1]201-250'!AJ49+'[1]251-300'!AJ49 -> 0 | AK49: ='[1]1-50'!AK49+'[1]51-100'!AK49+'[1]101-150'!AK49+'[1]151-200'!AK49+'[1]201-250'!AK49+'[1]251-300'!AK49 -> 0 | AL49: =IF(AK49=0,VLOOKUP($B49,[1]Paramètres!$C$7:$F$55,$C$6,FALSE),AM49/AK49) -> 450 | AM49: ='[1]1-50'!AM49+'[1]51-100'!AM49+'[1]101-150'!AM49+'[1]151-200'!AM49+'[1]201-250'!AM49+'[1]251-300'!AM49 -> 0 | AN49: =SUM(D49,G49,J49,M49,P49,S49,V49,Y49,AB49,AE49,AH49,AK49) -> 0 | AO49: =VLOOKUP($B49,[1]Paramètres!$C$7:$F$55,$C$6,FALSE) -> 450 | AP49: =SUM(F49,I49,L49,O49,R49,U49,X49,AA49,AD49,AG49,AJ49,AM49) -> 0
B50: =[1]Paramètres!C39 -> Procédure de mise à pied | C50: =IF(AP50>0,"X","") | E50: =IF(D50=0,VLOOKUP($B50,[1]Paramètres!$C$7:$F$55,$C$6,FALSE),F50/D50) -> 250 | G50: ='[1]1-50'!G50+'[1]51-100'!G50+'[1]101-150'!G50+'[1]151-200'!G50+'[1]201-250'!G50+'[1]251-300'!G50 -> 0 | H50: =IF(G50=0,VLOOKUP($B50,[1]Paramètres!$C$7:$F$55,$C$6,FALSE),I50/G50) -> 250 | I50: ='[1]1-50'!I50+'[1]51-100'!I50+'[1]101-150'!I50+'[1]151-200'!I50+'[1]201-250'!I50+'[1]251-300'!I50 -> 0 | J50: ='[1]1-50'!J50+'[1]51-100'!J50+'[1]101-150'!J50+'[1]151-200'!J50+'[1]201-250'!J50+'[1]251-300'!J50 -> 0 | K50: =IF(J50=0,VLOOKUP($B50,[1]Paramètres!$C$7:$F$55,$C$6,FALSE),L50/J50) -> 250 | L50: ='[1]1-50'!L50+'[1]51-100'!L50+'[1]101-150'!L50+'[1]151-200'!L50+'[1]201-250'!L50+'[1]251-300'!L50 -> 0 | M50: ='[1]1-50'!M50+'[1]51-100'!M50+'[1]101-150'!M50+'[1]151-200'!M50+'[1]201-250'!M50+'[1]251-300'!M50 -> 0 | N50: =IF(M50=0,VLOOKUP($B50,[1]Paramètres!$C$7:$F$55,$C$6,FALSE),O50/M50) -> 250 | O50: ='[1]1-50'!O50+'[1]51-100'!O50+'[1]101-150'!O50+'[1]151-200'!O50+'[1]201-250'!O50+'[1]251-300'!O50 -> 0 | P50: ='[1]1-50'!P50+'[1]51-100'!P50+'[1]101-150'!P50+'[1]151-200'!P50+'[1]201-250'!P50+'[1]251-300'!P50 -> 0 | Q50: =IF(P50=0,VLOOKUP($B50,[1]Paramètres!$C$7:$F$55,$C$6,FALSE),R50/P50) -> 250 | R50: ='[1]1-50'!R50+'[1]51-100'!R50+'[1]101-150'!R50+'[1]151-200'!R50+'[1]201-250'!R50+'[1]251-300'!R50 -> 0 | S50: ='[1]1-50'!S50+'[1]51-100'!S50+'[1]101-150'!S50+'[1]151-200'!S50+'[1]201-250'!S50+'[1]251-300'!S50 -> 0 | T50: =IF(S50=0,VLOOKUP($B50,[1]Paramètres!$C$7:$F$55,$C$6,FALSE),U50/S50) -> 250 | U50: ='[1]1-50'!U50+'[1]51-100'!U50+'[1]101-150'!U50+'[1]151-200'!U50+'[1]201-250'!U50+'[1]251-300'!U50 -> 0 | V50: ='[1]1-50'!V50+'[1]51-100'!V50+'[1]101-150'!V50+'[1]151-200'!V50+'[1]201-250'!V50+'[1]251-300'!V50 -> 0 | W50: =IF(V50=0,VLOOKUP($B50,[1]Paramètres!$C$7:$F$55,$C$6,FALSE),X50/V50) -> 250 | X50: ='[1]1-50'!X50+'[1]51-100'!X50+'[1]101-150'!X50+'[1]151-200'!X50+'[1]201-250'!X50+'[1]251-300'!X50 -> 0 | Y50: ='[1]1-50'!Y50+'[1]51-100'!Y50+'[1]101-150'!Y50+'[1]151-200'!Y50+'[1]201-250'!Y50+'[1]251-300'!Y50 -> 0 | Z50: =IF(Y50=0,VLOOKUP($B50,[1]Paramètres!$C$7:$F$55,$C$6,FALSE),AA50/Y50) -> 250 | AA50: ='[1]1-50'!AA50+'[1]51-100'!AA50+'[1]101-150'!AA50+'[1]151-200'!AA50+'[1]201-250'!AA50+'[1]251-300'!AA50 -> 0 | AB50: ='[1]1-50'!AB50+'[1]51-100'!AB50+'[1]101-150'!AB50+'[1]151-200'!AB50+'[1]201-250'!AB50+'[1]251-300'!AB50 -> 0 | AC50: =IF(AB50=0,VLOOKUP($B50,[1]Paramètres!$C$7:$F$55,$C$6,FALSE),AD50/AB50) -> 250 | AD50: ='[1]1-50'!AD50+'[1]51-100'!AD50+'[1]101-150'!AD50+'[1]151-200'!AD50+'[1]201-250'!AD50+'[1]251-300'!AD50 -> 0 | AE50: ='[1]1-50'!AE50+'[1]51-100'!AE50+'[1]101-150'!AE50+'[1]151-200'!AE50+'[1]201-250'!AE50+'[1]251-300'!AE50 -> 0 | AF50: =IF(AE50=0,VLOOKUP($B50,[1]Paramètres!$C$7:$F$55,$C$6,FALSE),AG50/AE50) -> 250 | AG50: ='[1]1-50'!AG50+'[1]51-100'!AG50+'[1]101-150'!AG50+'[1]151-200'!AG50+'[1]201-250'!AG50+'[1]251-300'!AG50 -> 0 | AH50: ='[1]1-50'!AH50+'[1]51-100'!AH50+'[1]101-150'!AH50+'[1]151-200'!AH50+'[1]201-250'!AH50+'[1]251-300'!AH50 -> 0 | AI50: =IF(AH50=0,VLOOKUP($B50,[1]Paramètres!$C$7:$F$55,$C$6,FALSE),AJ50/AH50) -> 250 | AJ50: ='[1]1-50'!AJ50+'[1]51-100'!AJ50+'[1]101-150'!AJ50+'[1]151-200'!AJ50+'[1]201-250'!AJ50+'[1]251-300'!AJ50 -> 0 | AK50: ='[1]1-50'!AK50+'[1]51-100'!AK50+'[1]101-150'!AK50+'[1]151-200'!AK50+'[1]201-250'!AK50+'[1]251-300'!AK50 -> 0 | AL50: =IF(AK50=0,VLOOKUP($B50,[1]Paramètres!$C$7:$F$55,$C$6,FALSE),AM50/AK50) -> 250 | AM50: ='[1]1-50'!AM50+'[1]51-100'!AM50+'[1]101-150'!AM50+'[1]151-200'!AM50+'[1]201-250'!AM50+'[1]251-300'!AM50 -> 0 | AN50: =SUM(D50,G50,J50,M50,P50,S50,V50,Y50,AB50,AE50,AH50,AK50) -> 0 | AO50: =VLOOKUP($B50,[1]Paramètres!$C$7:$F$55,$C$6,FALSE) -> 250 | AP50: =SUM(F50,I50,L50,O50,R50,U50,X50,AA50,AD50,AG50,AJ50,AM50) -> 0
B51: =[1]Paramètres!C40 -> Assist. mise en place activ. partielle | C51: =IF(AP51>0,"X","") -> X | E51: =IF(D51=0,VLOOKUP($B51,[1]Paramètres!$C$7:$F$55,$C$6,FALSE),F51/D51) -> 40 | G51: ='[1]1-50'!G51+'[1]51-100'!G51+'[1]101-150'!G51+'[1]151-200'!G51+'[1]201-250'!G51+'[1]251-300'!G51 -> 0 | H51: =IF(G51=0,VLOOKUP($B51,[1]Paramètres!$C$7:$F$55,$C$6,FALSE),I51/G51) -> 40 | I51: ='[1]1-50'!I51+'[1]51-100'!I51+'[1]101-150'!I51+'[1]151-200'!I51+'[1]201-250'!I51+'[1]251-300'!I51 -> 0 | J51: ='[1]1-50'!J51+'[1]51-100'!J51+'[1]101-150'!J51+'[1]151-200'!J51+'[1]201-250'!J51+'[1]251-300'!J51 -> 0 | K51: =IF(J51=0,VLOOKUP($B51,[1]Paramètres!$C$7:$F$55,$C$6,FALSE),L51/J51) -> 40 | L51: ='[1]1-50'!L51+'[1]51-100'!L51+'[1]101-150'!L51+'[1]151-200'!L51+'[1]201-250'!L51+'[1]251-300'!L51 -> 0 | M51: ='[1]1-50'!M51+'[1]51-100'!M51+'[1]101-150'!M51+'[1]151-200'!M51+'[1]201-250'!M51+'[1]251-300'!M51 -> 4 | N51: =IF(M51=0,VLOOKUP($B51,[1]Paramètres!$C$7:$F$55,$C$6,FALSE),O51/M51) -> 45 | O51: ='[1]1-50'!O51+'[1]51-100'!O51+'[1]101-150'!O51+'[1]151-200'!O51+'[1]201-250'!O51+'[1]251-300'!O51 -> 180 | P51: ='[1]1-50'!P51+'[1]51-100'!P51+'[1]101-150'!P51+'[1]151-200'!P51+'[1]201-250'!P51+'[1]251-300'!P51 -> 0 | Q51: =IF(P51=0,VLOOKUP($B51,[1]Paramètres!$C$7:$F$55,$C$6,FALSE),R51/P51) -> 40 | R51: ='[1]1-50'!R51+'[1]51-100'!R51+'[1]101-150'!R51+'[1]151-200'!R51+'[1]201-250'!R51+'[1]251-300'!R51 -> 0 | S51: ='[1]1-50'!S51+'[1]51-100'!S51+'[1]101-150'!S51+'[1]151-200'!S51+'[1]201-250'!S51+'[1]251-300'!S51 -> 0 | T51: =IF(S51=0,VLOOKUP($B51,[1]Paramètres!$C$7:$F$55,$C$6,FALSE),U51/S51) -> 40 | U51: ='[1]1-50'!U51+'[1]51-100'!U51+'[1]101-150'!U51+'[1]151-200'!U51+'[1]201-250'!U51+'[1]251-300'!U51 -> 0 | V51: ='[1]1-50'!V51+'[1]51-100'!V51+'[1]101-150'!V51+'[1]151-200'!V51+'[1]201-250'!V51+'[1]251-300'!V51 -> 0 | W51: =IF(V51=0,VLOOKUP($B51,[1]Paramètres!$C$7:$F$55,$C$6,FALSE),X51/V51) -> 40 | X51: ='[1]1-50'!X51+'[1]51-100'!X51+'[1]101-150'!X51+'[1]151-200'!X51+'[1]201-250'!X51+'[1]251-300'!X51 -> 0 | Y51: ='[1]1-50'!Y51+'[1]51-100'!Y51+'[1]101-150'!Y51+'[1]151-200'!Y51+'[1]201-250'!Y51+'[1]251-300'!Y51 -> 0 | Z51: =IF(Y51=0,VLOOKUP($B51,[1]Paramètres!$C$7:$F$55,$C$6,FALSE),AA51/Y51) -> 40 | AA51: ='[1]1-50'!AA51+'[1]51-100'!AA51+'[1]101-150'!AA51+'[1]151-200'!AA51+'[1]201-250'!AA51+'[1]251-300'!AA51 -> 0 | AB51: ='[1]1-50'!AB51+'[1]51-100'!AB51+'[1]101-150'!AB51+'[1]151-200'!AB51+'[1]201-250'!AB51+'[1]251-300'!AB51 -> 0 | AC51: =IF(AB51=0,VLOOKUP($B51,[1]Paramètres!$C$7:$F$55,$C$6,FALSE),AD51/AB51) -> 40 | AD51: ='[1]1-50'!AD51+'[1]51-100'!AD51+'[1]101-150'!AD51+'[1]151-200'!AD51+'[1]201-250'!AD51+'[1]251-300'!AD51 -> 0 | AE51: ='[1]1-50'!AE51+'[1]51-100'!AE51+'[1]101-150'!AE51+'[1]151-200'!AE51+'[1]201-250'!AE51+'[1]251-300'!AE51 -> 0 | AF51: =IF(AE51=0,VLOOKUP($B51,[1]Paramètres!$C$7:$F$55,$C$6,FALSE),AG51/AE51) -> 40 | AG51: ='[1]1-50'!AG51+'[1]51-100'!AG51+'[1]101-150'!AG51+'[1]151-200'!AG51+'[1]201-250'!AG51+'[1]251-300'!AG51 -> 0 | AH51: ='[1]1-50'!AH51+'[1]51-100'!AH51+'[1]101-150'!AH51+'[1]151-200'!AH51+'[1]201-250'!AH51+'[1]251-300'!AH51 -> 0 | AI51: =IF(AH51=0,VLOOKUP($B51,[1]Paramètres!$C$7:$F$55,$C$6,FALSE),AJ51/AH51) -> 40 | AJ51: ='[1]1-50'!AJ51+'[1]51-100'!AJ51+'[1]101-150'!AJ51+'[1]151-200'!AJ51+'[1]201-250'!AJ51+'[1]251-300'!AJ51 -> 0 | AK51: ='[1]1-50'!AK51+'[1]51-100'!AK51+'[1]101-150'!AK51+'[1]151-200'!AK51+'[1]201-250'!AK51+'[1]251-300'!AK51 -> 0 | AL51: =IF(AK51=0,VLOOKUP($B51,[1]Paramètres!$C$7:$F$55,$C$6,FALSE),AM51/AK51) -> 40 | AM51: ='[1]1-50'!AM51+'[1]51-100'!AM51+'[1]101-150'!AM51+'[1]151-200'!AM51+'[1]201-250'!AM51+'[1]251-300'!AM51 -> 0 | AN51: =SUM(D51,G51,J51,M51,P51,S51,V51,Y51,AB51,AE51,AH51,AK51) -> 4 | AO51: =VLOOKUP($B51,[1]Paramètres!$C$7:$F$55,$C$6,FALSE) -> 40 | AP51: =SUM(F51,I51,L51,O51,R51,U51,X51,AA51,AD51,AG51,AJ51,AM51) -> 180
