Workbook

Sheet Paramètres
B3: ANNEE CIVILE : | C3: 2018
B4: BUREAU :
B6: ="Tarifs "&C3 -> Tarifs 2018
B7: Type | C7: Mission | D7: De 1 à 5 salariés | E7: De 6 à 10 salariés | F7: Au-delà de 10 salariés | H7: Liste bureaux | J7: Liste collaborateurs | K7: Code couleur
B8: Forfaits SO1 Mission social | C8: Bulletins (tarif unitaire) | D8: 21.5 | E8: 18.5 | F8: 15.5 | H8: Perpignan | J8: Anne-Marie Subra
C9: Bulletins refaits (tarif unitaire) | D9: =D8/2 -> 10.75 | E9: =E8/2 -> 9.25 | F9: =F8/2 -> 7.75 | H9: Planchand | J9: Brigitte Cayo
C10: Forfait gestion sociale | D10: 80 | E10: 100 | F10: 150 | H10: Saint Estève | J10: Clara Bouneggar
C11: Forfait création | D11: 90 | E11: 90 | F11: 90 | H11: Argelès sur Mer | J11: Francoise Olive
C12: Forfait reprise | D12: 130 | E12: 200 | F12: 300 | H12: Tous les sites | J12: Mehdi Chaal
B13: Missions ponctuelles SO2 Social conseil | C13: Divers | D13: 0 | E13: =D13 -> 0 | F13: =E13 -> 0 | J13: Nazha Hassani
C14: Lettre de promesse d'embauche | D14: 20 | E14: =D14 -> 20 | F14: =E14 -> 20 | J14: Sebastien Terrie
C15: Déclaration préalable à l'embauche | D15: 10 | E15: =D15 -> 10 | F15: =E15 -> 10 | J15: Severine Lencou
C16: Contrat de travail classique | D16: 45 | E16: =D16 -> 45 | F16: =E16 -> 45 | J16: Victoria Peron
C17: Contrat de travail spécifique | D17: 90 | E17: =D17 -> 90 | F17: =E17 -> 90 | J17: Tous les collaborateurs
C18: Avenant contrat classique | D18: 20 | E18: =D18 -> 20 | F18: =E18 -> 20
C19: Avenant contrat spécifique | D19: 0 | E19: =D19 -> 0 | F19: =E19 -> 0
C20: Contrat CERFA appentissage | D20: 45 | E20: =D20 -> 45 | F20: =E20 -> 45
C21: Constat de rupture à l'amiable CDD | D21: 30 | E21: =D21 -> 30 | F21: =E21 -> 30
C22: Rupture contrat d'apprentissage | D22: 30 | E22: =D22 -> 30 | F22: =E22 -> 30
C23: Documents de fin de contrat | D23: 22 | E23: =D23 -> 22 | F23: =E23 -> 22
C24: Déclaration accident de travail | D24: 30 | E24: =D24 -> 30 | F24: =E24 -> 30
C25: DSN évenementielle | D25: 7 | E25: =D25 -> 7 | F25: =E25 -> 7
C26: Avenant de renouvell. périoade essai | D26: 20 | E26: =D26 -> 20 | F26: =E26 -> 20
C27: Courrier info fin de période d'essai | D27: 20 | E27: =D27 -> 20 | F27: =E27 -> 20
C28: Courrier rupture période d'essai | D28: 20 | E28: =D28 -> 20 | F28: =E28 -> 20
C29: Simul bulletin salaire | D29: 15 | E29: =D29 -> 15 | F29: =E29 -> 15
... C32: Courrier salariés / administratif | D32: 15 | E32: =D32 -> 15 | F32: =E32 -> 15
B33: Missions exceptionnelles | C33: Licenciement économique individuel | D33: 650 | E33: =D33 -> 650 | F33: =E33 -> 650
C34: Licenciement économique collectif | E34: =D34 -> 0 | F34: =E34 -> 0
C35: Licenciement inaptitude | D35: 650 | E35: =D35 -> 650 | F35: =E35 -> 650
C36: Licenciement motif personnel | D36: 550 | E36: =D36 -> 550 | F36: =E36 -> 550
C37: Licenciement fin de chantier | D37: 250 | E37: =D37 -> 250 | F37: =E37 -> 250
C38: Rupture conventionnelle | D38: 450 | E38: =D38 -> 450 | F38: =E38 -> 450
C39: Procédure de mise à pied | D39: 250 | E39: =D39 -> 250 | F39: =E39 -> 250
C40: Assist. mise en place activ. partielle | D40: 40 | E40: =D40 -> 40 | F40: =E40 -> 40
C41: Assist. état mensuel activ. partielle | D41: 35 | E41: =D41 -> 35 | F41: =E41 -> 35
C42: Assist. contrôle URSSAF | E42: =D42 -> 0 | F42: =E42 -> 0
C43: Audit social complet | E43: =D43 -> 0 | F43: =E43 -> 0
C44: Assist. réalisation paye sur site | E44: =D44 -> 0 | F44: =E44 -> 0
C45: Mise en conformité décision unilatérale | E45: =D45 -> 0 | F45: =E45 -> 0
C46: Mise en conformité par référendum | E46: =D46 -> 0 | F46: =E46 -> 0
C47: Dénonciation usage | E47: =D47 -> 0 | F47: =E47 -> 0
C48: Mise en place accord d'entreprise | E48: =D48 -> 0 | F48: =E48 -> 0
C49: Accord d'intéressement | E49: =D49 -> 0 | F49: =E49 -> 0
C50: Accord de participation | E50: =D50 -> 0 | F50: =E50 -> 0
C51: Règlement intérieur | E51: =D51 -> 0 | F51: =E51 -> 0
C52: Assistance rédaction note de service | E52: =D52 -> 0 | F52: =E52 -> 0
C53: Elections des représentants du pers. | E53: =D53 -> 0 | F53: =E53 -> 0
C54: Affiches obligatoires | D54: 185 | E54: =D54 -> 185 | F54: =E54 -> 185
C55: Document unique risque professionnels | E55: =D55 -> 0 | F55: =E55 -> 0
B57: =RIGHT(CELL("nomfichier",A1),LEN(CELL("nomfichier",A1))-SEARCH("]",CELL("nomfichier",A1))) -> Paramètres
B59: Navigation entre feuilles de calcul d'un classeur
B61: Effectuez un clic droit sur les flèches situées en bas à gauche
B65: Une liste s'affiche. Si la feuille de calcul recherchée y est mentionnée, cliquez dessus pour l'activer
B86: La feuille de calcul sélectionnée est alors activée et s'affiche à l'écran.

Sheet Totaux mensuels
B2: Nom client : | D2: =MID(CELL("nomfichier",A1),FIND("]",CELL("nomfichier",A1))+1,32) -> Totaux mensuels
B3: N° client : | D3: 5100000
B4: ="Collaborateur (dossiers "&Paramètres!C4&")" -> Collaborateur (dossiers ) | D4: Tous les collaborateurs
B5: Site | D5: Tous les sites
B6: Effectif moyen prévu : | C6: =IF(D6=Paramètres!D7,2,IF(D6=Paramètres!E7,3,IF(D6=Paramètres!F7,4,"erreur"))) -> 2 | D6: De 1 à 5 salariés
B7: =CONCATENATE(D4,"_",D5) -> Tous les collaborateurs_Tous les sites
B8: Informations utiles au dossier :
B15: Missions | D15: Janvier | G15: Février | J15: Mars | M15: Avril | P15: Mai | S15: Juin | V15: Juillet | Y15: Août | AB15: Septembre | AE15: Octobre | AH15: Novembre | AK15: Décembre | AN15: TOTAL
D16: Qté | E16: P.U. | F16: Montant | G16: Qté | H16: P.U. | I16: Montant | J16: Qté | K16: P.U. | L16: Montant | M16: Qté | N16: P.U. | O16: Montant | P16: Qté | Q16: P.U. | R16: Montant | S16: Qté | T16: P.U. | U16: Montant | V16: Qté | W16: P.U. | X16: Montant | Y16: Qté | Z16: P.U. | AA16: Montant | AB16: Qté | AC16: P.U. | AD16: Montant | AE16: Qté | AF16: P.U. | AG16: Montant | AH16: Qté | AI16: P.U. | AJ16: Montant | AK16: Qté | AL16: P.U. | AM16: Montant | AN16: Qté | AO16: P.U. | AP16: Montant
B17: =Paramètres!C8 -> Bulletins (tarif unitaire) | C17: =IF(AP17>0,"X","") | E17: =IF(D17=0,VLOOKUP($B17,[1]Paramètres!$C$7:$F$55,$C$6,FALSE),F17/D17) -> 21.5 | H17: =IF(G17=0,VLOOKUP($B17,[1]Paramètres!$C$7:$F$55,$C$6,FALSE),I17/G17) -> 21.5 | K17: =IF(J17=0,VLOOKUP($B17,[1]Paramètres!$C$7:$F$55,$C$6,FALSE),L17/J17) -> 21.5 | N17: =IF(M17=0,VLOOKUP($B17,[1]Paramètres!$C$7:$F$55,$C$6,FALSE),O17/M17) -> 21.5 | Q17: =IF(P17=0,VLOOKUP($B17,[1]Paramètres!$C$7:$F$55,$C$6,FALSE),R17/P17) -> 21.5 | T17: =IF(S17=0,VLOOKUP($B17,[1]Paramètres!$C$7:$F$55,$C$6,FALSE),U17/S17) -> 21.5 | W17: =IF(V17=0,VLOOKUP($B17,[1]Paramètres!$C$7:$F$55,$C$6,FALSE),X17/V17) -> 21.5 | Z17: =IF(Y17=0,VLOOKUP($B17,[1]Paramètres!$C$7:$F$55,$C$6,FALSE),AA17/Y17) -> 21.5 | AC17: =IF(AB17=0,VLOOKUP($B17,[1]Paramètres!$C$7:$F$55,$C$6,FALSE),AD17/AB17) -> 21.5 | AF17: =IF(AE17=0,VLOOKUP($B17,[1]Paramètres!$C$7:$F$55,$C$6,FALSE),AG17/AE17) -> 21.5 | AI17: =IF(AH17=0,VLOOKUP($B17,[1]Paramètres!$C$7:$F$55,$C$6,FALSE),AJ17/AH17) -> 21.5 | AL17: =IF(AK17=0,VLOOKUP($B17,[1]Paramètres!$C$7:$F$55,$C$6,FALSE),AM17/AK17) -> 21.5 | AN17: =SUM(D17,G17,J17,M17,P17,S17,V17,Y17,AB17,AE17,AH17,AK17) -> 0 | AO17: =VLOOKUP($B17,[1]Paramètres!$C$7:$F$55,$C$6,FALSE) -> 21.5 | AP17: =SUM(F17,I17,L17,O17,R17,U17,X17,AA17,AD17,AG17,AJ17,AM17) -> 0
B18: =[1]Paramètres!C9 -> Bulletins refaits (tarif unitaire) | C18: =IF(AP18>0,"X","") | E18: =IF(D18=0,VLOOKUP($B18,[1]Paramètres!$C$7:$F$55,$C$6,FALSE),F18/D18) -> 10.75 | H18: =IF(G18=0,VLOOKUP($B18,[1]Paramètres!$C$7:$F$55,$C$6,FALSE),I18/G18) -> 10.75 | K18: =IF(J18=0,VLOOKUP($B18,[1]Paramètres!$C$7:$F$55,$C$6,FALSE),L18/J18) -> 10.75 | N18: =IF(M18=0,VLOOKUP($B18,[1]Paramètres!$C$7:$F$55,$C$6,FALSE),O18/M18) -> 10.75 | Q18: =IF(P18=0,VLOOKUP($B18,[1]Paramètres!$C$7:$F$55,$C$6,FALSE),R18/P18) -> 10.75 | T18: =IF(S18=0,VLOOKUP($B18,[1]Paramètres!$C$7:$F$55,$C$6,FALSE),U18/S18) -> 10.75 | W18: =IF(V18=0,VLOOKUP($B18,[1]Paramètres!$C$7:$F$55,$C$6,FALSE),X18/V18) -> 10.75 | Z18: =IF(Y18=0,VLOOKUP($B18,[1]Paramètres!$C$7:$F$55,$C$6,FALSE),AA18/Y18) -> 10.75 | AC18: =IF(AB18=0,VLOOKUP($B18,[1]Paramètres!$C$7:$F$55,$C$6,FALSE),AD18/AB18) -> 10.75 | AF18: =IF(AE18=0,VLOOKUP($B18,[1]Paramètres!$C$7:$F$55,$C$6,FALSE),AG18/AE18) -> 10.75 | AI18: =IF(AH18=0,VLOOKUP($B18,[1]Paramètres!$C$7:$F$55,$C$6,FALSE),AJ18/AH18) -> 10.75 | AL18: =IF(AK18=0,VLOOKUP($B18,[1]Paramètres!$C$7:$F$55,$C$6,FALSE),AM18/AK18) -> 10.75 | AN18: =SUM(D18,G18,J18,M18,P18,S18,V18,Y18,AB18,AE18,AH18,AK18) -> 0 | AO18: =VLOOKUP($B18,[1]Paramètres!$C$7:$F$55,$C$6,FALSE) -> 10.75 | AP18: =SUM(F18,I18,L18,O18,R18,U18,X18,AA18,AD18,AG18,AJ18,AM18) -> 0
B19: =[1]Paramètres!C10 -> Forfait gestion sociale | C19: =IF(AP19>0,"X","") | E19: =IF(D19=0,VLOOKUP($B19,[1]Paramètres!$C$7:$F$55,$C$6,FALSE),F19/D19) -> 80 | H19: =IF(G19=0,VLOOKUP($B19,[1]Paramètres!$C$7:$F$55,$C$6,FALSE),I19/G19) -> 80 | K19: =IF(J19=0,VLOOKUP($B19,[1]Paramètres!$C$7:$F$55,$C$6,FALSE),L19/J19) -> 80 | N19: =IF(M19=0,VLOOKUP($B19,[1]Paramètres!$C$7:$F$55,$C$6,FALSE),O19/M19) -> 80 | Q19: =IF(P19=0,VLOOKUP($B19,[1]Paramètres!$C$7:$F$55,$C$6,FALSE),R19/P19) -> 80 | T19: =IF(S19=0,VLOOKUP($B19,[1]Paramètres!$C$7:$F$55,$C$6,FALSE),U19/S19) -> 80 | W19: =IF(V19=0,VLOOKUP($B19,[1]Paramètres!$C$7:$F$55,$C$6,FALSE),X19/V19) -> 80 | Z19: =IF(Y19=0,VLOOKUP($B19,[1]Paramètres!$C$7:$F$55,$C$6,FALSE),AA19/Y19) -> 80 | AC19: =IF(AB19=0,VLOOKUP($B19,[1]Paramètres!$C$7:$F$55,$C$6,FALSE),AD19/AB19) -> 80 | AF19: =IF(AE19=0,VLOOKUP($B19,[1]Paramètres!$C$7:$F$55,$C$6,FALSE),AG19/AE19) -> 80 | AI19: =IF(AH19=0,VLOOKUP($B19,[1]Paramètres!$C$7:$F$55,$C$6,FALSE),AJ19/AH19) -> 80 | AL19: =IF(AK19=0,VLOOKUP($B19,[1]Paramètres!$C$7:$F$55,$C$6,FALSE),AM19/AK19) -> 80 | AN19: =SUM(D19,G19,J19,M19,P19,S19,V19,Y19,AB19,AE19,AH19,AK19) -> 0 | AO19: =VLOOKUP($B19,[1]Paramètres!$C$7:$F$55,$C$6,FALSE) -> 80 | AP19: =SUM(F19,I19,L19,O19,R19,U19,X19,AA19,AD19,AG19,AJ19,AM19) -> 0
B20: =[1]Paramètres!C11 -> Forfait création | C20: =IF(AP20>0,"X","") | E20: =IF(D20=0,VLOOKUP($B20,[1]Paramètres!$C$7:$F$55,$C$6,FALSE),F20/D20) -> 90 | H20: =IF(G20=0,VLOOKUP($B20,[1]Paramètres!$C$7:$F$55,$C$6,FALSE),I20/G20) -> 90 | K20: =IF(J20=0,VLOOKUP($B20,[1]Paramètres!$C$7:$F$55,$C$6,FALSE),L20/J20) -> 90 | N20: =IF(M20=0,VLOOKUP($B20,[1]Paramètres!$C$7:$F$55,$C$6,FALSE),O20/M20) -> 90 | Q20: =IF(P20=0,VLOOKUP($B20,[1]Paramètres!$C$7:$F$55,$C$6,FALSE),R20/P20) -> 90 | T20: =IF(S20=0,VLOOKUP($B20,[1]Paramètres!$C$7:$F$55,$C$6,FALSE),U20/S20) -> 90 | W20: =IF(V20=0,VLOOKUP($B20,[1]Paramètres!$C$7:$F$55,$C$6,FALSE),X20/V20) -> 90 | Z20: =IF(Y20=0,VLOOKUP($B20,[1]Paramètres!$C$7:$F$55,$C$6,FALSE),AA20/Y20) -> 90 | AC20: =IF(AB20=0,VLOOKUP($B20,[1]Paramètres!$C$7:$F$55,$C$6,FALSE),AD20/AB20) -> 90 | AF20: =IF(AE20=0,VLOOKUP($B20,[1]Paramètres!$C$7:$F$55,$C$6,FALSE),AG20/AE20) -> 90 | AI20: =IF(AH20=0,VLOOKUP($B20,[1]Paramètres!$C$7:$F$55,$C$6,FALSE),AJ20/AH20) -> 90 | AL20: =IF(AK20=0,VLOOKUP($B20,[1]Paramètres!$C$7:$F$55,$C$6,FALSE),AM20/AK20) -> 90 | AN20: =SUM(D20,G20,J20,M20,P20,S20,V20,Y20,AB20,AE20,AH20,AK20) -> 0 | AO20: =VLOOKUP($B20,[1]Paramètres!$C$7:$F$55,$C$6,FALSE) -> 90 | AP20: =SUM(F20,I20,L20,O20,R20,U20,X20,AA20,AD20,AG20,AJ20,AM20) -> 0
B21: =[1]Paramètres!C12 -> Forfait reprise | C21: =IF(AP21>0,"X","") | E21: =IF(D21=0,VLOOKUP($B21,[1]Paramètres!$C$7:$F$55,$C$6,FALSE),F21/D21) -> 130 | H21: =IF(G21=0,VLOOKUP($B21,[1]Paramètres!$C$7:$F$55,$C$6,FALSE),I21/G21) -> 130 | K21: =IF(J21=0,VLOOKUP($B21,[1]Paramètres!$C$7:$F$55,$C$6,FALSE),L21/J21) -> 130 | N21: =IF(M21=0,VLOOKUP($B21,[1]Paramètres!$C$7:$F$55,$C$6,FALSE),O21/M21) -> 130 | Q21: =IF(P21=0,VLOOKUP($B21,[1]Paramètres!$C$7:$F$55,$C$6,FALSE),R21/P21) -> 130 | T21: =IF(S21=0,VLOOKUP($B21,[1]Paramètres!$C$7:$F$55,$C$6,FALSE),U21/S21) -> 130 | W21: =IF(V21=0,VLOOKUP($B21,[1]Paramètres!$C$7:$F$55,$C$6,FALSE),X21/V21) -> 130 | Z21: =IF(Y21=0,VLOOKUP($B21,[1]Paramètres!$C$7:$F$55,$C$6,FALSE),AA21/Y21) -> 130 | AC21: =IF(AB21=0,VLOOKUP($B21,[1]Paramètres!$C$7:$F$55,$C$6,FALSE),AD21/AB21) -> 130 | AF21: =IF(AE21=0,VLOOKUP($B21,[1]Paramètres!$C$7:$F$55,$C$6,FALSE),AG21/AE21) -> 130 | AI21: =IF(AH21=0,VLOOKUP($B21,[1]Paramètres!$C$7:$F$55,$C$6,FALSE),AJ21/AH21) -> 130 | AL21: =IF(AK21=0,VLOOKUP($B21,[1]Paramètres!$C$7:$F$55,$C$6,FALSE),AM21/AK21) -> 130 | AN21: =SUM(D21,G21,J21,M21,P21,S21,V21,Y21,AB21,AE21,AH21,AK21) -> 0 | AO21: =VLOOKUP($B21,[1]Paramètres!$C$7:$F$55,$C$6,FALSE) -> 130 | AP21: =SUM(F21,I21,L21,O21,R21,U21,X21,AA21,AD21,AG21,AJ21,AM21) -> 0
B22: TOTAL SO1 Mission social | C22: X | AP22: =SUM(AP17:AP21) -> 0
B23: =[1]Paramètres!C13 -> Divers | C23: =IF(AP23>0,"X","") | E23: =IF(D23=0,VLOOKUP($B23,[1]Paramètres!$C$7:$F$55,$C$6,FALSE),F23/D23) -> 0 | H23: =IF(G23=0,VLOOKUP($B23,[1]Paramètres!$C$7:$F$55,$C$6,FALSE),I23/G23) -> 0 | K23: =IF(J23=0,VLOOKUP($B23,[1]Paramètres!$C$7:$F$55,$C$6,FALSE),L23/J23) -> 0 | N23: =IF(M23=0,VLOOKUP($B23,[1]Paramètres!$C$7:$F$55,$C$6,FALSE),O23/M23) -> 0 | Q23: =IF(P23=0,VLOOKUP($B23,[1]Paramètres!$C$7:$F$55,$C$6,FALSE),R23/P23) -> 0 | T23: =IF(S23=0,VLOOKUP($B23,[1]Paramètres!$C$7:$F$55,$C$6,FALSE),U23/S23) -> 0 | W23: =IF(V23=0,VLOOKUP($B23,[1]Paramètres!$C$7:$F$55,$C$6,FALSE),X23/V23) -> 0 | Z23: =IF(Y23=0,VLOOKUP($B23,[1]Paramètres!$C$7:$F$55,$C$6,FALSE),AA23/Y23) -> 0 | AC23: =IF(AB23=0,VLOOKUP($B23,[1]Paramètres!$C$7:$F$55,$C$6,FALSE),AD23/AB23) -> 0 | AF23: =IF(AE23=0,VLOOKUP($B23,[1]Paramètres!$C$7:$F$55,$C$6,FALSE),AG23/AE23) -> 0 | AI23: =IF(AH23=0,VLOOKUP($B23,[1]Paramètres!$C$7:$F$55,$C$6,FALSE),AJ23/AH23) -> 0 | AL23: =IF(AK23=0,VLOOKUP($B23,[1]Paramètres!$C$7:$F$55,$C$6,FALSE),AM23/AK23) -> 0 | AN23: =SUM(D23,G23,J23,M23,P23,S23,V23,Y23,AB23,AE23,AH23,AK23) -> 0 | AO23: =VLOOKUP($B23,[1]Paramètres!$C$7:$F$55,$C$6,FALSE) -> 0 | AP23: =SUM(F23,I23,L23,O23,R23,U23,X23,AA23,AD23,AG23,AJ23,AM23) -> 0
B24: =[1]Paramètres!C14 -> Lettre de promesse d'embauche | C24: =IF(AP24>0,"X","") | E24: =IF(D24=0,VLOOKUP($B24,[1]Paramètres!$C$7:$F$55,$C$6,FALSE),F24/D24) -> 20 | H24: =IF(G24=0,VLOOKUP($B24,[1]Paramètres!$C$7:$F$55,$C$6,FALSE),I24/G24) -> 20 | K24: =IF(J24=0,VLOOKUP($B24,[1]Paramètres!$C$7:$F$55,$C$6,FALSE),L24/J24) -> 20 | N24: =IF(M24=0,VLOOKUP($B24,[1]Paramètres!$C$7:$F$55,$C$6,FALSE),O24/M24) -> 20 | Q24: =IF(P24=0,VLOOKUP($B24,[1]Paramètres!$C$7:$F$55,$C$6,FALSE),R24/P24) -> 20 | T24: =IF(S24=0,VLOOKUP($B24,[1]Paramètres!$C$7:$F$55,$C$6,FALSE),U24/S24) -> 20 | W24: =IF(V24=0,VLOOKUP($B24,[1]Paramètres!$C$7:$F$55,$C$6,FALSE),X24/V24) -> 20 | Z24: =IF(Y24=0,VLOOKUP($B24,[1]Paramètres!$C$7:$F$55,$C$6,FALSE),AA24/Y24) -> 20 | AC24: =IF(AB24=0,VLOOKUP($B24,[1]Paramètres!$C$7:$F$55,$C$6,FALSE),AD24/AB24) -> 20 | AF24: =IF(AE24=0,VLOOKUP($B24,[1]Paramètres!$C$7:$F$55,$C$6,FALSE),AG24/AE24) -> 20 | AI24: =IF(AH24=0,VLOOKUP($B24,[1]Paramètres!$C$7:$F$55,$C$6,FALSE),AJ24/AH24) -> 20 | AL24: =IF(AK24=0,VLOOKUP($B24,[1]Paramètres!$C$7:$F$55,$C$6,FALSE),AM24/AK24) -> 20 | AN24: =SUM(D24,G24,J24,M24,P24,S24,V24,Y24,AB24,AE24,AH24,AK24) -> 0 | AO24: =VLOOKUP($B24,[1]Paramètres!$C$7:$F$55,$C$6,FALSE) -> 20 | AP24: =SUM(F24,I24,L24,O24,R24,U24,X24,AA24,AD24,AG24,AJ24,AM24) -> 0
B25: =[1]Paramètres!C15 -> Déclaration préalable à l'embauche | C25: =IF(AP25>0,"X","") | E25: =IF(D25=0,VLOOKUP($B25,[1]Paramètres!$C$7:$F$55,$C$6,FALSE),F25/D25) -> 10 | H25: =IF(G25=0,VLOOKUP($B25,[1]Paramètres!$C$7:$F$55,$C$6,FALSE),I25/G25) -> 10 | K25: =IF(J25=0,VLOOKUP($B25,[1]Paramètres!$C$7:$F$55,$C$6,FALSE),L25/J25) -> 10 | N25: =IF(M25=0,VLOOKUP($B25,[1]Paramètres!$C$7:$F$55,$C$6,FALSE),O25/M25) -> 10 | Q25: =IF(P25=0,VLOOKUP($B25,[1]Paramètres!$C$7:$F$55,$C$6,FALSE),R25/P25) -> 10 | T25: =IF(S25=0,VLOOKUP($B25,[1]Paramètres!$C$7:$F$55,$C$6,FALSE),U25/S25) -> 10 | W25: =IF(V25=0,VLOOKUP($B25,[1]Paramètres!$C$7:$F$55,$C$6,FALSE),X25/V25) -> 10 | Z25: =IF(Y25=0,VLOOKUP($B25,[1]Paramètres!$C$7:$F$55,$C$6,FALSE),AA25/Y25) -> 10 | AC25: =IF(AB25=0,VLOOKUP($B25,[1]Paramètres!$C$7:$F$55,$C$6,FALSE),AD25/AB25) -> 10 | AF25: =IF(AE25=0,VLOOKUP($B25,[1]Paramètres!$C$7:$F$55,$C$6,FALSE),AG25/AE25) -> 10 | AI25: =IF(AH25=0,VLOOKUP($B25,[1]Paramètres!$C$7:$F$55,$C$6,FALSE),AJ25/AH25) -> 10 | AL25: =IF(AK25=0,VLOOKUP($B25,[1]Paramètres!$C$7:$F$55,$C$6,FALSE),AM25/AK25) -> 10 | AN25: =SUM(D25,G25,J25,M25,P25,S25,V25,Y25,AB25,AE25,AH25,AK25) -> 0 | AO25: =VLOOKUP($B25,[1]Paramètres!$C$7:$F$55,$C$6,FALSE) -> 10 | AP25: =SUM(F25,I25,L25,O25,R25,U25,X25,AA25,AD25,AG25,AJ25,AM25) -> 0
B26: =[1]Paramètres!C16 -> Contrat de travail classique | C26: =IF(AP26>0,"X","") | E26: =IF(D26=0,VLOOKUP($B26,[1]Paramètres!$C$7:$F$55,$C$6,FALSE),F26/D26) -> 45 | H26: =IF(G26=0,VLOOKUP($B26,[1]Paramètres!$C$7:$F$55,$C$6,FALSE),I26/G26) -> 45 | K26: =IF(J26=0,VLOOKUP($B26,[1]Paramètres!$C$7:$F$55,$C$6,FALSE),L26/J26) -> 45 | N26: =IF(M26=0,VLOOKUP($B26,[1]Paramètres!$C$7:$F$55,$C$6,FALSE),O26/M26) -> 45 | Q26: =IF(P26=0,VLOOKUP($B26,[1]Paramètres!$C$7:$F$55,$C$6,FALSE),R26/P26) -> 45 | T26: =IF(S26=0,VLOOKUP($B26,[1]Paramètres!$C$7:$F$55,$C$6,FALSE),U26/S26) -> 45 | W26: =IF(V26=0,VLOOKUP($B26,[1]Paramètres!$C$7:$F$55,$C$6,FALSE),X26/V26) -> 45 | Z26: =IF(Y26=0,VLOOKUP($B26,[1]Paramètres!$C$7:$F$55,$C$6,FALSE),AA26/Y26) -> 45 | AC26: =IF(AB26=0,VLOOKUP($B26,[1]Paramètres!$C$7:$F$55,$C$6,FALSE),AD26/AB26) -> 45 | AF26: =IF(AE26=0,VLOOKUP($B26,[1]Paramètres!$C$7:$F$55,$C$6,FALSE),AG26/AE26) -> 45 | AI26: =IF(AH26=0,VLOOKUP($B26,[1]Paramètres!$C$7:$F$55,$C$6,FALSE),AJ26/AH26) -> 45 | AL26: =IF(AK26=0,VLOOKUP($B26,[1]Paramètres!$C$7:$F$55,$C$6,FALSE),AM26/AK26) -> 45 | AN26: =SUM(D26,G26,J26,M26,P26,S26,V26,Y26,AB26,AE26,AH26,AK26) -> 0 | AO26: =VLOOKUP($B26,[1]Paramètres!$C$7:$F$55,$C$6,FALSE) -> 45 | AP26: =SUM(F26,I26,L26,O26,R26,U26,X26,AA26,AD26,AG26,AJ26,AM26) -> 0
B27: =[1]Paramètres!C17 -> Contrat de travail spécifique | C27: =IF(AP27>0,"X","") | E27: =IF(D27=0,VLOOKUP($B27,[1]Paramètres!$C$7:$F$55,$C$6,FALSE),F27/D27) -> 90 | H27: =IF(G27=0,VLOOKUP($B27,[1]Paramètres!$C$7:$F$55,$C$6,FALSE),I27/G27) -> 90 | K27: =IF(J27=0,VLOOKUP($B27,[1]Paramètres!$C$7:$F$55,$C$6,FALSE),L27/J27) -> 90 | N27: =IF(M27=0,VLOOKUP($B27,[1]Paramètres!$C$7:$F$55,$C$6,FALSE),O27/M27) -> 90 | Q27: =IF(P27=0,VLOOKUP($B27,[1]Paramètres!$C$7:$F$55,$C$6,FALSE),R27/P27) -> 90 | T27: =IF(S27=0,VLOOKUP($B27,[1]Paramètres!$C$7:$F$55,$C$6,FALSE),U27/S27) -> 90 | W27: =IF(V27=0,VLOOKUP($B27,[1]Paramètres!$C$7:$F$55,$C$6,FALSE),X27/V27) -> 90 | Z27: =IF(Y27=0,VLOOKUP($B27,[1]Paramètres!$C$7:$F$55,$C$6,FALSE),AA27/Y27) -> 90 | AC27: =IF(AB27=0,VLOOKUP($B27,[1]Paramètres!$C$7:$F$55,$C$6,FALSE),AD27/AB27) -> 90 | AF27: =IF(AE27=0,VLOOKUP($B27,[1]Paramètres!$C$7:$F$55,$C$6,FALSE),AG27/AE27) -> 90 | AI27: =IF(AH27=0,VLOOKUP($B27,[1]Paramètres!$C$7:$F$55,$C$6,FALSE),AJ27/AH27) -> 90 | AL27: =IF(AK27=0,VLOOKUP($B27,[1]Paramètres!$C$7:$F$55,$C$6,FALSE),AM27/AK27) -> 90 | AN27: =SUM(D27,G27,J27,M27,P27,S27,V27,Y27,AB27,AE27,AH27,AK27) -> 0 | AO27: =VLOOKUP($B27,[1]Paramètres!$C$7:$F$55,$C$6,FALSE) -> 90 | AP27: =SUM(F27,I27,L27,O27,R27,U27,X27,AA27,AD27,AG27,AJ27,AM27) -> 0
B28: =[1]Paramètres!C18 -> Avenant contrat classique | C28: =IF(AP28>0,"X","") | E28: =IF(D28=0,VLOOKUP($B28,[1]Paramètres!$C$7:$F$55,$C$6,FALSE),F28/D28) -> 20 | H28: =IF(G28=0,VLOOKUP($B28,[1]Paramètres!$C$7:$F$55,$C$6,FALSE),I28/G28) -> 20 | K28: =IF(J28=0,VLOOKUP($B28,[1]Paramètres!$C$7:$F$55,$C$6,FALSE),L28/J28) -> 20 | N28: =IF(M28=0,VLOOKUP($B28,[1]Paramètres!$C$7:$F$55,$C$6,FALSE),O28/M28) -> 20 | Q28: =IF(P28=0,VLOOKUP($B28,[1]Paramètres!$C$7:$F$55,$C$6,FALSE),R28/P28) -> 20 | T28: =IF(S28=0,VLOOKUP($B28,[1]Paramètres!$C$7:$F$55,$C$6,FALSE),U28/S28) -> 20 | W28: =IF(V28=0,VLOOKUP($B28,[1]Paramètres!$C$7:$F$55,$C$6,FALSE),X28/V28) -> 20 | Z28: =IF(Y28=0,VLOOKUP($B28,[1]Paramètres!$C$7:$F$55,$C$6,FALSE),AA28/Y28) -> 20 | AC28: =IF(AB28=0,VLOOKUP($B28,[1]Paramètres!$C$7:$F$55,$C$6,FALSE),AD28/AB28) -> 20 | AF28: =IF(AE28=0,VLOOKUP($B28,[1]Paramètres!$C$7:$F$55,$C$6,FALSE),AG28/AE28) -> 20 | AI28: =IF(AH28=0,VLOOKUP($B28,[1]Paramètres!$C$7:$F$55,$C$6,FALSE),AJ28/AH28) -> 20 | AL28: =IF(AK28=0,VLOOKUP($B28,[1]Paramètres!$C$7:$F$55,$C$6,FALSE),AM28/AK28) -> 20 | AN28: =SUM(D28,G28,J28,M28,P28,S28,V28,Y28,AB28,AE28,AH28,AK28) -> 0 | AO28: =VLOOKUP($B28,[1]Paramètres!$C$7:$F$55,$C$6,FALSE) -> 20 | AP28: =SUM(F28,I28,L28,O28,R28,U28,X28,AA28,AD28,AG28,AJ28,AM28) -> 0
B29: =[1]Paramètres!C19 -> Avenant contrat spécifique | C29: =IF(AP29>0,"X","") | E29: =IF(D29=0,VLOOKUP($B29,[1]Paramètres!$C$7:$F$55,$C$6,FALSE),F29/D29) -> 0 | H29: =IF(G29=0,VLOOKUP($B29,[1]Paramètres!$C$7:$F$55,$C$6,FALSE),I29/G29) -> 0 | K29: =IF(J29=0,VLOOKUP($B29,[1]Paramètres!$C$7:$F$55,$C$6,FALSE),L29/J29) -> 0 | N29: =IF(M29=0,VLOOKUP($B29,[1]Paramètres!$C$7:$F$55,$C$6,FALSE),O29/M29) -> 0 | Q29: =IF(P29=0,VLOOKUP($B29,[1]Paramètres!$C$7:$F$55,$C$6,FALSE),R29/P29) -> 0 | T29: =IF(S29=0,VLOOKUP($B29,[1]Paramètres!$C$7:$F$55,$C$6,FALSE),U29/S29) -> 0 | W29: =IF(V29=0,VLOOKUP($B29,[1]Paramètres!$C$7:$F$55,$C$6,FALSE),X29/V29) -> 0 | Z29: =IF(Y29=0,VLOOKUP($B29,[1]Paramètres!$C$7:$F$55,$C$6,FALSE),AA29/Y29) -> 0 | AC29: =IF(AB29=0,VLOOKUP($B29,[1]Paramètres!$C$7:$F$55,$C$6,FALSE),AD29/AB29) -> 0 | AF29: =IF(AE29=0,VLOOKUP($B29,[1]Paramètres!$C$7:$F$55,$C$6,FALSE),AG29/AE29) -> 0 | AI29: =IF(AH29=0,VLOOKUP($B29,[1]Paramètres!$C$7:$F$55,$C$6,FALSE),AJ29/AH29) -> 0 | AL29: =IF(AK29=0,VLOOKUP($B29,[1]Paramètres!$C$7:$F$55,$C$6,FALSE),AM29/AK29) -> 0 | AN29: =SUM(D29,G29,J29,M29,P29,S29,V29,Y29,AB29,AE29,AH29,AK29) -> 0 | AO29: =VLOOKUP($B29,[1]Paramètres!$C$7:$F$55,$C$6,FALSE) -> 0 | AP29: =SUM(F29,I29,L29,O29,R29,U29,X29,AA29,AD29,AG29,AJ29,AM29) -> 0
B30: =[1]Paramètres!C20 -> Contrat CERFA appentissage | C30: =IF(AP30>0,"X","") | E30: =IF(D30=0,VLOOKUP($B30,[1]Paramètres!$C$7:$F$55,$C$6,FALSE),F30/D30) -> 45 | H30: =IF(G30=0,VLOOKUP($B30,[1]Paramètres!$C$7:$F$55,$C$6,FALSE),I30/G30) -> 45 | K30: =IF(J30=0,VLOOKUP($B30,[1]Paramètres!$C$7:$F$55,$C$6,FALSE),L30/J30) -> 45 | N30: =IF(M30=0,VLOOKUP($B30,[1]Paramètres!$C$7:$F$55,$C$6,FALSE),O30/M30) -> 45 | Q30: =IF(P30=0,VLOOKUP($B30,[1]Paramètres!$C$7:$F$55,$C$6,FALSE),R30/P30) -> 45 | T30: =IF(S30=0,VLOOKUP($B30,[1]Paramètres!$C$7:$F$55,$C$6,FALSE),U30/S30) -> 45 | W30: =IF(V30=0,VLOOKUP($B30,[1]Paramètres!$C$7:$F$55,$C$6,FALSE),X30/V30) -> 45 | Z30: =IF(Y30=0,VLOOKUP($B30,[1]Paramètres!$C$7:$F$55,$C$6,FALSE),AA30/Y30) -> 45 | AC30: =IF(AB30=0,VLOOKUP($B30,[1]Paramètres!$C$7:$F$55,$C$6,FALSE),AD30/AB30) -> 45 | AF30: =IF(AE30=0,VLOOKUP($B30,[1]Paramètres!$C$7:$F$55,$C$6,FALSE),AG30/AE30) -> 45 | AI30: =IF(AH30=0,VLOOKUP($B30,[1]Paramètres!$C$7:$F$55,$C$6,FALSE),AJ30/AH30) -> 45 | AL30: =IF(AK30=0,VLOOKUP($B30,[1]Paramètres!$C$7:$F$55,$C$6,FALSE),AM30/AK30) -> 45 | AN30: =SUM(D30,G30,J30,M30,P30,S30,V30,Y30,AB30,AE30,AH30,AK30) -> 0 | AO30: =VLOOKUP($B30,[1]Paramètres!$C$7:$F$55,$C$6,FALSE) -> 45 | AP30: =SUM(F30,I30,L30,O30,R30,U30,X30,AA30,AD30,AG30,AJ30,AM30) -> 0
B31: =[1]Paramètres!C21 -> Constat de rupture à l'amiable CDD | C31: =IF(AP31>0,"X","") | E31: =IF(D31=0,VLOOKUP($B31,[1]Paramètres!$C$7:$F$55,$C$6,FALSE),F31/D31) -> 30 | H31: =IF(G31=0,VLOOKUP($B31,[1]Paramètres!$C$7:$F$55,$C$6,FALSE),I31/G31) -> 30 | K31: =IF(J31=0,VLOOKUP($B31,[1]Paramètres!$C$7:$F$55,$C$6,FALSE),L31/J31) -> 30 | N31: =IF(M31=0,VLOOKUP($B31,[1]Paramètres!$C$7:$F$55,$C$6,FALSE),O31/M31) -> 30 | Q31: =IF(P31=0,VLOOKUP($B31,[1]Paramètres!$C$7:$F$55,$C$6,FALSE),R31/P31) -> 30 | T31: =IF(S31=0,VLOOKUP($B31,[1]Paramètres!$C$7:$F$55,$C$6,FALSE),U31/S31) -> 30 | W31: =IF(V31=0,VLOOKUP($B31,[1]Paramètres!$C$7:$F$55,$C$6,FALSE),X31/V31) -> 30 | Z31: =IF(Y31=0,VLOOKUP($B31,[1]Paramètres!$C$7:$F$55,$C$6,FALSE),AA31/Y31) -> 30 | AC31: =IF(AB31=0,VLOOKUP($B31,[1]Paramètres!$C$7:$F$55,$C$6,FALSE),AD31/AB31) -> 30 | AF31: =IF(AE31=0,VLOOKUP($B31,[1]Paramètres!$C$7:$F$55,$C$6,FALSE),AG31/AE31) -> 30 | AI31: =IF(AH31=0,VLOOKUP($B31,[1]Paramètres!$C$7:$F$55,$C$6,FALSE),AJ31/AH31) -> 30 | AL31: =IF(AK31=0,VLOOKUP($B31,[1]Paramètres!$C$7:$F$55,$C$6,FALSE),AM31/AK31) -> 30 | AN31: =SUM(D31,G31,J31,M31,P31,S31,V31,Y31,AB31,AE31,AH31,AK31) -> 0 | AO31: =VLOOKUP($B31,[1]Paramètres!$C$7:$F$55,$C$6,FALSE) -> 30 | AP31: =SUM(F31,I31,L31,O31,R31,U31,X31,AA31,AD31,AG31,AJ31,AM31) -> 0
B32: =[1]Paramètres!C22 -> Rupture contrat d'apprentissage | C32: =IF(AP32>0,"X","") | E32: =IF(D32=0,VLOOKUP($B32,[1]Paramètres!$C$7:$F$55,$C$6,FALSE),F32/D32) -> 30 | H32: =IF(G32=0,VLOOKUP($B32,[1]Paramètres!$C$7:$F$55,$C$6,FALSE),I32/G32) -> 30 | K32: =IF(J32=0,VLOOKUP($B32,[1]Paramètres!$C$7:$F$55,$C$6,FALSE),L32/J32) -> 30 | N32: =IF(M32=0,VLOOKUP($B32,[1]Paramètres!$C$7:$F$55,$C$6,FALSE),O32/M32) -> 30 | Q32: =IF(P32=0,VLOOKUP($B32,[1]Paramètres!$C$7:$F$55,$C$6,FALSE),R32/P32) -> 30 | T32: =IF(S32=0,VLOOKUP($B32,[1]Paramètres!$C$7:$F$55,$C$6,FALSE),U32/S32) -> 30 | W32: =IF(V32=0,VLOOKUP($B32,[1]Paramètres!$C$7:$F$55,$C$6,FALSE),X32/V32) -> 30 | Z32: =IF(Y32=0,VLOOKUP($B32,[1]Paramètres!$C$7:$F$55,$C$6,FALSE),AA32/Y32) -> 30 | AC32: =IF(AB32=0,VLOOKUP($B32,[1]Paramètres!$C$7:$F$55,$C$6,FALSE),AD32/AB32) -> 30 | AF32: =IF(AE32=0,VLOOKUP($B32,[1]Paramètres!$C$7:$F$55,$C$6,FALSE),AG32/AE32) -> 30 | AI32: =IF(AH32=0,VLOOKUP($B32,[1]Paramètres!$C$7:$F$55,$C$6,FALSE),AJ32/AH32) -> 30 | AL32: =IF(AK32=0,VLOOKUP($B32,[1]Paramètres!$C$7:$F$55,$C$6,FALSE),AM32/AK32) -> 30 | AN32: =SUM(D32,G32,J32,M32,P32,S32,V32,Y32,AB32,AE32,AH32,AK32) -> 0 | AO32: =VLOOKUP($B32,[1]Paramètres!$C$7:$F$55,$C$6,FALSE) -> 30 | AP32: =SUM(F32,I32,L32,O32,R32,U32,X32,AA32,AD32,AG32,AJ32,AM32) -> 0
B33: =[1]Paramètres!C23 -> Documents de fin de contrat | C33: =IF(AP33>0,"X","") | E33: =IF(D33=0,VLOOKUP($B33,[1]Paramètres!$C$7:$F$55,$C$6,FALSE),F33/D33) -> 22 | H33: =IF(G33=0,VLOOKUP($B33,[1]Paramètres!$C$7:$F$55,$C$6,FALSE),I33/G33) -> 22 | K33: =IF(J33=0,VLOOKUP($B33,[1]Paramètres!$C$7:$F$55,$C$6,FALSE),L33/J33) -> 22 | N33: =IF(M33=0,VLOOKUP($B33,[1]Paramètres!$C$7:$F$55,$C$6,FALSE),O33/M33) -> 22 | Q33: =IF(P33=0,VLOOKUP($B33,[1]Paramètres!$C$7:$F$55,$C$6,FALSE),R33/P33) -> 22 | T33: =IF(S33=0,VLOOKUP($B33,[1]Paramètres!$C$7:$F$55,$C$6,FALSE),U33/S33) -> 22 | W33: =IF(V33=0,VLOOKUP($B33,[1]Paramètres!$C$7:$F$55,$C$6,FALSE),X33/V33) -> 22 | Z33: =IF(Y33=0,VLOOKUP($B33,[1]Paramètres!$C$7:$F$55,$C$6,FALSE),AA33/Y33) -> 22 | AC33: =IF(AB33=0,VLOOKUP($B33,[1]Paramètres!$C$7:$F$55,$C$6,FALSE),AD33/AB33) -> 22 | AF33: =IF(AE33=0,VLOOKUP($B33,[1]Paramètres!$C$7:$F$55,$C$6,FALSE),AG33/AE33) -> 22 | AI33: =IF(AH33=0,VLOOKUP($B33,[1]Paramètres!$C$7:$F$55,$C$6,FALSE),AJ33/AH33) -> 22 | AL33: =IF(AK33=0,VLOOKUP($B33,[1]Paramètres!$C$7:$F$55,$C$6,FALSE),AM33/AK33) -> 22 | AN33: =SUM(D33,G33,J33,M33,P33,S33,V33,Y33,AB33,AE33,AH33,AK33) -> 0 | AO33: =VLOOKUP($B33,[1]Paramètres!$C$7:$F$55,$C$6,FALSE) -> 22 | AP33: =SUM(F33,I33,L33,O33,R33,U33,X33,AA33,AD33,AG33,AJ33,AM33) -> 0
B34: =[1]Paramètres!C24 -> Déclaration accident de travail | C34: =IF(AP34>0,"X","") | E34: =IF(D34=0,VLOOKUP($B34,[1]Paramètres!$C$7:$F$55,$C$6,FALSE),F34/D34) -> 30 | H34: =IF(G34=0,VLOOKUP($B34,[1]Paramètres!$C$7:$F$55,$C$6,FALSE),I34/G34) -> 30 | K34: =IF(J34=0,VLOOKUP($B34,[1]Paramètres!$C$7:$F$55,$C$6,FALSE),L34/J34) -> 30 | N34: =IF(M34=0,VLOOKUP($B34,[1]Paramètres!$C$7:$F$55,$C$6,FALSE),O34/M34) -> 30 | Q34: =IF(P34=0,VLOOKUP($B34,[1]Paramètres!$C$7:$F$55,$C$6,FALSE),R34/P34) -> 30 | T34: =IF(S34=0,VLOOKUP($B34,[1]Paramètres!$C$7:$F$55,$C$6,FALSE),U34/S34) -> 30 | W34: =IF(V34=0,VLOOKUP($B34,[1]Paramètres!$C$7:$F$55,$C$6,FALSE),X34/V34) -> 30 | Z34: =IF(Y34=0,VLOOKUP($B34,[1]Paramètres!$C$7:$F$55,$C$6,FALSE),AA34/Y34) -> 30 | AC34: =IF(AB34=0,VLOOKUP($B34,[1]Paramètres!$C$7:$F$55,$C$6,FALSE),AD34/AB34) -> 30 | AF34: =IF(AE34=0,VLOOKUP($B34,[1]Paramètres!$C$7:$F$55,$C$6,FALSE),AG34/AE34) -> 30 | AI34: =IF(AH34=0,VLOOKUP($B34,[1]Paramètres!$C$7:$F$55,$C$6,FALSE),AJ34/AH34) -> 30 | AL34: =IF(AK34=0,VLOOKUP($B34,[1]Paramètres!$C$7:$F$55,$C$6,FALSE),AM34/AK34) -> 30 | AN34: =SUM(D34,G34,J34,M34,P34,S34,V34,Y34,AB34,AE34,AH34,AK34) -> 0 | AO34: =VLOOKUP($B34,[1]Paramètres!$C$7:$F$55,$C$6,FALSE) -> 30 | AP34: =SUM(F34,I34,L34,O34,R34,U34,X34,AA34,AD34,AG34,AJ34,AM34) -> 0
... B42: =[1]Paramètres!C32 -> Courrier salariés / administratif | C42: =IF(AP42>0,"X","") | E42: =IF(D42=0,VLOOKUP($B42,[1]Paramètres!$C$7:$F$55,$C$6,FALSE),F42/D42) -> 15 | H42: =IF(G42=0,VLOOKUP($B42,[1]Paramètres!$C$7:$F$55,$C$6,FALSE),I42/G42) -> 15 | K42: =IF(J42=0,VLOOKUP($B42,[1]Paramètres!$C$7:$F$55,$C$6,FALSE),L42/J42) -> 15 | N42: =IF(M42=0,VLOOKUP($B42,[1]Paramètres!$C$7:$F$55,$C$6,FALSE),O42/M42) -> 15 | Q42: =IF(P42=0,VLOOKUP($B42,[1]Paramètres!$C$7:$F$55,$C$6,FALSE),R42/P42) -> 15 | T42: =IF(S42=0,VLOOKUP($B42,[1]Paramètres!$C$7:$F$55,$C$6,FALSE),U42/S42) -> 15 | W42: =IF(V42=0,VLOOKUP($B42,[1]Paramètres!$C$7:$F$55,$C$6,FALSE),X42/V42) -> 15 | Z42: =IF(Y42=0,VLOOKUP($B42,[1]Paramètres!$C$7:$F$55,$C$6,FALSE),AA42/Y42) -> 15 | AC42: =IF(AB42=0,VLOOKUP($B42,[1]Paramètres!$C$7:$F$55,$C$6,FALSE),AD42/AB42) -> 15 | AF42: =IF(AE42=0,VLOOKUP($B42,[1]Paramètres!$C$7:$F$55,$C$6,FALSE),AG42/AE42) -> 15 | AI42: =IF(AH42=0,VLOOKUP($B42,[1]Paramètres!$C$7:$F$55,$C$6,FALSE),AJ42/AH42) -> 15 | AL42: =IF(AK42=0,VLOOKUP($B42,[1]Paramètres!$C$7:$F$55,$C$6,FALSE),AM42/AK42) -> 15 | AN42: =SUM(D42,G42,J42,M42,P42,S42,V42,Y42,AB42,AE42,AH42,AK42) -> 0 | AO42: =VLOOKUP($B42,[1]Paramètres!$C$7:$F$55,$C$6,FALSE) -> 15 | AP42: =SUM(F42,I42,L42,O42,R42,U42,X42,AA42,AD42,AG42,AJ42,AM42) -> 0
B43: TOTAL SO2 Social conseil | C43: X | AP43: =SUM(AP23:AP42) -> 0
B44: =[1]Paramètres!C33 -> Licenciement économique individuel | C44: =IF(AP44>0,"X","") | E44: =IF(D44=0,VLOOKUP($B44,[1]Paramètres!$C$7:$F$55,$C$6,FALSE),F44/D44) -> 650 | G44: ='[1]1-50'!G44+'[1]51-100'!G44+'[1]101-150'!G44+'[1]151-200'!G44+'[1]201-250'!G44+'[1]251-300'!G44 -> 0 | H44: =IF(G44=0,VLOOKUP($B44,[1]Paramètres!$C$7:$F$55,$C$6,FALSE),I44/G44) -> 650 | I44: ='[1]1-50'!I44+'[1]51-100'!I44+'[1]101-150'!I44+'[1]151-200'!I44+'[1]201-250'!I44+'[1]251-300'!I44 -> 0 | J44: ='[1]1-50'!J44+'[1]51-100'!J44+'[1]101-150'!J44+'[1]151-200'!J44+'[1]201-250'!J44+'[1]251-300'!J44 -> 0 | K44: =IF(J44=0,VLOOKUP($B44,[1]Paramètres!$C$7:$F$55,$C$6,FALSE),L44/J44) -> 650 | L44: ='[1]1-50'!L44+'[1]51-100'!L44+'[1]101-150'!L44+'[1]151-200'!L44+'[1]201-250'!L44+'[1]251-300'!L44 -> 0 | M44: ='[1]1-50'!M44+'[1]51-100'!M44+'[1]101-150'!M44+'[1]151-200'!M44+'[1]201-250'!M44+'[1]251-300'!M44 -> 0 | N44: =IF(M44=0,VLOOKUP($B44,[1]Paramètres!$C$7:$F$55,$C$6,FALSE),O44/M44) -> 650 | O44: ='[1]1-50'!O44+'[1]51-100'!O44+'[1]101-150'!O44+'[1]151-200'!O44+'[1]201-250'!O44+'[1]251-300'!O44 -> 0 | P44: ='[1]1-50'!P44+'[1]51-100'!P44+'[1]101-150'!P44+'[1]151-200'!P44+'[1]201-250'!P44+'[1]251-300'!P44 -> 0 | Q44: =IF(P44=0,VLOOKUP($B44,[1]Paramètres!$C$7:$F$55,$C$6,FALSE),R44/P44) -> 650 | R44: ='[1]1-50'!R44+'[1]51-100'!R44+'[1]101-150'!R44+'[1]151-200'!R44+'[1]201-250'!R44+'[1]251-300'!R44 -> 0 | S44: ='[1]1-50'!S44+'[1]51-100'!S44+'[1]101-150'!S44+'[1]151-200'!S44+'[1]201-250'!S44+'[1]251-300'!S44 -> 0 | T44: =IF(S44=0,VLOOKUP($B44,[1]Paramètres!$C$7:$F$55,$C$6,FALSE),U44/S44) -> 650 | U44: ='[1]1-50'!U44+'[1]51-100'!U44+'[1]101-150'!U44+'[1]151-200'!U44+'[1]201-250'!U44+'[1]251-300'!U44 -> 0 | V44: ='[1]1-50'!V44+'[1]51-100'!V44+'[1]101-150'!V44+'[1]151-200'!V44+'[1]201-250'!V44+'[1]251-300'!V44 -> 0 | W44: =IF(V44=0,VLOOKUP($B44,[1]Paramètres!$C$7:$F$55,$C$6,FALSE),X44/V44) -> 650 | X44: ='[1]1-50'!X44+'[1]51-100'!X44+'[1]101-150'!X44+'[1]151-200'!X44+'[1]201-250'!X44+'[1]251-300'!X44 -> 0 | Y44: ='[1]1-50'!Y44+'[1]51-100'!Y44+'[1]101-150'!Y44+'[1]151-200'!Y44+'[1]201-250'!Y44+'[1]251-300'!Y44 -> 0 | Z44: =IF(Y44=0,VLOOKUP($B44,[1]Paramètres!$C$7:$F$55,$C$6,FALSE),AA44/Y44) -> 650 | AA44: ='[1]1-50'!AA44+'[1]51-100'!AA44+'[1]101-150'!AA44+'[1]151-200'!AA44+'[1]201-250'!AA44+'[1]251-300'!AA44 -> 0 | AB44: ='[1]1-50'!AB44+'[1]51-100'!AB44+'[1]101-150'!AB44+'[1]151-200'!AB44+'[1]201-250'!AB44+'[1]251-300'!AB44 -> 0 | AC44: =IF(AB44=0,VLOOKUP($B44,[1]Paramètres!$C$7:$F$55,$C$6,FALSE),AD44/AB44) -> 650 | AD44: ='[1]1-50'!AD44+'[1]51-100'!AD44+'[1]101-150'!AD44+'[1]151-200'!AD44+'[1]201-250'!AD44+'[1]251-300'!AD44 -> 0 | AE44: ='[1]1-50'!AE44+'[1]51-100'!AE44+'[1]101-150'!AE44+'[1]151-200'!AE44+'[1]201-250'!AE44+'[1]251-300'!AE44 -> 0 | AF44: =IF(AE44=0,VLOOKUP($B44,[1]Paramètres!$C$7:$F$55,$C$6,FALSE),AG44/AE44) -> 650 | AG44: ='[1]1-50'!AG44+'[1]51-100'!AG44+'[1]101-150'!AG44+'[1]151-200'!AG44+'[1]201-250'!AG44+'[1]251-300'!AG44 -> 0 | AH44: ='[1]1-50'!AH44+'[1]51-100'!AH44+'[1]101-150'!AH44+'[1]151-200'!AH44+'[1]201-250'!AH44+'[1]251-300'!AH44 -> 0 | AI44: =IF(AH44=0,VLOOKUP($B44,[1]Paramètres!$C$7:$F$55,$C$6,FALSE),AJ44/AH44) -> 650 | AJ44: ='[1]1-50'!AJ44+'[1]51-100'!AJ44+'[1]101-150'!AJ44+'[1]151-200'!AJ44+'[1]201-250'!AJ44+'[1]251-300'!AJ44 -> 0 | AK44: ='[1]1-50'!AK44+'[1]51-100'!AK44+'[1]101-150'!AK44+'[1]151-200'!AK44+'[1]201-250'!AK44+'[1]251-300'!AK44 -> 0 | AL44: =IF(AK44=0,VLOOKUP($B44,[1]Paramètres!$C$7:$F$55,$C$6,FALSE),AM44/AK44) -> 650 | AM44: ='[1]1-50'!AM44+'[1]51-100'!AM44+'[1]101-150'!AM44+'[1]151-200'!AM44+'[1]201-250'!AM44+'[1]251-300'!AM44 -> 0 | AN44: =SUM(D44,G44,J44,M44,P44,S44,V44,Y44,AB44,AE44,AH44,AK44) -> 0 | AO44: =VLOOKUP($B44,[1]Paramètres!$C$7:$F$55,$C$6,FALSE) -> 650 | AP44: =SUM(F44,I44,L44,O44,R44,U44,X44,AA44,AD44,AG44,AJ44,AM44) -> 0
B45: =[1]Paramètres!C34 -> Licenciement économique collectif | C45: =IF(AP45>0,"X","") | E45: =IF(D45=0,VLOOKUP($B45,[1]Paramètres!$C$7:$F$55,$C$6,FALSE),F45/D45) -> 0 | G45: ='[1]1-50'!G45+'[1]51-100'!G45+'[1]101-150'!G45+'[1]151-200'!G45+'[1]201-250'!G45+'[1]251-300'!G45 -> 0 | H45: =IF(G45=0,VLOOKUP($B45,[1]Paramètres!$C$7:$F$55,$C$6,FALSE),I45/G45) -> 0 | I45: ='[1]1-50'!I45+'[1]51-100'!I45+'[1]101-150'!I45+'[1]151-200'!I45+'[1]201-250'!I45+'[1]251-300'!I45 -> 0 | J45: ='[1]1-50'!J45+'[1]51-100'!J45+'[1]101-150'!J45+'[1]151-200'!J45+'[1]201-250'!J45+'[1]251-300'!J45 -> 0 | K45: =IF(J45=0,VLOOKUP($B45,[1]Paramètres!$C$7:$F$55,$C$6,FALSE),L45/J45) -> 0 | L45: ='[1]1-50'!L45+'[1]51-100'!L45+'[1]101-150'!L45+'[1]151-200'!L45+'[1]201-250'!L45+'[1]251-300'!L45 -> 0 | M45: ='[1]1-50'!M45+'[1]51-100'!M45+'[1]101-150'!M45+'[1]151-200'!M45+'[1]201-250'!M45+'[1]251-300'!M45 -> 0 | N45: =IF(M45=0,VLOOKUP($B45,[1]Paramètres!$C$7:$F$55,$C$6,FALSE),O45/M45) -> 0 | O45: ='[1]1-50'!O45+'[1]51-100'!O45+'[1]101-150'!O45+'[1]151-200'!O45+'[1]201-250'!O45+'[1]251-300'!O45 -> 0 | P45: ='[1]1-50'!P45+'[1]51-100'!P45+'[1]101-150'!P45+'[1]151-200'!P45+'[1]201-250'!P45+'[1]251-300'!P45 -> 0 | Q45: =IF(P45=0,VLOOKUP($B45,[1]Paramètres!$C$7:$F$55,$C$6,FALSE),R45/P45) -> 0 | R45: ='[1]1-50'!R45+'[1]51-100'!R45+'[1]101-150'!R45+'[1]151-200'!R45+'[1]201-250'!R45+'[1]251-300'!R45 -> 0 | S45: ='[1]1-50'!S45+'[1]51-100'!S45+'[1]101-150'!S45+'[1]151-200'!S45+'[1]201-250'!S45+'[1]251-300'!S45 -> 0 | T45: =IF(S45=0,VLOOKUP($B45,[1]Paramètres!$C$7:$F$55,$C$6,FALSE),U45/S45) -> 0 | U45: ='[1]1-50'!U45+'[1]51-100'!U45+'[1]101-150'!U45+'[1]151-200'!U45+'[1]201-250'!U45+'[1]251-300'!U45 -> 0 | V45: ='[1]1-50'!V45+'[1]51-100'!V45+'[1]101-150'!V45+'[1]151-200'!V45+'[1]201-250'!V45+'[1]251-300'!V45 -> 0 | W45: =IF(V45=0,VLOOKUP($B45,[1]Paramètres!$C$7:$F$55,$C$6,FALSE),X45/V45) -> 0 | X45: ='[1]1-50'!X45+'[1]51-100'!X45+'[1]101-150'!X45+'[1]151-200'!X45+'[1]201-250'!X45+'[1]251-300'!X45 -> 0 | Y45: ='[1]1-50'!Y45+'[1]51-100'!Y45+'[1]101-150'!Y45+'[1]151-200'!Y45+'[1]201-250'!Y45+'[1]251-300'!Y45 -> 0 | Z45: =IF(Y45=0,VLOOKUP($B45,[1]Paramètres!$C$7:$F$55,$C$6,FALSE),AA45/Y45) -> 0 | AA45: ='[1]1-50'!AA45+'[1]51-100'!AA45+'[1]101-150'!AA45+'[1]151-200'!AA45+'[1]201-250'!AA45+'[1]251-300'!AA45 -> 0 | AB45: ='[1]1-50'!AB45+'[1]51-100'!AB45+'[1]101-150'!AB45+'[1]151-200'!AB45+'[1]201-250'!AB45+'[1]251-300'!AB45 -> 0 | AC45: =IF(AB45=0,VLOOKUP($B45,[1]Paramètres!$C$7:$F$55,$C$6,FALSE),AD45/AB45) -> 0 | AD45: ='[1]1-50'!AD45+'[1]51-100'!AD45+'[1]101-150'!AD45+'[1]151-200'!AD45+'[1]201-250'!AD45+'[1]251-300'!AD45 -> 0 | AE45: ='[1]1-50'!AE45+'[1]51-100'!AE45+'[1]101-150'!AE45+'[1]151-200'!AE45+'[1]201-250'!AE45+'[1]251-300'!AE45 -> 0 | AF45: =IF(AE45=0,VLOOKUP($B45,[1]Paramètres!$C$7:$F$55,$C$6,FALSE),AG45/AE45) -> 0 | AG45: ='[1]1-50'!AG45+'[1]51-100'!AG45+'[1]101-150'!AG45+'[1]151-200'!AG45+'[1]201-250'!AG45+'[1]251-300'!AG45 -> 0 | AH45: ='[1]1-50'!AH45+'[1]51-100'!AH45+'[1]101-150'!AH45+'[1]151-200'!AH45+'[1]201-250'!AH45+'[1]251-300'!AH45 -> 0 | AI45: =IF(AH45=0,VLOOKUP($B45,[1]Paramètres!$C$7:$F$55,$C$6,FALSE),AJ45/AH45) -> 0 | AJ45: ='[1]1-50'!AJ45+'[1]51-100'!AJ45+'[1]101-150'!AJ45+'[1]151-200'!AJ45+'[1]201-250'!AJ45+'[1]251-300'!AJ45 -> 0 | AK45: ='[1]1-50'!AK45+'[1]51-100'!AK45+'[1]101-150'!AK45+'[1]151-200'!AK45+'[1]201-250'!AK45+'[1]251-300'!AK45 -> 0 | AL45: =IF(AK45=0,VLOOKUP($B45,[1]Paramètres!$C$7:$F$55,$C$6,FALSE),AM45/AK45) -> 0 | AM45: ='[1]1-50'!AM45+'[1]51-100'!AM45+'[1]101-150'!AM45+'[1]151-200'!AM45+'[1]201-250'!AM45+'[1]251-300'!AM45 -> 0 | AN45: =SUM(D45,G45,J45,M45,P45,S45,V45,Y45,AB45,AE45,AH45,AK45) -> 0 | AO45: =VLOOKUP($B45,[1]Paramètres!$C$7:$F$55,$C$6,FALSE) -> 0 | AP45: =SUM(F45,I45,L45,O45,R45,U45,X45,AA45,AD45,AG45,AJ45,AM45) -> 0
B46: =[1]Paramètres!C35 -> Licenciement inaptitude | C46: =IF(AP46>0,"X","") | E46: =IF(D46=0,VLOOKUP($B46,[1]Paramètres!$C$7:$F$55,$C$6,FALSE),F46/D46) -> 650 | G46: ='[1]1-50'!G46+'[1]51-100'!G46+'[1]101-150'!G46+'[1]151-200'!G46+'[1]201-250'!G46+'[1]251-300'!G46 -> 0 | H46: =IF(G46=0,VLOOKUP($B46,[1]Paramètres!$C$7:$F$55,$C$6,FALSE),I46/G46) -> 650 | I46: ='[1]1-50'!I46+'[1]51-100'!I46+'[1]101-150'!I46+'[1]151-200'!I46+'[1]201-250'!I46+'[1]251-300'!I46 -> 0 | J46: ='[1]1-50'!J46+'[1]51-100'!J46+'[1]101-150'!J46+'[1]151-200'!J46+'[1]201-250'!J46+'[1]251-300'!J46 -> 0 | K46: =IF(J46=0,VLOOKUP($B46,[1]Paramètres!$C$7:$F$55,$C$6,FALSE),L46/J46) -> 650 | L46: ='[1]1-50'!L46+'[1]51-100'!L46+'[1]101-150'!L46+'[1]151-200'!L46+'[1]201-250'!L46+'[1]251-300'!L46 -> 0 | M46: ='[1]1-50'!M46+'[1]51-100'!M46+'[1]101-150'!M46+'[1]151-200'!M46+'[1]201-250'!M46+'[1]251-300'!M46 -> 0 | N46: =IF(M46=0,VLOOKUP($B46,[1]Paramètres!$C$7:$F$55,$C$6,FALSE),O46/M46) -> 650 | O46: ='[1]1-50'!O46+'[1]51-100'!O46+'[1]101-150'!O46+'[1]151-200'!O46+'[1]201-250'!O46+'[1]251-300'!O46 -> 0 | P46: ='[1]1-50'!P46+'[1]51-100'!P46+'[1]101-150'!P46+'[1]151-200'!P46+'[1]201-250'!P46+'[1]251-300'!P46 -> 0 | Q46: =IF(P46=0,VLOOKUP($B46,[1]Paramètres!$C$7:$F$55,$C$6,FALSE),R46/P46) -> 650 | R46: ='[1]1-50'!R46+'[1]51-100'!R46+'[1]101-150'!R46+'[1]151-200'!R46+'[1]201-250'!R46+'[1]251-300'!R46 -> 0 | S46: ='[1]1-50'!S46+'[1]51-100'!S46+'[1]101-150'!S46+'[1]151-200'!S46+'[1]201-250'!S46+'[1]251-300'!S46 -> 0 | T46: =IF(S46=0,VLOOKUP($B46,[1]Paramètres!$C$7:$F$55,$C$6,FALSE),U46/S46) -> 650 | U46: ='[1]1-50'!U46+'[1]51-100'!U46+'[1]101-150'!U46+'[1]151-200'!U46+'[1]201-250'!U46+'[1]251-300'!U46 -> 0 | V46: ='[1]1-50'!V46+'[1]51-100'!V46+'[1]101-150'!V46+'[1]151-200'!V46+'[1]201-250'!V46+'[1]251-300'!V46 -> 0 | W46: =IF(V46=0,VLOOKUP($B46,[1]Paramètres!$C$7:$F$55,$C$6,FALSE),X46/V46) -> 650 | X46: ='[1]1-50'!X46+'[1]51-100'!X46+'[1]101-150'!X46+'[1]151-200'!X46+'[1]201-250'!X46+'[1]251-300'!X46 -> 0 | Y46: ='[1]1-50'!Y46+'[1]51-100'!Y46+'[1]101-150'!Y46+'[1]151-200'!Y46+'[1]201-250'!Y46+'[1]251-300'!Y46 -> 0 | Z46: =IF(Y46=0,VLOOKUP($B46,[1]Paramètres!$C$7:$F$55,$C$6,FALSE),AA46/Y46) -> 650 | AA46: ='[1]1-50'!AA46+'[1]51-100'!AA46+'[1]101-150'!AA46+'[1]151-200'!AA46+'[1]201-250'!AA46+'[1]251-300'!AA46 -> 0 | AB46: ='[1]1-50'!AB46+'[1]51-100'!AB46+'[1]101-150'!AB46+'[1]151-200'!AB46+'[1]201-250'!AB46+'[1]251-300'!AB46 -> 0 | AC46: =IF(AB46=0,VLOOKUP($B46,[1]Paramètres!$C$7:$F$55,$C$6,FALSE),AD46/AB46) -> 650 | AD46: ='[1]1-50'!AD46+'[1]51-100'!AD46+'[1]101-150'!AD46+'[1]151-200'!AD46+'[1]201-250'!AD46+'[1]251-300'!AD46 -> 0 | AE46: ='[1]1-50'!AE46+'[1]51-100'!AE46+'[1]101-150'!AE46+'[1]151-200'!AE46+'[1]201-250'!AE46+'[1]251-300'!AE46 -> 0 | AF46: =IF(AE46=0,VLOOKUP($B46,[1]Paramètres!$C$7:$F$55,$C$6,FALSE),AG46/AE46) -> 650 | AG46: ='[1]1-50'!AG46+'[1]51-100'!AG46+'[1]101-150'!AG46+'[1]151-200'!AG46+'[1]201-250'!AG46+'[1]251-300'!AG46 -> 0 | AH46: ='[1]1-50'!AH46+'[1]51-100'!AH46+'[1]101-150'!AH46+'[1]151-200'!AH46+'[1]201-250'!AH46+'[1]251-300'!AH46 -> 0 | AI46: =IF(AH46=0,VLOOKUP($B46,[1]Paramètres!$C$7:$F$55,$C$6,FALSE),AJ46/AH46) -> 650 | AJ46: ='[1]1-50'!AJ46+'[1]51-100'!AJ46+'[1]101-150'!AJ46+'[1]151-200'!AJ46+'[1]201-250'!AJ46+'[1]251-300'!AJ46 -> 0 | AK46: ='[1]1-50'!AK46+'[1]51-100'!AK46+'[1]101-150'!AK46+'[1]151-200'!AK46+'[1]201-250'!AK46+'[1]251-300'!AK46 -> 0 | AL46: =IF(AK46=0,VLOOKUP($B46,[1]Paramètres!$C$7:$F$55,$C$6,FALSE),AM46/AK46) -> 650 | AM46: ='[1]1-50'!AM46+'[1]51-100'!AM46+'[1]101-150'!AM46+'[1]151-200'!AM46+'[1]201-250'!AM46+'[1]251-300'!AM46 -> 0 | AN46: =SUM(D46,G46,J46,M46,P46,S46,V46,Y46,AB46,AE46,AH46,AK46) -> 0 | AO46: =VLOOKUP($B46,[1]Paramètres!$C$7:$F$55,$C$6,FALSE) -> 650 | AP46: =SUM(F46,I46,L46,O46,R46,U46,X46,AA46,AD46,AG46,AJ46,AM46) -> 0
B47: =[1]Paramètres!C36 -> Licenciement motif personnel | C47: =IF(AP47>0,"X","") | E47: =IF(D47=0,VLOOKUP($B47,[1]Paramètres!$C$7:$F$55,$C$6,FALSE),F47/D47) -> 550 | G47: ='[1]1-50'!G47+'[1]51-100'!G47+'[1]101-150'!G47+'[1]151-200'!G47+'[1]201-250'!G47+'[1]251-300'!G47 -> 0 | H47: =IF(G47=0,VLOOKUP($B47,[1]Paramètres!$C$7:$F$55,$C$6,FALSE),I47/G47) -> 550 | I47: ='[1]1-50'!I47+'[1]51-100'!I47+'[1]101-150'!I47+'[1]151-200'!I47+'[1]201-250'!I47+'[1]251-300'!I47 -> 0 | J47: ='[1]1-50'!J47+'[1]51-100'!J47+'[1]101-150'!J47+'[1]151-200'!J47+'[1]201-250'!J47+'[1]251-300'!J47 -> 0 | K47: =IF(J47=0,VLOOKUP($B47,[1]Paramètres!$C$7:$F$55,$C$6,FALSE),L47/J47) -> 550 | L47: ='[1]1-50'!L47+'[1]51-100'!L47+'[1]101-150'!L47+'[1]151-200'!L47+'[1]201-250'!L47+'[1]251-300'!L47 -> 0 | M47: ='[1]1-50'!M47+'[1]51-100'!M47+'[1]101-150'!M47+'[1]151-200'!M47+'[1]201-250'!M47+'[1]251-300'!M47 -> 0 | N47: =IF(M47=0,VLOOKUP($B47,[1]Paramètres!$C$7:$F$55,$C$6,FALSE),O47/M47) -> 550 | O47: ='[1]1-50'!O47+'[1]51-100'!O47+'[1]101-150'!O47+'[1]151-200'!O47+'[1]201-250'!O47+'[1]251-300'!O47 -> 0 | P47: ='[1]1-50'!P47+'[1]51-100'!P47+'[1]101-150'!P47+'[1]151-200'!P47+'[1]201-250'!P47+'[1]251-300'!P47 -> 0 | Q47: =IF(P47=0,VLOOKUP($B47,[1]Paramètres!$C$7:$F$55,$C$6,FALSE),R47/P47) -> 550 | R47: ='[1]1-50'!R47+'[1]51-100'!R47+'[1]101-150'!R47+'[1]151-200'!R47+'[1]201-250'!R47+'[1]251-300'!R47 -> 0 | S47: ='[1]1-50'!S47+'[1]51-100'!S47+'[1]101-150'!S47+'[1]151-200'!S47+'[1]201-250'!S47+'[1]251-300'!S47 -> 0 | T47: =IF(S47=0,VLOOKUP($B47,[1]Paramètres!$C$7:$F$55,$C$6,FALSE),U47/S47) -> 550 | U47: ='[1]1-50'!U47+'[1]51-100'!U47+'[1]101-150'!U47+'[1]151-200'!U47+'[1]201-250'!U47+'[1]251-300'!U47 -> 0 | V47: ='[1]1-50'!V47+'[1]51-100'!V47+'[1]101-150'!V47+'[1]151-200'!V47+'[1]201-250'!V47+'[1]251-300'!V47 -> 0 | W47: =IF(V47=0,VLOOKUP($B47,[1]Paramètres!$C$7:$F$55,$C$6,FALSE),X47/V47) -> 550 | X47: ='[1]1-50'!X47+'[1]51-100'!X47+'[1]101-150'!X47+'[1]151-200'!X47+'[1]201-250'!X47+'[1]251-300'!X47 -> 0 | Y47: ='[1]1-50'!Y47+'[1]51-100'!Y47+'[1]101-150'!Y47+'[1]151-200'!Y47+'[1]201-250'!Y47+'[1]251-300'!Y47 -> 0 | Z47: =IF(Y47=0,VLOOKUP($B47,[1]Paramètres!$C$7:$F$55,$C$6,FALSE),AA47/Y47) -> 550 | AA47: ='[1]1-50'!AA47+'[1]51-100'!AA47+'[1]101-150'!AA47+'[1]151-200'!AA47+'[1]201-250'!AA47+'[1]251-300'!AA47 -> 0 | AB47: ='[1]1-50'!AB47+'[1]51-100'!AB47+'[1]101-150'!AB47+'[1]151-200'!AB47+'[1]201-250'!AB47+'[1]251-300'!AB47 -> 0 | AC47: =IF(AB47=0,VLOOKUP($B47,[1]Paramètres!$C$7:$F$55,$C$6,FALSE),AD47/AB47) -> 550 | AD47: ='[1]1-50'!AD47+'[1]51-100'!AD47+'[1]101-150'!AD47+'[1]151-200'!AD47+'[1]201-250'!AD47+'[1]251-300'!AD47 -> 0 | AE47: ='[1]1-50'!AE47+'[1]51-100'!AE47+'[1]101-150'!AE47+'[1]151-200'!AE47+'[1]201-250'!AE47+'[1]251-300'!AE47 -> 0 | AF47: =IF(AE47=0,VLOOKUP($B47,[1]Paramètres!$C$7:$F$55,$C$6,FALSE),AG47/AE47) -> 550 | AG47: ='[1]1-50'!AG47+'[1]51-100'!AG47+'[1]101-150'!AG47+'[1]151-200'!AG47+'[1]201-250'!AG47+'[1]251-300'!AG47 -> 0 | AH47: ='[1]1-50'!AH47+'[1]51-100'!AH47+'[1]101-150'!AH47+'[1]151-200'!AH47+'[1]201-250'!AH47+'[1]251-300'!AH47 -> 0 | AI47: =IF(AH47=0,VLOOKUP($B47,[1]Paramètres!$C$7:$F$55,$C$6,FALSE),AJ47/AH47) -> 550 | AJ47: ='[1]1-50'!AJ47+'[1]51-100'!AJ47+'[1]101-150'!AJ47+'[1]151-200'!AJ47+'[1]201-250'!AJ47+'[1]251-300'!AJ47 -> 0 | AK47: ='[1]1-50'!AK47+'[1]51-100'!AK47+'[1]101-150'!AK47+'[1]151-200'!AK47+'[1]201-250'!AK47+'[1]251-300'!AK47 -> 0 | AL47: =IF(AK47=0,VLOOKUP($B47,[1]Paramètres!$C$7:$F$55,$C$6,FALSE),AM47/AK47) -> 550 | AM47: ='[1]1-50'!AM47+'[1]51-100'!AM47+'[1]101-150'!AM47+'[1]151-200'!AM47+'[1]201-250'!AM47+'[1]251-300'!AM47 -> 0 | AN47: =SUM(D47,G47,J47,M47,P47,S47,V47,Y47,AB47,AE47,AH47,AK47) -> 0 | AO47: =VLOOKUP($B47,[1]Paramètres!$C$7:$F$55,$C$6,FALSE) -> 550 | AP47: =SUM(F47,I47,L47,O47,R47,U47,X47,AA47,AD47,AG47,AJ47,AM47) -> 0
B48: =[1]Paramètres!C37 -> Licenciement fin de chantier | C48: =IF(AP48>0,"X","") | E48: =IF(D48=0,VLOOKUP($B48,[1]Paramètres!$C$7:$F$55,$C$6,FALSE),F48/D48) -> 250 | G48: ='[1]1-50'!G48+'[1]51-100'!G48+'[1]101-150'!G48+'[1]151-200'!G48+'[1]201-250'!G48+'[1]251-300'!G48 -> 0 | H48: =IF(G48=0,VLOOKUP($B48,[1]Paramètres!$C$7:$F$55,$C$6,FALSE),I48/G48) -> 250 | I48: ='[1]1-50'!I48+'[1]51-100'!I48+'[1]101-150'!I48+'[1]151-200'!I48+'[1]201-250'!I48+'[1]251-300'!I48 -> 0 | J48: ='[1]1-50'!J48+'[1]51-100'!J48+'[1]101-150'!J48+'[1]151-200'!J48+'[1]201-250'!J48+'[1]251-300'!J48 -> 0 | K48: =IF(J48=0,VLOOKUP($B48,[1]Paramètres!$C$7:$F$55,$C$6,FALSE),L48/J48) -> 250 | L48: ='[1]1-50'!L48+'[1]51-100'!L48+'[1]101-150'!L48+'[1]151-200'!L48+'[1]201-250'!L48+'[1]251-300'!L48 -> 0 | M48: ='[1]1-50'!M48+'[1]51-100'!M48+'[1]101-150'!M48+'[1]151-200'!M48+'[1]201-250'!M48+'[1]251-300'!M48 -> 0 | N48: =IF(M48=0,VLOOKUP($B48,[1]Paramètres!$C$7:$F$55,$C$6,FALSE),O48/M48) -> 250 | O48: ='[1]1-50'!O48+'[1]51-100'!O48+'[1]101-150'!O48+'[1]151-200'!O48+'[1]201-250'!O48+'[1]251-300'!O48 -> 0 | P48: ='[1]1-50'!P48+'[1]51-100'!P48+'[1]101-150'!P48+'[1]151-200'!P48+'[1]201-250'!P48+'[1]251-300'!P48 -> 0 | Q48: =IF(P48=0,VLOOKUP($B48,[1]Paramètres!$C$7:$F$55,$C$6,FALSE),R48/P48) -> 250 | R48: ='[1]1-50'!R48+'[1]51-100'!R48+'[1]101-150'!R48+'[1]151-200'!R48+'[1]201-250'!R48+'[1]251-300'!R48 -> 0 | S48: ='[1]1-50'!S48+'[1]51-100'!S48+'[1]101-150'!S48+'[1]151-200'!S48+'[1]201-250'!S48+'[1]251-300'!S48 -> 0 | T48: =IF(S48=0,VLOOKUP($B48,[1]Paramètres!$C$7:$F$55,$C$6,FALSE),U48/S48) -> 250 | U48: ='[1]1-50'!U48+'[1]51-100'!U48+'[1]101-150'!U48+'[1]151-200'!U48+'[1]201-250'!U48+'[1]251-300'!U48 -> 0 | V48: ='[1]1-50'!V48+'[1]51-100'!V48+'[1]101-150'!V48+'[1]151-200'!V48+'[1]201-250'!V48+'[1]251-300'!V48 -> 0 | W48: =IF(V48=0,VLOOKUP($B48,[1]Paramètres!$C$7:$F$55,$C$6,FALSE),X48/V48) -> 250 | X48: ='[1]1-50'!X48+'[1]51-100'!X48+'[1]101-150'!X48+'[1]151-200'!X48+'[1]201-250'!X48+'[1]251-300'!X48 -> 0 | Y48: ='[1]1-50'!Y48+'[1]51-100'!Y48+'[1]101-150'!Y48+'[1]151-200'!Y48+'[1]201-250'!Y48+'[1]251-300'!Y48 -> 0 | Z48: =IF(Y48=0,VLOOKUP($B48,[1]Paramètres!$C$7:$F$55,$C$6,FALSE),AA48/Y48) -> 250 | AA48: ='[1]1-50'!AA48+'[1]51-100'!AA48+'[1]101-150'!AA48+'[1]151-200'!AA48+'[1]201-250'!AA48+'[1]251-300'!AA48 -> 0 | AB48: ='[1]1-50'!AB48+'[1]51-100'!AB48+'[1]101-150'!AB48+'[1]151-200'!AB48+'[1]201-250'!AB48+'[1]251-300'!AB48 -> 0 | AC48: =IF(AB48=0,VLOOKUP($B48,[1]Paramètres!$C$7:$F$55,$C$6,FALSE),AD48/AB48) -> 250 | AD48: ='[1]1-50'!AD48+'[1]51-100'!AD48+'[1]101-150'!AD48+'[1]151-200'!AD48+'[1]201-250'!AD48+'[1]251-300'!AD48 -> 0 | AE48: ='[1]1-50'!AE48+'[1]51-100'!AE48+'[1]101-150'!AE48+'[1]151-200'!AE48+'[1]201-250'!AE48+'[1]251-300'!AE48 -> 0 | AF48: =IF(AE48=0,VLOOKUP($B48,[1]Paramètres!$C$7:$F$55,$C$6,FALSE),AG48/AE48) -> 250 | AG48: ='[1]1-50'!AG48+'[1]51-100'!AG48+'[1]101-150'!AG48+'[1]151-200'!AG48+'[1]201-250'!AG48+'[1]251-300'!AG48 -> 0 | AH48: ='[1]1-50'!AH48+'[1]51-100'!AH48+'[1]101-150'!AH48+'[1]151-200'!AH48+'[1]201-250'!AH48+'[1]251-300'!AH48 -> 0 | AI48: =IF(AH48=0,VLOOKUP($B48,[1]Paramètres!$C$7:$F$55,$C$6,FALSE),AJ48/AH48) -> 250 | AJ48: ='[1]1-50'!AJ48+'[1]51-100'!AJ48+'[1]101-150'!AJ48+'[1]151-200'!AJ48+'[1]201-250'!AJ48+'[1]251-300'!AJ48 -> 0 | AK48: ='[1]1-50'!AK48+'[1]51-100'!AK48+'[1]101-150'!AK48+'[1]151-200'!AK48+'[1]201-250'!AK48+'[1]251-300'!AK48 -> 0 | AL48: =IF(AK48=0,VLOOKUP($B48,[1]Paramètres!$C$7:$F$55,$C$6,FALSE),AM48/AK48) -> 250 | AM48: ='[1]1-50'!AM48+'[1]51-100'!AM48+'[1]101-150'!AM48+'[1]151-200'!AM48+'[1]201-250'!AM48+'[1]251-300'!AM48 -> 0 | AN48: =SUM(D48,G48,J48,M48,P48,S48,V48,Y48,AB48,AE48,AH48,AK48) -> 0 | AO48: =VLOOKUP($B48,[1]Paramètres!$C$7:$F$55,$C$6,FALSE) -> 250 | AP48: =SUM(F48,I48,L48,O48,R48,U48,X48,AA48,AD48,AG48,AJ48,AM48) -> 0
B49: =[1]Paramètres!C38 -> Rupture conventionnelle | C49: =IF(AP49>0,"X","") | E49: =IF(D49=0,VLOOKUP($B49,[1]Paramètres!$C$7:$F$55,$C$6,FALSE),F49/D49) -> 450 | G49: ='[1]1-50'!G49+'[1]51-100'!G49+'[1]101-150'!G49+'[1]151-200'!G49+'[1]201-250'!G49+'[1]251-300'!G49 -> 0 | H49: =IF(G49=0,VLOOKUP($B49,[1]Paramètres!$C$7:$F$55,$C$6,FALSE),I49/G49) -> 450 | I49: ='[1]1-50'!I49+'[1]51-100'!I49+'[1]101-150'!I49+'[1]151-200'!I49+'[1]201-250'!I49+'[1]251-300'!I49 -> 0 | J49: ='[1]1-50'!J49+'[1]51-100'!J49+'[1]101-150'!J49+'[1]151-200'!J49+'[1]201-250'!J49+'[1]251-300'!J49 -> 0 | K49: =IF(J49=0,VLOOKUP($B49,[1]Paramètres!$C$7:$F$55,$C$6,FALSE),L49/J49) -> 450 | L49: ='[1]1-50'!L49+'[1]51-100'!L49+'[1]101-150'!L49+'[1]151-200'!L49+'[1]201-250'!L49+'[1]251-300'!L49 -> 0 | M49: ='[1]1-50'!M49+'[1]51-100'!M49+'[1]101-150'!M49+'[1]151-200'!M49+'[1]201-250'!M49+'[1]251-300'!M49 -> 0 | N49: =IF(M49=0,VLOOKUP($B49,[1]Paramètres!$C$7:$F$55,$C$6,FALSE),O49/M49) -> 450 | O49: ='[1]1-50'!O49+'[1]51-100'!O49+'[1]101-150'!O49+'[1]151-200'!O49+'[1]201-250'!O49+'[1]251-300'!O49 -> 0 | P49: ='[1]1-50'!P49+'[1]51-100'!P49+'[1]101-150'!P49+'[1]151-200'!P49+'[1]201-250'!P49+'[1]251-300'!P49 -> 0 | Q49: =IF(P49=0,VLOOKUP($B49,[1]Paramètres!$C$7:$F$55,$C$6,FALSE),R49/P49) -> 450 | R49: ='[1]1-50'!R49+'[1]51-100'!R49+'[1]101-150'!R49+'[1]151-200'!R49+'[1]201-250'!R49+'[1]251-300'!R49 -> 0 | S49: ='[1]1-50'!S49+'[1]51-100'!S49+'[1]101-150'!S49+'[1]151-200'!S49+'[1]201-250'!S49+'[1]251-300'!S49 -> 0 | T49: =IF(S49=0,VLOOKUP($B49,[1]Paramètres!$C$7:$F$55,$C$6,FALSE),U49/S49) -> 450 | U49: ='[1]1-50'!U49+'[1]51-100'!U49+'[1]101-150'!U49+'[1]151-200'!U49+'[1]201-250'!U49+'[1]251-300'!U49 -> 0 | V49: ='[1]1-50'!V49+'[1]51-100'!V49+'[1]101-150'!V49+'[1]151-200'!V49+'[1]201-250'!V49+'[1]251-300'!V49 -> 0 | W49: =IF(V49=0,VLOOKUP($B49,[1]Paramètres!$C$7:$F$55,$C$6,FALSE),X49/V49) -> 450 | X49: ='[1]1-50'!X49+'[1]51-100'!X49+'[1]101-150'!X49+'[1]151-200'!X49+'[1]201-250'!X49+'[1]251-300'!X49 -> 0 | Y49: ='[1]1-50'!Y49+'[1]51-100'!Y49+'[1]101-150'!Y49+'[1]151-200'!Y49+'[1]201-250'!Y49+'[1]251-300'!Y49 -> 0 | Z49: =IF(Y49=0,VLOOKUP($B49,[1]Paramètres!$C$7:$F$55,$C$6,FALSE),AA49/Y49) -> 450 | AA49: ='[1]1-50'!AA49+'[1]51-100'!AA49+'[1]101-150'!AA49+'[1]151-200'!AA49+'[1]201-250'!AA49+'[1]251-300'!AA49 -> 0 | AB49: ='[1]1-50'!AB49+'[1]51-100'!AB49+'[1]101-150'!AB49+'[1]151-200'!AB49+'[1]201-250'!AB49+'[1]251-300'!AB49 -> 0 | AC49: =IF(AB49=0,VLOOKUP($B49,[1]Paramètres!$C$7:$F$55,$C$6,FALSE),AD49/AB49) -> 450 | AD49: ='[1]1-50'!AD49+'[1]51-100'!AD49+'[1]101-150'!AD49+'[1]151-200'!AD49+'[1]201-250'!AD49+'[1]251-300'!AD49 -> 0 | AE49: ='[1]1-50'!AE49+'[1]51-100'!AE49+'[1]101-150'!AE49+'[1]151-200'!AE49+'[1]201-250'!AE49+'[1]251-300'!AE49 -> 0 | AF49: =IF(AE49=0,VLOOKUP($B49,[1]Paramètres!$C$7:$F$55,$C$6,FALSE),AG49/AE49) -> 450 | AG49: ='[1]1-50'!AG49+'[1]51-100'!AG49+'[1]101-150'!AG49+'[1]151-200'!AG49+'[1]201-250'!AG49+'[1]251-300'!AG49 -> 0 | AH49: ='[1]1-50'!AH49+'[1]51-100'!AH49+'[1]101-150'!AH49+'[1]151-200'!AH49+'[1]201-250'!AH49+'[1]251-300'!AH49 -> 0 | AI49: =IF(AH49=0,VLOOKUP($B49,[1]Paramètres!$C$7:$F$55,$C$6,FALSE),AJ49/AH49) -> 450 | AJ49: ='[1]1-50'!AJ49+'[1]51-100'!AJ49+'[1]101-150'!AJ49+'[1]151-200'!AJ49+'[1]201-250'!AJ49+'[1]251-300'!AJ49 -> 0 | AK49: ='[1]1-50'!AK49+'[1]51-100'!AK49+'[1]101-150'!AK49+'[1]151-200'!AK49+'[1]201-250'!AK49+'[1]251-300'!AK49 -> 0 | AL49: =IF(AK49=0,VLOOKUP($B49,[1]Paramètres!$C$7:$F$55,$C$6,FALSE),AM49/AK49) -> 450 | AM49: ='[1]1-50'!AM49+'[1]51-100'!AM49+'[1]101-150'!AM49+'[1]151-200'!AM49+'[1]201-250'!AM49+'[1]251-300'!AM49 -> 0 | AN49: =SUM(D49,G49,J49,M49,P49,S49,V49,Y49,AB49,AE49,AH49,AK49) -> 0 | AO49: =VLOOKUP($B49,[1]Paramètres!$C$7:$F$55,$C$6,FALSE) -> 450 | AP49: =SUM(F49,I49,L49,O49,R49,U49,X49,AA49,AD49,AG49,AJ49,AM49) -> 0
B50: =[1]Paramètres!C39 -> Procédure de mise à pied | C50: =IF(AP50>0,"X","") | E50: =IF(D50=0,VLOOKUP($B50,[1]Paramètres!$C$7:$F$55,$C$6,FALSE),F50/D50) -> 250 | G50: ='[1]1-50'!G50+'[1]51-100'!G50+'[1]101-150'!G50+'[1]151-200'!G50+'[1]201-250'!G50+'[1]251-300'!G50 -> 0 | H50: =IF(G50=0,VLOOKUP($B50,[1]Paramètres!$C$7:$F$55,$C$6,FALSE),I50/G50) -> 250 | I50: ='[1]1-50'!I50+'[1]51-100'!I50+'[1]101-150'!I50+'[1]151-200'!I50+'[1]201-250'!I50+'[1]251-300'!I50 -> 0 | J50: ='[1]1-50'!J50+'[1]51-100'!J50+'[1]101-150'!J50+'[1]151-200'!J50+'[1]201-250'!J50+'[1]251-300'!J50 -> 0 | K50: =IF(J50=0,VLOOKUP($B50,[1]Paramètres!$C$7:$F$55,$C$6,FALSE),L50/J50) -> 250 | L50: ='[1]1-50'!L50+'[1]51-100'!L50+'[1]101-150'!L50+'[1]151-200'!L50+'[1]201-250'!L50+'[1]251-300'!L50 -> 0 | M50: ='[1]1-50'!M50+'[1]51-100'!M50+'[1]101-150'!M50+'[1]151-200'!M50+'[1]201-250'!M50+'[1]251-300'!M50 -> 0 | N50: =IF(M50=0,VLOOKUP($B50,[1]Paramètres!$C$7:$F$55,$C$6,FALSE),O50/M50) -> 250 | O50: ='[1]1-50'!O50+'[1]51-100'!O50+'[1]101-150'!O50+'[1]151-200'!O50+'[1]201-250'!O50+'[1]251-300'!O50 -> 0 | P50: ='[1]1-50'!P50+'[1]51-100'!P50+'[1]101-150'!P50+'[1]151-200'!P50+'[1]201-250'!P50+'[1]251-300'!P50 -> 0 | Q50: =IF(P50=0,VLOOKUP($B50,[1]Paramètres!$C$7:$F$55,$C$6,FALSE),R50/P50) -> 250 | R50: ='[1]1-50'!R50+'[1]51-100'!R50+'[1]101-150'!R50+'[1]151-200'!R50+'[1]201-250'!R50+'[1]251-300'!R50 -> 0 | S50: ='[1]1-50'!S50+'[1]51-100'!S50+'[1]101-150'!S50+'[1]151-200'!S50+'[1]201-250'!S50+'[1]251-300'!S50 -> 0 | T50: =IF(S50=0,VLOOKUP($B50,[1]Paramètres!$C$7:$F$55,$C$6,FALSE),U50/S50) -> 250 | U50: ='[1]1-50'!U50+'[1]51-100'!U50+'[1]101-150'!U50+'[1]151-200'!U50+'[1]201-250'!U50+'[1]251-300'!U50 -> 0 | V50: ='[1]1-50'!V50+'[1]51-100'!V50+'[1]101-150'!V50+'[1]151-200'!V50+'[1]201-250'!V50+'[1]251-300'!V50 -> 0 | W50: =IF(V50=0,VLOOKUP($B50,[1]Paramètres!$C$7:$F$55,$C$6,FALSE),X50/V50) -> 250 | X50: ='[1]1-50'!X50+'[1]51-100'!X50+'[1]101-150'!X50+'[1]151-200'!X50+'[1]201-250'!X50+'[1]251-300'!X50 -> 0 | Y50: ='[1]1-50'!Y50+'[1]51-100'!Y50+'[1]101-150'!Y50+'[1]151-200'!Y50+'[1]201-250'!Y50+'[1]251-300'!Y50 -> 0 | Z50: =IF(Y50=0,VLOOKUP($B50,[1]Paramètres!$C$7:$F$55,$C$6,FALSE),AA50/Y50) -> 250 | AA50: ='[1]1-50'!AA50+'[1]51-100'!AA50+'[1]101-150'!AA50+'[1]151-200'!AA50+'[1]201-250'!AA50+'[1]251-300'!AA50 -> 0 | AB50: ='[1]1-50'!AB50+'[1]51-100'!AB50+'[1]101-150'!AB50+'[1]151-200'!AB50+'[1]201-250'!AB50+'[1]251-300'!AB50 -> 0 | AC50: =IF(AB50=0,VLOOKUP($B50,[1]Paramètres!$C$7:$F$55,$C$6,FALSE),AD50/AB50) -> 250 | AD50: ='[1]1-50'!AD50+'[1]51-100'!AD50+'[1]101-150'!AD50+'[1]151-200'!AD50+'[1]201-250'!AD50+'[1]251-300'!AD50 -> 0 | AE50: ='[1]1-50'!AE50+'[1]51-100'!AE50+'[1]101-150'!AE50+'[1]151-200'!AE50+'[1]201-250'!AE50+'[1]251-300'!AE50 -> 0 | AF50: =IF(AE50=0,VLOOKUP($B50,[1]Paramètres!$C$7:$F$55,$C$6,FALSE),AG50/AE50) -> 250 | AG50: ='[1]1-50'!AG50+'[1]51-100'!AG50+'[1]101-150'!AG50+'[1]151-200'!AG50+'[1]201-250'!AG50+'[1]251-300'!AG50 -> 0 | AH50: ='[1]1-50'!AH50+'[1]51-100'!AH50+'[1]101-150'!AH50+'[1]151-200'!AH50+'[1]201-250'!AH50+'[1]251-300'!AH50 -> 0 | AI50: =IF(AH50=0,VLOOKUP($B50,[1]Paramètres!$C$7:$F$55,$C$6,FALSE),AJ50/AH50) -> 250 | AJ50: ='[1]1-50'!AJ50+'[1]51-100'!AJ50+'[1]101-150'!AJ50+'[1]151-200'!AJ50+'[1]201-250'!AJ50+'[1]251-300'!AJ50 -> 0 | AK50: ='[1]1-50'!AK50+'[1]51-100'!AK50+'[1]101-150'!AK50+'[1]151-200'!AK50+'[1]201-250'!AK50+'[1]251-300'!AK50 -> 0 | AL50: =IF(AK50=0,VLOOKUP($B50,[1]Paramètres!$C$7:$F$55,$C$6,FALSE),AM50/AK50) -> 250 | AM50: ='[1]1-50'!AM50+'[1]51-100'!AM50+'[1]101-150'!AM50+'[1]151-200'!AM50+'[1]201-250'!AM50+'[1]251-300'!AM50 -> 0 | AN50: =SUM(D50,G50,J50,M50,P50,S50,V50,Y50,AB50,AE50,AH50,AK50) -> 0 | AO50: =VLOOKUP($B50,[1]Paramètres!$C$7:$F$55,$C$6,FALSE) -> 250 | AP50: =SUM(F50,I50,L50,O50,R50,U50,X50,AA50,AD50,AG50,AJ50,AM50) -> 0
B51: =[1]Paramètres!C40 -> Assist. mise en place activ. partielle | C51: =IF(AP51>0,"X","") -> X | E51: =IF(D51=0,VLOOKUP($B51,[1]Paramètres!$C$7:$F$55,$C$6,FALSE),F51/D51) -> 40 | G51: ='[1]1-50'!G51+'[1]51-100'!G51+'[1]101-150'!G51+'[1]151-200'!G51+'[1]201-250'!G51+'[1]251-300'!G51 -> 0 | H51: =IF(G51=0,VLOOKUP($B51,[1]Paramètres!$C$7:$F$55,$C$6,FALSE),I51/G51) -> 40 | I51: ='[1]1-50'!I51+'[1]51-100'!I51+'[1]101-150'!I51+'[1]151-200'!I51+'[1]201-250'!I51+'[1]251-300'!I51 -> 0 | J51: ='[1]1-50'!J51+'[1]51-100'!J51+'[1]101-150'!J51+'[1]151-200'!J51+'[1]201-250'!J51+'[1]251-300'!J51 -> 0 | K51: =IF(J51=0,VLOOKUP($B51,[1]Paramètres!$C$7:$F$55,$C$6,FALSE),L51/J51) -> 40 | L51: ='[1]1-50'!L51+'[1]51-100'!L51+'[1]101-150'!L51+'[1]151-200'!L51+'[1]201-250'!L51+'[1]251-300'!L51 -> 0 | M51: ='[1]1-50'!M51+'[1]51-100'!M51+'[1]101-150'!M51+'[1]151-200'!M51+'[1]201-250'!M51+'[1]251-300'!M51 -> 4 | N51: =IF(M51=0,VLOOKUP($B51,[1]Paramètres!$C$7:$F$55,$C$6,FALSE),O51/M51) -> 45 | O51: ='[1]1-50'!O51+'[1]51-100'!O51+'[1]101-150'!O51+'[1]151-200'!O51+'[1]201-250'!O51+'[1]251-300'!O51 -> 180 | P51: ='[1]1-50'!P51+'[1]51-100'!P51+'[1]101-150'!P51+'[1]151-200'!P51+'[1]201-250'!P51+'[1]251-300'!P51 -> 0 | Q51: =IF(P51=0,VLOOKUP($B51,[1]Paramètres!$C$7:$F$55,$C$6,FALSE),R51/P51) -> 40 | R51: ='[1]1-50'!R51+'[1]51-100'!R51+'[1]101-150'!R51+'[1]151-200'!R51+'[1]201-250'!R51+'[1]251-300'!R51 -> 0 | S51: ='[1]1-50'!S51+'[1]51-100'!S51+'[1]101-150'!S51+'[1]151-200'!S51+'[1]201-250'!S51+'[1]251-300'!S51 -> 0 | T51: =IF(S51=0,VLOOKUP($B51,[1]Paramètres!$C$7:$F$55,$C$6,FALSE),U51/S51) -> 40 | U51: ='[1]1-50'!U51+'[1]51-100'!U51+'[1]101-150'!U51+'[1]151-200'!U51+'[1]201-250'!U51+'[1]251-300'!U51 -> 0 | V51: ='[1]1-50'!V51+'[1]51-100'!V51+'[1]101-150'!V51+'[1]151-200'!V51+'[1]201-250'!V51+'[1]251-300'!V51 -> 0 | W51: =IF(V51=0,VLOOKUP($B51,[1]Paramètres!$C$7:$F$55,$C$6,FALSE),X51/V51) -> 40 | X51: ='[1]1-50'!X51+'[1]51-100'!X51+'[1]101-150'!X51+'[1]151-200'!X51+'[1]201-250'!X51+'[1]251-300'!X51 -> 0 | Y51: ='[1]1-50'!Y51+'[1]51-100'!Y51+'[1]101-150'!Y51+'[1]151-200'!Y51+'[1]201-250'!Y51+'[1]251-300'!Y51 -> 0 | Z51: =IF(Y51=0,VLOOKUP($B51,[1]Paramètres!$C$7:$F$55,$C$6,FALSE),AA51/Y51) -> 40 | AA51: ='[1]1-50'!AA51+'[1]51-100'!AA51+'[1]101-150'!AA51+'[1]151-200'!AA51+'[1]201-250'!AA51+'[1]251-300'!AA51 -> 0 | AB51: ='[1]1-50'!AB51+'[1]51-100'!AB51+'[1]101-150'!AB51+'[1]151-200'!AB51+'[1]201-250'!AB51+'[1]251-300'!AB51 -> 0 | AC51: =IF(AB51=0,VLOOKUP($B51,[1]Paramètres!$C$7:$F$55,$C$6,FALSE),AD51/AB51) -> 40 | AD51: ='[1]1-50'!AD51+'[1]51-100'!AD51+'[1]101-150'!AD51+'[1]151-200'!AD51+'[1]201-250'!AD51+'[1]251-300'!AD51 -> 0 | AE51: ='[1]1-50'!AE51+'[1]51-100'!AE51+'[1]101-150'!AE51+'[1]151-200'!AE51+'[1]201-250'!AE51+'[1]251-300'!AE51 -> 0 | AF51: =IF(AE51=0,VLOOKUP($B51,[1]Paramètres!$C$7:$F$55,$C$6,FALSE),AG51/AE51) -> 40 | AG51: ='[1]1-50'!AG51+'[1]51-100'!AG51+'[1]101-150'!AG51+'[1]151-200'!AG51+'[1]201-250'!AG51+'[1]251-300'!AG51 -> 0 | AH51: ='[1]1-50'!AH51+'[1]51-100'!AH51+'[1]101-150'!AH51+'[1]151-200'!AH51+'[1]201-250'!AH51+'[1]251-300'!AH51 -> 0 | AI51: =IF(AH51=0,VLOOKUP($B51,[1]Paramètres!$C$7:$F$55,$C$6,FALSE),AJ51/AH51) -> 40 | AJ51: ='[1]1-50'!AJ51+'[1]51-100'!AJ51+'[1]101-150'!AJ51+'[1]151-200'!AJ51+'[1]201-250'!AJ51+'[1]251-300'!AJ51 -> 0 | AK51: ='[1]1-50'!AK51+'[1]51-100'!AK51+'[1]101-150'!AK51+'[1]151-200'!AK51+'[1]201-250'!AK51+'[1]251-300'!AK51 -> 0 | AL51: =IF(AK51=0,VLOOKUP($B51,[1]Paramètres!$C$7:$F$55,$C$6,FALSE),AM51/AK51) -> 40 | AM51: ='[1]1-50'!AM51+'[1]51-100'!AM51+'[1]101-150'!AM51+'[1]151-200'!AM51+'[1]201-250'!AM51+'[1]251-300'!AM51 -> 0 | AN51: =SUM(D51,G51,J51,M51,P51,S51,V51,Y51,AB51,AE51,AH51,AK51) -> 4 | AO51: =VLOOKUP($B51,[1]Paramètres!$C$7:$F$55,$C$6,FALSE) -> 40 | AP51: =SUM(F51,I51,L51,O51,R51,U51,X51,AA51,AD51,AG51,AJ51,AM51) -> 180
B52: =[1]Paramètres!C41 -> Assist. état mensuel activ. partielle | C52: =IF(AP52>0,"X","") -> X | E52: =IF(D52=0,VLOOKUP($B52,[1]Paramètres!$C$7:$F$55,$C$6,FALSE),F52/D52) -> 35 | G52: ='[1]1-50'!G52+'[1]51-100'!G52+'[1]101-150'!G52+'[1]151-200'!G52+'[1]201-250'!G52+'[1]251-300'!G52 -> 0 | H52: =IF(G52=0,VLOOKUP($B52,[1]Paramètres!$C$7:$F$55,$C$6,FALSE),I52/G52) -> 35 | I52: ='[1]1-50'!I52+'[1]51-100'!I52+'[1]101-150'!I52+'[1]151-200'!I52+'[1]201-250'!I52+'[1]251-300'!I52 -> 0 | J52: ='[1]1-50'!J52+'[1]51-100'!J52+'[1]101-150'!J52+'[1]151-200'!J52+'[1]201-250'!J52+'[1]251-300'!J52 -> 0 | K52: =IF(J52=0,VLOOKUP($B52,[1]Paramètres!$C$7:$F$55,$C$6,FALSE),L52/J52) -> 35 | L52: ='[1]1-50'!L52+'[1]51-100'!L52+'[1]101-150'!L52+'[1]151-200'!L52+'[1]201-250'!L52+'[1]251-300'!L52 -> 0 | M52: ='[1]1-50'!M52+'[1]51-100'!M52+'[1]101-150'!M52+'[1]151-200'!M52+'[1]201-250'!M52+'[1]251-300'!M52 -> 0 | N52: =IF(M52=0,VLOOKUP($B52,[1]Paramètres!$C$7:$F$55,$C$6,FALSE),O52/M52) -> 35 | O52: ='[1]1-50'!O52+'[1]51-100'!O52+'[1]101-150'!O52+'[1]151-200'!O52+'[1]201-250'!O52+'[1]251-300'!O52 -> 0 | P52: ='[1]1-50'!P52+'[1]51-100'!P52+'[1]101-150'!P52+'[1]151-200'!P52+'[1]201-250'!P52+'[1]251-300'!P52 -> 4 | Q52: =IF(P52=0,VLOOKUP($B52,[1]Paramètres!$C$7:$F$55,$C$6,FALSE),R52/P52) -> 15 | R52: ='[1]1-50'!R52+'[1]51-100'!R52+'[1]101-150'!R52+'[1]151-200'!R52+'[1]201-250'!R52+'[1]251-300'!R52 -> 60 | S52: ='[1]1-50'!S52+'[1]51-100'!S52+'[1]101-150'!S52+'[1]151-200'!S52+'[1]201-250'!S52+'[1]251-300'!S52 -> 4 | T52: =IF(S52=0,VLOOKUP($B52,[1]Paramètres!$C$7:$F$55,$C$6,FALSE),U52/S52) -> 15 | U52: ='[1]1-50'!U52+'[1]51-100'!U52+'[1]101-150'!U52+'[1]151-200'!U52+'[1]201-250'!U52+'[1]251-300'!U52 -> 60 | V52: ='[1]1-50'!V52+'[1]51-100'!V52+'[1]101-150'!V52+'[1]151-200'!V52+'[1]201-250'!V52+'[1]251-300'!V52 -> 0 | W52: =IF(V52=0,VLOOKUP($B52,[1]Paramètres!$C$7:$F$55,$C$6,FALSE),X52/V52) -> 35 | X52: ='[1]1-50'!X52+'[1]51-100'!X52+'[1]101-150'!X52+'[1]151-200'!X52+'[1]201-250'!X52+'[1]251-300'!X52 -> 0 | Y52: ='[1]1-50'!Y52+'[1]51-100'!Y52+'[1]101-150'!Y52+'[1]151-200'!Y52+'[1]201-250'!Y52+'[1]251-300'!Y52 -> 0 | Z52: =IF(Y52=0,VLOOKUP($B52,[1]Paramètres!$C$7:$F$55,$C$6,FALSE),AA52/Y52) -> 35 | AA52: ='[1]1-50'!AA52+'[1]51-100'!AA52+'[1]101-150'!AA52+'[1]151-200'!AA52+'[1]201-250'!AA52+'[1]251-300'!AA52 -> 0 | AB52: ='[1]1-50'!AB52+'[1]51-100'!AB52+'[1]101-150'!AB52+'[1]151-200'!AB52+'[1]201-250'!AB52+'[1]251-300'!AB52 -> 0 | AC52: =IF(AB52=0,VLOOKUP($B52,[1]Paramètres!$C$7:$F$55,$C$6,FALSE),AD52/AB52) -> 35 | AD52: ='[1]1-50'!AD52+'[1]51-100'!AD52+'[1]101-150'!AD52+'[1]151-200'!AD52+'[1]201-250'!AD52+'[1]251-300'!AD52 -> 0 | AE52: ='[1]1-50'!AE52+'[1]51-100'!AE52+'[1]101-150'!AE52+'[1]151-200'!AE52+'[1]201-250'!AE52+'[1]251-300'!AE52 -> 0 | AF52: =IF(AE52=0,VLOOKUP($B52,[1]Paramètres!$C$7:$F$55,$C$6,FALSE),AG52/AE52) -> 35 | AG52: ='[1]1-50'!AG52+'[1]51-100'!AG52+'[1]101-150'!AG52+'[1]151-200'!AG52+'[1]201-250'!AG52+'[1]251-300'!AG52 -> 0 | AH52: ='[1]1-50'!AH52+'[1]51-100'!AH52+'[1]101-150'!AH52+'[1]151-200'!AH52+'[1]201-250'!AH52+'[1]251-300'!AH52 -> 0 | AI52: =IF(AH52=0,VLOOKUP($B52,[1]Paramètres!$C$7:$F$55,$C$6,FALSE),AJ52/AH52) -> 35 | AJ52: ='[1]1-50'!AJ52+'[1]51-100'!AJ52+'[1]101-150'!AJ52+'[1]151-200'!AJ52+'[1]201-250'!AJ52+'[1]251-300'!AJ52 -> 0 | AK52: ='[1]1-50'!AK52+'[1]51-100'!AK52+'[1]101-150'!AK52+'[1]151-200'!AK52+'[1]201-250'!AK52+'[1]251-300'!AK52 -> 0 | AL52: =IF(AK52=0,VLOOKUP($B52,[1]Paramètres!$C$7:$F$55,$C$6,FALSE),AM52/AK52) -> 35 | AM52: ='[1]1-50'!AM52+'[1]51-100'!AM52+'[1]101-150'!AM52+'[1]151-200'!AM52+'[1]201-250'!AM52+'[1]251-300'!AM52 -> 0 | AN52: =SUM(D52,G52,J52,M52,P52,S52,V52,Y52,AB52,AE52,AH52,AK52) -> 8 | AO52: =VLOOKUP($B52,[1]Paramètres!$C$7:$F$55,$C$6,FALSE) -> 35 | AP52: =SUM(F52,I52,L52,O52,R52,U52,X52,AA52,AD52,AG52,AJ52,AM52) -> 120
B53: =[1]Paramètres!C42 -> Assist. contrôle URSSAF | C53: =IF(AP53>0,"X","") | E53: =IF(D53=0,VLOOKUP($B53,[1]Paramètres!$C$7:$F$55,$C$6,FALSE),F53/D53) -> 0 | G53: ='[1]1-50'!G53+'[1]51-100'!G53+'[1]101-150'!G53+'[1]151-200'!G53+'[1]201-250'!G53+'[1]251-300'!G53 -> 0 | H53: =IF(G53=0,VLOOKUP($B53,[1]Paramètres!$C$7:$F$55,$C$6,FALSE),I53/G53) -> 0 | I53: ='[1]1-50'!I53+'[1]51-100'!I53+'[1]101-150'!I53+'[1]151-200'!I53+'[1]201-250'!I53+'[1]251-300'!I53 -> 0 | J53: ='[1]1-50'!J53+'[1]51-100'!J53+'[1]101-150'!J53+'[1]151-200'!J53+'[1]201-250'!J53+'[1]251-300'!J53 -> 0 | K53: =IF(J53=0,VLOOKUP($B53,[1]Paramètres!$C$7:$F$55,$C$6,FALSE),L53/J53) -> 0 | L53: ='[1]1-50'!L53+'[1]51-100'!L53+'[1]101-150'!L53+'[1]151-200'!L53+'[1]201-250'!L53+'[1]251-300'!L53 -> 0 | M53: ='[1]1-50'!M53+'[1]51-100'!M53+'[1]101-150'!M53+'[1]151-200'!M53+'[1]201-250'!M53+'[1]251-300'!M53 -> 0 | N53: =IF(M53=0,VLOOKUP($B53,[1]Paramètres!$C$7:$F$55,$C$6,FALSE),O53/M53) -> 0 | O53: ='[1]1-50'!O53+'[1]51-100'!O53+'[1]101-150'!O53+'[1]151-200'!O53+'[1]201-250'!O53+'[1]251-300'!O53 -> 0 | P53: ='[1]1-50'!P53+'[1]51-100'!P53+'[1]101-150'!P53+'[1]151-200'!P53+'[1]201-250'!P53+'[1]251-300'!P53 -> 0 | Q53: =IF(P53=0,VLOOKUP($B53,[1]Paramètres!$C$7:$F$55,$C$6,FALSE),R53/P53) -> 0 | R53: ='[1]1-50'!R53+'[1]51-100'!R53+'[1]101-150'!R53+'[1]151-200'!R53+'[1]201-250'!R53+'[1]251-300'!R53 -> 0 | S53: ='[1]1-50'!S53+'[1]51-100'!S53+'[1]101-150'!S53+'[1]151-200'!S53+'[1]201-250'!S53+'[1]251-300'!S53 -> 0 | T53: =IF(S53=0,VLOOKUP($B53,[1]Paramètres!$C$7:$F$55,$C$6,FALSE),U53/S53) -> 0 | U53: ='[1]1-50'!U53+'[1]51-100'!U53+'[1]101-150'!U53+'[1]151-200'!U53+'[1]201-250'!U53+'[1]251-300'!U53 -> 0 | V53: ='[1]1-50'!V53+'[1]51-100'!V53+'[1]101-150'!V53+'[1]151-200'!V53+'[1]201-250'!V53+'[1]251-300'!V53 -> 0 | W53: =IF(V53=0,VLOOKUP($B53,[1]Paramètres!$C$7:$F$55,$C$6,FALSE),X53/V53) -> 0 | X53: ='[1]1-50'!X53+'[1]51-100'!X53+'[1]101-150'!X53+'[1]151-200'!X53+'[1]201-250'!X53+'[1]251-300'!X53 -> 0 | Y53: ='[1]1-50'!Y53+'[1]51-100'!Y53+'[1]101-150'!Y53+'[1]151-200'!Y53+'[1]201-250'!Y53+'[1]251-300'!Y53 -> 0 | Z53: =IF(Y53=0,VLOOKUP($B53,[1]Paramètres!$C$7:$F$55,$C$6,FALSE),AA53/Y53) -> 0 | AA53: ='[1]1-50'!AA53+'[1]51-100'!AA53+'[1]101-150'!AA53+'[1]151-200'!AA53+'[1]201-250'!AA53+'[1]251-300'!AA53 -> 0 | AB53: ='[1]1-50'!AB53+'[1]51-100'!AB53+'[1]101-150'!AB53+'[1]151-200'!AB53+'[1]201-250'!AB53+'[1]251-300'!AB53 -> 0 | AC53: =IF(AB53=0,VLOOKUP($B53,[1]Paramètres!$C$7:$F$55,$C$6,FALSE),AD53/AB53) -> 0 | AD53: ='[1]1-50'!AD53+'[1]51-100'!AD53+'[1]101-150'!AD53+'[1]151-200'!AD53+'[1]201-250'!AD53+'[1]251-300'!AD53 -> 0 | AE53: ='[1]1-50'!AE53+'[1]51-100'!AE53+'[1]101-150'!AE53+'[1]151-200'!AE53+'[1]201-250'!AE53+'[1]251-300'!AE53 -> 0 | AF53: =IF(AE53=0,VLOOKUP($B53,[1]Paramètres!$C$7:$F$55,$C$6,FALSE),AG53/AE53) -> 0 | AG53: ='[1]1-50'!AG53+'[1]51-100'!AG53+'[1]101-150'!AG53+'[1]151-200'!AG53+'[1]201-250'!AG53+'[1]251-300'!AG53 -> 0 | AH53: ='[1]1-50'!AH53+'[1]51-100'!AH53+'[1]101-150'!AH53+'[1]151-200'!AH53+'[1]201-250'!AH53+'[1]251-300'!AH53 -> 0 | AI53: =IF(AH53=0,VLOOKUP($B53,[1]Paramètres!$C$7:$F$55,$C$6,FALSE),AJ53/AH53) -> 0 | AJ53: ='[1]1-50'!AJ53+'[1]51-100'!AJ53+'[1]101-150'!AJ53+'[1]151-200'!AJ53+'[1]201-250'!AJ53+'[1]251-300'!AJ53 -> 0 | AK53: ='[1]1-50'!AK53+'[1]51-100'!AK53+'[1]101-150'!AK53+'[1]151-200'!AK53+'[1]201-250'!AK53+'[1]251-300'!AK53 -> 0 | AL53: =IF(AK53=0,VLOOKUP($B53,[1]Paramètres!$C$7:$F$55,$C$6,FALSE),AM53/AK53) -> 0 | AM53: ='[1]1-50'!AM53+'[1]51-100'!AM53+'[1]101-150'!AM53+'[1]151-200'!AM53+'[1]201-250'!AM53+'[1]251-300'!AM53 -> 0 | AN53: =SUM(D53,G53,J53,M53,P53,S53,V53,Y53,AB53,AE53,AH53,AK53) -> 0 | AO53: =VLOOKUP($B53,[1]Paramètres!$C$7:$F$55,$C$6,FALSE) -> 0 | AP53: =SUM(F53,I53,L53,O53,R53,U53,X53,AA53,AD53,AG53,AJ53,AM53) -> 0
B54: =[1]Paramètres!C43 -> Audit social complet | C54: =IF(AP54>0,"X","") | E54: =IF(D54=0,VLOOKUP($B54,[1]Paramètres!$C$7:$F$55,$C$6,FALSE),F54/D54) -> 0 | G54: ='[1]1-50'!G54+'[1]51-100'!G54+'[1]101-150'!G54+'[1]151-200'!G54+'[1]201-250'!G54+'[1]251-300'!G54 -> 0 | H54: =IF(G54=0,VLOOKUP($B54,[1]Paramètres!$C$7:$F$55,$C$6,FALSE),I54/G54) -> 0 | I54: ='[1]1-50'!I54+'[1]51-100'!I54+'[1]101-150'!I54+'[1]151-200'!I54+'[1]201-250'!I54+'[1]251-300'!I54 -> 0 | J54: ='[1]1-50'!J54+'[1]51-100'!J54+'[1]101-150'!J54+'[1]151-200'!J54+'[1]201-250'!J54+'[1]251-300'!J54 -> 0 | K54: =IF(J54=0,VLOOKUP($B54,[1]Paramètres!$C$7:$F$55,$C$6,FALSE),L54/J54) -> 0 | L54: ='[1]1-50'!L54+'[1]51-100'!L54+'[1]101-150'!L54+'[1]151-200'!L54+'[1]201-250'!L54+'[1]251-300'!L54 -> 0 | M54: ='[1]1-50'!M54+'[1]51-100'!M54+'[1]101-150'!M54+'[1]151-200'!M54+'[1]201-250'!M54+'[1]251-300'!M54 -> 0 | N54: =IF(M54=0,VLOOKUP($B54,[1]Paramètres!$C$7:$F$55,$C$6,FALSE),O54/M54) -> 0 | O54: ='[1]1-50'!O54+'[1]51-100'!O54+'[1]101-150'!O54+'[1]151-200'!O54+'[1]201-250'!O54+'[1]251-300'!O54 -> 0 | P54: ='[1]1-50'!P54+'[1]51-100'!P54+'[1]101-150'!P54+'[1]151-200'!P54+'[1]201-250'!P54+'[1]251-300'!P54 -> 0 | Q54: =IF(P54=0,VLOOKUP($B54,[1]Paramètres!$C$7:$F$55,$C$6,FALSE),R54/P54) -> 0 | R54: ='[1]1-50'!R54+'[1]51-100'!R54+'[1]101-150'!R54+'[1]151-200'!R54+'[1]201-250'!R54+'[1]251-300'!R54 -> 0 | S54: ='[1]1-50'!S54+'[1]51-100'!S54+'[1]101-150'!S54+'[1]151-200'!S54+'[1]201-250'!S54+'[1]251-300'!S54 -> 0 | T54: =IF(S54=0,VLOOKUP($B54,[1]Paramètres!$C$7:$F$55,$C$6,FALSE),U54/S54) -> 0 | U54: ='[1]1-50'!U54+'[1]51-100'!U54+'[1]101-150'!U54+'[1]151-200'!U54+'[1]201-250'!U54+'[1]251-300'!U54 -> 0 | V54: ='[1]1-50'!V54+'[1]51-100'!V54+'[1]101-150'!V54+'[1]151-200'!V54+'[1]201-250'!V54+'[1]251-300'!V54 -> 0 | W54: =IF(V54=0,VLOOKUP($B54,[1]Paramètres!$C$7:$F$55,$C$6,FALSE),X54/V54) -> 0 | X54: ='[1]1-50'!X54+'[1]51-100'!X54+'[1]101-150'!X54+'[1]151-200'!X54+'[1]201-250'!X54+'[1]251-300'!X54 -> 0 | Y54: ='[1]1-50'!Y54+'[1]51-100'!Y54+'[1]101-150'!Y54+'[1]151-200'!Y54+'[1]201-250'!Y54+'[1]251-300'!Y54 -> 0 | Z54: =IF(Y54=0,VLOOKUP($B54,[1]Paramètres!$C$7:$F$55,$C$6,FALSE),AA54/Y54) -> 0 | AA54: ='[1]1-50'!AA54+'[1]51-100'!AA54+'[1]101-150'!AA54+'[1]151-200'!AA54+'[1]201-250'!AA54+'[1]251-300'!AA54 -> 0 | AB54: ='[1]1-50'!AB54+'[1]51-100'!AB54+'[1]101-150'!AB54+'[1]151-200'!AB54+'[1]201-250'!AB54+'[1]251-300'!AB54 -> 0 | AC54: =IF(AB54=0,VLOOKUP($B54,[1]Paramètres!$C$7:$F$55,$C$6,FALSE),AD54/AB54) -> 0 | AD54: ='[1]1-50'!AD54+'[1]51-100'!AD54+'[1]101-150'!AD54+'[1]151-200'!AD54+'[1]201-250'!AD54+'[1]251-300'!AD54 -> 0 | AE54: ='[1]1-50'!AE54+'[1]51-100'!AE54+'[1]101-150'!AE54+'[1]151-200'!AE54+'[1]201-250'!AE54+'[1]251-300'!AE54 -> 0 | AF54: =IF(AE54=0,VLOOKUP($B54,[1]Paramètres!$C$7:$F$55,$C$6,FALSE),AG54/AE54) -> 0 | AG54: ='[1]1-50'!AG54+'[1]51-100'!AG54+'[1]101-150'!AG54+'[1]151-200'!AG54+'[1]201-250'!AG54+'[1]251-300'!AG54 -> 0 | AH54: ='[1]1-50'!AH54+'[1]51-100'!AH54+'[1]101-150'!AH54+'[1]151-200'!AH54+'[1]201-250'!AH54+'[1]251-300'!AH54 -> 0 | AI54: =IF(AH54=0,VLOOKUP($B54,[1]Paramètres!$C$7:$F$55,$C$6,FALSE),AJ54/AH54) -> 0 | AJ54: ='[1]1-50'!AJ54+'[1]51-100'!AJ54+'[1]101-150'!AJ54+'[1]151-200'!AJ54+'[1]201-250'!AJ54+'[1]251-300'!AJ54 -> 0 | AK54: ='[1]1-50'!AK54+'[1]51-100'!AK54+'[1]101-150'!AK54+'[1]151-200'!AK54+'[1]201-250'!AK54+'[1]251-300'!AK54 -> 0 | AL54: =IF(AK54=0,VLOOKUP($B54,[1]Paramètres!$C$7:$F$55,$C$6,FALSE),AM54/AK54) -> 0 | AM54: ='[1]1-50'!AM54+'[1]51-100'!AM54+'[1]101-150'!AM54+'[1]151-200'!AM54+'[1]201-250'!AM54+'[1]251-300'!AM54 -> 0 | AN54: =SUM(D54,G54,J54,M54,P54,S54,V54,Y54,AB54,AE54,AH54,AK54) -> 0 | AO54: =VLOOKUP($B54,[1]Paramètres!$C$7:$F$55,$C$6,FALSE) -> 0 | AP54: =SUM(F54,I54,L54,O54,R54,U54,X54,AA54,AD54,AG54,AJ54,AM54) -> 0
B55: =[1]Paramètres!C44 -> Assist. réalisation paye sur site | C55: =IF(AP55>0,"X","") | E55: =IF(D55=0,VLOOKUP($B55,[1]Paramètres!$C$7:$F$55,$C$6,FALSE),F55/D55) -> 0 | G55: ='[1]1-50'!G55+'[1]51-100'!G55+'[1]101-150'!G55+'[1]151-200'!G55+'[1]201-250'!G55+'[1]251-300'!G55 -> 0 | H55: =IF(G55=0,VLOOKUP($B55,[1]Paramètres!$C$7:$F$55,$C$6,FALSE),I55/G55) -> 0 | I55: ='[1]1-50'!I55+'[1]51-100'!I55+'[1]101-150'!I55+'[1]151-200'!I55+'[1]201-250'!I55+'[1]251-300'!I55 -> 0 | J55: ='[1]1-50'!J55+'[1]51-100'!J55+'[1]101-150'!J55+'[1]151-200'!J55+'[1]201-250'!J55+'[1]251-300'!J55 -> 0 | K55: =IF(J55=0,VLOOKUP($B55,[1]Paramètres!$C$7:$F$55,$C$6,FALSE),L55/J55) -> 0 | L55: ='[1]1-50'!L55+'[1]51-100'!L55+'[1]101-150'!L55+'[1]151-200'!L55+'[1]201-250'!L55+'[1]251-300'!L55 -> 0 | M55: ='[1]1-50'!M55+'[1]51-100'!M55+'[1]101-150'!M55+'[1]151-200'!M55+'[1]201-250'!M55+'[1]251-300'!M55 -> 0 | N55: =IF(M55=0,VLOOKUP($B55,[1]Paramètres!$C$7:$F$55,$C$6,FALSE),O55/M55) -> 0 | O55: ='[1]1-50'!O55+'[1]51-100'!O55+'[1]101-150'!O55+'[1]151-200'!O55+'[1]201-250'!O55+'[1]251-300'!O55 -> 0 | P55: ='[1]1-50'!P55+'[1]51-100'!P55+'[1]101-150'!P55+'[1]151-200'!P55+'[1]201-250'!P55+'[1]251-300'!P55 -> 0 | Q55: =IF(P55=0,VLOOKUP($B55,[1]Paramètres!$C$7:$F$55,$C$6,FALSE),R55/P55) -> 0 | R55: ='[1]1-50'!R55+'[1]51-100'!R55+'[1]101-150'!R55+'[1]151-200'!R55+'[1]201-250'!R55+'[1]251-300'!R55 -> 0 | S55: ='[1]1-50'!S55+'[1]51-100'!S55+'[1]101-150'!S55+'[1]151-200'!S55+'[1]201-250'!S55+'[1]251-300'!S55 -> 0 | T55: =IF(S55=0,VLOOKUP($B55,[1]Paramètres!$C$7:$F$55,$C$6,FALSE),U55/S55) -> 0 | U55: ='[1]1-50'!U55+'[1]51-100'!U55+'[1]101-150'!U55+'[1]151-200'!U55+'[1]201-250'!U55+'[1]251-300'!U55 -> 0 | V55: ='[1]1-50'!V55+'[1]51-100'!V55+'[1]101-150'!V55+'[1]151-200'!V55+'[1]201-250'!V55+'[1]251-300'!V55 -> 0 | W55: =IF(V55=0,VLOOKUP($B55,[1]Paramètres!$C$7:$F$55,$C$6,FALSE),X55/V55) -> 0 | X55: ='[1]1-50'!X55+'[1]51-100'!X55+'[1]101-150'!X55+'[1]151-200'!X55+'[1]201-250'!X55+'[1]251-300'!X55 -> 0 | Y55: ='[1]1-50'!Y55+'[1]51-100'!Y55+'[1]101-150'!Y55+'[1]151-200'!Y55+'[1]201-250'!Y55+'[1]251-300'!Y55 -> 0 | Z55: =IF(Y55=0,VLOOKUP($B55,[1]Paramètres!$C$7:$F$55,$C$6,FALSE),AA55/Y55) -> 0 | AA55: ='[1]1-50'!AA55+'[1]51-100'!AA55+'[1]101-150'!AA55+'[1]151-200'!AA55+'[1]201-250'!AA55+'[1]251-300'!AA55 -> 0 | AB55: ='[1]1-50'!AB55+'[1]51-100'!AB55+'[1]101-150'!AB55+'[1]151-200'!AB55+'[1]201-250'!AB55+'[1]251-300'!AB55 -> 0 | AC55: =IF(AB55=0,VLOOKUP($B55,[1]Paramètres!$C$7:$F$55,$C$6,FALSE),AD55/AB55) -> 0 | AD55: ='[1]1-50'!AD55+'[1]51-100'!AD55+'[1]101-150'!AD55+'[1]151-200'!AD55+'[1]201-250'!AD55+'[1]251-300'!AD55 -> 0 | AE55: ='[1]1-50'!AE55+'[1]51-100'!AE55+'[1]101-150'!AE55+'[1]151-200'!AE55+'[1]201-250'!AE55+'[1]251-300'!AE55 -> 0 | AF55: =IF(AE55=0,VLOOKUP($B55,[1]Paramètres!$C$7:$F$55,$C$6,FALSE),AG55/AE55) -> 0 | AG55: ='[1]1-50'!AG55+'[1]51-100'!AG55+'[1]101-150'!AG55+'[1]151-200'!AG55+'[1]201-250'!AG55+'[1]251-300'!AG55 -> 0 | AH55: ='[1]1-50'!AH55+'[1]51-100'!AH55+'[1]101-150'!AH55+'[1]151-200'!AH55+'[1]201-250'!AH55+'[1]251-300'!AH55 -> 0 | AI55: =IF(AH55=0,VLOOKUP($B55,[1]Paramètres!$C$7:$F$55,$C$6,FALSE),AJ55/AH55) -> 0 | AJ55: ='[1]1-50'!AJ55+'[1]51-100'!AJ55+'[1]101-150'!AJ55+'[1]151-200'!AJ55+'[1]201-250'!AJ55+'[1]251-300'!AJ55 -> 0 | AK55: ='[1]1-50'!AK55+'[1]51-100'!AK55+'[1]101-150'!AK55+'[1]151-200'!AK55+'[1]201-250'!AK55+'[1]251-300'!AK55 -> 0 | AL55: =IF(AK55=0,VLOOKUP($B55,[1]Paramètres!$C$7:$F$55,$C$6,FALSE),AM55/AK55) -> 0 | AM55: ='[1]1-50'!AM55+'[1]51-100'!AM55+'[1]101-150'!AM55+'[1]151-200'!AM55+'[1]201-250'!AM55+'[1]251-300'!AM55 -> 0 | AN55: =SUM(D55,G55,J55,M55,P55,S55,V55,Y55,AB55,AE55,AH55,AK55) -> 0 | AO55: =VLOOKUP($B55,[1]Paramètres!$C$7:$F$55,$C$6,FALSE) -> 0 | AP55: =SUM(F55,I55,L55,O55,R55,U55,X55,AA55,AD55,AG55,AJ55,AM55) -> 0
... B66: =[1]Paramètres!C55 -> Document unique risque professionnels | C66: =IF(AP66>0,"X","") | E66: =IF(D66=0,VLOOKUP($B66,[1]Paramètres!$C$7:$F$55,$C$6,FALSE),F66/D66) -> 0 | G66: ='[1]1-50'!G66+'[1]51-100'!G66+'[1]101-150'!G66+'[1]151-200'!G66+'[1]201-250'!G66+'[1]251-300'!G66 -> 0 | H66: =IF(G66=0,VLOOKUP($B66,[1]Paramètres!$C$7:$F$55,$C$6,FALSE),I66/G66) -> 0 | I66: ='[1]1-50'!I66+'[1]51-100'!I66+'[1]101-150'!I66+'[1]151-200'!I66+'[1]201-250'!I66+'[1]251-300'!I66 -> 0 | J66: ='[1]1-50'!J66+'[1]51-100'!J66+'[1]101-150'!J66+'[1]151-200'!J66+'[1]201-250'!J66+'[1]251-300'!J66 -> 0 | K66: =IF(J66=0,VLOOKUP($B66,[1]Paramètres!$C$7:$F$55,$C$6,FALSE),L66/J66) -> 0 | L66: ='[1]1-50'!L66+'[1]51-100'!L66+'[1]101-150'!L66+'[1]151-200'!L66+'[1]201-250'!L66+'[1]251-300'!L66 -> 0 | M66: ='[1]1-50'!M66+'[1]51-100'!M66+'[1]101-150'!M66+'[1]151-200'!M66+'[1]201-250'!M66+'[1]251-300'!M66 -> 0 | N66: =IF(M66=0,VLOOKUP($B66,[1]Paramètres!$C$7:$F$55,$C$6,FALSE),O66/M66) -> 0 | O66: ='[1]1-50'!O66+'[1]51-100'!O66+'[1]101-150'!O66+'[1]151-200'!O66+'[1]201-250'!O66+'[1]251-300'!O66 -> 0 | P66: ='[1]1-50'!P66+'[1]51-100'!P66+'[1]101-150'!P66+'[1]151-200'!P66+'[1]201-250'!P66+'[1]251-300'!P66 -> 0 | Q66: =IF(P66=0,VLOOKUP($B66,[1]Paramètres!$C$7:$F$55,$C$6,FALSE),R66/P66) -> 0 | R66: ='[1]1-50'!R66+'[1]51-100'!R66+'[1]101-150'!R66+'[1]151-200'!R66+'[1]201-250'!R66+'[1]251-300'!R66 -> 0 | S66: ='[1]1-50'!S66+'[1]51-100'!S66+'[1]101-150'!S66+'[1]151-200'!S66+'[1]201-250'!S66+'[1]251-300'!S66 -> 0 | T66: =IF(S66=0,VLOOKUP($B66,[1]Paramètres!$C$7:$F$55,$C$6,FALSE),U66/S66) -> 0 | U66: ='[1]1-50'!U66+'[1]51-100'!U66+'[1]101-150'!U66+'[1]151-200'!U66+'[1]201-250'!U66+'[1]251-300'!U66 -> 0 | V66: ='[1]1-50'!V66+'[1]51-100'!V66+'[1]101-150'!V66+'[1]151-200'!V66+'[1]201-250'!V66+'[1]251-300'!V66 -> 0 | W66: =IF(V66=0,VLOOKUP($B66,[1]Paramètres!$C$7:$F$55,$C$6,FALSE),X66/V66) -> 0 | X66: ='[1]1-50'!X66+'[1]51-100'!X66+'[1]101-150'!X66+'[1]151-200'!X66+'[1]201-250'!X66+'[1]251-300'!X66 -> 0 | Y66: ='[1]1-50'!Y66+'[1]51-100'!Y66+'[1]101-150'!Y66+'[1]151-200'!Y66+'[1]201-250'!Y66+'[1]251-300'!Y66 -> 0 | Z66: =IF(Y66=0,VLOOKUP($B66,[1]Paramètres!$C$7:$F$55,$C$6,FALSE),AA66/Y66) -> 0 | AA66: ='[1]1-50'!AA66+'[1]51-100'!AA66+'[1]101-150'!AA66+'[1]151-200'!AA66+'[1]201-250'!AA66+'[1]251-300'!AA66 -> 0 | AB66: ='[1]1-50'!AB66+'[1]51-100'!AB66+'[1]101-150'!AB66+'[1]151-200'!AB66+'[1]201-250'!AB66+'[1]251-300'!AB66 -> 0 | AC66: =IF(AB66=0,VLOOKUP($B66,[1]Paramètres!$C$7:$F$55,$C$6,FALSE),AD66/AB66) -> 0 | AD66: ='[1]1-50'!AD66+'[1]51-100'!AD66+'[1]101-150'!AD66+'[1]151-200'!AD66+'[1]201-250'!AD66+'[1]251-300'!AD66 -> 0 | AE66: ='[1]1-50'!AE66+'[1]51-100'!AE66+'[1]101-150'!AE66+'[1]151-200'!AE66+'[1]201-250'!AE66+'[1]251-300'!AE66 -> 0 | AF66: =IF(AE66=0,VLOOKUP($B66,[1]Paramètres!$C$7:$F$55,$C$6,FALSE),AG66/AE66) -> 0 | AG66: ='[1]1-50'!AG66+'[1]51-100'!AG66+'[1]101-150'!AG66+'[1]151-200'!AG66+'[1]201-250'!AG66+'[1]251-300'!AG66 -> 0 | AH66: ='[1]1-50'!AH66+'[1]51-100'!AH66+'[1]101-150'!AH66+'[1]151-200'!AH66+'[1]201-250'!AH66+'[1]251-300'!AH66 -> 0 | AI66: =IF(AH66=0,VLOOKUP($B66,[1]Paramètres!$C$7:$F$55,$C$6,FALSE),AJ66/AH66) -> 0 | AJ66: ='[1]1-50'!AJ66+'[1]51-100'!AJ66+'[1]101-150'!AJ66+'[1]151-200'!AJ66+'[1]201-250'!AJ66+'[1]251-300'!AJ66 -> 0 | AK66: ='[1]1-50'!AK66+'[1]51-100'!AK66+'[1]101-150'!AK66+'[1]151-200'!AK66+'[1]201-250'!AK66+'[1]251-300'!AK66 -> 0 | AL66: =IF(AK66=0,VLOOKUP($B66,[1]Paramètres!$C$7:$F$55,$C$6,FALSE),AM66/AK66) -> 0 | AM66: ='[1]1-50'!AM66+'[1]51-100'!AM66+'[1]101-150'!AM66+'[1]151-200'!AM66+'[1]201-250'!AM66+'[1]251-300'!AM66 -> 0 | AN66: =SUM(D66,G66,J66,M66,P66,S66,V66,Y66,AB66,AE66,AH66,AK66) -> 0 | AO66: =VLOOKUP($B66,[1]Paramètres!$C$7:$F$55,$C$6,FALSE) -> 0 | AP66: =SUM(F66,I66,L66,O66,R66,U66,X66,AA66,AD66,AG66,AJ66,AM66) -> 0
B67: TOTAL MISSIONS EXCEPTIONNELLES | I67: =SUM(I44:I66) -> 0 | L67: =SUM(L44:L66) -> 0 | O67: =SUM(O44:O66) -> 180 | R67: =SUM(R44:R66) -> 60 | U67: =SUM(U44:U66) -> 60 | X67: =SUM(X44:X66) -> 0 | AA67: =SUM(AA44:AA66) -> 0 | AD67: =SUM(AD44:AD66) -> 0 | AG67: =SUM(AG44:AG66) -> 0 | AJ67: =SUM(AJ44:AJ66) -> 0 | AM67: =SUM(AM44:AM66) -> 0 | AP67: =SUM(AP44:AP66) -> 300
B69: Régul N-1 | C69: X
B70: TOTAL GENERAL | C70: X | I70: =I22+I43+I67 -> 0 | L70: =L22+L43+L67 -> 0 | O70: =O22+O43+O67 -> 180 | R70: =R22+R43+R67 -> 60 | U70: =U22+U43+U67 -> 60 | X70: =X22+X43+X67 -> 0 | AA70: =AA22+AA43+AA67 -> 0 | AD70: =AD22+AD43+AD67 -> 0 | AG70: =AG22+AG43+AG67 -> 0 | AJ70: =AJ22+AJ43+AJ67 -> 0 | AM70: =AM22+AM43+AM67 -> 0 | AP70: =SUM(F70,I70,L70,O70,R70,U70,X70,AA70,AD70,AG70,AJ70,AM70) -> 300
B71: FACTURATION | C71: X | I71: ='[1]1-50'!I71+'[1]51-100'!I71+'[1]101-150'!I71+'[1]151-200'!I71+'[1]201-250'!I71+'[1]251-300'!I71 -> 0 | L71: ='[1]1-50'!L71+'[1]51-100'!L71+'[1]101-150'!L71+'[1]151-200'!L71+'[1]201-250'!L71+'[1]251-300'!L71 -> 0 | O71: ='[1]1-50'!O71+'[1]51-100'!O71+'[1]101-150'!O71+'[1]151-200'!O71+'[1]201-250'!O71+'[1]251-300'!O71 -> 0 | R71: ='[1]1-50'!R71+'[1]51-100'!R71+'[1]101-150'!R71+'[1]151-200'!R71+'[1]201-250'!R71+'[1]251-300'!R71 -> 0 | U71: ='[1]1-50'!U71+'[1]51-100'!U71+'[1]101-150'!U71+'[1]151-200'!U71+'[1]201-250'!U71+'[1]251-300'!U71 -> 0 | X71: ='[1]1-50'!X71+'[1]51-100'!X71+'[1]101-150'!X71+'[1]151-200'!X71+'[1]201-250'!X71+'[1]251-300'!X71 -> 0 | AA71: ='[1]1-50'!AA71+'[1]51-100'!AA71+'[1]101-150'!AA71+'[1]151-200'!AA71+'[1]201-250'!AA71+'[1]251-300'!AA71 -> 0 | AD71: ='[1]1-50'!AD71+'[1]51-100'!AD71+'[1]101-150'!AD71+'[1]151-200'!AD71+'[1]201-250'!AD71+'[1]251-300'!AD71 -> 0 | AG71: ='[1]1-50'!AG71+'[1]51-100'!AG71+'[1]101-150'!AG71+'[1]151-200'!AG71+'[1]201-250'!AG71+'[1]251-300'!AG71 -> 0 | AJ71: ='[1]1-50'!AJ71+'[1]51-100'!AJ71+'[1]101-150'!AJ71+'[1]151-200'!AJ71+'[1]201-250'!AJ71+'[1]251-300'!AJ71 -> 0 | AM71: ='[1]1-50'!AM71+'[1]51-100'!AM71+'[1]101-150'!AM71+'[1]151-200'!AM71+'[1]201-250'!AM71+'[1]251-300'!AM71 -> 0 | AP71: =SUM(F71,I71,L71,O71,R71,U71,X71,AA71,AD71,AG71,AJ71,AM71) -> 0
B72: REDUCTION | C72: X | I72: ='[1]1-50'!I72+'[1]51-100'!I72+'[1]101-150'!I72+'[1]151-200'!I72+'[1]201-250'!I72+'[1]251-300'!I72 -> 0 | L72: ='[1]1-50'!L72+'[1]51-100'!L72+'[1]101-150'!L72+'[1]151-200'!L72+'[1]201-250'!L72+'[1]251-300'!L72 -> 0 | O72: ='[1]1-50'!O72+'[1]51-100'!O72+'[1]101-150'!O72+'[1]151-200'!O72+'[1]201-250'!O72+'[1]251-300'!O72 -> 0 | R72: ='[1]1-50'!R72+'[1]51-100'!R72+'[1]101-150'!R72+'[1]151-200'!R72+'[1]201-250'!R72+'[1]251-300'!R72 -> 0 | U72: ='[1]1-50'!U72+'[1]51-100'!U72+'[1]101-150'!U72+'[1]151-200'!U72+'[1]201-250'!U72+'[1]251-300'!U72 -> 0 | X72: ='[1]1-50'!X72+'[1]51-100'!X72+'[1]101-150'!X72+'[1]151-200'!X72+'[1]201-250'!X72+'[1]251-300'!X72 -> 0 | AA72: ='[1]1-50'!AA72+'[1]51-100'!AA72+'[1]101-150'!AA72+'[1]151-200'!AA72+'[1]201-250'!AA72+'[1]251-300'!AA72 -> 0 | AD72: ='[1]1-50'!AD72+'[1]51-100'!AD72+'[1]101-150'!AD72+'[1]151-200'!AD72+'[1]201-250'!AD72+'[1]251-300'!AD72 -> 0 | AG72: ='[1]1-50'!AG72+'[1]51-100'!AG72+'[1]101-150'!AG72+'[1]151-200'!AG72+'[1]201-250'!AG72+'[1]251-300'!AG72 -> 0 | AJ72: ='[1]1-50'!AJ72+'[1]51-100'!AJ72+'[1]101-150'!AJ72+'[1]151-200'!AJ72+'[1]201-250'!AJ72+'[1]251-300'!AJ72 -> 0 | AM72: ='[1]1-50'!AM72+'[1]51-100'!AM72+'[1]101-150'!AM72+'[1]151-200'!AM72+'[1]201-250'!AM72+'[1]251-300'!AM72 -> 0 | AP72: =SUM(F72,I72,L72,O72,R72,U72,X72,AA72,AD72,AG72,AJ72,AM72) -> 0
B73: REGUL | C73: X | I73: =I69+I70-I71-I72 -> 0 | L73: =L69+L70-L71-L72 -> 0 | O73: =O69+O70-O71-O72 -> 180 | R73: =R69+R70-R71-R72 -> 60 | U73: =U69+U70-U71-U72 -> 60 | X73: =X69+X70-X71-X72 -> 0 | AA73: =AA69+AA70-AA71-AA72 -> 0 | AD73: =AD69+AD70-AD71-AD72 -> 0 | AG73: =AG69+AG70-AG71-AG72 -> 0 | AJ73: =AJ69+AJ70-AJ71-AJ72 -> 0 | AM73: =AM69+AM70-AM71-AM72 -> 0 | AP73: =SUM(F73,I73,L73,O73,R73,U73,X73,AA73,AD73,AG73,AJ73,AM73) -> 300

Sheet Matrice
B2: Nom client : | D2: =MID(CELL("nomfichier",A1),FIND("]",CELL("nomfichier",A1))+1,32) -> Matrice
B3: N° client : | D3: 5100000
B4: Collaborateur : | D4: Nazha Hassani
B5: Site | D5: Perpignan
B6: Effectif moyen prévu : | C6: =IF(D6=Paramètres!D7,2,IF(D6=Paramètres!E7,3,IF(D6=Paramètres!F7,4,"erreur"))) -> 2 | D6: De 1 à 5 salariés
B7: =CONCATENATE(IF(#REF!=Paramètres!$J$17,Paramètres!$J$17,$D$4),"_",IF(#REF!=Paramètres!$H$12,Paramètres!$H$12,$D$5)) -> #REF!
B8: Informations utiles au dossier :
B15: Missions | D15: Janvier | G15: Février | J15: Mars | M15: Avril | P15: Mai | S15: Juin | V15: Juillet | Y15: Août | AB15: Septembre | AE15: Octobre | AH15: Novembre | AK15: Décembre | AN15: TOTAL
D16: Qté | E16: P.U. | F16: Montant | G16: Qté | H16: P.U. | I16: Montant | J16: Qté | K16: P.U. | L16: Montant | M16: Qté | N16: P.U. | O16: Montant | P16: Qté | Q16: P.U. | R16: Montant | S16: Qté | T16: P.U. | U16: Montant | V16: Qté | W16: P.U. | X16: Montant | Y16: Qté | Z16: P.U. | AA16: Montant | AB16: Qté | AC16: P.U. | AD16: Montant | AE16: Qté | AF16: P.U. | AG16: Montant | AH16: Qté | AI16: P.U. | AJ16: Montant | AK16: Qté | AL16: P.U. | AM16: Montant | AN16: Qté | AO16: P.U. | AP16: Montant
B17: =Paramètres!C8 -> Bulletins (tarif unitaire) | C17: =IF(AP17>0,"X","") | E17: =VLOOKUP($B17,Paramètres!$C$7:$F$55,$C$6,FALSE) -> 21.5 | F17: =IF(ISNUMBER(E17),D17*E17,0) -> 0 | H17: =VLOOKUP($B17,Paramètres!$C$7:$F$55,$C$6,FALSE) -> 21.5 | I17: =G17*H17 -> 0 | K17: =VLOOKUP($B17,Paramètres!$C$7:$F$55,$C$6,FALSE) -> 21.5 | L17: =J17*K17 -> 0 | N17: =VLOOKUP($B17,Paramètres!$C$7:$F$55,$C$6,FALSE) -> 21.5 | O17: =M17*N17 -> 0 | Q17: =VLOOKUP($B17,Paramètres!$C$7:$F$55,$C$6,FALSE) -> 21.5 | R17: =P17*Q17 -> 0 | T17: =VLOOKUP($B17,Paramètres!$C$7:$F$55,$C$6,FALSE) -> 21.5 | U17: =S17*T17 -> 0 | W17: =VLOOKUP($B17,Paramètres!$C$7:$F$55,$C$6,FALSE) -> 21.5 | X17: =V17*W17 -> 0 | Z17: =VLOOKUP($B17,Paramètres!$C$7:$F$55,$C$6,FALSE) -> 21.5 | AA17: =Y17*Z17 -> 0 | AC17: =VLOOKUP($B17,Paramètres!$C$7:$F$55,$C$6,FALSE) -> 21.5 | AD17: =AB17*AC17 -> 0 | AF17: =VLOOKUP($B17,Paramètres!$C$7:$F$55,$C$6,FALSE) -> 21.5 | AG17: =AE17*AF17 -> 0 | AI17: =VLOOKUP($B17,Paramètres!$C$7:$F$55,$C$6,FALSE) -> 21.5 | AJ17: =AH17*AI17 -> 0 | AL17: =VLOOKUP($B17,Paramètres!$C$7:$F$55,$C$6,FALSE) -> 21.5 | AM17: =AK17*AL17 -> 0 | AN17: =SUM(D17,G17,J17,M17,P17,S17,V17,Y17,AB17,AE17,AH17,AK17) -> 0 | AO17: =VLOOKUP($B17,Paramètres!$C$7:$F$55,$C$6,FALSE) -> 21.5 | AP17: =SUM(F17,I17,L17,O17,R17,U17,X17,AA17,AD17,AG17,AJ17,AM17) -> 0
B18: =Paramètres!C9 -> Bulletins refaits (tarif unitaire) | C18: =IF(AP18>0,"X","") | E18: =VLOOKUP($B18,Paramètres!$C$7:$F$55,$C$6,FALSE) -> 10.75 | F18: =IF(ISNUMBER(E18),D18*E18,0) -> 0 | H18: =VLOOKUP($B18,Paramètres!$C$7:$F$55,$C$6,FALSE) -> 10.75 | I18: =G18*H18 -> 0 | K18: =VLOOKUP($B18,Paramètres!$C$7:$F$55,$C$6,FALSE) -> 10.75 | L18: =J18*K18 -> 0 | N18: =VLOOKUP($B18,Paramètres!$C$7:$F$55,$C$6,FALSE) -> 10.75 | O18: =M18*N18 -> 0 | Q18: =VLOOKUP($B18,Paramètres!$C$7:$F$55,$C$6,FALSE) -> 10.75 | R18: =P18*Q18 -> 0 | T18: =VLOOKUP($B18,Paramètres!$C$7:$F$55,$C$6,FALSE) -> 10.75 | U18: =S18*T18 -> 0 | W18: =VLOOKUP($B18,Paramètres!$C$7:$F$55,$C$6,FALSE) -> 10.75 | X18: =V18*W18 -> 0 | Z18: =VLOOKUP($B18,Paramètres!$C$7:$F$55,$C$6,FALSE) -> 10.75 | AA18: =Y18*Z18 -> 0 | AC18: =VLOOKUP($B18,Paramètres!$C$7:$F$55,$C$6,FALSE) -> 10.75 | AD18: =AB18*AC18 -> 0 | AF18: =VLOOKUP($B18,Paramètres!$C$7:$F$55,$C$6,FALSE) -> 10.75 | AG18: =AE18*AF18 -> 0 | AI18: =VLOOKUP($B18,Paramètres!$C$7:$F$55,$C$6,FALSE) -> 10.75 | AJ18: =AH18*AI18 -> 0 | AL18: =VLOOKUP($B18,Paramètres!$C$7:$F$55,$C$6,FALSE) -> 10.75 | AM18: =AK18*AL18 -> 0 | AN18: =SUM(D18,G18,J18,M18,P18,S18,V18,Y18,AB18,AE18,AH18,AK18) -> 0 | AO18: =VLOOKUP($B18,Paramètres!$C$7:$F$55,$C$6,FALSE) -> 10.75 | AP18: =SUM(F18,I18,L18,O18,R18,U18,X18,AA18,AD18,AG18,AJ18,AM18) -> 0
B19: =Paramètres!C10 -> Forfait gestion sociale | C19: =IF(AP19>0,"X","") | E19: =VLOOKUP($B19,Paramètres!$C$7:$F$55,$C$6,FALSE) -> 80 | F19: =IF(ISNUMBER(E19),D19*E19,0) -> 0 | H19: =VLOOKUP($B19,Paramètres!$C$7:$F$55,$C$6,FALSE) -> 80 | I19: =G19*H19 -> 0 | K19: =VLOOKUP($B19,Paramètres!$C$7:$F$55,$C$6,FALSE) -> 80 | L19: =J19*K19 -> 0 | N19: =VLOOKUP($B19,Paramètres!$C$7:$F$55,$C$6,FALSE) -> 80 | O19: =M19*N19 -> 0 | Q19: =VLOOKUP($B19,Paramètres!$C$7:$F$55,$C$6,FALSE) -> 80 | R19: =P19*Q19 -> 0 | T19: =VLOOKUP($B19,Paramètres!$C$7:$F$55,$C$6,FALSE) -> 80 | U19: =S19*T19 -> 0 | W19: =VLOOKUP($B19,Paramètres!$C$7:$F$55,$C$6,FALSE) -> 80 | X19: =V19*W19 -> 0 | Z19: =VLOOKUP($B19,Paramètres!$C$7:$F$55,$C$6,FALSE) -> 80 | AA19: =Y19*Z19 -> 0 | AC19: =VLOOKUP($B19,Paramètres!$C$7:$F$55,$C$6,FALSE) -> 80 | AD19: =AB19*AC19 -> 0 | AF19: =VLOOKUP($B19,Paramètres!$C$7:$F$55,$C$6,FALSE) -> 80 | AG19: =AE19*AF19 -> 0 | AI19: =VLOOKUP($B19,Paramètres!$C$7:$F$55,$C$6,FALSE) -> 80 | AJ19: =AH19*AI19 -> 0 | AL19: =VLOOKUP($B19,Paramètres!$C$7:$F$55,$C$6,FALSE) -> 80 | AM19: =AK19*AL19 -> 0 | AN19: =SUM(D19,G19,J19,M19,P19,S19,V19,Y19,AB19,AE19,AH19,AK19) -> 0 | AO19: =VLOOKUP($B19,Paramètres!$C$7:$F$55,$C$6,FALSE) -> 80 | AP19: =SUM(F19,I19,L19,O19,R19,U19,X19,AA19,AD19,AG19,AJ19,AM19) -> 0
B20: =Paramètres!C11 -> Forfait création | C20: =IF(AP20>0,"X","") | E20: =VLOOKUP($B20,Paramètres!$C$7:$F$55,$C$6,FALSE) -> 90 | F20: =IF(ISNUMBER(E20),D20*E20,0) -> 0 | H20: =VLOOKUP($B20,Paramètres!$C$7:$F$55,$C$6,FALSE) -> 90 | I20: =G20*H20 -> 0 | K20: =VLOOKUP($B20,Paramètres!$C$7:$F$55,$C$6,FALSE) -> 90 | L20: =J20*K20 -> 0 | N20: =VLOOKUP($B20,Paramètres!$C$7:$F$55,$C$6,FALSE) -> 90 | O20: =M20*N20 -> 0 | Q20: =VLOOKUP($B20,Paramètres!$C$7:$F$55,$C$6,FALSE) -> 90 | R20: =P20*Q20 -> 0 | T20: =VLOOKUP($B20,Paramètres!$C$7:$F$55,$C$6,FALSE) -> 90 | U20: =S20*T20 -> 0 | W20: =VLOOKUP($B20,Paramètres!$C$7:$F$55,$C$6,FALSE) -> 90 | X20: =V20*W20 -> 0 | Z20: =VLOOKUP($B20,Paramètres!$C$7:$F$55,$C$6,FALSE) -> 90 | AA20: =Y20*Z20 -> 0 | AC20: =VLOOKUP($B20,Paramètres!$C$7:$F$55,$C$6,FALSE) -> 90 | AD20: =AB20*AC20 -> 0 | AF20: =VLOOKUP($B20,Paramètres!$C$7:$F$55,$C$6,FALSE) -> 90 | AG20: =AE20*AF20 -> 0 | AI20: =VLOOKUP($B20,Paramètres!$C$7:$F$55,$C$6,FALSE) -> 90 | AJ20: =AH20*AI20 -> 0 | AL20: =VLOOKUP($B20,Paramètres!$C$7:$F$55,$C$6,FALSE) -> 90 | AM20: =AK20*AL20 -> 0 | AN20: =SUM(D20,G20,J20,M20,P20,S20,V20,Y20,AB20,AE20,AH20,AK20) -> 0 | AO20: =VLOOKUP($B20,Paramètres!$C$7:$F$55,$C$6,FALSE) -> 90 | AP20: =SUM(F20,I20,L20,O20,R20,U20,X20,AA20,AD20,AG20,AJ20,AM20) -> 0
B21: =Paramètres!C12 -> Forfait reprise | C21: =IF(AP21>0,"X","") | E21: =VLOOKUP($B21,Paramètres!$C$7:$F$55,$C$6,FALSE) -> 130 | F21: =IF(ISNUMBER(E21),D21*E21,0) -> 0 | H21: =VLOOKUP($B21,Paramètres!$C$7:$F$55,$C$6,FALSE) -> 130 | I21: =G21*H21 -> 0 | K21: =VLOOKUP($B21,Paramètres!$C$7:$F$55,$C$6,FALSE) -> 130 | L21: =J21*K21 -> 0 | N21: =VLOOKUP($B21,Paramètres!$C$7:$F$55,$C$6,FALSE) -> 130 | O21: =M21*N21 -> 0 | Q21: =VLOOKUP($B21,Paramètres!$C$7:$F$55,$C$6,FALSE) -> 130 | R21: =P21*Q21 -> 0 | T21: =VLOOKUP($B21,Paramètres!$C$7:$F$55,$C$6,FALSE) -> 130 | U21: =S21*T21 -> 0 | W21: =VLOOKUP($B21,Paramètres!$C$7:$F$55,$C$6,FALSE) -> 130 | X21: =V21*W21 -> 0 | Z21: =VLOOKUP($B21,Paramètres!$C$7:$F$55,$C$6,FALSE) -> 130 | AA21: =Y21*Z21 -> 0 | AC21: =VLOOKUP($B21,Paramètres!$C$7:$F$55,$C$6,FALSE) -> 130 | AD21: =AB21*AC21 -> 0 | AF21: =VLOOKUP($B21,Paramètres!$C$7:$F$55,$C$6,FALSE) -> 130 | AG21: =AE21*AF21 -> 0 | AI21: =VLOOKUP($B21,Paramètres!$C$7:$F$55,$C$6,FALSE) -> 130 | AJ21: =AH21*AI21 -> 0 | AL21: =VLOOKUP($B21,Paramètres!$C$7:$F$55,$C$6,FALSE) -> 130 | AM21: =AK21*AL21 -> 0 | AN21: =SUM(D21,G21,J21,M21,P21,S21,V21,Y21,AB21,AE21,AH21,AK21) -> 0 | AO21: =VLOOKUP($B21,Paramètres!$C$7:$F$55,$C$6,FALSE) -> 130 | AP21: =SUM(F21,I21,L21,O21,R21,U21,X21,AA21,AD21,AG21,AJ21,AM21) -> 0
B22: TOTAL SO1 Mission social | C22: X | F22: =SUM(F17:F21) -> 0 | I22: =SUM(I17:I21) -> 0 | L22: =SUM(L17:L21) -> 0 | O22: =SUM(O17:O21) -> 0 | R22: =SUM(R17:R21) -> 0 | U22: =SUM(U17:U21) -> 0 | X22: =SUM(X17:X21) -> 0 | AA22: =SUM(AA17:AA21) -> 0 | AD22: =SUM(AD17:AD21) -> 0 | AG22: =SUM(AG17:AG21) -> 0 | AJ22: =SUM(AJ17:AJ21) -> 0 | AM22: =SUM(AM17:AM21) -> 0 | AP22: =SUM(AP17:AP21) -> 0
B23: =Paramètres!C13 -> Divers | C23: =IF(AP23>0,"X","") | E23: =VLOOKUP($B23,Paramètres!$C$7:$F$55,$C$6,FALSE) -> 0 | F23: =D23*E23 -> 0 | H23: =VLOOKUP($B23,Paramètres!$C$7:$F$55,$C$6,FALSE) -> 0 | I23: =G23*H23 -> 0 | K23: =VLOOKUP($B23,Paramètres!$C$7:$F$55,$C$6,FALSE) -> 0 | L23: =J23*K23 -> 0 | N23: =VLOOKUP($B23,Paramètres!$C$7:$F$55,$C$6,FALSE) -> 0 | O23: =M23*N23 -> 0 | Q23: =VLOOKUP($B23,Paramètres!$C$7:$F$55,$C$6,FALSE) -> 0 | R23: =P23*Q23 -> 0 | T23: =VLOOKUP($B23,Paramètres!$C$7:$F$55,$C$6,FALSE) -> 0 | U23: =S23*T23 -> 0 | W23: =VLOOKUP($B23,Paramètres!$C$7:$F$55,$C$6,FALSE) -> 0 | X23: =V23*W23 -> 0 | Z23: =VLOOKUP($B23,Paramètres!$C$7:$F$55,$C$6,FALSE) -> 0 | AA23: =Y23*Z23 -> 0 | AC23: =VLOOKUP($B23,Paramètres!$C$7:$F$55,$C$6,FALSE) -> 0 | AD23: =AB23*AC23 -> 0 | AF23: =VLOOKUP($B23,Paramètres!$C$7:$F$55,$C$6,FALSE) -> 0 | AG23: =AE23*AF23 -> 0 | AI23: =VLOOKUP($B23,Paramètres!$C$7:$F$55,$C$6,FALSE) -> 0 | AJ23: =AH23*AI23 -> 0 | AL23: =VLOOKUP($B23,Paramètres!$C$7:$F$55,$C$6,FALSE) -> 0 | AM23: =AK23*AL23 -> 0 | AN23: =SUM(D23,G23,J23,M23,P23,S23,V23,Y23,AB23,AE23,AH23,AK23) -> 0 | AO23: =VLOOKUP($B23,Paramètres!$C$7:$F$55,$C$6,FALSE) -> 0 | AP23: =SUM(F23,I23,L23,O23,R23,U23,X23,AA23,AD23,AG23,AJ23,AM23) -> 0
B24: =Paramètres!C14 -> Lettre de promesse d'embauche | C24: =IF(AP24>0,"X","") | E24: =VLOOKUP($B24,Paramètres!$C$7:$F$55,$C$6,FALSE) -> 20 | F24: =D24*E24 -> 0 | H24: =VLOOKUP($B24,Paramètres!$C$7:$F$55,$C$6,FALSE) -> 20 | I24: =G24*H24 -> 0 | K24: =VLOOKUP($B24,Paramètres!$C$7:$F$55,$C$6,FALSE) -> 20 | L24: =J24*K24 -> 0 | N24: =VLOOKUP($B24,Paramètres!$C$7:$F$55,$C$6,FALSE) -> 20 | O24: =M24*N24 -> 0 | Q24: =VLOOKUP($B24,Paramètres!$C$7:$F$55,$C$6,FALSE) -> 20 | R24: =P24*Q24 -> 0 | T24: =VLOOKUP($B24,Paramètres!$C$7:$F$55,$C$6,FALSE) -> 20 | U24: =S24*T24 -> 0 | W24: =VLOOKUP($B24,Paramètres!$C$7:$F$55,$C$6,FALSE) -> 20 | X24: =V24*W24 -> 0 | Z24: =VLOOKUP($B24,Paramètres!$C$7:$F$55,$C$6,FALSE) -> 20 | AA24: =Y24*Z24 -> 0 | AC24: =VLOOKUP($B24,Paramètres!$C$7:$F$55,$C$6,FALSE) -> 20 | AD24: =AB24*AC24 -> 0 | AF24: =VLOOKUP($B24,Paramètres!$C$7:$F$55,$C$6,FALSE) -> 20 | AG24: =AE24*AF24 -> 0 | AI24: =VLOOKUP($B24,Paramètres!$C$7:$F$55,$C$6,FALSE) -> 20 | AJ24: =AH24*AI24 -> 0 | AL24: =VLOOKUP($B24,Paramètres!$C$7:$F$55,$C$6,FALSE) -> 20 | AM24: =AK24*AL24 -> 0 | AN24: =SUM(D24,G24,J24,M24,P24,S24,V24,Y24,AB24,AE24,AH24,AK24) -> 0 | AO24: =VLOOKUP($B24,Paramètres!$C$7:$F$55,$C$6,FALSE) -> 20 | AP24: =SUM(F24,I24,L24,O24,R24,U24,X24,AA24,AD24,AG24,AJ24,AM24) -> 0
B25: =Paramètres!C15 -> Déclaration préalable à l'embauche | C25: =IF(AP25>0,"X","") | E25: =VLOOKUP($B25,Paramètres!$C$7:$F$55,$C$6,FALSE) -> 10 | F25: =D25*E25 -> 0 | H25: =VLOOKUP($B25,Paramètres!$C$7:$F$55,$C$6,FALSE) -> 10 | I25: =G25*H25 -> 0 | K25: =VLOOKUP($B25,Paramètres!$C$7:$F$55,$C$6,FALSE) -> 10 | L25: =J25*K25 -> 0 | N25: =VLOOKUP($B25,Paramètres!$C$7:$F$55,$C$6,FALSE) -> 10 | O25: =M25*N25 -> 0 | Q25: =VLOOKUP($B25,Paramètres!$C$7:$F$55,$C$6,FALSE) -> 10 | R25: =P25*Q25 -> 0 | T25: =VLOOKUP($B25,Paramètres!$C$7:$F$55,$C$6,FALSE) -> 10 | U25: =S25*T25 -> 0 | W25: =VLOOKUP($B25,Paramètres!$C$7:$F$55,$C$6,FALSE) -> 10 | X25: =V25*W25 -> 0 | Z25: =VLOOKUP($B25,Paramètres!$C$7:$F$55,$C$6,FALSE) -> 10 | AA25: =Y25*Z25 -> 0 | AC25: =VLOOKUP($B25,Paramètres!$C$7:$F$55,$C$6,FALSE) -> 10 | AD25: =AB25*AC25 -> 0 | AF25: =VLOOKUP($B25,Paramètres!$C$7:$F$55,$C$6,FALSE) -> 10 | AG25: =AE25*AF25 -> 0 | AI25: =VLOOKUP($B25,Paramètres!$C$7:$F$55,$C$6,FALSE) -> 10 | AJ25: =AH25*AI25 -> 0 | AL25: =VLOOKUP($B25,Paramètres!$C$7:$F$55,$C$6,FALSE) -> 10 | AM25: =AK25*AL25 -> 0 | AN25: =SUM(D25,G25,J25,M25,P25,S25,V25,Y25,AB25,AE25,AH25,AK25) -> 0 | AO25: =VLOOKUP($B25,Paramètres!$C$7:$F$55,$C$6,FALSE) -> 10 | AP25: =SUM(F25,I25,L25,O25,R25,U25,X25,AA25,AD25,AG25,AJ25,AM25) -> 0
B26: =Paramètres!C16 -> Contrat de travail classique | C26: =IF(AP26>0,"X","") | E26: =VLOOKUP($B26,Paramètres!$C$7:$F$55,$C$6,FALSE) -> 45 | F26: =D26*E26 -> 0 | H26: =VLOOKUP($B26,Paramètres!$C$7:$F$55,$C$6,FALSE) -> 45 | I26: =G26*H26 -> 0 | K26: =VLOOKUP($B26,Paramètres!$C$7:$F$55,$C$6,FALSE) -> 45 | L26: =J26*K26 -> 0 | N26: =VLOOKUP($B26,Paramètres!$C$7:$F$55,$C$6,FALSE) -> 45 | O26: =M26*N26 -> 0 | Q26: =VLOOKUP($B26,Paramètres!$C$7:$F$55,$C$6,FALSE) -> 45 | R26: =P26*Q26 -> 0 | T26: =VLOOKUP($B26,Paramètres!$C$7:$F$55,$C$6,FALSE) -> 45 | U26: =S26*T26 -> 0 | W26: =VLOOKUP($B26,Paramètres!$C$7:$F$55,$C$6,FALSE) -> 45 | X26: =V26*W26 -> 0 | Z26: =VLOOKUP($B26,Paramètres!$C$7:$F$55,$C$6,FALSE) -> 45 | AA26: =Y26*Z26 -> 0 | AC26: =VLOOKUP($B26,Paramètres!$C$7:$F$55,$C$6,FALSE) -> 45 | AD26: =AB26*AC26 -> 0 | AF26: =VLOOKUP($B26,Paramètres!$C$7:$F$55,$C$6,FALSE) -> 45 | AG26: =AE26*AF26 -> 0 | AI26: =VLOOKUP($B26,Paramètres!$C$7:$F$55,$C$6,FALSE) -> 45 | AJ26: =AH26*AI26 -> 0 | AL26: =VLOOKUP($B26,Paramètres!$C$7:$F$55,$C$6,FALSE) -> 45 | AM26: =AK26*AL26 -> 0 | AN26: =SUM(D26,G26,J26,M26,P26,S26,V26,Y26,AB26,AE26,AH26,AK26) -> 0 | AO26: =VLOOKUP($B26,Paramètres!$C$7:$F$55,$C$6,FALSE) -> 45 | AP26: =SUM(F26,I26,L26,O26,R26,U26,X26,AA26,AD26,AG26,AJ26,AM26) -> 0
B27: =Paramètres!C17 -> Contrat de travail spécifique | C27: =IF(AP27>0,"X","") | E27: =VLOOKUP($B27,Paramètres!$C$7:$F$55,$C$6,FALSE) -> 90 | F27: =D27*E27 -> 0 | H27: =VLOOKUP($B27,Paramètres!$C$7:$F$55,$C$6,FALSE) -> 90 | I27: =G27*H27 -> 0 | K27: =VLOOKUP($B27,Paramètres!$C$7:$F$55,$C$6,FALSE) -> 90 | L27: =J27*K27 -> 0 | N27: =VLOOKUP($B27,Paramètres!$C$7:$F$55,$C$6,FALSE) -> 90 | O27: =M27*N27 -> 0 | Q27: =VLOOKUP($B27,Paramètres!$C$7:$F$55,$C$6,FALSE) -> 90 | R27: =P27*Q27 -> 0 | T27: =VLOOKUP($B27,Paramètres!$C$7:$F$55,$C$6,FALSE) -> 90 | U27: =S27*T27 -> 0 | W27: =VLOOKUP($B27,Paramètres!$C$7:$F$55,$C$6,FALSE) -> 90 | X27: =V27*W27 -> 0 | Z27: =VLOOKUP($B27,Paramètres!$C$7:$F$55,$C$6,FALSE) -> 90 | AA27: =Y27*Z27 -> 0 | AC27: =VLOOKUP($B27,Paramètres!$C$7:$F$55,$C$6,FALSE) -> 90 | AD27: =AB27*AC27 -> 0 | AF27: =VLOOKUP($B27,Paramètres!$C$7:$F$55,$C$6,FALSE) -> 90 | AG27: =AE27*AF27 -> 0 | AI27: =VLOOKUP($B27,Paramètres!$C$7:$F$55,$C$6,FALSE) -> 90 | AJ27: =AH27*AI27 -> 0 | AL27: =VLOOKUP($B27,Paramètres!$C$7:$F$55,$C$6,FALSE) -> 90 | AM27: =AK27*AL27 -> 0 | AN27: =SUM(D27,G27,J27,M27,P27,S27,V27,Y27,AB27,AE27,AH27,AK27) -> 0 | AO27: =VLOOKUP($B27,Paramètres!$C$7:$F$55,$C$6,FALSE) -> 90 | AP27: =SUM(F27,I27,L27,O27,R27,U27,X27,AA27,AD27,AG27,AJ27,AM27) -> 0
B28: =Paramètres!C18 -> Avenant contrat classique | C28: =IF(AP28>0,"X","") | E28: =VLOOKUP($B28,Paramètres!$C$7:$F$55,$C$6,FALSE) -> 20 | F28: =D28*E28 -> 0 | H28: =VLOOKUP($B28,Paramètres!$C$7:$F$55,$C$6,FALSE) -> 20 | I28: =G28*H28 -> 0 | K28: =VLOOKUP($B28,Paramètres!$C$7:$F$55,$C$6,FALSE) -> 20 | L28: =J28*K28 -> 0 | N28: =VLOOKUP($B28,Paramètres!$C$7:$F$55,$C$6,FALSE) -> 20 | O28: =M28*N28 -> 0 | Q28: =VLOOKUP($B28,Paramètres!$C$7:$F$55,$C$6,FALSE) -> 20 | R28: =P28*Q28 -> 0 | T28: =VLOOKUP($B28,Paramètres!$C$7:$F$55,$C$6,FALSE) -> 20 | U28: =S28*T28 -> 0 | W28: =VLOOKUP($B28,Paramètres!$C$7:$F$55,$C$6,FALSE) -> 20 | X28: =V28*W28 -> 0 | Z28: =VLOOKUP($B28,Paramètres!$C$7:$F$55,$C$6,FALSE) -> 20 | AA28: =Y28*Z28 -> 0 | AC28: =VLOOKUP($B28,Paramètres!$C$7:$F$55,$C$6,FALSE) -> 20 | AD28: =AB28*AC28 -> 0 | AF28: =VLOOKUP($B28,Paramètres!$C$7:$F$55,$C$6,FALSE) -> 20 | AG28: =AE28*AF28 -> 0 | AI28: =VLOOKUP($B28,Paramètres!$C$7:$F$55,$C$6,FALSE) -> 20 | AJ28: =AH28*AI28 -> 0 | AL28: =VLOOKUP($B28,Paramètres!$C$7:$F$55,$C$6,FALSE) -> 20 | AM28: =AK28*AL28 -> 0 | AN28: =SUM(D28,G28,J28,M28,P28,S28,V28,Y28,AB28,AE28,AH28,AK28) -> 0 | AO28: =VLOOKUP($B28,Paramètres!$C$7:$F$55,$C$6,FALSE) -> 20 | AP28: =SUM(F28,I28,L28,O28,R28,U28,X28,AA28,AD28,AG28,AJ28,AM28) -> 0
B29: =Paramètres!C19 -> Avenant contrat spécifique | C29: =IF(AP29>0,"X","") | E29: =VLOOKUP($B29,Paramètres!$C$7:$F$55,$C$6,FALSE) -> 0 | F29: =D29*E29 -> 0 | H29: =VLOOKUP($B29,Paramètres!$C$7:$F$55,$C$6,FALSE) -> 0 | I29: =G29*H29 -> 0 | K29: =VLOOKUP($B29,Paramètres!$C$7:$F$55,$C$6,FALSE) -> 0 | L29: =J29*K29 -> 0 | N29: =VLOOKUP($B29,Paramètres!$C$7:$F$55,$C$6,FALSE) -> 0 | O29: =M29*N29 -> 0 | Q29: =VLOOKUP($B29,Paramètres!$C$7:$F$55,$C$6,FALSE) -> 0 | R29: =P29*Q29 -> 0 | T29: =VLOOKUP($B29,Paramètres!$C$7:$F$55,$C$6,FALSE) -> 0 | U29: =S29*T29 -> 0 | W29: =VLOOKUP($B29,Paramètres!$C$7:$F$55,$C$6,FALSE) -> 0 | X29: =V29*W29 -> 0 | Z29: =VLOOKUP($B29,Paramètres!$C$7:$F$55,$C$6,FALSE) -> 0 | AA29: =Y29*Z29 -> 0 | AC29: =VLOOKUP($B29,Paramètres!$C$7:$F$55,$C$6,FALSE) -> 0 | AD29: =AB29*AC29 -> 0 | AF29: =VLOOKUP($B29,Paramètres!$C$7:$F$55,$C$6,FALSE) -> 0 | AG29: =AE29*AF29 -> 0 | AI29: =VLOOKUP($B29,Paramètres!$C$7:$F$55,$C$6,FALSE) -> 0 | AJ29: =AH29*AI29 -> 0 | AL29: =VLOOKUP($B29,Paramètres!$C$7:$F$55,$C$6,FALSE) -> 0 | AM29: =AK29*AL29 -> 0 | AN29: =SUM(D29,G29,J29,M29,P29,S29,V29,Y29,AB29,AE29,AH29,AK29) -> 0 | AO29: =VLOOKUP($B29,Paramètres!$C$7:$F$55,$C$6,FALSE) -> 0 | AP29: =SUM(F29,I29,L29,O29,R29,U29,X29,AA29,AD29,AG29,AJ29,AM29) -> 0
B30: =Paramètres!C20 -> Contrat CERFA appentissage | C30: =IF(AP30>0,"X","") | E30: =VLOOKUP($B30,Paramètres!$C$7:$F$55,$C$6,FALSE) -> 45 | F30: =D30*E30 -> 0 | H30: =VLOOKUP($B30,Paramètres!$C$7:$F$55,$C$6,FALSE) -> 45 | I30: =G30*H30 -> 0 | K30: =VLOOKUP($B30,Paramètres!$C$7:$F$55,$C$6,FALSE) -> 45 | L30: =J30*K30 -> 0 | N30: =VLOOKUP($B30,Paramètres!$C$7:$F$55,$C$6,FALSE) -> 45 | O30: =M30*N30 -> 0 | Q30: =VLOOKUP($B30,Paramètres!$C$7:$F$55,$C$6,FALSE) -> 45 | R30: =P30*Q30 -> 0 | T30: =VLOOKUP($B30,Paramètres!$C$7:$F$55,$C$6,FALSE) -> 45 | U30: =S30*T30 -> 0 | W30: =VLOOKUP($B30,Paramètres!$C$7:$F$55,$C$6,FALSE) -> 45 | X30: =V30*W30 -> 0 | Z30: =VLOOKUP($B30,Paramètres!$C$7:$F$55,$C$6,FALSE) -> 45 | AA30: =Y30*Z30 -> 0 | AC30: =VLOOKUP($B30,Paramètres!$C$7:$F$55,$C$6,FALSE) -> 45 | AD30: =AB30*AC30 -> 0 | AF30: =VLOOKUP($B30,Paramètres!$C$7:$F$55,$C$6,FALSE) -> 45 | AG30: =AE30*AF30 -> 0 | AI30: =VLOOKUP($B30,Paramètres!$C$7:$F$55,$C$6,FALSE) -> 45 | AJ30: =AH30*AI30 -> 0 | AL30: =VLOOKUP($B30,Paramètres!$C$7:$F$55,$C$6,FALSE) -> 45 | AM30: =AK30*AL30 -> 0 | AN30: =SUM(D30,G30,J30,M30,P30,S30,V30,Y30,AB30,AE30,AH30,AK30) -> 0 | AO30: =VLOOKUP($B30,Paramètres!$C$7:$F$55,$C$6,FALSE) -> 45 | AP30: =SUM(F30,I30,L30,O30,R30,U30,X30,AA30,AD30,AG30,AJ30,AM30) -> 0
B31: =Paramètres!C21 -> Constat de rupture à l'amiable CDD | C31: =IF(AP31>0,"X","") | E31: =VLOOKUP($B31,Paramètres!$C$7:$F$55,$C$6,FALSE) -> 30 | F31: =D31*E31 -> 0 | H31: =VLOOKUP($B31,Paramètres!$C$7:$F$55,$C$6,FALSE) -> 30 | I31: =G31*H31 -> 0 | K31: =VLOOKUP($B31,Paramètres!$C$7:$F$55,$C$6,FALSE) -> 30 | L31: =J31*K31 -> 0 | N31: =VLOOKUP($B31,Paramètres!$C$7:$F$55,$C$6,FALSE) -> 30 | O31: =M31*N31 -> 0 | Q31: =VLOOKUP($B31,Paramètres!$C$7:$F$55,$C$6,FALSE) -> 30 | R31: =P31*Q31 -> 0 | T31: =VLOOKUP($B31,Paramètres!$C$7:$F$55,$C$6,FALSE) -> 30 | U31: =S31*T31 -> 0 | W31: =VLOOKUP($B31,Paramètres!$C$7:$F$55,$C$6,FALSE) -> 30 | X31: =V31*W31 -> 0 | Z31: =VLOOKUP($B31,Paramètres!$C$7:$F$55,$C$6,FALSE) -> 30 | AA31: =Y31*Z31 -> 0 | AC31: =VLOOKUP($B31,Paramètres!$C$7:$F$55,$C$6,FALSE) -> 30 | AD31: =AB31*AC31 -> 0 | AF31: =VLOOKUP($B31,Paramètres!$C$7:$F$55,$C$6,FALSE) -> 30 | AG31: =AE31*AF31 -> 0 | AI31: =VLOOKUP($B31,Paramètres!$C$7:$F$55,$C$6,FALSE) -> 30 | AJ31: =AH31*AI31 -> 0 | AL31: =VLOOKUP($B31,Paramètres!$C$7:$F$55,$C$6,FALSE) -> 30 | AM31: =AK31*AL31 -> 0 | AN31: =SUM(D31,G31,J31,M31,P31,S31,V31,Y31,AB31,AE31,AH31,AK31) -> 0 | AO31: =VLOOKUP($B31,Paramètres!$C$7:$F$55,$C$6,FALSE) -> 30 | AP31: =SUM(F31,I31,L31,O31,R31,U31,X31,AA31,AD31,AG31,AJ31,AM31) -> 0
B32: =Paramètres!C22 -> Rupture contrat d'apprentissage | C32: =IF(AP32>0,"X","") | E32: =VLOOKUP($B32,Paramètres!$C$7:$F$55,$C$6,FALSE) -> 30 | F32: =D32*E32 -> 0 | H32: =VLOOKUP($B32,Paramètres!$C$7:$F$55,$C$6,FALSE) -> 30 | I32: =G32*H32 -> 0 | K32: =VLOOKUP($B32,Paramètres!$C$7:$F$55,$C$6,FALSE) -> 30 | L32: =J32*K32 -> 0 | N32: =VLOOKUP($B32,Paramètres!$C$7:$F$55,$C$6,FALSE) -> 30 | O32: =M32*N32 -> 0 | Q32: =VLOOKUP($B32,Paramètres!$C$7:$F$55,$C$6,FALSE) -> 30 | R32: =P32*Q32 -> 0 | T32: =VLOOKUP($B32,Paramètres!$C$7:$F$55,$C$6,FALSE) -> 30 | U32: =S32*T32 -> 0 | W32: =VLOOKUP($B32,Paramètres!$C$7:$F$55,$C$6,FALSE) -> 30 | X32: =V32*W32 -> 0 | Z32: =VLOOKUP($B32,Paramètres!$C$7:$F$55,$C$6,FALSE) -> 30 | AA32: =Y32*Z32 -> 0 | AC32: =VLOOKUP($B32,Paramètres!$C$7:$F$55,$C$6,FALSE) -> 30 | AD32: =AB32*AC32 -> 0 | AF32: =VLOOKUP($B32,Paramètres!$C$7:$F$55,$C$6,FALSE) -> 30 | AG32: =AE32*AF32 -> 0 | AI32: =VLOOKUP($B32,Paramètres!$C$7:$F$55,$C$6,FALSE) -> 30 | AJ32: =AH32*AI32 -> 0 | AL32: =VLOOKUP($B32,Paramètres!$C$7:$F$55,$C$6,FALSE) -> 30 | AM32: =AK32*AL32 -> 0 | AN32: =SUM(D32,G32,J32,M32,P32,S32,V32,Y32,AB32,AE32,AH32,AK32) -> 0 | AO32: =VLOOKUP($B32,Paramètres!$C$7:$F$55,$C$6,FALSE) -> 30 | AP32: =SUM(F32,I32,L32,O32,R32,U32,X32,AA32,AD32,AG32,AJ32,AM32) -> 0
B33: =Paramètres!C23 -> Documents de fin de contrat | C33: =IF(AP33>0,"X","") | E33: =VLOOKUP($B33,Paramètres!$C$7:$F$55,$C$6,FALSE) -> 22 | F33: =D33*E33 -> 0 | H33: =VLOOKUP($B33,Paramètres!$C$7:$F$55,$C$6,FALSE) -> 22 | I33: =G33*H33 -> 0 | K33: =VLOOKUP($B33,Paramètres!$C$7:$F$55,$C$6,FALSE) -> 22 | L33: =J33*K33 -> 0 | N33: =VLOOKUP($B33,Paramètres!$C$7:$F$55,$C$6,FALSE) -> 22 | O33: =M33*N33 -> 0 | Q33: =VLOOKUP($B33,Paramètres!$C$7:$F$55,$C$6,FALSE) -> 22 | R33: =P33*Q33 -> 0 | T33: =VLOOKUP($B33,Paramètres!$C$7:$F$55,$C$6,FALSE) -> 22 | U33: =S33*T33 -> 0 | W33: =VLOOKUP($B33,Paramètres!$C$7:$F$55,$C$6,FALSE) -> 22 | X33: =V33*W33 -> 0 | Z33: =VLOOKUP($B33,Paramètres!$C$7:$F$55,$C$6,FALSE) -> 22 | AA33: =Y33*Z33 -> 0 | AC33: =VLOOKUP($B33,Paramètres!$C$7:$F$55,$C$6,FALSE) -> 22 | AD33: =AB33*AC33 -> 0 | AF33: =VLOOKUP($B33,Paramètres!$C$7:$F$55,$C$6,FALSE) -> 22 | AG33: =AE33*AF33 -> 0 | AI33: =VLOOKUP($B33,Paramètres!$C$7:$F$55,$C$6,FALSE) -> 22 | AJ33: =AH33*AI33 -> 0 | AL33: =VLOOKUP($B33,Paramètres!$C$7:$F$55,$C$6,FALSE) -> 22 | AM33: =AK33*AL33 -> 0 | AN33: =SUM(D33,G33,J33,M33,P33,S33,V33,Y33,AB33,AE33,AH33,AK33) -> 0 | AO33: =VLOOKUP($B33,Paramètres!$C$7:$F$55,$C$6,FALSE) -> 22 | AP33: =SUM(F33,I33,L33,O33,R33,U33,X33,AA33,AD33,AG33,AJ33,AM33) -> 0
B34: =Paramètres!C24 -> Déclaration accident de travail | C34: =IF(AP34>0,"X","") | E34: =VLOOKUP($B34,Paramètres!$C$7:$F$55,$C$6,FALSE) -> 30 | F34: =D34*E34 -> 0 | H34: =VLOOKUP($B34,Paramètres!$C$7:$F$55,$C$6,FALSE) -> 30 | I34: =G34*H34 -> 0 | K34: =VLOOKUP($B34,Paramètres!$C$7:$F$55,$C$6,FALSE) -> 30 | L34: =J34*K34 -> 0 | N34: =VLOOKUP($B34,Paramètres!$C$7:$F$55,$C$6,FALSE) -> 30 | O34: =M34*N34 -> 0 | Q34: =VLOOKUP($B34,Paramètres!$C$7:$F$55,$C$6,FALSE) -> 30 | R34: =P34*Q34 -> 0 | T34: =VLOOKUP($B34,Paramètres!$C$7:$F$55,$C$6,FALSE) -> 30 | U34: =S34*T34 -> 0 | W34: =VLOOKUP($B34,Paramètres!$C$7:$F$55,$C$6,FALSE) -> 30 | X34: =V34*W34 -> 0 | Z34: =VLOOKUP($B34,Paramètres!$C$7:$F$55,$C$6,FALSE) -> 30 | AA34: =Y34*Z34 -> 0 | AC34: =VLOOKUP($B34,Paramètres!$C$7:$F$55,$C$6,FALSE) -> 30 | AD34: =AB34*AC34 -> 0 | AF34: =VLOOKUP($B34,Paramètres!$C$7:$F$55,$C$6,FALSE) -> 30 | AG34: =AE34*AF34 -> 0 | AI34: =VLOOKUP($B34,Paramètres!$C$7:$F$55,$C$6,FALSE) -> 30 | AJ34: =AH34*AI34 -> 0 | AL34: =VLOOKUP($B34,Paramètres!$C$7:$F$55,$C$6,FALSE) -> 30 | AM34: =AK34*AL34 -> 0 | AN34: =SUM(D34,G34,J34,M34,P34,S34,V34,Y34,AB34,AE34,AH34,AK34) -> 0 | AO34: =VLOOKUP($B34,Paramètres!$C$7:$F$55,$C$6,FALSE) -> 30 | AP34: =SUM(F34,I34,L34,O34,R34,U34,X34,AA34,AD34,AG34,AJ34,AM34) -> 0
... B42: =Paramètres!C32 -> Courrier salariés / administratif | C42: =IF(AP42>0,"X","") | E42: =VLOOKUP($B42,Paramètres!$C$7:$F$55,$C$6,FALSE) -> 15 | F42: =D42*E42 -> 0 | H42: =VLOOKUP($B42,Paramètres!$C$7:$F$55,$C$6,FALSE) -> 15 | I42: =G42*H42 -> 0 | K42: =VLOOKUP($B42,Paramètres!$C$7:$F$55,$C$6,FALSE) -> 15 | L42: =J42*K42 -> 0 | N42: =VLOOKUP($B42,Paramètres!$C$7:$F$55,$C$6,FALSE) -> 15 | O42: =M42*N42 -> 0 | Q42: =VLOOKUP($B42,Paramètres!$C$7:$F$55,$C$6,FALSE) -> 15 | R42: =P42*Q42 -> 0 | T42: =VLOOKUP($B42,Paramètres!$C$7:$F$55,$C$6,FALSE) -> 15 | U42: =S42*T42 -> 0 | W42: =VLOOKUP($B42,Paramètres!$C$7:$F$55,$C$6,FALSE) -> 15 | X42: =V42*W42 -> 0 | Z42: =VLOOKUP($B42,Paramètres!$C$7:$F$55,$C$6,FALSE) -> 15 | AA42: =Y42*Z42 -> 0 | AC42: =VLOOKUP($B42,Paramètres!$C$7:$F$55,$C$6,FALSE) -> 15 | AD42: =AB42*AC42 -> 0 | AF42: =VLOOKUP($B42,Paramètres!$C$7:$F$55,$C$6,FALSE) -> 15 | AG42: =AE42*AF42 -> 0 | AI42: =VLOOKUP($B42,Paramètres!$C$7:$F$55,$C$6,FALSE) -> 15 | AJ42: =AH42*AI42 -> 0 | AL42: =VLOOKUP($B42,Paramètres!$C$7:$F$55,$C$6,FALSE) -> 15 | AM42: =AK42*AL42 -> 0 | AN42: =SUM(D42,G42,J42,M42,P42,S42,V42,Y42,AB42,AE42,AH42,AK42) -> 0 | AO42: =VLOOKUP($B42,Paramètres!$C$7:$F$55,$C$6,FALSE) -> 15 | AP42: =SUM(F42,I42,L42,O42,R42,U42,X42,AA42,AD42,AG42,AJ42,AM42) -> 0
B43: TOTAL SO2 Social conseil | C43: X | F43: =SUM(F23:F42) -> 0 | I43: =SUM(I23:I42) -> 0 | L43: =SUM(L23:L42) -> 0 | O43: =SUM(O23:O42) -> 0 | R43: =SUM(R23:R42) -> 0 | U43: =SUM(U23:U42) -> 0 | X43: =SUM(X23:X42) -> 0 | AA43: =SUM(AA23:AA42) -> 0 | AD43: =SUM(AD23:AD42) -> 0 | AG43: =SUM(AG23:AG42) -> 0 | AJ43: =SUM(AJ23:AJ42) -> 0 | AM43: =SUM(AM23:AM42) -> 0 | AP43: =SUM(AP23:AP42) -> 0
B44: =Paramètres!C33 -> Licenciement économique individuel | C44: =IF(AP44>0,"X","") | E44: =VLOOKUP($B44,Paramètres!$C$7:$F$55,$C$6,FALSE) -> 650 | F44: =D44*E44 -> 0 | H44: =VLOOKUP($B44,Paramètres!$C$7:$F$55,$C$6,FALSE) -> 650 | I44: =G44*H44 -> 0 | K44: =VLOOKUP($B44,Paramètres!$C$7:$F$55,$C$6,FALSE) -> 650 | L44: =J44*K44 -> 0 | N44: =VLOOKUP($B44,Paramètres!$C$7:$F$55,$C$6,FALSE) -> 650 | O44: =M44*N44 -> 0 | Q44: =VLOOKUP($B44,Paramètres!$C$7:$F$55,$C$6,FALSE) -> 650 | R44: =P44*Q44 -> 0 | T44: =VLOOKUP($B44,Paramètres!$C$7:$F$55,$C$6,FALSE) -> 650 | U44: =S44*T44 -> 0 | W44: =VLOOKUP($B44,Paramètres!$C$7:$F$55,$C$6,FALSE) -> 650 | X44: =V44*W44 -> 0 | Z44: =VLOOKUP($B44,Paramètres!$C$7:$F$55,$C$6,FALSE) -> 650 | AA44: =Y44*Z44 -> 0 | AC44: =VLOOKUP($B44,Paramètres!$C$7:$F$55,$C$6,FALSE) -> 650 | AD44: =AB44*AC44 -> 0 | AF44: =VLOOKUP($B44,Paramètres!$C$7:$F$55,$C$6,FALSE) -> 650 | AG44: =AE44*AF44 -> 0 | AI44: =VLOOKUP($B44,Paramètres!$C$7:$F$55,$C$6,FALSE) -> 650 | AJ44: =AH44*AI44 -> 0 | AL44: =VLOOKUP($B44,Paramètres!$C$7:$F$55,$C$6,FALSE) -> 650 | AM44: =AK44*AL44 -> 0 | AN44: =SUM(D44,G44,J44,M44,P44,S44,V44,Y44,AB44,AE44,AH44,AK44) -> 0 | AO44: =VLOOKUP($B44,Paramètres!$C$7:$F$55,$C$6,FALSE) -> 650 | AP44: =SUM(F44,I44,L44,O44,R44,U44,X44,AA44,AD44,AG44,AJ44,AM44) -> 0
B45: =Paramètres!C34 -> Licenciement économique collectif | C45: =IF(AP45>0,"X","") | E45: =VLOOKUP($B45,Paramètres!$C$7:$F$55,$C$6,FALSE) -> 0 | F45: =D45*E45 -> 0 | H45: =VLOOKUP($B45,Paramètres!$C$7:$F$55,$C$6,FALSE) -> 0 | I45: =G45*H45 -> 0 | K45: =VLOOKUP($B45,Paramètres!$C$7:$F$55,$C$6,FALSE) -> 0 | L45: =J45*K45 -> 0 | N45: =VLOOKUP($B45,Paramètres!$C$7:$F$55,$C$6,FALSE) -> 0 | O45: =M45*N45 -> 0 | Q45: =VLOOKUP($B45,Paramètres!$C$7:$F$55,$C$6,FALSE) -> 0 | R45: =P45*Q45 -> 0 | T45: =VLOOKUP($B45,Paramètres!$C$7:$F$55,$C$6,FALSE) -> 0 | U45: =S45*T45 -> 0 | W45: =VLOOKUP($B45,Paramètres!$C$7:$F$55,$C$6,FALSE) -> 0 | X45: =V45*W45 -> 0 | Z45: =VLOOKUP($B45,Paramètres!$C$7:$F$55,$C$6,FALSE) -> 0 | AA45: =Y45*Z45 -> 0 | AC45: =VLOOKUP($B45,Paramètres!$C$7:$F$55,$C$6,FALSE) -> 0 | AD45: =AB45*AC45 -> 0 | AF45: =VLOOKUP($B45,Paramètres!$C$7:$F$55,$C$6,FALSE) -> 0 | AG45: =AE45*AF45 -> 0 | AI45: =VLOOKUP($B45,Paramètres!$C$7:$F$55,$C$6,FALSE) -> 0 | AJ45: =AH45*AI45 -> 0 | AL45: =VLOOKUP($B45,Paramètres!$C$7:$F$55,$C$6,FALSE) -> 0 | AM45: =AK45*AL45 -> 0 | AN45: =SUM(D45,G45,J45,M45,P45,S45,V45,Y45,AB45,AE45,AH45,AK45) -> 0 | AO45: =VLOOKUP($B45,Paramètres!$C$7:$F$55,$C$6,FALSE) -> 0 | AP45: =SUM(F45,I45,L45,O45,R45,U45,X45,AA45,AD45,AG45,AJ45,AM45) -> 0
B46: =Paramètres!C35 -> Licenciement inaptitude | C46: =IF(AP46>0,"X","") | E46: =VLOOKUP($B46,Paramètres!$C$7:$F$55,$C$6,FALSE) -> 650 | F46: =D46*E46 -> 0 | H46: =VLOOKUP($B46,Paramètres!$C$7:$F$55,$C$6,FALSE) -> 650 | I46: =G46*H46 -> 0 | K46: =VLOOKUP($B46,Paramètres!$C$7:$F$55,$C$6,FALSE) -> 650 | L46: =J46*K46 -> 0 | N46: =VLOOKUP($B46,Paramètres!$C$7:$F$55,$C$6,FALSE) -> 650 | O46: =M46*N46 -> 0 | Q46: =VLOOKUP($B46,Paramètres!$C$7:$F$55,$C$6,FALSE) -> 650 | R46: =P46*Q46 -> 0 | T46: =VLOOKUP($B46,Paramètres!$C$7:$F$55,$C$6,FALSE) -> 650 | U46: =S46*T46 -> 0 | W46: =VLOOKUP($B46,Paramètres!$C$7:$F$55,$C$6,FALSE) -> 650 | X46: =V46*W46 -> 0 | Z46: =VLOOKUP($B46,Paramètres!$C$7:$F$55,$C$6,FALSE) -> 650 | AA46: =Y46*Z46 -> 0 | AC46: =VLOOKUP($B46,Paramètres!$C$7:$F$55,$C$6,FALSE) -> 650 | AD46: =AB46*AC46 -> 0 | AF46: =VLOOKUP($B46,Paramètres!$C$7:$F$55,$C$6,FALSE) -> 650 | AG46: =AE46*AF46 -> 0 | AI46: =VLOOKUP($B46,Paramètres!$C$7:$F$55,$C$6,FALSE) -> 650 | AJ46: =AH46*AI46 -> 0 | AL46: =VLOOKUP($B46,Paramètres!$C$7:$F$55,$C$6,FALSE) -> 650 | AM46: =AK46*AL46 -> 0 | AN46: =SUM(D46,G46,J46,M46,P46,S46,V46,Y46,AB46,AE46,AH46,AK46) -> 0 | AO46: =VLOOKUP($B46,Paramètres!$C$7:$F$55,$C$6,FALSE) -> 650 | AP46: =SUM(F46,I46,L46,O46,R46,U46,X46,AA46,AD46,AG46,AJ46,AM46) -> 0
B47: =Paramètres!C36 -> Licenciement motif personnel | C47: =IF(AP47>0,"X","") | E47: =VLOOKUP($B47,Paramètres!$C$7:$F$55,$C$6,FALSE) -> 550 | F47: =D47*E47 -> 0 | H47: =VLOOKUP($B47,Paramètres!$C$7:$F$55,$C$6,FALSE) -> 550 | I47: =G47*H47 -> 0 | K47: =VLOOKUP($B47,Paramètres!$C$7:$F$55,$C$6,FALSE) -> 550 | L47: =J47*K47 -> 0 | N47: =VLOOKUP($B47,Paramètres!$C$7:$F$55,$C$6,FALSE) -> 550 | O47: =M47*N47 -> 0 | Q47: =VLOOKUP($B47,Paramètres!$C$7:$F$55,$C$6,FALSE) -> 550 | R47: =P47*Q47 -> 0 | T47: =VLOOKUP($B47,Paramètres!$C$7:$F$55,$C$6,FALSE) -> 550 | U47: =S47*T47 -> 0 | W47: =VLOOKUP($B47,Paramètres!$C$7:$F$55,$C$6,FALSE) -> 550 | X47: =V47*W47 -> 0 | Z47: =VLOOKUP($B47,Paramètres!$C$7:$F$55,$C$6,FALSE) -> 550 | AA47: =Y47*Z47 -> 0 | AC47: =VLOOKUP($B47,Paramètres!$C$7:$F$55,$C$6,FALSE) -> 550 | AD47: =AB47*AC47 -> 0 | AF47: =VLOOKUP($B47,Paramètres!$C$7:$F$55,$C$6,FALSE) -> 550 | AG47: =AE47*AF47 -> 0 | AI47: =VLOOKUP($B47,Paramètres!$C$7:$F$55,$C$6,FALSE) -> 550 | AJ47: =AH47*AI47 -> 0 | AL47: =VLOOKUP($B47,Paramètres!$C$7:$F$55,$C$6,FALSE) -> 550 | AM47: =AK47*AL47 -> 0 | AN47: =SUM(D47,G47,J47,M47,P47,S47,V47,Y47,AB47,AE47,AH47,AK47) -> 0 | AO47: =VLOOKUP($B47,Paramètres!$C$7:$F$55,$C$6,FALSE) -> 550 | AP47: =SUM(F47,I47,L47,O47,R47,U47,X47,AA47,AD47,AG47,AJ47,AM47) -> 0
B48: =Paramètres!C37 -> Licenciement fin de chantier | C48: =IF(AP48>0,"X","") | E48: =VLOOKUP($B48,Paramètres!$C$7:$F$55,$C$6,FALSE) -> 250 | F48: =D48*E48 -> 0 | H48: =VLOOKUP($B48,Paramètres!$C$7:$F$55,$C$6,FALSE) -> 250 | I48: =G48*H48 -> 0 | K48: =VLOOKUP($B48,Paramètres!$C$7:$F$55,$C$6,FALSE) -> 250 | L48: =J48*K48 -> 0 | N48: =VLOOKUP($B48,Paramètres!$C$7:$F$55,$C$6,FALSE) -> 250 | O48: =M48*N48 -> 0 | Q48: =VLOOKUP($B48,Paramètres!$C$7:$F$55,$C$6,FALSE) -> 250 | R48: =P48*Q48 -> 0 | T48: =VLOOKUP($B48,Paramètres!$C$7:$F$55,$C$6,FALSE) -> 250 | U48: =S48*T48 -> 0 | W48: =VLOOKUP($B48,Paramètres!$C$7:$F$55,$C$6,FALSE) -> 250 | X48: =V48*W48 -> 0 | Z48: =VLOOKUP($B48,Paramètres!$C$7:$F$55,$C$6,FALSE) -> 250 | AA48: =Y48*Z48 -> 0 | AC48: =VLOOKUP($B48,Paramètres!$C$7:$F$55,$C$6,FALSE) -> 250 | AD48: =AB48*AC48 -> 0 | AF48: =VLOOKUP($B48,Paramètres!$C$7:$F$55,$C$6,FALSE) -> 250 | AG48: =AE48*AF48 -> 0 | AI48: =VLOOKUP($B48,Paramètres!$C$7:$F$55,$C$6,FALSE) -> 250 | AJ48: =AH48*AI48 -> 0 | AL48: =VLOOKUP($B48,Paramètres!$C$7:$F$55,$C$6,FALSE) -> 250 | AM48: =AK48*AL48 -> 0 | AN48: =SUM(D48,G48,J48,M48,P48,S48,V48,Y48,AB48,AE48,AH48,AK48) -> 0 | AO48: =VLOOKUP($B48,Paramètres!$C$7:$F$55,$C$6,FALSE) -> 250 | AP48: =SUM(F48,I48,L48,O48,R48,U48,X48,AA48,AD48,AG48,AJ48,AM48) -> 0
B49: =Paramètres!C38 -> Rupture conventionnelle | C49: =IF(AP49>0,"X","") | E49: =VLOOKUP($B49,Paramètres!$C$7:$F$55,$C$6,FALSE) -> 450 | F49: =D49*E49 -> 0 | H49: =VLOOKUP($B49,Paramètres!$C$7:$F$55,$C$6,FALSE) -> 450 | I49: =G49*H49 -> 0 | K49: =VLOOKUP($B49,Paramètres!$C$7:$F$55,$C$6,FALSE) -> 450 | L49: =J49*K49 -> 0 | N49: =VLOOKUP($B49,Paramètres!$C$7:$F$55,$C$6,FALSE) -> 450 | O49: =M49*N49 -> 0 | Q49: =VLOOKUP($B49,Paramètres!$C$7:$F$55,$C$6,FALSE) -> 450 | R49: =P49*Q49 -> 0 | T49: =VLOOKUP($B49,Paramètres!$C$7:$F$55,$C$6,FALSE) -> 450 | U49: =S49*T49 -> 0 | W49: =VLOOKUP($B49,Paramètres!$C$7:$F$55,$C$6,FALSE) -> 450 | X49: =V49*W49 -> 0 | Z49: =VLOOKUP($B49,Paramètres!$C$7:$F$55,$C$6,FALSE) -> 450 | AA49: =Y49*Z49 -> 0 | AC49: =VLOOKUP($B49,Paramètres!$C$7:$F$55,$C$6,FALSE) -> 450 | AD49: =AB49*AC49 -> 0 | AF49: =VLOOKUP($B49,Paramètres!$C$7:$F$55,$C$6,FALSE) -> 450 | AG49: =AE49*AF49 -> 0 | AI49: =VLOOKUP($B49,Paramètres!$C$7:$F$55,$C$6,FALSE) -> 450 | AJ49: =AH49*AI49 -> 0 | AL49: =VLOOKUP($B49,Paramètres!$C$7:$F$55,$C$6,FALSE) -> 450 | AM49: =AK49*AL49 -> 0 | AN49: =SUM(D49,G49,J49,M49,P49,S49,V49,Y49,AB49,AE49,AH49,AK49) -> 0 | AO49: =VLOOKUP($B49,Paramètres!$C$7:$F$55,$C$6,FALSE) -> 450 | AP49: =SUM(F49,I49,L49,O49,R49,U49,X49,AA49,AD49,AG49,AJ49,AM49) -> 0
B50: =Paramètres!C39 -> Procédure de mise à pied | C50: =IF(AP50>0,"X","") | E50: =VLOOKUP($B50,Paramètres!$C$7:$F$55,$C$6,FALSE) -> 250 | F50: =D50*E50 -> 0 | H50: =VLOOKUP($B50,Paramètres!$C$7:$F$55,$C$6,FALSE) -> 250 | I50: =G50*H50 -> 0 | K50: =VLOOKUP($B50,Paramètres!$C$7:$F$55,$C$6,FALSE) -> 250 | L50: =J50*K50 -> 0 | N50: =VLOOKUP($B50,Paramètres!$C$7:$F$55,$C$6,FALSE) -> 250 | O50: =M50*N50 -> 0 | Q50: =VLOOKUP($B50,Paramètres!$C$7:$F$55,$C$6,FALSE) -> 250 | R50: =P50*Q50 -> 0 | T50: =VLOOKUP($B50,Paramètres!$C$7:$F$55,$C$6,FALSE) -> 250 | U50: =S50*T50 -> 0 | W50: =VLOOKUP($B50,Paramètres!$C$7:$F$55,$C$6,FALSE) -> 250 | X50: =V50*W50 -> 0 | Z50: =VLOOKUP($B50,Paramètres!$C$7:$F$55,$C$6,FALSE) -> 250 | AA50: =Y50*Z50 -> 0 | AC50: =VLOOKUP($B50,Paramètres!$C$7:$F$55,$C$6,FALSE) -> 250 | AD50: =AB50*AC50 -> 0 | AF50: =VLOOKUP($B50,Paramètres!$C$7:$F$55,$C$6,FALSE) -> 250 | AG50: =AE50*AF50 -> 0 | AI50: =VLOOKUP($B50,Paramètres!$C$7:$F$55,$C$6,FALSE) -> 250 | AJ50: =AH50*AI50 -> 0 | AL50: =VLOOKUP($B50,Paramètres!$C$7:$F$55,$C$6,FALSE) -> 250 | AM50: =AK50*AL50 -> 0 | AN50: =SUM(D50,G50,J50,M50,P50,S50,V50,Y50,AB50,AE50,AH50,AK50) -> 0 | AO50: =VLOOKUP($B50,Paramètres!$C$7:$F$55,$C$6,FALSE) -> 250 | AP50: =SUM(F50,I50,L50,O50,R50,U50,X50,AA50,AD50,AG50,AJ50,AM50) -> 0
B51: =Paramètres!C40 -> Assist. mise en place activ. partielle | C51: =IF(AP51>0,"X","") | E51: =VLOOKUP($B51,Paramètres!$C$7:$F$55,$C$6,FALSE) -> 40 | F51: =D51*E51 -> 0 | H51: =VLOOKUP($B51,Paramètres!$C$7:$F$55,$C$6,FALSE) -> 40 | I51: =G51*H51 -> 0 | K51: =VLOOKUP($B51,Paramètres!$C$7:$F$55,$C$6,FALSE) -> 40 | L51: =J51*K51 -> 0 | N51: =VLOOKUP($B51,Paramètres!$C$7:$F$55,$C$6,FALSE) -> 40 | O51: =M51*N51 -> 0 | Q51: =VLOOKUP($B51,Paramètres!$C$7:$F$55,$C$6,FALSE) -> 40 | R51: =P51*Q51 -> 0 | T51: =VLOOKUP($B51,Paramètres!$C$7:$F$55,$C$6,FALSE) -> 40 | U51: =S51*T51 -> 0 | W51: =VLOOKUP($B51,Paramètres!$C$7:$F$55,$C$6,FALSE) -> 40 | X51: =V51*W51 -> 0 | Z51: =VLOOKUP($B51,Paramètres!$C$7:$F$55,$C$6,FALSE) -> 40 | AA51: =Y51*Z51 -> 0 | AC51: =VLOOKUP($B51,Paramètres!$C$7:$F$55,$C$6,FALSE) -> 40 | AD51: =AB51*AC51 -> 0 | AF51: =VLOOKUP($B51,Paramètres!$C$7:$F$55,$C$6,FALSE) -> 40 | AG51: =AE51*AF51 -> 0 | AI51: =VLOOKUP($B51,Paramètres!$C$7:$F$55,$C$6,FALSE) -> 40 | AJ51: =AH51*AI51 -> 0 | AL51: =VLOOKUP($B51,Paramètres!$C$7:$F$55,$C$6,FALSE) -> 40 | AM51: =AK51*AL51 -> 0 | AN51: =SUM(D51,G51,J51,M51,P51,S51,V51,Y51,AB51,AE51,AH51,AK51) -> 0 | AO51: =VLOOKUP($B51,Paramètres!$C$7:$F$55,$C$6,FALSE) -> 40 | AP51: =SUM(F51,I51,L51,O51,R51,U51,X51,AA51,AD51,AG51,AJ51,AM51) -> 0
B52: =Paramètres!C41 -> Assist. état mensuel activ. partielle | C52: =IF(AP52>0,"X","") | E52: =VLOOKUP($B52,Paramètres!$C$7:$F$55,$C$6,FALSE) -> 35 | F52: =D52*E52 -> 0 | H52: =VLOOKUP($B52,Paramètres!$C$7:$F$55,$C$6,FALSE) -> 35 | I52: =G52*H52 -> 0 | K52: =VLOOKUP($B52,Paramètres!$C$7:$F$55,$C$6,FALSE) -> 35 | L52: =J52*K52 -> 0 | N52: =VLOOKUP($B52,Paramètres!$C$7:$F$55,$C$6,FALSE) -> 35 | O52: =M52*N52 -> 0 | Q52: =VLOOKUP($B52,Paramètres!$C$7:$F$55,$C$6,FALSE) -> 35 | R52: =P52*Q52 -> 0 | T52: =VLOOKUP($B52,Paramètres!$C$7:$F$55,$C$6,FALSE) -> 35 | U52: =S52*T52 -> 0 | W52: =VLOOKUP($B52,Paramètres!$C$7:$F$55,$C$6,FALSE) -> 35 | X52: =V52*W52 -> 0 | Z52: =VLOOKUP($B52,Paramètres!$C$7:$F$55,$C$6,FALSE) -> 35 | AA52: =Y52*Z52 -> 0 | AC52: =VLOOKUP($B52,Paramètres!$C$7:$F$55,$C$6,FALSE) -> 35 | AD52: =AB52*AC52 -> 0 | AF52: =VLOOKUP($B52,Paramètres!$C$7:$F$55,$C$6,FALSE) -> 35 | AG52: =AE52*AF52 -> 0 | AI52: =VLOOKUP($B52,Paramètres!$C$7:$F$55,$C$6,FALSE) -> 35 | AJ52: =AH52*AI52 -> 0 | AL52: =VLOOKUP($B52,Paramètres!$C$7:$F$55,$C$6,FALSE) -> 35 | AM52: =AK52*AL52 -> 0 | AN52: =SUM(D52,G52,J52,M52,P52,S52,V52,Y52,AB52,AE52,AH52,AK52) -> 0 | AO52: =VLOOKUP($B52,Paramètres!$C$7:$F$55,$C$6,FALSE) -> 35 | AP52: =SUM(F52,I52,L52,O52,R52,U52,X52,AA52,AD52,AG52,AJ52,AM52) -> 0
B53: =Paramètres!C42 -> Assist. contrôle URSSAF | C53: =IF(AP53>0,"X","") | E53: =VLOOKUP($B53,Paramètres!$C$7:$F$55,$C$6,FALSE) -> 0 | F53: =D53*E53 -> 0 | H53: =VLOOKUP($B53,Paramètres!$C$7:$F$55,$C$6,FALSE) -> 0 | I53: =G53*H53 -> 0 | K53: =VLOOKUP($B53,Paramètres!$C$7:$F$55,$C$6,FALSE) -> 0 | L53: =J53*K53 -> 0 | N53: =VLOOKUP($B53,Paramètres!$C$7:$F$55,$C$6,FALSE) -> 0 | O53: =M53*N53 -> 0 | Q53: =VLOOKUP($B53,Paramètres!$C$7:$F$55,$C$6,FALSE) -> 0 | R53: =P53*Q53 -> 0 | T53: =VLOOKUP($B53,Paramètres!$C$7:$F$55,$C$6,FALSE) -> 0 | U53: =S53*T53 -> 0 | W53: =VLOOKUP($B53,Paramètres!$C$7:$F$55,$C$6,FALSE) -> 0 | X53: =V53*W53 -> 0 | Z53: =VLOOKUP($B53,Paramètres!$C$7:$F$55,$C$6,FALSE) -> 0 | AA53: =Y53*Z53 -> 0 | AC53: =VLOOKUP($B53,Paramètres!$C$7:$F$55,$C$6,FALSE) -> 0 | AD53: =AB53*AC53 -> 0 | AF53: =VLOOKUP($B53,Paramètres!$C$7:$F$55,$C$6,FALSE) -> 0 | AG53: =AE53*AF53 -> 0 | AI53: =VLOOKUP($B53,Paramètres!$C$7:$F$55,$C$6,FALSE) -> 0 | AJ53: =AH53*AI53 -> 0 | AL53: =VLOOKUP($B53,Paramètres!$C$7:$F$55,$C$6,FALSE) -> 0 | AM53: =AK53*AL53 -> 0 | AN53: =SUM(D53,G53,J53,M53,P53,S53,V53,Y53,AB53,AE53,AH53,AK53) -> 0 | AO53: =VLOOKUP($B53,Paramètres!$C$7:$F$55,$C$6,FALSE) -> 0 | AP53: =SUM(F53,I53,L53,O53,R53,U53,X53,AA53,AD53,AG53,AJ53,AM53) -> 0
B54: =Paramètres!C43 -> Audit social complet | C54: =IF(AP54>0,"X","") | E54: =VLOOKUP($B54,Paramètres!$C$7:$F$55,$C$6,FALSE) -> 0 | F54: =D54*E54 -> 0 | H54: =VLOOKUP($B54,Paramètres!$C$7:$F$55,$C$6,FALSE) -> 0 | I54: =G54*H54 -> 0 | K54: =VLOOKUP($B54,Paramètres!$C$7:$F$55,$C$6,FALSE) -> 0 | L54: =J54*K54 -> 0 | N54: =VLOOKUP($B54,Paramètres!$C$7:$F$55,$C$6,FALSE) -> 0 | O54: =M54*N54 -> 0 | Q54: =VLOOKUP($B54,Paramètres!$C$7:$F$55,$C$6,FALSE) -> 0 | R54: =P54*Q54 -> 0 | T54: =VLOOKUP($B54,Paramètres!$C$7:$F$55,$C$6,FALSE) -> 0 | U54: =S54*T54 -> 0 | W54: =VLOOKUP($B54,Paramètres!$C$7:$F$55,$C$6,FALSE) -> 0 | X54: =V54*W54 -> 0 | Z54: =VLOOKUP($B54,Paramètres!$C$7:$F$55,$C$6,FALSE) -> 0 | AA54: =Y54*Z54 -> 0 | AC54: =VLOOKUP($B54,Paramètres!$C$7:$F$55,$C$6,FALSE) -> 0 | AD54: =AB54*AC54 -> 0 | AF54: =VLOOKUP($B54,Paramètres!$C$7:$F$55,$C$6,FALSE) -> 0 | AG54: =AE54*AF54 -> 0 | AI54: =VLOOKUP($B54,Paramètres!$C$7:$F$55,$C$6,FALSE) -> 0 | AJ54: =AH54*AI54 -> 0 | AL54: =VLOOKUP($B54,Paramètres!$C$7:$F$55,$C$6,FALSE) -> 0 | AM54: =AK54*AL54 -> 0 | AN54: =SUM(D54,G54,J54,M54,P54,S54,V54,Y54,AB54,AE54,AH54,AK54) -> 0 | AO54: =VLOOKUP($B54,Paramètres!$C$7:$F$55,$C$6,FALSE) -> 0 | AP54: =SUM(F54,I54,L54,O54,R54,U54,X54,AA54,AD54,AG54,AJ54,AM54) -> 0
B55: =Paramètres!C44 -> Assist. réalisation paye sur site | C55: =IF(AP55>0,"X","") | E55: =VLOOKUP($B55,Paramètres!$C$7:$F$55,$C$6,FALSE) -> 0 | F55: =D55*E55 -> 0 | H55: =VLOOKUP($B55,Paramètres!$C$7:$F$55,$C$6,FALSE) -> 0 | I55: =G55*H55 -> 0 | K55: =VLOOKUP($B55,Paramètres!$C$7:$F$55,$C$6,FALSE) -> 0 | L55: =J55*K55 -> 0 | N55: =VLOOKUP($B55,Paramètres!$C$7:$F$55,$C$6,FALSE) -> 0 | O55: =M55*N55 -> 0 | Q55: =VLOOKUP($B55,Paramètres!$C$7:$F$55,$C$6,FALSE) -> 0 | R55: =P55*Q55 -> 0 | T55: =VLOOKUP($B55,Paramètres!$C$7:$F$55,$C$6,FALSE) -> 0 | U55: =S55*T55 -> 0 | W55: =VLOOKUP($B55,Paramètres!$C$7:$F$55,$C$6,FALSE) -> 0 | X55: =V55*W55 -> 0 | Z55: =VLOOKUP($B55,Paramètres!$C$7:$F$55,$C$6,FALSE) -> 0 | AA55: =Y55*Z55 -> 0 | AC55: =VLOOKUP($B55,Paramètres!$C$7:$F$55,$C$6,FALSE) -> 0 | AD55: =AB55*AC55 -> 0 | AF55: =VLOOKUP($B55,Paramètres!$C$7:$F$55,$C$6,FALSE) -> 0 | AG55: =AE55*AF55 -> 0 | AI55: =VLOOKUP($B55,Paramètres!$C$7:$F$55,$C$6,FALSE) -> 0 | AJ55: =AH55*AI55 -> 0 | AL55: =VLOOKUP($B55,Paramètres!$C$7:$F$55,$C$6,FALSE) -> 0 | AM55: =AK55*AL55 -> 0 | AN55: =SUM(D55,G55,J55,M55,P55,S55,V55,Y55,AB55,AE55,AH55,AK55) -> 0 | AO55: =VLOOKUP($B55,Paramètres!$C$7:$F$55,$C$6,FALSE) -> 0 | AP55: =SUM(F55,I55,L55,O55,R55,U55,X55,AA55,AD55,AG55,AJ55,AM55) -> 0
... B66: =Paramètres!C55 -> Document unique risque professionnels | C66: =IF(AP66>0,"X","") | E66: =VLOOKUP($B66,Paramètres!$C$7:$F$55,$C$6,FALSE) -> 0 | F66: =D66*E66 -> 0 | H66: =VLOOKUP($B66,Paramètres!$C$7:$F$55,$C$6,FALSE) -> 0 | I66: =G66*H66 -> 0 | K66: =VLOOKUP($B66,Paramètres!$C$7:$F$55,$C$6,FALSE) -> 0 | L66: =J66*K66 -> 0 | N66: =VLOOKUP($B66,Paramètres!$C$7:$F$55,$C$6,FALSE) -> 0 | O66: =M66*N66 -> 0 | Q66: =VLOOKUP($B66,Paramètres!$C$7:$F$55,$C$6,FALSE) -> 0 | R66: =P66*Q66 -> 0 | T66: =VLOOKUP($B66,Paramètres!$C$7:$F$55,$C$6,FALSE) -> 0 | U66: =S66*T66 -> 0 | W66: =VLOOKUP($B66,Paramètres!$C$7:$F$55,$C$6,FALSE) -> 0 | X66: =V66*W66 -> 0 | Z66: =VLOOKUP($B66,Paramètres!$C$7:$F$55,$C$6,FALSE) -> 0 | AA66: =Y66*Z66 -> 0 | AC66: =VLOOKUP($B66,Paramètres!$C$7:$F$55,$C$6,FALSE) -> 0 | AD66: =AB66*AC66 -> 0 | AF66: =VLOOKUP($B66,Paramètres!$C$7:$F$55,$C$6,FALSE) -> 0 | AG66: =AE66*AF66 -> 0 | AI66: =VLOOKUP($B66,Paramètres!$C$7:$F$55,$C$6,FALSE) -> 0 | AJ66: =AH66*AI66 -> 0 | AL66: =VLOOKUP($B66,Paramètres!$C$7:$F$55,$C$6,FALSE) -> 0 | AM66: =AK66*AL66 -> 0 | AN66: =SUM(D66,G66,J66,M66,P66,S66,V66,Y66,AB66,AE66,AH66,AK66) -> 0 | AO66: =VLOOKUP($B66,Paramètres!$C$7:$F$55,$C$6,FALSE) -> 0 | AP66: =SUM(F66,I66,L66,O66,R66,U66,X66,AA66,AD66,AG66,AJ66,AM66) -> 0
B67: TOTAL MISSIONS EXCEPTIONNELLES | F67: =SUM(F44:F66) -> 0 | I67: =SUM(I44:I66) -> 0 | L67: =SUM(L44:L66) -> 0 | O67: =SUM(O44:O66) -> 0 | R67: =SUM(R44:R66) -> 0 | U67: =SUM(U44:U66) -> 0 | X67: =SUM(X44:X66) -> 0 | AA67: =SUM(AA44:AA66) -> 0 | AD67: =SUM(AD44:AD66) -> 0 | AG67: =SUM(AG44:AG66) -> 0 | AJ67: =SUM(AJ44:AJ66) -> 0 | AM67: =SUM(AM44:AM66) -> 0 | AP67: =SUM(AP44:AP66) -> 0
B69: Régul N-1 | C69: X
B70: TOTAL GENERAL | C70: X | F70: =F22+F43+F67 -> 0 | I70: =I22+I43+I67 -> 0 | L70: =L22+L43+L67 -> 0 | O70: =O22+O43+O67 -> 0 | R70: =R22+R43+R67 -> 0 | U70: =U22+U43+U67 -> 0 | X70: =X22+X43+X67 -> 0 | AA70: =AA22+AA43+AA67 -> 0 | AD70: =AD22+AD43+AD67 -> 0 | AG70: =AG22+AG43+AG67 -> 0 | AJ70: =AJ22+AJ43+AJ67 -> 0 | AM70: =AM22+AM43+AM67 -> 0 | AP70: =SUM(F70,I70,L70,O70,R70,U70,X70,AA70,AD70,AG70,AJ70,AM70) -> 0
B71: FACTURATION | C71: X | AP71: =SUM(F71,I71,L71,O71,R71,U71,X71,AA71,AD71,AG71,AJ71,AM71) -> 0
B72: REDUCTION | C72: X | AP72: =SUM(F72,I72,L72,O72,R72,U72,X72,AA72,AD72,AG72,AJ72,AM72) -> 0
B73: REGUL | C73: X | F73: =F69+F70-F71-F72 -> 0 | I73: =F73+I70-I71-I72 -> 0 | L73: =I73+L70-L71-L72 -> 0 | O73: =L73+O70-O71-O72 -> 0 | R73: =O73+R70-R71-R72 -> 0 | U73: =R73+U70-U71-U72 -> 0 | X73: =U73+X70-X71-X72 -> 0 | AA73: =X73+AA70-AA71-AA72 -> 0 | AD73: =AA73+AD70-AD71-AD72 -> 0 | AG73: =AD73+AG70-AG71-AG72 -> 0 | AJ73: =AG73+AJ70-AJ71-AJ72 -> 0 | AM73: =AJ73+AM70-AM71-AM72 -> 0

Sheet A3 PLANS SARL
B2: Nom client : | D2: =MID(CELL("nomfichier",A1),FIND("]",CELL("nomfichier",A1))+1,32) -> A3 PLANS SARL
B3: N° client : | D3: 52791
B4: Collaborateur : | D4: Clara Bouneggar
B5: Site | D5: Perpignan
B6: Effectif moyen prévu : | C6: =IF(D6=Paramètres!D7,2,IF(D6=Paramètres!E7,3,IF(D6=Paramètres!F7,4,"erreur"))) -> 2 | D6: De 1 à 5 salariés
B7: =CONCATENATE(IF(#REF!=Paramètres!$J$17,Paramètres!$J$17,$D$4),"_",IF(#REF!=Paramètres!$H$12,Paramètres!$H$12,$D$5)) -> #REF!
B8: Informations utiles au dossier :
B9: Siret : 41913018200019
B15: Missions | D15: Janvier | G15: Février | J15: Mars | M15: Avril | P15: Mai | S15: Juin | V15: Juillet | Y15: Août | AB15: Septembre | AE15: Octobre | AH15: Novembre | AK15: Décembre | AN15: TOTAL
D16: Qté | E16: P.U. | F16: Montant | G16: Qté | H16: P.U. | I16: Montant | J16: Qté | K16: P.U. | L16: Montant | M16: Qté | N16: P.U. | O16: Montant | P16: Qté | Q16: P.U. | R16: Montant | S16: Qté | T16: P.U. | U16: Montant | V16: Qté | W16: P.U. | X16: Montant | Y16: Qté | Z16: P.U. | AA16: Montant | AB16: Qté | AC16: P.U. | AD16: Montant | AE16: Qté | AF16: P.U. | AG16: Montant | AH16: Qté | AI16: P.U. | AJ16: Montant | AK16: Qté | AL16: P.U. | AM16: Montant | AN16: Qté | AO16: P.U. | AP16: Montant
B17: =Paramètres!C8 -> Bulletins (tarif unitaire) | C17: =IF(AP17>0,"X","") -> X | D17: 1 | E17: =VLOOKUP($B17,Paramètres!$C$7:$F$55,$C$6,FALSE) -> 21.5 | F17: =IF(ISNUMBER(E17),D17*E17,0) -> 21.5 | G17: 1 | H17: =VLOOKUP($B17,Paramètres!$C$7:$F$55,$C$6,FALSE) -> 21.5 | I17: =G17*H17 -> 21.5 | J17: 1 | K17: =VLOOKUP($B17,Paramètres!$C$7:$F$55,$C$6,FALSE) -> 21.5 | L17: =J17*K17 -> 21.5 | M17: 1 | N17: =VLOOKUP($B17,Paramètres!$C$7:$F$55,$C$6,FALSE) -> 21.5 | O17: =M17*N17 -> 21.5 | P17: 1 | Q17: =VLOOKUP($B17,Paramètres!$C$7:$F$55,$C$6,FALSE) -> 21.5 | R17: =P17*Q17 -> 21.5 | S17: 1 | T17: =VLOOKUP($B17,Paramètres!$C$7:$F$55,$C$6,FALSE) -> 21.5 | U17: =S17*T17 -> 21.5 | W17: =VLOOKUP($B17,Paramètres!$C$7:$F$55,$C$6,FALSE) -> 21.5 | X17: =V17*W17 -> 0 | Z17: =VLOOKUP($B17,Paramètres!$C$7:$F$55,$C$6,FALSE) -> 21.5 | AA17: =Y17*Z17 -> 0 | AC17: =VLOOKUP($B17,Paramètres!$C$7:$F$55,$C$6,FALSE) -> 21.5 | AD17: =AB17*AC17 -> 0 | AF17: =VLOOKUP($B17,Paramètres!$C$7:$F$55,$C$6,FALSE) -> 21.5 | AG17: =AE17*AF17 -> 0 | AI17: =VLOOKUP($B17,Paramètres!$C$7:$F$55,$C$6,FALSE) -> 21.5 | AJ17: =AH17*AI17 -> 0 | AL17: =VLOOKUP($B17,Paramètres!$C$7:$F$55,$C$6,FALSE) -> 21.5 | AM17: =AK17*AL17 -> 0 | AN17: =SUM(D17,G17,J17,M17,P17,S17,V17,Y17,AB17,AE17,AH17,AK17) -> 6 | AO17: =VLOOKUP($B17,Paramètres!$C$7:$F$55,$C$6,FALSE) -> 21.5 | AP17: =SUM(F17,I17,L17,O17,R17,U17,X17,AA17,AD17,AG17,AJ17,AM17) -> 129
B18: =Paramètres!C9 -> Bulletins refaits (tarif unitaire) | C18: =IF(AP18>0,"X","") | E18: =VLOOKUP($B18,Paramètres!$C$7:$F$55,$C$6,FALSE) -> 10.75 | F18: =IF(ISNUMBER(E18),D18*E18,0) -> 0 | H18: =VLOOKUP($B18,Paramètres!$C$7:$F$55,$C$6,FALSE) -> 10.75 | I18: =G18*H18 -> 0 | K18: =VLOOKUP($B18,Paramètres!$C$7:$F$55,$C$6,FALSE) -> 10.75 | L18: =J18*K18 -> 0 | N18: =VLOOKUP($B18,Paramètres!$C$7:$F$55,$C$6,FALSE) -> 10.75 | O18: =M18*N18 -> 0 | Q18: =VLOOKUP($B18,Paramètres!$C$7:$F$55,$C$6,FALSE) -> 10.75 | R18: =P18*Q18 -> 0 | T18: =VLOOKUP($B18,Paramètres!$C$7:$F$55,$C$6,FALSE) -> 10.75 | U18: =S18*T18 -> 0 | W18: =VLOOKUP($B18,Paramètres!$C$7:$F$55,$C$6,FALSE) -> 10.75 | X18: =V18*W18 -> 0 | Z18: =VLOOKUP($B18,Paramètres!$C$7:$F$55,$C$6,FALSE) -> 10.75 | AA18: =Y18*Z18 -> 0 | AC18: =VLOOKUP($B18,Paramètres!$C$7:$F$55,$C$6,FALSE) -> 10.75 | AD18: =AB18*AC18 -> 0 | AF18: =VLOOKUP($B18,Paramètres!$C$7:$F$55,$C$6,FALSE) -> 10.75 | AG18: =AE18*AF18 -> 0 | AI18: =VLOOKUP($B18,Paramètres!$C$7:$F$55,$C$6,FALSE) -> 10.75 | AJ18: =AH18*AI18 -> 0 | AL18: =VLOOKUP($B18,Paramètres!$C$7:$F$55,$C$6,FALSE) -> 10.75 | AM18: =AK18*AL18 -> 0 | AN18: =SUM(D18,G18,J18,M18,P18,S18,V18,Y18,AB18,AE18,AH18,AK18) -> 0 | AO18: =VLOOKUP($B18,Paramètres!$C$7:$F$55,$C$6,FALSE) -> 10.75 | AP18: =SUM(F18,I18,L18,O18,R18,U18,X18,AA18,AD18,AG18,AJ18,AM18) -> 0
B19: =Paramètres!C10 -> Forfait gestion sociale | C19: =IF(AP19>0,"X","") -> X | D19: 1 | E19: =VLOOKUP($B19,Paramètres!$C$7:$F$55,$C$6,FALSE) -> 80 | F19: =IF(ISNUMBER(E19),D19*E19,0) -> 80 | H19: =VLOOKUP($B19,Paramètres!$C$7:$F$55,$C$6,FALSE) -> 80 | I19: =G19*H19 -> 0 | K19: =VLOOKUP($B19,Paramètres!$C$7:$F$55,$C$6,FALSE) -> 80 | L19: =J19*K19 -> 0 | N19: =VLOOKUP($B19,Paramètres!$C$7:$F$55,$C$6,FALSE) -> 80 | O19: =M19*N19 -> 0 | Q19: =VLOOKUP($B19,Paramètres!$C$7:$F$55,$C$6,FALSE) -> 80 | R19: =P19*Q19 -> 0 | T19: =VLOOKUP($B19,Paramètres!$C$7:$F$55,$C$6,FALSE) -> 80 | U19: =S19*T19 -> 0 | W19: =VLOOKUP($B19,Paramètres!$C$7:$F$55,$C$6,FALSE) -> 80 | X19: =V19*W19 -> 0 | Z19: =VLOOKUP($B19,Paramètres!$C$7:$F$55,$C$6,FALSE) -> 80 | AA19: =Y19*Z19 -> 0 | AC19: =VLOOKUP($B19,Paramètres!$C$7:$F$55,$C$6,FALSE) -> 80 | AD19: =AB19*AC19 -> 0 | AF19: =VLOOKUP($B19,Paramètres!$C$7:$F$55,$C$6,FALSE) -> 80 | AG19: =AE19*AF19 -> 0 | AI19: =VLOOKUP($B19,Paramètres!$C$7:$F$55,$C$6,FALSE) -> 80 | AJ19: =AH19*AI19 -> 0 | AL19: =VLOOKUP($B19,Paramètres!$C$7:$F$55,$C$6,FALSE) -> 80 | AM19: =AK19*AL19 -> 0 | AN19: =SUM(D19,G19,J19,M19,P19,S19,V19,Y19,AB19,AE19,AH19,AK19) -> 1 | AO19: =VLOOKUP($B19,Paramètres!$C$7:$F$55,$C$6,FALSE) -> 80 | AP19: =SUM(F19,I19,L19,O19,R19,U19,X19,AA19,AD19,AG19,AJ19,AM19) -> 80
B20: =Paramètres!C11 -> Forfait création | C20: =IF(AP20>0,"X","") | E20: =VLOOKUP($B20,Paramètres!$C$7:$F$55,$C$6,FALSE) -> 90 | F20: =IF(ISNUMBER(E20),D20*E20,0) -> 0 | H20: =VLOOKUP($B20,Paramètres!$C$7:$F$55,$C$6,FALSE) -> 90 | I20: =G20*H20 -> 0 | K20: =VLOOKUP($B20,Paramètres!$C$7:$F$55,$C$6,FALSE) -> 90 | L20: =J20*K20 -> 0 | N20: =VLOOKUP($B20,Paramètres!$C$7:$F$55,$C$6,FALSE) -> 90 | O20: =M20*N20 -> 0 | Q20: =VLOOKUP($B20,Paramètres!$C$7:$F$55,$C$6,FALSE) -> 90 | R20: =P20*Q20 -> 0 | T20: =VLOOKUP($B20,Paramètres!$C$7:$F$55,$C$6,FALSE) -> 90 | U20: =S20*T20 -> 0 | W20: =VLOOKUP($B20,Paramètres!$C$7:$F$55,$C$6,FALSE) -> 90 | X20: =V20*W20 -> 0 | Z20: =VLOOKUP($B20,Paramètres!$C$7:$F$55,$C$6,FALSE) -> 90 | AA20: =Y20*Z20 -> 0 | AC20: =VLOOKUP($B20,Paramètres!$C$7:$F$55,$C$6,FALSE) -> 90 | AD20: =AB20*AC20 -> 0 | AF20: =VLOOKUP($B20,Paramètres!$C$7:$F$55,$C$6,FALSE) -> 90 | AG20: =AE20*AF20 -> 0 | AI20: =VLOOKUP($B20,Paramètres!$C$7:$F$55,$C$6,FALSE) -> 90 | AJ20: =AH20*AI20 -> 0 | AL20: =VLOOKUP($B20,Paramètres!$C$7:$F$55,$C$6,FALSE) -> 90 | AM20: =AK20*AL20 -> 0 | AN20: =SUM(D20,G20,J20,M20,P20,S20,V20,Y20,AB20,AE20,AH20,AK20) -> 0 | AO20: =VLOOKUP($B20,Paramètres!$C$7:$F$55,$C$6,FALSE) -> 90 | AP20: =SUM(F20,I20,L20,O20,R20,U20,X20,AA20,AD20,AG20,AJ20,AM20) -> 0
B21: =Paramètres!C12 -> Forfait reprise | C21: =IF(AP21>0,"X","") | E21: =VLOOKUP($B21,Paramètres!$C$7:$F$55,$C$6,FALSE) -> 130 | F21: =IF(ISNUMBER(E21),D21*E21,0) -> 0 | H21: =VLOOKUP($B21,Paramètres!$C$7:$F$55,$C$6,FALSE) -> 130 | I21: =G21*H21 -> 0 | K21: =VLOOKUP($B21,Paramètres!$C$7:$F$55,$C$6,FALSE) -> 130 | L21: =J21*K21 -> 0 | N21: =VLOOKUP($B21,Paramètres!$C$7:$F$55,$C$6,FALSE) -> 130 | O21: =M21*N21 -> 0 | Q21: =VLOOKUP($B21,Paramètres!$C$7:$F$55,$C$6,FALSE) -> 130 | R21: =P21*Q21 -> 0 | T21: =VLOOKUP($B21,Paramètres!$C$7:$F$55,$C$6,FALSE) -> 130 | U21: =S21*T21 -> 0 | W21: =VLOOKUP($B21,Paramètres!$C$7:$F$55,$C$6,FALSE) -> 130 | X21: =V21*W21 -> 0 | Z21: =VLOOKUP($B21,Paramètres!$C$7:$F$55,$C$6,FALSE) -> 130 | AA21: =Y21*Z21 -> 0 | AC21: =VLOOKUP($B21,Paramètres!$C$7:$F$55,$C$6,FALSE) -> 130 | AD21: =AB21*AC21 -> 0 | AF21: =VLOOKUP($B21,Paramètres!$C$7:$F$55,$C$6,FALSE) -> 130 | AG21: =AE21*AF21 -> 0 | AI21: =VLOOKUP($B21,Paramètres!$C$7:$F$55,$C$6,FALSE) -> 130 | AJ21: =AH21*AI21 -> 0 | AL21: =VLOOKUP($B21,Paramètres!$C$7:$F$55,$C$6,FALSE) -> 130 | AM21: =AK21*AL21 -> 0 | AN21: =SUM(D21,G21,J21,M21,P21,S21,V21,Y21,AB21,AE21,AH21,AK21) -> 0 | AO21: =VLOOKUP($B21,Paramètres!$C$7:$F$55,$C$6,FALSE) -> 130 | AP21: =SUM(F21,I21,L21,O21,R21,U21,X21,AA21,AD21,AG21,AJ21,AM21) -> 0
B22: TOTAL SO1 Mission social | C22: X | F22: =SUM(F17:F21) -> 101.5 | I22: =SUM(I17:I21) -> 21.5 | L22: =SUM(L17:L21) -> 21.5 | O22: =SUM(O17:O21) -> 21.5 | R22: =SUM(R17:R21) -> 21.5 | U22: =SUM(U17:U21) -> 21.5 | X22: =SUM(X17:X21) -> 0 | AA22: =SUM(AA17:AA21) -> 0 | AD22: =SUM(AD17:AD21) -> 0 | AG22: =SUM(AG17:AG21) -> 0 | AJ22: =SUM(AJ17:AJ21) -> 0 | AM22: =SUM(AM17:AM21) -> 0 | AP22: =SUM(AP17:AP21) -> 209
B23: =Paramètres!C13 -> Divers | C23: =IF(AP23>0,"X","") | E23: =VLOOKUP($B23,Paramètres!$C$7:$F$55,$C$6,FALSE) -> 0 | F23: =D23*E23 -> 0 | H23: =VLOOKUP($B23,Paramètres!$C$7:$F$55,$C$6,FALSE) -> 0 | I23: =G23*H23 -> 0 | K23: =VLOOKUP($B23,Paramètres!$C$7:$F$55,$C$6,FALSE) -> 0 | L23: =J23*K23 -> 0 | N23: =VLOOKUP($B23,Paramètres!$C$7:$F$55,$C$6,FALSE) -> 0 | O23: =M23*N23 -> 0 | Q23: =VLOOKUP($B23,Paramètres!$C$7:$F$55,$C$6,FALSE) -> 0 | R23: =P23*Q23 -> 0 | T23: =VLOOKUP($B23,Paramètres!$C$7:$F$55,$C$6,FALSE) -> 0 | U23: =S23*T23 -> 0 | W23: =VLOOKUP($B23,Paramètres!$C$7:$F$55,$C$6,FALSE) -> 0 | X23: =V23*W23 -> 0 | Z23: =VLOOKUP($B23,Paramètres!$C$7:$F$55,$C$6,FALSE) -> 0 | AA23: =Y23*Z23 -> 0 | AC23: =VLOOKUP($B23,Paramètres!$C$7:$F$55,$C$6,FALSE) -> 0 | AD23: =AB23*AC23 -> 0 | AF23: =VLOOKUP($B23,Paramètres!$C$7:$F$55,$C$6,FALSE) -> 0 | AG23: =AE23*AF23 -> 0 | AI23: =VLOOKUP($B23,Paramètres!$C$7:$F$55,$C$6,FALSE) -> 0 | AJ23: =AH23*AI23 -> 0 | AL23: =VLOOKUP($B23,Paramètres!$C$7:$F$55,$C$6,FALSE) -> 0 | AM23: =AK23*AL23 -> 0 | AN23: =SUM(D23,G23,J23,M23,P23,S23,V23,Y23,AB23,AE23,AH23,AK23) -> 0 | AO23: =VLOOKUP($B23,Paramètres!$C$7:$F$55,$C$6,FALSE) -> 0 | AP23: =SUM(F23,I23,L23,O23,R23,U23,X23,AA23,AD23,AG23,AJ23,AM23) -> 0
B24: =Paramètres!C14 -> Lettre de promesse d'embauche | C24: =IF(AP24>0,"X","") | E24: =VLOOKUP($B24,Paramètres!$C$7:$F$55,$C$6,FALSE) -> 20 | F24: =D24*E24 -> 0 | H24: =VLOOKUP($B24,Paramètres!$C$7:$F$55,$C$6,FALSE) -> 20 | I24: =G24*H24 -> 0 | K24: =VLOOKUP($B24,Paramètres!$C$7:$F$55,$C$6,FALSE) -> 20 | L24: =J24*K24 -> 0 | N24: =VLOOKUP($B24,Paramètres!$C$7:$F$55,$C$6,FALSE) -> 20 | O24: =M24*N24 -> 0 | Q24: =VLOOKUP($B24,Paramètres!$C$7:$F$55,$C$6,FALSE) -> 20 | R24: =P24*Q24 -> 0 | T24: =VLOOKUP($B24,Paramètres!$C$7:$F$55,$C$6,FALSE) -> 20 | U24: =S24*T24 -> 0 | W24: =VLOOKUP($B24,Paramètres!$C$7:$F$55,$C$6,FALSE) -> 20 | X24: =V24*W24 -> 0 | Z24: =VLOOKUP($B24,Paramètres!$C$7:$F$55,$C$6,FALSE) -> 20 | AA24: =Y24*Z24 -> 0 | AC24: =VLOOKUP($B24,Paramètres!$C$7:$F$55,$C$6,FALSE) -> 20 | AD24: =AB24*AC24 -> 0 | AF24: =VLOOKUP($B24,Paramètres!$C$7:$F$55,$C$6,FALSE) -> 20 | AG24: =AE24*AF24 -> 0 | AI24: =VLOOKUP($B24,Paramètres!$C$7:$F$55,$C$6,FALSE) -> 20 | AJ24: =AH24*AI24 -> 0 | AL24: =VLOOKUP($B24,Paramètres!$C$7:$F$55,$C$6,FALSE) -> 20 | AM24: =AK24*AL24 -> 0 | AN24: =SUM(D24,G24,J24,M24,P24,S24,V24,Y24,AB24,AE24,AH24,AK24) -> 0 | AO24: =VLOOKUP($B24,Paramètres!$C$7:$F$55,$C$6,FALSE) -> 20 | AP24: =SUM(F24,I24,L24,O24,R24,U24,X24,AA24,AD24,AG24,AJ24,AM24) -> 0
B25: =Paramètres!C15 -> Déclaration préalable à l'embauche | C25: =IF(AP25>0,"X","") | E25: =VLOOKUP($B25,Paramètres!$C$7:$F$55,$C$6,FALSE) -> 10 | F25: =D25*E25 -> 0 | H25: =VLOOKUP($B25,Paramètres!$C$7:$F$55,$C$6,FALSE) -> 10 | I25: =G25*H25 -> 0 | K25: =VLOOKUP($B25,Paramètres!$C$7:$F$55,$C$6,FALSE) -> 10 | L25: =J25*K25 -> 0 | N25: =VLOOKUP($B25,Paramètres!$C$7:$F$55,$C$6,FALSE) -> 10 | O25: =M25*N25 -> 0 | Q25: =VLOOKUP($B25,Paramètres!$C$7:$F$55,$C$6,FALSE) -> 10 | R25: =P25*Q25 -> 0 | T25: =VLOOKUP($B25,Paramètres!$C$7:$F$55,$C$6,FALSE) -> 10 | U25: =S25*T25 -> 0 | W25: =VLOOKUP($B25,Paramètres!$C$7:$F$55,$C$6,FALSE) -> 10 | X25: =V25*W25 -> 0 | Z25: =VLOOKUP($B25,Paramètres!$C$7:$F$55,$C$6,FALSE) -> 10 | AA25: =Y25*Z25 -> 0 | AC25: =VLOOKUP($B25,Paramètres!$C$7:$F$55,$C$6,FALSE) -> 10 | AD25: =AB25*AC25 -> 0 | AF25: =VLOOKUP($B25,Paramètres!$C$7:$F$55,$C$6,FALSE) -> 10 | AG25: =AE25*AF25 -> 0 | AI25: =VLOOKUP($B25,Paramètres!$C$7:$F$55,$C$6,FALSE) -> 10 | AJ25: =AH25*AI25 -> 0 | AL25: =VLOOKUP($B25,Paramètres!$C$7:$F$55,$C$6,FALSE) -> 10 | AM25: =AK25*AL25 -> 0 | AN25: =SUM(D25,G25,J25,M25,P25,S25,V25,Y25,AB25,AE25,AH25,AK25) -> 0 | AO25: =VLOOKUP($B25,Paramètres!$C$7:$F$55,$C$6,FALSE) -> 10 | AP25: =SUM(F25,I25,L25,O25,R25,U25,X25,AA25,AD25,AG25,AJ25,AM25) -> 0
B26: =Paramètres!C16 -> Contrat de travail classique | C26: =IF(AP26>0,"X","") | E26: =VLOOKUP($B26,Paramètres!$C$7:$F$55,$C$6,FALSE) -> 45 | F26: =D26*E26 -> 0 | H26: =VLOOKUP($B26,Paramètres!$C$7:$F$55,$C$6,FALSE) -> 45 | I26: =G26*H26 -> 0 | K26: =VLOOKUP($B26,Paramètres!$C$7:$F$55,$C$6,FALSE) -> 45 | L26: =J26*K26 -> 0 | N26: =VLOOKUP($B26,Paramètres!$C$7:$F$55,$C$6,FALSE) -> 45 | O26: =M26*N26 -> 0 | Q26: =VLOOKUP($B26,Paramètres!$C$7:$F$55,$C$6,FALSE) -> 45 | R26: =P26*Q26 -> 0 | T26: =VLOOKUP($B26,Paramètres!$C$7:$F$55,$C$6,FALSE) -> 45 | U26: =S26*T26 -> 0 | W26: =VLOOKUP($B26,Paramètres!$C$7:$F$55,$C$6,FALSE) -> 45 | X26: =V26*W26 -> 0 | Z26: =VLOOKUP($B26,Paramètres!$C$7:$F$55,$C$6,FALSE) -> 45 | AA26: =Y26*Z26 -> 0 | AC26: =VLOOKUP($B26,Paramètres!$C$7:$F$55,$C$6,FALSE) -> 45 | AD26: =AB26*AC26 -> 0 | AF26: =VLOOKUP($B26,Paramètres!$C$7:$F$55,$C$6,FALSE) -> 45 | AG26: =AE26*AF26 -> 0 | AI26: =VLOOKUP($B26,Paramètres!$C$7:$F$55,$C$6,FALSE) -> 45 | AJ26: =AH26*AI26 -> 0 | AL26: =VLOOKUP($B26,Paramètres!$C$7:$F$55,$C$6,FALSE) -> 45 | AM26: =AK26*AL26 -> 0 | AN26: =SUM(D26,G26,J26,M26,P26,S26,V26,Y26,AB26,AE26,AH26,AK26) -> 0 | AO26: =VLOOKUP($B26,Paramètres!$C$7:$F$55,$C$6,FALSE) -> 45 | AP26: =SUM(F26,I26,L26,O26,R26,U26,X26,AA26,AD26,AG26,AJ26,AM26) -> 0
B27: =Paramètres!C17 -> Contrat de travail spécifique | C27: =IF(AP27>0,"X","") | E27: =VLOOKUP($B27,Paramètres!$C$7:$F$55,$C$6,FALSE) -> 90 | F27: =D27*E27 -> 0 | H27: =VLOOKUP($B27,Paramètres!$C$7:$F$55,$C$6,FALSE) -> 90 | I27: =G27*H27 -> 0 | K27: =VLOOKUP($B27,Paramètres!$C$7:$F$55,$C$6,FALSE) -> 90 | L27: =J27*K27 -> 0 | N27: =VLOOKUP($B27,Paramètres!$C$7:$F$55,$C$6,FALSE) -> 90 | O27: =M27*N27 -> 0 | Q27: =VLOOKUP($B27,Paramètres!$C$7:$F$55,$C$6,FALSE) -> 90 | R27: =P27*Q27 -> 0 | T27: =VLOOKUP($B27,Paramètres!$C$7:$F$55,$C$6,FALSE) -> 90 | U27: =S27*T27 -> 0 | W27: =VLOOKUP($B27,Paramètres!$C$7:$F$55,$C$6,FALSE) -> 90 | X27: =V27*W27 -> 0 | Z27: =VLOOKUP($B27,Paramètres!$C$7:$F$55,$C$6,FALSE) -> 90 | AA27: =Y27*Z27 -> 0 | AC27: =VLOOKUP($B27,Paramètres!$C$7:$F$55,$C$6,FALSE) -> 90 | AD27: =AB27*AC27 -> 0 | AF27: =VLOOKUP($B27,Paramètres!$C$7:$F$55,$C$6,FALSE) -> 90 | AG27: =AE27*AF27 -> 0 | AI27: =VLOOKUP($B27,Paramètres!$C$7:$F$55,$C$6,FALSE) -> 90 | AJ27: =AH27*AI27 -> 0 | AL27: =VLOOKUP($B27,Paramètres!$C$7:$F$55,$C$6,FALSE) -> 90 | AM27: =AK27*AL27 -> 0 | AN27: =SUM(D27,G27,J27,M27,P27,S27,V27,Y27,AB27,AE27,AH27,AK27) -> 0 | AO27: =VLOOKUP($B27,Paramètres!$C$7:$F$55,$C$6,FALSE) -> 90 | AP27: =SUM(F27,I27,L27,O27,R27,U27,X27,AA27,AD27,AG27,AJ27,AM27) -> 0
B28: =Paramètres!C18 -> Avenant contrat classique | C28: =IF(AP28>0,"X","") | E28: =VLOOKUP($B28,Paramètres!$C$7:$F$55,$C$6,FALSE) -> 20 | F28: =D28*E28 -> 0 | H28: =VLOOKUP($B28,Paramètres!$C$7:$F$55,$C$6,FALSE) -> 20 | I28: =G28*H28 -> 0 | K28: =VLOOKUP($B28,Paramètres!$C$7:$F$55,$C$6,FALSE) -> 20 | L28: =J28*K28 -> 0 | N28: =VLOOKUP($B28,Paramètres!$C$7:$F$55,$C$6,FALSE) -> 20 | O28: =M28*N28 -> 0 | Q28: =VLOOKUP($B28,Paramètres!$C$7:$F$55,$C$6,FALSE) -> 20 | R28: =P28*Q28 -> 0 | T28: =VLOOKUP($B28,Paramètres!$C$7:$F$55,$C$6,FALSE) -> 20 | U28: =S28*T28 -> 0 | W28: =VLOOKUP($B28,Paramètres!$C$7:$F$55,$C$6,FALSE) -> 20 | X28: =V28*W28 -> 0 | Z28: =VLOOKUP($B28,Paramètres!$C$7:$F$55,$C$6,FALSE) -> 20 | AA28: =Y28*Z28 -> 0 | AC28: =VLOOKUP($B28,Paramètres!$C$7:$F$55,$C$6,FALSE) -> 20 | AD28: =AB28*AC28 -> 0 | AF28: =VLOOKUP($B28,Paramètres!$C$7:$F$55,$C$6,FALSE) -> 20 | AG28: =AE28*AF28 -> 0 | AI28: =VLOOKUP($B28,Paramètres!$C$7:$F$55,$C$6,FALSE) -> 20 | AJ28: =AH28*AI28 -> 0 | AL28: =VLOOKUP($B28,Paramètres!$C$7:$F$55,$C$6,FALSE) -> 20 | AM28: =AK28*AL28 -> 0 | AN28: =SUM(D28,G28,J28,M28,P28,S28,V28,Y28,AB28,AE28,AH28,AK28) -> 0 | AO28: =VLOOKUP($B28,Paramètres!$C$7:$F$55,$C$6,FALSE) -> 20 | AP28: =SUM(F28,I28,L28,O28,R28,U28,X28,AA28,AD28,AG28,AJ28,AM28) -> 0
B29: =Paramètres!C19 -> Avenant contrat spécifique | C29: =IF(AP29>0,"X","") | E29: =VLOOKUP($B29,Paramètres!$C$7:$F$55,$C$6,FALSE) -> 0 | F29: =D29*E29 -> 0 | H29: =VLOOKUP($B29,Paramètres!$C$7:$F$55,$C$6,FALSE) -> 0 | I29: =G29*H29 -> 0 | K29: =VLOOKUP($B29,Paramètres!$C$7:$F$55,$C$6,FALSE) -> 0 | L29: =J29*K29 -> 0 | N29: =VLOOKUP($B29,Paramètres!$C$7:$F$55,$C$6,FALSE) -> 0 | O29: =M29*N29 -> 0 | Q29: =VLOOKUP($B29,Paramètres!$C$7:$F$55,$C$6,FALSE) -> 0 | R29: =P29*Q29 -> 0 | T29: =VLOOKUP($B29,Paramètres!$C$7:$F$55,$C$6,FALSE) -> 0 | U29: =S29*T29 -> 0 | W29: =VLOOKUP($B29,Paramètres!$C$7:$F$55,$C$6,FALSE) -> 0 | X29: =V29*W29 -> 0 | Z29: =VLOOKUP($B29,Paramètres!$C$7:$F$55,$C$6,FALSE) -> 0 | AA29: =Y29*Z29 -> 0 | AC29: =VLOOKUP($B29,Paramètres!$C$7:$F$55,$C$6,FALSE) -> 0 | AD29: =AB29*AC29 -> 0 | AF29: =VLOOKUP($B29,Paramètres!$C$7:$F$55,$C$6,FALSE) -> 0 | AG29: =AE29*AF29 -> 0 | AI29: =VLOOKUP($B29,Paramètres!$C$7:$F$55,$C$6,FALSE) -> 0 | AJ29: =AH29*AI29 -> 0 | AL29: =VLOOKUP($B29,Paramètres!$C$7:$F$55,$C$6,FALSE) -> 0 | AM29: =AK29*AL29 -> 0 | AN29: =SUM(D29,G29,J29,M29,P29,S29,V29,Y29,AB29,AE29,AH29,AK29) -> 0 | AO29: =VLOOKUP($B29,Paramètres!$C$7:$F$55,$C$6,FALSE) -> 0 | AP29: =SUM(F29,I29,L29,O29,R29,U29,X29,AA29,AD29,AG29,AJ29,AM29) -> 0
B30: =Paramètres!C20 -> Contrat CERFA appentissage | C30: =IF(AP30>0,"X","") | E30: =VLOOKUP($B30,Paramètres!$C$7:$F$55,$C$6,FALSE) -> 45 | F30: =D30*E30 -> 0 | H30: =VLOOKUP($B30,Paramètres!$C$7:$F$55,$C$6,FALSE) -> 45 | I30: =G30*H30 -> 0 | K30: =VLOOKUP($B30,Paramètres!$C$7:$F$55,$C$6,FALSE) -> 45 | L30: =J30*K30 -> 0 | N30: =VLOOKUP($B30,Paramètres!$C$7:$F$55,$C$6,FALSE) -> 45 | O30: =M30*N30 -> 0 | Q30: =VLOOKUP($B30,Paramètres!$C$7:$F$55,$C$6,FALSE) -> 45 | R30: =P30*Q30 -> 0 | T30: =VLOOKUP($B30,Paramètres!$C$7:$F$55,$C$6,FALSE) -> 45 | U30: =S30*T30 -> 0 | W30: =VLOOKUP($B30,Paramètres!$C$7:$F$55,$C$6,FALSE) -> 45 | X30: =V30*W30 -> 0 | Z30: =VLOOKUP($B30,Paramètres!$C$7:$F$55,$C$6,FALSE) -> 45 | AA30: =Y30*Z30 -> 0 | AC30: =VLOOKUP($B30,Paramètres!$C$7:$F$55,$C$6,FALSE) -> 45 | AD30: =AB30*AC30 -> 0 | AF30: =VLOOKUP($B30,Paramètres!$C$7:$F$55,$C$6,FALSE) -> 45 | AG30: =AE30*AF30 -> 0 | AI30: =VLOOKUP($B30,Paramètres!$C$7:$F$55,$C$6,FALSE) -> 45 | AJ30: =AH30*AI30 -> 0 | AL30: =VLOOKUP($B30,Paramètres!$C$7:$F$55,$C$6,FALSE) -> 45 | AM30: =AK30*AL30 -> 0 | AN30: =SUM(D30,G30,J30,M30,P30,S30,V30,Y30,AB30,AE30,AH30,AK30) -> 0 | AO30: =VLOOKUP($B30,Paramètres!$C$7:$F$55,$C$6,FALSE) -> 45 | AP30: =SUM(F30,I30,L30,O30,R30,U30,X30,AA30,AD30,AG30,AJ30,AM30) -> 0
B31: =Paramètres!C21 -> Constat de rupture à l'amiable CDD | C31: =IF(AP31>0,"X","") | E31: =VLOOKUP($B31,Paramètres!$C$7:$F$55,$C$6,FALSE) -> 30 | F31: =D31*E31 -> 0 | H31: =VLOOKUP($B31,Paramètres!$C$7:$F$55,$C$6,FALSE) -> 30 | I31: =G31*H31 -> 0 | K31: =VLOOKUP($B31,Paramètres!$C$7:$F$55,$C$6,FALSE) -> 30 | L31: =J31*K31 -> 0 | N31: =VLOOKUP($B31,Paramètres!$C$7:$F$55,$C$6,FALSE) -> 30 | O31: =M31*N31 -> 0 | Q31: =VLOOKUP($B31,Paramètres!$C$7:$F$55,$C$6,FALSE) -> 30 | R31: =P31*Q31 -> 0 | T31: =VLOOKUP($B31,Paramètres!$C$7:$F$55,$C$6,FALSE) -> 30 | U31: =S31*T31 -> 0 | W31: =VLOOKUP($B31,Paramètres!$C$7:$F$55,$C$6,FALSE) -> 30 | X31: =V31*W31 -> 0 | Z31: =VLOOKUP($B31,Paramètres!$C$7:$F$55,$C$6,FALSE) -> 30 | AA31: =Y31*Z31 -> 0 | AC31: =VLOOKUP($B31,Paramètres!$C$7:$F$55,$C$6,FALSE) -> 30 | AD31: =AB31*AC31 -> 0 | AF31: =VLOOKUP($B31,Paramètres!$C$7:$F$55,$C$6,FALSE) -> 30 | AG31: =AE31*AF31 -> 0 | AI31: =VLOOKUP($B31,Paramètres!$C$7:$F$55,$C$6,FALSE) -> 30 | AJ31: =AH31*AI31 -> 0 | AL31: =VLOOKUP($B31,Paramètres!$C$7:$F$55,$C$6,FALSE) -> 30 | AM31: =AK31*AL31 -> 0 | AN31: =SUM(D31,G31,J31,M31,P31,S31,V31,Y31,AB31,AE31,AH31,AK31) -> 0 | AO31: =VLOOKUP($B31,Paramètres!$C$7:$F$55,$C$6,FALSE) -> 30 | AP31: =SUM(F31,I31,L31,O31,R31,U31,X31,AA31,AD31,AG31,AJ31,AM31) -> 0
B32: =Paramètres!C22 -> Rupture contrat d'apprentissage | C32: =IF(AP32>0,"X","") | E32: =VLOOKUP($B32,Paramètres!$C$7:$F$55,$C$6,FALSE) -> 30 | F32: =D32*E32 -> 0 | H32: =VLOOKUP($B32,Paramètres!$C$7:$F$55,$C$6,FALSE) -> 30 | I32: =G32*H32 -> 0 | K32: =VLOOKUP($B32,Paramètres!$C$7:$F$55,$C$6,FALSE) -> 30 | L32: =J32*K32 -> 0 | N32: =VLOOKUP($B32,Paramètres!$C$7:$F$55,$C$6,FALSE) -> 30 | O32: =M32*N32 -> 0 | Q32: =VLOOKUP($B32,Paramètres!$C$7:$F$55,$C$6,FALSE) -> 30 | R32: =P32*Q32 -> 0 | T32: =VLOOKUP($B32,Paramètres!$C$7:$F$55,$C$6,FALSE) -> 30 | U32: =S32*T32 -> 0 | W32: =VLOOKUP($B32,Paramètres!$C$7:$F$55,$C$6,FALSE) -> 30 | X32: =V32*W32 -> 0 | Z32: =VLOOKUP($B32,Paramètres!$C$7:$F$55,$C$6,FALSE) -> 30 | AA32: =Y32*Z32 -> 0 | AC32: =VLOOKUP($B32,Paramètres!$C$7:$F$55,$C$6,FALSE) -> 30 | AD32: =AB32*AC32 -> 0 | AF32: =VLOOKUP($B32,Paramètres!$C$7:$F$55,$C$6,FALSE) -> 30 | AG32: =AE32*AF32 -> 0 | AI32: =VLOOKUP($B32,Paramètres!$C$7:$F$55,$C$6,FALSE) -> 30 | AJ32: =AH32*AI32 -> 0 | AL32: =VLOOKUP($B32,Paramètres!$C$7:$F$55,$C$6,FALSE) -> 30 | AM32: =AK32*AL32 -> 0 | AN32: =SUM(D32,G32,J32,M32,P32,S32,V32,Y32,AB32,AE32,AH32,AK32) -> 0 | AO32: =VLOOKUP($B32,Paramètres!$C$7:$F$55,$C$6,FALSE) -> 30 | AP32: =SUM(F32,I32,L32,O32,R32,U32,X32,AA32,AD32,AG32,AJ32,AM32) -> 0
B33: =Paramètres!C23 -> Documents de fin de contrat | C33: =IF(AP33>0,"X","") | E33: =VLOOKUP($B33,Paramètres!$C$7:$F$55,$C$6,FALSE) -> 22 | F33: =D33*E33 -> 0 | H33: =VLOOKUP($B33,Paramètres!$C$7:$F$55,$C$6,FALSE) -> 22 | I33: =G33*H33 -> 0 | K33: =VLOOKUP($B33,Paramètres!$C$7:$F$55,$C$6,FALSE) -> 22 | L33: =J33*K33 -> 0 | N33: =VLOOKUP($B33,Paramètres!$C$7:$F$55,$C$6,FALSE) -> 22 | O33: =M33*N33 -> 0 | Q33: =VLOOKUP($B33,Paramètres!$C$7:$F$55,$C$6,FALSE) -> 22 | R33: =P33*Q33 -> 0 | T33: =VLOOKUP($B33,Paramètres!$C$7:$F$55,$C$6,FALSE) -> 22 | U33: =S33*T33 -> 0 | W33: =VLOOKUP($B33,Paramètres!$C$7:$F$55,$C$6,FALSE) -> 22 | X33: =V33*W33 -> 0 | Z33: =VLOOKUP($B33,Paramètres!$C$7:$F$55,$C$6,FALSE) -> 22 | AA33: =Y33*Z33 -> 0 | AC33: =VLOOKUP($B33,Paramètres!$C$7:$F$55,$C$6,FALSE) -> 22 | AD33: =AB33*AC33 -> 0 | AF33: =VLOOKUP($B33,Paramètres!$C$7:$F$55,$C$6,FALSE) -> 22 | AG33: =AE33*AF33 -> 0 | AI33: =VLOOKUP($B33,Paramètres!$C$7:$F$55,$C$6,FALSE) -> 22 | AJ33: =AH33*AI33 -> 0 | AL33: =VLOOKUP($B33,Paramètres!$C$7:$F$55,$C$6,FALSE) -> 22 | AM33: =AK33*AL33 -> 0 | AN33: =SUM(D33,G33,J33,M33,P33,S33,V33,Y33,AB33,AE33,AH33,AK33) -> 0 | AO33: =VLOOKUP($B33,Paramètres!$C$7:$F$55,$C$6,FALSE) -> 22 | AP33: =SUM(F33,I33,L33,O33,R33,U33,X33,AA33,AD33,AG33,AJ33,AM33) -> 0
B34: =Paramètres!C24 -> Déclaration accident de travail | C34: =IF(AP34>0,"X","") | E34: =VLOOKUP($B34,Paramètres!$C$7:$F$55,$C$6,FALSE) -> 30 | F34: =D34*E34 -> 0 | H34: =VLOOKUP($B34,Paramètres!$C$7:$F$55,$C$6,FALSE) -> 30 | I34: =G34*H34 -> 0 | K34: =VLOOKUP($B34,Paramètres!$C$7:$F$55,$C$6,FALSE) -> 30 | L34: =J34*K34 -> 0 | N34: =VLOOKUP($B34,Paramètres!$C$7:$F$55,$C$6,FALSE) -> 30 | O34: =M34*N34 -> 0 | Q34: =VLOOKUP($B34,Paramètres!$C$7:$F$55,$C$6,FALSE) -> 30 | R34: =P34*Q34 -> 0 | T34: =VLOOKUP($B34,Paramètres!$C$7:$F$55,$C$6,FALSE) -> 30 | U34: =S34*T34 -> 0 | W34: =VLOOKUP($B34,Paramètres!$C$7:$F$55,$C$6,FALSE) -> 30 | X34: =V34*W34 -> 0 | Z34: =VLOOKUP($B34,Paramètres!$C$7:$F$55,$C$6,FALSE) -> 30 | AA34: =Y34*Z34 -> 0 | AC34: =VLOOKUP($B34,Paramètres!$C$7:$F$55,$C$6,FALSE) -> 30 | AD34: =AB34*AC34 -> 0 | AF34: =VLOOKUP($B34,Paramètres!$C$7:$F$55,$C$6,FALSE) -> 30 | AG34: =AE34*AF34 -> 0 | AI34: =VLOOKUP($B34,Paramètres!$C$7:$F$55,$C$6,FALSE) -> 30 | AJ34: =AH34*AI34 -> 0 | AL34: =VLOOKUP($B34,Paramètres!$C$7:$F$55,$C$6,FALSE) -> 30 | AM34: =AK34*AL34 -> 0 | AN34: =SUM(D34,G34,J34,M34,P34,S34,V34,Y34,AB34,AE34,AH34,AK34) -> 0 | AO34: =VLOOKUP($B34,Paramètres!$C$7:$F$55,$C$6,FALSE) -> 30 | AP34: =SUM(F34,I34,L34,O34,R34,U34,X34,AA34,AD34,AG34,AJ34,AM34) -> 0
... B42: =Paramètres!C32 -> Courrier salariés / administratif | C42: =IF(AP42>0,"X","") | E42: =VLOOKUP($B42,Paramètres!$C$7:$F$55,$C$6,FALSE) -> 15 | F42: =D42*E42 -> 0 | H42: =VLOOKUP($B42,Paramètres!$C$7:$F$55,$C$6,FALSE) -> 15 | I42: =G42*H42 -> 0 | K42: =VLOOKUP($B42,Paramètres!$C$7:$F$55,$C$6,FALSE) -> 15 | L42: =J42*K42 -> 0 | N42: =VLOOKUP($B42,Paramètres!$C$7:$F$55,$C$6,FALSE) -> 15 | O42: =M42*N42 -> 0 | Q42: =VLOOKUP($B42,Paramètres!$C$7:$F$55,$C$6,FALSE) -> 15 | R42: =P42*Q42 -> 0 | T42: =VLOOKUP($B42,Paramètres!$C$7:$F$55,$C$6,FALSE) -> 15 | U42: =S42*T42 -> 0 | W42: =VLOOKUP($B42,Paramètres!$C$7:$F$55,$C$6,FALSE) -> 15 | X42: =V42*W42 -> 0 | Z42: =VLOOKUP($B42,Paramètres!$C$7:$F$55,$C$6,FALSE) -> 15 | AA42: =Y42*Z42 -> 0 | AC42: =VLOOKUP($B42,Paramètres!$C$7:$F$55,$C$6,FALSE) -> 15 | AD42: =AB42*AC42 -> 0 | AF42: =VLOOKUP($B42,Paramètres!$C$7:$F$55,$C$6,FALSE) -> 15 | AG42: =AE42*AF42 -> 0 | AI42: =VLOOKUP($B42,Paramètres!$C$7:$F$55,$C$6,FALSE) -> 15 | AJ42: =AH42*AI42 -> 0 | AL42: =VLOOKUP($B42,Paramètres!$C$7:$F$55,$C$6,FALSE) -> 15 | AM42: =AK42*AL42 -> 0 | AN42: =SUM(D42,G42,J42,M42,P42,S42,V42,Y42,AB42,AE42,AH42,AK42) -> 0 | AO42: =VLOOKUP($B42,Paramètres!$C$7:$F$55,$C$6,FALSE) -> 15 | AP42: =SUM(F42,I42,L42,O42,R42,U42,X42,AA42,AD42,AG42,AJ42,AM42) -> 0
B43: TOTAL SO2 Social conseil | C43: X | F43: =SUM(F23:F42) -> 0 | I43: =SUM(I23:I42) -> 0 | L43: =SUM(L23:L42) -> 0 | O43: =SUM(O23:O42) -> 0 | R43: =SUM(R23:R42) -> 0 | U43: =SUM(U23:U42) -> 0 | X43: =SUM(X23:X42) -> 0 | AA43: =SUM(AA23:AA42) -> 0 | AD43: =SUM(AD23:AD42) -> 0 | AG43: =SUM(AG23:AG42) -> 0 | AJ43: =SUM(AJ23:AJ42) -> 0 | AM43: =SUM(AM23:AM42) -> 0 | AP43: =SUM(AP23:AP42) -> 0
B44: =Paramètres!C33 -> Licenciement économique individuel | C44: =IF(AP44>0,"X","") | E44: =VLOOKUP($B44,Paramètres!$C$7:$F$55,$C$6,FALSE) -> 650 | F44: =D44*E44 -> 0 | H44: =VLOOKUP($B44,Paramètres!$C$7:$F$55,$C$6,FALSE) -> 650 | I44: =G44*H44 -> 0 | K44: =VLOOKUP($B44,Paramètres!$C$7:$F$55,$C$6,FALSE) -> 650 | L44: =J44*K44 -> 0 | N44: =VLOOKUP($B44,Paramètres!$C$7:$F$55,$C$6,FALSE) -> 650 | O44: =M44*N44 -> 0 | Q44: =VLOOKUP($B44,Paramètres!$C$7:$F$55,$C$6,FALSE) -> 650 | R44: =P44*Q44 -> 0 | T44: =VLOOKUP($B44,Paramètres!$C$7:$F$55,$C$6,FALSE) -> 650 | U44: =S44*T44 -> 0 | W44: =VLOOKUP($B44,Paramètres!$C$7:$F$55,$C$6,FALSE) -> 650 | X44: =V44*W44 -> 0 | Z44: =VLOOKUP($B44,Paramètres!$C$7:$F$55,$C$6,FALSE) -> 650 | AA44: =Y44*Z44 -> 0 | AC44: =VLOOKUP($B44,Paramètres!$C$7:$F$55,$C$6,FALSE) -> 650 | AD44: =AB44*AC44 -> 0 | AF44: =VLOOKUP($B44,Paramètres!$C$7:$F$55,$C$6,FALSE) -> 650 | AG44: =AE44*AF44 -> 0 | AI44: =VLOOKUP($B44,Paramètres!$C$7:$F$55,$C$6,FALSE) -> 650 | AJ44: =AH44*AI44 -> 0 | AL44: =VLOOKUP($B44,Paramètres!$C$7:$F$55,$C$6,FALSE) -> 650 | AM44: =AK44*AL44 -> 0 | AN44: =SUM(D44,G44,J44,M44,P44,S44,V44,Y44,AB44,AE44,AH44,AK44) -> 0 | AO44: =VLOOKUP($B44,Paramètres!$C$7:$F$55,$C$6,FALSE) -> 650 | AP44: =SUM(F44,I44,L44,O44,R44,U44,X44,AA44,AD44,AG44,AJ44,AM44) -> 0
B45: =Paramètres!C34 -> Licenciement économique collectif | C45: =IF(AP45>0,"X","") | E45: =VLOOKUP($B45,Paramètres!$C$7:$F$55,$C$6,FALSE) -> 0 | F45: =D45*E45 -> 0 | H45: =VLOOKUP($B45,Paramètres!$C$7:$F$55,$C$6,FALSE) -> 0 | I45: =G45*H45 -> 0 | K45: =VLOOKUP($B45,Paramètres!$C$7:$F$55,$C$6,FALSE) -> 0 | L45: =J45*K45 -> 0 | N45: =VLOOKUP($B45,Paramètres!$C$7:$F$55,$C$6,FALSE) -> 0 | O45: =M45*N45 -> 0 | Q45: =VLOOKUP($B45,Paramètres!$C$7:$F$55,$C$6,FALSE) -> 0 | R45: =P45*Q45 -> 0 | T45: =VLOOKUP($B45,Paramètres!$C$7:$F$55,$C$6,FALSE) -> 0 | U45: =S45*T45 -> 0 | W45: =VLOOKUP($B45,Paramètres!$C$7:$F$55,$C$6,FALSE) -> 0 | X45: =V45*W45 -> 0 | Z45: =VLOOKUP($B45,Paramètres!$C$7:$F$55,$C$6,FALSE) -> 0 | AA45: =Y45*Z45 -> 0 | AC45: =VLOOKUP($B45,Paramètres!$C$7:$F$55,$C$6,FALSE) -> 0 | AD45: =AB45*AC45 -> 0 | AF45: =VLOOKUP($B45,Paramètres!$C$7:$F$55,$C$6,FALSE) -> 0 | AG45: =AE45*AF45 -> 0 | AI45: =VLOOKUP($B45,Paramètres!$C$7:$F$55,$C$6,FALSE) -> 0 | AJ45: =AH45*AI45 -> 0 | AL45: =VLOOKUP($B45,Paramètres!$C$7:$F$55,$C$6,FALSE) -> 0 | AM45: =AK45*AL45 -> 0 | AN45: =SUM(D45,G45,J45,M45,P45,S45,V45,Y45,AB45,AE45,AH45,AK45) -> 0 | AO45: =VLOOKUP($B45,Paramètres!$C$7:$F$55,$C$6,FALSE) -> 0 | AP45: =SUM(F45,I45,L45,O45,R45,U45,X45,AA45,AD45,AG45,AJ45,AM45) -> 0
B46: =Paramètres!C35 -> Licenciement inaptitude | C46: =IF(AP46>0,"X","") | E46: =VLOOKUP($B46,Paramètres!$C$7:$F$55,$C$6,FALSE) -> 650 | F46: =D46*E46 -> 0 | H46: =VLOOKUP($B46,Paramètres!$C$7:$F$55,$C$6,FALSE) -> 650 | I46: =G46*H46 -> 0 | K46: =VLOOKUP($B46,Paramètres!$C$7:$F$55,$C$6,FALSE) -> 650 | L46: =J46*K46 -> 0 | N46: =VLOOKUP($B46,Paramètres!$C$7:$F$55,$C$6,FALSE) -> 650 | O46: =M46*N46 -> 0 | Q46: =VLOOKUP($B46,Paramètres!$C$7:$F$55,$C$6,FALSE) -> 650 | R46: =P46*Q46 -> 0 | T46: =VLOOKUP($B46,Paramètres!$C$7:$F$55,$C$6,FALSE) -> 650 | U46: =S46*T46 -> 0 | W46: =VLOOKUP($B46,Paramètres!$C$7:$F$55,$C$6,FALSE) -> 650 | X46: =V46*W46 -> 0 | Z46: =VLOOKUP($B46,Paramètres!$C$7:$F$55,$C$6,FALSE) -> 650 | AA46: =Y46*Z46 -> 0 | AC46: =VLOOKUP($B46,Paramètres!$C$7:$F$55,$C$6,FALSE) -> 650 | AD46: =AB46*AC46 -> 0 | AF46: =VLOOKUP($B46,Paramètres!$C$7:$F$55,$C$6,FALSE) -> 650 | AG46: =AE46*AF46 -> 0 | AI46: =VLOOKUP($B46,Paramètres!$C$7:$F$55,$C$6,FALSE) -> 650 | AJ46: =AH46*AI46 -> 0 | AL46: =VLOOKUP($B46,Paramètres!$C$7:$F$55,$C$6,FALSE) -> 650 | AM46: =AK46*AL46 -> 0 | AN46: =SUM(D46,G46,J46,M46,P46,S46,V46,Y46,AB46,AE46,AH46,AK46) -> 0 | AO46: =VLOOKUP($B46,Paramètres!$C$7:$F$55,$C$6,FALSE) -> 650 | AP46: =SUM(F46,I46,L46,O46,R46,U46,X46,AA46,AD46,AG46,AJ46,AM46) -> 0
B47: =Paramètres!C36 -> Licenciement motif personnel | C47: =IF(AP47>0,"X","") | E47: =VLOOKUP($B47,Paramètres!$C$7:$F$55,$C$6,FALSE) -> 550 | F47: =D47*E47 -> 0 | H47: =VLOOKUP($B47,Paramètres!$C$7:$F$55,$C$6,FALSE) -> 550 | I47: =G47*H47 -> 0 | K47: =VLOOKUP($B47,Paramètres!$C$7:$F$55,$C$6,FALSE) -> 550 | L47: =J47*K47 -> 0 | N47: =VLOOKUP($B47,Paramètres!$C$7:$F$55,$C$6,FALSE) -> 550 | O47: =M47*N47 -> 0 | Q47: =VLOOKUP($B47,Paramètres!$C$7:$F$55,$C$6,FALSE) -> 550 | R47: =P47*Q47 -> 0 | T47: =VLOOKUP($B47,Paramètres!$C$7:$F$55,$C$6,FALSE) -> 550 | U47: =S47*T47 -> 0 | W47: =VLOOKUP($B47,Paramètres!$C$7:$F$55,$C$6,FALSE) -> 550 | X47: =V47*W47 -> 0 | Z47: =VLOOKUP($B47,Paramètres!$C$7:$F$55,$C$6,FALSE) -> 550 | AA47: =Y47*Z47 -> 0 | AC47: =VLOOKUP($B47,Paramètres!$C$7:$F$55,$C$6,FALSE) -> 550 | AD47: =AB47*AC47 -> 0 | AF47: =VLOOKUP($B47,Paramètres!$C$7:$F$55,$C$6,FALSE) -> 550 | AG47: =AE47*AF47 -> 0 | AI47: =VLOOKUP($B47,Paramètres!$C$7:$F$55,$C$6,FALSE) -> 550 | AJ47: =AH47*AI47 -> 0 | AL47: =VLOOKUP($B47,Paramètres!$C$7:$F$55,$C$6,FALSE) -> 550 | AM47: =AK47*AL47 -> 0 | AN47: =SUM(D47,G47,J47,M47,P47,S47,V47,Y47,AB47,AE47,AH47,AK47) -> 0 | AO47: =VLOOKUP($B47,Paramètres!$C$7:$F$55,$C$6,FALSE) -> 550 | AP47: =SUM(F47,I47,L47,O47,R47,U47,X47,AA47,AD47,AG47,AJ47,AM47) -> 0
B48: =Paramètres!C37 -> Licenciement fin de chantier | C48: =IF(AP48>0,"X","") | E48: =VLOOKUP($B48,Paramètres!$C$7:$F$55,$C$6,FALSE) -> 250 | F48: =D48*E48 -> 0 | H48: =VLOOKUP($B48,Paramètres!$C$7:$F$55,$C$6,FALSE) -> 250 | I48: =G48*H48 -> 0 | K48: =VLOOKUP($B48,Paramètres!$C$7:$F$55,$C$6,FALSE) -> 250 | L48: =J48*K48 -> 0 | N48: =VLOOKUP($B48,Paramètres!$C$7:$F$55,$C$6,FALSE) -> 250 | O48: =M48*N48 -> 0 | Q48: =VLOOKUP($B48,Paramètres!$C$7:$F$55,$C$6,FALSE) -> 250 | R48: =P48*Q48 -> 0 | T48: =VLOOKUP($B48,Paramètres!$C$7:$F$55,$C$6,FALSE) -> 250 | U48: =S48*T48 -> 0 | W48: =VLOOKUP($B48,Paramètres!$C$7:$F$55,$C$6,FALSE) -> 250 | X48: =V48*W48 -> 0 | Z48: =VLOOKUP($B48,Paramètres!$C$7:$F$55,$C$6,FALSE) -> 250 | AA48: =Y48*Z48 -> 0 | AC48: =VLOOKUP($B48,Paramètres!$C$7:$F$55,$C$6,FALSE) -> 250 | AD48: =AB48*AC48 -> 0 | AF48: =VLOOKUP($B48,Paramètres!$C$7:$F$55,$C$6,FALSE) -> 250 | AG48: =AE48*AF48 -> 0 | AI48: =VLOOKUP($B48,Paramètres!$C$7:$F$55,$C$6,FALSE) -> 250 | AJ48: =AH48*AI48 -> 0 | AL48: =VLOOKUP($B48,Paramètres!$C$7:$F$55,$C$6,FALSE) -> 250 | AM48: =AK48*AL48 -> 0 | AN48: =SUM(D48,G48,J48,M48,P48,S48,V48,Y48,AB48,AE48,AH48,AK48) -> 0 | AO48: =VLOOKUP($B48,Paramètres!$C$7:$F$55,$C$6,FALSE) -> 250 | AP48: =SUM(F48,I48,L48,O48,R48,U48,X48,AA48,AD48,AG48,AJ48,AM48) -> 0
B49: =Paramètres!C38 -> Rupture conventionnelle | C49: =IF(AP49>0,"X","") | E49: =VLOOKUP($B49,Paramètres!$C$7:$F$55,$C$6,FALSE) -> 450 | F49: =D49*E49 -> 0 | H49: =VLOOKUP($B49,Paramètres!$C$7:$F$55,$C$6,FALSE) -> 450 | I49: =G49*H49 -> 0 | K49: =VLOOKUP($B49,Paramètres!$C$7:$F$55,$C$6,FALSE) -> 450 | L49: =J49*K49 -> 0 | N49: =VLOOKUP($B49,Paramètres!$C$7:$F$55,$C$6,FALSE) -> 450 | O49: =M49*N49 -> 0 | Q49: =VLOOKUP($B49,Paramètres!$C$7:$F$55,$C$6,FALSE) -> 450 | R49: =P49*Q49 -> 0 | T49: =VLOOKUP($B49,Paramètres!$C$7:$F$55,$C$6,FALSE) -> 450 | U49: =S49*T49 -> 0 | W49: =VLOOKUP($B49,Paramètres!$C$7:$F$55,$C$6,FALSE) -> 450 | X49: =V49*W49 -> 0 | Z49: =VLOOKUP($B49,Paramètres!$C$7:$F$55,$C$6,FALSE) -> 450 | AA49: =Y49*Z49 -> 0 | AC49: =VLOOKUP($B49,Paramètres!$C$7:$F$55,$C$6,FALSE) -> 450 | AD49: =AB49*AC49 -> 0 | AF49: =VLOOKUP($B49,Paramètres!$C$7:$F$55,$C$6,FALSE) -> 450 | AG49: =AE49*AF49 -> 0 | AI49: =VLOOKUP($B49,Paramètres!$C$7:$F$55,$C$6,FALSE) -> 450 | AJ49: =AH49*AI49 -> 0 | AL49: =VLOOKUP($B49,Paramètres!$C$7:$F$55,$C$6,FALSE) -> 450 | AM49: =AK49*AL49 -> 0 | AN49: =SUM(D49,G49,J49,M49,P49,S49,V49,Y49,AB49,AE49,AH49,AK49) -> 0 | AO49: =VLOOKUP($B49,Paramètres!$C$7:$F$55,$C$6,FALSE) -> 450 | AP49: =SUM(F49,I49,L49,O49,R49,U49,X49,AA49,AD49,AG49,AJ49,AM49) -> 0
B50: =Paramètres!C39 -> Procédure de mise à pied | C50: =IF(AP50>0,"X","") | E50: =VLOOKUP($B50,Paramètres!$C$7:$F$55,$C$6,FALSE) -> 250 | F50: =D50*E50 -> 0 | H50: =VLOOKUP($B50,Paramètres!$C$7:$F$55,$C$6,FALSE) -> 250 | I50: =G50*H50 -> 0 | K50: =VLOOKUP($B50,Paramètres!$C$7:$F$55,$C$6,FALSE) -> 250 | L50: =J50*K50 -> 0 | N50: =VLOOKUP($B50,Paramètres!$C$7:$F$55,$C$6,FALSE) -> 250 | O50: =M50*N50 -> 0 | Q50: =VLOOKUP($B50,Paramètres!$C$7:$F$55,$C$6,FALSE) -> 250 | R50: =P50*Q50 -> 0 | T50: =VLOOKUP($B50,Paramètres!$C$7:$F$55,$C$6,FALSE) -> 250 | U50: =S50*T50 -> 0 | W50: =VLOOKUP($B50,Paramètres!$C$7:$F$55,$C$6,FALSE) -> 250 | X50: =V50*W50 -> 0 | Z50: =VLOOKUP($B50,Paramètres!$C$7:$F$55,$C$6,FALSE) -> 250 | AA50: =Y50*Z50 -> 0 | AC50: =VLOOKUP($B50,Paramètres!$C$7:$F$55,$C$6,FALSE) -> 250 | AD50: =AB50*AC50 -> 0 | AF50: =VLOOKUP($B50,Paramètres!$C$7:$F$55,$C$6,FALSE) -> 250 | AG50: =AE50*AF50 -> 0 | AI50: =VLOOKUP($B50,Paramètres!$C$7:$F$55,$C$6,FALSE) -> 250 | AJ50: =AH50*AI50 -> 0 | AL50: =VLOOKUP($B50,Paramètres!$C$7:$F$55,$C$6,FALSE) -> 250 | AM50: =AK50*AL50 -> 0 | AN50: =SUM(D50,G50,J50,M50,P50,S50,V50,Y50,AB50,AE50,AH50,AK50) -> 0 | AO50: =VLOOKUP($B50,Paramètres!$C$7:$F$55,$C$6,FALSE) -> 250 | AP50: =SUM(F50,I50,L50,O50,R50,U50,X50,AA50,AD50,AG50,AJ50,AM50) -> 0
B51: =Paramètres!C40 -> Assist. mise en place activ. partielle | C51: =IF(AP51>0,"X","") | E51: =VLOOKUP($B51,Paramètres!$C$7:$F$55,$C$6,FALSE) -> 40 | F51: =D51*E51 -> 0 | H51: =VLOOKUP($B51,Paramètres!$C$7:$F$55,$C$6,FALSE) -> 40 | I51: =G51*H51 -> 0 | K51: =VLOOKUP($B51,Paramètres!$C$7:$F$55,$C$6,FALSE) -> 40 | L51: =J51*K51 -> 0 | N51: =VLOOKUP($B51,Paramètres!$C$7:$F$55,$C$6,FALSE) -> 40 | O51: =M51*N51 -> 0 | Q51: =VLOOKUP($B51,Paramètres!$C$7:$F$55,$C$6,FALSE) -> 40 | R51: =P51*Q51 -> 0 | T51: =VLOOKUP($B51,Paramètres!$C$7:$F$55,$C$6,FALSE) -> 40 | U51: =S51*T51 -> 0 | W51: =VLOOKUP($B51,Paramètres!$C$7:$F$55,$C$6,FALSE) -> 40 | X51: =V51*W51 -> 0 | Z51: =VLOOKUP($B51,Paramètres!$C$7:$F$55,$C$6,FALSE) -> 40 | AA51: =Y51*Z51 -> 0 | AC51: =VLOOKUP($B51,Paramètres!$C$7:$F$55,$C$6,FALSE) -> 40 | AD51: =AB51*AC51 -> 0 | AF51: =VLOOKUP($B51,Paramètres!$C$7:$F$55,$C$6,FALSE) -> 40 | AG51: =AE51*AF51 -> 0 | AI51: =VLOOKUP($B51,Paramètres!$C$7:$F$55,$C$6,FALSE) -> 40 | AJ51: =AH51*AI51 -> 0 | AL51: =VLOOKUP($B51,Paramètres!$C$7:$F$55,$C$6,FALSE) -> 40 | AM51: =AK51*AL51 -> 0 | AN51: =SUM(D51,G51,J51,M51,P51,S51,V51,Y51,AB51,AE51,AH51,AK51) -> 0 | AO51: =VLOOKUP($B51,Paramètres!$C$7:$F$55,$C$6,FALSE) -> 40 | AP51: =SUM(F51,I51,L51,O51,R51,U51,X51,AA51,AD51,AG51,AJ51,AM51) -> 0
B52: =Paramètres!C41 -> Assist. état mensuel activ. partielle | C52: =IF(AP52>0,"X","") | E52: =VLOOKUP($B52,Paramètres!$C$7:$F$55,$C$6,FALSE) -> 35 | F52: =D52*E52 -> 0 | H52: =VLOOKUP($B52,Paramètres!$C$7:$F$55,$C$6,FALSE) -> 35 | I52: =G52*H52 -> 0 | K52: =VLOOKUP($B52,Paramètres!$C$7:$F$55,$C$6,FALSE) -> 35 | L52: =J52*K52 -> 0 | N52: =VLOOKUP($B52,Paramètres!$C$7:$F$55,$C$6,FALSE) -> 35 | O52: =M52*N52 -> 0 | Q52: =VLOOKUP($B52,Paramètres!$C$7:$F$55,$C$6,FALSE) -> 35 | R52: =P52*Q52 -> 0 | T52: =VLOOKUP($B52,Paramètres!$C$7:$F$55,$C$6,FALSE) -> 35 | U52: =S52*T52 -> 0 | W52: =VLOOKUP($B52,Paramètres!$C$7:$F$55,$C$6,FALSE) -> 35 | X52: =V52*W52 -> 0 | Z52: =VLOOKUP($B52,Paramètres!$C$7:$F$55,$C$6,FALSE) -> 35 | AA52: =Y52*Z52 -> 0 | AC52: =VLOOKUP($B52,Paramètres!$C$7:$F$55,$C$6,FALSE) -> 35 | AD52: =AB52*AC52 -> 0 | AF52: =VLOOKUP($B52,Paramètres!$C$7:$F$55,$C$6,FALSE) -> 35 | AG52: =AE52*AF52 -> 0 | AI52: =VLOOKUP($B52,Paramètres!$C$7:$F$55,$C$6,FALSE) -> 35 | AJ52: =AH52*AI52 -> 0 | AL52: =VLOOKUP($B52,Paramètres!$C$7:$F$55,$C$6,FALSE) -> 35 | AM52: =AK52*AL52 -> 0 | AN52: =SUM(D52,G52,J52,M52,P52,S52,V52,Y52,AB52,AE52,AH52,AK52) -> 0 | AO52: =VLOOKUP($B52,Paramètres!$C$7:$F$55,$C$6,FALSE) -> 35 | AP52: =SUM(F52,I52,L52,O52,R52,U52,X52,AA52,AD52,AG52,AJ52,AM52) -> 0
B53: =Paramètres!C42 -> Assist. contrôle URSSAF | C53: =IF(AP53>0,"X","") | E53: =VLOOKUP($B53,Paramètres!$C$7:$F$55,$C$6,FALSE) -> 0 | F53: =D53*E53 -> 0 | H53: =VLOOKUP($B53,Paramètres!$C$7:$F$55,$C$6,FALSE) -> 0 | I53: =G53*H53 -> 0 | K53: =VLOOKUP($B53,Paramètres!$C$7:$F$55,$C$6,FALSE) -> 0 | L53: =J53*K53 -> 0 | N53: =VLOOKUP($B53,Paramètres!$C$7:$F$55,$C$6,FALSE) -> 0 | O53: =M53*N53 -> 0 | Q53: =VLOOKUP($B53,Paramètres!$C$7:$F$55,$C$6,FALSE) -> 0 | R53: =P53*Q53 -> 0 | T53: =VLOOKUP($B53,Paramètres!$C$7:$F$55,$C$6,FALSE) -> 0 | U53: =S53*T53 -> 0 | W53: =VLOOKUP($B53,Paramètres!$C$7:$F$55,$C$6,FALSE) -> 0 | X53: =V53*W53 -> 0 | Z53: =VLOOKUP($B53,Paramètres!$C$7:$F$55,$C$6,FALSE) -> 0 | AA53: =Y53*Z53 -> 0 | AC53: =VLOOKUP($B53,Paramètres!$C$7:$F$55,$C$6,FALSE) -> 0 | AD53: =AB53*AC53 -> 0 | AF53: =VLOOKUP($B53,Paramètres!$C$7:$F$55,$C$6,FALSE) -> 0 | AG53: =AE53*AF53 -> 0 | AI53: =VLOOKUP($B53,Paramètres!$C$7:$F$55,$C$6,FALSE) -> 0 | AJ53: =AH53*AI53 -> 0 | AL53: =VLOOKUP($B53,Paramètres!$C$7:$F$55,$C$6,FALSE) -> 0 | AM53: =AK53*AL53 -> 0 | AN53: =SUM(D53,G53,J53,M53,P53,S53,V53,Y53,AB53,AE53,AH53,AK53) -> 0 | AO53: =VLOOKUP($B53,Paramètres!$C$7:$F$55,$C$6,FALSE) -> 0 | AP53: =SUM(F53,I53,L53,O53,R53,U53,X53,AA53,AD53,AG53,AJ53,AM53) -> 0
B54: =Paramètres!C43 -> Audit social complet | C54: =IF(AP54>0,"X","") | E54: =VLOOKUP($B54,Paramètres!$C$7:$F$55,$C$6,FALSE) -> 0 | F54: =D54*E54 -> 0 | H54: =VLOOKUP($B54,Paramètres!$C$7:$F$55,$C$6,FALSE) -> 0 | I54: =G54*H54 -> 0 | K54: =VLOOKUP($B54,Paramètres!$C$7:$F$55,$C$6,FALSE) -> 0 | L54: =J54*K54 -> 0 | N54: =VLOOKUP($B54,Paramètres!$C$7:$F$55,$C$6,FALSE) -> 0 | O54: =M54*N54 -> 0 | Q54: =VLOOKUP($B54,Paramètres!$C$7:$F$55,$C$6,FALSE) -> 0 | R54: =P54*Q54 -> 0 | T54: =VLOOKUP($B54,Paramètres!$C$7:$F$55,$C$6,FALSE) -> 0 | U54: =S54*T54 -> 0 | W54: =VLOOKUP($B54,Paramètres!$C$7:$F$55,$C$6,FALSE) -> 0 | X54: =V54*W54 -> 0 | Z54: =VLOOKUP($B54,Paramètres!$C$7:$F$55,$C$6,FALSE) -> 0 | AA54: =Y54*Z54 -> 0 | AC54: =VLOOKUP($B54,Paramètres!$C$7:$F$55,$C$6,FALSE) -> 0 | AD54: =AB54*AC54 -> 0 | AF54: =VLOOKUP($B54,Paramètres!$C$7:$F$55,$C$6,FALSE) -> 0 | AG54: =AE54*AF54 -> 0 | AI54: =VLOOKUP($B54,Paramètres!$C$7:$F$55,$C$6,FALSE) -> 0 | AJ54: =AH54*AI54 -> 0 | AL54: =VLOOKUP($B54,Paramètres!$C$7:$F$55,$C$6,FALSE) -> 0 | AM54: =AK54*AL54 -> 0 | AN54: =SUM(D54,G54,J54,M54,P54,S54,V54,Y54,AB54,AE54,AH54,AK54) -> 0 | AO54: =VLOOKUP($B54,Paramètres!$C$7:$F$55,$C$6,FALSE) -> 0 | AP54: =SUM(F54,I54,L54,O54,R54,U54,X54,AA54,AD54,AG54,AJ54,AM54) -> 0
B55: =Paramètres!C44 -> Assist. réalisation paye sur site | C55: =IF(AP55>0,"X","") | E55: =VLOOKUP($B55,Paramètres!$C$7:$F$55,$C$6,FALSE) -> 0 | F55: =D55*E55 -> 0 | H55: =VLOOKUP($B55,Paramètres!$C$7:$F$55,$C$6,FALSE) -> 0 | I55: =G55*H55 -> 0 | K55: =VLOOKUP($B55,Paramètres!$C$7:$F$55,$C$6,FALSE) -> 0 | L55: =J55*K55 -> 0 | N55: =VLOOKUP($B55,Paramètres!$C$7:$F$55,$C$6,FALSE) -> 0 | O55: =M55*N55 -> 0 | Q55: =VLOOKUP($B55,Paramètres!$C$7:$F$55,$C$6,FALSE) -> 0 | R55: =P55*Q55 -> 0 | T55: =VLOOKUP($B55,Paramètres!$C$7:$F$55,$C$6,FALSE) -> 0 | U55: =S55*T55 -> 0 | W55: =VLOOKUP($B55,Paramètres!$C$7:$F$55,$C$6,FALSE) -> 0 | X55: =V55*W55 -> 0 | Z55: =VLOOKUP($B55,Paramètres!$C$7:$F$55,$C$6,FALSE) -> 0 | AA55: =Y55*Z55 -> 0 | AC55: =VLOOKUP($B55,Paramètres!$C$7:$F$55,$C$6,FALSE) -> 0 | AD55: =AB55*AC55 -> 0 | AF55: =VLOOKUP($B55,Paramètres!$C$7:$F$55,$C$6,FALSE) -> 0 | AG55: =AE55*AF55 -> 0 | AI55: =VLOOKUP($B55,Paramètres!$C$7:$F$55,$C$6,FALSE) -> 0 | AJ55: =AH55*AI55 -> 0 | AL55: =VLOOKUP($B55,Paramètres!$C$7:$F$55,$C$6,FALSE) -> 0 | AM55: =AK55*AL55 -> 0 | AN55: =SUM(D55,G55,J55,M55,P55,S55,V55,Y55,AB55,AE55,AH55,AK55) -> 0 | AO55: =VLOOKUP($B55,Paramètres!$C$7:$F$55,$C$6,FALSE) -> 0 | AP55: =SUM(F55,I55,L55,O55,R55,U55,X55,AA55,AD55,AG55,AJ55,AM55) -> 0
... B66: =Paramètres!C55 -> Document unique risque professionnels | C66: =IF(AP66>0,"X","") | E66: =VLOOKUP($B66,Paramètres!$C$7:$F$55,$C$6,FALSE) -> 0 | F66: =D66*E66 -> 0 | H66: =VLOOKUP($B66,Paramètres!$C$7:$F$55,$C$6,FALSE) -> 0 | I66: =G66*H66 -> 0 | K66: =VLOOKUP($B66,Paramètres!$C$7:$F$55,$C$6,FALSE) -> 0 | L66: =J66*K66 -> 0 | N66: =VLOOKUP($B66,Paramètres!$C$7:$F$55,$C$6,FALSE) -> 0 | O66: =M66*N66 -> 0 | Q66: =VLOOKUP($B66,Paramètres!$C$7:$F$55,$C$6,FALSE) -> 0 | R66: =P66*Q66 -> 0 | T66: =VLOOKUP($B66,Paramètres!$C$7:$F$55,$C$6,FALSE) -> 0 | U66: =S66*T66 -> 0 | W66: =VLOOKUP($B66,Paramètres!$C$7:$F$55,$C$6,FALSE) -> 0 | X66: =V66*W66 -> 0 | Z66: =VLOOKUP($B66,Paramètres!$C$7:$F$55,$C$6,FALSE) -> 0 | AA66: =Y66*Z66 -> 0 | AC66: =VLOOKUP($B66,Paramètres!$C$7:$F$55,$C$6,FALSE) -> 0 | AD66: =AB66*AC66 -> 0 | AF66: =VLOOKUP($B66,Paramètres!$C$7:$F$55,$C$6,FALSE) -> 0 | AG66: =AE66*AF66 -> 0 | AI66: =VLOOKUP($B66,Paramètres!$C$7:$F$55,$C$6,FALSE) -> 0 | AJ66: =AH66*AI66 -> 0 | AL66: =VLOOKUP($B66,Paramètres!$C$7:$F$55,$C$6,FALSE) -> 0 | AM66: =AK66*AL66 -> 0 | AN66: =SUM(D66,G66,J66,M66,P66,S66,V66,Y66,AB66,AE66,AH66,AK66) -> 0 | AO66: =VLOOKUP($B66,Paramètres!$C$7:$F$55,$C$6,FALSE) -> 0 | AP66: =SUM(F66,I66,L66,O66,R66,U66,X66,AA66,AD66,AG66,AJ66,AM66) -> 0
B67: TOTAL MISSIONS EXCEPTIONNELLES | F67: =SUM(F44:F66) -> 0 | I67: =SUM(I44:I66) -> 0 | L67: =SUM(L44:L66) -> 0 | O67: =SUM(O44:O66) -> 0 | R67: =SUM(R44:R66) -> 0 | U67: =SUM(U44:U66) -> 0 | X67: =SUM(X44:X66) -> 0 | AA67: =SUM(AA44:AA66) -> 0 | AD67: =SUM(AD44:AD66) -> 0 | AG67: =SUM(AG44:AG66) -> 0 | AJ67: =SUM(AJ44:AJ66) -> 0 | AM67: =SUM(AM44:AM66) -> 0 | AP67: =SUM(AP44:AP66) -> 0
B69: Régul N-1 | C69: X
B70: TOTAL GENERAL | C70: X | F70: =F22+F43+F67 -> 101.5 | I70: =I22+I43+I67 -> 21.5 | L70: =L22+L43+L67 -> 21.5 | O70: =O22+O43+O67 -> 21.5 | R70: =R22+R43+R67 -> 21.5 | U70: =U22+U43+U67 -> 21.5 | X70: =X22+X43+X67 -> 0 | AA70: =AA22+AA43+AA67 -> 0 | AD70: =AD22+AD43+AD67 -> 0 | AG70: =AG22+AG43+AG67 -> 0 | AJ70: =AJ22+AJ43+AJ67 -> 0 | AM70: =AM22+AM43+AM67 -> 0 | AP70: =SUM(F70,I70,L70,O70,R70,U70,X70,AA70,AD70,AG70,AJ70,AM70) -> 209
B71: FACTURATION | C71: X | AP71: =SUM(F71,I71,L71,O71,R71,U71,X71,AA71,AD71,AG71,AJ71,AM71) -> 0
B72: REDUCTION | C72: X | AP72: =SUM(F72,I72,L72,O72,R72,U72,X72,AA72,AD72,AG72,AJ72,AM72) -> 0
B73: REGUL | C73: X | F73: =F69+F70-F71-F72 -> 101.5 | I73: =F73+I70-I71-I72 -> 123 | L73: =I73+L70-L71-L72 -> 144.5 | O73: =L73+O70-O71-O72 -> 166 | R73: =O73+R70-R71-R72 -> 187.5 | U73: =R73+U70-U71-U72 -> 209 | X73: =U73+X70-X71-X72 -> 209 | AA73: =X73+AA70-AA71-AA72 -> 209 | AD73: =AA73+AD70-AD71-AD72 -> 209 | AG73: =AD73+AG70-AG71-AG72 -> 209 | AJ73: =AG73+AJ70-AJ71-AJ72 -> 209 | AM73: =AJ73+AM70-AM71-AM72 -> 209

Sheet ARENY SASU (LES ANGLES)
B2: Nom client : | D2: =MID(CELL("nomfichier",A1),FIND("]",CELL("nomfichier",A1))+1,32) -> ARENY SASU (LES ANGLES)
B3: N° client : | D3: 00262
B4: Collaborateur : | D4: Clara Bouneggar
B5: Site | D5: Perpignan
B6: Effectif moyen prévu : | C6: =IF(D6=Paramètres!D7,2,IF(D6=Paramètres!E7,3,IF(D6=Paramètres!F7,4,"erreur"))) -> 4 | D6: Au-delà de 10 salariés
B7: =CONCATENATE(IF(#REF!=Paramètres!$J$17,Paramètres!$J$17,$D$4),"_",IF(#REF!=Paramètres!$H$12,Paramètres!$H$12,$D$5)) -> #REF!
B8: Informations utiles au dossier : | E8: TARIF PREFERENTIEL 15.5€/BULLETIN
E9: Estimation indemn départ : Mr BACHTOLD
B15: Missions | D15: Janvier | G15: Février | J15: Mars | M15: Avril | P15: Mai | S15: Juin | V15: Juillet | Y15: Août | AB15: Septembre | AE15: Octobre | AH15: Novembre | AK15: Décembre | AN15: TOTAL
D16: Qté | E16: P.U. | F16: Montant | G16: Qté | H16: P.U. | I16: Montant | J16: Qté | K16: P.U. | L16: Montant | M16: Qté | N16: P.U. | O16: Montant | P16: Qté | Q16: P.U. | R16: Montant | S16: Qté | T16: P.U. | U16: Montant | V16: Qté | W16: P.U. | X16: Montant | Y16: Qté | Z16: P.U. | AA16: Montant | AB16: Qté | AC16: P.U. | AD16: Montant | AE16: Qté | AF16: P.U. | AG16: Montant | AH16: Qté | AI16: P.U. | AJ16: Montant | AK16: Qté | AL16: P.U. | AM16: Montant | AN16: Qté | AO16: P.U. | AP16: Montant
B17: =Paramètres!C8 -> Bulletins (tarif unitaire) | C17: =IF(AP17>0,"X","") -> X | D17: 17 | E17: =VLOOKUP($B17,Paramètres!$C$7:$F$55,$C$6,FALSE) -> 15.5 | F17: =IF(ISNUMBER(E17),D17*E17,0) -> 263.5 | G17: 17 | H17: =VLOOKUP($B17,Paramètres!$C$7:$F$55,$C$6,FALSE) -> 15.5 | I17: =G17*H17 -> 263.5 | J17: 18 | K17: =VLOOKUP($B17,Paramètres!$C$7:$F$55,$C$6,FALSE) -> 15.5 | L17: =J17*K17 -> 279 | M17: 19 | N17: =VLOOKUP($B17,Paramètres!$C$7:$F$55,$C$6,FALSE) -> 15.5 | O17: =M17*N17 -> 294.5 | P17: 19 | Q17: =VLOOKUP($B17,Paramètres!$C$7:$F$55,$C$6,FALSE) -> 15.5 | R17: =P17*Q17 -> 294.5 | S17: 18 | T17: =VLOOKUP($B17,Paramètres!$C$7:$F$55,$C$6,FALSE) -> 15.5 | U17: =S17*T17 -> 279 | W17: =VLOOKUP($B17,Paramètres!$C$7:$F$55,$C$6,FALSE) -> 15.5 | X17: =V17*W17 -> 0 | Z17: =VLOOKUP($B17,Paramètres!$C$7:$F$55,$C$6,FALSE) -> 15.5 | AA17: =Y17*Z17 -> 0 | AC17: =VLOOKUP($B17,Paramètres!$C$7:$F$55,$C$6,FALSE) -> 15.5 | AD17: =AB17*AC17 -> 0 | AF17: =VLOOKUP($B17,Paramètres!$C$7:$F$55,$C$6,FALSE) -> 15.5 | AG17: =AE17*AF17 -> 0 | AI17: =VLOOKUP($B17,Paramètres!$C$7:$F$55,$C$6,FALSE) -> 15.5 | AJ17: =AH17*AI17 -> 0 | AL17: =VLOOKUP($B17,Paramètres!$C$7:$F$55,$C$6,FALSE) -> 15.5 | AM17: =AK17*AL17 -> 0 | AN17: =SUM(D17,G17,J17,M17,P17,S17,V17,Y17,AB17,AE17,AH17,AK17) -> 108 | AO17: =VLOOKUP($B17,Paramètres!$C$7:$F$55,$C$6,FALSE) -> 15.5 | AP17: =SUM(F17,I17,L17,O17,R17,U17,X17,AA17,AD17,AG17,AJ17,AM17) -> 1674
B18: =Paramètres!C9 -> Bulletins refaits (tarif unitaire) | C18: =IF(AP18>0,"X","") | E18: =VLOOKUP($B18,Paramètres!$C$7:$F$55,$C$6,FALSE) -> 7.75 | F18: =IF(ISNUMBER(E18),D18*E18,0) -> 0 | H18: =VLOOKUP($B18,Paramètres!$C$7:$F$55,$C$6,FALSE) -> 7.75 | I18: =G18*H18 -> 0 | K18: =VLOOKUP($B18,Paramètres!$C$7:$F$55,$C$6,FALSE) -> 7.75 | L18: =J18*K18 -> 0 | N18: =VLOOKUP($B18,Paramètres!$C$7:$F$55,$C$6,FALSE) -> 7.75 | O18: =M18*N18 -> 0 | Q18: =VLOOKUP($B18,Paramètres!$C$7:$F$55,$C$6,FALSE) -> 7.75 | R18: =P18*Q18 -> 0 | T18: =VLOOKUP($B18,Paramètres!$C$7:$F$55,$C$6,FALSE) -> 7.75 | U18: =S18*T18 -> 0 | W18: =VLOOKUP($B18,Paramètres!$C$7:$F$55,$C$6,FALSE) -> 7.75 | X18: =V18*W18 -> 0 | Z18: =VLOOKUP($B18,Paramètres!$C$7:$F$55,$C$6,FALSE) -> 7.75 | AA18: =Y18*Z18 -> 0 | AC18: =VLOOKUP($B18,Paramètres!$C$7:$F$55,$C$6,FALSE) -> 7.75 | AD18: =AB18*AC18 -> 0 | AF18: =VLOOKUP($B18,Paramètres!$C$7:$F$55,$C$6,FALSE) -> 7.75 | AG18: =AE18*AF18 -> 0 | AI18: =VLOOKUP($B18,Paramètres!$C$7:$F$55,$C$6,FALSE) -> 7.75 | AJ18: =AH18*AI18 -> 0 | AL18: =VLOOKUP($B18,Paramètres!$C$7:$F$55,$C$6,FALSE) -> 7.75 | AM18: =AK18*AL18 -> 0 | AN18: =SUM(D18,G18,J18,M18,P18,S18,V18,Y18,AB18,AE18,AH18,AK18) -> 0 | AO18: =VLOOKUP($B18,Paramètres!$C$7:$F$55,$C$6,FALSE) -> 7.75 | AP18: =SUM(F18,I18,L18,O18,R18,U18,X18,AA18,AD18,AG18,AJ18,AM18) -> 0
B19: =Paramètres!C10 -> Forfait gestion sociale | C19: =IF(AP19>0,"X","") -> X | D19: 1 | E19: =VLOOKUP($B19,Paramètres!$C$7:$F$55,$C$6,FALSE) -> 150 | F19: =IF(ISNUMBER(E19),D19*E19,0) -> 150 | H19: =VLOOKUP($B19,Paramètres!$C$7:$F$55,$C$6,FALSE) -> 150 | I19: =G19*H19 -> 0 | K19: =VLOOKUP($B19,Paramètres!$C$7:$F$55,$C$6,FALSE) -> 150 | L19: =J19*K19 -> 0 | N19: =VLOOKUP($B19,Paramètres!$C$7:$F$55,$C$6,FALSE) -> 150 | O19: =M19*N19 -> 0 | Q19: =VLOOKUP($B19,Paramètres!$C$7:$F$55,$C$6,FALSE) -> 150 | R19: =P19*Q19 -> 0 | T19: =VLOOKUP($B19,Paramètres!$C$7:$F$55,$C$6,FALSE) -> 150 | U19: =S19*T19 -> 0 | W19: =VLOOKUP($B19,Paramètres!$C$7:$F$55,$C$6,FALSE) -> 150 | X19: =V19*W19 -> 0 | Z19: =VLOOKUP($B19,Paramètres!$C$7:$F$55,$C$6,FALSE) -> 150 | AA19: =Y19*Z19 -> 0 | AC19: =VLOOKUP($B19,Paramètres!$C$7:$F$55,$C$6,FALSE) -> 150 | AD19: =AB19*AC19 -> 0 | AF19: =VLOOKUP($B19,Paramètres!$C$7:$F$55,$C$6,FALSE) -> 150 | AG19: =AE19*AF19 -> 0 | AI19: =VLOOKUP($B19,Paramètres!$C$7:$F$55,$C$6,FALSE) -> 150 | AJ19: =AH19*AI19 -> 0 | AL19: =VLOOKUP($B19,Paramètres!$C$7:$F$55,$C$6,FALSE) -> 150 | AM19: =AK19*AL19 -> 0 | AN19: =SUM(D19,G19,J19,M19,P19,S19,V19,Y19,AB19,AE19,AH19,AK19) -> 1 | AO19: =VLOOKUP($B19,Paramètres!$C$7:$F$55,$C$6,FALSE) -> 150 | AP19: =SUM(F19,I19,L19,O19,R19,U19,X19,AA19,AD19,AG19,AJ19,AM19) -> 150
B20: =Paramètres!C11 -> Forfait création | C20: =IF(AP20>0,"X","") | E20: =VLOOKUP($B20,Paramètres!$C$7:$F$55,$C$6,FALSE) -> 90 | F20: =IF(ISNUMBER(E20),D20*E20,0) -> 0 | H20: =VLOOKUP($B20,Paramètres!$C$7:$F$55,$C$6,FALSE) -> 90 | I20: =G20*H20 -> 0 | K20: =VLOOKUP($B20,Paramètres!$C$7:$F$55,$C$6,FALSE) -> 90 | L20: =J20*K20 -> 0 | N20: =VLOOKUP($B20,Paramètres!$C$7:$F$55,$C$6,FALSE) -> 90 | O20: =M20*N20 -> 0 | Q20: =VLOOKUP($B20,Paramètres!$C$7:$F$55,$C$6,FALSE) -> 90 | R20: =P20*Q20 -> 0 | T20: =VLOOKUP($B20,Paramètres!$C$7:$F$55,$C$6,FALSE) -> 90 | U20: =S20*T20 -> 0 | W20: =VLOOKUP($B20,Paramètres!$C$7:$F$55,$C$6,FALSE) -> 90 | X20: =V20*W20 -> 0 | Z20: =VLOOKUP($B20,Paramètres!$C$7:$F$55,$C$6,FALSE) -> 90 | AA20: =Y20*Z20 -> 0 | AC20: =VLOOKUP($B20,Paramètres!$C$7:$F$55,$C$6,FALSE) -> 90 | AD20: =AB20*AC20 -> 0 | AF20: =VLOOKUP($B20,Paramètres!$C$7:$F$55,$C$6,FALSE) -> 90 | AG20: =AE20*AF20 -> 0 | AI20: =VLOOKUP($B20,Paramètres!$C$7:$F$55,$C$6,FALSE) -> 90 | AJ20: =AH20*AI20 -> 0 | AL20: =VLOOKUP($B20,Paramètres!$C$7:$F$55,$C$6,FALSE) -> 90 | AM20: =AK20*AL20 -> 0 | AN20: =SUM(D20,G20,J20,M20,P20,S20,V20,Y20,AB20,AE20,AH20,AK20) -> 0 | AO20: =VLOOKUP($B20,Paramètres!$C$7:$F$55,$C$6,FALSE) -> 90 | AP20: =SUM(F20,I20,L20,O20,R20,U20,X20,AA20,AD20,AG20,AJ20,AM20) -> 0
B21: =Paramètres!C12 -> Forfait reprise | C21: =IF(AP21>0,"X","") | E21: =VLOOKUP($B21,Paramètres!$C$7:$F$55,$C$6,FALSE) -> 300 | F21: =IF(ISNUMBER(E21),D21*E21,0) -> 0 | H21: =VLOOKUP($B21,Paramètres!$C$7:$F$55,$C$6,FALSE) -> 300 | I21: =G21*H21 -> 0 | K21: =VLOOKUP($B21,Paramètres!$C$7:$F$55,$C$6,FALSE) -> 300 | L21: =J21*K21 -> 0 | N21: =VLOOKUP($B21,Paramètres!$C$7:$F$55,$C$6,FALSE) -> 300 | O21: =M21*N21 -> 0 | Q21: =VLOOKUP($B21,Paramètres!$C$7:$F$55,$C$6,FALSE) -> 300 | R21: =P21*Q21 -> 0 | T21: =VLOOKUP($B21,Paramètres!$C$7:$F$55,$C$6,FALSE) -> 300 | U21: =S21*T21 -> 0 | W21: =VLOOKUP($B21,Paramètres!$C$7:$F$55,$C$6,FALSE) -> 300 | X21: =V21*W21 -> 0 | Z21: =VLOOKUP($B21,Paramètres!$C$7:$F$55,$C$6,FALSE) -> 300 | AA21: =Y21*Z21 -> 0 | AC21: =VLOOKUP($B21,Paramètres!$C$7:$F$55,$C$6,FALSE) -> 300 | AD21: =AB21*AC21 -> 0 | AF21: =VLOOKUP($B21,Paramètres!$C$7:$F$55,$C$6,FALSE) -> 300 | AG21: =AE21*AF21 -> 0 | AI21: =VLOOKUP($B21,Paramètres!$C$7:$F$55,$C$6,FALSE) -> 300 | AJ21: =AH21*AI21 -> 0 | AL21: =VLOOKUP($B21,Paramètres!$C$7:$F$55,$C$6,FALSE) -> 300 | AM21: =AK21*AL21 -> 0 | AN21: =SUM(D21,G21,J21,M21,P21,S21,V21,Y21,AB21,AE21,AH21,AK21) -> 0 | AO21: =VLOOKUP($B21,Paramètres!$C$7:$F$55,$C$6,FALSE) -> 300 | AP21: =SUM(F21,I21,L21,O21,R21,U21,X21,AA21,AD21,AG21,AJ21,AM21) -> 0
B22: TOTAL SO1 Mission social | C22: X | F22: =SUM(F17:F21) -> 413.5 | I22: =SUM(I17:I21) -> 263.5 | L22: =SUM(L17:L21) -> 279 | O22: =SUM(O17:O21) -> 294.5 | R22: =SUM(R17:R21) -> 294.5 | U22: =SUM(U17:U21) -> 279 | X22: =SUM(X17:X21) -> 0 | AA22: =SUM(AA17:AA21) -> 0 | AD22: =SUM(AD17:AD21) -> 0 | AG22: =SUM(AG17:AG21) -> 0 | AJ22: =SUM(AJ17:AJ21) -> 0 | AM22: =SUM(AM17:AM21) -> 0 | AP22: =SUM(AP17:AP21) -> 1824
B23: =Paramètres!C13 -> Divers | C23: =IF(AP23>0,"X","") | E23: =VLOOKUP($B23,Paramètres!$C$7:$F$55,$C$6,FALSE) -> 0 | F23: =D23*E23 -> 0 | H23: =VLOOKUP($B23,Paramètres!$C$7:$F$55,$C$6,FALSE) -> 0 | I23: =G23*H23 -> 0 | K23: =VLOOKUP($B23,Paramètres!$C$7:$F$55,$C$6,FALSE) -> 0 | L23: =J23*K23 -> 0 | N23: =VLOOKUP($B23,Paramètres!$C$7:$F$55,$C$6,FALSE) -> 0 | O23: =M23*N23 -> 0 | Q23: =VLOOKUP($B23,Paramètres!$C$7:$F$55,$C$6,FALSE) -> 0 | R23: =P23*Q23 -> 0 | T23: =VLOOKUP($B23,Paramètres!$C$7:$F$55,$C$6,FALSE) -> 0 | U23: =S23*T23 -> 0 | W23: =VLOOKUP($B23,Paramètres!$C$7:$F$55,$C$6,FALSE) -> 0 | X23: =V23*W23 -> 0 | Z23: =VLOOKUP($B23,Paramètres!$C$7:$F$55,$C$6,FALSE) -> 0 | AA23: =Y23*Z23 -> 0 | AC23: =VLOOKUP($B23,Paramètres!$C$7:$F$55,$C$6,FALSE) -> 0 | AD23: =AB23*AC23 -> 0 | AF23: =VLOOKUP($B23,Paramètres!$C$7:$F$55,$C$6,FALSE) -> 0 | AG23: =AE23*AF23 -> 0 | AI23: =VLOOKUP($B23,Paramètres!$C$7:$F$55,$C$6,FALSE) -> 0 | AJ23: =AH23*AI23 -> 0 | AL23: =VLOOKUP($B23,Paramètres!$C$7:$F$55,$C$6,FALSE) -> 0 | AM23: =AK23*AL23 -> 0 | AN23: =SUM(D23,G23,J23,M23,P23,S23,V23,Y23,AB23,AE23,AH23,AK23) -> 0 | AO23: =VLOOKUP($B23,Paramètres!$C$7:$F$55,$C$6,FALSE) -> 0 | AP23: =SUM(F23,I23,L23,O23,R23,U23,X23,AA23,AD23,AG23,AJ23,AM23) -> 0
B24: =Paramètres!C14 -> Lettre de promesse d'embauche | C24: =IF(AP24>0,"X","") | E24: =VLOOKUP($B24,Paramètres!$C$7:$F$55,$C$6,FALSE) -> 20 | F24: =D24*E24 -> 0 | H24: =VLOOKUP($B24,Paramètres!$C$7:$F$55,$C$6,FALSE) -> 20 | I24: =G24*H24 -> 0 | K24: =VLOOKUP($B24,Paramètres!$C$7:$F$55,$C$6,FALSE) -> 20 | L24: =J24*K24 -> 0 | N24: =VLOOKUP($B24,Paramètres!$C$7:$F$55,$C$6,FALSE) -> 20 | O24: =M24*N24 -> 0 | Q24: =VLOOKUP($B24,Paramètres!$C$7:$F$55,$C$6,FALSE) -> 20 | R24: =P24*Q24 -> 0 | T24: =VLOOKUP($B24,Paramètres!$C$7:$F$55,$C$6,FALSE) -> 20 | U24: =S24*T24 -> 0 | W24: =VLOOKUP($B24,Paramètres!$C$7:$F$55,$C$6,FALSE) -> 20 | X24: =V24*W24 -> 0 | Z24: =VLOOKUP($B24,Paramètres!$C$7:$F$55,$C$6,FALSE) -> 20 | AA24: =Y24*Z24 -> 0 | AC24: =VLOOKUP($B24,Paramètres!$C$7:$F$55,$C$6,FALSE) -> 20 | AD24: =AB24*AC24 -> 0 | AF24: =VLOOKUP($B24,Paramètres!$C$7:$F$55,$C$6,FALSE) -> 20 | AG24: =AE24*AF24 -> 0 | AI24: =VLOOKUP($B24,Paramètres!$C$7:$F$55,$C$6,FALSE) -> 20 | AJ24: =AH24*AI24 -> 0 | AL24: =VLOOKUP($B24,Paramètres!$C$7:$F$55,$C$6,FALSE) -> 20 | AM24: =AK24*AL24 -> 0 | AN24: =SUM(D24,G24,J24,M24,P24,S24,V24,Y24,AB24,AE24,AH24,AK24) -> 0 | AO24: =VLOOKUP($B24,Paramètres!$C$7:$F$55,$C$6,FALSE) -> 20 | AP24: =SUM(F24,I24,L24,O24,R24,U24,X24,AA24,AD24,AG24,AJ24,AM24) -> 0
B25: =Paramètres!C15 -> Déclaration préalable à l'embauche | C25: =IF(AP25>0,"X","") -> X | E25: =VLOOKUP($B25,Paramètres!$C$7:$F$55,$C$6,FALSE) -> 10 | F25: =D25*E25 -> 0 | H25: =VLOOKUP($B25,Paramètres!$C$7:$F$55,$C$6,FALSE) -> 10 | I25: =G25*H25 -> 0 | J25: 2 | K25: =VLOOKUP($B25,Paramètres!$C$7:$F$55,$C$6,FALSE) -> 10 | L25: =J25*K25 -> 20 | N25: =VLOOKUP($B25,Paramètres!$C$7:$F$55,$C$6,FALSE) -> 10 | O25: =M25*N25 -> 0 | Q25: =VLOOKUP($B25,Paramètres!$C$7:$F$55,$C$6,FALSE) -> 10 | R25: =P25*Q25 -> 0 | S25: 1 | T25: =VLOOKUP($B25,Paramètres!$C$7:$F$55,$C$6,FALSE) -> 10 | U25: =S25*T25 -> 10 | W25: =VLOOKUP($B25,Paramètres!$C$7:$F$55,$C$6,FALSE) -> 10 | X25: =V25*W25 -> 0 | Z25: =VLOOKUP($B25,Paramètres!$C$7:$F$55,$C$6,FALSE) -> 10 | AA25: =Y25*Z25 -> 0 | AC25: =VLOOKUP($B25,Paramètres!$C$7:$F$55,$C$6,FALSE) -> 10 | AD25: =AB25*AC25 -> 0 | AF25: =VLOOKUP($B25,Paramètres!$C$7:$F$55,$C$6,FALSE) -> 10 | AG25: =AE25*AF25 -> 0 | AI25: =VLOOKUP($B25,Paramètres!$C$7:$F$55,$C$6,FALSE) -> 10 | AJ25: =AH25*AI25 -> 0 | AL25: =VLOOKUP($B25,Paramètres!$C$7:$F$55,$C$6,FALSE) -> 10 | AM25: =AK25*AL25 -> 0 | AN25: =SUM(D25,G25,J25,M25,P25,S25,V25,Y25,AB25,AE25,AH25,AK25) -> 3 | AO25: =VLOOKUP($B25,Paramètres!$C$7:$F$55,$C$6,FALSE) -> 10 | AP25: =SUM(F25,I25,L25,O25,R25,U25,X25,AA25,AD25,AG25,AJ25,AM25) -> 30
B26: =Paramètres!C16 -> Contrat de travail classique | C26: =IF(AP26>0,"X","") | E26: =VLOOKUP($B26,Paramètres!$C$7:$F$55,$C$6,FALSE) -> 45 | F26: =D26*E26 -> 0 | H26: =VLOOKUP($B26,Paramètres!$C$7:$F$55,$C$6,FALSE) -> 45 | I26: =G26*H26 -> 0 | K26: =VLOOKUP($B26,Paramètres!$C$7:$F$55,$C$6,FALSE) -> 45 | L26: =J26*K26 -> 0 | N26: =VLOOKUP($B26,Paramètres!$C$7:$F$55,$C$6,FALSE) -> 45 | O26: =M26*N26 -> 0 | Q26: =VLOOKUP($B26,Paramètres!$C$7:$F$55,$C$6,FALSE) -> 45 | R26: =P26*Q26 -> 0 | T26: =VLOOKUP($B26,Paramètres!$C$7:$F$55,$C$6,FALSE) -> 45 | U26: =S26*T26 -> 0 | W26: =VLOOKUP($B26,Paramètres!$C$7:$F$55,$C$6,FALSE) -> 45 | X26: =V26*W26 -> 0 | Z26: =VLOOKUP($B26,Paramètres!$C$7:$F$55,$C$6,FALSE) -> 45 | AA26: =Y26*Z26 -> 0 | AC26: =VLOOKUP($B26,Paramètres!$C$7:$F$55,$C$6,FALSE) -> 45 | AD26: =AB26*AC26 -> 0 | AF26: =VLOOKUP($B26,Paramètres!$C$7:$F$55,$C$6,FALSE) -> 45 | AG26: =AE26*AF26 -> 0 | AI26: =VLOOKUP($B26,Paramètres!$C$7:$F$55,$C$6,FALSE) -> 45 | AJ26: =AH26*AI26 -> 0 | AL26: =VLOOKUP($B26,Paramètres!$C$7:$F$55,$C$6,FALSE) -> 45 | AM26: =AK26*AL26 -> 0 | AN26: =SUM(D26,G26,J26,M26,P26,S26,V26,Y26,AB26,AE26,AH26,AK26) -> 0 | AO26: =VLOOKUP($B26,Paramètres!$C$7:$F$55,$C$6,FALSE) -> 45 | AP26: =SUM(F26,I26,L26,O26,R26,U26,X26,AA26,AD26,AG26,AJ26,AM26) -> 0
B27: =Paramètres!C17 -> Contrat de travail spécifique | C27: =IF(AP27>0,"X","") | E27: =VLOOKUP($B27,Paramètres!$C$7:$F$55,$C$6,FALSE) -> 90 | F27: =D27*E27 -> 0 | H27: =VLOOKUP($B27,Paramètres!$C$7:$F$55,$C$6,FALSE) -> 90 | I27: =G27*H27 -> 0 | K27: =VLOOKUP($B27,Paramètres!$C$7:$F$55,$C$6,FALSE) -> 90 | L27: =J27*K27 -> 0 | N27: =VLOOKUP($B27,Paramètres!$C$7:$F$55,$C$6,FALSE) -> 90 | O27: =M27*N27 -> 0 | Q27: =VLOOKUP($B27,Paramètres!$C$7:$F$55,$C$6,FALSE) -> 90 | R27: =P27*Q27 -> 0 | T27: =VLOOKUP($B27,Paramètres!$C$7:$F$55,$C$6,FALSE) -> 90 | U27: =S27*T27 -> 0 | W27: =VLOOKUP($B27,Paramètres!$C$7:$F$55,$C$6,FALSE) -> 90 | X27: =V27*W27 -> 0 | Z27: =VLOOKUP($B27,Paramètres!$C$7:$F$55,$C$6,FALSE) -> 90 | AA27: =Y27*Z27 -> 0 | AC27: =VLOOKUP($B27,Paramètres!$C$7:$F$55,$C$6,FALSE) -> 90 | AD27: =AB27*AC27 -> 0 | AF27: =VLOOKUP($B27,Paramètres!$C$7:$F$55,$C$6,FALSE) -> 90 | AG27: =AE27*AF27 -> 0 | AI27: =VLOOKUP($B27,Paramètres!$C$7:$F$55,$C$6,FALSE) -> 90 | AJ27: =AH27*AI27 -> 0 | AL27: =VLOOKUP($B27,Paramètres!$C$7:$F$55,$C$6,FALSE) -> 90 | AM27: =AK27*AL27 -> 0 | AN27: =SUM(D27,G27,J27,M27,P27,S27,V27,Y27,AB27,AE27,AH27,AK27) -> 0 | AO27: =VLOOKUP($B27,Paramètres!$C$7:$F$55,$C$6,FALSE) -> 90 | AP27: =SUM(F27,I27,L27,O27,R27,U27,X27,AA27,AD27,AG27,AJ27,AM27) -> 0
B28: =Paramètres!C18 -> Avenant contrat classique | C28: =IF(AP28>0,"X","") | E28: =VLOOKUP($B28,Paramètres!$C$7:$F$55,$C$6,FALSE) -> 20 | F28: =D28*E28 -> 0 | H28: =VLOOKUP($B28,Paramètres!$C$7:$F$55,$C$6,FALSE) -> 20 | I28: =G28*H28 -> 0 | K28: =VLOOKUP($B28,Paramètres!$C$7:$F$55,$C$6,FALSE) -> 20 | L28: =J28*K28 -> 0 | N28: =VLOOKUP($B28,Paramètres!$C$7:$F$55,$C$6,FALSE) -> 20 | O28: =M28*N28 -> 0 | Q28: =VLOOKUP($B28,Paramètres!$C$7:$F$55,$C$6,FALSE) -> 20 | R28: =P28*Q28 -> 0 | T28: =VLOOKUP($B28,Paramètres!$C$7:$F$55,$C$6,FALSE) -> 20 | U28: =S28*T28 -> 0 | W28: =VLOOKUP($B28,Paramètres!$C$7:$F$55,$C$6,FALSE) -> 20 | X28: =V28*W28 -> 0 | Z28: =VLOOKUP($B28,Paramètres!$C$7:$F$55,$C$6,FALSE) -> 20 | AA28: =Y28*Z28 -> 0 | AC28: =VLOOKUP($B28,Paramètres!$C$7:$F$55,$C$6,FALSE) -> 20 | AD28: =AB28*AC28 -> 0 | AF28: =VLOOKUP($B28,Paramètres!$C$7:$F$55,$C$6,FALSE) -> 20 | AG28: =AE28*AF28 -> 0 | AI28: =VLOOKUP($B28,Paramètres!$C$7:$F$55,$C$6,FALSE) -> 20 | AJ28: =AH28*AI28 -> 0 | AL28: =VLOOKUP($B28,Paramètres!$C$7:$F$55,$C$6,FALSE) -> 20 | AM28: =AK28*AL28 -> 0 | AN28: =SUM(D28,G28,J28,M28,P28,S28,V28,Y28,AB28,AE28,AH28,AK28) -> 0 | AO28: =VLOOKUP($B28,Paramètres!$C$7:$F$55,$C$6,FALSE) -> 20 | AP28: =SUM(F28,I28,L28,O28,R28,U28,X28,AA28,AD28,AG28,AJ28,AM28) -> 0
B29: =Paramètres!C19 -> Avenant contrat spécifique | C29: =IF(AP29>0,"X","") | E29: =VLOOKUP($B29,Paramètres!$C$7:$F$55,$C$6,FALSE) -> 0 | F29: =D29*E29 -> 0 | H29: =VLOOKUP($B29,Paramètres!$C$7:$F$55,$C$6,FALSE) -> 0 | I29: =G29*H29 -> 0 | K29: =VLOOKUP($B29,Paramètres!$C$7:$F$55,$C$6,FALSE) -> 0 | L29: =J29*K29 -> 0 | N29: =VLOOKUP($B29,Paramètres!$C$7:$F$55,$C$6,FALSE) -> 0 | O29: =M29*N29 -> 0 | Q29: =VLOOKUP($B29,Paramètres!$C$7:$F$55,$C$6,FALSE) -> 0 | R29: =P29*Q29 -> 0 | T29: =VLOOKUP($B29,Paramètres!$C$7:$F$55,$C$6,FALSE) -> 0 | U29: =S29*T29 -> 0 | W29: =VLOOKUP($B29,Paramètres!$C$7:$F$55,$C$6,FALSE) -> 0 | X29: =V29*W29 -> 0 | Z29: =VLOOKUP($B29,Paramètres!$C$7:$F$55,$C$6,FALSE) -> 0 | AA29: =Y29*Z29 -> 0 | AC29: =VLOOKUP($B29,Paramètres!$C$7:$F$55,$C$6,FALSE) -> 0 | AD29: =AB29*AC29 -> 0 | AF29: =VLOOKUP($B29,Paramètres!$C$7:$F$55,$C$6,FALSE) -> 0 | AG29: =AE29*AF29 -> 0 | AI29: =VLOOKUP($B29,Paramètres!$C$7:$F$55,$C$6,FALSE) -> 0 | AJ29: =AH29*AI29 -> 0 | AL29: =VLOOKUP($B29,Paramètres!$C$7:$F$55,$C$6,FALSE) -> 0 | AM29: =AK29*AL29 -> 0 | AN29: =SUM(D29,G29,J29,M29,P29,S29,V29,Y29,AB29,AE29,AH29,AK29) -> 0 | AO29: =VLOOKUP($B29,Paramètres!$C$7:$F$55,$C$6,FALSE) -> 0 | AP29: =SUM(F29,I29,L29,O29,R29,U29,X29,AA29,AD29,AG29,AJ29,AM29) -> 0
B30: =Paramètres!C20 -> Contrat CERFA appentissage | C30: =IF(AP30>0,"X","") | E30: =VLOOKUP($B30,Paramètres!$C$7:$F$55,$C$6,FALSE) -> 45 | F30: =D30*E30 -> 0 | H30: =VLOOKUP($B30,Paramètres!$C$7:$F$55,$C$6,FALSE) -> 45 | I30: =G30*H30 -> 0 | K30: =VLOOKUP($B30,Paramètres!$C$7:$F$55,$C$6,FALSE) -> 45 | L30: =J30*K30 -> 0 | N30: =VLOOKUP($B30,Paramètres!$C$7:$F$55,$C$6,FALSE) -> 45 | O30: =M30*N30 -> 0 | Q30: =VLOOKUP($B30,Paramètres!$C$7:$F$55,$C$6,FALSE) -> 45 | R30: =P30*Q30 -> 0 | T30: =VLOOKUP($B30,Paramètres!$C$7:$F$55,$C$6,FALSE) -> 45 | U30: =S30*T30 -> 0 | W30: =VLOOKUP($B30,Paramètres!$C$7:$F$55,$C$6,FALSE) -> 45 | X30: =V30*W30 -> 0 | Z30: =VLOOKUP($B30,Paramètres!$C$7:$F$55,$C$6,FALSE) -> 45 | AA30: =Y30*Z30 -> 0 | AC30: =VLOOKUP($B30,Paramètres!$C$7:$F$55,$C$6,FALSE) -> 45 | AD30: =AB30*AC30 -> 0 | AF30: =VLOOKUP($B30,Paramètres!$C$7:$F$55,$C$6,FALSE) -> 45 | AG30: =AE30*AF30 -> 0 | AI30: =VLOOKUP($B30,Paramètres!$C$7:$F$55,$C$6,FALSE) -> 45 | AJ30: =AH30*AI30 -> 0 | AL30: =VLOOKUP($B30,Paramètres!$C$7:$F$55,$C$6,FALSE) -> 45 | AM30: =AK30*AL30 -> 0 | AN30: =SUM(D30,G30,J30,M30,P30,S30,V30,Y30,AB30,AE30,AH30,AK30) -> 0 | AO30: =VLOOKUP($B30,Paramètres!$C$7:$F$55,$C$6,FALSE) -> 45 | AP30: =SUM(F30,I30,L30,O30,R30,U30,X30,AA30,AD30,AG30,AJ30,AM30) -> 0
B31: =Paramètres!C21 -> Constat de rupture à l'amiable CDD | C31: =IF(AP31>0,"X","") | E31: =VLOOKUP($B31,Paramètres!$C$7:$F$55,$C$6,FALSE) -> 30 | F31: =D31*E31 -> 0 | H31: =VLOOKUP($B31,Paramètres!$C$7:$F$55,$C$6,FALSE) -> 30 | I31: =G31*H31 -> 0 | K31: =VLOOKUP($B31,Paramètres!$C$7:$F$55,$C$6,FALSE) -> 30 | L31: =J31*K31 -> 0 | N31: =VLOOKUP($B31,Paramètres!$C$7:$F$55,$C$6,FALSE) -> 30 | O31: =M31*N31 -> 0 | Q31: =VLOOKUP($B31,Paramètres!$C$7:$F$55,$C$6,FALSE) -> 30 | R31: =P31*Q31 -> 0 | T31: =VLOOKUP($B31,Paramètres!$C$7:$F$55,$C$6,FALSE) -> 30 | U31: =S31*T31 -> 0 | W31: =VLOOKUP($B31,Paramètres!$C$7:$F$55,$C$6,FALSE) -> 30 | X31: =V31*W31 -> 0 | Z31: =VLOOKUP($B31,Paramètres!$C$7:$F$55,$C$6,FALSE) -> 30 | AA31: =Y31*Z31 -> 0 | AC31: =VLOOKUP($B31,Paramètres!$C$7:$F$55,$C$6,FALSE) -> 30 | AD31: =AB31*AC31 -> 0 | AF31: =VLOOKUP($B31,Paramètres!$C$7:$F$55,$C$6,FALSE) -> 30 | AG31: =AE31*AF31 -> 0 | AI31: =VLOOKUP($B31,Paramètres!$C$7:$F$55,$C$6,FALSE) -> 30 | AJ31: =AH31*AI31 -> 0 | AL31: =VLOOKUP($B31,Paramètres!$C$7:$F$55,$C$6,FALSE) -> 30 | AM31: =AK31*AL31 -> 0 | AN31: =SUM(D31,G31,J31,M31,P31,S31,V31,Y31,AB31,AE31,AH31,AK31) -> 0 | AO31: =VLOOKUP($B31,Paramètres!$C$7:$F$55,$C$6,FALSE) -> 30 | AP31: =SUM(F31,I31,L31,O31,R31,U31,X31,AA31,AD31,AG31,AJ31,AM31) -> 0
B32: =Paramètres!C22 -> Rupture contrat d'apprentissage | C32: =IF(AP32>0,"X","") | E32: =VLOOKUP($B32,Paramètres!$C$7:$F$55,$C$6,FALSE) -> 30 | F32: =D32*E32 -> 0 | H32: =VLOOKUP($B32,Paramètres!$C$7:$F$55,$C$6,FALSE) -> 30 | I32: =G32*H32 -> 0 | K32: =VLOOKUP($B32,Paramètres!$C$7:$F$55,$C$6,FALSE) -> 30 | L32: =J32*K32 -> 0 | N32: =VLOOKUP($B32,Paramètres!$C$7:$F$55,$C$6,FALSE) -> 30 | O32: =M32*N32 -> 0 | Q32: =VLOOKUP($B32,Paramètres!$C$7:$F$55,$C$6,FALSE) -> 30 | R32: =P32*Q32 -> 0 | T32: =VLOOKUP($B32,Paramètres!$C$7:$F$55,$C$6,FALSE) -> 30 | U32: =S32*T32 -> 0 | W32: =VLOOKUP($B32,Paramètres!$C$7:$F$55,$C$6,FALSE) -> 30 | X32: =V32*W32 -> 0 | Z32: =VLOOKUP($B32,Paramètres!$C$7:$F$55,$C$6,FALSE) -> 30 | AA32: =Y32*Z32 -> 0 | AC32: =VLOOKUP($B32,Paramètres!$C$7:$F$55,$C$6,FALSE) -> 30 | AD32: =AB32*AC32 -> 0 | AF32: =VLOOKUP($B32,Paramètres!$C$7:$F$55,$C$6,FALSE) -> 30 | AG32: =AE32*AF32 -> 0 | AI32: =VLOOKUP($B32,Paramètres!$C$7:$F$55,$C$6,FALSE) -> 30 | AJ32: =AH32*AI32 -> 0 | AL32: =VLOOKUP($B32,Paramètres!$C$7:$F$55,$C$6,FALSE) -> 30 | AM32: =AK32*AL32 -> 0 | AN32: =SUM(D32,G32,J32,M32,P32,S32,V32,Y32,AB32,AE32,AH32,AK32) -> 0 | AO32: =VLOOKUP($B32,Paramètres!$C$7:$F$55,$C$6,FALSE) -> 30 | AP32: =SUM(F32,I32,L32,O32,R32,U32,X32,AA32,AD32,AG32,AJ32,AM32) -> 0
B33: =Paramètres!C23 -> Documents de fin de contrat | C33: =IF(AP33>0,"X","") -> X | E33: =VLOOKUP($B33,Paramètres!$C$7:$F$55,$C$6,FALSE) -> 22 | F33: =D33*E33 -> 0 | G33: 1 | H33: =VLOOKUP($B33,Paramètres!$C$7:$F$55,$C$6,FALSE) -> 22 | I33: =G33*H33 -> 22 | K33: =VLOOKUP($B33,Paramètres!$C$7:$F$55,$C$6,FALSE) -> 22 | L33: =J33*K33 -> 0 | N33: =VLOOKUP($B33,Paramètres!$C$7:$F$55,$C$6,FALSE) -> 22 | O33: =M33*N33 -> 0 | Q33: =VLOOKUP($B33,Paramètres!$C$7:$F$55,$C$6,FALSE) -> 22 | R33: =P33*Q33 -> 0 | T33: =VLOOKUP($B33,Paramètres!$C$7:$F$55,$C$6,FALSE) -> 22 | U33: =S33*T33 -> 0 | W33: =VLOOKUP($B33,Paramètres!$C$7:$F$55,$C$6,FALSE) -> 22 | X33: =V33*W33 -> 0 | Z33: =VLOOKUP($B33,Paramètres!$C$7:$F$55,$C$6,FALSE) -> 22 | AA33: =Y33*Z33 -> 0 | AC33: =VLOOKUP($B33,Paramètres!$C$7:$F$55,$C$6,FALSE) -> 22 | AD33: =AB33*AC33 -> 0 | AF33: =VLOOKUP($B33,Paramètres!$C$7:$F$55,$C$6,FALSE) -> 22 | AG33: =AE33*AF33 -> 0 | AI33: =VLOOKUP($B33,Paramètres!$C$7:$F$55,$C$6,FALSE) -> 22 | AJ33: =AH33*AI33 -> 0 | AL33: =VLOOKUP($B33,Paramètres!$C$7:$F$55,$C$6,FALSE) -> 22 | AM33: =AK33*AL33 -> 0 | AN33: =SUM(D33,G33,J33,M33,P33,S33,V33,Y33,AB33,AE33,AH33,AK33) -> 1 | AO33: =VLOOKUP($B33,Paramètres!$C$7:$F$55,$C$6,FALSE) -> 22 | AP33: =SUM(F33,I33,L33,O33,R33,U33,X33,AA33,AD33,AG33,AJ33,AM33) -> 22
B34: =Paramètres!C24 -> Déclaration accident de travail | C34: =IF(AP34>0,"X","") -> X | E34: =VLOOKUP($B34,Paramètres!$C$7:$F$55,$C$6,FALSE) -> 30 | F34: =D34*E34 -> 0 | H34: =VLOOKUP($B34,Paramètres!$C$7:$F$55,$C$6,FALSE) -> 30 | I34: =G34*H34 -> 0 | J34: 1 | K34: =VLOOKUP($B34,Paramètres!$C$7:$F$55,$C$6,FALSE) -> 30 | L34: =J34*K34 -> 30 | N34: =VLOOKUP($B34,Paramètres!$C$7:$F$55,$C$6,FALSE) -> 30 | O34: =M34*N34 -> 0 | Q34: =VLOOKUP($B34,Paramètres!$C$7:$F$55,$C$6,FALSE) -> 30 | R34: =P34*Q34 -> 0 | T34: =VLOOKUP($B34,Paramètres!$C$7:$F$55,$C$6,FALSE) -> 30 | U34: =S34*T34 -> 0 | W34: =VLOOKUP($B34,Paramètres!$C$7:$F$55,$C$6,FALSE) -> 30 | X34: =V34*W34 -> 0 | Z34: =VLOOKUP($B34,Paramètres!$C$7:$F$55,$C$6,FALSE) -> 30 | AA34: =Y34*Z34 -> 0 | AC34: =VLOOKUP($B34,Paramètres!$C$7:$F$55,$C$6,FALSE) -> 30 | AD34: =AB34*AC34 -> 0 | AF34: =VLOOKUP($B34,Paramètres!$C$7:$F$55,$C$6,FALSE) -> 30 | AG34: =AE34*AF34 -> 0 | AI34: =VLOOKUP($B34,Paramètres!$C$7:$F$55,$C$6,FALSE) -> 30 | AJ34: =AH34*AI34 -> 0 | AL34: =VLOOKUP($B34,Paramètres!$C$7:$F$55,$C$6,FALSE) -> 30 | AM34: =AK34*AL34 -> 0 | AN34: =SUM(D34,G34,J34,M34,P34,S34,V34,Y34,AB34,AE34,AH34,AK34) -> 1 | AO34: =VLOOKUP($B34,Paramètres!$C$7:$F$55,$C$6,FALSE) -> 30 | AP34: =SUM(F34,I34,L34,O34,R34,U34,X34,AA34,AD34,AG34,AJ34,AM34) -> 30
B35: =Paramètres!C25 -> DSN évenementielle | C35: =IF(AP35>0,"X","") | E35: =VLOOKUP($B35,Paramètres!$C$7:$F$55,$C$6,FALSE) -> 7 | F35: =D35*E35 -> 0 | H35: =VLOOKUP($B35,Paramètres!$C$7:$F$55,$C$6,FALSE) -> 7 | I35: =G35*H35 -> 0 | K35: =VLOOKUP($B35,Paramètres!$C$7:$F$55,$C$6,FALSE) -> 7 | L35: =J35*K35 -> 0 | N35: =VLOOKUP($B35,Paramètres!$C$7:$F$55,$C$6,FALSE) -> 7 | O35: =M35*N35 -> 0 | Q35: =VLOOKUP($B35,Paramètres!$C$7:$F$55,$C$6,FALSE) -> 7 | R35: =P35*Q35 -> 0 | T35: =VLOOKUP($B35,Paramètres!$C$7:$F$55,$C$6,FALSE) -> 7 | U35: =S35*T35 -> 0 | W35: =VLOOKUP($B35,Paramètres!$C$7:$F$55,$C$6,FALSE) -> 7 | X35: =V35*W35 -> 0 | Z35: =VLOOKUP($B35,Paramètres!$C$7:$F$55,$C$6,FALSE) -> 7 | AA35: =Y35*Z35 -> 0 | AC35: =VLOOKUP($B35,Paramètres!$C$7:$F$55,$C$6,FALSE) -> 7 | AD35: =AB35*AC35 -> 0 | AF35: =VLOOKUP($B35,Paramètres!$C$7:$F$55,$C$6,FALSE) -> 7 | AG35: =AE35*AF35 -> 0 | AI35: =VLOOKUP($B35,Paramètres!$C$7:$F$55,$C$6,FALSE) -> 7 | AJ35: =AH35*AI35 -> 0 | AL35: =VLOOKUP($B35,Paramètres!$C$7:$F$55,$C$6,FALSE) -> 7 | AM35: =AK35*AL35 -> 0 | AN35: =SUM(D35,G35,J35,M35,P35,S35,V35,Y35,AB35,AE35,AH35,AK35) -> 0 | AO35: =VLOOKUP($B35,Paramètres!$C$7:$F$55,$C$6,FALSE) -> 7 | AP35: =SUM(F35,I35,L35,O35,R35,U35,X35,AA35,AD35,AG35,AJ35,AM35) -> 0
B36: =Paramètres!C26 -> Avenant de renouvell. périoade essai | C36: =IF(AP36>0,"X","") | E36: =VLOOKUP($B36,Paramètres!$C$7:$F$55,$C$6,FALSE) -> 20 | F36: =D36*E36 -> 0 | H36: =VLOOKUP($B36,Paramètres!$C$7:$F$55,$C$6,FALSE) -> 20 | I36: =G36*H36 -> 0 | K36: =VLOOKUP($B36,Paramètres!$C$7:$F$55,$C$6,FALSE) -> 20 | L36: =J36*K36 -> 0 | N36: =VLOOKUP($B36,Paramètres!$C$7:$F$55,$C$6,FALSE) -> 20 | O36: =M36*N36 -> 0 | Q36: =VLOOKUP($B36,Paramètres!$C$7:$F$55,$C$6,FALSE) -> 20 | R36: =P36*Q36 -> 0 | T36: =VLOOKUP($B36,Paramètres!$C$7:$F$55,$C$6,FALSE) -> 20 | U36: =S36*T36 -> 0 | W36: =VLOOKUP($B36,Paramètres!$C$7:$F$55,$C$6,FALSE) -> 20 | X36: =V36*W36 -> 0 | Z36: =VLOOKUP($B36,Paramètres!$C$7:$F$55,$C$6,FALSE) -> 20 | AA36: =Y36*Z36 -> 0 | AC36: =VLOOKUP($B36,Paramètres!$C$7:$F$55,$C$6,FALSE) -> 20 | AD36: =AB36*AC36 -> 0 | AF36: =VLOOKUP($B36,Paramètres!$C$7:$F$55,$C$6,FALSE) -> 20 | AG36: =AE36*AF36 -> 0 | AI36: =VLOOKUP($B36,Paramètres!$C$7:$F$55,$C$6,FALSE) -> 20 | AJ36: =AH36*AI36 -> 0 | AL36: =VLOOKUP($B36,Paramètres!$C$7:$F$55,$C$6,FALSE) -> 20 | AM36: =AK36*AL36 -> 0 | AN36: =SUM(D36,G36,J36,M36,P36,S36,V36,Y36,AB36,AE36,AH36,AK36) -> 0 | AO36: =VLOOKUP($B36,Paramètres!$C$7:$F$55,$C$6,FALSE) -> 20 | AP36: =SUM(F36,I36,L36,O36,R36,U36,X36,AA36,AD36,AG36,AJ36,AM36) -> 0
B37: =Paramètres!C27 -> Courrier info fin de période d'essai | C37: =IF(AP37>0,"X","") | E37: =VLOOKUP($B37,Paramètres!$C$7:$F$55,$C$6,FALSE) -> 20 | F37: =D37*E37 -> 0 | H37: =VLOOKUP($B37,Paramètres!$C$7:$F$55,$C$6,FALSE) -> 20 | I37: =G37*H37 -> 0 | K37: =VLOOKUP($B37,Paramètres!$C$7:$F$55,$C$6,FALSE) -> 20 | L37: =J37*K37 -> 0 | N37: =VLOOKUP($B37,Paramètres!$C$7:$F$55,$C$6,FALSE) -> 20 | O37: =M37*N37 -> 0 | Q37: =VLOOKUP($B37,Paramètres!$C$7:$F$55,$C$6,FALSE) -> 20 | R37: =P37*Q37 -> 0 | T37: =VLOOKUP($B37,Paramètres!$C$7:$F$55,$C$6,FALSE) -> 20 | U37: =S37*T37 -> 0 | W37: =VLOOKUP($B37,Paramètres!$C$7:$F$55,$C$6,FALSE) -> 20 | X37: =V37*W37 -> 0 | Z37: =VLOOKUP($B37,Paramètres!$C$7:$F$55,$C$6,FALSE) -> 20 | AA37: =Y37*Z37 -> 0 | AC37: =VLOOKUP($B37,Paramètres!$C$7:$F$55,$C$6,FALSE) -> 20 | AD37: =AB37*AC37 -> 0 | AF37: =VLOOKUP($B37,Paramètres!$C$7:$F$55,$C$6,FALSE) -> 20 | AG37: =AE37*AF37 -> 0 | AI37: =VLOOKUP($B37,Paramètres!$C$7:$F$55,$C$6,FALSE) -> 20 | AJ37: =AH37*AI37 -> 0 | AL37: =VLOOKUP($B37,Paramètres!$C$7:$F$55,$C$6,FALSE) -> 20 | AM37: =AK37*AL37 -> 0 | AN37: =SUM(D37,G37,J37,M37,P37,S37,V37,Y37,AB37,AE37,AH37,AK37) -> 0 | AO37: =VLOOKUP($B37,Paramètres!$C$7:$F$55,$C$6,FALSE) -> 20 | AP37: =SUM(F37,I37,L37,O37,R37,U37,X37,AA37,AD37,AG37,AJ37,AM37) -> 0
B38: =Paramètres!C28 -> Courrier rupture période d'essai | C38: =IF(AP38>0,"X","") | E38: =VLOOKUP($B38,Paramètres!$C$7:$F$55,$C$6,FALSE) -> 20 | F38: =D38*E38 -> 0 | H38: =VLOOKUP($B38,Paramètres!$C$7:$F$55,$C$6,FALSE) -> 20 | I38: =G38*H38 -> 0 | K38: =VLOOKUP($B38,Paramètres!$C$7:$F$55,$C$6,FALSE) -> 20 | L38: =J38*K38 -> 0 | N38: =VLOOKUP($B38,Paramètres!$C$7:$F$55,$C$6,FALSE) -> 20 | O38: =M38*N38 -> 0 | Q38: =VLOOKUP($B38,Paramètres!$C$7:$F$55,$C$6,FALSE) -> 20 | R38: =P38*Q38 -> 0 | T38: =VLOOKUP($B38,Paramètres!$C$7:$F$55,$C$6,FALSE) -> 20 | U38: =S38*T38 -> 0 | W38: =VLOOKUP($B38,Paramètres!$C$7:$F$55,$C$6,FALSE) -> 20 | X38: =V38*W38 -> 0 | Z38: =VLOOKUP($B38,Paramètres!$C$7:$F$55,$C$6,FALSE) -> 20 | AA38: =Y38*Z38 -> 0 | AC38: =VLOOKUP($B38,Paramètres!$C$7:$F$55,$C$6,FALSE) -> 20 | AD38: =AB38*AC38 -> 0 | AF38: =VLOOKUP($B38,Paramètres!$C$7:$F$55,$C$6,FALSE) -> 20 | AG38: =AE38*AF38 -> 0 | AI38: =VLOOKUP($B38,Paramètres!$C$7:$F$55,$C$6,FALSE) -> 20 | AJ38: =AH38*AI38 -> 0 | AL38: =VLOOKUP($B38,Paramètres!$C$7:$F$55,$C$6,FALSE) -> 20 | AM38: =AK38*AL38 -> 0 | AN38: =SUM(D38,G38,J38,M38,P38,S38,V38,Y38,AB38,AE38,AH38,AK38) -> 0 | AO38: =VLOOKUP($B38,Paramètres!$C$7:$F$55,$C$6,FALSE) -> 20 | AP38: =SUM(F38,I38,L38,O38,R38,U38,X38,AA38,AD38,AG38,AJ38,AM38) -> 0
B39: =Paramètres!C29 -> Simul bulletin salaire | C39: =IF(AP39>0,"X","") -> X | E39: =VLOOKUP($B39,Paramètres!$C$7:$F$55,$C$6,FALSE) -> 15 | F39: =D39*E39 -> 0 | H39: =VLOOKUP($B39,Paramètres!$C$7:$F$55,$C$6,FALSE) -> 15 | I39: =G39*H39 -> 0 | J39: 2 | K39: =VLOOKUP($B39,Paramètres!$C$7:$F$55,$C$6,FALSE) -> 15 | L39: =J39*K39 -> 30 | N39: =VLOOKUP($B39,Paramètres!$C$7:$F$55,$C$6,FALSE) -> 15 | O39: =M39*N39 -> 0 | Q39: =VLOOKUP($B39,Paramètres!$C$7:$F$55,$C$6,FALSE) -> 15 | R39: =P39*Q39 -> 0 | T39: =VLOOKUP($B39,Paramètres!$C$7:$F$55,$C$6,FALSE) -> 15 | U39: =S39*T39 -> 0 | W39: =VLOOKUP($B39,Paramètres!$C$7:$F$55,$C$6,FALSE) -> 15 | X39: =V39*W39 -> 0 | Z39: =VLOOKUP($B39,Paramètres!$C$7:$F$55,$C$6,FALSE) -> 15 | AA39: =Y39*Z39 -> 0 | AC39: =VLOOKUP($B39,Paramètres!$C$7:$F$55,$C$6,FALSE) -> 15 | AD39: =AB39*AC39 -> 0 | AF39: =VLOOKUP($B39,Paramètres!$C$7:$F$55,$C$6,FALSE) -> 15 | AG39: =AE39*AF39 -> 0 | AI39: =VLOOKUP($B39,Paramètres!$C$7:$F$55,$C$6,FALSE) -> 15 | AJ39: =AH39*AI39 -> 0 | AL39: =VLOOKUP($B39,Paramètres!$C$7:$F$55,$C$6,FALSE) -> 15 | AM39: =AK39*AL39 -> 0 | AN39: =SUM(D39,G39,J39,M39,P39,S39,V39,Y39,AB39,AE39,AH39,AK39) -> 2 | AO39: =VLOOKUP($B39,Paramètres!$C$7:$F$55,$C$6,FALSE) -> 15 | AP39: =SUM(F39,I39,L39,O39,R39,U39,X39,AA39,AD39,AG39,AJ39,AM39) -> 30
