Workbook
Name An: Emargement!$F$2
Name Fériés: Fériés!$D$4:$D$16
Name Jours: DAY(DATE(YEAR(Emargement!$B$8),MONTH(Emargement!$B$8)+1,0))

Sheet Récap
B8: =Emargement!B5 -> Marc | C8: =Emargement!H5 -> Benoit | D8: =Emargement!N5 -> Employé 3 | E8: =Emargement!U5 -> Employé 4 | F8: =Emargement!AA5 -> Employé 5 | G8: =Emargement!AG5 -> Employé 6 | H8: =Emargement!AM5 -> Employé 7 | I8: =Emargement!AS5 -> Employé 8 | J8: =Emargement!AY5 -> Employé 9 | K8: =Emargement!BD5 -> Employé 10
A9: Heure Travaillé | B9: =Emargement!F39*24 -> 0 | C9: =Emargement!L39*24 -> 0 | D9: =Emargement!R39*24 -> 0 | E9: =Emargement!X39*24 -> 0 | F9: =Emargement!AD39*24 -> 0 | G9: =Emargement!AJ39*24 -> 0 | H9: =Emargement!AP39*24 -> 0 | I9: =Emargement!AV39*24 -> 0 | J9: =Emargement!BB39*24 -> 0 | K9: =Emargement!BH39*24 -> 0
A11: Heure de Base | B11: 151.67 | C11: 151.67 | D11: 151.67 | E11: 151.67 | F11: 151.67 | G11: 151.67 | H11: 151.67 | I11: 151.67 | J11: 151.67 | K11: 151.67
A12: Heure de Nuit
A13: Heure Dimanche | B13: =SUMPRODUCT((WEEKDAY(OFFSET(Emargement!$B$8,,,Jours-1,),2)=7)*(OFFSET(Emargement!$F$8,,,Jours-1,)))*24 -> 0
A14: Heure jour férié
A15: Heure sup. | B15: =B9-B11 -> -151.67 | C15: =C9-C11 -> -151.67 | D15: =D9-D11 -> -151.67 | E15: =E9-E11 -> -151.67 | F15: =F9-F11 -> -151.67 | G15: =G9-G11 -> -151.67 | H15: =H9-H11 -> -151.67 | I15: =I9-I11 -> -151.67 | ... K15: =K9-K11 -> -151.67
A17: Jours de vacances
B19: =DAY(DATE(YEAR(Emargement!$B$8),MONTH(Emargement!$B$8)+1,0)) -> 30

Sheet Emargement
B1: Mois | F1: Année
B2: Avril | F2: 2018 | K2: Remplir les heures de débuts et de fin ou directement le total de la journée. Employé X peut être remplacé par le nom de l'émployé. Créer un nouveau fichier chaque mois.
B5: Marc | H5: Benoit | N5: Employé 3 | U5: Employé 4 | AA5: Employé 5 | AG5: Employé 6 | AM5: Employé 7 | AS5: Employé 8 | AY5: Employé 9 | BD5: Employé 10
B7: Jours | C7: Date | D7: Heure début | E7: Heure fin | F7: Total journée | H7: Jours | I7: Date | J7: Heure début | K7: Heure fin | L7: Total journée | N7: Jours | O7: Date | P7: Heure début | Q7: Heure fin | R7: Total journée | T7: Jours | U7: Date | V7: Heure début | W7: Heure fin | X7: Total journée | Z7: Jours | AA7: Date | AB7: Heure début | AC7: Heure fin | AD7: Total journée | AF7: Jours | AG7: Date | AH7: Heure début | AI7: Heure fin | AJ7: Total journée | AL7: Jours | AM7: Date | AN7: Heure début | AO7: Heure fin | AP7: Total journée | AR7: Jours | AS7: Date | AT7: Heure début | AU7: Heure fin | AV7: Total journée | AX7: Jours | AY7: Date | AZ7: Heure début | BA7: Heure fin | BB7: Total journée | BD7: Jours | BE7: Date | BF7: Heure début | BG7: Heure fin | BH7: Total journée
B8: =DATE(An,MONTH("1/"&$B$2),1) -> 43191 | C8: =B8 -> 43191 | H8: =$B8 -> 43191 | I8: =$C8 -> 43191 | L8: 0 | N8: =$B8 -> 43191 | O8: =$C8 -> 43191 | R8: 0 | T8: =$B8 -> 43191 | U8: =$C8 -> 43191 | X8: 0 | Z8: =$B8 -> 43191 | AA8: =$C8 -> 43191 | AD8: 0 | AF8: =$B8 -> 43191 | AG8: =$C8 -> 43191 | AJ8: 0 | AL8: =$B8 -> 43191 | AM8: =$C8 -> 43191 | AP8: 0 | AR8: =$B8 -> 43191 | AS8: =$C8 -> 43191 | AV8: 0 | AX8: =$B8 -> 43191 | AY8: =$C8 -> 43191 | BB8: 0 | BD8: =$B8 -> 43191 | BE8: =$C8 -> 43191 | BH8: 0
B9: =B8+1 -> 43192 | C9: =B9 -> 43192 | F9: 0 | H9: =$B9 -> 43192 | I9: =$C9 -> 43192 | L9: 0 | N9: =$B9 -> 43192 | O9: =$C9 -> 43192 | R9: 0 | T9: =$B9 -> 43192 | U9: =$C9 -> 43192 | X9: 0 | Z9: =$B9 -> 43192 | AA9: =$C9 -> 43192 | AD9: 0 | AF9: =$B9 -> 43192 | AG9: =$C9 -> 43192 | AJ9: 0 | AL9: =$B9 -> 43192 | AM9: =$C9 -> 43192 | AP9: 0 | AR9: =$B9 -> 43192 | AS9: =$C9 -> 43192 | AV9: 0 | AX9: =$B9 -> 43192 | AY9: =$C9 -> 43192 | BB9: 0 | BD9: =$B9 -> 43192 | BE9: =$C9 -> 43192 | BH9: 0
B10: =B9+1 -> 43193 | C10: =B10 -> 43193 | F10: 0 | H10: =$B10 -> 43193 | I10: =$C10 -> 43193 | L10: 0 | N10: =$B10 -> 43193 | O10: =$C10 -> 43193 | R10: 0 | T10: =$B10 -> 43193 | U10: =$C10 -> 43193 | X10: 0 | Z10: =$B10 -> 43193 | AA10: =$C10 -> 43193 | AD10: 0 | AF10: =$B10 -> 43193 | AG10: =$C10 -> 43193 | AJ10: 0 | AL10: =$B10 -> 43193 | AM10: =$C10 -> 43193 | AP10: 0 | AR10: =$B10 -> 43193 | AS10: =$C10 -> 43193 | AV10: 0 | AX10: =$B10 -> 43193 | AY10: =$C10 -> 43193 | BB10: 0 | BD10: =$B10 -> 43193 | BE10: =$C10 -> 43193 | BH10: 0
B11: =B10+1 -> 43194 | C11: =B11 -> 43194 | F11: 0 | H11: =$B11 -> 43194 | I11: =$C11 -> 43194 | L11: 0 | N11: =$B11 -> 43194 | O11: =$C11 -> 43194 | R11: 0 | T11: =$B11 -> 43194 | U11: =$C11 -> 43194 | X11: 0 | Z11: =$B11 -> 43194 | AA11: =$C11 -> 43194 | AD11: 0 | AF11: =$B11 -> 43194 | AG11: =$C11 -> 43194 | AJ11: 0 | AL11: =$B11 -> 43194 | AM11: =$C11 -> 43194 | AP11: 0 | AR11: =$B11 -> 43194 | AS11: =$C11 -> 43194 | AV11: 0 | AX11: =$B11 -> 43194 | AY11: =$C11 -> 43194 | BB11: 0 | BD11: =$B11 -> 43194 | BE11: =$C11 -> 43194 | BH11: 0
B12: =B11+1 -> 43195 | C12: =B12 -> 43195 | F12: 0 | H12: =$B12 -> 43195 | I12: =$C12 -> 43195 | L12: 0 | N12: =$B12 -> 43195 | O12: =$C12 -> 43195 | R12: 0 | T12: =$B12 -> 43195 | U12: =$C12 -> 43195 | X12: 0 | Z12: =$B12 -> 43195 | AA12: =$C12 -> 43195 | AD12: 0 | AF12: =$B12 -> 43195 | AG12: =$C12 -> 43195 | AJ12: 0 | AL12: =$B12 -> 43195 | AM12: =$C12 -> 43195 | AP12: 0 | AR12: =$B12 -> 43195 | AS12: =$C12 -> 43195 | AV12: 0 | AX12: =$B12 -> 43195 | AY12: =$C12 -> 43195 | BB12: 0 | BD12: =$B12 -> 43195 | BE12: =$C12 -> 43195 | BH12: 0
B13: =B12+1 -> 43196 | C13: =B13 -> 43196 | F13: 0 | H13: =$B13 -> 43196 | I13: =$C13 -> 43196 | L13: 0 | N13: =$B13 -> 43196 | O13: =$C13 -> 43196 | R13: 0 | T13: =$B13 -> 43196 | U13: =$C13 -> 43196 | X13: 0 | Z13: =$B13 -> 43196 | AA13: =$C13 -> 43196 | AD13: 0 | AF13: =$B13 -> 43196 | AG13: =$C13 -> 43196 | AJ13: 0 | AL13: =$B13 -> 43196 | AM13: =$C13 -> 43196 | AP13: 0 | AR13: =$B13 -> 43196 | AS13: =$C13 -> 43196 | AV13: 0 | AX13: =$B13 -> 43196 | AY13: =$C13 -> 43196 | BB13: 0 | BD13: =$B13 -> 43196 | BE13: =$C13 -> 43196 | BH13: 0
B14: =B13+1 -> 43197 | C14: =B14 -> 43197 | F14: 0 | H14: =$B14 -> 43197 | I14: =$C14 -> 43197 | L14: 0 | N14: =$B14 -> 43197 | O14: =$C14 -> 43197 | R14: 0 | T14: =$B14 -> 43197 | U14: =$C14 -> 43197 | X14: 0 | Z14: =$B14 -> 43197 | AA14: =$C14 -> 43197 | AD14: 0 | AF14: =$B14 -> 43197 | AG14: =$C14 -> 43197 | AJ14: 0 | AL14: =$B14 -> 43197 | AM14: =$C14 -> 43197 | AP14: 0 | AR14: =$B14 -> 43197 | AS14: =$C14 -> 43197 | AV14: 0 | AX14: =$B14 -> 43197 | AY14: =$C14 -> 43197 | BB14: 0 | BD14: =$B14 -> 43197 | BE14: =$C14 -> 43197 | BH14: 0
B15: =B14+1 -> 43198 | C15: =B15 -> 43198 | F15: 0 | H15: =$B15 -> 43198 | I15: =$C15 -> 43198 | L15: 0 | N15: =$B15 -> 43198 | O15: =$C15 -> 43198 | R15: 0 | T15: =$B15 -> 43198 | U15: =$C15 -> 43198 | X15: 0 | Z15: =$B15 -> 43198 | AA15: =$C15 -> 43198 | AD15: 0 | AF15: =$B15 -> 43198 | AG15: =$C15 -> 43198 | AJ15: 0 | AL15: =$B15 -> 43198 | AM15: =$C15 -> 43198 | AP15: 0 | AR15: =$B15 -> 43198 | AS15: =$C15 -> 43198 | AV15: 0 | AX15: =$B15 -> 43198 | AY15: =$C15 -> 43198 | BB15: 0 | BD15: =$B15 -> 43198 | BE15: =$C15 -> 43198 | BH15: 0
B16: =B15+1 -> 43199 | C16: =B16 -> 43199 | F16: 0 | H16: =$B16 -> 43199 | I16: =$C16 -> 43199 | L16: 0 | N16: =$B16 -> 43199 | O16: =$C16 -> 43199 | R16: 0 | T16: =$B16 -> 43199 | U16: =$C16 -> 43199 | X16: 0 | Z16: =$B16 -> 43199 | AA16: =$C16 -> 43199 | AD16: 0 | AF16: =$B16 -> 43199 | AG16: =$C16 -> 43199 | AJ16: 0 | AL16: =$B16 -> 43199 | AM16: =$C16 -> 43199 | AP16: 0 | AR16: =$B16 -> 43199 | AS16: =$C16 -> 43199 | AV16: 0 | AX16: =$B16 -> 43199 | AY16: =$C16 -> 43199 | BB16: 0 | BD16: =$B16 -> 43199 | BE16: =$C16 -> 43199 | BH16: 0
B17: =B16+1 -> 43200 | C17: =B17 -> 43200 | F17: 0 | H17: =$B17 -> 43200 | I17: =$C17 -> 43200 | L17: 0 | N17: =$B17 -> 43200 | O17: =$C17 -> 43200 | R17: 0 | T17: =$B17 -> 43200 | U17: =$C17 -> 43200 | X17: 0 | Z17: =$B17 -> 43200 | AA17: =$C17 -> 43200 | AD17: 0 | AF17: =$B17 -> 43200 | AG17: =$C17 -> 43200 | AJ17: 0 | AL17: =$B17 -> 43200 | AM17: =$C17 -> 43200 | AP17: 0 | AR17: =$B17 -> 43200 | AS17: =$C17 -> 43200 | AV17: 0 | AX17: =$B17 -> 43200 | AY17: =$C17 -> 43200 | BB17: 0 | BD17: =$B17 -> 43200 | BE17: =$C17 -> 43200 | BH17: 0
B18: =B17+1 -> 43201 | C18: =B18 -> 43201 | F18: 0 | H18: =$B18 -> 43201 | I18: =$C18 -> 43201 | L18: 0 | N18: =$B18 -> 43201 | O18: =$C18 -> 43201 | R18: 0 | T18: =$B18 -> 43201 | U18: =$C18 -> 43201 | X18: 0 | Z18: =$B18 -> 43201 | AA18: =$C18 -> 43201 | AD18: 0 | AF18: =$B18 -> 43201 | AG18: =$C18 -> 43201 | AJ18: 0 | AL18: =$B18 -> 43201 | AM18: =$C18 -> 43201 | AP18: 0 | AR18: =$B18 -> 43201 | AS18: =$C18 -> 43201 | AV18: 0 | AX18: =$B18 -> 43201 | AY18: =$C18 -> 43201 | BB18: 0 | BD18: =$B18 -> 43201 | BE18: =$C18 -> 43201 | BH18: 0
B19: =B18+1 -> 43202 | C19: =B19 -> 43202 | F19: 0 | H19: =$B19 -> 43202 | I19: =$C19 -> 43202 | L19: 0 | N19: =$B19 -> 43202 | O19: =$C19 -> 43202 | R19: 0 | T19: =$B19 -> 43202 | U19: =$C19 -> 43202 | X19: 0 | Z19: =$B19 -> 43202 | AA19: =$C19 -> 43202 | AD19: 0 | AF19: =$B19 -> 43202 | AG19: =$C19 -> 43202 | AJ19: 0 | AL19: =$B19 -> 43202 | AM19: =$C19 -> 43202 | AP19: 0 | AR19: =$B19 -> 43202 | AS19: =$C19 -> 43202 | AV19: 0 | AX19: =$B19 -> 43202 | AY19: =$C19 -> 43202 | BB19: 0 | BD19: =$B19 -> 43202 | BE19: =$C19 -> 43202 | BH19: 0
B20: =B19+1 -> 43203 | C20: =B20 -> 43203 | F20: 0 | H20: =$B20 -> 43203 | I20: =$C20 -> 43203 | L20: 0 | N20: =$B20 -> 43203 | O20: =$C20 -> 43203 | R20: 0 | T20: =$B20 -> 43203 | U20: =$C20 -> 43203 | X20: 0 | Z20: =$B20 -> 43203 | AA20: =$C20 -> 43203 | AD20: 0 | AF20: =$B20 -> 43203 | AG20: =$C20 -> 43203 | AJ20: 0 | AL20: =$B20 -> 43203 | AM20: =$C20 -> 43203 | AP20: 0 | AR20: =$B20 -> 43203 | AS20: =$C20 -> 43203 | AV20: 0 | AX20: =$B20 -> 43203 | AY20: =$C20 -> 43203 | BB20: 0 | BD20: =$B20 -> 43203 | BE20: =$C20 -> 43203 | BH20: 0
... B35: =B34+1 -> 43218 | C35: =B35 -> 43218 | F35: 0 | H35: =$B35 -> 43218 | I35: =$C35 -> 43218 | L35: 0 | N35: =$B35 -> 43218 | O35: =$C35 -> 43218 | R35: 0 | T35: =$B35 -> 43218 | U35: =$C35 -> 43218 | X35: 0 | Z35: =$B35 -> 43218 | AA35: =$C35 -> 43218 | AD35: 0 | AF35: =$B35 -> 43218 | AG35: =$C35 -> 43218 | AJ35: 0 | AL35: =$B35 -> 43218 | AM35: =$C35 -> 43218 | AP35: 0 | AR35: =$B35 -> 43218 | AS35: =$C35 -> 43218 | AV35: 0 | AX35: =$B35 -> 43218 | AY35: =$C35 -> 43218 | BB35: 0 | BD35: =$B35 -> 43218 | BE35: =$C35 -> 43218 | BH35: 0
B36: =IF(MONTH($B$35+1)=MONTH($B$35),$B$35+1,"") -> 43219 | C36: =IF(B36="","",C35+1) -> 43219 | F36: 0 | H36: =$B36 -> 43219 | I36: =$C36 -> 43219 | L36: 0 | N36: =$B36 -> 43219 | O36: =$C36 -> 43219 | R36: 0 | T36: =$B36 -> 43219 | U36: =$C36 -> 43219 | X36: 0 | Z36: =$B36 -> 43219 | AA36: =$C36 -> 43219 | AD36: 0 | AF36: =$B36 -> 43219 | AG36: =$C36 -> 43219 | AJ36: 0 | AL36: =$B36 -> 43219 | AM36: =$C36 -> 43219 | AP36: 0 | AR36: =$B36 -> 43219 | AS36: =$C36 -> 43219 | AV36: 0 | AX36: =$B36 -> 43219 | AY36: =$C36 -> 43219 | BB36: 0 | BD36: =$B36 -> 43219 | BE36: =$C36 -> 43219 | BH36: 0
B37: =IF(MONTH($B$35+2)=MONTH($B$35),$B$35+2,"") -> 43220 | C37: =IF(B37="","",C36+1) -> 43220 | F37: 0 | H37: =$B37 -> 43220 | I37: =$C37 -> 43220 | L37: 0 | N37: =$B37 -> 43220 | O37: =$C37 -> 43220 | R37: 0 | T37: =$B37 -> 43220 | U37: =$C37 -> 43220 | X37: 0 | Z37: =$B37 -> 43220 | AA37: =$C37 -> 43220 | AD37: 0 | AF37: =$B37 -> 43220 | AG37: =$C37 -> 43220 | AJ37: 0 | AL37: =$B37 -> 43220 | AM37: =$C37 -> 43220 | AP37: 0 | AR37: =$B37 -> 43220 | AS37: =$C37 -> 43220 | AV37: 0 | AX37: =$B37 -> 43220 | AY37: =$C37 -> 43220 | BB37: 0 | BD37: =$B37 -> 43220 | BE37: =$C37 -> 43220 | BH37: 0
B38: =IF(MONTH($B$35+3)=MONTH($B$35),$B$35+3,"") | C38: =IF(B38="","",C37+1) | F38: 0 | H38: =$B38 | I38: =$C38 | L38: 0 | N38: =$B38 | O38: =$C38 | R38: 0 | T38: =$B38 | U38: =$C38 | X38: 0 | Z38: =$B38 | AA38: =$C38 | AD38: 0 | AF38: =$B38 | AG38: =$C38 | AJ38: 0 | AL38: =$B38 | AM38: =$C38 | AP38: 0 | AR38: =$B38 | AS38: =$C38 | AV38: 0 | AX38: =$B38 | AY38: =$C38 | BB38: 0 | BD38: =$B38 | BE38: =$C38 | BH38: 0
C39: Total | E39: Total | F39: =SUM(F8:F38) -> 0 | I39: Total | K39: Total | L39: =SUM(L8:L38) -> 0 | O39: Total | Q39: Total | R39: =SUM(R8:R38) -> 0 | U39: Total | W39: Total | X39: =SUM(X8:X38) -> 0 | AA39: Total | AC39: Total | AD39: =SUM(AD8:AD38) -> 0 | AG39: Total | AI39: Total | AJ39: =SUM(AJ8:AJ38) -> 0 | AM39: Total | AO39: Total | AP39: =SUM(AP8:AP38) -> 0 | AS39: Total | AU39: Total | AV39: =SUM(AV8:AV38) -> 0 | AY39: Total | BA39: Total | BB39: =SUM(BB8:BB38) -> 0 | BE39: Total | BG39: Total | BH39: =SUM(BH8:BH38) -> 0
B47: Le Docteur Excel Pratique

Sheet Fériés
K1: 2000
K2: 2001
K3: 2002
B4: Jour de l'an | D4: =DATE(An,1,1) -> 43101 | K4: 2003
B5: Pâques | D5: =FLOOR(DATE(An,5,DAY(MINUTE(An/38)/2+56)),7)-34+7*(An=2079) -> 43191 | K5: 2004
B6: Lundi de Pâques | D6: =D5+1 -> 43192 | K6: 2005
B7: Fête du travail | D7: =DATE(An,5,1) -> 43221 | K7: 2006
B8: Armistice 1945 | D8: =DATE(An,5,8) -> 43228 | K8: 2007
B9: Ascension | D9: =D5+39 -> 43230 | K9: 2008
B10: Pentecôte | D10: =D5+49 -> 43240 | K10: 2009
B11: Lundi de Pentecote | D11: =D10+1 -> 43241 | K11: 2010
B12: Fête nationale | D12: =DATE(An,7,14) -> 43295 | K12: 2011
B13: Assomption | D13: =DATE(An,8,15) -> 43327 | K13: 2012
B14: Toussaint | D14: =DATE(An,11,1) -> 43405 | K14: 2013
B15: Armistice 1918 | D15: =DATE(An,11,11) -> 43415 | K15: 2014
B16: NOEL | D16: =DATE(An,12,25) -> 43459 | K16: 2015
