Workbook

Sheet Feuil1
B3: Référence exigence | C3: Texte exigence | D3: Moyen de preuve | E3: Workflow No. | F3: Transmittal No | G3: Workflow Status
B4: CRT_Req_001 | C4: Texte de l'exigence 001 | D4: Moyen de preuve 001 Moyen de preuve 008 | E4: =VLOOKUP(Feuil1!B4,Feuil2!$B$4:$E$11,2,) -> WF 0001 | F4: =VLOOKUP(Feuil1!B4,Feuil2!$B$4:$E$11,4,) -> Transmittal 001 | G4: =VLOOKUP(Feuil1!B4,Feuil2!$B$4:$E$11,3,) -> Current
B5: CRT_Req_002 | C5: Texte de l'exigence 002 | D5: Moyen de preuve 002 Moyen de preuve 003 Moyen de preuve 006 | E5: =VLOOKUP(Feuil1!B5,Feuil2!$B$4:$E$11,2,) -> WF 0001 | F5: =VLOOKUP(Feuil1!B5,Feuil2!$B$4:$E$11,4,) -> Transmittal 002 | G5: =VLOOKUP(Feuil1!B5,Feuil2!$B$4:$E$11,3,) -> Pending
B6: CRT_Req_003 | C6: Texte de l'exigence 003 | D6: Moyen de preuve 003 | E6: =VLOOKUP(Feuil1!B6,Feuil2!$B$4:$E$11,2,) -> WF 0002 | F6: =VLOOKUP(Feuil1!B6,Feuil2!$B$4:$E$11,4,) -> Transmittal 003 | G6: =VLOOKUP(Feuil1!B6,Feuil2!$B$4:$E$11,3,) -> Rejected
B7: CRT_Req_004 | C7: Texte de l'exigence 004 | D7: Moyen de preuve 004 Moyen de preuve 005 | E7: =VLOOKUP(Feuil1!B7,Feuil2!$B$4:$E$11,2,) -> WF 0003 | F7: =VLOOKUP(Feuil1!B7,Feuil2!$B$4:$E$11,4,) -> Transmittal 004 | G7: =VLOOKUP(Feuil1!B7,Feuil2!$B$4:$E$11,3,) -> Current
B8: CRT_Req_005 | C8: Texte de l'exigence 005 | D8: Moyen de preuve 005 | E8: =VLOOKUP(Feuil1!B8,Feuil2!$B$4:$E$11,2,) -> WF 0003 | F8: =VLOOKUP(Feuil1!B8,Feuil2!$B$4:$E$11,4,) -> Transmittal 005 | G8: =VLOOKUP(Feuil1!B8,Feuil2!$B$4:$E$11,3,) -> Pending
B9: CRT_Req_006 | C9: Texte de l'exigence 006 | D9: Moyen de preuve 006 Moyen de preuve 011 Moyen de preuve 013 | E9: =VLOOKUP(Feuil1!B9,Feuil2!$B$4:$E$11,2,) -> WF 0004 | F9: =VLOOKUP(Feuil1!B9,Feuil2!$B$4:$E$11,4,) -> Transmittal 006 | G9: =VLOOKUP(Feuil1!B9,Feuil2!$B$4:$E$11,3,) -> Current
B10: CRT_Req_007 | C10: Texte de l'exigence 007 | D10: Moyen de preuve 007 Moyen de preuve 008 Moyen de preuve 011 | E10: =VLOOKUP(Feuil1!B10,Feuil2!$B$4:$E$11,2,) -> #N/A | F10: =VLOOKUP(Feuil1!B10,Feuil2!$B$4:$E$11,4,) -> #N/A | G10: =VLOOKUP(Feuil1!B10,Feuil2!$B$4:$E$11,3,) -> #N/A
B11: CRT_Req_008 | C11: Texte de l'exigence 008 | D11: Moyen de preuve 009 Moyen de preuve 010 | E11: =VLOOKUP(Feuil1!B11,Feuil2!$B$4:$E$11,2,) -> #N/A | F11: =VLOOKUP(Feuil1!B11,Feuil2!$B$4:$E$11,4,) -> #N/A | G11: =VLOOKUP(Feuil1!B11,Feuil2!$B$4:$E$11,3,) -> #N/A
B12: CRT_Req_009 | C12: Texte de l'exigence 009 | D12: Moyen de preuve 011 Moyen de preuve 012 | E12: =VLOOKUP(Feuil1!B12,Feuil2!$B$4:$E$11,2,) -> #N/A | F12: =VLOOKUP(Feuil1!B12,Feuil2!$B$4:$E$11,4,) -> #N/A | G12: =VLOOKUP(Feuil1!B12,Feuil2!$B$4:$E$11,3,) -> #N/A
B13: CRT_Req_010 | C13: Texte de l'exigence 010 | D13: Moyen de preuve 014 Moyen de preuve 015 | E13: =VLOOKUP(Feuil1!B13,Feuil2!$B$4:$E$11,2,) -> #N/A | F13: =VLOOKUP(Feuil1!B13,Feuil2!$B$4:$E$11,4,) -> #N/A | G13: =VLOOKUP(Feuil1!B13,Feuil2!$B$4:$E$11,3,) -> #N/A

Sheet Feuil2
B3: Référence exigence | C3: Workflow No. | D3: Workflow Status | E3: Transmittal No
B4: CRT_Req_001 | C4: WF 0001 | D4: Current | E4: Transmittal 001
B5: CRT_Req_002 | C5: WF 0001 | D5: Pending | E5: Transmittal 002
B6: CRT_Req_002 | C6: WF 0002 | D6: Reviewed | E6: Transmittal 002
B7: CRT_Req_003 | C7: WF 0002 | D7: Rejected | E7: Transmittal 003
B8: CRT_Req_003 | C8: WF 0003 | D8: Current | E8: Transmittal 003
B9: CRT_Req_004 | C9: WF 0003 | D9: Current | E9: Transmittal 004
B10: CRT_Req_005 | C10: WF 0003 | D10: Pending | E10: Transmittal 005
B11: CRT_Req_006 | C11: WF 0004 | D11: Current | E11: Transmittal 006
