Workbook

Sheet Modif
B2: 186-441 | C2: FACADE | D2: 186-441 | F2: 1370 | G2: 450 | H2: 14
B3: 186-442 | C3: COTE COFFRE | D3: 186-442 | F3: 1610 | G3: 450 | H3: 14
B4: 186-443 | C4: COTÉ | D4: 186-443 | F4: 1610 | G4: 450 | H4: 14
B5: 186-444 | C5: TRAVERSE | D5: 186-444 | F5: 1281 | G5: 80 | H5: 14
B6: 186-445 | C6: DESSUS | D6: 186-445 | E6: A | F6: 805 | G6: 423 | H6: 14
B7: 186-446 | C7: DEVANT CAISSON | D7: 186-446 | F7: 423 | G7: 342 | H7: 14
B8: 186-447 | C8: DERRIERE | D8: 186-447 | F8: 423 | G8: 342 | H8: 14

Sheet 400Df
B2: =Modif!B2 -> 186-441 | C2: =Modif!C2 -> FACADE | D2: =Modif!D2 -> 186-441 | E2: =Modif!E2 -> 0 | F2: =Modif!F2 -> 1370 | G2: =Modif!G2 -> 450 | H2: =Modif!H2 -> 14
B3: =Modif!B3 -> 186-442 | C3: =Modif!C3 -> COTE COFFRE | D3: =Modif!D3 -> 186-442 | E3: =Modif!E3 -> 0 | F3: =Modif!F3 -> 1610 | G3: =Modif!G3 -> 450 | H3: =Modif!H3 -> 14
B4: =Modif!B4 -> 186-443 | C4: =Modif!C4 -> COTÉ | D4: =Modif!D4 -> 186-443 | E4: =Modif!E4 -> 0 | F4: =Modif!F4 -> 1610 | G4: =Modif!G4 -> 450 | H4: =Modif!H4 -> 14
B5: =Modif!B5 -> 186-444 | C5: =Modif!C5 -> TRAVERSE | D5: =Modif!D5 -> 186-444 | E5: =Modif!E5 -> 0 | F5: =Modif!F5 -> 1281 | G5: =Modif!G5 -> 80 | H5: =Modif!H5 -> 14
B6: =Modif!B6 -> 186-445 | C6: =Modif!C6 -> DESSUS | D6: =Modif!D6 -> 186-445 | E6: =Modif!E6 -> A | F6: =Modif!F6 -> 805 | G6: =Modif!G6 -> 423 | H6: =Modif!H6 -> 14
B7: =Modif!B7 -> 186-446 | C7: =Modif!C7 -> DEVANT CAISSON | D7: =Modif!D7 -> 186-446 | E7: =Modif!E7 -> 0 | F7: =Modif!F7 -> 423 | G7: =Modif!G7 -> 342 | H7: =Modif!H7 -> 14
B8: =Modif!B8 -> 186-447 | C8: =Modif!C8 -> DERRIERE | D8: =Modif!D8 -> 186-447 | E8: =Modif!E8 -> 0 | F8: =Modif!F8 -> 423 | G8: =Modif!G8 -> 342 | H8: =Modif!H8 -> 14
