Workbook

Sheet MVTS MARS
A1: Mode de Paiement | B1: Entrée Euro | C1: Nbre | D1: Sortie Euro | E1: Nbre | H1: DATE DEBUT | I1: 15
A2: Carte Bancaire | B2: =SUM(DEBUT:FIN!$B2) -> 5 | C2: =SUM(DEBUT:FIN!$C2) -> 5 | D2: =SUM(DEBUT:FIN!$D2) -> 5 | E2: =SUM(DEBUT:FIN!$E2) -> 5 | H2: DATE FIN | I2: 17
A3: Chèque Vacances | B3: =SUM(DEBUT:FIN!$B3) -> 5 | C3: =SUM(DEBUT:FIN!$C3) -> 5 | D3: =SUM(DEBUT:FIN!$D3) -> 5 | E3: =SUM(DEBUT:FIN!$E3) -> 5
A4: Chèques | B4: =SUM(DEBUT:FIN!$B4) -> 5 | C4: =SUM(DEBUT:FIN!$C4) -> 5 | D4: =SUM(DEBUT:FIN!$D4) -> 5 | E4: =SUM(DEBUT:FIN!$E4) -> 5
A5: Espèces | B5: =SUM(DEBUT:FIN!$B5) -> 5 | C5: =SUM(DEBUT:FIN!$C5) -> 5 | D5: =SUM(DEBUT:FIN!$D5) -> 5 | E5: =SUM(DEBUT:FIN!$E5) -> 5
A6: Virement Bancaire | B6: =SUM(DEBUT:FIN!$B6) -> 5 | C6: =SUM(DEBUT:FIN!$C6) -> 5 | D6: =SUM(DEBUT:FIN!$D6) -> 5 | E6: =SUM(DEBUT:FIN!$E6) -> 5
A7: Virement Interne | B7: =SUM(DEBUT:FIN!$B7) -> 5 | C7: =SUM(DEBUT:FIN!$C7) -> 5 | D7: =SUM(DEBUT:FIN!$D7) -> 5 | E7: =SUM(DEBUT:FIN!$E7) -> 5
F12: En fonction de la valeur des cellules I1 et I2 j'aimerais que la formules change en B2 et obtenir : SOMME(15:17!$B2)

Sheet DEBUT
A1: Mode de Paiement | B1: Entrée Euro | C1: Nbre | D1: Sortie Euro | E1: Nbre
A2: Carte Bancaire
A3: Chèque Vacances
A4: Chèques
A5: Espèces
A6: Virement Bancaire
A7: Virement Interne

Sheet 14
A1: Mode de Paiement | B1: Entrée Euro | C1: Nbre | D1: Sortie Euro | E1: Nbre
A2: Carte Bancaire | B2: 1 | C2: 1 | D2: 1 | E2: 1
A3: Chèque Vacances | B3: 1 | C3: 1 | D3: 1 | E3: 1
A4: Chèques | B4: 1 | C4: 1 | D4: 1 | E4: 1
A5: Espèces | B5: 1 | C5: 1 | D5: 1 | E5: 1
A6: Virement Bancaire | B6: 1 | C6: 1 | D6: 1 | E6: 1
A7: Virement Interne | B7: 1 | C7: 1 | D7: 1 | E7: 1

Sheet 15
A1: Mode de Paiement | B1: Entrée Euro | C1: Nbre | D1: Sortie Euro | E1: Nbre
A2: Carte Bancaire | B2: 1 | C2: 1 | D2: 1 | E2: 1
A3: Chèque Vacances | B3: 1 | C3: 1 | D3: 1 | E3: 1
A4: Chèques | B4: 1 | C4: 1 | D4: 1 | E4: 1
A5: Espèces | B5: 1 | C5: 1 | D5: 1 | E5: 1
A6: Virement Bancaire | B6: 1 | C6: 1 | D6: 1 | E6: 1
A7: Virement Interne | B7: 1 | C7: 1 | D7: 1 | E7: 1

Sheet 16
A1: Mode de Paiement | B1: Entrée Euro | C1: Nbre | D1: Sortie Euro | E1: Nbre
A2: Carte Bancaire | B2: 1 | C2: 1 | D2: 1 | E2: 1
A3: Chèque Vacances | B3: 1 | C3: 1 | D3: 1 | E3: 1
A4: Chèques | B4: 1 | C4: 1 | D4: 1 | E4: 1
A5: Espèces | B5: 1 | C5: 1 | D5: 1 | E5: 1
A6: Virement Bancaire | B6: 1 | C6: 1 | D6: 1 | E6: 1
A7: Virement Interne | B7: 1 | C7: 1 | D7: 1 | E7: 1

Sheet 17
A1: Mode de Paiement | B1: Entrée Euro | C1: Nbre | D1: Sortie Euro | E1: Nbre
A2: Carte Bancaire | B2: 1 | C2: 1 | D2: 1 | E2: 1
A3: Chèque Vacances | B3: 1 | C3: 1 | D3: 1 | E3: 1
A4: Chèques | B4: 1 | C4: 1 | D4: 1 | E4: 1
A5: Espèces | B5: 1 | C5: 1 | D5: 1 | E5: 1
A6: Virement Bancaire | B6: 1 | C6: 1 | D6: 1 | E6: 1
A7: Virement Interne | B7: 1 | C7: 1 | D7: 1 | E7: 1

Sheet 18
A1: Mode de Paiement | B1: Entrée Euro | C1: Nbre | D1: Sortie Euro | E1: Nbre
A2: Carte Bancaire | B2: 1 | C2: 1 | D2: 1 | E2: 1
A3: Chèque Vacances | B3: 1 | C3: 1 | D3: 1 | E3: 1
A4: Chèques | B4: 1 | C4: 1 | D4: 1 | E4: 1
A5: Espèces | B5: 1 | C5: 1 | D5: 1 | E5: 1
A6: Virement Bancaire | B6: 1 | C6: 1 | D6: 1 | E6: 1
A7: Virement Interne | B7: 1 | C7: 1 | D7: 1 | E7: 1

Sheet FIN
A1: Mode de Paiement | B1: Entrée Euro | C1: Nbre | D1: Sortie Euro | E1: Nbre
A2: Carte Bancaire
A3: Chèque Vacances
A4: Chèques
A5: Espèces
A6: Virement Bancaire
A7: Virement Interne
