Workbook

Sheet vpr
A1: Date création | B1: Ressource | C1: Etat Libre | D1: Nature | E1: N° Affaire | F1: Descriptif Appel | G1: Temps
A2: 43558.431 | B2: DMITROVIC | C2: Abandonné * | D2: VPR | E2: 702384 | F2: Visite préventive 2019 : 1 /1 Incendie + BAES + Désenfumage - A factur | G2: =IFERROR(INDEX(temps!A3:F183,MATCH(E2,temps!E3:E184,0),2),"pas dans la feuille temps") -> pas dans la feuille temps
A3: 43558.43 | B3: DMITROVIC | C3: Réalisé Terrain* | D3: VPR | E3: 00702383 | F3: Visite préventive 2019 : 1 /1 Incendie + BAES + Désenfumage - A factur | G3: =IFERROR(INDEX(temps!A4:F184,MATCH(E3,temps!E4:E185,0),2),"pas dans la feuille temps") -> 5
A4: 43949.271 | D4: VPR | E4: 00704314 | F4: Visite préventive 2020/2021 : 1 / 2 - Incendie + Désenfumage - | G4: =IFERROR(INDEX(temps!A5:F185,MATCH(E4,temps!E5:E186,0),2),"pas dans la feuille temps") -> pas dans la feuille temps
A5: 43558.43 | B5: DMITROVIC | C5: Réalisé Terrain* | D5: VPR | E5: 00702382 | F5: Visite préventive 2019 : 1 /1 Incendie + BAES + Désenfumage - A factur | G5: =IFERROR(INDEX(temps!A6:F186,MATCH(E5,temps!E6:E187,0),2),"pas dans la feuille temps") -> 6
A6: 43558.429 | B6: DMITROVIC | C6: Réalisé Terrain* | D6: VPR | E6: 00702380 | F6: Visite préventive 2019 : 1 /1 Incendie + BAES + Désenfumage - A factur | G6: =IFERROR(INDEX(temps!A7:F187,MATCH(E6,temps!E7:E188,0),2),"pas dans la feuille temps") -> pas dans la feuille temps
A7: 43558.429 | B7: DMITROVIC | C7: Réalisé Terrain* | D7: VPR | E7: 00702379 | F7: Visite préventive 2019 : 1 /1 Incendie + BAES + Désenfumage - A factur | G7: =IFERROR(INDEX(temps!A8:F188,MATCH(E7,temps!E8:E189,0),2),"pas dans la feuille temps") -> 3
A8: 43938.502 | B8: CORELLI | C8: Réalisé Terrain* | D8: VPR | E8: 00704241 | F8: Visite préventive 2019/2020 : 2 / 2 - BAES A facturer VPR globales | G8: =IFERROR(INDEX(temps!A9:F189,MATCH(E8,temps!E9:E190,0),2),"pas dans la feuille temps") -> 0.25
A9: 43938.497 | B9: CORELLI | C9: Réalisé Terrain* | D9: VPR | E9: 00704240 | F9: Visite préventive 2019/2020 : 2 / 2 - BAES A facturer VPR globales | G9: =IFERROR(INDEX(temps!A10:F190,MATCH(E9,temps!E10:E191,0),2),"pas dans la feuille temps") -> 0.25
A10: 43902.721 | B10: CORELLI | C10: Réalisé Terrain* | D10: VPR | E10: 00704101 | F10: Visite préventive 2019/2020 : 2 / 2 - BAES - A facturer VPR globales | G10: =IFERROR(INDEX(temps!A11:F191,MATCH(E10,temps!E11:E192,0),2),"pas dans la feuille temps") -> 0.5
A11: 43902.72 | B11: CORELLI | C11: Réalisé Terrain* | D11: VPR | E11: 00704100 | F11: Visite préventive 2019/2020 : 2 / 2 - BAES - A facturer VPR globales | G11: =IFERROR(INDEX(temps!A12:F192,MATCH(E11,temps!E12:E193,0),2),"pas dans la feuille temps") -> 0.5
A12: 43902.72 | B12: CORELLI | C12: Réalisé Terrain* | D12: VPR | E12: 00704099 | F12: Visite préventive 2019/2020 : 2 / 2 - BAES - A facturer VPR globales | G12: =IFERROR(INDEX(temps!A13:F193,MATCH(E12,temps!E13:E194,0),2),"pas dans la feuille temps") -> 0.5
A13: 43902.719 | B13: CORELLI | C13: Réalisé Terrain* | D13: VPR | E13: 00704098 | F13: Visite préventive 2019/2020 : 2 / 2 - BAES - A facturer VPR globales | G13: =IFERROR(INDEX(temps!A14:F194,MATCH(E13,temps!E14:E195,0),2),"pas dans la feuille temps") -> 2.5
A14: 43902.719 | B14: CORELLI | C14: Réalisé Terrain* | D14: VPR | E14: 00704097 | F14: Visite préventive 2019/2020 : 2 / 2 - BAES - A facturer VPR globales | G14: =IFERROR(INDEX(temps!A15:F195,MATCH(E14,temps!E15:E196,0),2),"pas dans la feuille temps") -> 0.5
A15: 43902.719 | B15: CORELLI | C15: Réalisé Terrain* | D15: VPR | E15: 00704096 | F15: Visite préventive 2019/2020 : 2 / 2 - BAES - A facturer VPR globales | G15: =IFERROR(INDEX(temps!A16:F196,MATCH(E15,temps!E16:E197,0),2),"pas dans la feuille temps") -> 3.5
A16: 43902.718 | B16: CORELLI | C16: Réalisé Terrain* | D16: VPR | E16: 00704095 | F16: Visite préventive 2019/2020 : 2 / 2 - BAES - A facturer VPR globales | G16: =IFERROR(INDEX(temps!A17:F197,MATCH(E16,temps!E17:E198,0),2),"pas dans la feuille temps") -> 1.75
... A123: 43901.351 | B123: DMITROVIC | C123: Plannification* | D123: VPR | E123: 00703680 | F123: Visite préventive 2020/2021 : 1 / 2 - Incendie + BAES + Désenfumage - | G123: =IFERROR(INDEX(temps!A124:F304,MATCH(E123,temps!E124:E305,0),2),"pas dans la feuille temps") -> pas dans la feuille temps
A124: 43901.347 | B124: DMITROVIC | C124: Plannification* | D124: VPR | E124: 703678 | F124: Visite préventive 2020/2021 : 1 / 2 - Incendie + BAES + Désenfumage - | G124: =IFERROR(INDEX(temps!A125:F305,MATCH(E124,temps!E125:E306,0),2),"pas dans la feuille temps") -> pas dans la feuille temps
A125: 43901.345 | B125: DMITROVIC | C125: Plannification* | D125: VPR | E125: 00703676 | F125: Visite préventive 2020/2021 : 1 / 2 - Incendie + BAES + Désenfumage - | G125: =IFERROR(INDEX(temps!A126:F306,MATCH(E125,temps!E126:E307,0),2),"pas dans la feuille temps") -> pas dans la feuille temps
A126: 43901.317 | B126: DMITROVIC | C126: Plannification* | D126: VPR | E126: 00703673 | F126: Visite préventive 2020/2021 : 1 / 2 - Incendie + BAES + Désenfumage - | G126: =IFERROR(INDEX(temps!A127:F307,MATCH(E126,temps!E127:E308,0),2),"pas dans la feuille temps") -> pas dans la feuille temps
A127: 43901.315 | B127: DMITROVIC | C127: Plannification* | D127: VPR | E127: 00703671 | F127: Visite préventive 2020/2021 : 1 / 2 - Incendie + BAES + Désenfumage - | G127: =IFERROR(INDEX(temps!A128:F308,MATCH(E127,temps!E128:E309,0),2),"pas dans la feuille temps") -> pas dans la feuille temps
A128: 43901.313 | B128: S-TRAITANT1 | C128: Plannification* | D128: VPR | E128: 00703670 | F128: Visite préventive 2020/2021 : 1 / 2 - Incendie + BAES + Désenfumage - | G128: =IFERROR(INDEX(temps!A129:F309,MATCH(E128,temps!E129:E310,0),2),"pas dans la feuille temps") -> pas dans la feuille temps
A129: 43901.311 | B129: DMITROVIC | C129: Plannification* | D129: VPR | E129: 00703667 | F129: Visite préventive 2020/2021 : 1 / 2 - Incendie + BAES + Désenfumage - | G129: =IFERROR(INDEX(temps!A130:F310,MATCH(E129,temps!E130:E311,0),2),"pas dans la feuille temps") -> pas dans la feuille temps
A130: 43901.309 | B130: DMITROVIC | C130: Plannification* | D130: VPR | E130: 00703665 | F130: Visite préventive 2020/2021 : 1 / 2 - Incendie + BAES + Désenfumage - | G130: =IFERROR(INDEX(temps!A131:F311,MATCH(E130,temps!E131:E312,0),2),"pas dans la feuille temps") -> pas dans la feuille temps
A131: 43901.306 | B131: DMITROVIC | C131: Plannification* | D131: VPR | E131: 00703663 | F131: Visite préventive 2020/2021 : 1 / 2 - Incendie + BAES + Désenfumage - | G131: =IFERROR(INDEX(temps!A132:F312,MATCH(E131,temps!E132:E313,0),2),"pas dans la feuille temps") -> pas dans la feuille temps
A132: 43901.299 | B132: DMITROVIC | C132: Plannification* | D132: VPR | E132: 00703660 | F132: Visite préventive 2020/2021 : 1 / 2 - Incendie + BAES + Désenfumage - | G132: =IFERROR(INDEX(temps!A133:F313,MATCH(E132,temps!E133:E314,0),2),"pas dans la feuille temps") -> pas dans la feuille temps
A133: 43901.297 | B133: DMITROVIC | C133: Plannification* | D133: VPR | E133: 00703658 | F133: Visite préventive 2020/2021 : 1 / 2 - Incendie + BAES + Désenfumage - | G133: =IFERROR(INDEX(temps!A134:F314,MATCH(E133,temps!E134:E315,0),2),"pas dans la feuille temps") -> pas dans la feuille temps
A134: 43901.293 | B134: DMITROVIC | C134: Plannification* | D134: VPR | E134: 00703655 | F134: Visite préventive 2020/2021 : 1 / 2 - Incendie + BAES + Désenfumage - | G134: =IFERROR(INDEX(temps!A135:F315,MATCH(E134,temps!E135:E316,0),2),"pas dans la feuille temps") -> pas dans la feuille temps
A135: 43901.29 | B135: DMITROVIC | C135: Plannification* | D135: VPR | E135: 00703652 | F135: Visite préventive 2020/2021 : 1 / 2 - Incendie + BAES + Désenfumage - | G135: =IFERROR(INDEX(temps!A136:F316,MATCH(E135,temps!E136:E317,0),2),"pas dans la feuille temps") -> pas dans la feuille temps
A136: 43901.287 | B136: DMITROVIC | C136: Plannification* | D136: VPR | E136: 00703649 | F136: Visite préventive 2020/2021 : 1 / 2 - Incendie + BAES + Désenfumage - | G136: =IFERROR(INDEX(temps!A137:F317,MATCH(E136,temps!E137:E318,0),2),"pas dans la feuille temps") -> pas dans la feuille temps
A137: 43900.729 | B137: DMITROVIC | C137: Plannification* | D137: VPR | E137: 00703646 | F137: Visite préventive 2020/2021 : 1 / 2 - Incendie + BAES + Désenfumage - | G137: =IFERROR(INDEX(temps!A138:F318,MATCH(E137,temps!E138:E319,0),2),"pas dans la feuille temps") -> pas dans la feuille temps
A138: 43949.266 | C138: Plannification* | D138: VPR | E138: 00704311 | F138: Visite préventive 2020/2021 : 1 / 2 - Incendie + Désenfumage - | G138: =IFERROR(INDEX(temps!A139:F319,MATCH(E138,temps!E139:E320,0),2),"pas dans la feuille temps") -> pas dans la feuille temps
A139: 43900.709 | B139: DMITROVIC | C139: Plannification* | D139: VPR | E139: 00703631 | F139: Visite préventive 2020/2021 : 2 / 2 - BAES - A facturer VPR globales | G139: =IFERROR(INDEX(temps!A140:F320,MATCH(E139,temps!E140:E321,0),2),"pas dans la feuille temps") -> pas dans la feuille temps
A140: 43900.708 | B140: DMITROVIC | C140: Plannification* | D140: VPR | E140: 00703630 | F140: Visite préventive 2020/2021 : 1 /2 Incendie + BAES + Désenfumage - A f | G140: =IFERROR(INDEX(temps!A141:F321,MATCH(E140,temps!E141:E322,0),2),"pas dans la feuille temps") -> pas dans la feuille temps
A141: 43900.707 | B141: DMITROVIC | C141: Plannification* | D141: VPR | E141: 00703629 | F141: Visite préventive 2020/2021 : 1 /1 Incendie + Désenfumage - A facturer | G141: =IFERROR(INDEX(temps!A142:F322,MATCH(E141,temps!E142:E323,0),2),"pas dans la feuille temps") -> pas dans la feuille temps
A142: 43900.706 | B142: DMITROVIC | C142: Plannification* | D142: VPR | E142: 00703628 | F142: Visite préventive 2020/2021 : 2 / 2 - BAES - A facturer VPR globales | G142: =IFERROR(INDEX(temps!A143:F323,MATCH(E142,temps!E143:E324,0),2),"pas dans la feuille temps") -> pas dans la feuille temps
A143: 43900.705 | B143: DMITROVIC | C143: Plannification* | D143: VPR | E143: 00703627 | F143: Visite préventive 2020/2021 : 1 /2 Incendie + BAES + Désenfumage - A f | G143: =IFERROR(INDEX(temps!A144:F324,MATCH(E143,temps!E144:E325,0),2),"pas dans la feuille temps") -> pas dans la feuille temps
A144: 43900.704 | B144: DMITROVIC | C144: Plannification* | D144: VPR | E144: 00703626 | F144: Visite préventive 2020/2021 : 2 / 2 - BAES - A facturer VPR globales | G144: =IFERROR(INDEX(temps!A145:F325,MATCH(E144,temps!E145:E326,0),2),"pas dans la feuille temps") -> pas dans la feuille temps
A145: 43900.704 | B145: DMITROVIC | C145: Plannification* | D145: VPR | E145: 00703625 | F145: Visite préventive 2020/2021 : 1 /2 Incendie + BAES + Désenfumage - A f | G145: =IFERROR(INDEX(temps!A146:F326,MATCH(E145,temps!E146:E327,0),2),"pas dans la feuille temps") -> pas dans la feuille temps
A146: 43900.703 | B146: DMITROVIC | C146: Plannification* | D146: VPR | E146: 00703624 | F146: Visite préventive 2020/2021 : 2 / 2 - BAES - A facturer VPR globales | G146: =IFERROR(INDEX(temps!A147:F327,MATCH(E146,temps!E147:E328,0),2),"pas dans la feuille temps") -> pas dans la feuille temps
...

Sheet temps
A1: Date | B1: Temps | C1: Code tiers | D1: partie 2 de l'affaire | E1: N° Affaire | F1: Libellé | I1: 00704081
A3: 43921 | B3: 0.5 | C3: B70029O : USID GRENOBLE ANTENNE BARBY | D3: VPR | E3: 00704081 | F3: Visite préventive 2019/2020 : 2 / 2 - BAES - A facturer VPR globales | H3: =INDEX(A3:F184,MATCH(I1,E3:E184,0),2) -> 0.5 | I3: =MATCH(H3,B3:B184,0) -> 1 | J3: =MATCH(I1,E3:E184,0) -> 1
A4: 43921 | B4: 0.5 | C4: B70029O : USID GRENOBLE ANTENNE BARBY | D4: VPR | E4: 00704082 | F4: Visite préventive 2019/2020 : 2 / 2 - BAES - A facturer VPR globales
A5: 43921 | B5: 2 | C5: B70029O : USID GRENOBLE ANTENNE BARBY | D5: VPR | E5: 00704083 | F5: Visite préventive 2019/2020 : 2 / 2 - BAES - A facturer VPR globales
A6: 43921 | B6: 3.75 | C6: B70029O : USID GRENOBLE ANTENNE BARBY | D6: VPR | E6: 00704071 | F6: Visite préventive 2019/2020 : 2 / 2 - BAES - A facturer VPR globales
A7: 43921 | B7: 0.25 | C7: B70029O : USID GRENOBLE ANTENNE BARBY | D7: VPR | E7: 00704076 | F7: Visite préventive 2019/2020 : 2 / 2 - BAES - A facturer VPR globales
A8: 43921 | B8: 1 | C8: B70029O : USID GRENOBLE ANTENNE BARBY | D8: VPR | E8: 00704077 | F8: Visite préventive 2019/2020 : 2 / 2 - BAES - A facturer VPR globales
A9: 43923 | B9: 4 | C9: B70029O : USID GRENOBLE ANTENNE BARBY | D9: VPR | E9: 00704072 | F9: Visite préventive 2019/2020 : 2 / 2 - BAES - A facturer VPR globales
A10: 43923 | B10: 1.75 | C10: B70029O : USID GRENOBLE ANTENNE BARBY | D10: VPR | E10: 00704069 | F10: Visite préventive 2019/2020 : 2 / 2 - BAES - A facturer VPR globales
A11: 43923 | B11: 1.25 | C11: B70029O : USID GRENOBLE ANTENNE BARBY | D11: VPR | E11: 00704073 | F11: Visite préventive 2019/2020 : 2 / 2 - BAES - A facturer VPR globales
A12: 43923 | B12: 1 | C12: B70029O : USID GRENOBLE ANTENNE BARBY | D12: VPR | E12: 00704075 | F12: Visite préventive 2019/2020 : 2 / 2 - BAES - A facturer VPR globales
A13: 43924 | B13: 4 | C13: B70029O : USID GRENOBLE ANTENNE BARBY | D13: CON | E13: 00702211 | F13: Marché 17- 410 - 18GC020 - Lot 2 : Maintenance Préventive et correctiv
B14: 20
A16: 43927 | B16: 2 | C16: B70029O : USID GRENOBLE ANTENNE BARBY | D16: VPR | E16: 00704066 | F16: Visite préventive 2019/2020 : 2 / 2 - BAES - A facturer VPR globales
A17: 43927 | B17: 0.5 | C17: B70029O : USID GRENOBLE ANTENNE BARBY | D17: VPR | E17: 00704067 | F17: Visite préventive 2019/2020 : 2 / 2 - BAES - A facturer VPR globales
A18: 43927 | B18: 0.5 | C18: B70029O : USID GRENOBLE ANTENNE BARBY | D18: VPR | E18: 00704065 | F18: Visite préventive 2019/2020 : 2 / 2 - BAES - A facturer VPR globales
A19: 43927 | B19: 1 | C19: B70029O : USID GRENOBLE ANTENNE BARBY | D19: VPR | E19: 00704062 | F19: Visite préventive 2019/2020 : 2 / 2 - BAES - A facturer VPR globales
A20: 43927 | B20: 0.5 | C20: B70029O : USID GRENOBLE ANTENNE BARBY | D20: VPR | E20: 00704064 | F20: Visite préventive 2019/2020 : 2 / 2 - BAES - A facturer VPR globales
A21: 43927 | B21: 0.5 | C21: B70029O : USID GRENOBLE ANTENNE BARBY | D21: VPR | E21: 00704061 | F21: Visite préventive 2019/2020 : 2 / 2 - BAES - A facturer VPR globales
A22: 43927 | B22: 0.5 | C22: B70029O : USID GRENOBLE ANTENNE BARBY | D22: VPR | E22: 00704063 | F22: Visite préventive 2019/2020 : 2 / 2 - BAES - A facturer VPR globales
A23: 43927 | B23: 2.5 | C23: B70029O : USID GRENOBLE ANTENNE BARBY | D23: VPR | E23: 00704060 | F23: Visite préventive 2019/2020 : 2 / 2 - BAES - A facturer VPR globales
A24: 43928 | B24: 4 | C24: B70029O : USID GRENOBLE ANTENNE BARBY | D24: VPR | E24: 00704090 | F24: Visite préventive 2019/2020 : 2 / 2 - BAES - A facturer VPR globales
A25: 43928 | B25: 0.5 | C25: B70029O : USID GRENOBLE ANTENNE BARBY | D25: VPR | E25: 00704101 | F25: Visite préventive 2019/2020 : 2 / 2 - BAES - A facturer VPR globales
A26: 43928 | B26: 2.5 | C26: B70029O : USID GRENOBLE ANTENNE BARBY | D26: VPR | E26: 00704098 | F26: Visite préventive 2019/2020 : 2 / 2 - BAES - A facturer VPR globales
A27: 43928 | B27: 0.5 | C27: B70029O : USID GRENOBLE ANTENNE BARBY | D27: VPR | E27: 00704099 | F27: Visite préventive 2019/2020 : 2 / 2 - BAES - A facturer VPR globales
... A37: 43930 | B37: 0.25 | C37: B70029O : USID GRENOBLE ANTENNE BARBY | D37: VPR | E37: 00704240 | F37: Visite préventive 2019/2020 : 2 / 2 - BAES A facturer VPR globales
B38: 24.5
A40: 43585 | B40: 4.5 | C40: B70029O : USID GRENOBLE ANTENNE BARBY | D40: SAV | E40: 00702556 | F40: Mail de M THIRIAT Demande d'intervention sur la centrale incendie du b
B41: 4.5
A43: 43745 | B43: 7 | C43: B70029O : USID GRENOBLE ANTENNE BARBY | D43: VPR | E43: 00702360 | F43: Visite préventive 2019 : 1 /1 Incendie + BAES + Désenfumage - A factur
A44: 43745 | B44: 1 | C44: B70029O : USID GRENOBLE ANTENNE BARBY | D44: SAV | E44: 00703108 | F44: Demande d’intervention sur la centrale incendie du bâtiment 0006 quart
A45: 43746 | B45: 4 | C45: B70029O : USID GRENOBLE ANTENNE BARBY | D45: VPR | E45: 00702359 | F45: Visite préventive 2019 : 1 /1 Incendie + BAES + Désenfumage - A factur
A46: 43747 | B46: 2 | C46: B70029O : USID GRENOBLE ANTENNE BARBY | D46: VPR | E46: 00702359 | F46: Visite préventive 2019 : 1 /1 Incendie + BAES + Désenfumage - A factur
A47: 43747 | B47: 6 | C47: B70029O : USID GRENOBLE ANTENNE BARBY | D47: VPR | E47: 00702360 | F47: Visite préventive 2019 : 1 /1 Incendie + BAES + Désenfumage - A factur
A48: 43748 | B48: 3 | C48: B70029O : USID GRENOBLE ANTENNE BARBY | D48: VPR | E48: 00702379 | F48: Visite préventive 2019 : 1 /1 Incendie + BAES + Désenfumage - A factur
A49: 43748 | B49: 2 | C49: B70029O : USID GRENOBLE ANTENNE BARBY | D49: VPR | E49: 00702371 | F49: Visite préventive 2019 : 1 /1 Incendie + BAES + Désenfumage - A factur
A50: 43748 | B50: 1 | C50: B70029O : USID GRENOBLE ANTENNE BARBY | D50: VPR | E50: 00702356 | F50: Visite préventive 2019 : 1 /1 Incendie + BAES + Désenfumage - A factur
A51: 43749 | B51: 1 | C51: B70029O : USID GRENOBLE ANTENNE BARBY | D51: VPR | E51: 00702359 | F51: Visite préventive 2019 : 1 /1 Incendie + BAES + Désenfumage - A factur
A52: 43749 | B52: 1 | C52: B70029O : USID GRENOBLE ANTENNE BARBY | D52: VPR | E52: 00702360 | F52: Visite préventive 2019 : 1 /1 Incendie + BAES + Désenfumage - A factur
A53: 43749 | B53: 3 | C53: B70029O : USID GRENOBLE ANTENNE BARBY | D53: VPR | E53: 00702377 | F53: Visite préventive 2019 : 1 /1 Incendie + BAES + Désenfumage - A factur
...
