Workbook

Sheet 2016
B1: JANVIER | C1: FEVRIER | D1: MARS | E1: AVRIL | F1: MAI | G1: JUIN | H1: JUILLET | I1: AOUT | J1: SEPTEMBRE | K1: OCTOBRE | L1: NOVEMBRE | M1: DECEMBRE
A2: ABACA | F2: 80 | N2: =SUM(B2:M2) -> 80
A3: ALDI | M3: 46.95 | N3: =SUM(B3:M3) -> 46.95
A4: AMAZON | B4: 68.22 | I4: 40.48 | K4: 28.09 | L4: 79.44 | M4: 75.96 | N4: =SUM(B4:M4) -> 292.19
A5: AUTOVISION | B5: 62 | N5: =SUM(B5:M5) -> 62
A6: AXA | B6: 89.09 | C6: 89.09 | D6: 89.09 | E6: 89.09 | F6: 89.09 | G6: 89.09 | J6: 319.94 | N6: =SUM(B6:M6) -> 854.48
A7: BASLER | D7: 52.75 | K7: 49.65 | N7: =SUM(B7:M7) -> 102.4
A8: BERTRAND | N8: =SUM(B8:M8) -> 0
A9: BRICO DEPOT | F9: 22.9 | N9: =SUM(B9:M9) -> 22.9
A10: BRICOMARCHE | J10: 12.8 | N10: =SUM(B10:M10) -> 12.8
A11: C DISCOUNT | F11: 39.99 | L11: 329.99 | N11: =SUM(B11:M11) -> 369.98
A12: CABINET D'IMAGERIE MEDICALE | C12: 25.92 | N12: =SUM(B12:M12) -> 25.92
A13: CABINET D'INFIRMIERES | J13: 6.08 | N13: =SUM(B13:M13) -> 6.08
A14: CABLE RJ45 | L14: 6.96 | N14: =SUM(B14:M14) -> 6.96
A15: CARREFOUR | G15: 50 | H15: 4.12 | I15: 17.89 | J15: 58.74 | K15: 23.44 | L15: 18.01 | M15: 66.75 | N15: =SUM(B15:M15) -> 238.95
A16: CCI | N16: =SUM(B16:M16) -> 0
A17: CCM | B17: 5.4 | C17: 5.4 | D17: 5.4 | E17: 5.4 | F17: 5005.9 | G17: 5.4 | H17: 5.4 | I17: 5.4 | J17: 5.4 | K17: 5.4 | L17: 5.4 | M17: 5.4 | N17: 65.3
A18: CHAUSSEA | N18: =SUM(B18:M18) -> 0
A19: CHAUSS'EXPO | N19: =SUM(B19:M19) -> 0
A20: COIFF'STYLL | L20: 14.5 | N20: =SUM(B20:M20) -> 14.5
A21: CONRAUD | N21: =SUM(B21:M21) -> 0
A22: CRAQUELIN | N22: =SUM(B22:M22) -> 0
A23: CREDIT MUTUEL MOBILE | N23: =SUM(B23:M23) -> 0
A24: DALTONER | E24: 19.1 | N24: =SUM(B24:M24) -> 19.1
A25: DIAC | J25: 223.29 | K25: 223.29 | L25: 223.29 | M25: 223.29 | N25: =SUM(B25:M25) -> 893.16
A26: DISTRI CENTER | G26: 86.46 | H26: 55.97 | N26: =SUM(B26:M26) -> 142.43
A27: ESSO EXPRESS | C27: 50.01 | N27: =SUM(B27:M27) -> 50.01
A28: EUDES | D28: 35 | N28: =SUM(B28:M28) -> 35
A29: GDF | B29: 150 | C29: 486.22 | D29: 218.23 | E29: 218.23 | F29: 218.23 | G29: 218.23 | H29: 218.23 | I29: 218.23 | J29: 218.23 | K29: 218.23 | L29: 218.23 | M29: 218.23 | N29: =SUM(B29:M29) -> 2818.52
A30: IN EXTENSO | D30: 56.65 | N30: =SUM(B30:M30) -> 56.65
A31: INTERMARCHE | B31: 187.68 | C31: 39.4 | D31: 65.75 | E31: 130.02 | F31: 144.56 | G31: 191.65 | H31: 154.25 | I31: 214.13 | J31: 66.2 | K31: 201.81 | L31: 106.76 | M31: 112.53 | N31: =SUM(B31:M31) -> 1614.74
A32: JARDI LECLERC | N32: =SUM(B32:M32) -> 0
A33: JARDILAND | N33: =SUM(B33:M33) -> 0
A34: JMT | F34: 27 | G34: 87 | K34: 40.5 | N34: =SUM(B34:M34) -> 154.5
A35: KASPERSKY | K35: 54.99 | N35: =SUM(B35:M35) -> 54.99
A36: KIABI | N36: =SUM(B36:M36) -> 0
A37: LA FOIR'FOUILLE | N37: =SUM(B37:M37) -> 0
A38: LA POSTE | K38: 23 | M38: 33.6 | N38: =SUM(B38:M38) -> 56.6
A39: LAMY | N39: =SUM(B39:M39) -> 0
A40: LAUNEY | H40: 34.89 | N40: =SUM(B40:M40) -> 34.89
...

Sheet 2017
B1: JANVIER | C1: FEVRIER | D1: MARS | E1: AVRIL | F1: MAI | G1: JUIN | H1: JUILLET | I1: AOUT | J1: SEPTEMBRE | K1: OCTOBRE | L1: NOVEMBRE | M1: DECEMBRE
A2: ABACA | N2: =SUM(B2:M2) -> 0
A3: ABBAYE DE SEPT FONS | H3: 67.5 | N3: =SUM(B3:M3) -> 67.5
A4: ALDI | N4: =SUM(B4:M4) -> 0
A5: AMAZON | B5: 56.58 | C5: 7.99 | D5: 114 | H5: 35.15 | M5: 27.98 | N5: =SUM(B5:M5) -> 241.7
A6: AUTOVISION | N6: =SUM(B6:M6) -> 0
A7: AXA | J7: 335.86 | N7: =SUM(B7:M7) -> 335.86
A8: BASLER | F8: 56.45 | M8: 55.94 | N8: =SUM(B8:M8) -> 112.39
A9: BERTRAND | F9: 28 | N9: =SUM(B9:M9) -> 28
A10: BISCUITERIE DES MENHIRS | J10: 40.6 | N10: =SUM(B10:M10) -> 40.6
A11: BRICO DEPOT | N11: =SUM(B11:M11) -> 0
A12: BRICOMARCHE | N12: =SUM(B12:M12) -> 0
A13: BUT | E13: 339.98 | N13: =SUM(B13:M13) -> 339.98
A14: C DISCOUNT | D14: 63.26 | N14: =SUM(B14:M14) -> 63.26
A15: CABINET D'IMAGERIE MEDICALE | D15: 25.92 | N15: =SUM(B15:M15) -> 25.92
A16: CABINET D'INFIRMIERES | N16: =SUM(B16:M16) -> 0
A17: CABLE RJ45 | N17: =SUM(B17:M17) -> 0
A18: CARAIB | J18: 22 | N18: =SUM(B18:M18) -> 22
A19: CARREFOUR CONTACT | B19: 32.06 | C19: 7.08 | D19: 77.46 | E19: 68.04 | F19: 26.31 | G19: 97.25 | H19: 38.33 | I19: 127.81 | J19: 52.41 | K19: 70.01 | L19: 88.95 | M19: 163.07 | N19: =SUM(B19:M19) -> 848.78
A20: CCI | D20: 5.4 | N20: =SUM(B20:M20) -> 5.4
A21: CCM | B21: 5.15 | C21: 5.15 | D21: 6.15 | E21: 6.15 | F21: 5.15 | G21: 5.15 | H21: 5.15 | I21: 5.15 | J21: 5.15 | K21: 5.15 | L21: 245.15 | M21: 45.15 | N21: =SUM(B21:M21) -> 343.8
A22: CHAUSSEA | F22: 24.99 | N22: =SUM(B22:M22) -> 24.99
A23: CHAUSS'EXPO | D23: 45 | N23: =SUM(B23:M23) -> 45
A24: COIFF'STYLL | B24: 14.5 | E24: 15.5 | G24: 15.5 | I24: 15.8 | K24: 14.5 | M24: 14.5 | N24: =SUM(B24:M24) -> 90.3
A25: CONRAUD | G25: 22 | N25: =SUM(B25:M25) -> 22
A26: CRAQUELIN | E26: 60 | N26: =SUM(B26:M26) -> 60
A27: CREDIT MUTUEL MOBILE | C27: 19.99 | D27: 17.16 | E27: 12.98 | F27: 12.98 | G27: 12.98 | H27: 12.98 | I27: 12.98 | J27: 12.98 | K27: 12.98 | L27: 12.98 | M27: 12.98 | N27: =SUM(B27:M27) -> 153.97
A28: DALTONER | N28: =SUM(B28:M28) -> 0
A29: DECATHLON | I29: 5.99 | L29: 69.99 | N29: =SUM(B29:M29) -> 75.98
A30: DIAC | B30: 223.29 | C30: 223.29 | D30: 223.29 | E30: 223.29 | F30: 223.29 | G30: 223.29 | H30: 223.29 | I30: 223.29 | J30: 223.29 | K30: 223.29 | L30: 223.29 | M30: 223.29 | N30: =SUM(B30:M30) -> 2679.48
A31: DISTRI CENTER | F31: 25.99 | G31: 67.96 | N31: =SUM(B31:M31) -> 93.95
A32: ENTENDRE | K32: 6 | N32: =SUM(B32:M32) -> 6
A33: ESSO EXPRESS | N33: =SUM(B33:M33) -> 0
A34: EUDES | D34: 35 | N34: =SUM(B34:M34) -> 35
A35: FAMILLE MARY | J35: 83 | N35: =SUM(B35:M35) -> 83
A36: FOIRE DE CAEN | J36: 11 | N36: =SUM(B36:M36) -> 11
A37: FRAGONARD | M37: 55 | N37: =SUM(B37:M37) -> 55
A38: GDF | B38: 228.23 | C38: 375.58 | D38: 213 | E38: 213 | F38: 213 | G38: 213 | H38: 213 | I38: 213 | J38: 213 | K38: 213 | L38: 213 | M38: 213 | N38: =SUM(B38:M38) -> 2733.81
A39: GEMO | H39: 19.98 | N39: =SUM(B39:M39) -> 19.98
A40: GUEZELLO | J40: 228 | N40: =SUM(B40:M40) -> 228
...

Sheet 2018
B1: JANVIER | C1: FEVRIER | D1: MARS | E1: AVRIL | F1: MAI | G1: JUIN | H1: JUILLET | I1: AOUT | J1: SEPTEMBRE | K1: OCTOBRE | L1: NOVEMBRE | M1: DECEMBRE
A2: ABACA | N2: =SUM(B2:M2) -> 0
A3: ABBAYE DE SEPT FONS | N3: =SUM(B3:M3) -> 0
A4: ABBAYE NOTRE DAMES DES DOMBES | C4: 29.51 | N4: =SUM(B4:M4) -> 29.51
A5: ALDI | N5: =SUM(B5:M5) -> 0
A6: AMAZON | N6: =SUM(B6:M6) -> 0
A7: AUTOVISION | B7: 62 | N7: =SUM(B7:M7) -> 62
A8: AXA | N8: =SUM(B8:M8) -> 0
A9: BASLER | B9: 55.94 | N9: =SUM(B9:M9) -> 55.94
A10: BERTRAND | N10: =SUM(B10:M10) -> 0
A11: BISCUITERIE DES MENHIRS | N11: =SUM(B11:M11) -> 0
A12: BRICO DEPOT | N12: =SUM(B12:M12) -> 0
A13: BRICOMARCHE | B13: 2 | N13: =SUM(B13:M13) -> 2
A14: BUT | N14: =SUM(B14:M14) -> 0
A15: C DISCOUNT | N15: =SUM(B15:M15) -> 0
A16: CABINET D'IMAGERIE MEDICALE | N16: =SUM(B16:M16) -> 0
A17: CABINET D'INFIRMIERES | N17: =SUM(B17:M17) -> 0
A18: CABLE RJ45 | N18: =SUM(B18:M18) -> 0
A19: CARAIB | N19: =SUM(B19:M19) -> 0
A20: CARREFOUR CONTACT | B20: 93.19 | C20: 65.31 | D20: 151.39 | E20: 87.27 | N20: =SUM(B20:M20) -> 397.16
A21: CCI | N21: =SUM(B21:M21) -> 0
A22: CCM | B22: 5.15 | C22: 5.55 | D22: 5.55 | E22: 5.55 | N22: =SUM(B22:M22) -> 21.8
A23: CHAUSSEA | N23: =SUM(B23:M23) -> 0
A24: CHAUSS'EXPO | N24: =SUM(B24:M24) -> 0
A25: COIFF'STYLL | C25: 14.5 | N25: =SUM(B25:M25) -> 14.5
A26: CONRAUD | N26: =SUM(B26:M26) -> 0
A27: CRAQUELIN | N27: =SUM(B27:M27) -> 0
A28: CREDIT MUTUEL MOBILE | B28: 12.98 | C28: 13.18 | D28: 12.98 | E28: 12.98 | N28: =SUM(B28:M28) -> 52.12
A29: DALTONER | N29: =SUM(B29:M29) -> 0
A30: DECATHLON | N30: =SUM(B30:M30) -> 0
A31: DIAC | B31: 223.29 | C31: 223.29 | D31: 223.29 | E31: 223.29 | N31: =SUM(B31:M31) -> 893.16
A32: DISTRI CENTER | N32: =SUM(B32:M32) -> 0
A33: ENGIE | B33: 213 | D33: 202.85 | E33: 202.85 | N33: =SUM(B33:M33) -> 618.7
A34: ENTENDRE | B34: 6 | D34: 2240 | N34: =SUM(B34:M34) -> 2246
A35: ESSO EXPRESS | N35: =SUM(B35:M35) -> 0
A36: EUDES | N36: =SUM(B36:M36) -> 0
A37: FAMILLE MARY | N37: =SUM(B37:M37) -> 0
A38: FOIRE DE CAEN | N38: =SUM(B38:M38) -> 0
A39: GEMO | N39: =SUM(B39:M39) -> 0
A40: GUEZELLO | N40: =SUM(B40:M40) -> 0
...

Sheet RECAPITULATIF
B1: 2016 | C1: 2017 | D1: 2018
A2: ABACA | B2: 80 | D2: =IFERROR((VLOOKUP(A2,'2018'!A2:N117,14,FALSE))," -") -> 0
A3: ABBAYE DE SEPT FONS | B3: 0 | C3: 67.5 | D3: =IFERROR((VLOOKUP(A3,'2018'!A3:N118,14,FALSE))," -") -> 0
A4: ABBAYE NOTRE DAMES DES DOMBES | B4: 0 | C4: 0 | D4: =IFERROR((VLOOKUP(A4,'2018'!A4:N119,14,FALSE))," -") -> 29.51
A5: ALDI | B5: 46.95 | C5: 0 | D5: =IFERROR((VLOOKUP(A5,'2018'!A5:N120,14,FALSE))," -") -> 0
A6: AMAZON | B6: 292.19 | C6: 241.7 | D6: =IFERROR((VLOOKUP(A6,'2018'!A6:N121,14,FALSE))," -") -> 0
A7: AUTOVISION | B7: 62 | C7: 0 | D7: =IFERROR((VLOOKUP(A7,'2018'!A7:N122,14,FALSE))," -") -> 62
A8: AXA | B8: 854.48 | C8: 335.86 | D8: =IFERROR((VLOOKUP(A8,'2018'!A8:N123,14,FALSE))," -") -> 0
A9: BASLER | B9: 102.4 | C9: 112.39 | D9: =IFERROR((VLOOKUP(A9,'2018'!A9:N124,14,FALSE))," -") -> 55.94
A10: BERTRAND | B10: 0 | C10: 28 | D10: =IFERROR((VLOOKUP(A10,'2018'!A10:N125,14,FALSE))," -") -> 0
A11: BISCUITERIE DES MENHIRS | B11: 0 | C11: 40.6 | D11: =IFERROR((VLOOKUP(A11,'2018'!A11:N126,14,FALSE))," -") -> 0
A12: BRICO DEPOT | B12: 22.9 | C12: 0 | D12: =IFERROR((VLOOKUP(A12,'2018'!A12:N127,14,FALSE))," -") -> 0
A13: BRICOMARCHE | B13: 12.8 | C13: 0 | D13: =IFERROR((VLOOKUP(A13,'2018'!A13:N128,14,FALSE))," -") -> 2
A14: BUT | B14: 0 | C14: 339.98 | D14: =IFERROR((VLOOKUP(A14,'2018'!A14:N129,14,FALSE))," -") -> 0
... A71: LINA France | B71: 0 | C71: 3100 | D71: =IFERROR((VLOOKUP(A71,'2018'!A71:N186,14,FALSE))," -") -> -
A72: LIVORY | B72: 0 | C72: 40.19
A73: MAAF | B73: 436.74 | C73: 487.8 | D73: 249.64
A74: MALWAREBYTES | B74: 0 | C74: 39.99 | D74: 0
A75: MANCHE HABITAT | B75: 1770.14 | C75: 326.98 | D75: 1060.41
A76: MASCULIN | B76: 0 | C76: 85 | D76: 0
A77: MAXI TOYS | B77: 24.99 | C77: 0 | D77: 0
A78: MEUNIER | B78: 0 | C78: 53.13 | D78: 0
A79: MOTTIN | B79: 46.9 | C79: 0 | D79: 0
A80: ORANGE | B80: 280.15 | C80: 49.98 | D80: 0
A81: PHARMACIE DE LA DOUVE | B81: 287.53 | C81: 229.22 | D81: 26
A82: PIECES AUTOS | B82: 114 | C82: 0 | D82: 0
A83: POINT VERT | B83: 0 | C83: 28.5 | D83: 0
A84: RALET | B84: 0 | C84: 26 | D84: 0
... A104: WOK GRILL | B104: 0 | C104: 57 | D104: 0
A105: TOTAL | B105: =SUM(B2:B104) -> 13361.63 | C105: =SUM(C2:C104) -> 20021.51 | D105: 6991.71
