Workbook

Sheet Planning 2018
D3: activité | E3: taille | F3: tonte | G3: désherbage | H3: plantation | I3: élagage | J3: déchets | K3: arrosage | L3: réparations | M3: salage | N3: soufflage-balayage | O3: TOTAL | P3: taille | Q3: tonte | R3: désherbage | S3: plantation | T3: élagage | U3: déchets | V3: arrosage | W3: réparations | X3: salage | Y3: soufflage-balayage | Z3: TOTAL | AA3: taille | AB3: tonte | AC3: désherbage | AD3: plantation | AE3: élagage | AF3: déchets | AG3: arrosage | AH3: réparations | AI3: salage | AJ3: soufflage-balayage | AK3: TOTAL | AL3: taille | AM3: tonte | AN3: désherbage | AO3: plantation | AP3: élagage | AQ3: déchets | AR3: arrosage | AS3: réparations | AT3: salage | AU3: soufflage-balayage | AV3: TOTAL | AW3: taille | AX3: tonte | AY3: désherbage | AZ3: plantation | BA3: élagage | BB3: déchets | BC3: arrosage | BD3: réparations | BE3: salage | BF3: soufflage-balayage | BG3: TOTAL | BH3: taille | BI3: tonte | BJ3: désherbage | BK3: plantation | BL3: élagage | BM3: déchets | BN3: arrosage | BO3: réparations | BP3: salage | BQ3: soufflage-balayage | BR3: TOTAL | BS3: taille | BT3: tonte | BU3: désherbage | BV3: plantation | BW3: élagage | BX3: déchets | BY3: arrosage | BZ3: réparations | CA3: salage | CB3: soufflage-balayage | CC3: TOTAL | CD3: taille | CE3: tonte | CF3: désherbage | CG3: plantation | CH3: élagage | CI3: déchets | CJ3: arrosage | CK3: réparations | CL3: salage | CM3: soufflage-balayage | CN3: TOTAL | CO3: taille | CP3: tonte | CQ3: désherbage | CR3: plantation | CS3: élagage | CT3: déchets | CU3: arrosage | CV3: réparations | CW3: salage | CX3: soufflage-balayage | CY3: TOTAL | CZ3: taille | DA3: tonte | DB3: désherbage | DC3: plantation | DD3: élagage | DE3: déchets | DF3: arrosage | DG3: réparations | DH3: salage | DI3: soufflage-balayage | DJ3: TOTAL | DK3: taille | DL3: tonte | DM3: désherbage | DN3: plantation | DO3: élagage | DP3: déchets | DQ3: arrosage | DR3: réparations | DS3: salage | DT3: soufflage-balayage | DU3: TOTAL | DW3: festivités | DY3: TOTAL GENERAL
D4: secteur | E4: 1 | F4: 1 | G4: 1 | H4: 1 | I4: 1 | J4: 1 | K4: 1 | L4: 1 | M4: 1 | N4: 1 | O4: 1 | P4: 2 | Q4: 2 | R4: 2 | S4: 2 | T4: 2 | U4: 2 | V4: 2 | W4: 2 | X4: 2 | Y4: 2 | Z4: 2 | AA4: 3 | AB4: 3 | AC4: 3 | AD4: 3 | AE4: 3 | AF4: 3 | AG4: 3 | AH4: 3 | AI4: 3 | AJ4: 3 | AK4: 3 | AL4: 4 | AM4: 4 | AN4: 4 | AO4: 4 | AP4: 4 | AQ4: 4 | AR4: 4 | AS4: 4 | AT4: 4 | AU4: 4 | AV4: 4 | AW4: 5 | AX4: 5 | AY4: 5 | AZ4: 5 | BA4: 5 | BB4: 5 | BC4: 5 | BD4: 5 | BE4: 5 | BF4: 5 | BG4: 5 | BH4: 6 | BI4: 6 | BJ4: 6 | BK4: 6 | BL4: 6 | BM4: 6 | BN4: 6 | BO4: 6 | BP4: 6 | BQ4: 6 | BR4: 6 | BS4: 7 | BT4: 7 | BU4: 7 | BV4: 7 | BW4: 7 | BX4: 7 | BY4: 7 | BZ4: 7 | CA4: 7 | CB4: 7 | CC4: 7 | CD4: 8 | CE4: 8 | CF4: 8 | CG4: 8 | CH4: 8 | CI4: 8 | CJ4: 8 | CK4: 8 | CL4: 8 | CM4: 8 | CN4: 8 | CO4: 9 | CP4: 9 | CQ4: 9 | CR4: 9 | CS4: 9 | CT4: 9 | CU4: 9 | CV4: 9 | CW4: 9 | CX4: 9 | CY4: 9 | CZ4: 10 | DA4: 10 | DB4: 10 | DC4: 10 | DD4: 10 | DE4: 10 | DF4: 10 | DG4: 10 | DH4: 10 | DI4: 10 | DJ4: 10 | DK4: 11 | DL4: 11 | DM4: 11 | DN4: 11 | DO4: 11 | DP4: 11 | DQ4: 11 | DR4: 11 | DS4: 11 | DT4: 11 | DU4: 11
A5: mois | B5: semaine | C5: jour | D5: date
A6: =MONTH(D6) -> 3 | B6: =_xlfn.ISOWEEKNUM(D6) -> 11 | C6: lundi | D6: 43171 | O6: =SUM(E6:N6) -> 0 | Z6: =SUM(P6:Y6) -> 0 | AK6: =SUM(AA6:AJ6) -> 0 | AV6: =SUM(AL6:AU6) -> 0 | BG6: =SUM(AW6:BF6) -> 0 | BR6: =SUM(BH6:BQ6) -> 0 | CC6: =SUM(BS6:CB6) -> 0 | CN6: =SUM(CD6:CM6) -> 0 | CY6: =SUM(CO6:CX6) -> 0 | DJ6: =SUM(CZ6:DI6) -> 0 | DU6: =SUM(DK6:DT6) -> 0 | DY6: =DW6+DU6+DJ6+CY6+CN6+CC6+BR6+BG6+AV6+AK6+Z6+O6 -> 0
A7: =MONTH(D7) -> 3 | B7: =_xlfn.ISOWEEKNUM(D7) -> 11 | C7: mardi | D7: 43172 | G7: 2 | O7: =SUM(E7:N7) -> 2 | Z7: =SUM(P7:Y7) -> 0 | AK7: =SUM(AA7:AJ7) -> 0 | AV7: =SUM(AL7:AU7) -> 0 | BG7: =SUM(AW7:BF7) -> 0 | BR7: =SUM(BH7:BQ7) -> 0 | CC7: =SUM(BS7:CB7) -> 0 | CN7: =SUM(CD7:CM7) -> 0 | CY7: =SUM(CO7:CX7) -> 0 | DJ7: =SUM(CZ7:DI7) -> 0 | DU7: =SUM(DK7:DT7) -> 0 | DW7: 4 | DY7: =DW7+DU7+DJ7+CY7+CN7+CC7+BR7+BG7+AV7+AK7+Z7+O7 -> 6
A8: =MONTH(D8) -> 3 | B8: =_xlfn.ISOWEEKNUM(D8) -> 11 | C8: mercredi | D8: 43173 | O8: =SUM(E8:N8) -> 0 | T8: 4 | Z8: =SUM(P8:Y8) -> 4 | AK8: =SUM(AA8:AJ8) -> 0 | AV8: =SUM(AL8:AU8) -> 0 | BG8: =SUM(AW8:BF8) -> 0 | BR8: =SUM(BH8:BQ8) -> 0 | CC8: =SUM(BS8:CB8) -> 0 | CN8: =SUM(CD8:CM8) -> 0 | CY8: =SUM(CO8:CX8) -> 0 | DH8: 4 | DJ8: =SUM(CZ8:DI8) -> 4 | DU8: =SUM(DK8:DT8) -> 0 | DY8: =DW8+DU8+DJ8+CY8+CN8+CC8+BR8+BG8+AV8+AK8+Z8+O8 -> 8
A9: =MONTH(D9) -> 3 | B9: =_xlfn.ISOWEEKNUM(D9) -> 11 | C9: jeudi | D9: 43174 | I9: 3 | O9: =SUM(E9:N9) -> 3 | X9: 2 | Z9: =SUM(P9:Y9) -> 2 | AK9: =SUM(AA9:AJ9) -> 0 | AV9: =SUM(AL9:AU9) -> 0 | BG9: =SUM(AW9:BF9) -> 0 | BR9: =SUM(BH9:BQ9) -> 0 | BU9: 1 | CC9: =SUM(BS9:CB9) -> 1 | CN9: =SUM(CD9:CM9) -> 0 | CY9: =SUM(CO9:CX9) -> 0 | DJ9: =SUM(CZ9:DI9) -> 0 | DQ9: 4 | DU9: =SUM(DK9:DT9) -> 4 | DW9: 5 | DY9: =DW9+DU9+DJ9+CY9+CN9+CC9+BR9+BG9+AV9+AK9+Z9+O9 -> 15
A10: =MONTH(D10) -> 3 | B10: =_xlfn.ISOWEEKNUM(D10) -> 11 | C10: vendredi | D10: 43175 | O10: =SUM(E10:N10) -> 0 | Z10: =SUM(P10:Y10) -> 0 | AK10: =SUM(AA10:AJ10) -> 0 | AV10: =SUM(AL10:AU10) -> 0 | BG10: =SUM(AW10:BF10) -> 0 | BR10: =SUM(BH10:BQ10) -> 0 | CC10: =SUM(BS10:CB10) -> 0 | CN10: =SUM(CD10:CM10) -> 0 | CY10: =SUM(CO10:CX10) -> 0 | DJ10: =SUM(CZ10:DI10) -> 0 | DU10: =SUM(DK10:DT10) -> 0 | DW10: 6 | DY10: =DW10+DU10+DJ10+CY10+CN10+CC10+BR10+BG10+AV10+AK10+Z10+O10 -> 6
A11: =MONTH(D11) -> 3 | B11: =_xlfn.ISOWEEKNUM(D11) -> 11 | C11: samedi | D11: 43176 | O11: =SUM(E11:N11) -> 0 | Z11: =SUM(P11:Y11) -> 0 | AK11: =SUM(AA11:AJ11) -> 0 | AV11: =SUM(AL11:AU11) -> 0 | BG11: =SUM(AW11:BF11) -> 0 | BR11: =SUM(BH11:BQ11) -> 0 | CC11: =SUM(BS11:CB11) -> 0 | CN11: =SUM(CD11:CM11) -> 0 | CY11: =SUM(CO11:CX11) -> 0 | DJ11: =SUM(CZ11:DI11) -> 0 | DU11: =SUM(DK11:DT11) -> 0 | DY11: =DW11+DU11+DJ11+CY11+CN11+CC11+BR11+BG11+AV11+AK11+Z11+O11 -> 0
A12: =MONTH(D12) -> 3 | B12: =_xlfn.ISOWEEKNUM(D12) -> 11 | C12: dimanche | D12: 43177 | I12: 5 | O12: =SUM(E12:N12) -> 5 | Z12: =SUM(P12:Y12) -> 0 | AK12: =SUM(AA12:AJ12) -> 0 | AV12: =SUM(AL12:AU12) -> 0 | BG12: =SUM(AW12:BF12) -> 0 | BR12: =SUM(BH12:BQ12) -> 0 | CC12: =SUM(BS12:CB12) -> 0 | CN12: =SUM(CD12:CM12) -> 0 | CY12: =SUM(CO12:CX12) -> 0 | DJ12: =SUM(CZ12:DI12) -> 0 | DU12: =SUM(DK12:DT12) -> 0 | DY12: =DW12+DU12+DJ12+CY12+CN12+CC12+BR12+BG12+AV12+AK12+Z12+O12 -> 5
A13: =MONTH(D13) -> 3 | B13: =_xlfn.ISOWEEKNUM(D13) -> 12 | C13: lundi | D13: 43178 | O13: =SUM(E13:N13) -> 0 | Z13: =SUM(P13:Y13) -> 0 | AK13: =SUM(AA13:AJ13) -> 0 | AV13: =SUM(AL13:AU13) -> 0 | BG13: =SUM(AW13:BF13) -> 0 | BR13: =SUM(BH13:BQ13) -> 0 | CC13: =SUM(BS13:CB13) -> 0 | CN13: =SUM(CD13:CM13) -> 0 | CY13: =SUM(CO13:CX13) -> 0 | DJ13: =SUM(CZ13:DI13) -> 0 | DU13: =SUM(DK13:DT13) -> 0 | DY13: =DW13+DU13+DJ13+CY13+CN13+CC13+BR13+BG13+AV13+AK13+Z13+O13 -> 0
A14: =MONTH(D14) -> 3 | B14: =_xlfn.ISOWEEKNUM(D14) -> 12 | C14: mardi | D14: 43179 | O14: =SUM(E14:N14) -> 0 | Z14: =SUM(P14:Y14) -> 0 | AK14: =SUM(AA14:AJ14) -> 0 | AV14: =SUM(AL14:AU14) -> 0 | BG14: =SUM(AW14:BF14) -> 0 | BR14: =SUM(BH14:BQ14) -> 0 | CC14: =SUM(BS14:CB14) -> 0 | CN14: =SUM(CD14:CM14) -> 0 | CW14: 7 | CY14: =SUM(CO14:CX14) -> 7 | DE14: 10 | DJ14: =SUM(CZ14:DI14) -> 10 | DU14: =SUM(DK14:DT14) -> 0 | DY14: =DW14+DU14+DJ14+CY14+CN14+CC14+BR14+BG14+AV14+AK14+Z14+O14 -> 17
A15: =MONTH(D15) -> 3 | B15: =_xlfn.ISOWEEKNUM(D15) -> 12 | C15: mercredi | D15: 43180 | K15: 5 | O15: =SUM(E15:N15) -> 5 | Z15: =SUM(P15:Y15) -> 0 | AK15: =SUM(AA15:AJ15) -> 0 | AV15: =SUM(AL15:AU15) -> 0 | BG15: =SUM(AW15:BF15) -> 0 | BR15: =SUM(BH15:BQ15) -> 0 | CC15: =SUM(BS15:CB15) -> 0 | CG15: 2 | CN15: =SUM(CD15:CM15) -> 2 | CS15: 4 | CY15: =SUM(CO15:CX15) -> 4 | DJ15: =SUM(CZ15:DI15) -> 0 | DU15: =SUM(DK15:DT15) -> 0 | DY15: =DW15+DU15+DJ15+CY15+CN15+CC15+BR15+BG15+AV15+AK15+Z15+O15 -> 11
A16: =MONTH(D16) -> 3 | B16: =_xlfn.ISOWEEKNUM(D16) -> 12 | C16: jeudi | D16: 43181 | O16: =SUM(E16:N16) -> 0 | Z16: =SUM(P16:Y16) -> 0 | AK16: =SUM(AA16:AJ16) -> 0 | AV16: =SUM(AL16:AU16) -> 0 | BG16: =SUM(AW16:BF16) -> 0 | BR16: =SUM(BH16:BQ16) -> 0 | CC16: =SUM(BS16:CB16) -> 0 | CN16: =SUM(CD16:CM16) -> 0 | CY16: =SUM(CO16:CX16) -> 0 | DJ16: =SUM(CZ16:DI16) -> 0 | DU16: =SUM(DK16:DT16) -> 0 | DY16: =DW16+DU16+DJ16+CY16+CN16+CC16+BR16+BG16+AV16+AK16+Z16+O16 -> 0
A17: =MONTH(D17) -> 3 | B17: =_xlfn.ISOWEEKNUM(D17) -> 12 | C17: vendredi | D17: 43182 | H17: 4 | K17: 6 | O17: =SUM(E17:N17) -> 10 | Z17: =SUM(P17:Y17) -> 0 | AK17: =SUM(AA17:AJ17) -> 0 | AV17: =SUM(AL17:AU17) -> 0 | BG17: =SUM(AW17:BF17) -> 0 | BR17: =SUM(BH17:BQ17) -> 0 | CC17: =SUM(BS17:CB17) -> 0 | CN17: =SUM(CD17:CM17) -> 0 | CY17: =SUM(CO17:CX17) -> 0 | DJ17: =SUM(CZ17:DI17) -> 0 | DU17: =SUM(DK17:DT17) -> 0 | DY17: =DW17+DU17+DJ17+CY17+CN17+CC17+BR17+BG17+AV17+AK17+Z17+O17 -> 10
A18: =MONTH(D18) -> 3 | B18: =_xlfn.ISOWEEKNUM(D18) -> 12 | C18: samedi | D18: 43183 | O18: =SUM(E18:N18) -> 0 | Z18: =SUM(P18:Y18) -> 0 | AK18: =SUM(AA18:AJ18) -> 0 | AV18: =SUM(AL18:AU18) -> 0 | BG18: =SUM(AW18:BF18) -> 0 | BR18: =SUM(BH18:BQ18) -> 0 | CC18: =SUM(BS18:CB18) -> 0 | CN18: =SUM(CD18:CM18) -> 0 | CY18: =SUM(CO18:CX18) -> 0 | DJ18: =SUM(CZ18:DI18) -> 0 | DU18: =SUM(DK18:DT18) -> 0 | DY18: =DW18+DU18+DJ18+CY18+CN18+CC18+BR18+BG18+AV18+AK18+Z18+O18 -> 0
A19: =MONTH(D19) -> 3 | B19: =_xlfn.ISOWEEKNUM(D19) -> 12 | C19: dimanche | D19: 43184 | O19: =SUM(E19:N19) -> 0 | Z19: =SUM(P19:Y19) -> 0 | AK19: =SUM(AA19:AJ19) -> 0 | AV19: =SUM(AL19:AU19) -> 0 | BG19: =SUM(AW19:BF19) -> 0 | BR19: =SUM(BH19:BQ19) -> 0 | CC19: =SUM(BS19:CB19) -> 0 | CN19: =SUM(CD19:CM19) -> 0 | CY19: =SUM(CO19:CX19) -> 0 | DJ19: =SUM(CZ19:DI19) -> 0 | DU19: =SUM(DK19:DT19) -> 0 | DY19: =DW19+DU19+DJ19+CY19+CN19+CC19+BR19+BG19+AV19+AK19+Z19+O19 -> 0
A20: =MONTH(D20) -> 3 | B20: =_xlfn.ISOWEEKNUM(D20) -> 13 | C20: lundi | D20: 43185 | O20: =SUM(E20:N20) -> 0 | Z20: =SUM(P20:Y20) -> 0 | AK20: =SUM(AA20:AJ20) -> 0 | AV20: =SUM(AL20:AU20) -> 0 | BG20: =SUM(AW20:BF20) -> 0 | BR20: =SUM(BH20:BQ20) -> 0 | CC20: =SUM(BS20:CB20) -> 0 | CN20: =SUM(CD20:CM20) -> 0 | CY20: =SUM(CO20:CX20) -> 0 | DJ20: =SUM(CZ20:DI20) -> 0 | DU20: =SUM(DK20:DT20) -> 0 | DY20: =DW20+DU20+DJ20+CY20+CN20+CC20+BR20+BG20+AV20+AK20+Z20+O20 -> 0
A21: =MONTH(D21) -> 3 | B21: =_xlfn.ISOWEEKNUM(D21) -> 13 | C21: mardi | D21: 43186 | O21: =SUM(E21:N21) -> 0 | Z21: =SUM(P21:Y21) -> 0 | AK21: =SUM(AA21:AJ21) -> 0 | AV21: =SUM(AL21:AU21) -> 0 | BG21: =SUM(AW21:BF21) -> 0 | BR21: =SUM(BH21:BQ21) -> 0 | CC21: =SUM(BS21:CB21) -> 0 | CN21: =SUM(CD21:CM21) -> 0 | CY21: =SUM(CO21:CX21) -> 0 | DJ21: =SUM(CZ21:DI21) -> 0 | DU21: =SUM(DK21:DT21) -> 0 | DY21: =DW21+DU21+DJ21+CY21+CN21+CC21+BR21+BG21+AV21+AK21+Z21+O21 -> 0
A22: =MONTH(D22) -> 3 | B22: =_xlfn.ISOWEEKNUM(D22) -> 13 | C22: mercredi | D22: 43187 | O22: =SUM(E22:N22) -> 0 | Z22: =SUM(P22:Y22) -> 0 | AK22: =SUM(AA22:AJ22) -> 0 | AV22: =SUM(AL22:AU22) -> 0 | BG22: =SUM(AW22:BF22) -> 0 | BR22: =SUM(BH22:BQ22) -> 0 | CC22: =SUM(BS22:CB22) -> 0 | CN22: =SUM(CD22:CM22) -> 0 | CY22: =SUM(CO22:CX22) -> 0 | DJ22: =SUM(CZ22:DI22) -> 0 | DU22: =SUM(DK22:DT22) -> 0 | DY22: =DW22+DU22+DJ22+CY22+CN22+CC22+BR22+BG22+AV22+AK22+Z22+O22 -> 0
A23: =MONTH(D23) -> 3 | B23: =_xlfn.ISOWEEKNUM(D23) -> 13 | C23: jeudi | D23: 43188 | O23: =SUM(E23:N23) -> 0 | Z23: =SUM(P23:Y23) -> 0 | AK23: =SUM(AA23:AJ23) -> 0 | AV23: =SUM(AL23:AU23) -> 0 | BG23: =SUM(AW23:BF23) -> 0 | BR23: =SUM(BH23:BQ23) -> 0 | CC23: =SUM(BS23:CB23) -> 0 | CN23: =SUM(CD23:CM23) -> 0 | CY23: =SUM(CO23:CX23) -> 0 | DJ23: =SUM(CZ23:DI23) -> 0 | DU23: =SUM(DK23:DT23) -> 0 | DY23: =DW23+DU23+DJ23+CY23+CN23+CC23+BR23+BG23+AV23+AK23+Z23+O23 -> 0
A24: =MONTH(D24) -> 3 | B24: =_xlfn.ISOWEEKNUM(D24) -> 13 | C24: vendredi | D24: 43189 | O24: =SUM(E24:N24) -> 0 | Z24: =SUM(P24:Y24) -> 0 | AK24: =SUM(AA24:AJ24) -> 0 | AV24: =SUM(AL24:AU24) -> 0 | BG24: =SUM(AW24:BF24) -> 0 | BR24: =SUM(BH24:BQ24) -> 0 | CC24: =SUM(BS24:CB24) -> 0 | CN24: =SUM(CD24:CM24) -> 0 | CY24: =SUM(CO24:CX24) -> 0 | DJ24: =SUM(CZ24:DI24) -> 0 | DU24: =SUM(DK24:DT24) -> 0 | DY24: =DW24+DU24+DJ24+CY24+CN24+CC24+BR24+BG24+AV24+AK24+Z24+O24 -> 0
A25: =MONTH(D25) -> 3 | B25: =_xlfn.ISOWEEKNUM(D25) -> 13 | C25: samedi | D25: 43190 | O25: =SUM(E25:N25) -> 0 | Z25: =SUM(P25:Y25) -> 0 | AK25: =SUM(AA25:AJ25) -> 0 | AV25: =SUM(AL25:AU25) -> 0 | BG25: =SUM(AW25:BF25) -> 0 | BR25: =SUM(BH25:BQ25) -> 0 | CC25: =SUM(BS25:CB25) -> 0 | CN25: =SUM(CD25:CM25) -> 0 | CY25: =SUM(CO25:CX25) -> 0 | DJ25: =SUM(CZ25:DI25) -> 0 | DU25: =SUM(DK25:DT25) -> 0 | DY25: =DW25+DU25+DJ25+CY25+CN25+CC25+BR25+BG25+AV25+AK25+Z25+O25 -> 0
A26: =MONTH(D26) -> 4 | B26: =_xlfn.ISOWEEKNUM(D26) -> 13 | C26: dimanche | D26: 43191 | O26: =SUM(E26:N26) -> 0 | Z26: =SUM(P26:Y26) -> 0 | AK26: =SUM(AA26:AJ26) -> 0 | AV26: =SUM(AL26:AU26) -> 0 | BG26: =SUM(AW26:BF26) -> 0 | BR26: =SUM(BH26:BQ26) -> 0 | CC26: =SUM(BS26:CB26) -> 0 | CN26: =SUM(CD26:CM26) -> 0 | CY26: =SUM(CO26:CX26) -> 0 | DJ26: =SUM(CZ26:DI26) -> 0 | DU26: =SUM(DK26:DT26) -> 0 | DY26: =DW26+DU26+DJ26+CY26+CN26+CC26+BR26+BG26+AV26+AK26+Z26+O26 -> 0
A27: =MONTH(D27) -> 4 | B27: =_xlfn.ISOWEEKNUM(D27) -> 14 | C27: lundi | D27: 43192 | O27: =SUM(E27:N27) -> 0 | Z27: =SUM(P27:Y27) -> 0 | AK27: =SUM(AA27:AJ27) -> 0 | AV27: =SUM(AL27:AU27) -> 0 | BG27: =SUM(AW27:BF27) -> 0 | BR27: =SUM(BH27:BQ27) -> 0 | CC27: =SUM(BS27:CB27) -> 0 | CN27: =SUM(CD27:CM27) -> 0 | CY27: =SUM(CO27:CX27) -> 0 | DJ27: =SUM(CZ27:DI27) -> 0 | DU27: =SUM(DK27:DT27) -> 0 | DY27: =DW27+DU27+DJ27+CY27+CN27+CC27+BR27+BG27+AV27+AK27+Z27+O27 -> 0
A28: =MONTH(D28) -> 4 | B28: =_xlfn.ISOWEEKNUM(D28) -> 14 | C28: mardi | D28: 43193 | O28: =SUM(E28:N28) -> 0 | Z28: =SUM(P28:Y28) -> 0 | AK28: =SUM(AA28:AJ28) -> 0 | AV28: =SUM(AL28:AU28) -> 0 | BG28: =SUM(AW28:BF28) -> 0 | BR28: =SUM(BH28:BQ28) -> 0 | CC28: =SUM(BS28:CB28) -> 0 | CN28: =SUM(CD28:CM28) -> 0 | CY28: =SUM(CO28:CX28) -> 0 | DJ28: =SUM(CZ28:DI28) -> 0 | DU28: =SUM(DK28:DT28) -> 0 | DY28: =DW28+DU28+DJ28+CY28+CN28+CC28+BR28+BG28+AV28+AK28+Z28+O28 -> 0
A29: =MONTH(D29) -> 4 | B29: =_xlfn.ISOWEEKNUM(D29) -> 14 | C29: mercredi | D29: 43194 | O29: =SUM(E29:N29) -> 0 | Z29: =SUM(P29:Y29) -> 0 | AK29: =SUM(AA29:AJ29) -> 0 | AV29: =SUM(AL29:AU29) -> 0 | BG29: =SUM(AW29:BF29) -> 0 | BR29: =SUM(BH29:BQ29) -> 0 | CC29: =SUM(BS29:CB29) -> 0 | CN29: =SUM(CD29:CM29) -> 0 | CY29: =SUM(CO29:CX29) -> 0 | DJ29: =SUM(CZ29:DI29) -> 0 | DU29: =SUM(DK29:DT29) -> 0 | DY29: =DW29+DU29+DJ29+CY29+CN29+CC29+BR29+BG29+AV29+AK29+Z29+O29 -> 0
... A78: =MONTH(D78) -> 5 | B78: =_xlfn.ISOWEEKNUM(D78) -> 21 | C78: mercredi | D78: 43243 | O78: =SUM(E78:N78) -> 0 | Z78: =SUM(P78:Y78) -> 0 | AK78: =SUM(AA78:AJ78) -> 0 | AV78: =SUM(AL78:AU78) -> 0 | BG78: =SUM(AW78:BF78) -> 0 | BR78: =SUM(BH78:BQ78) -> 0 | CC78: =SUM(BS78:CB78) -> 0 | CN78: =SUM(CD78:CM78) -> 0 | CY78: =SUM(CO78:CX78) -> 0 | DJ78: =SUM(CZ78:DI78) -> 0 | DU78: =SUM(DK78:DT78) -> 0 | DY78: =DW78+DU78+DJ78+CY78+CN78+CC78+BR78+BG78+AV78+AK78+Z78+O78 -> 0
A79: =MONTH(D79) -> 5 | B79: =_xlfn.ISOWEEKNUM(D79) -> 21 | C79: jeudi | D79: 43244 | O79: =SUM(E79:N79) -> 0 | Z79: =SUM(P79:Y79) -> 0 | AK79: =SUM(AA79:AJ79) -> 0 | AV79: =SUM(AL79:AU79) -> 0 | BG79: =SUM(AW79:BF79) -> 0 | BR79: =SUM(BH79:BQ79) -> 0 | CC79: =SUM(BS79:CB79) -> 0 | CN79: =SUM(CD79:CM79) -> 0 | CY79: =SUM(CO79:CX79) -> 0 | DJ79: =SUM(CZ79:DI79) -> 0 | DU79: =SUM(DK79:DT79) -> 0 | DW79: 2 | DY79: =DW79+DU79+DJ79+CY79+CN79+CC79+BR79+BG79+AV79+AK79+Z79+O79 -> 2
A80: =MONTH(D80) -> 5 | B80: =_xlfn.ISOWEEKNUM(D80) -> 21 | C80: vendredi | D80: 43245 | O80: =SUM(E80:N80) -> 0 | Z80: =SUM(P80:Y80) -> 0 | AK80: =SUM(AA80:AJ80) -> 0 | AV80: =SUM(AL80:AU80) -> 0 | BG80: =SUM(AW80:BF80) -> 0 | BR80: =SUM(BH80:BQ80) -> 0 | CC80: =SUM(BS80:CB80) -> 0 | CN80: =SUM(CD80:CM80) -> 0 | CY80: =SUM(CO80:CX80) -> 0 | DJ80: =SUM(CZ80:DI80) -> 0 | DU80: =SUM(DK80:DT80) -> 0 | DY80: =DW80+DU80+DJ80+CY80+CN80+CC80+BR80+BG80+AV80+AK80+Z80+O80 -> 0
A81: =MONTH(D81) -> 5 | B81: =_xlfn.ISOWEEKNUM(D81) -> 21 | C81: samedi | D81: 43246 | O81: =SUM(E81:N81) -> 0 | Z81: =SUM(P81:Y81) -> 0 | AK81: =SUM(AA81:AJ81) -> 0 | AV81: =SUM(AL81:AU81) -> 0 | BG81: =SUM(AW81:BF81) -> 0 | BR81: =SUM(BH81:BQ81) -> 0 | CC81: =SUM(BS81:CB81) -> 0 | CN81: =SUM(CD81:CM81) -> 0 | CY81: =SUM(CO81:CX81) -> 0 | DJ81: =SUM(CZ81:DI81) -> 0 | DU81: =SUM(DK81:DT81) -> 0 | DY81: =DW81+DU81+DJ81+CY81+CN81+CC81+BR81+BG81+AV81+AK81+Z81+O81 -> 0
A82: =MONTH(D82) -> 5 | B82: =_xlfn.ISOWEEKNUM(D82) -> 21 | C82: dimanche | D82: 43247 | O82: =SUM(E82:N82) -> 0 | Z82: =SUM(P82:Y82) -> 0 | AK82: =SUM(AA82:AJ82) -> 0 | AV82: =SUM(AL82:AU82) -> 0 | BG82: =SUM(AW82:BF82) -> 0 | BR82: =SUM(BH82:BQ82) -> 0 | CC82: =SUM(BS82:CB82) -> 0 | CN82: =SUM(CD82:CM82) -> 0 | CY82: =SUM(CO82:CX82) -> 0 | DJ82: =SUM(CZ82:DI82) -> 0 | DU82: =SUM(DK82:DT82) -> 0 | DY82: =DW82+DU82+DJ82+CY82+CN82+CC82+BR82+BG82+AV82+AK82+Z82+O82 -> 0
A83: =MONTH(D83) -> 5 | B83: =_xlfn.ISOWEEKNUM(D83) -> 22 | C83: lundi | D83: 43248 | O83: =SUM(E83:N83) -> 0 | Z83: =SUM(P83:Y83) -> 0 | AK83: =SUM(AA83:AJ83) -> 0 | AV83: =SUM(AL83:AU83) -> 0 | BG83: =SUM(AW83:BF83) -> 0 | BR83: =SUM(BH83:BQ83) -> 0 | CC83: =SUM(BS83:CB83) -> 0 | CN83: =SUM(CD83:CM83) -> 0 | CY83: =SUM(CO83:CX83) -> 0 | DJ83: =SUM(CZ83:DI83) -> 0 | DU83: =SUM(DK83:DT83) -> 0 | DY83: =DW83+DU83+DJ83+CY83+CN83+CC83+BR83+BG83+AV83+AK83+Z83+O83 -> 0
A84: =MONTH(D84) -> 5 | B84: =_xlfn.ISOWEEKNUM(D84) -> 22 | C84: mardi | D84: 43249 | O84: =SUM(E84:N84) -> 0 | Z84: =SUM(P84:Y84) -> 0 | AK84: =SUM(AA84:AJ84) -> 0 | AV84: =SUM(AL84:AU84) -> 0 | BG84: =SUM(AW84:BF84) -> 0 | BR84: =SUM(BH84:BQ84) -> 0 | CC84: =SUM(BS84:CB84) -> 0 | CN84: =SUM(CD84:CM84) -> 0 | CY84: =SUM(CO84:CX84) -> 0 | DJ84: =SUM(CZ84:DI84) -> 0 | DU84: =SUM(DK84:DT84) -> 0 | DY84: =DW84+DU84+DJ84+CY84+CN84+CC84+BR84+BG84+AV84+AK84+Z84+O84 -> 0
A85: =MONTH(D85) -> 5 | B85: =_xlfn.ISOWEEKNUM(D85) -> 22 | C85: mercredi | D85: 43250 | O85: =SUM(E85:N85) -> 0 | Z85: =SUM(P85:Y85) -> 0 | AK85: =SUM(AA85:AJ85) -> 0 | AV85: =SUM(AL85:AU85) -> 0 | BG85: =SUM(AW85:BF85) -> 0 | BR85: =SUM(BH85:BQ85) -> 0 | CC85: =SUM(BS85:CB85) -> 0 | CN85: =SUM(CD85:CM85) -> 0 | CY85: =SUM(CO85:CX85) -> 0 | DJ85: =SUM(CZ85:DI85) -> 0 | DU85: =SUM(DK85:DT85) -> 0 | DY85: =DW85+DU85+DJ85+CY85+CN85+CC85+BR85+BG85+AV85+AK85+Z85+O85 -> 0
A86: =MONTH(D86) -> 5 | B86: =_xlfn.ISOWEEKNUM(D86) -> 22 | C86: jeudi | D86: 43251 | O86: =SUM(E86:N86) -> 0 | Z86: =SUM(P86:Y86) -> 0 | AK86: =SUM(AA86:AJ86) -> 0 | AV86: =SUM(AL86:AU86) -> 0 | BG86: =SUM(AW86:BF86) -> 0 | BR86: =SUM(BH86:BQ86) -> 0 | CC86: =SUM(BS86:CB86) -> 0 | CN86: =SUM(CD86:CM86) -> 0 | CY86: =SUM(CO86:CX86) -> 0 | DJ86: =SUM(CZ86:DI86) -> 0 | DU86: =SUM(DK86:DT86) -> 0 | DY86: =DW86+DU86+DJ86+CY86+CN86+CC86+BR86+BG86+AV86+AK86+Z86+O86 -> 0
A87: =MONTH(D87) -> 6 | B87: =_xlfn.ISOWEEKNUM(D87) -> 22 | C87: vendredi | D87: 43252 | O87: =SUM(E87:N87) -> 0 | Z87: =SUM(P87:Y87) -> 0 | AK87: =SUM(AA87:AJ87) -> 0 | AV87: =SUM(AL87:AU87) -> 0 | BG87: =SUM(AW87:BF87) -> 0 | BR87: =SUM(BH87:BQ87) -> 0 | CC87: =SUM(BS87:CB87) -> 0 | CN87: =SUM(CD87:CM87) -> 0 | CY87: =SUM(CO87:CX87) -> 0 | DJ87: =SUM(CZ87:DI87) -> 0 | DU87: =SUM(DK87:DT87) -> 0 | DY87: =DW87+DU87+DJ87+CY87+CN87+CC87+BR87+BG87+AV87+AK87+Z87+O87 -> 0
A88: =MONTH(D88) -> 6 | B88: =_xlfn.ISOWEEKNUM(D88) -> 22 | C88: samedi | D88: 43253 | O88: =SUM(E88:N88) -> 0 | Z88: =SUM(P88:Y88) -> 0 | AK88: =SUM(AA88:AJ88) -> 0 | AV88: =SUM(AL88:AU88) -> 0 | BG88: =SUM(AW88:BF88) -> 0 | BR88: =SUM(BH88:BQ88) -> 0 | CC88: =SUM(BS88:CB88) -> 0 | CN88: =SUM(CD88:CM88) -> 0 | CY88: =SUM(CO88:CX88) -> 0 | DJ88: =SUM(CZ88:DI88) -> 0 | DU88: =SUM(DK88:DT88) -> 0 | DY88: =DW88+DU88+DJ88+CY88+CN88+CC88+BR88+BG88+AV88+AK88+Z88+O88 -> 0
A89: =MONTH(D89) -> 6 | B89: =_xlfn.ISOWEEKNUM(D89) -> 22 | C89: dimanche | D89: 43254 | O89: =SUM(E89:N89) -> 0 | Z89: =SUM(P89:Y89) -> 0 | AK89: =SUM(AA89:AJ89) -> 0 | AV89: =SUM(AL89:AU89) -> 0 | BG89: =SUM(AW89:BF89) -> 0 | BR89: =SUM(BH89:BQ89) -> 0 | CC89: =SUM(BS89:CB89) -> 0 | CN89: =SUM(CD89:CM89) -> 0 | CY89: =SUM(CO89:CX89) -> 0 | DJ89: =SUM(CZ89:DI89) -> 0 | DU89: =SUM(DK89:DT89) -> 0 | DY89: =DW89+DU89+DJ89+CY89+CN89+CC89+BR89+BG89+AV89+AK89+Z89+O89 -> 0
A90: =MONTH(D90) -> 6 | B90: =_xlfn.ISOWEEKNUM(D90) -> 23 | C90: lundi | D90: 43255 | O90: =SUM(E90:N90) -> 0 | Z90: =SUM(P90:Y90) -> 0 | AK90: =SUM(AA90:AJ90) -> 0 | AV90: =SUM(AL90:AU90) -> 0 | BG90: =SUM(AW90:BF90) -> 0 | BR90: =SUM(BH90:BQ90) -> 0 | CC90: =SUM(BS90:CB90) -> 0 | CN90: =SUM(CD90:CM90) -> 0 | CY90: =SUM(CO90:CX90) -> 0 | DJ90: =SUM(CZ90:DI90) -> 0 | DU90: =SUM(DK90:DT90) -> 0 | DY90: =DW90+DU90+DJ90+CY90+CN90+CC90+BR90+BG90+AV90+AK90+Z90+O90 -> 0
...

Sheet Bilan 2018
A2: secteurs | N2: nb j/h
A3: n° semaine | B3: 1 | C3: 2 | D3: 3 | E3: 4 | F3: 5 | G3: 6 | H3: 7 | I3: 8 | J3: 9 | K3: 10 | L3: 11 | M3: F | N3: TOTAL
A4: 11 | B4: =SUMIF('Planning 2018'!$B$6:$B$300,11,'Planning 2018'!$O$6:$O$300) -> 10 | C4: =SUMIF('Planning 2018'!$B$6:$B$300,"11",'Planning 2018'!$Z$6:$Z$300) -> 6 | D4: =SUMIF('Planning 2018'!$B$6:$B$300,"11",'Planning 2018'!$AK$6:$AK$300) -> 0 | E4: =SUMIF('Planning 2018'!$B$6:$B$300,"11",'Planning 2018'!$BG$6:$BG$300) -> 0 | F4: =SUMIF('Planning 2018'!$B$6:$B$300,"11",'Planning 2018'!$BR$6:$BR$300) -> 0 | G4: =SUMIF('Planning 2018'!$B$6:$B$300,"11",'Planning 2018'!$CC$6:$CC$300) -> 1 | H4: =SUMIF('Planning 2018'!$B$6:$B$300,"11",'Planning 2018'!$CN$6:$CN$300) -> 0 | I4: =SUMIF('Planning 2018'!$B$6:$B$300,"11",'Planning 2018'!$CN$6:$CN$300) -> 0 | J4: =SUMIF('Planning 2018'!$B$6:$B$300,"11",'Planning 2018'!$CY$6:$CY$300) -> 0 | K4: =SUMIF('Planning 2018'!$B$6:$B$300,"11",'Planning 2018'!$DJ$6:$DJ$300) -> 4 | L4: =SUMIF('Planning 2018'!$B$6:$B$300,"11",'Planning 2018'!$DU$6:$DU$300) -> 4 | M4: =SUMIF('Planning 2018'!$B$6:$B$300,"11",'Planning 2018'!$DW$6:$DW$300) -> 15 | N4: =SUM(B4:M4) -> 40
A5: 12 | B5: =SUMIF('Planning 2018'!$B$6:$B$300,12,'Planning 2018'!$O$6:$O$300) -> 15 | C5: =SUMIF('Planning 2018'!$B$6:$B$300,"12",'Planning 2018'!$Z$6:$Z$300) -> 0 | D5: =SUMIF('Planning 2018'!$B$6:$B$300,"12",'Planning 2018'!$AK$6:$AK$300) -> 0 | E5: =SUMIF('Planning 2018'!$B$6:$B$300,"12",'Planning 2018'!$BG$6:$BG$300) -> 0 | F5: =SUMIF('Planning 2018'!$B$6:$B$300,"12",'Planning 2018'!$BR$6:$BR$300) -> 0 | G5: =SUMIF('Planning 2018'!$B$6:$B$300,"12",'Planning 2018'!$CC$6:$CC$300) -> 0 | H5: =SUMIF('Planning 2018'!$B$6:$B$300,"12",'Planning 2018'!$CN$6:$CN$300) -> 2 | I5: =SUMIF('Planning 2018'!$B$6:$B$300,"12",'Planning 2018'!$CN$6:$CN$300) -> 2 | J5: =SUMIF('Planning 2018'!$B$6:$B$300,"12",'Planning 2018'!$CY$6:$CY$300) -> 11 | K5: =SUMIF('Planning 2018'!$B$6:$B$300,"12",'Planning 2018'!$DJ$6:$DJ$300) -> 10 | L5: =SUMIF('Planning 2018'!$B$6:$B$300,"12",'Planning 2018'!$DU$6:$DU$300) -> 0 | M5: =SUMIF('Planning 2018'!$B$6:$B$300,"12",'Planning 2018'!$DW$6:$DW$300) -> 0 | N5: =SUM(B5:M5) -> 40
A6: 13 | B6: =SUMIF('Planning 2018'!$B$6:$B$300,13,'Planning 2018'!$O$6:$O$300) -> 0 | C6: =SUMIF('Planning 2018'!$B$6:$B$300,"13",'Planning 2018'!$Z$6:$Z$300) -> 0 | D6: =SUMIF('Planning 2018'!$B$6:$B$300,"13",'Planning 2018'!$AK$6:$AK$300) -> 0 | E6: =SUMIF('Planning 2018'!$B$6:$B$300,"13",'Planning 2018'!$BG$6:$BG$300) -> 0 | F6: =SUMIF('Planning 2018'!$B$6:$B$300,"13",'Planning 2018'!$BR$6:$BR$300) -> 0 | G6: =SUMIF('Planning 2018'!$B$6:$B$300,"13",'Planning 2018'!$CC$6:$CC$300) -> 0 | H6: =SUMIF('Planning 2018'!$B$6:$B$300,"13",'Planning 2018'!$CN$6:$CN$300) -> 0 | I6: =SUMIF('Planning 2018'!$B$6:$B$300,"13",'Planning 2018'!$CN$6:$CN$300) -> 0 | J6: =SUMIF('Planning 2018'!$B$6:$B$300,"13",'Planning 2018'!$CY$6:$CY$300) -> 0 | K6: =SUMIF('Planning 2018'!$B$6:$B$300,"13",'Planning 2018'!$DJ$6:$DJ$300) -> 0 | L6: =SUMIF('Planning 2018'!$B$6:$B$300,"13",'Planning 2018'!$DU$6:$DU$300) -> 0 | M6: =SUMIF('Planning 2018'!$B$6:$B$300,"13",'Planning 2018'!$DW$6:$DW$300) -> 0 | N6: =SUM(B6:M6) -> 0
A7: 14 | N7: =SUM(B7:M7) -> 0
A8: 15 | N8: =SUM(B8:M8) -> 0
A9: 16 | N9: =SUM(B9:M9) -> 0
A10: 17 | N10: =SUM(B10:M10) -> 0
A11: 18 | N11: =SUM(B11:M11) -> 0
A12: 19 | N12: =SUM(B12:M12) -> 0
A13: 20 | N13: =SUM(B13:M13) -> 0
A14: 21
A15: 22
A16: 23
A17: 24
A18: 25
A19: 26
A20: 27
A21: 28
A22: 29
A23: 30
A24: 31
A25: 32
... A45: 52
