Workbook

Sheet RECAP
A1: Affaire | B1: XXXXX | C1: =VLOOKUP(B1,[1]CHANTIERS!$1:$1048576,2,FALSE) -> #N/A
A3: Responsable chantier | F3: Budget global du chantier
A4: Budget établi par | F4: Montant | G4: 152000
A5: Date MAJ | C5: =TODAY() -> 43798 | F5: APPRO | G5: 4000
A6: Semaine | C6: =_xlfn.ISOWEEKNUM(C5) -> 48 | F6: POSE | G6: 121900
A9: Batiment | B9: Budget inital | C9: Nbre de jours | D9: Budget cumulé travaillé | E9: % | F9: Nbre de jours travaillé | G9: Nbre de jours restant | H9: Remarques
A10: 1 | B10: ='BAT 1'!H4 -> 16000 | C10: ='BAT 1'!H4/250 -> 64
A11: 2 | B11: ='BAT 2'!H4 -> 50000 | C11: ='BAT 2'!H4/250 -> 200
A12: 3 | B12: ='BAT 3'!H4 -> 30000 | C12: ='BAT 3'!H5/250 -> 20

Sheet BAT 1
A1: Affaire | B1: XXXXX | C1: =VLOOKUP(B1,[1]CHANTIERS!$1:$1048576,2,FALSE) -> #N/A
A3: Responsable chantier | G3: Budget bâtiment 1
A4: Budget établi par | G4: Montant | H4: =H5+H6 -> 16000
A5: Date MAJ | C5: =TODAY() -> 43798 | G5: Appro | H5: 4000
G6: Pose | H6: 12000
C8: 43739
C9: =_xlfn.ISOWEEKNUM(C8) -> 40 | D9: =C9+1 -> 41 | E9: =D9+1 -> 42 | F9: =E9+1 -> 43 | G9: =F9+1 -> 44 | H9: =G9+1 -> 45 | I9: =H9+1 -> 46 | J9: =I9+1 -> 47
A11: NOM : | B11: Cumul jours | C11: Nbre Jour | D11: Nbre Jour | E11: Nbre Jour | F11: Nbre Jour | G11: Nbre Jour | H11: Nbre Jour | I11: Nbre Jour | J11: Nbre Jour
A12: A | B12: =SUM(C12:J12) -> 5 | C12: 2 | D12: 2 | E12: 1
A13: B | B13: =SUM(C13:J13) -> 7 | C13: 5 | D13: 2
A14: C | B14: =SUM(C14:J14) -> 7 | C14: 5 | D14: 2
A15: D | B15: =SUM(C15:J15) -> 4 | C15: 2 | D15: 2
A16: E | B16: =SUM(C16:J16) -> 0
A17: F | B17: =SUM(C17:J17) -> 0
A18: G | B18: =SUM(C18:J18) -> 0
B31: Nombre de jours | C31: =SUM(C12:C29) -> 14 | D31: =SUM(D12:D29) -> 8 | E31: =SUM(E12:E29) -> 1 | F31: =SUM(F12:F29) -> 0 | G31: =SUM(G12:G29) -> 0 | H31: =SUM(H12:H29) -> 0 | I31: =SUM(I12:I29) -> 0 | J31: =SUM(J12:J29) -> 0
B32: Cumul jours | C32: =C31 -> 14 | D32: =D31 -> 8 | E32: =E31 -> 1 | F32: =F31 -> 0 | G32: =G31 -> 0 | H32: =H31 -> 0 | I32: =I31 -> 0 | J32: =J31 -> 0
B34: Total dépensé | C34: =C31*250 -> 3500 | D34: =D31*250 -> 2000 | E34: =E31*250 -> 250 | F34: =F31*250 -> 0 | G34: =G31*250 -> 0 | H34: =H31*250 -> 0 | I34: =I31*250 -> 0 | J34: =J31*250 -> 0
B35: Cumul dépense | C35: =C34 -> 3500 | D35: =C35+D34 -> 5500 | E35: =D35+E34 -> 5750 | F35: =E35+F34 -> 5750 | G35: =F35+G34 -> 5750 | H35: =G35+H34 -> 5750 | I35: =H35+I34 -> 5750 | J35: =I35+J34 -> 5750
B36: Reste | C36: =H4-C34 -> 12500 | D36: =C36-D34 -> 10500 | E36: =D36-E34 -> 10250 | F36: =E36-F34 -> 10250 | G36: =F36-G34 -> 10250 | H36: =G36-H34 -> 10250 | I36: =H36-I34 -> 10250 | J36: =I36-J34 -> 10250
C37: =C35/$H4 -> 0.21875 | D37: =D35/$H4 -> 0.34375 | E37: =E35/$H4 -> 0.359375 | F37: =F35/$H4 -> 0.359375 | G37: =G35/$H4 -> 0.359375 | H37: =H35/$H4 -> 0.359375 | I37: =I35/$H4 -> 0.359375 | J37: =J35/$H4 -> 0.359375
B38: Saisie le
B39: Par
B40: Vérifié le
B41: Par

Sheet BAT 2
A1: Affaire | B1: XXXXX | C1: =VLOOKUP(B1,[1]CHANTIERS!$1:$1048576,2,FALSE) -> #N/A
A3: Responsable chantier | G3: Budget bâtiment 2
A4: Budget établi par | G4: Montant | H4: 50000
A5: Date MAJ | C5: =TODAY() -> 43798 | G5: Appro | H5: 5000
G6: Pose | H6: 45000
C8: 43739
C9: =_xlfn.ISOWEEKNUM(C8) -> 40 | D9: =C9+1 -> 41 | E9: =D9+1 -> 42 | F9: =E9+1 -> 43 | G9: =F9+1 -> 44 | H9: =G9+1 -> 45 | I9: =H9+1 -> 46 | J9: =I9+1 -> 47
A11: NOM : | B11: Cumul jours | C11: Nbre Jour | D11: Nbre Jour | E11: Nbre Jour | F11: Nbre Jour | G11: Nbre Jour | H11: Nbre Jour | I11: Nbre Jour | J11: Nbre Jour
A12: A | B12: =SUM(C12:J12) -> 15 | C12: 5 | D12: 10
A13: B | B13: =SUM(C13:J13) -> 15 | C13: 5 | D13: 10
A14: C | B14: =SUM(C14:J14) -> 15 | C14: 5 | D14: 10
A15: D | B15: =SUM(C15:J15) -> 15 | C15: 5 | D15: 10
A16: E | B16: =SUM(C16:J16) -> 0
A17: F | B17: =SUM(C17:J17) -> 0
A18: G | B18: =SUM(C18:J18) -> 0
B31: Nombre de jours | C31: =SUM(C12:C29) -> 20 | D31: =SUM(D12:D29) -> 40 | E31: =SUM(E12:E29) -> 0 | F31: =SUM(F12:F29) -> 0 | G31: =SUM(G12:G29) -> 0 | H31: =SUM(H12:H29) -> 0 | I31: =SUM(I12:I29) -> 0 | J31: =SUM(J12:J29) -> 0
B32: Cumul jours | C32: =C31 -> 20 | D32: =D31 -> 40 | E32: =E31 -> 0 | F32: =F31 -> 0 | G32: =G31 -> 0 | H32: =H31 -> 0 | I32: =I31 -> 0 | J32: =J31 -> 0
B34: Total dépensé | C34: =C31*250 -> 5000 | D34: =D31*250 -> 10000 | E34: =E31*250 -> 0 | F34: =F31*250 -> 0 | G34: =G31*250 -> 0 | H34: =H31*250 -> 0 | I34: =I31*250 -> 0 | J34: =J31*250 -> 0
B35: Cumul dépense | C35: =C34 -> 5000 | D35: =C35+D34 -> 15000 | E35: =D35+E34 -> 15000 | F35: =E35+F34 -> 15000 | G35: =F35+G34 -> 15000 | H35: =G35+H34 -> 15000 | I35: =H35+I34 -> 15000 | J35: =I35+J34 -> 15000
B36: Reste | C36: =H4-C34 -> 45000 | D36: =C36-D34 -> 35000 | E36: =D36-E34 -> 35000 | F36: =E36-F34 -> 35000 | G36: =F36-G34 -> 35000 | H36: =G36-H34 -> 35000 | I36: =H36-I34 -> 35000 | J36: =I36-J34 -> 35000
C37: =C35/$H4 -> 0.1 | D37: =D35/$H4 -> 0.3 | E37: =E35/$H4 -> 0.3 | F37: =F35/$H4 -> 0.3 | G37: =G35/$H4 -> 0.3 | H37: =H35/$H4 -> 0.3 | I37: =I35/$H4 -> 0.3 | J37: =J35/$H4 -> 0.3
B38: Saisie le
B39: Par
B40: Vérifié le
B41: Par

Sheet BAT 3
A1: Affaire | B1: XXXXX | C1: =VLOOKUP(B1,[1]CHANTIERS!$1:$1048576,2,FALSE) -> #N/A
A3: Responsable chantier | G3: Budget bâtiment 3
A4: Budget établi par | G4: Montant | H4: 30000
A5: Date MAJ | C5: =TODAY() -> 43798 | G5: Appro | H5: 5000
G6: Pose | H6: 25000
C8: 43739
C9: =_xlfn.ISOWEEKNUM(C8) -> 40 | D9: =C9+1 -> 41 | E9: =D9+1 -> 42 | F9: =E9+1 -> 43 | G9: =F9+1 -> 44 | H9: =G9+1 -> 45 | I9: =H9+1 -> 46 | J9: =I9+1 -> 47
A11: NOM : | B11: Cumul jours | C11: Nbre Jour | D11: Nbre Jour | E11: Nbre Jour | F11: Nbre Jour | G11: Nbre Jour | H11: Nbre Jour | I11: Nbre Jour | J11: Nbre Jour
A12: A | B12: =SUM(C12:J12) -> 11 | C12: 8 | D12: 2 | E12: 1
A13: B | B13: =SUM(C13:J13) -> 10 | C13: 8 | D13: 2
A14: C | B14: =SUM(C14:J14) -> 10 | C14: 8 | D14: 2
A15: D | B15: =SUM(C15:J15) -> 10 | C15: 8 | D15: 2
A16: E | B16: =SUM(C16:J16) -> 0
A17: F | B17: =SUM(C17:J17) -> 0
A18: G | B18: =SUM(C18:J18) -> 0
B31: Nombre de jours | C31: =SUM(C12:C29) -> 32 | D31: =SUM(D12:D29) -> 8 | E31: =SUM(E12:E29) -> 1 | F31: =SUM(F12:F29) -> 0 | G31: =SUM(G12:G29) -> 0 | H31: =SUM(H12:H29) -> 0 | I31: =SUM(I12:I29) -> 0 | J31: =SUM(J12:J29) -> 0
B32: Cumul jours | C32: =C31 -> 32 | D32: =D31 -> 8 | E32: =E31 -> 1 | F32: =F31 -> 0 | G32: =G31 -> 0 | H32: =H31 -> 0 | I32: =I31 -> 0 | J32: =J31 -> 0
B34: Total dépensé | C34: =C31*250 -> 8000 | D34: =D31*250 -> 2000 | E34: =E31*250 -> 250 | F34: =F31*250 -> 0 | G34: =G31*250 -> 0 | H34: =H31*250 -> 0 | I34: =I31*250 -> 0 | J34: =J31*250 -> 0
B35: Cumul dépense | C35: =C34 -> 8000 | D35: =C35+D34 -> 10000 | E35: =D35+E34 -> 10250 | F35: =E35+F34 -> 10250 | G35: =F35+G34 -> 10250 | H35: =G35+H34 -> 10250 | I35: =H35+I34 -> 10250 | J35: =I35+J34 -> 10250
B36: Reste | C36: =H4-C34 -> 22000 | D36: =C36-D34 -> 20000 | E36: =D36-E34 -> 19750 | F36: =E36-F34 -> 19750 | G36: =F36-G34 -> 19750 | H36: =G36-H34 -> 19750 | I36: =H36-I34 -> 19750 | J36: =I36-J34 -> 19750
C37: =C35/$H4 -> 0.26666667 | D37: =D35/$H4 -> 0.33333333 | E37: =E35/$H4 -> 0.34166667 | F37: =F35/$H4 -> 0.34166667 | G37: =G35/$H4 -> 0.34166667 | H37: =H35/$H4 -> 0.34166667 | I37: =I35/$H4 -> 0.34166667 | J37: =J35/$H4 -> 0.34166667
B38: Saisie le
B39: Par
B40: Vérifié le
B41: Par
