Workbook
Name listeDR: [1]!Tableau1[agence]

Sheet Fiche
F2: Alger le : | G2: =TODAY() -> 43677
D3: Direction des indemnisations
D4: Service Sinistre Matériels
D5: DECOMPTE DE REGLEMENT
B6: Case réservée à la DI
B7: Autorisation de Règlement N° /
B9: Aff : | C9: 16002 18 1195 0028 | E9: DIRECTION REGIONALE | F9: ffff
B10: Acc : | E10: AGENCE
B11: Dos N° :
B12: Police N° :
B14: Par la pésente nous vous autorisons à proceder au règlement de la somme de titre de la garantie ( Dasc); suivant le PVE établi par l'expert Mr …….................................................
B16: =[1]Base!G29 -> 0 | C16: ='[1].'!C6 -> 0
B17: Au profit de l'assuré ………………………………………………………………, et cela au titre de la garantie
B18: de la garantie | C18: RC | D18: , suivant PVE établi par l'expert Mr
D19: Main Oeuvre | E19: =[1]Base!I25 -> 0
D20: peinture | E20: =[1]Base!J25 -> 0
D21: fourniture | E21: =[1]Base!F25+[1]Base!G25+[1]Base!H25 -> 0
D23: s/Total | E23: =[1]Base!F25+[1]Base!G25+[1]Base!H25+[1]Base!I25+[1]Base!J25 -> 0
D25: vétusté hors Glace | E25: =[1]Base!E29 -> 0
D26: vétusté pneumatique | E26: =[1]Base!E30 -> 0
D28: s/Total | E28: =[1]Base!H27 -> 0
D30: franchise | E30: =[1]Base!E31 -> 0
D31: immobilisation | E31: =[1]Base!F28 -> 0
D32: s/p
D33: net à payer | E33: =[1]Base!G29 -> 0
B36: Observation :
B39: Visa Agence | D39: visa gestionnaire DR | E39: visa chef département | F39: visa Directeur Régional
B45: visa cadre Technique DI | D45: visa chef de service | E45: visa S/ Directeur | F45: visa Directeur Indemnisation
A51: 11
F53: Alger le : | G53: =TODAY() -> 43677
D54: Direction des indemnisations
D55: Service Sinistre Matériels
D56: DECOMPTE DE REGLEMENT
B57: Case réservée à la DI
B58: Autorisation de Règlement N° /
B60: Aff : | C60: 16002 18 1195 0028 | E60: DIRECTION REGIONALE
B61: Acc : | E61: AGENCE
B62: Dos N° :
B63: Police N° : | F63: Ajout Additif
B65: Par la pésente nous vous autorisons à proceder au règlement de la somme de titre de la garantie ( Dasc); suivant le PVE établi par l'expert Mr …….................................................
B67: =[1]Base!G80 -> 0 | C67: ='[1].'!C57 -> 0
B68: Au profit de l'assuré ………………………………………………………………, et cela au titre de la garantie
B69: de la garantie | C69: RC | D69: , suivant PVE établi par l'expert Mr
D70: Main Oeuvre | E70: =[1]Base!I76 -> 0
D71: peinture | E71: =[1]Base!J76 -> 0
D72: fourniture | E72: =[1]Base!F76+[1]Base!G76+[1]Base!H76 -> 0
D74: s/Total | E74: =[1]Base!F76+[1]Base!G76+[1]Base!H76+[1]Base!I76+[1]Base!J76 -> 0
D76: vétusté hors Glace | E76: =[1]Base!E80 -> 0
D77: vétusté pneumatique | E77: =[1]Base!E81 -> 0
D79: s/Total | E79: =[1]Base!H78 -> 0
D81: franchise | E81: =[1]Base!E82 -> 0
D82: immobilisation | E82: =[1]Base!F79 -> 0
D84: net à payer | E84: =[1]Base!G80 -> 0
B87: Observation :
B90: Visa Agence | D90: visa gestionnaire DR | E90: visa chef département | F90: visa Directeur Régional
B96: visa cadre Technique DI | D96: visa chef de service | E96: visa S/ Directeur | F96: visa Directeur Indemnisation
A102: 11
F104: Alger le : | G104: =TODAY() -> 43677
D105: Direction des indemnisations
D106: Service Sinistre Matériels
D107: DECOMPTE DE REGLEMENT
B108: Case réservée à la DI
B109: Autorisation de Règlement N° /
B111: Aff : | C111: 16002 18 1195 0025 | E111: DIRECTION REGIONALE
B112: Acc : | E112: AGENCE
B113: Dos N° :
B114: Police N° :
B116: Par la pésente nous vous autorisons à proceder au règlement de la somme de titre de la garantie ( Dasc); suivant le PVE établi par l'expert Mr …….................................................
B118: =[1]Base!G131 -> 0 | C118: ='[1].'!C108 -> 0
B119: Au profit de l'assuré ………………………………………………………………, et cela au titre de la garantie
B120: de la garantie | C120: RC | D120: , suivant PVE établi par l'expert Mr
D121: Main Oeuvre | E121: =[1]Base!I127 -> 0
D122: peinture | E122: =[1]Base!J127 -> 0
D123: fourniture | E123: =[1]Base!F127+[1]Base!G127+[1]Base!H127 -> 0
D125: s/Total | E125: =[1]Base!F127+[1]Base!G127+[1]Base!H127+[1]Base!I127+[1]Base!J127 -> 0
D127: vétusté hors Glace | E127: =[1]Base!E131 -> 0
D128: vétusté pneumatique | E128: =[1]Base!E132 -> 0
D130: s/Total | E130: =[1]Base!H129 -> 0
D132: franchise | E132: =[1]Base!E133 -> 0
D133: immobilisation | E133: =[1]Base!F130 -> 0
D135: net à payer | E135: =[1]Base!G131 -> 0
B138: Observation :
B141: Visa Agence | D141: visa gestionnaire DR | E141: visa chef département | F141: visa Directeur Régional
B147: visa cadre Technique DI | D147: visa chef de service | E147: visa S/ Directeur | F147: visa Directeur Indemnisation
A153: 11

Sheet Base
A1: Aff : | B1: DIRECTION REGIONALE | C1: AGENCE | D1: net a payer | E1: date | F1: franchise | G1: S/p | H1: Garantie | I1: Alger le :
A2: =VLOOKUP(A1,Fiche!$A$1:$G$153,1,0) -> #N/A | B2: =VLOOKUP(B1,Fiche!$1:$1048576,2,0) -> #N/A | C2: =VLOOKUP(C1,Fiche!$1:$1048576,2,0) -> #N/A | D2: =VLOOKUP(D1,Fiche!$1:$1048576,2,0) -> #N/A | E2: =VLOOKUP(E1,Fiche!$1:$1048576,2,0) -> #N/A | F2: =VLOOKUP(F1,Fiche!$1:$1048576,2,0) -> #N/A | G2: =VLOOKUP(G1,Fiche!$1:$1048576,2,0) -> #N/A | H2: =VLOOKUP(H1,Fiche!$1:$1048576,2,0) -> #N/A | I2: =VLOOKUP(I1,Fiche!$1:$1048576,2,0) -> #N/A
A3: =VLOOKUP(A2,Fiche!$A$1:$G$153,1,0) -> #N/A | B3: =VLOOKUP(B2,Fiche!$1:$1048576,2,0) -> #N/A | C3: =VLOOKUP(C2,Fiche!$1:$1048576,2,0) -> #N/A | D3: =VLOOKUP(D2,Fiche!$1:$1048576,2,0) -> #N/A | E3: =VLOOKUP(E2,Fiche!$1:$1048576,2,0) -> #N/A | F3: =VLOOKUP(F2,Fiche!$1:$1048576,2,0) -> #N/A | G3: =VLOOKUP(G2,Fiche!$1:$1048576,2,0) -> #N/A | H3: =VLOOKUP(H2,Fiche!$1:$1048576,2,0) -> #N/A | I3: =VLOOKUP(I2,Fiche!$1:$1048576,2,0) -> #N/A
A4: =VLOOKUP(A3,Fiche!$A$1:$G$153,1,0) -> #N/A | B4: =VLOOKUP(B3,Fiche!$1:$1048576,2,0) -> #N/A | C4: =VLOOKUP(C3,Fiche!$1:$1048576,2,0) -> #N/A | D4: =VLOOKUP(D3,Fiche!$1:$1048576,2,0) -> #N/A | E4: =VLOOKUP(E3,Fiche!$1:$1048576,2,0) -> #N/A | F4: =VLOOKUP(F3,Fiche!$1:$1048576,2,0) -> #N/A | G4: =VLOOKUP(G3,Fiche!$1:$1048576,2,0) -> #N/A | H4: =VLOOKUP(H3,Fiche!$1:$1048576,2,0) -> #N/A | I4: =VLOOKUP(I3,Fiche!$1:$1048576,2,0) -> #N/A
A5: =VLOOKUP(A4,Fiche!$A$1:$G$153,1,0) -> #N/A | B5: =VLOOKUP(B4,Fiche!$1:$1048576,2,0) -> #N/A | C5: =VLOOKUP(C4,Fiche!$1:$1048576,2,0) -> #N/A | D5: =VLOOKUP(D4,Fiche!$1:$1048576,2,0) -> #N/A | E5: =VLOOKUP(E4,Fiche!$1:$1048576,2,0) -> #N/A | F5: =VLOOKUP(F4,Fiche!$1:$1048576,2,0) -> #N/A | G5: =VLOOKUP(G4,Fiche!$1:$1048576,2,0) -> #N/A | H5: =VLOOKUP(H4,Fiche!$1:$1048576,2,0) -> #N/A | I5: =VLOOKUP(I4,Fiche!$1:$1048576,2,0) -> #N/A
A6: =VLOOKUP(A5,Fiche!$A$1:$G$153,1,0) -> #N/A | B6: =VLOOKUP(B5,Fiche!$1:$1048576,2,0) -> #N/A | C6: =VLOOKUP(C5,Fiche!$1:$1048576,2,0) -> #N/A | D6: =VLOOKUP(D5,Fiche!$1:$1048576,2,0) -> #N/A | E6: =VLOOKUP(E5,Fiche!$1:$1048576,2,0) -> #N/A | F6: =VLOOKUP(F5,Fiche!$1:$1048576,2,0) -> #N/A | G6: =VLOOKUP(G5,Fiche!$1:$1048576,2,0) -> #N/A | H6: =VLOOKUP(H5,Fiche!$1:$1048576,2,0) -> #N/A | I6: =VLOOKUP(I5,Fiche!$1:$1048576,2,0) -> #N/A

Sheet Feuil3
