Workbook

Sheet Récap
A1: Gestionnaire | B1: Nb dossier | C1: Nbre de dossier en % | D1: >200000 | E1: <200000 | F1: PV | G1: Sans pv
A2: Employé 1 | B2: =COUNTIF(Tableau2[[Employé ]],Récap!$A2) -> 2 | C2: =Tableau1[[#This Row],[Nb dossier]]/Tableau1[[#Totals],[Nb dossier]] -> 0.095238095 | D2: =COUNTIFS(Tableau2[[Employé ]],$A2,Tableau2[Montant],">"&20000) -> 0 | E2: =COUNTIFS(Tableau2[[Employé ]],$A2,Tableau2[Montant],"<="&20000) -> 2 | F2: =COUNTIFS(Tableau2[[Employé ]],$A2,Tableau2[Montant],"<="&20000,Tableau2[Date d''affectation],">0") -> 0 | G2: =COUNTIFS(Tableau2[[Employé ]],$A2,Tableau2[Montant],"<="&20000,Tableau2[Date d''affectation],"") -> 2
A3: Employé 2 | B3: =COUNTIF(Tableau2[[Employé ]],Récap!$A3) -> 4 | C3: =Tableau1[[#This Row],[Nb dossier]]/Tableau1[[#Totals],[Nb dossier]] -> 0.19047619 | D3: =COUNTIFS(Tableau2[[Employé ]],$A3,Tableau2[Montant],">"&20000) -> 1 | E3: =COUNTIFS(Tableau2[[Employé ]],$A3,Tableau2[Montant],"<="&20000) -> 3 | F3: =COUNTIFS(Tableau2[[Employé ]],$A3,Tableau2[Montant],"<="&20000,Tableau2[Date d''affectation],">0") -> 1 | G3: =COUNTIFS(Tableau2[[Employé ]],$A3,Tableau2[Montant],"<="&20000,Tableau2[Date d''affectation],"") -> 2
A4: Employé 3 | B4: =COUNTIF(Tableau2[[Employé ]],Récap!$A4) -> 3 | C4: =Tableau1[[#This Row],[Nb dossier]]/Tableau1[[#Totals],[Nb dossier]] -> 0.14285714 | D4: =COUNTIFS(Tableau2[[Employé ]],$A4,Tableau2[Montant],">"&20000) -> 1 | E4: =COUNTIFS(Tableau2[[Employé ]],$A4,Tableau2[Montant],"<="&20000) -> 2 | F4: =COUNTIFS(Tableau2[[Employé ]],$A4,Tableau2[Montant],"<="&20000,Tableau2[Date d''affectation],">0") -> 0 | G4: =COUNTIFS(Tableau2[[Employé ]],$A4,Tableau2[Montant],"<="&20000,Tableau2[Date d''affectation],"") -> 2
A5: Employé 4 | B5: =COUNTIF(Tableau2[[Employé ]],Récap!$A5) -> 3 | C5: =Tableau1[[#This Row],[Nb dossier]]/Tableau1[[#Totals],[Nb dossier]] -> 0.14285714 | D5: =COUNTIFS(Tableau2[[Employé ]],$A5,Tableau2[Montant],">"&20000) -> 2 | E5: =COUNTIFS(Tableau2[[Employé ]],$A5,Tableau2[Montant],"<="&20000) -> 1 | F5: =COUNTIFS(Tableau2[[Employé ]],$A5,Tableau2[Montant],"<="&20000,Tableau2[Date d''affectation],">0") -> 0 | G5: =COUNTIFS(Tableau2[[Employé ]],$A5,Tableau2[Montant],"<="&20000,Tableau2[Date d''affectation],"") -> 1
A6: Employé 5 | B6: =COUNTIF(Tableau2[[Employé ]],Récap!$A6) -> 5 | C6: =Tableau1[[#This Row],[Nb dossier]]/Tableau1[[#Totals],[Nb dossier]] -> 0.23809524 | D6: =COUNTIFS(Tableau2[[Employé ]],$A6,Tableau2[Montant],">"&20000) -> 1 | E6: =COUNTIFS(Tableau2[[Employé ]],$A6,Tableau2[Montant],"<="&20000) -> 4 | F6: =COUNTIFS(Tableau2[[Employé ]],$A6,Tableau2[Montant],"<="&20000,Tableau2[Date d''affectation],">0") -> 1 | G6: =COUNTIFS(Tableau2[[Employé ]],$A6,Tableau2[Montant],"<="&20000,Tableau2[Date d''affectation],"") -> 3
A7: Employé 6 | B7: =COUNTIF(Tableau2[[Employé ]],Récap!$A7) -> 3 | C7: =Tableau1[[#This Row],[Nb dossier]]/Tableau1[[#Totals],[Nb dossier]] -> 0.14285714 | D7: =COUNTIFS(Tableau2[[Employé ]],$A7,Tableau2[Montant],">"&20000) -> 0 | E7: =COUNTIFS(Tableau2[[Employé ]],$A7,Tableau2[Montant],"<="&20000) -> 3 | F7: =COUNTIFS(Tableau2[[Employé ]],$A7,Tableau2[Montant],"<="&20000,Tableau2[Date d''affectation],">0") -> 1 | G7: =COUNTIFS(Tableau2[[Employé ]],$A7,Tableau2[Montant],"<="&20000,Tableau2[Date d''affectation],"") -> 2
A8: Employé 7 | B8: =COUNTIF(Tableau2[[Employé ]],Récap!$A8) -> 1 | C8: =Tableau1[[#This Row],[Nb dossier]]/Tableau1[[#Totals],[Nb dossier]] -> 0.047619048 | D8: =COUNTIFS(Tableau2[[Employé ]],$A8,Tableau2[Montant],">"&20000) -> 0 | E8: =COUNTIFS(Tableau2[[Employé ]],$A8,Tableau2[Montant],"<="&20000) -> 1 | F8: =COUNTIFS(Tableau2[[Employé ]],$A8,Tableau2[Montant],"<="&20000,Tableau2[Date d''affectation],">0") -> 0 | G8: =COUNTIFS(Tableau2[[Employé ]],$A8,Tableau2[Montant],"<="&20000,Tableau2[Date d''affectation],"") -> 1
A9: Employé 8 | B9: =COUNTIF(Tableau2[[Employé ]],Récap!$A9) -> 0 | C9: =Tableau1[[#This Row],[Nb dossier]]/Tableau1[[#Totals],[Nb dossier]] -> 0 | D9: =COUNTIFS(Tableau2[[Employé ]],$A9,Tableau2[Montant],">"&20000) -> 0 | E9: =COUNTIFS(Tableau2[[Employé ]],$A9,Tableau2[Montant],"<="&20000) -> 0 | F9: =COUNTIFS(Tableau2[[Employé ]],$A9,Tableau2[Montant],"<="&20000,Tableau2[Date d''affectation],">0") -> 0 | G9: =COUNTIFS(Tableau2[[Employé ]],$A9,Tableau2[Montant],"<="&20000,Tableau2[Date d''affectation],"") -> 0
A10: Total | B10: =SUBTOTAL(109,Tableau1[Nb dossier]) -> 21 | C10: =SUBTOTAL(101,Tableau1[Nbre de dossier en %]) -> 0.125

Sheet LISTE
A1: N° De Sinistre | B1: Montant | C1: Employé | D1: Date d'affectation | E1: Observations
A2: ref 001 20 | B2: 10000 | C2: Employé 1 | E2: {=_xlfn.IFS(Tableau2[[#This Row],[Montant]]<200000,IF(COUNTIF(Tableau2[[Employé ]],Tableau2[[#This Row],[Employé ]])=COUNTIF($AA$2:$AA230,$AA230),IF(COUNTIF(Tableau2[[Employé ]],Tableau2[[#This Row],[Employé ]])=MIN(Tableau1[<200000]),"En attente d'afféctation",IF(COUNTIF(Tableau2[[Employé ]],Tableau2[[#This Row],[Employé ]])=MAX(Tableau1[<200000]),"Trop de dossier","")),""),Tableau2[[#This Row],[Montant]]>200000,IF(COUNTIF(Tableau2[[Employé ]],Tableau2[[#This Row],[Employé ]])=COUNTIF($AA$2:$AA230,$AA230),IF(COUNTIF(Tableau2[[Employé ]],Tableau2[[#This Row],[Employé ]])=MIN(Tableau1[>200000]),"En attente d'afféctation",IF(COUNTIF(Tableau2[[Employé ]],Tableau2[[#This Row],[Employé ]])=MAX(Tableau1[>200000]),"Trop de dossier","")),""))}
A3: ref 001 21 | B3: 10000 | C3: Employé 2 | D3: 44940 | E3: {=_xlfn.IFS(Tableau2[[#This Row],[Montant]]<200000,IF(COUNTIF(Tableau2[[Employé ]],Tableau2[[#This Row],[Employé ]])=COUNTIF($AA$2:$AA231,$AA231),IF(COUNTIF(Tableau2[[Employé ]],Tableau2[[#This Row],[Employé ]])=MIN(Tableau1[<200000]),"En attente d'afféctation",IF(COUNTIF(Tableau2[[Employé ]],Tableau2[[#This Row],[Employé ]])=MAX(Tableau1[<200000]),"Trop de dossier","")),""),Tableau2[[#This Row],[Montant]]>200000,IF(COUNTIF(Tableau2[[Employé ]],Tableau2[[#This Row],[Employé ]])=COUNTIF($AA$2:$AA231,$AA231),IF(COUNTIF(Tableau2[[Employé ]],Tableau2[[#This Row],[Employé ]])=MIN(Tableau1[>200000]),"En attente d'afféctation",IF(COUNTIF(Tableau2[[Employé ]],Tableau2[[#This Row],[Employé ]])=MAX(Tableau1[>200000]),"Trop de dossier","")),""))}
A4: ref 001 22 | B4: 10000 | C4: Employé 1 | E4: {=_xlfn.IFS(Tableau2[[#This Row],[Montant]]<200000,IF(COUNTIF(Tableau2[[Employé ]],Tableau2[[#This Row],[Employé ]])=COUNTIF($AA$2:$AA232,$AA232),IF(COUNTIF(Tableau2[[Employé ]],Tableau2[[#This Row],[Employé ]])=MIN(Tableau1[<200000]),"En attente d'afféctation",IF(COUNTIF(Tableau2[[Employé ]],Tableau2[[#This Row],[Employé ]])=MAX(Tableau1[<200000]),"Trop de dossier","")),""),Tableau2[[#This Row],[Montant]]>200000,IF(COUNTIF(Tableau2[[Employé ]],Tableau2[[#This Row],[Employé ]])=COUNTIF($AA$2:$AA232,$AA232),IF(COUNTIF(Tableau2[[Employé ]],Tableau2[[#This Row],[Employé ]])=MIN(Tableau1[>200000]),"En attente d'afféctation",IF(COUNTIF(Tableau2[[Employé ]],Tableau2[[#This Row],[Employé ]])=MAX(Tableau1[>200000]),"Trop de dossier","")),""))}
A5: ref 001 23 | B5: 10000 | C5: Employé 2 | E5: {=_xlfn.IFS(Tableau2[[#This Row],[Montant]]<200000,IF(COUNTIF(Tableau2[[Employé ]],Tableau2[[#This Row],[Employé ]])=COUNTIF($AA$2:$AA233,$AA233),IF(COUNTIF(Tableau2[[Employé ]],Tableau2[[#This Row],[Employé ]])=MIN(Tableau1[<200000]),"En attente d'afféctation",IF(COUNTIF(Tableau2[[Employé ]],Tableau2[[#This Row],[Employé ]])=MAX(Tableau1[<200000]),"Trop de dossier","")),""),Tableau2[[#This Row],[Montant]]>200000,IF(COUNTIF(Tableau2[[Employé ]],Tableau2[[#This Row],[Employé ]])=COUNTIF($AA$2:$AA233,$AA233),IF(COUNTIF(Tableau2[[Employé ]],Tableau2[[#This Row],[Employé ]])=MIN(Tableau1[>200000]),"En attente d'afféctation",IF(COUNTIF(Tableau2[[Employé ]],Tableau2[[#This Row],[Employé ]])=MAX(Tableau1[>200000]),"Trop de dossier","")),""))}
A6: ref 001 24 | B6: 1000000 | C6: Employé 2 | E6: {=_xlfn.IFS(Tableau2[[#This Row],[Montant]]<200000,IF(COUNTIF(Tableau2[[Employé ]],Tableau2[[#This Row],[Employé ]])=COUNTIF($AA$2:$AA234,$AA234),IF(COUNTIF(Tableau2[[Employé ]],Tableau2[[#This Row],[Employé ]])=MIN(Tableau1[<200000]),"En attente d'afféctation",IF(COUNTIF(Tableau2[[Employé ]],Tableau2[[#This Row],[Employé ]])=MAX(Tableau1[<200000]),"Trop de dossier","")),""),Tableau2[[#This Row],[Montant]]>200000,IF(COUNTIF(Tableau2[[Employé ]],Tableau2[[#This Row],[Employé ]])=COUNTIF($AA$2:$AA234,$AA234),IF(COUNTIF(Tableau2[[Employé ]],Tableau2[[#This Row],[Employé ]])=MIN(Tableau1[>200000]),"En attente d'afféctation",IF(COUNTIF(Tableau2[[Employé ]],Tableau2[[#This Row],[Employé ]])=MAX(Tableau1[>200000]),"Trop de dossier","")),""))}
A7: ref 001 25 | B7: 10000 | C7: Employé 2 | E7: {=_xlfn.IFS(Tableau2[[#This Row],[Montant]]<200000,IF(COUNTIF(Tableau2[[Employé ]],Tableau2[[#This Row],[Employé ]])=COUNTIF($AA$2:$AA235,$AA235),IF(COUNTIF(Tableau2[[Employé ]],Tableau2[[#This Row],[Employé ]])=MIN(Tableau1[<200000]),"En attente d'afféctation",IF(COUNTIF(Tableau2[[Employé ]],Tableau2[[#This Row],[Employé ]])=MAX(Tableau1[<200000]),"Trop de dossier","")),""),Tableau2[[#This Row],[Montant]]>200000,IF(COUNTIF(Tableau2[[Employé ]],Tableau2[[#This Row],[Employé ]])=COUNTIF($AA$2:$AA235,$AA235),IF(COUNTIF(Tableau2[[Employé ]],Tableau2[[#This Row],[Employé ]])=MIN(Tableau1[>200000]),"En attente d'afféctation",IF(COUNTIF(Tableau2[[Employé ]],Tableau2[[#This Row],[Employé ]])=MAX(Tableau1[>200000]),"Trop de dossier","")),""))}
A8: ref 001 26 | B8: 25000 | C8: Employé 3 | E8: {=_xlfn.IFS(Tableau2[[#This Row],[Montant]]<200000,IF(COUNTIF(Tableau2[[Employé ]],Tableau2[[#This Row],[Employé ]])=COUNTIF($AA$2:$AA236,$AA236),IF(COUNTIF(Tableau2[[Employé ]],Tableau2[[#This Row],[Employé ]])=MIN(Tableau1[<200000]),"En attente d'afféctation",IF(COUNTIF(Tableau2[[Employé ]],Tableau2[[#This Row],[Employé ]])=MAX(Tableau1[<200000]),"Trop de dossier","")),""),Tableau2[[#This Row],[Montant]]>200000,IF(COUNTIF(Tableau2[[Employé ]],Tableau2[[#This Row],[Employé ]])=COUNTIF($AA$2:$AA236,$AA236),IF(COUNTIF(Tableau2[[Employé ]],Tableau2[[#This Row],[Employé ]])=MIN(Tableau1[>200000]),"En attente d'afféctation",IF(COUNTIF(Tableau2[[Employé ]],Tableau2[[#This Row],[Employé ]])=MAX(Tableau1[>200000]),"Trop de dossier","")),""))}
A9: ref 001 27 | B9: 10000 | C9: Employé 3 | E9: {=_xlfn.IFS(Tableau2[[#This Row],[Montant]]<200000,IF(COUNTIF(Tableau2[[Employé ]],Tableau2[[#This Row],[Employé ]])=COUNTIF($AA$2:$AA237,$AA237),IF(COUNTIF(Tableau2[[Employé ]],Tableau2[[#This Row],[Employé ]])=MIN(Tableau1[<200000]),"En attente d'afféctation",IF(COUNTIF(Tableau2[[Employé ]],Tableau2[[#This Row],[Employé ]])=MAX(Tableau1[<200000]),"Trop de dossier","")),""),Tableau2[[#This Row],[Montant]]>200000,IF(COUNTIF(Tableau2[[Employé ]],Tableau2[[#This Row],[Employé ]])=COUNTIF($AA$2:$AA237,$AA237),IF(COUNTIF(Tableau2[[Employé ]],Tableau2[[#This Row],[Employé ]])=MIN(Tableau1[>200000]),"En attente d'afféctation",IF(COUNTIF(Tableau2[[Employé ]],Tableau2[[#This Row],[Employé ]])=MAX(Tableau1[>200000]),"Trop de dossier","")),""))}
A10: ref 001 28 | B10: 10000 | C10: Employé 3 | E10: {=_xlfn.IFS(Tableau2[[#This Row],[Montant]]<200000,IF(COUNTIF(Tableau2[[Employé ]],Tableau2[[#This Row],[Employé ]])=COUNTIF($AA$2:$AA238,$AA238),IF(COUNTIF(Tableau2[[Employé ]],Tableau2[[#This Row],[Employé ]])=MIN(Tableau1[<200000]),"En attente d'afféctation",IF(COUNTIF(Tableau2[[Employé ]],Tableau2[[#This Row],[Employé ]])=MAX(Tableau1[<200000]),"Trop de dossier","")),""),Tableau2[[#This Row],[Montant]]>200000,IF(COUNTIF(Tableau2[[Employé ]],Tableau2[[#This Row],[Employé ]])=COUNTIF($AA$2:$AA238,$AA238),IF(COUNTIF(Tableau2[[Employé ]],Tableau2[[#This Row],[Employé ]])=MIN(Tableau1[>200000]),"En attente d'afféctation",IF(COUNTIF(Tableau2[[Employé ]],Tableau2[[#This Row],[Employé ]])=MAX(Tableau1[>200000]),"Trop de dossier","")),""))}
A11: ref 001 29 | B11: 30000 | C11: Employé 4 | E11: {=_xlfn.IFS(Tableau2[[#This Row],[Montant]]<200000,IF(COUNTIF(Tableau2[[Employé ]],Tableau2[[#This Row],[Employé ]])=COUNTIF($AA$2:$AA239,$AA239),IF(COUNTIF(Tableau2[[Employé ]],Tableau2[[#This Row],[Employé ]])=MIN(Tableau1[<200000]),"En attente d'afféctation",IF(COUNTIF(Tableau2[[Employé ]],Tableau2[[#This Row],[Employé ]])=MAX(Tableau1[<200000]),"Trop de dossier","")),""),Tableau2[[#This Row],[Montant]]>200000,IF(COUNTIF(Tableau2[[Employé ]],Tableau2[[#This Row],[Employé ]])=COUNTIF($AA$2:$AA239,$AA239),IF(COUNTIF(Tableau2[[Employé ]],Tableau2[[#This Row],[Employé ]])=MIN(Tableau1[>200000]),"En attente d'afféctation",IF(COUNTIF(Tableau2[[Employé ]],Tableau2[[#This Row],[Employé ]])=MAX(Tableau1[>200000]),"Trop de dossier","")),""))}
A12: ref 001 30 | B12: 10000 | C12: Employé 4 | E12: {=_xlfn.IFS(Tableau2[[#This Row],[Montant]]<200000,IF(COUNTIF(Tableau2[[Employé ]],Tableau2[[#This Row],[Employé ]])=COUNTIF($AA$2:$AA240,$AA240),IF(COUNTIF(Tableau2[[Employé ]],Tableau2[[#This Row],[Employé ]])=MIN(Tableau1[<200000]),"En attente d'afféctation",IF(COUNTIF(Tableau2[[Employé ]],Tableau2[[#This Row],[Employé ]])=MAX(Tableau1[<200000]),"Trop de dossier","")),""),Tableau2[[#This Row],[Montant]]>200000,IF(COUNTIF(Tableau2[[Employé ]],Tableau2[[#This Row],[Employé ]])=COUNTIF($AA$2:$AA240,$AA240),IF(COUNTIF(Tableau2[[Employé ]],Tableau2[[#This Row],[Employé ]])=MIN(Tableau1[>200000]),"En attente d'afféctation",IF(COUNTIF(Tableau2[[Employé ]],Tableau2[[#This Row],[Employé ]])=MAX(Tableau1[>200000]),"Trop de dossier","")),""))}
A13: ref 001 31 | B13: 240000 | C13: Employé 4 | E13: {=_xlfn.IFS(Tableau2[[#This Row],[Montant]]<200000,IF(COUNTIF(Tableau2[[Employé ]],Tableau2[[#This Row],[Employé ]])=COUNTIF($AA$2:$AA241,$AA241),IF(COUNTIF(Tableau2[[Employé ]],Tableau2[[#This Row],[Employé ]])=MIN(Tableau1[<200000]),"En attente d'afféctation",IF(COUNTIF(Tableau2[[Employé ]],Tableau2[[#This Row],[Employé ]])=MAX(Tableau1[<200000]),"Trop de dossier","")),""),Tableau2[[#This Row],[Montant]]>200000,IF(COUNTIF(Tableau2[[Employé ]],Tableau2[[#This Row],[Employé ]])=COUNTIF($AA$2:$AA241,$AA241),IF(COUNTIF(Tableau2[[Employé ]],Tableau2[[#This Row],[Employé ]])=MIN(Tableau1[>200000]),"En attente d'afféctation",IF(COUNTIF(Tableau2[[Employé ]],Tableau2[[#This Row],[Employé ]])=MAX(Tableau1[>200000]),"Trop de dossier","")),""))}
A14: ref 001 32 | B14: 10000 | C14: Employé 6 | D14: 44940 | E14: {=_xlfn.IFS(Tableau2[[#This Row],[Montant]]<200000,IF(COUNTIF(Tableau2[[Employé ]],Tableau2[[#This Row],[Employé ]])=COUNTIF($AA$2:$AA242,$AA242),IF(COUNTIF(Tableau2[[Employé ]],Tableau2[[#This Row],[Employé ]])=MIN(Tableau1[<200000]),"En attente d'afféctation",IF(COUNTIF(Tableau2[[Employé ]],Tableau2[[#This Row],[Employé ]])=MAX(Tableau1[<200000]),"Trop de dossier","")),""),Tableau2[[#This Row],[Montant]]>200000,IF(COUNTIF(Tableau2[[Employé ]],Tableau2[[#This Row],[Employé ]])=COUNTIF($AA$2:$AA242,$AA242),IF(COUNTIF(Tableau2[[Employé ]],Tableau2[[#This Row],[Employé ]])=MIN(Tableau1[>200000]),"En attente d'afféctation",IF(COUNTIF(Tableau2[[Employé ]],Tableau2[[#This Row],[Employé ]])=MAX(Tableau1[>200000]),"Trop de dossier","")),""))}
A15: ref 001 33 | B15: 10000 | C15: Employé 6 | E15: {=_xlfn.IFS(Tableau2[[#This Row],[Montant]]<200000,IF(COUNTIF(Tableau2[[Employé ]],Tableau2[[#This Row],[Employé ]])=COUNTIF($AA$2:$AA243,$AA243),IF(COUNTIF(Tableau2[[Employé ]],Tableau2[[#This Row],[Employé ]])=MIN(Tableau1[<200000]),"En attente d'afféctation",IF(COUNTIF(Tableau2[[Employé ]],Tableau2[[#This Row],[Employé ]])=MAX(Tableau1[<200000]),"Trop de dossier","")),""),Tableau2[[#This Row],[Montant]]>200000,IF(COUNTIF(Tableau2[[Employé ]],Tableau2[[#This Row],[Employé ]])=COUNTIF($AA$2:$AA243,$AA243),IF(COUNTIF(Tableau2[[Employé ]],Tableau2[[#This Row],[Employé ]])=MIN(Tableau1[>200000]),"En attente d'afféctation",IF(COUNTIF(Tableau2[[Employé ]],Tableau2[[#This Row],[Employé ]])=MAX(Tableau1[>200000]),"Trop de dossier","")),""))}
A16: ref 001 34 | B16: 10000 | C16: Employé 6 | E16: {=_xlfn.IFS(Tableau2[[#This Row],[Montant]]<200000,IF(COUNTIF(Tableau2[[Employé ]],Tableau2[[#This Row],[Employé ]])=COUNTIF($AA$2:$AA244,$AA244),IF(COUNTIF(Tableau2[[Employé ]],Tableau2[[#This Row],[Employé ]])=MIN(Tableau1[<200000]),"En attente d'afféctation",IF(COUNTIF(Tableau2[[Employé ]],Tableau2[[#This Row],[Employé ]])=MAX(Tableau1[<200000]),"Trop de dossier","")),""),Tableau2[[#This Row],[Montant]]>200000,IF(COUNTIF(Tableau2[[Employé ]],Tableau2[[#This Row],[Employé ]])=COUNTIF($AA$2:$AA244,$AA244),IF(COUNTIF(Tableau2[[Employé ]],Tableau2[[#This Row],[Employé ]])=MIN(Tableau1[>200000]),"En attente d'afféctation",IF(COUNTIF(Tableau2[[Employé ]],Tableau2[[#This Row],[Employé ]])=MAX(Tableau1[>200000]),"Trop de dossier","")),""))}
A17: ref 001 35 | B17: 10000 | C17: Employé 5 | E17: {=_xlfn.IFS(Tableau2[[#This Row],[Montant]]<200000,IF(COUNTIF(Tableau2[[Employé ]],Tableau2[[#This Row],[Employé ]])=COUNTIF($AA$2:$AA245,$AA245),IF(COUNTIF(Tableau2[[Employé ]],Tableau2[[#This Row],[Employé ]])=MIN(Tableau1[<200000]),"En attente d'afféctation",IF(COUNTIF(Tableau2[[Employé ]],Tableau2[[#This Row],[Employé ]])=MAX(Tableau1[<200000]),"Trop de dossier","")),""),Tableau2[[#This Row],[Montant]]>200000,IF(COUNTIF(Tableau2[[Employé ]],Tableau2[[#This Row],[Employé ]])=COUNTIF($AA$2:$AA245,$AA245),IF(COUNTIF(Tableau2[[Employé ]],Tableau2[[#This Row],[Employé ]])=MIN(Tableau1[>200000]),"En attente d'afféctation",IF(COUNTIF(Tableau2[[Employé ]],Tableau2[[#This Row],[Employé ]])=MAX(Tableau1[>200000]),"Trop de dossier","")),""))}
A18: ref 001 36 | B18: 10000 | C18: Employé 5 | E18: {=_xlfn.IFS(Tableau2[[#This Row],[Montant]]<200000,IF(COUNTIF(Tableau2[[Employé ]],Tableau2[[#This Row],[Employé ]])=COUNTIF($AA$2:$AA246,$AA246),IF(COUNTIF(Tableau2[[Employé ]],Tableau2[[#This Row],[Employé ]])=MIN(Tableau1[<200000]),"En attente d'afféctation",IF(COUNTIF(Tableau2[[Employé ]],Tableau2[[#This Row],[Employé ]])=MAX(Tableau1[<200000]),"Trop de dossier","")),""),Tableau2[[#This Row],[Montant]]>200000,IF(COUNTIF(Tableau2[[Employé ]],Tableau2[[#This Row],[Employé ]])=COUNTIF($AA$2:$AA246,$AA246),IF(COUNTIF(Tableau2[[Employé ]],Tableau2[[#This Row],[Employé ]])=MIN(Tableau1[>200000]),"En attente d'afféctation",IF(COUNTIF(Tableau2[[Employé ]],Tableau2[[#This Row],[Employé ]])=MAX(Tableau1[>200000]),"Trop de dossier","")),""))}
A19: ref 001 37 | B19: 10000 | C19: Employé 5 | D19: 44940 | E19: {=_xlfn.IFS(Tableau2[[#This Row],[Montant]]<200000,IF(COUNTIF(Tableau2[[Employé ]],Tableau2[[#This Row],[Employé ]])=COUNTIF($AA$2:$AA247,$AA247),IF(COUNTIF(Tableau2[[Employé ]],Tableau2[[#This Row],[Employé ]])=MIN(Tableau1[<200000]),"En attente d'afféctation",IF(COUNTIF(Tableau2[[Employé ]],Tableau2[[#This Row],[Employé ]])=MAX(Tableau1[<200000]),"Trop de dossier","")),""),Tableau2[[#This Row],[Montant]]>200000,IF(COUNTIF(Tableau2[[Employé ]],Tableau2[[#This Row],[Employé ]])=COUNTIF($AA$2:$AA247,$AA247),IF(COUNTIF(Tableau2[[Employé ]],Tableau2[[#This Row],[Employé ]])=MIN(Tableau1[>200000]),"En attente d'afféctation",IF(COUNTIF(Tableau2[[Employé ]],Tableau2[[#This Row],[Employé ]])=MAX(Tableau1[>200000]),"Trop de dossier","")),""))}
A20: ref 001 38 | B20: 500000 | C20: Employé 5 | E20: {=_xlfn.IFS(Tableau2[[#This Row],[Montant]]<200000,IF(COUNTIF(Tableau2[[Employé ]],Tableau2[[#This Row],[Employé ]])=COUNTIF($AA$2:$AA248,$AA248),IF(COUNTIF(Tableau2[[Employé ]],Tableau2[[#This Row],[Employé ]])=MIN(Tableau1[<200000]),"En attente d'afféctation",IF(COUNTIF(Tableau2[[Employé ]],Tableau2[[#This Row],[Employé ]])=MAX(Tableau1[<200000]),"Trop de dossier","")),""),Tableau2[[#This Row],[Montant]]>200000,IF(COUNTIF(Tableau2[[Employé ]],Tableau2[[#This Row],[Employé ]])=COUNTIF($AA$2:$AA248,$AA248),IF(COUNTIF(Tableau2[[Employé ]],Tableau2[[#This Row],[Employé ]])=MIN(Tableau1[>200000]),"En attente d'afféctation",IF(COUNTIF(Tableau2[[Employé ]],Tableau2[[#This Row],[Employé ]])=MAX(Tableau1[>200000]),"Trop de dossier","")),""))}
A21: ref 001 39 | B21: 10000 | C21: Employé 5 | E21: {=_xlfn.IFS(Tableau2[[#This Row],[Montant]]<200000,IF(COUNTIF(Tableau2[[Employé ]],Tableau2[[#This Row],[Employé ]])=COUNTIF($AA$2:$AA249,$AA249),IF(COUNTIF(Tableau2[[Employé ]],Tableau2[[#This Row],[Employé ]])=MIN(Tableau1[<200000]),"En attente d'afféctation",IF(COUNTIF(Tableau2[[Employé ]],Tableau2[[#This Row],[Employé ]])=MAX(Tableau1[<200000]),"Trop de dossier","")),""),Tableau2[[#This Row],[Montant]]>200000,IF(COUNTIF(Tableau2[[Employé ]],Tableau2[[#This Row],[Employé ]])=COUNTIF($AA$2:$AA249,$AA249),IF(COUNTIF(Tableau2[[Employé ]],Tableau2[[#This Row],[Employé ]])=MIN(Tableau1[>200000]),"En attente d'afféctation",IF(COUNTIF(Tableau2[[Employé ]],Tableau2[[#This Row],[Employé ]])=MAX(Tableau1[>200000]),"Trop de dossier","")),""))}
A22: ref 001 40 | B22: 10000 | C22: Employé 7 | E22: {=_xlfn.IFS(Tableau2[[#This Row],[Montant]]<200000,IF(COUNTIF(Tableau2[[Employé ]],Tableau2[[#This Row],[Employé ]])=COUNTIF($AA$2:$AA250,$AA250),IF(COUNTIF(Tableau2[[Employé ]],Tableau2[[#This Row],[Employé ]])=MIN(Tableau1[<200000]),"En attente d'afféctation",IF(COUNTIF(Tableau2[[Employé ]],Tableau2[[#This Row],[Employé ]])=MAX(Tableau1[<200000]),"Trop de dossier","")),""),Tableau2[[#This Row],[Montant]]>200000,IF(COUNTIF(Tableau2[[Employé ]],Tableau2[[#This Row],[Employé ]])=COUNTIF($AA$2:$AA250,$AA250),IF(COUNTIF(Tableau2[[Employé ]],Tableau2[[#This Row],[Employé ]])=MIN(Tableau1[>200000]),"En attente d'afféctation",IF(COUNTIF(Tableau2[[Employé ]],Tableau2[[#This Row],[Employé ]])=MAX(Tableau1[>200000]),"Trop de dossier","")),""))}
A23: ref 001 41 | B23: 10000 | E23: {=_xlfn.IFS(Tableau2[[#This Row],[Montant]]<200000,IF(COUNTIF(Tableau2[[Employé ]],Tableau2[[#This Row],[Employé ]])=COUNTIF($AA$2:$AA251,$AA251),IF(COUNTIF(Tableau2[[Employé ]],Tableau2[[#This Row],[Employé ]])=MIN(Tableau1[<200000]),"En attente d'afféctation",IF(COUNTIF(Tableau2[[Employé ]],Tableau2[[#This Row],[Employé ]])=MAX(Tableau1[<200000]),"Trop de dossier","")),""),Tableau2[[#This Row],[Montant]]>200000,IF(COUNTIF(Tableau2[[Employé ]],Tableau2[[#This Row],[Employé ]])=COUNTIF($AA$2:$AA251,$AA251),IF(COUNTIF(Tableau2[[Employé ]],Tableau2[[#This Row],[Employé ]])=MIN(Tableau1[>200000]),"En attente d'afféctation",IF(COUNTIF(Tableau2[[Employé ]],Tableau2[[#This Row],[Employé ]])=MAX(Tableau1[>200000]),"Trop de dossier","")),""))} -> En attente d'afféctation
A24: ref 001 42 | B24: 10000 | D24: 44940 | E24: {=_xlfn.IFS(Tableau2[[#This Row],[Montant]]<200000,IF(COUNTIF(Tableau2[[Employé ]],Tableau2[[#This Row],[Employé ]])=COUNTIF($AA$2:$AA252,$AA252),IF(COUNTIF(Tableau2[[Employé ]],Tableau2[[#This Row],[Employé ]])=MIN(Tableau1[<200000]),"En attente d'afféctation",IF(COUNTIF(Tableau2[[Employé ]],Tableau2[[#This Row],[Employé ]])=MAX(Tableau1[<200000]),"Trop de dossier","")),""),Tableau2[[#This Row],[Montant]]>200000,IF(COUNTIF(Tableau2[[Employé ]],Tableau2[[#This Row],[Employé ]])=COUNTIF($AA$2:$AA252,$AA252),IF(COUNTIF(Tableau2[[Employé ]],Tableau2[[#This Row],[Employé ]])=MIN(Tableau1[>200000]),"En attente d'afféctation",IF(COUNTIF(Tableau2[[Employé ]],Tableau2[[#This Row],[Employé ]])=MAX(Tableau1[>200000]),"Trop de dossier","")),""))} -> En attente d'afféctation
A25: ref 001 43 | B25: 10000 | E25: {=_xlfn.IFS(Tableau2[[#This Row],[Montant]]<200000,IF(COUNTIF(Tableau2[[Employé ]],Tableau2[[#This Row],[Employé ]])=COUNTIF($AA$2:$AA253,$AA253),IF(COUNTIF(Tableau2[[Employé ]],Tableau2[[#This Row],[Employé ]])=MIN(Tableau1[<200000]),"En attente d'afféctation",IF(COUNTIF(Tableau2[[Employé ]],Tableau2[[#This Row],[Employé ]])=MAX(Tableau1[<200000]),"Trop de dossier","")),""),Tableau2[[#This Row],[Montant]]>200000,IF(COUNTIF(Tableau2[[Employé ]],Tableau2[[#This Row],[Employé ]])=COUNTIF($AA$2:$AA253,$AA253),IF(COUNTIF(Tableau2[[Employé ]],Tableau2[[#This Row],[Employé ]])=MIN(Tableau1[>200000]),"En attente d'afféctation",IF(COUNTIF(Tableau2[[Employé ]],Tableau2[[#This Row],[Employé ]])=MAX(Tableau1[>200000]),"Trop de dossier","")),""))} -> En attente d'afféctation
A26: ref 001 44 | B26: 2800000 | E26: {=_xlfn.IFS(Tableau2[[#This Row],[Montant]]<200000,IF(COUNTIF(Tableau2[[Employé ]],Tableau2[[#This Row],[Employé ]])=COUNTIF($AA$2:$AA254,$AA254),IF(COUNTIF(Tableau2[[Employé ]],Tableau2[[#This Row],[Employé ]])=MIN(Tableau1[<200000]),"En attente d'afféctation",IF(COUNTIF(Tableau2[[Employé ]],Tableau2[[#This Row],[Employé ]])=MAX(Tableau1[<200000]),"Trop de dossier","")),""),Tableau2[[#This Row],[Montant]]>200000,IF(COUNTIF(Tableau2[[Employé ]],Tableau2[[#This Row],[Employé ]])=COUNTIF($AA$2:$AA254,$AA254),IF(COUNTIF(Tableau2[[Employé ]],Tableau2[[#This Row],[Employé ]])=MIN(Tableau1[>200000]),"En attente d'afféctation",IF(COUNTIF(Tableau2[[Employé ]],Tableau2[[#This Row],[Employé ]])=MAX(Tableau1[>200000]),"Trop de dossier","")),""))} -> En attente d'afféctation
A27: ref 001 45 | B27: 10000 | D27: 44940 | E27: {=_xlfn.IFS(Tableau2[[#This Row],[Montant]]<200000,IF(COUNTIF(Tableau2[[Employé ]],Tableau2[[#This Row],[Employé ]])=COUNTIF($AA$2:$AA255,$AA255),IF(COUNTIF(Tableau2[[Employé ]],Tableau2[[#This Row],[Employé ]])=MIN(Tableau1[<200000]),"En attente d'afféctation",IF(COUNTIF(Tableau2[[Employé ]],Tableau2[[#This Row],[Employé ]])=MAX(Tableau1[<200000]),"Trop de dossier","")),""),Tableau2[[#This Row],[Montant]]>200000,IF(COUNTIF(Tableau2[[Employé ]],Tableau2[[#This Row],[Employé ]])=COUNTIF($AA$2:$AA255,$AA255),IF(COUNTIF(Tableau2[[Employé ]],Tableau2[[#This Row],[Employé ]])=MIN(Tableau1[>200000]),"En attente d'afféctation",IF(COUNTIF(Tableau2[[Employé ]],Tableau2[[#This Row],[Employé ]])=MAX(Tableau1[>200000]),"Trop de dossier","")),""))} -> En attente d'afféctation
A28: ref 001 46 | B28: 10000 | E28: {=_xlfn.IFS(Tableau2[[#This Row],[Montant]]<200000,IF(COUNTIF(Tableau2[[Employé ]],Tableau2[[#This Row],[Employé ]])=COUNTIF($AA$2:$AA256,$AA256),IF(COUNTIF(Tableau2[[Employé ]],Tableau2[[#This Row],[Employé ]])=MIN(Tableau1[<200000]),"En attente d'afféctation",IF(COUNTIF(Tableau2[[Employé ]],Tableau2[[#This Row],[Employé ]])=MAX(Tableau1[<200000]),"Trop de dossier","")),""),Tableau2[[#This Row],[Montant]]>200000,IF(COUNTIF(Tableau2[[Employé ]],Tableau2[[#This Row],[Employé ]])=COUNTIF($AA$2:$AA256,$AA256),IF(COUNTIF(Tableau2[[Employé ]],Tableau2[[#This Row],[Employé ]])=MIN(Tableau1[>200000]),"En attente d'afféctation",IF(COUNTIF(Tableau2[[Employé ]],Tableau2[[#This Row],[Employé ]])=MAX(Tableau1[>200000]),"Trop de dossier","")),""))} -> En attente d'afféctation
A29: ref 001 47 | B29: 10000 | E29: {=_xlfn.IFS(Tableau2[[#This Row],[Montant]]<200000,IF(COUNTIF(Tableau2[[Employé ]],Tableau2[[#This Row],[Employé ]])=COUNTIF($AA$2:$AA257,$AA257),IF(COUNTIF(Tableau2[[Employé ]],Tableau2[[#This Row],[Employé ]])=MIN(Tableau1[<200000]),"En attente d'afféctation",IF(COUNTIF(Tableau2[[Employé ]],Tableau2[[#This Row],[Employé ]])=MAX(Tableau1[<200000]),"Trop de dossier","")),""),Tableau2[[#This Row],[Montant]]>200000,IF(COUNTIF(Tableau2[[Employé ]],Tableau2[[#This Row],[Employé ]])=COUNTIF($AA$2:$AA257,$AA257),IF(COUNTIF(Tableau2[[Employé ]],Tableau2[[#This Row],[Employé ]])=MIN(Tableau1[>200000]),"En attente d'afféctation",IF(COUNTIF(Tableau2[[Employé ]],Tableau2[[#This Row],[Employé ]])=MAX(Tableau1[>200000]),"Trop de dossier","")),""))} -> En attente d'afféctation
A30: ref 001 48 | B30: 10000 | E30: {=_xlfn.IFS(Tableau2[[#This Row],[Montant]]<200000,IF(COUNTIF(Tableau2[[Employé ]],Tableau2[[#This Row],[Employé ]])=COUNTIF($AA$2:$AA258,$AA258),IF(COUNTIF(Tableau2[[Employé ]],Tableau2[[#This Row],[Employé ]])=MIN(Tableau1[<200000]),"En attente d'afféctation",IF(COUNTIF(Tableau2[[Employé ]],Tableau2[[#This Row],[Employé ]])=MAX(Tableau1[<200000]),"Trop de dossier","")),""),Tableau2[[#This Row],[Montant]]>200000,IF(COUNTIF(Tableau2[[Employé ]],Tableau2[[#This Row],[Employé ]])=COUNTIF($AA$2:$AA258,$AA258),IF(COUNTIF(Tableau2[[Employé ]],Tableau2[[#This Row],[Employé ]])=MIN(Tableau1[>200000]),"En attente d'afféctation",IF(COUNTIF(Tableau2[[Employé ]],Tableau2[[#This Row],[Employé ]])=MAX(Tableau1[>200000]),"Trop de dossier","")),""))} -> En attente d'afféctation
A31: ref 001 49 | B31: 10000 | E31: {=_xlfn.IFS(Tableau2[[#This Row],[Montant]]<200000,IF(COUNTIF(Tableau2[[Employé ]],Tableau2[[#This Row],[Employé ]])=COUNTIF($AA$2:$AA259,$AA259),IF(COUNTIF(Tableau2[[Employé ]],Tableau2[[#This Row],[Employé ]])=MIN(Tableau1[<200000]),"En attente d'afféctation",IF(COUNTIF(Tableau2[[Employé ]],Tableau2[[#This Row],[Employé ]])=MAX(Tableau1[<200000]),"Trop de dossier","")),""),Tableau2[[#This Row],[Montant]]>200000,IF(COUNTIF(Tableau2[[Employé ]],Tableau2[[#This Row],[Employé ]])=COUNTIF($AA$2:$AA259,$AA259),IF(COUNTIF(Tableau2[[Employé ]],Tableau2[[#This Row],[Employé ]])=MIN(Tableau1[>200000]),"En attente d'afféctation",IF(COUNTIF(Tableau2[[Employé ]],Tableau2[[#This Row],[Employé ]])=MAX(Tableau1[>200000]),"Trop de dossier","")),""))} -> En attente d'afféctation
A32: ref 001 50 | B32: 10000 | E32: {=_xlfn.IFS(Tableau2[[#This Row],[Montant]]<200000,IF(COUNTIF(Tableau2[[Employé ]],Tableau2[[#This Row],[Employé ]])=COUNTIF($AA$2:$AA260,$AA260),IF(COUNTIF(Tableau2[[Employé ]],Tableau2[[#This Row],[Employé ]])=MIN(Tableau1[<200000]),"En attente d'afféctation",IF(COUNTIF(Tableau2[[Employé ]],Tableau2[[#This Row],[Employé ]])=MAX(Tableau1[<200000]),"Trop de dossier","")),""),Tableau2[[#This Row],[Montant]]>200000,IF(COUNTIF(Tableau2[[Employé ]],Tableau2[[#This Row],[Employé ]])=COUNTIF($AA$2:$AA260,$AA260),IF(COUNTIF(Tableau2[[Employé ]],Tableau2[[#This Row],[Employé ]])=MIN(Tableau1[>200000]),"En attente d'afféctation",IF(COUNTIF(Tableau2[[Employé ]],Tableau2[[#This Row],[Employé ]])=MAX(Tableau1[>200000]),"Trop de dossier","")),""))} -> En attente d'afféctation
A33: ref 001 51 | B33: 10000 | D33: 44940 | E33: {=_xlfn.IFS(Tableau2[[#This Row],[Montant]]<200000,IF(COUNTIF(Tableau2[[Employé ]],Tableau2[[#This Row],[Employé ]])=COUNTIF($AA$2:$AA261,$AA261),IF(COUNTIF(Tableau2[[Employé ]],Tableau2[[#This Row],[Employé ]])=MIN(Tableau1[<200000]),"En attente d'afféctation",IF(COUNTIF(Tableau2[[Employé ]],Tableau2[[#This Row],[Employé ]])=MAX(Tableau1[<200000]),"Trop de dossier","")),""),Tableau2[[#This Row],[Montant]]>200000,IF(COUNTIF(Tableau2[[Employé ]],Tableau2[[#This Row],[Employé ]])=COUNTIF($AA$2:$AA261,$AA261),IF(COUNTIF(Tableau2[[Employé ]],Tableau2[[#This Row],[Employé ]])=MIN(Tableau1[>200000]),"En attente d'afféctation",IF(COUNTIF(Tableau2[[Employé ]],Tableau2[[#This Row],[Employé ]])=MAX(Tableau1[>200000]),"Trop de dossier","")),""))} -> En attente d'afféctation
