Workbook

Sheet Feuil3
K2: SETIF LE 09/06/2019
A6: OPERATION DE LIQUIDATION ALLIANCE ASSURANCES /SAA CNE
D8: ASSURE | G8: TIERS | K8: RECOURS
A9: Ord | B9: Agence | C9: DR | D9: Ref dosiers | E9: Date Acc | F9: Nom &Prenom | G9: Comp Tiers | H9: Agence | I9: Ref dosiers | J9: Nom &Prenom | K9: FAV ALLIANCE | L9: FAV SAA | M9: OBS
A10: 1 | B10: 05087 | C10: DR Setif | D10: SND | E10: 42517 | F10: CHOUF ALI | G10: SAA CNE | H10: 2601 | I10: 2016/110359 | J10: MALLEM MIHOUB | K10: ATTENDRE SUITE | L10: ATTENDRE SUITE | M10: 1
A11: 2 | B11: 09003 | C11: DR Blida | D11: 09003 18 1195 0067 | E11: 43243 | F11: LATRECHE | G11: SAA CNE | H11: 2601 | I11: 2018/110202 | J11: GUETTACHE | K11: CSS | L11: CSS | M11: 1
A12: 3 | B12: 16100 | C12: DRC Est | D12: 16100 17 1195 0097 | E12: 42885 | F12: BOUMEDIENE | G12: SAA CNE | H12: 2601 | I12: SND | J12: EURL TAXI BRIDGES | K12: 6531.38 | L12: 0 | M12: 1
A13: 4 | B13: 17071 | C13: DR Blida | D13: 17071 17 1195 0253 | E13: 43046 | F13: REZIGUI | G13: SAA CNE | H13: 2601 | I13: SND | J13: DEGHDAK | K13: 15643 | L13: 0 | M13: 1
A14: 5 | B14: 21085 | C14: DR Annaba | D14: SND | E14: 42733 | F14: BOUCHAOUR RABAH | G14: SAA CNE | H14: 2601 | I14: 2017/110004 | J14: DJAHID TAXI RADIO | K14: CSS | L14: CSS | M14: 1
A15: 6 | B15: 25008 | C15: DR Setif | D15: SND | E15: 43374 | F15: BENHAMADI YOUCEF | G15: SAA CNE | H15: 2601 | I15: 2018/110398 | J15: HELLAL FOUAD | K15: CSS | L15: CSS | M15: 1
A16: 9 | B16: 25043 | C16: DR Setif | D16: 25043 18 1195 0056 | E16: 43272 | F16: SEGHIRI | G16: SAA CNE | H16: 2601 | I16: SND | J16: EURL REHAL TAXI RADIO | K16: 63065.54 | L16: 0 | M16: 1
A17: 11 | B17: 25234 | C17: DR Setif | D17: 25234 16 1195 0076 | E17: 42719 | F17: AISSANI | G17: SAA CNE | H17: 2601 | I17: SND | J17: BOURAOUI | K17: 30235.95 | L17: 0 | M17: 1
A18: 12 | B18: 25234 | C18: DR Setif | D18: 25234 18 1195 0007 | E18: 43144 | F18: DRARDJA | G18: SAA CNE | H18: 2601 | I18: SND | J18: MOTALEB | K18: 42100 | L18: 0 | M18: 1
A19: 13 | B19: 25272 | C19: DR Setif | D19: 25272 19 1195 0011 | E19: 43506 | F19: ABABSSA | G19: SAA CNE | H19: 2601 | I19: SND | J19: BAHLOUL | K19: 18995.61 | L19: 0 | M19: 1
A20: 15 | B20: 25272 | C20: DR Setif | D20: SND | E20: 43414 | F20: REDJIMI SLIMANE | G20: SAA CNE | H20: 2601 | I20: 2018/110472 | J20: KHECHA ABDELALI | K20: ATTENDRE SUITE | L20: ATTENDRE SUITE | M20: 1
A21: 17 | B21: 43550 | C21: DR Setif | D21: 43550 18 1195 0066 | E21: 43167 | F21: BOUGHAZI | G21: SAA CNE | H21: 2685 | I21: SND | J21: BELKACEM | K21: 125657.5 | L21: 0 | M21: 1
A22: 19 | B22: 05619 | C22: DR Setif | D22: 05619 18 1195 0497 | E22: 43312 | F22: BOUSMAINE | G22: SAA CNE | H22: 2602 | I22: 18/519 | J22: CHERGUI | K22: 131625 | M22: 1
A23: 20 | B23: 19010 | C23: DR Setif | D23: 19010 17 1195 0327 | E23: 43098 | F23: MLA P/C SARLGROUPE YAHIA | G23: SAA CNE | H23: 2602 | I23: SND | J23: AOUATI | K23: 19350 | L23: 0 | M23: 1
A24: 21 | B24: 19010 | C24: DR Setif | D24: 19010 18 1195 0114 | E24: 43336 | F24: SPAMCA | G24: SAA CNE | H24: 2602 | I24: SND | J24: NEOCLEAN | K24: CSS | L24: CSS | M24: 1
A25: 22 | B25: 19010 | C25: DR Setif | D25: SND | E25: 43124 | F25: SARL HOSPIMED AFRIC | G25: SAA CNE | H25: 2602 | I25: 2018/110053 | J25: BENHARKAT AOUACHAEP KOUADRI | K25: CSS | L25: CSS | M25: 1
A26: 24 | B26: 19010 | C26: DR Setif | D26: 19010 17 1195 0278 | E26: 43053 | F26: SPA MAGHREB | G26: SAA CNE | H26: 2602 | I26: 17/684 | J26: EURL NEW SEPTIQUE | L26: 24500 | M26: 1
A27: 25 | B27: 19039 | C27: DR Setif | D27: 19039 19 1195 0025 | E27: 43504 | F27: TEBBI | G27: SAA CNE | H27: 2602 | I27: 2019/110093 | J27: MEDJROUBI | K27: CSS | L27: CSS | M27: 1
A28: 29 | B28: 19723 | C28: DR Setif | D28: 19723 18 1195 0053 | E28: 43357 | F28: HACINI | G28: SAA CNE | H28: 2602 | I28: 18/597 | J28: ZIBOUCHE | K28: 34148.18 | M28: 1
A29: 31 | B29: 23652 | C29: DR Annaba | D29: SND | E29: 43446 | F29: BECHARIA BRAHIM | G29: SAA CNE | H29: 2602 | I29: 2018/110851 | J29: BOUCHOUCHA ABDELMADJID | K29: CSS | L29: CSS | M29: 1
A30: 32 | B30: 24221 | C30: DR Annaba | D30: 24221 16 1195 0050 | E30: 42584 | F30: LAIB | G30: SAA CNE | H30: 2602 | I30: SND | J30: FAHMI | K30: 17059.43 | L30: 0 | M30: 1
A31: 33 | B31: 25008 | C31: DR Setif | D31: SND | E31: 43575 | F31: GHENNAI NOURA | G31: SAA CNE | H31: 2602 | I31: 2019/110310 | J31: BOUDOUKHA MONCEF | K31: 0 | L31: 10200 | M31: 1
A32: 35 | B32: 25043 | C32: DR Setif | D32: 25043 18 1195 0105 | E32: 43368 | F32: SARL MIDOU TAXI | G32: SAA CNE | H32: 2602 | I32: SND | J32: BENELMILI | K32: 17870.41 | L32: 0 | M32: 1
A33: 36 | B33: 25043 | C33: DR Setif | D33: SND | E33: 43538 | F33: SELLAMA | G33: SAA CNE | H33: 2602 | I33: 2019/110195 | J33: NOURI | K33: CSS | L33: CSS | M33: 1
A34: 40 | B34: 25199 | C34: DR Setif | D34: 25199 18 1195 0001 | E34: 43105 | F34: BENZOUID | G34: SAA CNE | H34: 2602 | I34: SND | J34: BOUCHERIR | K34: 9150 | L34: 0 | M34: 1
A35: 42 | B35: 25234 | C35: DR Setif | D35: 25234 16 1195 0064 | E35: 42671 | F35: LARDJANI | G35: SAA CNE | H35: 2602 | I35: SND | J35: HADDAD | K35: 27152.52 | L35: 0 | M35: 1
A36: 44 | B36: 25272 | C36: DR Setif | D36: 25272 18 1195 0062 | E36: 43416 | F36: HOUACINOU | G36: SAA CNE | H36: 2602 | I36: 18/764 | J36: SEGUENI | K36: 40383.75 | L36: 0 | M36: 1
A37: 45 | B37: 25561 | C37: DR Setif | D37: 25561 16 1195 0287 | E37: 42679 | F37: ZEMOULI | G37: SAA CNE | H37: 2602 | I37: SND | J37: SCN BROF | K37: 137000 | L37: 0 | M37: 1
A38: 46 | B38: 25561 | C38: DR Setif | D38: 25561 17 1195 0060 | E38: 42807 | F38: BEDGHIOU | G38: SAA CNE | H38: 2602 | I38: SND | J38: BOUHOUCHE | K38: 6492 | L38: 0 | M38: 1
A39: 47 | B39: 25561 | C39: DR Setif | D39: 25561 17 1195 0115 | E39: 42867 | F39: GRAMA | G39: SAA CNE | H39: 2602 | I39: SND | J39: BOUMEZAAR | K39: 42980.68 | L39: 0 | M39: 1
A40: 48 | B40: 25561 | C40: DR Setif | D40: 25561 19 1195 0020 | E40: 43492 | F40: GOURMAT | G40: SAA CNE | H40: 2602 | I40: SND | J40: FETTACHE | K40: 12000 | L40: 0 | M40: 1
A41: 49 | B41: 25561 | C41: DR Setif | D41: SND | E41: 43040 | F41: ,BELHOUR OMAR | G41: SAA CNE | H41: 2602 | I41: 2017/110649 | J41: MEZZARA BOUDJEMAA | K41: 0 | L41: 7150 | M41: 1
A42: 55 | B42: 16013 | C42: DRC Est | D42: SND | E42: 43362 | F42: , SPA MAGHREB LEA | G42: SAA CNE | H42: 2603 | I42: 2018/110503 | J42: EPE T V E | K42: CSS | L42: CSS | M42: 1
A43: 56 | B43: 16013 | C43: DRC Est | D43: 16013 17 1195 0521 | E43: 43008 | F43: SPA MLA | G43: SAA CNE | H43: 2603 | I43: 2017/110488 | J43: TABANI | K43: 49551.59 | L43: 0 | M43: 1
A44: 57 | B44: 16237 | C44: DRC Ouest | D44: SND | E44: 43093 | F44: , BAROUDI DJILALI | G44: SAA CNE | H44: 2603 | I44: 2018/110015 | J44: KHELFAOUI BRAHIM | K44: 0 | L44: 17600 | M44: 1
A45: 58 | B45: 19689 | C45: DR Setif | D45: 19889 17 1195 0132 | E45: 43058 | F45: KHARCHI | G45: SAA CNE | H45: 2603 | I45: SND | J45: BENHARKAT | K45: 60143.89 | L45: 0 | M45: 1
...

Sheet Feuil1
A1: N° | C1: N° Sinistre | D1: Date Sinistre | E1: Assuré | F1: Date Règlement | G1: Garantie | H1: Béneficiaire | I1: Principal | J1: Total | K1: N° Sinistre
A2: 1 | B2: =LEFT(C2,5) -> 01204 | C2: 01204 17 1195 0001 | D2: 09/03/2017 | E2: BETTAHAR LYAZID | F2: 04/08/2019 | G2: 100110 | H2: SAA CNE | I2: 47550 | J2: 47550 | K2: 01204 17 1195 0001
A3: 2 | B3: =LEFT(C3,5) -> 02099 | C3: 02099 17 1195 0224 | D3: 17/04/2017 | E3: CONCASSAGE ENNADJAH | F3: 06/08/2019 | G3: 100110 | H3: SAA CNE | I3: 58062.88 | J3: 58062.88 | K3: 02099 17 1195 0224
A4: 3 | B4: =LEFT(C4,5) -> 02099 | C4: 02099 18 1195 0191 | D4: 17/07/2018 | E4: DJILALI AYAD EL HOUARI | F4: 13/08/2019 | G4: 100110 | H4: SAA CNE | I4: 21100 | J4: 21100 | K4: 02099 18 1195 0191
A5: 58 | B5: =LEFT(C5,5) -> 09004 | C5: 09004 17 1195 0331 | D5: 25/12/2017 | E5: ETS INTRACOM | F5: 07/08/2019 | G5: 100110 | H5: SAA CNE | I5: 20048.13 | J5: 20048.13 | K5: 09004 17 1195 0331
A6: 89 | B6: =LEFT(C6,5) -> 16001 | C6: 16001 16 1195 1540 | D6: 20/11/2016 | E6: CIEPTAL CARS | F6: 05/08/2019 | G6: 100110 | H6: SAA CNE | I6: 14900 | J6: 14900 | K6: 16001 16 1195 1540
A7: 88 | B7: =LEFT(C7,5) -> 16001 | C7: 16001 16 1195 1539 | D7: 09/08/2016 | E7: IJAR LEASING ALGERIE C/P CHEBILI HAMZA | F7: 05/08/2019 | G7: 100110 | H7: SAA CNE | I7: 8150 | J7: 8150 | K7: 16001 16 1195 1539
A8: 87 | B8: =LEFT(C8,5) -> 16001 | C8: 16001 16 1195 1271 | D8: 02/11/2016 | E8: AVENIR DECORATION (AD DISPLAY) | F8: 05/08/2019 | G8: 100110 | H8: SAA CNE | I8: 27890 | J8: 27890 | K8: 16001 16 1195 1271
A9: 261 | B9: =LEFT(C9,5) -> 16083 | C9: 16083 16 1195 0775 | D9: 03/12/2016 | E9: AL NAWAT INVESTISSEMENT ALGERIE | F9: 05/08/2019 | G9: 100110 | H9: SAA CNE | I9: 13564.84 | J9: 13564.84 | K9: 16083 16 1195 0775
A10: 262 | B10: =LEFT(C10,5) -> 16083 | C10: 16083 17 1195 0796 | D10: 29/01/2017 | E10: AL NAWAT INVESTISSEMENT ALGERIE | F10: 07/08/2019 | G10: 100110 | H10: SAA CNE | I10: 24532.33 | J10: 24532.33 | K10: 16083 17 1195 0796
A11: 280 | B11: =LEFT(C11,5) -> 16113 | C11: 16113 16 1195 0551 | D11: 14/03/2016 | E11: GROUP KB | F11: 06/08/2019 | G11: 100110 | H11: SAA CNE | I11: 41220.59 | J11: 41220.59 | K11: 16113 16 1195 0551
A12: 281 | B12: =LEFT(C12,5) -> 16113 | C12: 16113 18 1195 0370 | D12: 25/12/2018 | E12: BELMILOUD ZAHRA | F12: 06/08/2019 | G12: 100110 | H12: SAA CNE | I12: 14050 | J12: 14050 | K12: 16113 18 1195 0370
A13: 288 | B13: =LEFT(C13,5) -> 16117 | C13: 16117 17 1195 0777 | D13: 25/12/2017 | E13: AOUNI LOTFI | F13: 13/08/2019 | G13: 100110 | H13: SAA CNE | I13: 91934.42 | J13: 91934.42 | K13: 16117 17 1195 0777
... A525: 979 | B525: =LEFT(C525,5) -> 35202 | C525: 35202 17 1195 0204 | D525: 27/02/2017 | E525: IRS DERICHE | F525: 05/08/2019 | G525: 100110 | H525: SAA CNE | I525: 30742.17 | J525: 30742.17 | K525: 35202 17 1195 0204

Sheet Feuil2
A4: 24 | B4: 19010 | C4: DR Setif | D4: 19010 17 1195 0278 | E4: 43053 | F4: SPA MAGHREB | G4: SAA CNE | H4: 2602 | I4: 17/684 | J4: EURL NEW SEPTIQUE | L4: 24500 | M4: 1 | N4: 19010 17 1195 0278 | O4: =VLOOKUP(D4,Feuil1!C:K,9,0) -> 19010 17 1195 0278
A5: 33 | B5: 25008 | C5: DR Setif | D5: SND | E5: 43575 | F5: GHENNAI NOURA | G5: SAA CNE | H5: 2602 | I5: 2019/110310 | J5: BOUDOUKHA MONCEF | K5: 0 | L5: 10200 | M5: 1 | N5: 05087 16 1195 0388 | O5: =VLOOKUP(D5,Feuil1!C:K,9,0) -> #N/A
A6: 49 | B6: 25561 | C6: DR Setif | D6: SND | E6: 43040 | F6: ,BELHOUR OMAR | G6: SAA CNE | H6: 2602 | I6: 2017/110649 | J6: MEZZARA BOUDJEMAA | K6: 0 | L6: 7150 | M6: 1 | N6: 19637 18 1195 0106 | O6: =VLOOKUP(D6,Feuil1!C:K,9,0) -> #N/A
A7: 57 | B7: 16237 | C7: DRC Ouest | D7: SND | E7: 43093 | F7: , BAROUDI DJILALI | G7: SAA CNE | H7: 2603 | I7: 2018/110015 | J7: KHELFAOUI BRAHIM | K7: 0 | L7: 17600 | M7: 1 | N7: 16237 17 1195 0119 | O7: =VLOOKUP(D7,Feuil1!C:K,9,0) -> #N/A
A8: 62 | B8: 25008 | C8: DR Setif | D8: 25008 17 1195 0083 | E8: 42854 | F8: HACHOU | G8: SAA CNE | H8: 2603 | I8: 2017/110195 | J8: KARROUT | K8: 0 | L8: 14250 | M8: 1 | N8: 19188 16 1195 0144 | O8: =VLOOKUP(D8,Feuil1!C:K,9,0) -> 25008 17 1195 0083
A9: 68 | B9: 25561 | C9: DR Setif | D9: 25561 17 1195 0262 | E9: 43020 | F9: LAKHAL | G9: SAA CNE | H9: 2603 | I9: 2017/110533 | J9: BOUCHERIBA | K9: 5825 | L9: 2000 | M9: 1 | N9: #N/A | O9: =VLOOKUP(D9,Feuil1!C:K,9,0) -> #N/A
A10: 71 | B10: 12053 | C10: DR Annaba | D10: SND | E10: 42937 | F10: EPH BOUGUERRA | G10: SAA CNE | H10: 2604 | I10: 2017/110509 | J10: LABIOD | K10: 0 | L10: 10200 | M10: 1 | N10: 05087 16 1195 0388 | O10: =VLOOKUP(D10,Feuil1!C:K,9,0) -> #N/A
A11: 73 | B11: 19055 | C11: DR Setif | D11: 19055 16 1195 0169 | E11: 42538 | F11: Kifouche | G11: SAA CNE | H11: 2604 | I11: 16/485 | J11: CHOUCHANE | L11: 26200 | M11: 1 | N11: 19010 17 1195 0329 | O11: =VLOOKUP(D11,Feuil1!C:K,9,0) -> 19055 16 1195 0169
A12: 78 | B12: 19682 | C12: DR Setif | D12: SND | E12: 42586 | F12: CHEHAB | G12: SAA CNE | H12: 2604 | I12: 2016/110625 | J12: ZATER | K12: 0 | L12: 9150 | M12: 1 | N12: 19682 16 1195 0053 | O12: =VLOOKUP(D12,Feuil1!C:K,9,0) -> #N/A
A13: 82 | B13: 25199 | C13: DR Setif | D13: 25199 18 1195 0030 | E13: 43412 | F13: BENELMILI | G13: SAA CNE | H13: 2604 | I13: 2018/110695 | J13: ZENIR | K13: 0 | L13: 8150 | M13: 1 | N13: 16001 16 1195 1539 | O13: =VLOOKUP(D13,Feuil1!C:K,9,0) -> 25199 18 1195 0030
A14: 100 | B14: 24221 | C14: DR Annaba | D14: SND | E14: 42969 | F14: ,/NEKI AMAR | G14: SAA CNE | H14: 2606 | I14: 2017/110260 | J14: AROUAK FARID | K14: 0 | L14: 25250 | M14: 1 | N14: 43550 17 1195 0410 | O14: =VLOOKUP(D14,Feuil1!C:K,9,0) -> #N/A
A15: 132 | B15: 25561 | C15: DR Setif | D15: 25561 18 1195 0193 | E15: 43317 | F15: FOUGHALI | G15: SAA CNE | H15: 2607 | I15: 2018/110485 | J15: DIB | K15: 0 | L15: 6100 | M15: 1 | N15: 25561 18 1195 0193 | O15: =VLOOKUP(D15,Feuil1!C:K,9,0) -> 25561 18 1195 0193
A16: 183 | B16: 16194 | C16: DRC Ouest | D16: 16194 17 1195 0072 | E16: 42959 | F16: , YUKCEL PROJET | G16: SAA CNE | H16: 2610 | I16: 2017/110849 | J16: MEZMIZ OMAR | K16: 0 | L16: 14050 | M16: 1 | N16: 16113 18 1195 0370 | O16: =VLOOKUP(D16,Feuil1!C:K,9,0) -> 16194 17 1195 0072
A17: 212 | B17: 18022 | C17: DR Setif | D17: 18022 18 1195 0124 | E17: 43238 | F17: MICHA | G17: SAA CNE | H17: 2610 | I17: 2018/110567 | J17: MICHA | K17: 0 | L17: 22550 | M17: REGLE | N17: #N/A | O17: =VLOOKUP(D17,Feuil1!C:K,9,0) -> #N/A
A18: 225 | B18: 22047 | C18: DR Oran | D18: 22047 18 1195 0071 | E18: 43170 | F18: , SARL BOSCA ALGE | G18: SAA CNE | H18: 2610 | I18: 2018/110221 | J18: BOUATMANE MADJID | K18: 0 | L18: 20000 | M18: 1 | N18: 19651 16 1195 0325 | O18: =VLOOKUP(D18,Feuil1!C:K,9,0) -> 22047 18 1195 0071
A19: 238 | B19: 16100 | C19: DRC Est | D19: SND | E19: 42770 | F19: , SARL ALGER MATCO | G19: SAA CNE | H19: 2612 | I19: 2017/110138 | J19: ARBID HOCINE | K19: 0 | L19: 10650 | M19: 1 | N19: 18022 19 1195 0216 | O19: =VLOOKUP(D19,Feuil1!C:K,9,0) -> #N/A
A20: 247 | B20: 18022 | C20: DR Setif | D20: SND | E20: 43533 | F20: BOUDJERIHA | G20: SAA CNE | H20: 2612 | I20: 2019/110307 | J20: BENAOUATA ABDELHAMID | K20: 0 | L20: 10650 | M20: 1 | N20: 18022 19 1195 0216 | O20: =VLOOKUP(D20,Feuil1!C:K,9,0) -> #N/A
A21: 253 | B21: 18022 | C21: DR Setif | D21: SND | E21: 43462 | F21: ZAABAT BOUDJEMAA | G21: SAA CNE | H21: 2612 | I21: 2019/110001 | J21: BELHADJI CHERIF | K21: 0 | L21: 11150 | M21: 1 | N21: 18022 18 1195 0443 | O21: =VLOOKUP(D21,Feuil1!C:K,9,0) -> #N/A
A22: 280 | B22: 19651 | C22: DR Setif | D22: 19651 17 1195 0018 | E22: 42748 | F22: KESMIA | G22: SAA CNE | H22: 2613 | I22: 2017/110036 | J22: BOUCHEFCHOUF | K22: 0 | L22: 14200 | M22: 1 | N22: #N/A | O22: =VLOOKUP(D22,Feuil1!C:K,9,0) -> #N/A
A23: 286 | B23: 21085 | C23: DR Annaba | D23: SND | E23: 43346 | F23: , GROUPE EL DJAR | G23: SAA CNE | H23: 2613 | I23: 2018/110606 | J23: KROUMA FARID | K23: 0 | L23: 5000 | M23: 1 | N23: 18022 18 1195 0104 | O23: =VLOOKUP(D23,Feuil1!C:K,9,0) -> #N/A
A24: 296 | B24: 12053 | C24: DR Annaba | D24: 12053 18 1195 0262 | E24: 43391 | F24: , /GUIDOUM BADIS | G24: SAA CNE | H24: 2614 | I24: 2018/110592 | J24: BOUTAGHANE HACHANI | K24: 0 | L24: 17600 | M24: 1 | N24: 16237 17 1195 0119 | O24: =VLOOKUP(D24,Feuil1!C:K,9,0) -> 12053 18 1195 0262
A25: 297 | B25: 12053 | C25: DR Annaba | D25: 12053 17 1195 0281 | E25: 42806 | F25: ,AINCE/HOGGAS BELKACEM | G25: SAA CNE | H25: 2614 | I25: 2017/110120 | J25: BENSAAD ABDERRAHMANE | K25: 0 | L25: 9700 | M25: 1 | N25: 43550 17 1195 0408 | O25: =VLOOKUP(D25,Feuil1!C:K,9,0) -> 12053 17 1195 0281
A26: 302 | B26: 19651 | C26: DR Setif | D26: 19651 16 1195 0325 | E26: 42648 | F26: ,/GUESSOUM KHEF | G26: SAA CNE | H26: 2614 | I26: 2016/110473 | J26: REGUIG AZIZ | K26: 0 | L26: 20000 | M26: 1 | N26: 19651 16 1195 0325 | O26: =VLOOKUP(D26,Feuil1!C:K,9,0) -> 19651 16 1195 0325
A27: 325 | B27: 25234 | C27: DR Setif | D27: SND | E27: 43173 | F27: , BENNARROU OUAIL | G27: SAA CNE | H27: 2615 | I27: 2018/110089 | J27: BENLEGHIB FARID | K27: 0 | L27: 10200 | M27: 1 | N27: 05087 16 1195 0388 | O27: =VLOOKUP(D27,Feuil1!C:K,9,0) -> #N/A
A28: 348 | B28: 25008 | C28: DR Setif | D28: SND | E28: 43079 | F28: ,:AOUISSI YOUNES | G28: SAA CNE | H28: 2616 | I28: 2017/110677 | J28: SEDIRA ABDENNACER | K28: 0 | L28: 10200 | M28: 1 | N28: 05087 16 1195 0388 | O28: =VLOOKUP(D28,Feuil1!C:K,9,0) -> #N/A
A29: 416 | B29: 12185 | C29: DR Annaba | D29: 12185 18 1195 0073 | E29: 43123 | F29: , ALOUANE BELKACE | G29: SAA CNE | H29: 2620 | I29: 2018/110031 | J29: BOUHERRI AYECHE | K29: 0 | L29: 12150 | M29: 1 | N29: 25008 18 1195 0246 | O29: =VLOOKUP(D29,Feuil1!C:K,9,0) -> 12185 18 1195 0073
A30: 453 | B30: 19651 | C30: DR Setif | D30: 19651 18 1195 0357 | E30: 43449 | F30: BENALI | G30: SAA CNE | H30: 2621 | I30: 2018/110390 | J30: BENAISSA | L30: 35912.5 | M30: 1 | N30: 19651 18 1195 0357 | O30: =VLOOKUP(D30,Feuil1!C:K,9,0) -> 19651 18 1195 0357
A31: 454 | B31: 19651 | C31: DR Setif | D31: 19651 19 1195 0043 | E31: 43491 | F31: MEKHALFA | G31: SAA CNE | H31: 2621 | I31: 2019/110040 | J31: GOUMIDI | K31: 0 | L31: 8150 | M31: 1 | N31: 16001 16 1195 1539 | O31: =VLOOKUP(D31,Feuil1!C:K,9,0) -> 19651 19 1195 0043
A32: 460 | B32: 19651 | C32: DR Setif | D32: 19651 18 1195 0357 | E32: 43449 | F32: BENALI | G32: SAA CNE | H32: 2621 | I32: 2018/110388 | J32: BOUDIAF | K32: 0 | L32: 105395 | M32: 1 | N32: 19651 18 1195 0357 | O32: =VLOOKUP(D32,Feuil1!C:K,9,0) -> 19651 18 1195 0357
A33: 461 | B33: 19651 | C33: DR Setif | D33: 19651 18 1195 0356 | E33: 43448 | F33: OULMI | G33: SAA CNE | H33: 2621 | I33: 2018/110386 | J33: MEHENNAOUI | K33: 5726.25 | L33: 5000 | M33: 1 | N33: 18022 18 1195 0104 | O33: =VLOOKUP(D33,Feuil1!C:K,9,0) -> 19651 18 1195 0356
A34: 490 | B34: 19682 | C34: DR Setif | D34: SND | E34: 42862 | F34: , ALOUNI MEHDI | G34: SAA CNE | H34: 2622 | I34: 2017/110240 | J34: BENASKEUR MOHAMMED | K34: 0 | L34: 9150 | M34: 1 | N34: 19682 16 1195 0053 | O34: =VLOOKUP(D34,Feuil1!C:K,9,0) -> #N/A
A35: 504 | B35: 43550 | C35: DR Setif | D35: SND | E35: 43084 | F35: , BOUADAM ABDELLA | G35: SAA CNE | H35: 2622 | I35: 2017/110734 | J35: BOURAS MOHAMED | K35: 0 | L35: 9700 | M35: 1 | N35: 43550 17 1195 0408 | O35: =VLOOKUP(D35,Feuil1!C:K,9,0) -> #N/A
A36: 516 | B36: 16001 | C36: DRC Ouest | D36: SND | E36: 42591 | F36: CHEBLI | G36: SAA CNE | H36: 2650 | I36: 2016/110394 | J36: SAIDANI | K36: 0 | L36: 8150 | M36: 1 | N36: 16001 16 1195 1539 | O36: =VLOOKUP(D36,Feuil1!C:K,9,0) -> #N/A
A37: 520 | B37: 19188 | C37: DR Setif | D37: SND | E37: 42532 | F37: , HIOUAL | G37: SAA CNE | H37: 2650 | I37: 2016/110284 | J37: TAXI RADIO SIDI RACHED | K37: 0 | L37: 14250 | M37: 1 | N37: 19188 16 1195 0144 | O37: =VLOOKUP(D37,Feuil1!C:K,9,0) -> #N/A
A38: 532 | B38: 25561 | C38: DR Setif | D38: 25561 17 1195 0202 | E38: 42953 | F38: HADJI | G38: SAA CNE | H38: 2650 | I38: 2017/110316 | J38: BOUDEHANE | K38: 0 | L38: 10200 | M38: 1 | N38: 05087 16 1195 0388 | O38: =VLOOKUP(D38,Feuil1!C:K,9,0) -> 25561 17 1195 0202
A39: 541 | B39: 19010 | C39: DR Setif | D39: 19010 17 1195 0329 | E39: 42932 | F39: SPA MAGHREB | G39: SAA CNE | H39: 2655 | I39: 2017/110315 | J39: LAKHDAR | K39: 0 | L39: 26200 | M39: 1 | N39: 19010 17 1195 0329 | O39: =VLOOKUP(D39,Feuil1!C:K,9,0) -> 19010 17 1195 0329
A40: 543 | B40: 19651 | C40: DR Setif | D40: 19651 17 1195 0353 | E40: 42790 | F40: REMETA | G40: SAA CNE | H40: 2655 | I40: 2017/110087 | J40: MERROUCHE | K40: 0 | L40: 27460.13 | M40: 1 | N40: #N/A | O40: =VLOOKUP(D40,Feuil1!C:K,9,0) -> 19651 17 1195 0353
A41: 551 | B41: 43550 | C41: DR Setif | D41: 43550 17 1195 0410 | E41: 43067 | F41: ,/ GHETTOUT MOHAMED | G41: SAA CNE | H41: 2655 | I41: 2017/110560 | J41: SAADI WAFA NADIA | K41: 0 | L41: 25250 | M41: 1 | N41: 43550 17 1195 0410 | O41: =VLOOKUP(D41,Feuil1!C:K,9,0) -> 43550 17 1195 0410
A42: 556 | B42: 18022 | C42: DR Setif | D42: SND | E42: 42698 | F42: , / BOUKLIA ABDELAL | G42: SAA CNE | H42: 2656 | I42: 2016/110299 | J42: SEGHIR KAMEL | K42: 0 | L42: 4000 | M42: 1 | N42: 18022 16 1195 0475 | O42: =VLOOKUP(D42,Feuil1!C:K,9,0) -> #N/A
A43: 558 | B43: 19633 | C43: DR Setif | D43: SND | E43: 43412 | F43: , /BENMAAMAR HICHAM | G43: SAA CNE | H43: 2656 | I43: 2018/110285 | J43: LASSED KARIM | K43: 0 | L43: 10200 | M43: 1 | N43: 05087 16 1195 0388 | O43: =VLOOKUP(D43,Feuil1!C:K,9,0) -> #N/A
...
