Workbook

Sheet Feuil3
K2: SETIF LE 09/06/2019
A6: OPERATION DE LIQUIDATION ALLIANCE ASSURANCES /SAA CNE
D8: ASSURE | G8: TIERS | K8: RECOURS
A9: Ord | B9: Agence | C9: DR | D9: Ref dosiers | E9: Date Acc | F9: Nom &Prenom | G9: Comp Tiers | H9: Agence | I9: Ref dosiers | J9: Nom &Prenom | K9: FAV ALLIANCE | L9: FAV SAA | M9: OBS
A10: 1 | B10: 05087 | C10: DR Setif | D10: SND | E10: 42517 | F10: CHOUF ALI | G10: SAA CNE | H10: 2601 | I10: 2016/110359 | J10: MALLEM MIHOUB | K10: ATTENDRE SUITE | L10: ATTENDRE SUITE | M10: 1
A11: 2 | B11: 09003 | C11: DR Blida | D11: 09003 18 1195 0067 | E11: 43243 | F11: LATRECHE | G11: SAA CNE | H11: 2601 | I11: 2018/110202 | J11: GUETTACHE | K11: CSS | L11: CSS | M11: 1
A12: 3 | B12: 16100 | C12: DRC Est | D12: 16100 17 1195 0097 | E12: 42885 | F12: BOUMEDIENE | G12: SAA CNE | H12: 2601 | I12: SND | J12: EURL TAXI BRIDGES | K12: 6531.38 | L12: 0 | M12: 1
A13: 4 | B13: 17071 | C13: DR Blida | D13: 17071 17 1195 0253 | E13: 43046 | F13: REZIGUI | G13: SAA CNE | H13: 2601 | I13: SND | J13: DEGHDAK | K13: 15643 | L13: 0 | M13: 1
A14: 5 | B14: 21085 | C14: DR Annaba | D14: SND | E14: 42733 | F14: BOUCHAOUR RABAH | G14: SAA CNE | H14: 2601 | I14: 2017/110004 | J14: DJAHID TAXI RADIO | K14: CSS | L14: CSS | M14: 1
A15: 6 | B15: 25008 | C15: DR Setif | D15: SND | E15: 43374 | F15: BENHAMADI YOUCEF | G15: SAA CNE | H15: 2601 | I15: 2018/110398 | J15: HELLAL FOUAD | K15: CSS | L15: CSS | M15: 1
A16: 9 | B16: 25043 | C16: DR Setif | D16: 25043 18 1195 0056 | E16: 43272 | F16: SEGHIRI | G16: SAA CNE | H16: 2601 | I16: SND | J16: EURL REHAL TAXI RADIO | K16: 63065.54 | L16: 0 | M16: 1
A17: 11 | B17: 25234 | C17: DR Setif | D17: 25234 16 1195 0076 | E17: 42719 | F17: AISSANI | G17: SAA CNE | H17: 2601 | I17: SND | J17: BOURAOUI | K17: 30235.95 | L17: 0 | M17: 1
A18: 12 | B18: 25234 | C18: DR Setif | D18: 25234 18 1195 0007 | E18: 43144 | F18: DRARDJA | G18: SAA CNE | H18: 2601 | I18: SND | J18: MOTALEB | K18: 42100 | L18: 0 | M18: 1
A19: 13 | B19: 25272 | C19: DR Setif | D19: 25272 19 1195 0011 | E19: 43506 | F19: ABABSSA | G19: SAA CNE | H19: 2601 | I19: SND | J19: BAHLOUL | K19: 18995.61 | L19: 0 | M19: 1
A20: 15 | B20: 25272 | C20: DR Setif | D20: SND | E20: 43414 | F20: REDJIMI SLIMANE | G20: SAA CNE | H20: 2601 | I20: 2018/110472 | J20: KHECHA ABDELALI | K20: ATTENDRE SUITE | L20: ATTENDRE SUITE | M20: 1
A21: 17 | B21: 43550 | C21: DR Setif | D21: 43550 18 1195 0066 | E21: 43167 | F21: BOUGHAZI | G21: SAA CNE | H21: 2685 | I21: SND | J21: BELKACEM | K21: 125657.5 | L21: 0 | M21: 1
A22: 19 | B22: 05619 | C22: DR Setif | D22: 05619 18 1195 0497 | E22: 43312 | F22: BOUSMAINE | G22: SAA CNE | H22: 2602 | I22: 18/519 | J22: CHERGUI | K22: 131625 | M22: 1
A23: 20 | B23: 19010 | C23: DR Setif | D23: 19010 17 1195 0327 | E23: 43098 | F23: MLA P/C SARLGROUPE YAHIA | G23: SAA CNE | H23: 2602 | I23: SND | J23: AOUATI | K23: 19350 | L23: 0 | M23: 1
A24: 21 | B24: 19010 | C24: DR Setif | D24: 19010 18 1195 0114 | E24: 43336 | F24: SPAMCA | G24: SAA CNE | H24: 2602 | I24: SND | J24: NEOCLEAN | K24: CSS | L24: CSS | M24: 1
A25: 22 | B25: 19010 | C25: DR Setif | D25: SND | E25: 43124 | F25: SARL HOSPIMED AFRIC | G25: SAA CNE | H25: 2602 | I25: 2018/110053 | J25: BENHARKAT AOUACHAEP KOUADRI | K25: CSS | L25: CSS | M25: 1
A26: 24 | B26: 19010 | C26: DR Setif | D26: 19010 17 1195 0278 | E26: 43053 | F26: SPA MAGHREB | G26: SAA CNE | H26: 2602 | I26: 17/684 | J26: EURL NEW SEPTIQUE | L26: 24500 | M26: 1
A27: 25 | B27: 19039 | C27: DR Setif | D27: 19039 19 1195 0025 | E27: 43504 | F27: TEBBI | G27: SAA CNE | H27: 2602 | I27: 2019/110093 | J27: MEDJROUBI | K27: CSS | L27: CSS | M27: 1
A28: 29 | B28: 19723 | C28: DR Setif | D28: 19723 18 1195 0053 | E28: 43357 | F28: HACINI | G28: SAA CNE | H28: 2602 | I28: 18/597 | J28: ZIBOUCHE | K28: 34148.18 | M28: 1
A29: 31 | B29: 23652 | C29: DR Annaba | D29: SND | E29: 43446 | F29: BECHARIA BRAHIM | G29: SAA CNE | H29: 2602 | I29: 2018/110851 | J29: BOUCHOUCHA ABDELMADJID | K29: CSS | L29: CSS | M29: 1
A30: 32 | B30: 24221 | C30: DR Annaba | D30: 24221 16 1195 0050 | E30: 42584 | F30: LAIB | G30: SAA CNE | H30: 2602 | I30: SND | J30: FAHMI | K30: 17059.43 | L30: 0 | M30: 1
A31: 33 | B31: 25008 | C31: DR Setif | D31: SND | E31: 43575 | F31: GHENNAI NOURA | G31: SAA CNE | H31: 2602 | I31: 2019/110310 | J31: BOUDOUKHA MONCEF | K31: 0 | L31: 10200 | M31: 1
A32: 35 | B32: 25043 | C32: DR Setif | D32: 25043 18 1195 0105 | E32: 43368 | F32: SARL MIDOU TAXI | G32: SAA CNE | H32: 2602 | I32: SND | J32: BENELMILI | K32: 17870.41 | L32: 0 | M32: 1
A33: 36 | B33: 25043 | C33: DR Setif | D33: SND | E33: 43538 | F33: SELLAMA | G33: SAA CNE | H33: 2602 | I33: 2019/110195 | J33: NOURI | K33: CSS | L33: CSS | M33: 1
A34: 40 | B34: 25199 | C34: DR Setif | D34: 25199 18 1195 0001 | E34: 43105 | F34: BENZOUID | G34: SAA CNE | H34: 2602 | I34: SND | J34: BOUCHERIR | K34: 9150 | L34: 0 | M34: 1
A35: 42 | B35: 25234 | C35: DR Setif | D35: 25234 16 1195 0064 | E35: 42671 | F35: LARDJANI | G35: SAA CNE | H35: 2602 | I35: SND | J35: HADDAD | K35: 27152.52 | L35: 0 | M35: 1
A36: 44 | B36: 25272 | C36: DR Setif | D36: 25272 18 1195 0062 | E36: 43416 | F36: HOUACINOU | G36: SAA CNE | H36: 2602 | I36: 18/764 | J36: SEGUENI | K36: 40383.75 | L36: 0 | M36: 1
A37: 45 | B37: 25561 | C37: DR Setif | D37: 25561 16 1195 0287 | E37: 42679 | F37: ZEMOULI | G37: SAA CNE | H37: 2602 | I37: SND | J37: SCN BROF | K37: 137000 | L37: 0 | M37: 1
A38: 46 | B38: 25561 | C38: DR Setif | D38: 25561 17 1195 0060 | E38: 42807 | F38: BEDGHIOU | G38: SAA CNE | H38: 2602 | I38: SND | J38: BOUHOUCHE | K38: 6492 | L38: 0 | M38: 1
A39: 47 | B39: 25561 | C39: DR Setif | D39: 25561 17 1195 0115 | E39: 42867 | F39: GRAMA | G39: SAA CNE | H39: 2602 | I39: SND | J39: BOUMEZAAR | K39: 42980.68 | L39: 0 | M39: 1
A40: 48 | B40: 25561 | C40: DR Setif | D40: 25561 19 1195 0020 | E40: 43492 | F40: GOURMAT | G40: SAA CNE | H40: 2602 | I40: SND | J40: FETTACHE | K40: 12000 | L40: 0 | M40: 1
A41: 49 | B41: 25561 | C41: DR Setif | D41: SND | E41: 43040 | F41: ,BELHOUR OMAR | G41: SAA CNE | H41: 2602 | I41: 2017/110649 | J41: MEZZARA BOUDJEMAA | K41: 0 | L41: 7150 | M41: 1
A42: 55 | B42: 16013 | C42: DRC Est | D42: SND | E42: 43362 | F42: , SPA MAGHREB LEA | G42: SAA CNE | H42: 2603 | I42: 2018/110503 | J42: EPE T V E | K42: CSS | L42: CSS | M42: 1
A43: 56 | B43: 16013 | C43: DRC Est | D43: 16013 17 1195 0521 | E43: 43008 | F43: SPA MLA | G43: SAA CNE | H43: 2603 | I43: 2017/110488 | J43: TABANI | K43: 49551.59 | L43: 0 | M43: 1
A44: 57 | B44: 16237 | C44: DRC Ouest | D44: SND | E44: 43093 | F44: , BAROUDI DJILALI | G44: SAA CNE | H44: 2603 | I44: 2018/110015 | J44: KHELFAOUI BRAHIM | K44: 0 | L44: 17600 | M44: 1
A45: 58 | B45: 19689 | C45: DR Setif | D45: 19889 17 1195 0132 | E45: 43058 | F45: KHARCHI | G45: SAA CNE | H45: 2603 | I45: SND | J45: BENHARKAT | K45: 60143.89 | L45: 0 | M45: 1
A46: 60 | B46: 25008 | C46: DR Setif | D46: SND | E46: 42931 | F46: , CHERIBET A/HAK | G46: SAA CNE | H46: 2603 | I46: 2017/110359 | J46: BOUDJEDDIR SKANDER | K46: CSS | L46: CSS | M46: 1
A47: 62 | B47: 25008 | C47: DR Setif | D47: 25008 17 1195 0083 | E47: 42854 | F47: HACHOU | G47: SAA CNE | H47: 2603 | I47: 2017/110195 | J47: KARROUT | K47: 0 | L47: 14250 | M47: 1
A48: 64 | B48: 25234 | C48: DR Setif | D48: 25234 16 1195 0073 | E48: 42705 | F48: DEBBAB | G48: SAA CNE | H48: 2603 | I48: SND | J48: OUDJEHANI | K48: 12150 | L48: 0 | M48: 1
A49: 65 | B49: 25561 | C49: DR Setif | D49: 25561 18 1195 0268 | E49: 43414 | F49: YAHIAOUI | G49: SAA CNE | H49: 2603 | I49: SND | J49: SARL DIAR ALI | K49: 16250 | L49: 0 | M49: 1
A50: 67 | B50: 25561 | C50: DR Setif | D50: SND | E50: 43049 | F50: , MERNIZ SOFIANE | G50: SAA CNE | H50: 2603 | I50: 2017/110591 | J50: BELDJEDRA ZOHEIR | K50: ATT SUITE | L50: ATT SUITE | M50: 1
A51: 68 | B51: 25561 | C51: DR Setif | D51: 25561 17 1195 0262 | E51: 43020 | F51: LAKHAL | G51: SAA CNE | H51: 2603 | I51: 2017/110533 | J51: BOUCHERIBA | K51: 5825 | L51: 2000 | M51: 1
A52: 69 | B52: 25561 | C52: DR Setif | D52: 25561 17 1195 0225 | E52: 42985 | F52: BOUSSA | G52: SAA CNE | H52: 2603 | I52: 2017/110448 | J52: ZELLAGUI | K52: 9650 | L52: 0 | M52: 1
A53: 71 | B53: 12053 | C53: DR Annaba | D53: SND | E53: 42937 | F53: EPH BOUGUERRA | G53: SAA CNE | H53: 2604 | I53: 2017/110509 | J53: LABIOD | K53: 0 | L53: 10200 | M53: 1
A54: 73 | B54: 19055 | C54: DR Setif | D54: 19055 16 1195 0169 | E54: 42538 | F54: Kifouche | G54: SAA CNE | H54: 2604 | I54: 16/485 | J54: CHOUCHANE | L54: 26200 | M54: 1
A55: 75 | B55: 19651 | C55: DR Setif | D55: 19651 17 1195 0211 | E55: 42984 | F55: THAMER | G55: SAA CNE | H55: 2604 | I55: 17/599 | J55: GRIMES | K55: 26125 | M55: 1
A56: 78 | B56: 19682 | C56: DR Setif | D56: SND | E56: 42586 | F56: CHEHAB | G56: SAA CNE | H56: 2604 | I56: 2016/110625 | J56: ZATER | K56: 0 | L56: 9150 | M56: 1
A57: 82 | B57: 25199 | C57: DR Setif | D57: 25199 18 1195 0030 | E57: 43412 | F57: BENELMILI | G57: SAA CNE | H57: 2604 | I57: 2018/110695 | J57: ZENIR | K57: 0 | L57: 8150 | M57: 1
A58: 85 | B58: 25272 | C58: DR Setif | D58: 25272 17 1195 0049 | E58: 43098 | F58: LKROUN | G58: SAA CNE | H58: 2604 | I58: SND | J58: GUERS | K58: DOSSIER CORPOREL | L58: DOSSIER CORPOREL | M58: 1
A59: 86 | B59: 25272 | C59: DR Setif | D59: 25272 19 1195 0006 | E59: 43465 | F59: BOUDEFA | G59: SAA CNE | H59: 2604 | I59: 2019/110020 | J59: REZGOUNE | K59: CSS | L59: CSS | M59: 1
A60: 90 | B60: 25561 | C60: DR Setif | D60: SND | E60: 42860 | F60: , REHAM ABSERRAHM | G60: SAA CNE | H60: 2604 | I60: 2017/110295 | J60: ZOUATER SAOULI | K60: ATT SUITE | L60: ATT SUITE | M60: 1
A61: 93 | B61: 40164 | C61: DR Annaba | D61: SND | E61: 43264 | F61: HAMDAD | G61: SAA CNE | H61: 2604 | I61: 2018/110370 | J61: BOUTABSOU | K61: DEPASSE LE POUVOIR DE LA LIQUIDATION | L61: DEPASSE LE POUVOIR DE LA LIQUIDATION | M61: 1
A62: 97 | B62: 16117 | C62: DRC Ouest | D62: SND | E62: 42645 | F62: ,BEN YOUF BOULFRED | G62: SAA CNE | H62: 2606 | I62: 2016/110413 | J62: ZAHAF ABDELMALEK | K62: CSS | L62: CSS | M62: 1
A63: 98 | B63: 18217 | C63: DR Setif | D63: SND | E63: 42759 | F63: ,/MERAD RABAH | G63: SAA CNE | H63: 2606 | I63: 2017/110031 | J63: KHAROUA NOUAR | K63: CSS | L63: CSS | M63: 1
A64: 100 | B64: 24221 | C64: DR Annaba | D64: SND | E64: 42969 | F64: ,/NEKI AMAR | G64: SAA CNE | H64: 2606 | I64: 2017/110260 | J64: AROUAK FARID | K64: 0 | L64: 25250 | M64: 1
A65: 101 | B65: 25008 | C65: DR Setif | D65: 25008 16 1195 0170 | E65: 42623 | F65: GUENNOUN | G65: SAA CNE | H65: 2606 | I65: SND | J65: FADLOUNE | K65: déjà regler | L65: déjà regler | M65: 1
A66: 103 | B66: 25043 | C66: DR Setif | D66: SND | E66: 43225 | F66: , LOUCIF KHAMSA | G66: SAA CNE | H66: 2606 | I66: 2018/110161 | J66: BANQUE BARAKA/LAFOUALA A.HAKIM | K66: CSS | L66: CSS | M66: 1
A67: 104 | B67: 25561 | C67: DR Setif | D67: 25561 18 1195 0298 | E67: 43452 | F67: EURL Hotel EL Khayem | G67: SAA CNE | H67: 2606 | I67: SND | J67: ETC CNE | K67: CSS | L67: CSS | M67: 1
A68: 106 | B68: 25561 | C68: DR Setif | D68: SND | E68: 42862 | F68: DARBEL | G68: SAA CNE | H68: 2606 | I68: 2017/11000 | J68: MELLARI | K68: CSS | L68: CSS | M68: 1
A69: 108 | B69: 16545 | C69: DRC Est | D69: SND | E69: 43088 | F69: , SPA NCA | G69: SAA CNE | H69: 2607 | I69: 2017/110882 | J69: TALLOUCHE HASSAN | K69: CSS | L69: CSS | M69: 1
A70: 110 | B70: 19633 | C70: DR Setif | D70: SND | E70: 43341 | F70: , BASTAMI AYMENE | G70: SAA CNE | H70: 2607 | I70: 2018/110613 | J70: LABRAOUI RIAD | K70: CSS | L70: CSS | M70: 1
A71: 112 | B71: 21060 | C71: DR Annaba | D71: SND | E71: 42794 | F71: , ZAIDI TOUFIK | G71: SAA CNE | H71: 2607 | I71: 2017/110138 | J71: BENCHIKA AISSA | K71: CSS | L71: CSS | M71: 1
A72: 113 | B72: 23302 | C72: DR Annaba | D72: 23302 18 1195 0021 | E72: 43462 | F72: LACHTEB | G72: SAA CNE | H72: 2607 | I72: 2019/110006 | J72: SEBIA | K72: CSS | L72: CSS | M72: 1
A73: 114 | B73: 24221 | C73: DR Annaba | D73: 24221 16 1195 0042 | E73: 42564 | F73: SEDRATI | G73: SAA CNE | H73: 2607 | I73: SND | J73: TOUAT | K73: 8030.73 | L73: 0 | M73: 1
A74: 115 | B74: 24221 | C74: DR Annaba | D74: 24221 17 1195 0035 | E74: 42802 | F74: KAIROUANI | G74: SAA CNE | H74: 2607 | I74: SND | J74: ARIS | K74: 13338.28 | L74: 0 | M74: 1
A75: 116 | B75: 25008 | C75: DR Setif | D75: 25008 19 1195 0076 | E75: 43565 | F75: ATHAMENE | G75: SAA CNE | H75: 2607 | I75: SND | J75: MEDJMEDJ | K75: 20400 | L75: 0 | M75: 1
A76: 117 | B76: 25008 | C76: DR Setif | D76: 25008 18 1195 0176 | E76: 43389 | F76: LAKES | G76: SAA CNE | H76: 2607 | I76: 2018/110345 | J76: AZZAZ | K76: 74081.54 | L76: 0 | M76: 1
A77: 119 | B77: 25008 | C77: DR Setif | D77: SND | E77: 42433 | F77: , GHABCHA KHALED | G77: SAA CNE | H77: 2607 | I77: 2016/110194 | J77: BOUBEKEUR FAICAL | K77: CSS | L77: CSS | M77: 1
A78: 120 | B78: 25043 | C78: DR Setif | D78: 25043 16 1195 0161 | E78: 42680 | F78: SARL MIDOU TAXI | G78: SAA CNE | H78: 2607 | I78: SND | J78: BRAHMIA | K78: 15606.5 | M78: 1
A79: 122 | B79: 25043 | C79: DR Setif | D79: SND | E79: 42532 | F79: ABID | G79: SAA CNE | H79: 2607 | I79: 2016/110912 | J79: BECHKRI | K79: CSS | L79: CSS | M79: 1
A80: 123 | B80: 25130 | C80: DR Setif | D80: 25130 16 1195 0044 | E80: 42735 | F80: DERBAL | G80: SAA CNE | H80: 2607 | I80: SND | J80: ZITOUNI | K80: 96400 | L80: 0 | M80: 1
A81: 125 | B81: 25130 | C81: DR Setif | D81: SND | E81: 42585 | F81: , SOUSSANI ASSIA | G81: SAA CNE | H81: 2607 | I81: 2016/110662 | J81: TOUAHRI SMAINE | K81: CSS | L81: CSS | M81: 1
A82: 126 | B82: 25561 | C82: DR Setif | D82: 25561 17 1195 0270 | E82: 43012 | F82: DIFFALAH | G82: SAA CNE | H82: 2607 | I82: SND | J82: BENTELDJOUNE | K82: double | L82: double | M82: 1
A83: 127 | B83: 25561 | C83: DR Setif | D83: 25561 18 1195 0080 | E83: 43173 | F83: Ahmed Boumaza | G83: SAA CNE | H83: 2607 | I83: SND | J83: Gerras | K83: 7950 | M83: 1
A84: 128 | B84: 25561 | C84: DR Setif | D84: 25561 18 1195 0089 | E84: 43191 | F84: CHELLI | G84: SAA CNE | H84: 2607 | I84: SND | J84: EURL BIDI | K84: CSS | L84: CSS | M84: 1
A85: 129 | B85: 25561 | C85: DR Setif | D85: 25561 19 1195 0040 | E85: 43521 | F85: AKNI | G85: SAA CNE | H85: 2607 | I85: 2019/110122 | J85: MEHENNAOUI | K85: 132863.76 | L85: 0 | M85: 1
A86: 132 | B86: 25561 | C86: DR Setif | D86: 25561 18 1195 0193 | E86: 43317 | F86: FOUGHALI | G86: SAA CNE | H86: 2607 | I86: 2018/110485 | J86: DIB | K86: 0 | L86: 6100 | M86: 1
A87: 133 | B87: 25561 | C87: DR Setif | D87: 25561 19 1195 0098 | E87: 43590 | F87: Kifouche | G87: SAA CNE | H87: 2607 | I87: 19/306 | J87: Bensemira | K87: 7200 | M87: 1
A88: 135 | B88: 43230 | C88: DR Setif | D88: 43230 18 1195 0133 | E88: 43376 | F88: Mekroud | G88: SAA CNE | H88: 2607 | I88: 18/628 | J88: Temim | K88: 16020 | M88: 1
A89: 136 | B89: 43550 | C89: DR Setif | D89: 43550 17 1195 0135 | E89: 42878 | F89: BIDA | G89: SAA CNE | H89: 2617 | I89: SND | J89: BAHCHACHI | K89: dossier reff | L89: dossier reff | M89: 1
A90: 137 | B90: 43550 | C90: DR Setif | D90: 43550 17 1195 0244 | E90: 42992 | F90: BOUGHATOUCHA | G90: SAA CNE | H90: 2607 | I90: SND | J90: MERIKHI | K90: 16678 | L90: 0 | M90: 1
A91: 138 | B91: 43550 | C91: DR Setif | D91: SND | E91: 42409 | F91: , BENABDERRAHMANE | G91: SAA CNE | H91: 2607 | I91: 2016/110102 | J91: BOUSEMAT MOULOUD | K91: CSS | L91: CSS | M91: 1
A92: 139 | B92: 43550 | C92: DR Setif | D92: 43550 17 1195 0052 | E92: 42789 | F92: BOUBATA | G92: SAA CNE | H92: 2607 | I92: 17/130 | J92: ABBES | K92: 26875 | M92: 1
A93: 142 | B93: 18022 | C93: DR Setif | D93: 18022 17 1195 0327 | E93: 43016 | F93: LOUATI | G93: SAA CNE | H93: 2608 | I93: SND | J93: CHEROUEL | K93: 24196.5 | L93: 0 | M93: 1
A94: 145 | B94: 19715 | C94: DR Setif | D94: 19715 18 1195 0109 | E94: 43274 | F94: RAMDANI | G94: SAA CNE | H94: 2608 | I94: 2018/110298 | J94: SOMDA DISTR | K94: 75348.36 | L94: 0 | M94: 1
A95: 146 | B95: 25561 | C95: DR Setif | D95: 25561 18 1195 0237 | E95: 43388 | F95: BOUSSEBOUA | G95: SAA CNE | H95: 2608 | I95: SND | J95: TORCHI | K95: 12700 | L95: 0 | M95: 1
A96: 149 | B96: 43230 | C96: DR Setif | D96: 43230 19 1195 0046 | E96: 43561 | F96: Benabdellah | G96: SAA CNE | H96: 2608 | I96: 19/162 | J96: Bouchelita | K96: 107644 | M96: 1
A97: 153 | B97: 43550 | C97: DR Setif | D97: SND | E97: 43509 | F97: BENMAKHLOUF YASSER | G97: SAA CNE | H97: 2608 | I97: 2019/110067 | J97: CHETIBI MASSIKA | K97: CSS | L97: CSS | M97: 1
A98: 154 | B98: 43550 | C98: DR Setif | D98: SND | E98: 42971 | F98: , BRIK NOUREDDINE | G98: SAA CNE | H98: 2608 | I98: 2017/110498 | J98: BRIK.COM | K98: CSS | L98: CSS | M98: 1
A99: 155 | B99: 43550 | C99: DR Setif | D99: SND | E99: 42961 | F99: , SERAOUI AHMED | G99: SAA CNE | H99: 2608 | I99: 2017/110470 | J99: BOUDEMIA MOHAMED SALAH | K99: CSS | L99: CSS | M99: 1
A100: 156 | B100: 4184 | C100: DR Annaba | D100: SND | E100: 42824 | F100: , SOLTANI HICHAM | G100: SAA CNE | H100: 2609 | I100: 2017/110228 | J100: BOUAKOUCHE LAKHDAR | K100: CSS | L100: CSS | M100: 1
A101: 157 | B101: 04242 | C101: DR Annaba | D101: 04242 17 1195 0027 | E101: 42809 | F101: SARL ROYAL SAWITARE | G101: SAA CNE | H101: 2609 | I101: SND | J101: BOUDEBANE | K101: CSS | L101: CSS | M101: 1
A102: 158 | B102: 05619 | C102: DR Setif | D102: 05619 17 1195 0387 | E102: 42870 | F102: HACHEM | G102: SAA CNE | H102: 2609 | I102: SND | J102: SNC CHEBIRA | K102: 53662.5 | L102: 0 | M102: 1
A103: 159 | B103: 16081 | C103: DRC Est | D103: 16081 18 1195 0139 | E103: 43178 | F103: SEBAOUNE | G103: SAA CNE | H103: 2609 | I103: SND | J103: BOUSBIA | K103: 25370 | L103: 0 | M103: 1
A104: 161 | B104: 16545 | C104: DRC Est | D104: SND | E104: 43236 | F104: , GUERTAL HICHAM | G104: SAA CNE | H104: 2609 | I104: 2018/110347 | J104: BOULAHDID MOHAMED | K104: CSS | L104: CSS | M104: 1
A105: 162 | B105: 18022 | C105: DR Setif | D105: 18022 19 1195 0107 | E105: 43591 | F105: BOUZEKRI | G105: SAA CNE | H105: 2609 | I105: 2019/110346 | J105: HAMZA | K105: CSS | L105: CSS | M105: 1
...

Sheet Feuil1
A1: N° | C1: N° Sinistre | D1: Date Sinistre | E1: Assuré | F1: Date Règlement | G1: Garantie | H1: Béneficiaire | I1: Principal | J1: Total | K1: N° Sinistre
A2: 1 | B2: =LEFT(C2,5) -> 01204 | C2: 01204 17 1195 0001 | D2: 09/03/2017 | E2: BETTAHAR LYAZID | F2: 04/08/2019 | G2: 100110 | H2: SAA CNE | I2: 47550 | J2: 47550 | K2: 01204 17 1195 0001
A3: 2 | B3: =LEFT(C3,5) -> 02099 | C3: 02099 17 1195 0224 | D3: 17/04/2017 | E3: CONCASSAGE ENNADJAH | F3: 06/08/2019 | G3: 100110 | H3: SAA CNE | I3: 58062.88 | J3: 58062.88 | K3: 02099 17 1195 0224
A4: 3 | B4: =LEFT(C4,5) -> 02099 | C4: 02099 18 1195 0191 | D4: 17/07/2018 | E4: DJILALI AYAD EL HOUARI | F4: 13/08/2019 | G4: 100110 | H4: SAA CNE | I4: 21100 | J4: 21100 | K4: 02099 18 1195 0191
A5: 58 | B5: =LEFT(C5,5) -> 09004 | C5: 09004 17 1195 0331 | D5: 25/12/2017 | E5: ETS INTRACOM | F5: 07/08/2019 | G5: 100110 | H5: SAA CNE | I5: 20048.13 | J5: 20048.13 | K5: 09004 17 1195 0331
A6: 89 | B6: =LEFT(C6,5) -> 16001 | C6: 16001 16 1195 1540 | D6: 20/11/2016 | E6: CIEPTAL CARS | F6: 05/08/2019 | G6: 100110 | H6: SAA CNE | I6: 14900 | J6: 14900 | K6: 16001 16 1195 1540
A7: 88 | B7: =LEFT(C7,5) -> 16001 | C7: 16001 16 1195 1539 | D7: 09/08/2016 | E7: IJAR LEASING ALGERIE C/P CHEBILI HAMZA | F7: 05/08/2019 | G7: 100110 | H7: SAA CNE | I7: 8150 | J7: 8150 | K7: 16001 16 1195 1539
A8: 87 | B8: =LEFT(C8,5) -> 16001 | C8: 16001 16 1195 1271 | D8: 02/11/2016 | E8: AVENIR DECORATION (AD DISPLAY) | F8: 05/08/2019 | G8: 100110 | H8: SAA CNE | I8: 27890 | J8: 27890 | K8: 16001 16 1195 1271
A9: 261 | B9: =LEFT(C9,5) -> 16083 | C9: 16083 16 1195 0775 | D9: 03/12/2016 | E9: AL NAWAT INVESTISSEMENT ALGERIE | F9: 05/08/2019 | G9: 100110 | H9: SAA CNE | I9: 13564.84 | J9: 13564.84 | K9: 16083 16 1195 0775
A10: 262 | B10: =LEFT(C10,5) -> 16083 | C10: 16083 17 1195 0796 | D10: 29/01/2017 | E10: AL NAWAT INVESTISSEMENT ALGERIE | F10: 07/08/2019 | G10: 100110 | H10: SAA CNE | I10: 24532.33 | J10: 24532.33 | K10: 16083 17 1195 0796
A11: 280 | B11: =LEFT(C11,5) -> 16113 | C11: 16113 16 1195 0551 | D11: 14/03/2016 | E11: GROUP KB | F11: 06/08/2019 | G11: 100110 | H11: SAA CNE | I11: 41220.59 | J11: 41220.59 | K11: 16113 16 1195 0551
A12: 281 | B12: =LEFT(C12,5) -> 16113 | C12: 16113 18 1195 0370 | D12: 25/12/2018 | E12: BELMILOUD ZAHRA | F12: 06/08/2019 | G12: 100110 | H12: SAA CNE | I12: 14050 | J12: 14050 | K12: 16113 18 1195 0370
A13: 288 | B13: =LEFT(C13,5) -> 16117 | C13: 16117 17 1195 0777 | D13: 25/12/2017 | E13: AOUNI LOTFI | F13: 13/08/2019 | G13: 100110 | H13: SAA CNE | I13: 91934.42 | J13: 91934.42 | K13: 16117 17 1195 0777
... A525: 979 | B525: =LEFT(C525,5) -> 35202 | C525: 35202 17 1195 0204 | D525: 27/02/2017 | E525: IRS DERICHE | F525: 05/08/2019 | G525: 100110 | H525: SAA CNE | I525: 30742.17 | J525: 30742.17 | K525: 35202 17 1195 0204

Sheet Feuil2
A4: 24 | B4: 19010 | C4: DR Setif | D4: 19010 17 1195 0278 | E4: 43053 | F4: SPA MAGHREB | G4: SAA CNE | H4: 2602 | I4: 17/684 | J4: EURL NEW SEPTIQUE | L4: 24500 | M4: 1 | N4: 19010 17 1195 0278 | O4: =VLOOKUP(D4,Feuil1!C:K,9,0) -> 19010 17 1195 0278
A5: 33 | B5: 25008 | C5: DR Setif | D5: SND | E5: 43575 | F5: GHENNAI NOURA | G5: SAA CNE | H5: 2602 | I5: 2019/110310 | J5: BOUDOUKHA MONCEF | K5: 0 | L5: 10200 | M5: 1 | N5: 05087 16 1195 0388 | O5: =VLOOKUP(D5,Feuil1!C:K,9,0) -> #N/A
A6: 49 | B6: 25561 | C6: DR Setif | D6: SND | E6: 43040 | F6: ,BELHOUR OMAR | G6: SAA CNE | H6: 2602 | I6: 2017/110649 | J6: MEZZARA BOUDJEMAA | K6: 0 | L6: 7150 | M6: 1 | N6: 19637 18 1195 0106 | O6: =VLOOKUP(D6,Feuil1!C:K,9,0) -> #N/A
A7: 57 | B7: 16237 | C7: DRC Ouest | D7: SND | E7: 43093 | F7: , BAROUDI DJILALI | G7: SAA CNE | H7: 2603 | I7: 2018/110015 | J7: KHELFAOUI BRAHIM | K7: 0 | L7: 17600 | M7: 1 | N7: 16237 17 1195 0119 | O7: =VLOOKUP(D7,Feuil1!C:K,9,0) -> #N/A
A8: 62 | B8: 25008 | C8: DR Setif | D8: 25008 17 1195 0083 | E8: 42854 | F8: HACHOU | G8: SAA CNE | H8: 2603 | I8: 2017/110195 | J8: KARROUT | K8: 0 | L8: 14250 | M8: 1 | N8: 19188 16 1195 0144 | O8: =VLOOKUP(D8,Feuil1!C:K,9,0) -> 25008 17 1195 0083
A9: 68 | B9: 25561 | C9: DR Setif | D9: 25561 17 1195 0262 | E9: 43020 | F9: LAKHAL | G9: SAA CNE | H9: 2603 | I9: 2017/110533 | J9: BOUCHERIBA | K9: 5825 | L9: 2000 | M9: 1 | N9: #N/A | O9: =VLOOKUP(D9,Feuil1!C:K,9,0) -> #N/A
A10: 71 | B10: 12053 | C10: DR Annaba | D10: SND | E10: 42937 | F10: EPH BOUGUERRA | G10: SAA CNE | H10: 2604 | I10: 2017/110509 | J10: LABIOD | K10: 0 | L10: 10200 | M10: 1 | N10: 05087 16 1195 0388 | O10: =VLOOKUP(D10,Feuil1!C:K,9,0) -> #N/A
A11: 73 | B11: 19055 | C11: DR Setif | D11: 19055 16 1195 0169 | E11: 42538 | F11: Kifouche | G11: SAA CNE | H11: 2604 | I11: 16/485 | J11: CHOUCHANE | L11: 26200 | M11: 1 | N11: 19010 17 1195 0329 | O11: =VLOOKUP(D11,Feuil1!C:K,9,0) -> 19055 16 1195 0169
A12: 78 | B12: 19682 | C12: DR Setif | D12: SND | E12: 42586 | F12: CHEHAB | G12: SAA CNE | H12: 2604 | I12: 2016/110625 | J12: ZATER | K12: 0 | L12: 9150 | M12: 1 | N12: 19682 16 1195 0053 | O12: =VLOOKUP(D12,Feuil1!C:K,9,0) -> #N/A
A13: 82 | B13: 25199 | C13: DR Setif | D13: 25199 18 1195 0030 | E13: 43412 | F13: BENELMILI | G13: SAA CNE | H13: 2604 | I13: 2018/110695 | J13: ZENIR | K13: 0 | L13: 8150 | M13: 1 | N13: 16001 16 1195 1539 | O13: =VLOOKUP(D13,Feuil1!C:K,9,0) -> 25199 18 1195 0030
A14: 100 | B14: 24221 | C14: DR Annaba | D14: SND | E14: 42969 | F14: ,/NEKI AMAR | G14: SAA CNE | H14: 2606 | I14: 2017/110260 | J14: AROUAK FARID | K14: 0 | L14: 25250 | M14: 1 | N14: 43550 17 1195 0410 | O14: =VLOOKUP(D14,Feuil1!C:K,9,0) -> #N/A
A15: 132 | B15: 25561 | C15: DR Setif | D15: 25561 18 1195 0193 | E15: 43317 | F15: FOUGHALI | G15: SAA CNE | H15: 2607 | I15: 2018/110485 | J15: DIB | K15: 0 | L15: 6100 | M15: 1 | N15: 25561 18 1195 0193 | O15: =VLOOKUP(D15,Feuil1!C:K,9,0) -> 25561 18 1195 0193
A16: 183 | B16: 16194 | C16: DRC Ouest | D16: 16194 17 1195 0072 | E16: 42959 | F16: , YUKCEL PROJET | G16: SAA CNE | H16: 2610 | I16: 2017/110849 | J16: MEZMIZ OMAR | K16: 0 | L16: 14050 | M16: 1 | N16: 16113 18 1195 0370 | O16: =VLOOKUP(D16,Feuil1!C:K,9,0) -> 16194 17 1195 0072
A17: 212 | B17: 18022 | C17: DR Setif | D17: 18022 18 1195 0124 | E17: 43238 | F17: MICHA | G17: SAA CNE | H17: 2610 | I17: 2018/110567 | J17: MICHA | K17: 0 | L17: 22550 | M17: REGLE | N17: #N/A | O17: =VLOOKUP(D17,Feuil1!C:K,9,0) -> #N/A
A18: 225 | B18: 22047 | C18: DR Oran | D18: 22047 18 1195 0071 | E18: 43170 | F18: , SARL BOSCA ALGE | G18: SAA CNE | H18: 2610 | I18: 2018/110221 | J18: BOUATMANE MADJID | K18: 0 | L18: 20000 | M18: 1 | N18: 19651 16 1195 0325 | O18: =VLOOKUP(D18,Feuil1!C:K,9,0) -> 22047 18 1195 0071
A19: 238 | B19: 16100 | C19: DRC Est | D19: SND | E19: 42770 | F19: , SARL ALGER MATCO | G19: SAA CNE | H19: 2612 | I19: 2017/110138 | J19: ARBID HOCINE | K19: 0 | L19: 10650 | M19: 1 | N19: 18022 19 1195 0216 | O19: =VLOOKUP(D19,Feuil1!C:K,9,0) -> #N/A
A20: 247 | B20: 18022 | C20: DR Setif | D20: SND | E20: 43533 | F20: BOUDJERIHA | G20: SAA CNE | H20: 2612 | I20: 2019/110307 | J20: BENAOUATA ABDELHAMID | K20: 0 | L20: 10650 | M20: 1 | N20: 18022 19 1195 0216 | O20: =VLOOKUP(D20,Feuil1!C:K,9,0) -> #N/A
A21: 253 | B21: 18022 | C21: DR Setif | D21: SND | E21: 43462 | F21: ZAABAT BOUDJEMAA | G21: SAA CNE | H21: 2612 | I21: 2019/110001 | J21: BELHADJI CHERIF | K21: 0 | L21: 11150 | M21: 1 | N21: 18022 18 1195 0443 | O21: =VLOOKUP(D21,Feuil1!C:K,9,0) -> #N/A
A22: 280 | B22: 19651 | C22: DR Setif | D22: 19651 17 1195 0018 | E22: 42748 | F22: KESMIA | G22: SAA CNE | H22: 2613 | I22: 2017/110036 | J22: BOUCHEFCHOUF | K22: 0 | L22: 14200 | M22: 1 | N22: #N/A | O22: =VLOOKUP(D22,Feuil1!C:K,9,0) -> #N/A
A23: 286 | B23: 21085 | C23: DR Annaba | D23: SND | E23: 43346 | F23: , GROUPE EL DJAR | G23: SAA CNE | H23: 2613 | I23: 2018/110606 | J23: KROUMA FARID | K23: 0 | L23: 5000 | M23: 1 | N23: 18022 18 1195 0104 | O23: =VLOOKUP(D23,Feuil1!C:K,9,0) -> #N/A
A24: 296 | B24: 12053 | C24: DR Annaba | D24: 12053 18 1195 0262 | E24: 43391 | F24: , /GUIDOUM BADIS | G24: SAA CNE | H24: 2614 | I24: 2018/110592 | J24: BOUTAGHANE HACHANI | K24: 0 | L24: 17600 | M24: 1 | N24: 16237 17 1195 0119 | O24: =VLOOKUP(D24,Feuil1!C:K,9,0) -> 12053 18 1195 0262
A25: 297 | B25: 12053 | C25: DR Annaba | D25: 12053 17 1195 0281 | E25: 42806 | F25: ,AINCE/HOGGAS BELKACEM | G25: SAA CNE | H25: 2614 | I25: 2017/110120 | J25: BENSAAD ABDERRAHMANE | K25: 0 | L25: 9700 | M25: 1 | N25: 43550 17 1195 0408 | O25: =VLOOKUP(D25,Feuil1!C:K,9,0) -> 12053 17 1195 0281
A26: 302 | B26: 19651 | C26: DR Setif | D26: 19651 16 1195 0325 | E26: 42648 | F26: ,/GUESSOUM KHEF | G26: SAA CNE | H26: 2614 | I26: 2016/110473 | J26: REGUIG AZIZ | K26: 0 | L26: 20000 | M26: 1 | N26: 19651 16 1195 0325 | O26: =VLOOKUP(D26,Feuil1!C:K,9,0) -> 19651 16 1195 0325
A27: 325 | B27: 25234 | C27: DR Setif | D27: SND | E27: 43173 | F27: , BENNARROU OUAIL | G27: SAA CNE | H27: 2615 | I27: 2018/110089 | J27: BENLEGHIB FARID | K27: 0 | L27: 10200 | M27: 1 | N27: 05087 16 1195 0388 | O27: =VLOOKUP(D27,Feuil1!C:K,9,0) -> #N/A
A28: 348 | B28: 25008 | C28: DR Setif | D28: SND | E28: 43079 | F28: ,:AOUISSI YOUNES | G28: SAA CNE | H28: 2616 | I28: 2017/110677 | J28: SEDIRA ABDENNACER | K28: 0 | L28: 10200 | M28: 1 | N28: 05087 16 1195 0388 | O28: =VLOOKUP(D28,Feuil1!C:K,9,0) -> #N/A
A29: 416 | B29: 12185 | C29: DR Annaba | D29: 12185 18 1195 0073 | E29: 43123 | F29: , ALOUANE BELKACE | G29: SAA CNE | H29: 2620 | I29: 2018/110031 | J29: BOUHERRI AYECHE | K29: 0 | L29: 12150 | M29: 1 | N29: 25008 18 1195 0246 | O29: =VLOOKUP(D29,Feuil1!C:K,9,0) -> 12185 18 1195 0073
A30: 453 | B30: 19651 | C30: DR Setif | D30: 19651 18 1195 0357 | E30: 43449 | F30: BENALI | G30: SAA CNE | H30: 2621 | I30: 2018/110390 | J30: BENAISSA | L30: 35912.5 | M30: 1 | N30: 19651 18 1195 0357 | O30: =VLOOKUP(D30,Feuil1!C:K,9,0) -> 19651 18 1195 0357
A31: 454 | B31: 19651 | C31: DR Setif | D31: 19651 19 1195 0043 | E31: 43491 | F31: MEKHALFA | G31: SAA CNE | H31: 2621 | I31: 2019/110040 | J31: GOUMIDI | K31: 0 | L31: 8150 | M31: 1 | N31: 16001 16 1195 1539 | O31: =VLOOKUP(D31,Feuil1!C:K,9,0) -> 19651 19 1195 0043
A32: 460 | B32: 19651 | C32: DR Setif | D32: 19651 18 1195 0357 | E32: 43449 | F32: BENALI | G32: SAA CNE | H32: 2621 | I32: 2018/110388 | J32: BOUDIAF | K32: 0 | L32: 105395 | M32: 1 | N32: 19651 18 1195 0357 | O32: =VLOOKUP(D32,Feuil1!C:K,9,0) -> 19651 18 1195 0357
A33: 461 | B33: 19651 | C33: DR Setif | D33: 19651 18 1195 0356 | E33: 43448 | F33: OULMI | G33: SAA CNE | H33: 2621 | I33: 2018/110386 | J33: MEHENNAOUI | K33: 5726.25 | L33: 5000 | M33: 1 | N33: 18022 18 1195 0104 | O33: =VLOOKUP(D33,Feuil1!C:K,9,0) -> 19651 18 1195 0356
A34: 490 | B34: 19682 | C34: DR Setif | D34: SND | E34: 42862 | F34: , ALOUNI MEHDI | G34: SAA CNE | H34: 2622 | I34: 2017/110240 | J34: BENASKEUR MOHAMMED | K34: 0 | L34: 9150 | M34: 1 | N34: 19682 16 1195 0053 | O34: =VLOOKUP(D34,Feuil1!C:K,9,0) -> #N/A
A35: 504 | B35: 43550 | C35: DR Setif | D35: SND | E35: 43084 | F35: , BOUADAM ABDELLA | G35: SAA CNE | H35: 2622 | I35: 2017/110734 | J35: BOURAS MOHAMED | K35: 0 | L35: 9700 | M35: 1 | N35: 43550 17 1195 0408 | O35: =VLOOKUP(D35,Feuil1!C:K,9,0) -> #N/A
A36: 516 | B36: 16001 | C36: DRC Ouest | D36: SND | E36: 42591 | F36: CHEBLI | G36: SAA CNE | H36: 2650 | I36: 2016/110394 | J36: SAIDANI | K36: 0 | L36: 8150 | M36: 1 | N36: 16001 16 1195 1539 | O36: =VLOOKUP(D36,Feuil1!C:K,9,0) -> #N/A
A37: 520 | B37: 19188 | C37: DR Setif | D37: SND | E37: 42532 | F37: , HIOUAL | G37: SAA CNE | H37: 2650 | I37: 2016/110284 | J37: TAXI RADIO SIDI RACHED | K37: 0 | L37: 14250 | M37: 1 | N37: 19188 16 1195 0144 | O37: =VLOOKUP(D37,Feuil1!C:K,9,0) -> #N/A
A38: 532 | B38: 25561 | C38: DR Setif | D38: 25561 17 1195 0202 | E38: 42953 | F38: HADJI | G38: SAA CNE | H38: 2650 | I38: 2017/110316 | J38: BOUDEHANE | K38: 0 | L38: 10200 | M38: 1 | N38: 05087 16 1195 0388 | O38: =VLOOKUP(D38,Feuil1!C:K,9,0) -> 25561 17 1195 0202
A39: 541 | B39: 19010 | C39: DR Setif | D39: 19010 17 1195 0329 | E39: 42932 | F39: SPA MAGHREB | G39: SAA CNE | H39: 2655 | I39: 2017/110315 | J39: LAKHDAR | K39: 0 | L39: 26200 | M39: 1 | N39: 19010 17 1195 0329 | O39: =VLOOKUP(D39,Feuil1!C:K,9,0) -> 19010 17 1195 0329
A40: 543 | B40: 19651 | C40: DR Setif | D40: 19651 17 1195 0353 | E40: 42790 | F40: REMETA | G40: SAA CNE | H40: 2655 | I40: 2017/110087 | J40: MERROUCHE | K40: 0 | L40: 27460.13 | M40: 1 | N40: #N/A | O40: =VLOOKUP(D40,Feuil1!C:K,9,0) -> 19651 17 1195 0353
A41: 551 | B41: 43550 | C41: DR Setif | D41: 43550 17 1195 0410 | E41: 43067 | F41: ,/ GHETTOUT MOHAMED | G41: SAA CNE | H41: 2655 | I41: 2017/110560 | J41: SAADI WAFA NADIA | K41: 0 | L41: 25250 | M41: 1 | N41: 43550 17 1195 0410 | O41: =VLOOKUP(D41,Feuil1!C:K,9,0) -> 43550 17 1195 0410
A42: 556 | B42: 18022 | C42: DR Setif | D42: SND | E42: 42698 | F42: , / BOUKLIA ABDELAL | G42: SAA CNE | H42: 2656 | I42: 2016/110299 | J42: SEGHIR KAMEL | K42: 0 | L42: 4000 | M42: 1 | N42: 18022 16 1195 0475 | O42: =VLOOKUP(D42,Feuil1!C:K,9,0) -> #N/A
A43: 558 | B43: 19633 | C43: DR Setif | D43: SND | E43: 43412 | F43: , /BENMAAMAR HICHAM | G43: SAA CNE | H43: 2656 | I43: 2018/110285 | J43: LASSED KARIM | K43: 0 | L43: 10200 | M43: 1 | N43: 05087 16 1195 0388 | O43: =VLOOKUP(D43,Feuil1!C:K,9,0) -> #N/A
A44: 571 | B44: 25008 | C44: DR Setif | D44: 25008 18 1195 0204 | E44: 43436 | F44: AMIRA | G44: SAA CNE | H44: 2657 | I44: 2018/110560 | J44: RAYEH | K44: 0 | L44: 8150 | M44: 1 | N44: 16001 16 1195 1539 | O44: =VLOOKUP(D44,Feuil1!C:K,9,0) -> 25008 18 1195 0204
A45: 599 | B45: 23652 | C45: DR Annaba | D45: SND | E45: 43246 | F45: ,I BOUDJEMA MED LOTFI | G45: SAA CNE | H45: 2664 | I45: 2018/110110 | J45: HAMITOU MOHAMED ZAKARIA | K45: 0 | L45: 8650 | M45: 1 | N45: 23652 18 1195 0184 | O45: =VLOOKUP(D45,Feuil1!C:K,9,0) -> #N/A
A46: 606 | B46: 19215 | C46: DR Setif | D46: SND | E46: 42385 | F46: ,LAOUAR BADIS | G46: SAA CNE | H46: 2665 | I46: 2016/110012 | J46: BENDADA BOUZID | K46: 0 | L46: 5500 | M46: 1 | N46: 19215 16 1195 0186 | O46: =VLOOKUP(D46,Feuil1!C:K,9,0) -> #N/A
A47: 612 | B47: 25272 | C47: DR Setif | D47: SND | E47: 43481 | F47: TOLBA MOURAD | G47: SAA CNE | H47: 2665 | I47: 2019/110034 | J47: EURL DZ EXPRESS | K47: 0 | L47: 13000 | M47: 1 | N47: 18022 18 1195 0440 | O47: =VLOOKUP(D47,Feuil1!C:K,9,0) -> #N/A
A48: 635 | B48: 4242 | C48: DR Annaba | D48: 04242 17 1195 0219 | E48: 43013 | F48: CHOHRA NABIL | G48: SAA CNE | H48: 2667 | I48: 2017/110667 | J48: SENNOUR ZOHRA | K48: 0 | L48: 14250 | M48: 1 | N48: 19188 16 1195 0144 | O48: =VLOOKUP(D48,Feuil1!C:K,9,0) -> 04242 17 1195 0219
A49: 638 | B49: 16100 | C49: DRC Est | D49: 16100 18 1195 0221 | E49: 43423 | F49: DAEWOO | G49: SAA CNE | H49: 2667 | I49: 2018/110750 | J49: LAROUK ADEL | K49: 0 | L49: 10200 | M49: 1 | N49: 05087 16 1195 0388 | O49: =VLOOKUP(D49,Feuil1!C:K,9,0) -> 16100 18 1195 0221
A50: 649 | B50: 24192 | C50: DR Annaba | D50: 24192 18 1195 0202 | E50: 43363 | F50: AZZEM SACI | G50: SAA CNE | H50: 2667 | I50: 2018/110585 | J50: DJOUDI AHMED | K50: 0 | L50: 8150 | M50: 1 | N50: 16001 16 1195 1539 | O50: =VLOOKUP(D50,Feuil1!C:K,9,0) -> 24192 18 1195 0202
A51: 657 | B51: 25008 | C51: DR Setif | D51: 25008 16 1195 0274 | E51: 42679 | F51: MERABET MOHAMED | G51: SAA CNE | H51: 2667 | I51: 2016/110684 | J51: SAHLI FARES | K51: 0 | L51: 10200 | M51: 1 | N51: 05087 16 1195 0388 | O51: =VLOOKUP(D51,Feuil1!C:K,9,0) -> 25008 16 1195 0274
A52: 687 | B52: 18022 | C52: DR Setif | D52: 18022 18 1195 0104 | E52: 43222 | F52: MERAKEB | G52: SAA CNE | H52: 2668 | I52: 2018/110179 | J52: LECHEB | K52: 0 | L52: 5000 | M52: 1 | N52: 18022 18 1195 0104 | O52: =VLOOKUP(D52,Feuil1!C:K,9,0) -> 18022 18 1195 0104
A53: 690 | B53: 18022 | C53: DR Setif | D53: SND | E53: 43135 | F53: BOUHENNI | G53: SAA CNE | H53: 2668 | I53: 2018/110055 | J53: FENIZA | K53: 0 | L53: 13000 | M53: 1 | N53: 18022 18 1195 0440 | O53: =VLOOKUP(D53,Feuil1!C:K,9,0) -> #N/A
A54: 720 | B54: 25260 | C54: DR Setif | D54: 25260 17 1195 0004 | E54: 43017 | F54: BOULFIFA | G54: SAA CNE | H54: 2669 | I54: 17/603 | J54: BOUDERBALA | L54: 8150 | M54: 1 | N54: 16001 16 1195 1539 | O54: =VLOOKUP(D54,Feuil1!C:K,9,0) -> 25260 17 1195 0004
A55: 734 | B55: 25234 | C55: DR Setif | D55: 25234 18 1195 0004 | E55: 43113 | F55: BOUTELDJA | G55: SAA CNE | H55: 2670 | I55: 2018/110039 | J55: AOUIFI | K55: 0 | L55: 8150 | M55: 1 | N55: 16001 16 1195 1539 | O55: =VLOOKUP(D55,Feuil1!C:K,9,0) -> 25234 18 1195 0004
A56: 755 | B56: 36239 | C56: DR Annaba | D56: SND | E56: 42660 | F56: , ZARIBI MOHAMED | G56: SAA CNE | H56: 2671 | I56: 2016/110491 | J56: BOUROUAIAH NOUAR | K56: 0 | L56: 6100 | M56: 1 | N56: 25561 18 1195 0193 | O56: =VLOOKUP(D56,Feuil1!C:K,9,0) -> #N/A
A57: 766 | B57: 19651 | C57: DR Setif | D57: 19651 18 1195 0246 | E57: 43311 | F57: KOURTEL | G57: SAA CNE | H57: 2672 | I57: 2018/110121 | J57: MEGHARI | K57: 0 | L57: 77123.21 | M57: 1 | N57: #N/A | O57: =VLOOKUP(D57,Feuil1!C:K,9,0) -> #N/A
A58: 803 | B58: 25234 | C58: DR Setif | D58: SND | E58: 43081 | F58: SALMI | G58: SAA CNE | H58: 2675 | I58: 2017/110273 | J58: DENNI | K58: 0 | L58: 10200 | M58: 1 | N58: 05087 16 1195 0388 | O58: =VLOOKUP(D58,Feuil1!C:K,9,0) -> #N/A
A59: 861 | B59: 25008 | C59: DR Setif | D59: SND | E59: 43572 | F59: BOUAZIZ BOUDJEM | G59: SAA CNE | H59: 2681 | I59: 2019/110158 | J59: MERAHI BILLEL | K59: 0 | L59: 9150 | M59: 1 | N59: 19682 16 1195 0053 | O59: =VLOOKUP(D59,Feuil1!C:K,9,0) -> #N/A
A60: 862 | B60: 25008 | C60: DR Setif | D60: SND | E60: 43459 | F60: , TRIFI HANI | G60: SAA CNE | H60: 2681 | I60: 2018/110542 | J60: LEMBOUB HANIFA | K60: 0 | L60: 9150 | M60: 1 | N60: 19682 16 1195 0053 | O60: =VLOOKUP(D60,Feuil1!C:K,9,0) -> #N/A
A61: 866 | B61: 25043 | C61: DR Setif | D61: SND | E61: 43296 | F61: ZEGGAR | G61: SAA CNE | H61: 2681 | I61: 2018/110275 | J61: KENOUZ | K61: 13827.1 | L61: 8999.45 | M61: 1 | N61: #N/A | O61: =VLOOKUP(D61,Feuil1!C:K,9,0) -> #N/A
A62: 900 | B62: 16113 | C62: DRC Ouest | D62: SND | E62: 43459 | F62: , BELMILOUD ZAHRA | G62: SAA CNE | H62: 2684 | I62: 2018/110394 | J62: LAIB SALIM | K62: 0 | L62: 14050 | M62: 1 | N62: 16113 18 1195 0370 | O62: =VLOOKUP(D62,Feuil1!C:K,9,0) -> #N/A
A63: 907 | B63: 25272 | C63: DR Setif | D63: 25272 18 1195 0057 | E63: 43401 | F63: ALSALAM BANK | G63: SAA CNE | H63: 2684 | I63: 2018/110330 | J63: BENCHIKH | K63: 0 | L63: 11150 | M63: 1 | N63: 18022 18 1195 0443 | O63: =VLOOKUP(D63,Feuil1!C:K,9,0) -> 25272 18 1195 0057
A64: 923 | B64: 19637 | C64: DR Setif | D64: SND | E64: 43291 | F64: BENMEHEDI | G64: SAA CNE | H64: 2685 | I64: 18/489 | J64: EURL ANES TAXI | L64: 7150 | M64: 1 | N64: 19637 18 1195 0106 | O64: =VLOOKUP(D64,Feuil1!C:K,9,0) -> #N/A
A65: 928 | B65: 25008 | C65: DR Setif | D65: SND | E65: 43212 | F65: , CHEMAA TAREK | G65: SAA CNE | H65: 2685 | I65: 2018/110306 | J65: BOUTROUF ALI | K65: 0 | L65: 12150 | M65: 1 | N65: 25008 18 1195 0246 | O65: =VLOOKUP(D65,Feuil1!C:K,9,0) -> #N/A
A66: 961 | B66: 43550 | C66: DR Setif | D66: 43550 18 1195 0119 | E66: 43235 | F66: BOUSSOUF | G66: SAA CNE | H66: 2687 | I66: 2618/110148 | J66: BOUSSAHA | K66: 0 | L66: 4000 | M66: 1 | N66: 18022 16 1195 0475 | O66: =VLOOKUP(D66,Feuil1!C:K,9,0) -> 43550 18 1195 0119
A67: 972 | B67: 24129 | C67: DR Annaba | D67: 24129 17 1195 0057 | E67: 42939 | F67: ATAILIA | G67: SAA CNE | H67: 3002 | I67: 17/426 | J67: REKHROUKH | L67: 24500 | M67: 1 | N67: 19010 17 1195 0278 | O67: =VLOOKUP(D67,Feuil1!C:K,9,0) -> #N/A
A68: 974 | B68: 24221 | C68: DR Annaba | D68: SND | E68: 42998 | F68: , AYAD HADDA | G68: SAA CNE | H68: 3002 | I68: 2017/110573 | J68: ROGAI MOSTEFA | K68: 0 | L68: 8650 | M68: 1 | N68: 23652 18 1195 0184 | O68: =VLOOKUP(D68,Feuil1!C:K,9,0) -> #N/A
A69: 996 | B69: 12053 | C69: DR Annaba | D69: SND | E69: 42954 | F69: ,SALMI DJEMAI | G69: SAA CNE | H69: 3011 | I69: 2017/110538 | J69: LABBANI ABDELKRIM | K69: 0 | L69: 5500 | M69: 1 | N69: 19215 16 1195 0186 | O69: =VLOOKUP(D69,Feuil1!C:K,9,0) -> #N/A
A70: 1004 | B70: 25043 | C70: DR Setif | D70: SND | E70: 42960 | F70: MIDOU TAXI RADIO | G70: SAA CNE | H70: 3011 | I70: 17/563 | J70: BOULALA | L70: 10200 | M70: 1 | N70: 05087 16 1195 0388 | O70: =VLOOKUP(D70,Feuil1!C:K,9,0) -> #N/A
A71: 1008 | B71: 05087 | C71: DR Setif | D71: SND | E71: 42589 | F71: , ABED SALAH | G71: SAA CNE | H71: 21001 | I71: 2016/110168 | J71: MOUSSANEF SAID | K71: 0 | L71: 10200 | M71: 1 | N71: 05087 16 1195 0388 | O71: =VLOOKUP(D71,Feuil1!C:K,9,0) -> #N/A
