Workbook
Name Priorité: PA!$AD$5:$AD$11

Sheet Priorité
G1: SYSTEME DE MANAGEMENT DE L’EHS
A2: Site : | G2: Projet de mise en conformité Machines du site
A3: Manuel EHS Ed
G4: Mise à jour du : 21/01/2019 | N4: Par : Jérôme LACASSAGNE
D6: Examen de vérification de conformité non opportun selon Bureau de contrôle
D7: En veille ou à l'arrêt, en vue d'une cession ou destruction
D8: Cédée ou détruite et évacuée
A10: N° de lignes Invt. | B10: DONNEES MACHINES | N10: ESTMATIONS | T10: Commentaires | AB10: Années | AG10: Coûts
B11: LOCALISATIONS | E11: N° | F11: MSI | G11: NOMS | H11: MARQUES | I11: FONCTIONS | J11: FIXE OU PORTATIF | K11: Vérifications de conformité machines réalisées | L11: Référentiel Règlementaire applicable | M11: PRIORITE | N11: Planification de réalisation | O11: Coûts mises en conformité | P11: Coûts Recep. Par tiers expert | Q11: Temps passé en heures
Q12: Ressources Internes | R12: Ressoureces Externes | AB12: 2018 | AC12: 2019 | AD12: 2020 | AE12: 2021 | AF12: 2022 | AG12: 2018 | AH12: 2018 | AI12: 2020 | AJ12: 2021 | AK12: 2022
A13: ='Invt Machines'!A13 -> 1 | B13: =IF('Invt Machines'!B13="","",'Invt Machines'!B13) -> Channel | C13: 11 | D13: =IF('Invt Machines'!D13="","",'Invt Machines'!D13) -> 16 | E13: =IF('Invt Machines'!E13="","",'Invt Machines'!E13) -> PE500 | F13: =IF('Invt Machines'!F13="","",'Invt Machines'!F13) -> 3187547 | G13: =IF('Invt Machines'!G13="","",'Invt Machines'!G13) -> ARMAY BOREY | H13: =IF('Invt Machines'!H13="","",'Invt Machines'!H13) -> ARMAY BOREY | I13: =IF('Invt Machines'!I13="","",'Invt Machines'!I13) -> Perceuse | J13: =IF('Invt Machines'!J13="","",'Invt Machines'!J13) -> Fixe | K13: =IF('Invt Machines'!X13="","NON","OUI") -> NON | M13: 2 | N13: 2020 | O13: 1500 | Q13: 8 | R13: 24 | T13: =IF('Invt Machines'!AF13="","",'Invt Machines'!AF13) | Z13: 1 | AB13: =IF(N13=2018,1,"") | AC13: =IF(N13=2019,1,"") | AD13: =IF(N13=2020,1,"") -> 1 | AE13: =IF(N13=2021,1,"") | AF13: =IF(N13=2022,1,"") | AG13: =IF(N13=2018,O13,"") | AH13: =IF(N13=2019,O13,"") | AI13: =IF(N13=2020,O13,"") -> 1500 | AJ13: =IF(N13=2021,O13,"") | AK13: =IF(N13=2022,O13,"")
A14: ='Invt Machines'!A14 -> 2 | B14: =IF('Invt Machines'!B14="","",'Invt Machines'!B14) -> Channel | C14: 11 | D14: =IF('Invt Machines'!D14="","",'Invt Machines'!D14) -> 16 | E14: =IF('Invt Machines'!E14="","",'Invt Machines'!E14) -> 742 | F14: =IF('Invt Machines'!F14="","",'Invt Machines'!F14) | G14: =IF('Invt Machines'!G14="","",'Invt Machines'!G14) -> MONTAGE C11 N° 118 | H14: =IF('Invt Machines'!H14="","",'Invt Machines'!H14) -> RKS | I14: =IF('Invt Machines'!I14="","",'Invt Machines'!I14) -> Table de montage | J14: =IF('Invt Machines'!J14="","",'Invt Machines'!J14) -> Fixe | K14: =IF('Invt Machines'!X14="","NON","OUI") -> NON | M14: 2 | N14: 2020 | O14: 6000 | Q14: 8 | R14: 4 | T14: =IF('Invt Machines'!AF14="","",'Invt Machines'!AF14) | Z14: 2 | AB14: =IF(N14=2018,1,"") | AC14: =IF(N14=2019,1,"") | AD14: =IF(N14=2020,1,"") -> 1 | AE14: =IF(N14=2021,1,"") | AF14: =IF(N14=2022,1,"") | AG14: =IF(N14=2018,O14,"") | AH14: =IF(N14=2019,O14,"") | AI14: =IF(N14=2020,O14,"") -> 6000 | AJ14: =IF(N14=2021,O14,"") | AK14: =IF(N14=2022,O14,"")
A15: ='Invt Machines'!A15 -> 3 | B15: =IF('Invt Machines'!B15="","",'Invt Machines'!B15) -> Channel | C15: 11 | D15: =IF('Invt Machines'!D15="","",'Invt Machines'!D15) -> 16 | E15: =IF('Invt Machines'!E15="","",'Invt Machines'!E15) -> 742 | F15: =IF('Invt Machines'!F15="","",'Invt Machines'!F15) | G15: =IF('Invt Machines'!G15="","",'Invt Machines'!G15) -> MONTAGE C11 N° 126 | H15: =IF('Invt Machines'!H15="","",'Invt Machines'!H15) -> RKS | I15: =IF('Invt Machines'!I15="","",'Invt Machines'!I15) -> Table de montage | J15: =IF('Invt Machines'!J15="","",'Invt Machines'!J15) -> Fixe | K15: =IF('Invt Machines'!X15="","NON","OUI") -> OUI | L15: Code du travail | M15: 2 | N15: 2020 | O15: 5000 | Q15: 8 | R15: 4 | T15: =IF('Invt Machines'!AF15="","",'Invt Machines'!AF15) -> Chiffrage en cours. Communiquer le schéma électrique au prochain tiers expert afin qu'il valide les fonctions de sécurité. | Z15: 3 | AB15: =IF(N15=2018,1,"") | AC15: =IF(N15=2019,1,"") | AD15: =IF(N15=2020,1,"") -> 1 | AE15: =IF(N15=2021,1,"") | AF15: =IF(N15=2022,1,"") | AG15: =IF(N15=2018,O15,"") | AH15: =IF(N15=2019,O15,"") | AI15: =IF(N15=2020,O15,"") -> 5000 | AJ15: =IF(N15=2021,O15,"") | AK15: =IF(N15=2022,O15,"")
A16: ='Invt Machines'!A16 -> 4 | B16: =IF('Invt Machines'!B16="","",'Invt Machines'!B16) -> Channel | C16: 11 | D16: =IF('Invt Machines'!D16="","",'Invt Machines'!D16) -> 16 | E16: =IF('Invt Machines'!E16="","",'Invt Machines'!E16) -> 252 | F16: =IF('Invt Machines'!F16="","",'Invt Machines'!F16) -> 3187603 | G16: =IF('Invt Machines'!G16="","",'Invt Machines'!G16) -> TFF100 | H16: =IF('Invt Machines'!H16="","",'Invt Machines'!H16) -> BERTHIEZ | I16: =IF('Invt Machines'!I16="","",'Invt Machines'!I16) -> Tour | J16: =IF('Invt Machines'!J16="","",'Invt Machines'!J16) -> Fixe | K16: =IF('Invt Machines'!X16="","NON","OUI") -> NON | M16: NC | O16: NC | P16: NC | T16: =IF('Invt Machines'!AF16="","",'Invt Machines'!AF16) -> non concernée du fait du projet de la sortir du parc | AB16: =IF(N16=2018,1,"") | AC16: =IF(N16=2019,1,"") | AD16: =IF(N16=2020,1,"") | AE16: =IF(N16=2021,1,"") | AF16: =IF(N16=2022,1,"") | AG16: =IF(N16=2018,O16,"") | AH16: =IF(N16=2019,O16,"") | AI16: =IF(N16=2020,O16,"") | AJ16: =IF(N16=2021,O16,"") | AK16: =IF(N16=2022,O16,"")
A17: ='Invt Machines'!A17 -> 5 | B17: =IF('Invt Machines'!B17="","",'Invt Machines'!B17) -> Channel | C17: 11 | D17: =IF('Invt Machines'!D17="","",'Invt Machines'!D17) -> 16 | E17: =IF('Invt Machines'!E17="","",'Invt Machines'!E17) -> 3322 | F17: =IF('Invt Machines'!F17="","",'Invt Machines'!F17) -> 3187667 | G17: =IF('Invt Machines'!G17="","",'Invt Machines'!G17) -> UNIPORT | H17: =IF('Invt Machines'!H17="","",'Invt Machines'!H17) -> UNISIGN | I17: =IF('Invt Machines'!I17="","",'Invt Machines'!I17) -> Perceuse | J17: =IF('Invt Machines'!J17="","",'Invt Machines'!J17) -> Fixe | K17: =IF('Invt Machines'!X17="","NON","OUI") -> NON | M17: NC | O17: NC | P17: NC | T17: =IF('Invt Machines'!AF17="","",'Invt Machines'!AF17) -> non concernée du fait du projet de la sortir du parc | AB17: =IF(N17=2018,1,"") | AC17: =IF(N17=2019,1,"") | AD17: =IF(N17=2020,1,"") | AE17: =IF(N17=2021,1,"") | AF17: =IF(N17=2022,1,"") | AG17: =IF(N17=2018,O17,"") | AH17: =IF(N17=2019,O17,"") | AI17: =IF(N17=2020,O17,"") | AJ17: =IF(N17=2021,O17,"") | AK17: =IF(N17=2022,O17,"")
A18: ='Invt Machines'!A18 -> 6 | B18: =IF('Invt Machines'!B18="","",'Invt Machines'!B18) -> Channel | C18: 11 | D18: =IF('Invt Machines'!D18="","",'Invt Machines'!D18) -> 16 | E18: =IF('Invt Machines'!E18="","",'Invt Machines'!E18) -> 353 | F18: =IF('Invt Machines'!F18="","",'Invt Machines'!F18) | G18: =IF('Invt Machines'!G18="","",'Invt Machines'!G18) -> FOUR SAT | H18: =IF('Invt Machines'!H18="","",'Invt Machines'!H18) -> SAT | I18: =IF('Invt Machines'!I18="","",'Invt Machines'!I18) -> Four | J18: =IF('Invt Machines'!J18="","",'Invt Machines'!J18) -> Fixe | K18: =IF('Invt Machines'!X18="","NON","OUI") -> OUI | L18: Code du travail | M18: 3 | N18: 2021 | O18: 4000 | Q18: 4 | R18: 16 | T18: =IF('Invt Machines'!AF18="","",'Invt Machines'!AF18) | AB18: =IF(N18=2018,1,"") | AC18: =IF(N18=2019,1,"") | AD18: =IF(N18=2020,1,"") | AE18: =IF(N18=2021,1,"") -> 1 | AF18: =IF(N18=2022,1,"") | AG18: =IF(N18=2018,O18,"") | AH18: =IF(N18=2019,O18,"") | AI18: =IF(N18=2020,O18,"") | AJ18: =IF(N18=2021,O18,"") -> 4000 | AK18: =IF(N18=2022,O18,"")
A19: ='Invt Machines'!A19 -> 7 | B19: =IF('Invt Machines'!B19="","",'Invt Machines'!B19) -> Channel | C19: 11 | D19: =IF('Invt Machines'!D19="","",'Invt Machines'!D19) -> 16 | E19: =IF('Invt Machines'!E19="","",'Invt Machines'!E19) -> 401 | F19: =IF('Invt Machines'!F19="","",'Invt Machines'!F19) -> 3186779 | G19: =IF('Invt Machines'!G19="","",'Invt Machines'!G19) -> L1500 | H19: =IF('Invt Machines'!H19="","",'Invt Machines'!H19) -> LIEBHERR | I19: =IF('Invt Machines'!I19="","",'Invt Machines'!I19) -> Tailleuse | J19: =IF('Invt Machines'!J19="","",'Invt Machines'!J19) -> Fixe | K19: =IF('Invt Machines'!X19="","NON","OUI") -> NON | M19: NC | O19: NC | P19: NC | T19: =IF('Invt Machines'!AF19="","",'Invt Machines'!AF19) -> Sortie du parc. Bon de ferraillage au 25/07/2018 (sortie immob le 14/03/2018) | AB19: =IF(N19=2018,1,"") | AC19: =IF(N19=2019,1,"") | AD19: =IF(N19=2020,1,"") | AE19: =IF(N19=2021,1,"") | AF19: =IF(N19=2022,1,"") | AG19: =IF(N19=2018,O19,"") | AH19: =IF(N19=2019,O19,"") | AI19: =IF(N19=2020,O19,"") | AJ19: =IF(N19=2021,O19,"") | AK19: =IF(N19=2022,O19,"")
A20: ='Invt Machines'!A20 -> 8 | B20: =IF('Invt Machines'!B20="","",'Invt Machines'!B20) -> Channel | C20: 11 | D20: =IF('Invt Machines'!D20="","",'Invt Machines'!D20) -> 16 | E20: =IF('Invt Machines'!E20="","",'Invt Machines'!E20) -> 712 | F20: =IF('Invt Machines'!F20="","",'Invt Machines'!F20) | G20: =IF('Invt Machines'!G20="","",'Invt Machines'!G20) -> MONTAGE C13 N° 135 | H20: =IF('Invt Machines'!H20="","",'Invt Machines'!H20) -> SKF | I20: =IF('Invt Machines'!I20="","",'Invt Machines'!I20) -> Table de montage | J20: =IF('Invt Machines'!J20="","",'Invt Machines'!J20) -> Fixe | K20: =IF('Invt Machines'!X20="","NON","OUI") -> OUI | L20: Code du travail | M20: NC | O20: NC | P20: NC | T20: =IF('Invt Machines'!AF20="","",'Invt Machines'!AF20) -> Sortie du parc. Bon de ferraillage au 19/12/2018 | AB20: =IF(N20=2018,1,"") | AC20: =IF(N20=2019,1,"") | AD20: =IF(N20=2020,1,"") | AE20: =IF(N20=2021,1,"") | AF20: =IF(N20=2022,1,"") | AG20: =IF(N20=2018,O20,"") | AH20: =IF(N20=2019,O20,"") | AI20: =IF(N20=2020,O20,"") | AJ20: =IF(N20=2021,O20,"") | AK20: =IF(N20=2022,O20,"")
A21: ='Invt Machines'!A21 -> 9 | B21: =IF('Invt Machines'!B21="","",'Invt Machines'!B21) -> Channel | C21: 11 | D21: =IF('Invt Machines'!D21="","",'Invt Machines'!D21) -> 16 | E21: =IF('Invt Machines'!E21="","",'Invt Machines'!E21) -> 311 | F21: =IF('Invt Machines'!F21="","",'Invt Machines'!F21) -> 3188515 | G21: =IF('Invt Machines'!G21="","",'Invt Machines'!G21) -> EMA piste | H21: =IF('Invt Machines'!H21="","",'Invt Machines'!H21) -> EMA | I21: =IF('Invt Machines'!I21="","",'Invt Machines'!I21) -> Trempe piste | J21: =IF('Invt Machines'!J21="","",'Invt Machines'!J21) -> Fixe | K21: =IF('Invt Machines'!X21="","NON","OUI") -> NON | M21: NC | O21: NC | P21: NC | T21: =IF('Invt Machines'!AF21="","",'Invt Machines'!AF21) -> Sortie du parc. Bon de ferraillage au 25/07/2018 (sortie immob le 12/09/2018) | AB21: =IF(N21=2018,1,"") | AC21: =IF(N21=2019,1,"") | AD21: =IF(N21=2020,1,"") | AE21: =IF(N21=2021,1,"") | AF21: =IF(N21=2022,1,"") | AG21: =IF(N21=2018,O21,"") | AH21: =IF(N21=2019,O21,"") | AI21: =IF(N21=2020,O21,"") | AJ21: =IF(N21=2021,O21,"") | AK21: =IF(N21=2022,O21,"")
A22: ='Invt Machines'!A22 -> 10 | B22: =IF('Invt Machines'!B22="","",'Invt Machines'!B22) -> Channel | C22: 11 | D22: =IF('Invt Machines'!D22="","",'Invt Machines'!D22) -> 16 | E22: =IF('Invt Machines'!E22="","",'Invt Machines'!E22) -> 313 | F22: =IF('Invt Machines'!F22="","",'Invt Machines'!F22) -> 3188323 | G22: =IF('Invt Machines'!G22="","",'Invt Machines'!G22) -> EMA Denture | H22: =IF('Invt Machines'!H22="","",'Invt Machines'!H22) -> EMA | I22: =IF('Invt Machines'!I22="","",'Invt Machines'!I22) -> Trempe denture | J22: =IF('Invt Machines'!J22="","",'Invt Machines'!J22) -> Fixe | K22: =IF('Invt Machines'!X22="","NON","OUI") -> OUI | L22: DIRECTIVE 98/37/CE ANNEXE I | M22: 2 | N22: 2020 | O22: 8000 | Q22: 4 | R22: 16 | T22: =IF('Invt Machines'!AF22="","",'Invt Machines'!AF22) | AB22: =IF(N22=2018,1,"") | AC22: =IF(N22=2019,1,"") | AD22: =IF(N22=2020,1,"") -> 1 | AE22: =IF(N22=2021,1,"") | AF22: =IF(N22=2022,1,"") | AG22: =IF(N22=2018,O22,"") | AH22: =IF(N22=2019,O22,"") | AI22: =IF(N22=2020,O22,"") -> 8000 | AJ22: =IF(N22=2021,O22,"") | AK22: =IF(N22=2022,O22,"")
A23: ='Invt Machines'!A23 -> 11 | B23: =IF('Invt Machines'!B23="","",'Invt Machines'!B23) -> Channel | C23: 11 | D23: =IF('Invt Machines'!D23="","",'Invt Machines'!D23) -> 16 | E23: =IF('Invt Machines'!E23="","",'Invt Machines'!E23) -> 316 | F23: =IF('Invt Machines'!F23="","",'Invt Machines'!F23) -> 3188075 | G23: =IF('Invt Machines'!G23="","",'Invt Machines'!G23) -> EMA Denture | H23: =IF('Invt Machines'!H23="","",'Invt Machines'!H23) -> EMA | I23: =IF('Invt Machines'!I23="","",'Invt Machines'!I23) -> Trempe denture | J23: =IF('Invt Machines'!J23="","",'Invt Machines'!J23) -> Fixe | K23: =IF('Invt Machines'!X23="","NON","OUI") -> NON | M23: 2 | N23: 2020 | O23: 8000 | Q23: 4 | R23: 16 | T23: =IF('Invt Machines'!AF23="","",'Invt Machines'!AF23) | AB23: =IF(N23=2018,1,"") | AC23: =IF(N23=2019,1,"") | AD23: =IF(N23=2020,1,"") -> 1 | AE23: =IF(N23=2021,1,"") | AF23: =IF(N23=2022,1,"") | AG23: =IF(N23=2018,O23,"") | AH23: =IF(N23=2019,O23,"") | AI23: =IF(N23=2020,O23,"") -> 8000 | AJ23: =IF(N23=2021,O23,"") | AK23: =IF(N23=2022,O23,"")
A24: ='Invt Machines'!A24 -> 12 | B24: =IF('Invt Machines'!B24="","",'Invt Machines'!B24) -> Channel | C24: 11 | D24: =IF('Invt Machines'!D24="","",'Invt Machines'!D24) -> 16 | E24: =IF('Invt Machines'!E24="","",'Invt Machines'!E24) -> 412 | F24: =IF('Invt Machines'!F24="","",'Invt Machines'!F24) -> 3187827 | G24: =IF('Invt Machines'!G24="","",'Invt Machines'!G24) -> L2000 | H24: =IF('Invt Machines'!H24="","",'Invt Machines'!H24) -> LIEBHERR | I24: =IF('Invt Machines'!I24="","",'Invt Machines'!I24) -> Tailleuse | J24: =IF('Invt Machines'!J24="","",'Invt Machines'!J24) -> Fixe | K24: =IF('Invt Machines'!X24="","NON","OUI") -> NON | M24: 2 | N24: 2020 | O24: 15000 | Q24: 16 | R24: 24 | T24: =IF('Invt Machines'!AF24="","",'Invt Machines'!AF24) | AB24: =IF(N24=2018,1,"") | AC24: =IF(N24=2019,1,"") | AD24: =IF(N24=2020,1,"") -> 1 | AE24: =IF(N24=2021,1,"") | AF24: =IF(N24=2022,1,"") | AG24: =IF(N24=2018,O24,"") | AH24: =IF(N24=2019,O24,"") | AI24: =IF(N24=2020,O24,"") -> 15000 | AJ24: =IF(N24=2021,O24,"") | AK24: =IF(N24=2022,O24,"")
A25: ='Invt Machines'!A25 -> 13 | B25: =IF('Invt Machines'!B25="","",'Invt Machines'!B25) -> Channel | C25: 11 | D25: =IF('Invt Machines'!D25="","",'Invt Machines'!D25) -> 16 | E25: =IF('Invt Machines'!E25="","",'Invt Machines'!E25) -> 413 | F25: =IF('Invt Machines'!F25="","",'Invt Machines'!F25) -> 3187259 | G25: =IF('Invt Machines'!G25="","",'Invt Machines'!G25) -> LS2000 | H25: =IF('Invt Machines'!H25="","",'Invt Machines'!H25) -> LIEBHERR | I25: =IF('Invt Machines'!I25="","",'Invt Machines'!I25) -> Tailleuse | J25: =IF('Invt Machines'!J25="","",'Invt Machines'!J25) -> Fixe | K25: =IF('Invt Machines'!X25="","NON","OUI") -> OUI | L25: Code du travail | M25: 1 | N25: 2019 | O25: 15000 | Q25: 16 | R25: 24 | T25: =IF('Invt Machines'!AF25="","",'Invt Machines'!AF25) | AB25: =IF(N25=2018,1,"") | AC25: =IF(N25=2019,1,"") -> 1 | AD25: =IF(N25=2020,1,"") | AE25: =IF(N25=2021,1,"") | AF25: =IF(N25=2022,1,"") | AG25: =IF(N25=2018,O25,"") | AH25: =IF(N25=2019,O25,"") -> 15000 | AI25: =IF(N25=2020,O25,"") | AJ25: =IF(N25=2021,O25,"") | AK25: =IF(N25=2022,O25,"")
A26: ='Invt Machines'!A26 -> 14 | B26: =IF('Invt Machines'!B26="","",'Invt Machines'!B26) -> Channel | C26: 11 | D26: =IF('Invt Machines'!D26="","",'Invt Machines'!D26) -> 16 | E26: =IF('Invt Machines'!E26="","",'Invt Machines'!E26) -> 3270 | F26: =IF('Invt Machines'!F26="","",'Invt Machines'!F26) -> 3187755 | G26: =IF('Invt Machines'!G26="","",'Invt Machines'!G26) -> SCHIESS CN | H26: =IF('Invt Machines'!H26="","",'Invt Machines'!H26) -> SCHIESS | I26: =IF('Invt Machines'!I26="","",'Invt Machines'!I26) -> Tailleuse | J26: =IF('Invt Machines'!J26="","",'Invt Machines'!J26) -> Fixe | K26: =IF('Invt Machines'!X26="","NON","OUI") -> NON | M26: 1 | N26: 2019 | O26: 20000 | Q26: 16 | R26: 24 | T26: =IF('Invt Machines'!AF26="","",'Invt Machines'!AF26) | AB26: =IF(N26=2018,1,"") | AC26: =IF(N26=2019,1,"") -> 1 | AD26: =IF(N26=2020,1,"") | AE26: =IF(N26=2021,1,"") | AF26: =IF(N26=2022,1,"") | AG26: =IF(N26=2018,O26,"") | AH26: =IF(N26=2019,O26,"") -> 20000 | AI26: =IF(N26=2020,O26,"") | AJ26: =IF(N26=2021,O26,"") | AK26: =IF(N26=2022,O26,"")
A27: ='Invt Machines'!A27 -> 15 | B27: =IF('Invt Machines'!B27="","",'Invt Machines'!B27) -> Channel | C27: 11 | D27: =IF('Invt Machines'!D27="","",'Invt Machines'!D27) -> 16 | E27: =IF('Invt Machines'!E27="","",'Invt Machines'!E27) -> 3069 | F27: =IF('Invt Machines'!F27="","",'Invt Machines'!F27) -> 3188595 | G27: =IF('Invt Machines'!G27="","",'Invt Machines'!G27) -> AC15 | H27: =IF('Invt Machines'!H27="","",'Invt Machines'!H27) -> PIETRO CARNAGHI | I27: =IF('Invt Machines'!I27="","",'Invt Machines'!I27) -> Tour vertical / perceuse | J27: =IF('Invt Machines'!J27="","",'Invt Machines'!J27) -> Fixe | K27: =IF('Invt Machines'!X27="","NON","OUI") -> NON | M27: 2 | N27: 2020 | O27: 6000 | Q27: 12 | R27: 24 | T27: =IF('Invt Machines'!AF27="","",'Invt Machines'!AF27) | AB27: =IF(N27=2018,1,"") | AC27: =IF(N27=2019,1,"") | AD27: =IF(N27=2020,1,"") -> 1 | AE27: =IF(N27=2021,1,"") | AF27: =IF(N27=2022,1,"") | AG27: =IF(N27=2018,O27,"") | AH27: =IF(N27=2019,O27,"") | AI27: =IF(N27=2020,O27,"") -> 6000 | AJ27: =IF(N27=2021,O27,"") | AK27: =IF(N27=2022,O27,"")
A28: ='Invt Machines'!A28 -> 16 | B28: =IF('Invt Machines'!B28="","",'Invt Machines'!B28) -> Channel | C28: 11 | D28: =IF('Invt Machines'!D28="","",'Invt Machines'!D28) -> 16 | E28: =IF('Invt Machines'!E28="","",'Invt Machines'!E28) -> 73 | F28: =IF('Invt Machines'!F28="","",'Invt Machines'!F28) -> 3188147 | G28: =IF('Invt Machines'!G28="","",'Invt Machines'!G28) -> AC20 | H28: =IF('Invt Machines'!H28="","",'Invt Machines'!H28) -> PIETRO CARNAGHI | I28: =IF('Invt Machines'!I28="","",'Invt Machines'!I28) -> Tour vertical / perceuse | J28: =IF('Invt Machines'!J28="","",'Invt Machines'!J28) -> Fixe | K28: =IF('Invt Machines'!X28="","NON","OUI") -> OUI | L28: Code du travail | M28: 2 | N28: 2020 | O28: ? | T28: =IF('Invt Machines'!AF28="","",'Invt Machines'!AF28) -> Un rétrofit a été réalisé en juillet 2017 et intègre la levée des réserves et une réception par un bureau de contrôle | AB28: =IF(N28=2018,1,"") | AC28: =IF(N28=2019,1,"") | AD28: =IF(N28=2020,1,"") -> 1 | AE28: =IF(N28=2021,1,"") | AF28: =IF(N28=2022,1,"") | AG28: =IF(N28=2018,O28,"") | AH28: =IF(N28=2019,O28,"") | AI28: =IF(N28=2020,O28,"") -> ? | AJ28: =IF(N28=2021,O28,"") | AK28: =IF(N28=2022,O28,"")
A29: ='Invt Machines'!A29 -> 17 | B29: =IF('Invt Machines'!B29="","",'Invt Machines'!B29) -> Channel | C29: 11 | D29: =IF('Invt Machines'!D29="","",'Invt Machines'!D29) -> 16 | E29: =IF('Invt Machines'!E29="","",'Invt Machines'!E29) -> 3116 | F29: =IF('Invt Machines'!F29="","",'Invt Machines'!F29) -> 3188603 | G29: =IF('Invt Machines'!G29="","",'Invt Machines'!G29) -> AC20 | H29: =IF('Invt Machines'!H29="","",'Invt Machines'!H29) -> PIETRO CARNAGHI | I29: =IF('Invt Machines'!I29="","",'Invt Machines'!I29) -> Tour vertical / perceuse | J29: =IF('Invt Machines'!J29="","",'Invt Machines'!J29) -> Fixe | K29: =IF('Invt Machines'!X29="","NON","OUI") -> OUI | L29: Code du travail | M29: 2 | N29: 2020 | O29: 6000 | Q29: 3 | R29: 24 | T29: =IF('Invt Machines'!AF29="","",'Invt Machines'!AF29) -> Chiffrage en cours. Communiquer le schéma électrique au prochain tiers expert afin qu'il valide les fonctions de sécurité. | AB29: =IF(N29=2018,1,"") | AC29: =IF(N29=2019,1,"") | AD29: =IF(N29=2020,1,"") -> 1 | AE29: =IF(N29=2021,1,"") | AF29: =IF(N29=2022,1,"") | AG29: =IF(N29=2018,O29,"") | AH29: =IF(N29=2019,O29,"") | AI29: =IF(N29=2020,O29,"") -> 6000 | AJ29: =IF(N29=2021,O29,"") | AK29: =IF(N29=2022,O29,"")
A30: ='Invt Machines'!A30 -> 18 | B30: =IF('Invt Machines'!B30="","",'Invt Machines'!B30) -> Channel | C30: 11 | D30: =IF('Invt Machines'!D30="","",'Invt Machines'!D30) -> 16 | E30: =IF('Invt Machines'!E30="","",'Invt Machines'!E30) -> 3265 | F30: =IF('Invt Machines'!F30="","",'Invt Machines'!F30) -> 3187643 | G30: =IF('Invt Machines'!G30="","",'Invt Machines'!G30) -> AC20 | H30: =IF('Invt Machines'!H30="","",'Invt Machines'!H30) -> PIETRO CARNAGHI | I30: =IF('Invt Machines'!I30="","",'Invt Machines'!I30) -> Tour vertical / perceuse | J30: =IF('Invt Machines'!J30="","",'Invt Machines'!J30) -> Fixe | K30: =IF('Invt Machines'!X30="","NON","OUI") -> NON | M30: 2 | N30: 2020 | O30: ? | T30: =IF('Invt Machines'!AF30="","",'Invt Machines'!AF30) -> Un rétrofit est prévu en juillet 2018 et intègrera la levée des réserves et une réception par un bureau de contrôle | AB30: =IF(N30=2018,1,"") | AC30: =IF(N30=2019,1,"") | AD30: =IF(N30=2020,1,"") -> 1 | AE30: =IF(N30=2021,1,"") | AF30: =IF(N30=2022,1,"") | AG30: =IF(N30=2018,O30,"") | AH30: =IF(N30=2019,O30,"") | AI30: =IF(N30=2020,O30,"") -> ? | AJ30: =IF(N30=2021,O30,"") | AK30: =IF(N30=2022,O30,"")
A31: ='Invt Machines'!A31 -> 19 | B31: =IF('Invt Machines'!B31="","",'Invt Machines'!B31) -> Channel | C31: 11 | D31: =IF('Invt Machines'!D31="","",'Invt Machines'!D31) -> 16 | E31: =IF('Invt Machines'!E31="","",'Invt Machines'!E31) -> 702 | F31: =IF('Invt Machines'!F31="","",'Invt Machines'!F31) | G31: =IF('Invt Machines'!G31="","",'Invt Machines'!G31) -> MACHINE A LAVER | H31: =IF('Invt Machines'!H31="","",'Invt Machines'!H31) -> SEMAME | I31: =IF('Invt Machines'!I31="","",'Invt Machines'!I31) -> Machine à laver | J31: =IF('Invt Machines'!J31="","",'Invt Machines'!J31) -> Fixe | K31: =IF('Invt Machines'!X31="","NON","OUI") -> NON | M31: NC | O31: NC | P31: NC | T31: =IF('Invt Machines'!AF31="","",'Invt Machines'!AF31) -> Sortie du parc. Bon de ferraillage au 01/09/2018 (sortie immob le 12/09/2018) | AB31: =IF(N31=2018,1,"") | AC31: =IF(N31=2019,1,"") | AD31: =IF(N31=2020,1,"") | AE31: =IF(N31=2021,1,"") | AF31: =IF(N31=2022,1,"") | AG31: =IF(N31=2018,O31,"") | AH31: =IF(N31=2019,O31,"") | AI31: =IF(N31=2020,O31,"") | AJ31: =IF(N31=2021,O31,"") | AK31: =IF(N31=2022,O31,"")
A32: ='Invt Machines'!A32 -> 20 | B32: =IF('Invt Machines'!B32="","",'Invt Machines'!B32) -> Channel | C32: 11 | D32: =IF('Invt Machines'!D32="","",'Invt Machines'!D32) -> 16 | E32: =IF('Invt Machines'!E32="","",'Invt Machines'!E32) -> 712 | F32: =IF('Invt Machines'!F32="","",'Invt Machines'!F32) -> 3195827 | G32: =IF('Invt Machines'!G32="","",'Invt Machines'!G32) -> MONTAGE C13 N° 134 | H32: =IF('Invt Machines'!H32="","",'Invt Machines'!H32) -> AS2i | I32: =IF('Invt Machines'!I32="","",'Invt Machines'!I32) -> Table de montage | J32: =IF('Invt Machines'!J32="","",'Invt Machines'!J32) -> Fixe | K32: =IF('Invt Machines'!X32="","NON","OUI") -> NON | M32: 2 | N32: 2020 | O32: 6000 | Q32: 8 | R32: 16 | T32: =IF('Invt Machines'!AF32="","",'Invt Machines'!AF32) | AB32: =IF(N32=2018,1,"") | AC32: =IF(N32=2019,1,"") | AD32: =IF(N32=2020,1,"") -> 1 | AE32: =IF(N32=2021,1,"") | AF32: =IF(N32=2022,1,"") | AG32: =IF(N32=2018,O32,"") | AH32: =IF(N32=2019,O32,"") | AI32: =IF(N32=2020,O32,"") -> 6000 | AJ32: =IF(N32=2021,O32,"") | AK32: =IF(N32=2022,O32,"")
A33: ='Invt Machines'!A33 -> 21 | B33: =IF('Invt Machines'!B33="","",'Invt Machines'!B33) -> Channel | C33: 11 | D33: =IF('Invt Machines'!D33="","",'Invt Machines'!D33) -> 16 | E33: =IF('Invt Machines'!E33="","",'Invt Machines'!E33) -> 0014.1 | F33: =IF('Invt Machines'!F33="","",'Invt Machines'!F33) | G33: =IF('Invt Machines'!G33="","",'Invt Machines'!G33) -> POSTE EBAVURAGE | H33: =IF('Invt Machines'!H33="","",'Invt Machines'!H33) -> ? | I33: =IF('Invt Machines'!I33="","",'Invt Machines'!I33) -> Ebavurage | J33: =IF('Invt Machines'!J33="","",'Invt Machines'!J33) -> Appareil portatif | K33: =IF('Invt Machines'!X33="","NON","OUI") -> NON | M33: NC | O33: NC | P33: NC | Q33: NC | R33: NC | T33: =IF('Invt Machines'!AF33="","",'Invt Machines'!AF33) -> Pas opportun selon bureau de contrôle, outil portatif / mobile avec CE en série | AB33: =IF(N33=2018,1,"") | AC33: =IF(N33=2019,1,"") | AD33: =IF(N33=2020,1,"") | AE33: =IF(N33=2021,1,"") | AF33: =IF(N33=2022,1,"") | AG33: =IF(N33=2018,O33,"") | AH33: =IF(N33=2019,O33,"") | AI33: =IF(N33=2020,O33,"") | AJ33: =IF(N33=2021,O33,"") | AK33: =IF(N33=2022,O33,"")
A34: ='Invt Machines'!A34 -> 22 | B34: =IF('Invt Machines'!B34="","",'Invt Machines'!B34) -> Channel | C34: 11 | D34: =IF('Invt Machines'!D34="","",'Invt Machines'!D34) -> 16 | E34: =IF('Invt Machines'!E34="","",'Invt Machines'!E34) -> 013 | F34: =IF('Invt Machines'!F34="","",'Invt Machines'!F34) | G34: =IF('Invt Machines'!G34="","",'Invt Machines'!G34) -> POSTE DE REDRESSAGE | H34: =IF('Invt Machines'!H34="","",'Invt Machines'!H34) -> SKF | I34: =IF('Invt Machines'!I34="","",'Invt Machines'!I34) -> Redressage | J34: =IF('Invt Machines'!J34="","",'Invt Machines'!J34) -> Fixe | K34: =IF('Invt Machines'!X34="","NON","OUI") -> NON | M34: 1 | N34: 2019 | O34: 3000 | Q34: 8 | R34: 16 | T34: =IF('Invt Machines'!AF34="","",'Invt Machines'!AF34) | AB34: =IF(N34=2018,1,"") | AC34: =IF(N34=2019,1,"") -> 1 | AD34: =IF(N34=2020,1,"") | AE34: =IF(N34=2021,1,"") | AF34: =IF(N34=2022,1,"") | AG34: =IF(N34=2018,O34,"") | AH34: =IF(N34=2019,O34,"") -> 3000 | AI34: =IF(N34=2020,O34,"") | AJ34: =IF(N34=2021,O34,"") | AK34: =IF(N34=2022,O34,"")
A35: ='Invt Machines'!A35 -> 23 | B35: =IF('Invt Machines'!B35="","",'Invt Machines'!B35) -> Channel | C35: 11 | D35: =IF('Invt Machines'!D35="","",'Invt Machines'!D35) -> 16 | E35: =IF('Invt Machines'!E35="","",'Invt Machines'!E35) -> 585 | F35: =IF('Invt Machines'!F35="","",'Invt Machines'!F35) | G35: =IF('Invt Machines'!G35="","",'Invt Machines'!G35) -> BRAS TARAUDEUR | H35: =IF('Invt Machines'!H35="","",'Invt Machines'!H35) -> POWERTOOLS | I35: =IF('Invt Machines'!I35="","",'Invt Machines'!I35) -> Bras taraudeur | J35: =IF('Invt Machines'!J35="","",'Invt Machines'!J35) -> Fixe | K35: =IF('Invt Machines'!X35="","NON","OUI") -> NON | M35: NC | O35: NC | P35: NC | T35: =IF('Invt Machines'!AF35="","",'Invt Machines'!AF35) -> Sortie du parc. Bon de ferraillage au 29/08/2018 | AB35: =IF(N35=2018,1,"") | AC35: =IF(N35=2019,1,"") | AD35: =IF(N35=2020,1,"") | AE35: =IF(N35=2021,1,"") | AF35: =IF(N35=2022,1,"") | AG35: =IF(N35=2018,O35,"") | AH35: =IF(N35=2019,O35,"") | AI35: =IF(N35=2020,O35,"") | AJ35: =IF(N35=2021,O35,"") | AK35: =IF(N35=2022,O35,"")
A36: ='Invt Machines'!A36 -> 24 | B36: =IF('Invt Machines'!B36="","",'Invt Machines'!B36) -> Channel | C36: 11 | D36: =IF('Invt Machines'!D36="","",'Invt Machines'!D36) -> 16 | E36: =IF('Invt Machines'!E36="","",'Invt Machines'!E36) -> 561 | F36: =IF('Invt Machines'!F36="","",'Invt Machines'!F36) -> 3186763 | G36: =IF('Invt Machines'!G36="","",'Invt Machines'!G36) -> CHOMIENNE | H36: =IF('Invt Machines'!H36="","",'Invt Machines'!H36) -> CHOMIENNE | I36: =IF('Invt Machines'!I36="","",'Invt Machines'!I36) -> Perceuse | J36: =IF('Invt Machines'!J36="","",'Invt Machines'!J36) -> Fixe | K36: =IF('Invt Machines'!X36="","NON","OUI") -> NON | M36: NC | O36: NC | P36: NC | T36: =IF('Invt Machines'!AF36="","",'Invt Machines'!AF36) -> Sortie du parc. Bon de ferraillage au 05/01/2018 (sortie immob le 25/01/2018) | AB36: =IF(N36=2018,1,"") | AC36: =IF(N36=2019,1,"") | AD36: =IF(N36=2020,1,"") | AE36: =IF(N36=2021,1,"") | AF36: =IF(N36=2022,1,"") | AG36: =IF(N36=2018,O36,"") | AH36: =IF(N36=2019,O36,"") | AI36: =IF(N36=2020,O36,"") | AJ36: =IF(N36=2021,O36,"") | AK36: =IF(N36=2022,O36,"")
A37: ='Invt Machines'!A37 -> 25 | B37: =IF('Invt Machines'!B37="","",'Invt Machines'!B37) -> Channel | C37: 11 | D37: =IF('Invt Machines'!D37="","",'Invt Machines'!D37) -> 16 | E37: =IF('Invt Machines'!E37="","",'Invt Machines'!E37) -> 7221 | F37: =IF('Invt Machines'!F37="","",'Invt Machines'!F37) | G37: =IF('Invt Machines'!G37="","",'Invt Machines'!G37) -> CINTREUSE JONCS | H37: =IF('Invt Machines'!H37="","",'Invt Machines'!H37) -> ? | I37: =IF('Invt Machines'!I37="","",'Invt Machines'!I37) -> Cintreuse | J37: =IF('Invt Machines'!J37="","",'Invt Machines'!J37) -> Fixe | K37: =IF('Invt Machines'!X37="","NON","OUI") -> OUI | L37: Code du travail | M37: 1 | N37: 2019 | O37: 3000 | Q37: 8 | R37: 16 | T37: =IF('Invt Machines'!AF37="","",'Invt Machines'!AF37) | AB37: =IF(N37=2018,1,"") | AC37: =IF(N37=2019,1,"") -> 1 | AD37: =IF(N37=2020,1,"") | AE37: =IF(N37=2021,1,"") | AF37: =IF(N37=2022,1,"") | AG37: =IF(N37=2018,O37,"") | AH37: =IF(N37=2019,O37,"") -> 3000 | AI37: =IF(N37=2020,O37,"") | AJ37: =IF(N37=2021,O37,"") | AK37: =IF(N37=2022,O37,"")
A38: ='Invt Machines'!A38 -> 26 | B38: =IF('Invt Machines'!B38="","",'Invt Machines'!B38) -> Channel | C38: 11 | D38: =IF('Invt Machines'!D38="","",'Invt Machines'!D38) -> 16 | E38: =IF('Invt Machines'!E38="","",'Invt Machines'!E38) -> 048 | F38: =IF('Invt Machines'!F38="","",'Invt Machines'!F38) | G38: =IF('Invt Machines'!G38="","",'Invt Machines'!G38) -> TRONCONNEUSE JONCS | H38: =IF('Invt Machines'!H38="","",'Invt Machines'!H38) -> SIDAMO | I38: =IF('Invt Machines'!I38="","",'Invt Machines'!I38) -> Tronçonneuse | J38: =IF('Invt Machines'!J38="","",'Invt Machines'!J38) -> Fixe | K38: =IF('Invt Machines'!X38="","NON","OUI") -> NON | M38: 3 | N38: 2021 | O38: 100 | Q38: 1 | R38: 1 | T38: =IF('Invt Machines'!AF38="","",'Invt Machines'!AF38) | AB38: =IF(N38=2018,1,"") | AC38: =IF(N38=2019,1,"") | AD38: =IF(N38=2020,1,"") | AE38: =IF(N38=2021,1,"") -> 1 | AF38: =IF(N38=2022,1,"") | AG38: =IF(N38=2018,O38,"") | AH38: =IF(N38=2019,O38,"") | AI38: =IF(N38=2020,O38,"") | AJ38: =IF(N38=2021,O38,"") -> 100 | AK38: =IF(N38=2022,O38,"")
A39: ='Invt Machines'!A39 -> 27 | B39: =IF('Invt Machines'!B39="","",'Invt Machines'!B39) -> Channel | C39: 11 | D39: =IF('Invt Machines'!D39="","",'Invt Machines'!D39) -> 16 | E39: =IF('Invt Machines'!E39="","",'Invt Machines'!E39) -> 70288 | F39: =IF('Invt Machines'!F39="","",'Invt Machines'!F39) | G39: =IF('Invt Machines'!G39="","",'Invt Machines'!G39) -> PERCEUSE A COLONNE (PM17) JONCS | H39: =IF('Invt Machines'!H39="","",'Invt Machines'!H39) -> CINCINNATI MILACRON | I39: =IF('Invt Machines'!I39="","",'Invt Machines'!I39) -> Perceuse | J39: =IF('Invt Machines'!J39="","",'Invt Machines'!J39) -> Fixe | K39: =IF('Invt Machines'!X39="","NON","OUI") -> OUI | L39: Code du travail | M39: 3 | N39: 2021 | O39: 800 | Q39: 2 | R39: 2 | T39: =IF('Invt Machines'!AF39="","",'Invt Machines'!AF39) | AB39: =IF(N39=2018,1,"") | AC39: =IF(N39=2019,1,"") | AD39: =IF(N39=2020,1,"") | AE39: =IF(N39=2021,1,"") -> 1 | AF39: =IF(N39=2022,1,"") | AG39: =IF(N39=2018,O39,"") | AH39: =IF(N39=2019,O39,"") | AI39: =IF(N39=2020,O39,"") | AJ39: =IF(N39=2021,O39,"") -> 800 | AK39: =IF(N39=2022,O39,"")
A40: ='Invt Machines'!A40 -> 28 | B40: =IF('Invt Machines'!B40="","",'Invt Machines'!B40) -> Channel | C40: 11 | D40: =IF('Invt Machines'!D40="","",'Invt Machines'!D40) -> 16 | E40: =IF('Invt Machines'!E40="","",'Invt Machines'!E40) | F40: =IF('Invt Machines'!F40="","",'Invt Machines'!F40) | G40: =IF('Invt Machines'!G40="","",'Invt Machines'!G40) -> GENERATEUR D'IMPLUSION (G100/G0-0,2-20) JONCS | H40: =IF('Invt Machines'!H40="","",'Invt Machines'!H40) -> JOLKE | I40: =IF('Invt Machines'!I40="","",'Invt Machines'!I40) -> Soudeuse Sac VCI | J40: =IF('Invt Machines'!J40="","",'Invt Machines'!J40) -> Appareil portatif | K40: =IF('Invt Machines'!X40="","NON","OUI") -> NON | M40: NC | O40: NC | P40: NC | Q40: NC | R40: NC | T40: =IF('Invt Machines'!AF40="","",'Invt Machines'!AF40) -> Pas opportun selon bureau de contrôle, outil portatif / mobile avec CE en série | AB40: =IF(N40=2018,1,"") | AC40: =IF(N40=2019,1,"") | AD40: =IF(N40=2020,1,"") | AE40: =IF(N40=2021,1,"") | AF40: =IF(N40=2022,1,"") | AG40: =IF(N40=2018,O40,"") | AH40: =IF(N40=2019,O40,"") | AI40: =IF(N40=2020,O40,"") | AJ40: =IF(N40=2021,O40,"") | AK40: =IF(N40=2022,O40,"")
A41: ='Invt Machines'!A41 -> 29 | B41: =IF('Invt Machines'!B41="","",'Invt Machines'!B41) -> Channel | C41: 11 | D41: =IF('Invt Machines'!D41="","",'Invt Machines'!D41) -> 16 | E41: =IF('Invt Machines'!E41="","",'Invt Machines'!E41) | F41: =IF('Invt Machines'!F41="","",'Invt Machines'!F41) | G41: =IF('Invt Machines'!G41="","",'Invt Machines'!G41) -> PINCE A SCELLER (SZ 280) JONCS | H41: =IF('Invt Machines'!H41="","",'Invt Machines'!H41) -> JOLKE | I41: =IF('Invt Machines'!I41="","",'Invt Machines'!I41) -> Soudeuse Sac VCI | J41: =IF('Invt Machines'!J41="","",'Invt Machines'!J41) -> Appareil portatif | K41: =IF('Invt Machines'!X41="","NON","OUI") -> NON | M41: NC | O41: NC | P41: NC | Q41: NC | R41: NC | T41: =IF('Invt Machines'!AF41="","",'Invt Machines'!AF41) -> Pas opportun selon bureau de contrôle, outil portatif / mobile avec CE en série | AB41: =IF(N41=2018,1,"") | AC41: =IF(N41=2019,1,"") | AD41: =IF(N41=2020,1,"") | AE41: =IF(N41=2021,1,"") | AF41: =IF(N41=2022,1,"") | AG41: =IF(N41=2018,O41,"") | AH41: =IF(N41=2019,O41,"") | AI41: =IF(N41=2020,O41,"") | AJ41: =IF(N41=2021,O41,"") | AK41: =IF(N41=2022,O41,"")
A42: ='Invt Machines'!A42 -> 30 | B42: =IF('Invt Machines'!B42="","",'Invt Machines'!B42) -> Channel | C42: 11 | D42: =IF('Invt Machines'!D42="","",'Invt Machines'!D42) -> 16 | E42: =IF('Invt Machines'!E42="","",'Invt Machines'!E42) | F42: =IF('Invt Machines'!F42="","",'Invt Machines'!F42) | G42: =IF('Invt Machines'!G42="","",'Invt Machines'!G42) -> MEULEUSE D'ANGLE JONCS (MODELE GWS13-125 CI) | H42: =IF('Invt Machines'!H42="","",'Invt Machines'!H42) -> BOSH | I42: =IF('Invt Machines'!I42="","",'Invt Machines'!I42) -> Meuleuse | J42: =IF('Invt Machines'!J42="","",'Invt Machines'!J42) -> Appareil portatif | K42: =IF('Invt Machines'!X42="","NON","OUI") -> NON | M42: NC | O42: NC | P42: NC | Q42: NC | R42: NC | T42: =IF('Invt Machines'!AF42="","",'Invt Machines'!AF42) -> Pas opportun selon bureau de contrôle, outil portatif / mobile avec CE en série | AB42: =IF(N42=2018,1,"") | AC42: =IF(N42=2019,1,"") | AD42: =IF(N42=2020,1,"") | AE42: =IF(N42=2021,1,"") | AF42: =IF(N42=2022,1,"") | AG42: =IF(N42=2018,O42,"") | AH42: =IF(N42=2019,O42,"") | AI42: =IF(N42=2020,O42,"") | AJ42: =IF(N42=2021,O42,"") | AK42: =IF(N42=2022,O42,"")
...

Sheet Feuil3

Sheet PA
G1: SYSTEME DE MANAGEMENT DE L’EHS | AQ1: =TODAY() -> 43489
A2: Site : | G2: Plan d'Actions Conformité Machine du site
A3: Manuel EHS Ed
G4: Mise à jour du : 21/01/2019 | R4: Par : Jérôme LACASSAGNE | AB4: Validation des données | AI4: Bilan | AN4: Recherche de critères
A5: N° de lignes Invt. | B5: N° | C5: Date | D5: Thème | E5: Identifications / Sources | J5: Urgence | K5: Type de risque | L5: Référentiel | N5: Anomalies / Pistes d'Amélioration | O5: Action(s) | P5: Pièces justificatives | Q5: Pilote | R5: Acteur | S5: Date prévue de réalisation | T5: Date effective de la réalisation | U5: Statut | V5: Commentaire | W5: Vérifié par | X5: Efficacité de l'action | AB5: Thème | AC5: Channels | AD5: Priorités (H = Urgence 1) (O = Urgence 2) (T = Urgence 3) | AE5: Types de risques | AF5: Statuts | AG5: Efficacités | AI5: Ter dans les délais | AJ5: Ter dans hors délais | AK5: A Ter dans les délais | AL5: A Ter hors délais | AN5: rechecher statut "à faire" de l'observation | AO5: rechecher statut "en-cours" de l'observation | AP5: rechecher statut "terminée" de l'observation | AQ5: Les délais sont-ils respectés
E6: Quoi ? | H6: Document | L6: Source | M6: Art. / Chapitre
E7: OU | F7: Workcenter/Id Const. | G7: Fonction & Nom | H7: Référence document | I7: Point, Page, Index...
A8: 83 | B8: 001 | C8: 42786 | D8: Sécurité | E8: Ch22 | F8: 693 | G8: AS65 TOUR / RECTIFIEUSE | H8: Société ANCANTHE R01565_06002-1a | I8: Page 7 Obs. n° 1 | J8: U 1 | K8: Mécanique | L8: C. trav | M8: R4324-2 | N8: Absence de protection ou protection très incomplète des zones de travail de la machine (plateau, zone d'usinage, zone de rectifiage, zone du magasin d'outils et zone de dressage de la meule). | O8: Réaliser un encagement par des enceintes en tôle d’acier et/ou panneaux de polycarbonate transparent de résistance approprié (épaisseur 6 mm mini) au niveau : • de la périphérie du plateau, • de la zone de dressage, • du magasin d’outils. Ces enceintes de protection devront être équipées de portes et ouvrants inter-verrouillés électriquement permettant l’accès de l’opérateur, pour la mise en œuvre et le réglage de la machine. Les système d’inter-verrouillage devront être câblés suivant les principe de la catégorie « 3 » avec un niveau de performance « d ». Un mode manuel, avec protecteur de la zone du plateau ouvert, pourra être mis en œuvre, ce mode ne devra être accessible que par sélecteur à clef ou équivalent câblé suivant la catégorie 1 avec un niveau de performance « c ». Les conditions suivantes devront être mises en œuvre : • commandes des mouvement par appui maintenu de l’opérateur, sur la CN ou la manivelle électronique en mode manuel ou incrémental, • mouvements des axes (X, Z, U et W) à vitesse réduite (2m/min maxi) avec surveillance câblée suivant la catégorie 3 avec un niveau de performance « d », • rotation de la broche porte meule interdite, • dressage de la meule et changement d’outils interdit, • rotation du plateau pourra être autorisé à vitesse réduite (dépendante du temps et de la distance d’arrêt), si l’opérateur peut se maintenir debout à proximité des zones d’usinage sans être exposé directement. | Q8: JRL | R8: ACTEMIUM AUXERRE | S8: 43343 | U8: A faire | AI8: =IF(AND(U8="Terminé",T8<=S8),1,"") | AN8: =IF(U8="","",IF(U8=$AF$9,"oui","non")) -> oui | AO8: =IF(U8="","",IF(U8=$AF$10,"oui","non")) -> non | AP8: =IF(U8="","",IF(U8=$AF$11,"oui","non")) -> non | AQ8: =IF(S8="","",IF(S8>=T8,"non","SI(R8<AP1;""oui")) -> non
A9: 83 | B9: 002 | C9: 42786 | D9: Sécurité | E9: Ch22 | F9: 693 | G9: AS65 TOUR / RECTIFIEUSE | H9: Société ANCANTHE R01565_06002-1a | I9: Page 8 Obs. n° 2 | J9: U 1 | K9: Mécanique | L9: C. trav | M9: R4324-2 R4324-3 | N9: Les protecteurs mobiles existants au niveau des zones de dressage et du magasin d'outils ne sont pas verrouillés ou interverrouillés électriquement. | O9: Mise en conformité selon les prescriptions de l'article R4324-2 du code du travail. | Q9: JRL | R9: ACTEMIUM AUXERRE | S9: 43343 | U9: En-cours | V9: Chiffrage en cours | AB9: Santé | AC9: Ch13 | AD9: U 1 | AE9: Mécanique | AF9: A faire | AG9: Oui
A10: 83 | B10: 003 | C10: 42786 | D10: Sécurité | E10: Ch22 | F10: 693 | G10: AS65 TOUR / RECTIFIEUSE | H10: Société ANCANTHE R01565_06002-1a | I10: Page 8 Obs. n° 3 | J10: U 1 | K10: Mécanique | L10: C. trav | M10: R4324-4 | N10: Les flexibles à la sortie de la centrale hydrauliques ne sont pas fixés et bridés. | O10: Mettre en place des supports type chemin de câble ou équivalent et brider les flexibles sur ceux-ci | Q10: JRL | R10: ACTEMIUM AUXERRE | S10: 43343 | U10: En-cours | V10: Chiffrage en cours | AB10: Sécurité | AC10: Ch14 | AD10: U 2 | AE10: Circuit de commande | AF10: En-cours | AG10: Non
A11: 83 | B11: 004 | C11: 42786 | D11: Sécurité | E11: Ch22 | F11: 693 | G11: AS65 TOUR / RECTIFIEUSE | H11: Société ANCANTHE R01565_06002-1a | I11: Page 8 Obs. n° 4 | J11: U 1 | K11: Mécanique | L11: C. trav | M11: R4224-5 | N11: La protection des opérateurs contre les risques d'éclatement ou de projection des outils copeaux pièces et meules suite à une rupture ou erreur de manipulation n'est pas correctement réalisée. | O11: Mise en conformité selon les prescriptions de l'article R4324-2 du code du travail. | Q11: JRL | R11: ACTEMIUM AUXERRE | S11: 43343 | U11: En-cours | V11: Chiffrage en cours | AB11: Hygiène | AC11: Ch16 | AD11: U 3 | AE11: Conduite machine | AF11: Terminée | AG11: En attente de mesure complémentaire
A12: 83 | B12: 005 | C12: 42786 | D12: Sécurité | E12: Ch22 | F12: 693 | G12: AS65 TOUR / RECTIFIEUSE | H12: Société ANCANTHE R01565_06002-1a | I12: Page 8 Obs. n° 5 | J12: U 1 | K12: Circuit de commande | L12: C. trav | M12: R4324-8 | N12: La protection contre les démarrages intempestifs ou non arrêt suite à des défauts d'isolement n'est pas correctement réalisé sur les circuits de télécommande. | O12: Assurer la coupure au premier défaut d'isolement sur tous les circuits de télécommande (24Vca et 110Vca) par mise à la terre du commun des bobines directement à la sortie des alimentations et transformateurs (T2.11 et T2.13). Si le transformateur T2.19 intervient dans les circuits de télécommande, lui appliquer ce principe. | Q12: JRL | R12: ACTEMIUM AUXERRE | S12: 43343 | U12: En-cours | V12: Chiffrage en cours | AB12: Environnement | AC12: Ch20 | AE12: Electrique
A13: 83 | B13: 006 | C13: 42786 | D13: Sécurité | E13: Ch22 | F13: 693 | G13: AS65 TOUR / RECTIFIEUSE | H13: Société ANCANTHE R01565_06002-1a | I13: Page 9 Obs. n° 8 | J13: U 3 | K13: Electrique | L13: C. trav | M13: R4324-21 | N13: Le schéma n'est pas à jour au propre (manivelle électronique) et comporte des erreurs d'identification au niveau des repères de filerie de câblage (folio 39, fil repère 712 sur Q57,6, alors que 710). Le transformateur T2.19 fixé au fond de l'armoire n'est pas représenté sur le schéma. | O13: Mettre le schéma à jour au propre en tenant compte des modifications à réaliser | Q13: JRL | R13: ACTEMIUM AUXERRE | S13: 43343 | U13: En-cours | V13: Chiffrage en cours | AC13: Ch21 | AE13: Autre
A14: 83 | B14: 007 | C14: 42786 | D14: Sécurité | E14: Ch22 | F14: 693 | G14: AS65 TOUR / RECTIFIEUSE | H14: Société ANCANTHE R01565_06002-1a | I14: Page 9 Obs. n° 8 | J14: U 2 | K14: Electrique | L14: C. trav | M14: R4324-21 | N14: La protection contre les contacts indirects est mal réalisée au niveau des circuits secondaire repris sous les transformateurs T1.4 et T2.11 actuellement en régime IT sans CPI. | O14: Réaliser le schéma TNS à la sortie de ces transformateurs. | Q14: JRL | R14: ACTEMIUM AUXERRE | S14: 43343 | U14: En-cours | V14: Chiffrage en cours | AC14: Ch22 | AE14: Indication
A15: 83 | B15: 008 | C15: 42786 | D15: Sécurité | E15: Ch22 | F15: 693 | G15: AS65 TOUR / RECTIFIEUSE | H15: Société ANCANTHE R01565_06002-1a | I15: Page 9 Obs. n° 8 | J15: U 2 | K15: Electrique | L15: C. trav | M15: R4324-21 | N15: La protection contre les surintensités n'est pas assurée correctement au secondaire du transformateur T1.4 (absence de protection générale et somme des protections en place dépassant l'intensité maximale délivrée par ce transformateur). | O15: Mettre en place une protection générale adapté à l'intensité maximale du secondaire du transformateur. | Q15: JRL | R15: ACTEMIUM AUXERRE | S15: 43343 | U15: En-cours | V15: Chiffrage en cours | AC15: Ch25 | AE15: Environnement
A16: 83 | B16: 009 | C16: 42786 | D16: Sécurité | E16: Ch22 | F16: 693 | G16: AS65 TOUR / RECTIFIEUSE | H16: Société ANCANTHE R01565_06002-1a | I16: Page 9 Obs. n° 7 | J16: U 2 | K16: Autre | L16: C. trav | M16: R4324-20 | N16: Absence de dispositif permettant la purge des accumulateurs de la centrale hydraulique. | O16: Installer des vannes 3 voies permettant la décharge vers la bâche des pressions hydrauliques accumulées. | Q16: JRL | R16: ACTEMIUM AUXERRE | S16: 43343 | U16: En-cours | V16: Chiffrage en cours | AC16: Atelier JONCS
A17: 83 | B17: 010 | C17: 42786 | D17: Sécurité | E17: Ch22 | F17: 693 | G17: AS65 TOUR / RECTIFIEUSE | H17: Société ANCANTHE R01565_06002-1a | I17: Page 10 Obs. n° 7 | J17: U 1 | K17: Autre | L17: C. trav | M17: R4324-20 | N17: Le montage des serres câbles est mal réalisé sur le tirant d'équilibrage des poutres | O17: Refaire le montage conformément aux règles de l'art. | Q17: JRL | R17: ACTEMIUM AUXERRE | S17: 43343 | U17: En-cours | V17: Chiffrage en cours | AC17: ASPROD Affûtage
A18: 83 | B18: 011 | C18: 42786 | D18: Sécurité | E18: Ch22 | F18: 693 | G18: AS65 TOUR / RECTIFIEUSE | H18: Société ANCANTHE R01565_06002-1a | I18: Page 10 nota n° 1 | J18: U 2 | K18: Autre | L18: C. trav | M18: R4323-9 | N18: Le fluide de coupe de la machine doit être remplacer régulièrement et aussi souvent que nécessaire. | O18: Il conviendra de réaliser le remplacement ou l'enlèvement du fluide de coupe avant toute période de congé des opérateurs ou mise en chômage de la machine, afin d'éviter la stagnation de celui-ci et sa pollution par des bactéries et/ou particules de métaux et huiles. | P18: Instructions de contrôles Bon de vidange | Q18: JRL | R18: NIP | S18: 43373 | T18: 43340 | U18: Terminée | V18: Courriel fait à Nicolas le 14/08/2018, qui devrait pouvoir me fournir les plannings de vidange des fluides de coupes et les BSD. TPM200, analyse… | W18: JED | X18: Oui | AC18: ASPROD Atelier
A19: 83 | B19: 012 | C19: 42786 | D19: Sécurité | E19: Ch22 | F19: 693 | G19: AS65 TOUR / RECTIFIEUSE | H19: Société ANCANTHE R01565_06002-1a | I19: Page 10 Obs. n° 6 | J19: U 3 | K19: Indication | L19: C. trav | M19: R4324-17 | N19: Absence d'indication claires sur les diamètres et vitesses maximales admissibles au niveau de la broche porte meule et du plateau. | O19: Afficher clairement et lisiblement les vitesses et diamètres de meule maximaux autorisés par la machine. | P19: Instruction, diffusion et photo | Q19: JRL | R19: SAS | S19: 43373 | T19: 43402 | U19: Terminée | V19: Je crée des étiquettes d'identifications et consulte Samuel (courriel du 16/08/2108) pour obtenir les informations non trouvées dans le dossier machine sur Lotus. Les informations ont été communiquées par le service Méthode, j'ai rédigé l'IT0639 et fait une info TV. | AC19: ASPROD LABO
A20: 85 | B20: 013 | C20: 42786 | D20: Sécurité | E20: Ch22 | F20: 251 | G20: BM225 TOUR vertical | H20: Société ANCANTHE R01565_06002-1a | I20: Page 13 Obs. n° 1 | J20: U 1 | K20: Mécanique | L20: C. trav | M20: 4324-1 | N20: La protection des éléments mobiles de transmission est incomplètement réalisée, du fait de la possibilité d'atteindre la vis de l'axe X, depuis le poste opérateur. | O20: Interdire l'accès à la vis par mise en place de protecteur ou éloignement. | P20: Bon de ferraillage 09/03/2018 | Q20: JRL | R20: DAR | S20: 44926 | T20: 43168 | U20: Terminée | V20: Démonté et sortie du parc machine | W20: DRA | X20: Oui | AC20: ASPROD Métrologie
A21: 85 | B21: 014 | C21: 42786 | D21: Sécurité | E21: Ch22 | F21: 251 | G21: BM225 TOUR vertical | H21: Société ANCANTHE R01565_06002-1a | I21: Page 13 - 14 Obs. n° 2 | J21: U 1 | K21: Mécanique | L21: C. trav | M21: R4324-2 | N21: L'enceinte de protection grillagée existante n'assure pas totalement la protection des opérateurs | O21: Compéter l’encagement existant comme ci-dessous proposé : • Au niveau du poste opérateur, surmonter (H= 2 m) les protecteurs par des panneaux de polycarbonate transparent de résistance approprié (épaisseur = 6-mm) afin d’interdire l’accès à la traverse et la tourelle porte outils. • Compléter et surmonter (H =2m) la porte d’accès à la zone de travail. Interverrouillée électriquement cette porte. • Modifier la protection à l’arrière de la machine afin de permettre l’accès aux armoire électrique sans entrer dans l’enceinte de protection (voir schéma de principe en commentaire ci-contre). Compéter les protections existantes en périphérie du plateau afin d’interdire ’accès par l’arrière de la machine Il conviendra d’interverrouiller électriquement la porte battante existante au niveau du poste opérateur et les portes coulissantes permettant le chargement et déchargement de la machine. Les système l’interverrouillage devront être câblés suivant les principe de la catégorie « 3 » avec un niveau de performance « d ». • Un mode manuel, avec protecteur de la zone du plateau ouvert, pourra être mis en œuvre, ce mode ne devra être accessible que par sélecteur à clef ou équivalent câblé suivant la catégorie 1 avec un niveau de performance « c ». Les conditions suivantes devront être mises en œuvre : • commandes des mouvement par appui maintenu de l’opérateur, sur la CN ou la manivelle électronique en mode manuel ou incrémental, • mouvements des axes (X, Z,) à vitesse réduite (2m/min maxi) avec surveillance câblée suivant la catégorie 3 avec un niveau de performance « d », • rotation de la tourelle porte outils interdit, • la rotation du plateau pourra être autorisé à vitesse réduite (dépendante du temps et de la distance d’arrêt), si l’opérateur peut se maintenir debout à proximité des zones d’usinage sans être exposé directement. | P21: Bon de ferraillage 09/03/2018 | Q21: JRL | R21: DAR | S21: 44926 | T21: 43168 | U21: Terminée | V21: Démonté et sortie du parc machine | W21: DRA | X21: Oui | AC21: BAT D
A22: 85 | B22: 015 | C22: 42786 | D22: Sécurité | E22: Ch22 | F22: 251 | G22: BM225 TOUR vertical | H22: Société ANCANTHE R01565_06002-1a | I22: Page 14 Obs. n° 3 | J22: U 1 | K22: Mécanique | L22: C. trav | M22: R4324-3 | N22: Les portes existantes sur l'enceinte de protection ne sont pas toutes verrouillées électriquement. | O22: Mise en conformité selon les prescriptions de l'article R4324-2 du code du travail. | P22: Bon de ferraillage 09/03/2018 | Q22: JRL | R22: DAR | S22: 44926 | T22: 43168 | U22: Terminée | V22: Démonté et sortie du parc machine | W22: DRA | X22: Oui | AC22: MAGASIN
A23: 85 | B23: 016 | C23: 42786 | D23: Sécurité | E23: Ch22 | F23: 251 | G23: BM225 TOUR vertical | H23: Société ANCANTHE R01565_06002-1a | I23: Page 14 Obs. n° 4 | J23: U 1 | K23: Mécanique | L23: C. trav | M23: R4324-5 | N23: La protection des opérateurs contre les risques d’éclatement ou de projection des outils et copeaux suite à une rupture ou erreur de manipulation n’est pas correctement réalisée. | O23: Mise en conformité selon les prescriptions de l'article R4324-2 du code du travail. | P23: Bon de ferraillage 09/03/2018 | Q23: JRL | R23: DAR | S23: 44926 | T23: 43168 | U23: Terminée | V23: Démonté et sortie du parc machine | W23: DRA | X23: Oui | AC23: MAINT. Atelier
A24: 85 | B24: 017 | C24: 42786 | D24: Sécurité | E24: Ch22 | F24: 251 | G24: BM225 TOUR vertical | H24: Société ANCANTHE R01565_06002-1a | I24: Page 15 Obs. n° 5 | J24: U 1 | K24: Circuit de commande | L24: C. trav | M24: R4324-8 | N24: La protection contre les démarrages intempestifs ou non arrêt suite à des défauts d’isolement n’est pas correctement réalisée sur tous les circuits de télécommande. | O24: Assurer la coupure au premier défaut d’isolement sur tous les circuits de télécommande (24Vcc, 24Vca et 110Vca) par mise à la terre du commun des bobines directement à la sortie des alimentations et transformateurs. | P24: Bon de ferraillage 09/03/2018 | Q24: JRL | R24: DAR | S24: 44926 | T24: 43168 | U24: Terminée | V24: Démonté et sortie du parc machine | W24: DRA | X24: Oui | AC24: MAINT. BAT E
A25: 85 | B25: 018 | C25: 42786 | D25: Sécurité | E25: Ch22 | F25: 251 | G25: BM225 TOUR vertical | H25: Société ANCANTHE R01565_06002-1a | I25: Page 15 Obs. n° 7 | J25: U 3 | K25: Electrique | L25: C. trav | M25: R4324-21 | N25: Le schéma n’est pas à jour au propre. Une partie de l’installation électrique est vétuste et très encrassée. | O25: Nous vous conseillons la réfection de cette partie d’installation conformément aux règles de la norme EN 60204-1. | P25: Bon de ferraillage 09/03/2018 | Q25: JRL | R25: DAR | S25: 44926 | T25: 43168 | U25: Terminée | V25: Démonté et sortie du parc machine | W25: DRA | X25: Oui | AC25: USINE
A26: 85 | B26: 019 | C26: 42786 | D26: Sécurité | E26: Ch22 | F26: 251 | G26: BM225 TOUR vertical | H26: Société ANCANTHE R01565_06002-1a | I26: Page 15 Obs. n° 7 | J26: U 1 | K26: Electrique | L26: C. trav | M26: R4324-21 | N26: La protection contre les contacts indirect n’est pas correctement assurée sur tous les circuits repris sous les transformateurs de séparation. | O26: Réaliser le schéma TNS à la sortie de tous les transformateurs (tension supérieure à 50Vca). | P26: Bon de ferraillage 09/03/2018 | Q26: JRL | R26: DAR | S26: 44926 | T26: 43168 | U26: Terminée | V26: Démonté et sortie du parc machine | W26: DRA | X26: Oui
A27: 85 | B27: 020 | C27: 42786 | D27: Santé | E27: Ch22 | F27: 251 | G27: BM225 TOUR vertical | H27: Société ANCANTHE R01565_06002-1a | I27: Page 15 nota n° 1 | J27: U 2 | K27: Autre | L27: C. trav | M27: R4324-9 | N27: Le fluide de coupe de la machine doit être remplacer régulièrement et aussi souvent que nécessaire. | O27: Il conviendra de réaliser le remplacement ou l’enlèvement du fluide de coupe avant toute période de congé des opérateurs ou mise en chômage de la machine, afin d’éviter la stagnation de celui-ci et sa pollution par des bactéries et /ou particules de métaux et huiles. | P27: Bon de ferraillage 09/03/2018 | Q27: JRL | R27: DAR | S27: 44926 | T27: 43168 | U27: Terminée | V27: Démonté et sortie du parc machine | W27: DRA | X27: Oui
A28: 85 | B28: 021 | C28: 42786 | D28: Sécurité | E28: Ch22 | F28: 251 | G28: BM225 TOUR vertical | H28: Société ANCANTHE R01565_06002-1a | I28: Page 15 Obs. n° 6 | J28: U 3 | K28: Indication | L28: C. trav | M28: R4324-17 | N28: Absence d’indication claires sur les vitesses maximales admissibles. | O28: Afficher clairement et lisiblement les vitesses maximales de travail du plateau . | P28: Bon de ferraillage 09/03/2018 | Q28: JRL | R28: DAR | S28: 44926 | T28: 43168 | U28: Terminée | V28: Démonté et sortie du parc machine | W28: DRA | X28: Oui
A29: 82 | B29: 022 | C29: 42786 | D29: Sécurité | E29: Ch22 | F29: 586 | G29: DUFIEUX CN PERCEUSE | H29: Société ANCANTHE R01565_06002-1a | I29: Page 17 Obs. n° 1 | J29: U 1 | K29: Mécanique | L29: C. trav | M29: R4324-2 | N29: Absence de protection de la zone de travail. | O29: Interdire l’accès à la zone de perçage, à la table et aux axes de déplacement de l’outil pendant les fonctionnements en mode automatique. Nous vous conseillons la mise en place d’une enceinte autour de la table avec portillon interverrouillé électriquement au niveau du poste de conduite (catégorie 3, avec un niveau de performance « d »). Un mode manuel, avec portillon d’accès ouvert, pourra être mis en œuvre, ce mode ne devra être accessible que par sélecteur à clef ou équivalent, câblé suivant la catégorie 1 avec un niveau de performance « c ». Les conditions suivantes devront être mises en œuvre : • commandes des mouvement par appui maintenu de l’opérateur, sur la CN ou la manivelle électronique en mode manuel ou incrémental, • mouvements des axes de déplacement de la broche à vitesse réduite (2m/min maxi) avec surveillance câblée suivant la catégorie 3 avec un niveau de performance « d », • mouvements du changeur d’outil interdit, • la rotation du plateau pourra être autorisé à vitesse réduite (dépendante du temps et de la distance d’arrêt), si l’opérateur peut se maintenir debout à proximité des zones d’usinage sans être exposé directement. | Q29: JRL | R29: ACTEMIUM AUXERRE | S29: 44926 | U29: A faire | V29: Consultation le 04/07/2018
A30: 82 | B30: 023 | C30: 42786 | D30: Sécurité | E30: Ch22 | F30: 586 | G30: DUFIEUX CN PERCEUSE | H30: Société ANCANTHE R01565_06002-1a | I30: Page 17 Obs. n° 2 | J30: U 1 | K30: Mécanique | L30: C. trav | M30: R4324-5 | N30: La protection des opérateurs contre les risques d’éclatement ou de projection des outils et copeaux suite à une rupture ou erreur de manipulation n’est pas correctement réalisée. | O30: Mise en conformité selon les prescriptions de l'article R4324-2 du code du travail. | Q30: JRL | R30: ACTEMIUM AUXERRE | S30: 44926 | U30: A faire | V30: Consultation le 04/07/2018
A31: 82 | B31: 024 | C31: 42786 | D31: Sécurité | E31: Ch22 | F31: 586 | G31: DUFIEUX CN PERCEUSE | H31: Société ANCANTHE R01565_06002-1a | I31: Page 18 Obs. n° 3 | J31: U 1 | K31: Circuit de commande | L31: C. trav | M31: R4324-8 | N31: La protection contre les démarrages intempestifs ou non arrêt suite à des défauts d’isolement n’est pas correctement réalisée sur tous les circuits de télécommande. | O31: Assurer la coupure au premier défaut d’isolement à la sortie de l’alimentation 24 Vcc (entrées et sorties automate + freins). | Q31: JRL | R31: ACTEMIUM AUXERRE | S31: 44926 | U31: A faire | V31: Consultation le 04/07/2018
A32: 82 | B32: 025 | C32: 42786 | D32: Sécurité | E32: Ch22 | F32: 586 | G32: DUFIEUX CN PERCEUSE | H32: Société ANCANTHE R01565_06002-1a | I32: Page 18 Obs. n° 3 | J32: U 1 | K32: Circuit de commande | L32: C. trav | M32: R4324-8 | N32: Le circuit d’arrêt d’urgence tel que câblé n’a pas le niveau de sureté requis par ce type de machine (action en SOFT par l’automate). | O32: Recâbler le circuit d’arrêt d’urgence suivant la catégorie 3, avec un niveau de performance « d ». | Q32: JRL | R32: GUM Actémuim | S32: 43465 | U32: A faire
A33: 82 | B33: 026 | C33: 42786 | D33: Sécurité | E33: Ch22 | F33: 586 | G33: DUFIEUX CN PERCEUSE | H33: Société ANCANTHE R01565_06002-1a | I33: Page 18 nota n° 1 | J33: U 2 | K33: Autre | L33: C. trav | M33: R4324-9 | N33: Le fluide de coupe de la machine doit être remplacer régulièrement et aussi souvent que nécessaire. | O33: Il conviendra de réaliser le remplacement ou l’enlèvement du fluide de coupe avant toute période de congé des opérateurs ou mise en chômage de la machine, afin d’éviter la stagnation de celui-ci et sa pollution par des bactéries et /ou particules de métaux et huiles. | P33: Instructions de contrôles Bon de vidange | Q33: JRL | R33: NIP | S33: 43373 | T33: 43341 | U33: Terminée | V33: Courriel fait à Nicolas le 14/08/2018, qui devrait pouvoir me fournir les plannings de vidange des fluides de coupes et les BSD. TPM200, analyse… | W33: JED | X33: Oui
A34: 82 | B34: 027 | C34: 42786 | D34: Sécurité | E34: Ch22 | F34: 586 | G34: DUFIEUX CN PERCEUSE | H34: Société ANCANTHE R01565_06002-1a | I34: Page 19 Obs. n° 6 | J34: U 3 | K34: Indication | L34: C. trav | M34: R4324-17 | N34: Absence d’indication claires sur les diamètres et vitesses maximales admissibles au niveau de la broche. | O34: Afficher clairement et lisiblement les vitesses et diamètre maximaux. | P34: Instruction, diffusion et photo | Q34: JRL | R34: SAS | S34: 43373 | T34: 43402 | U34: Terminée | V34: Je crée des étiquettes d'identifications et consulte Samuel (courriel du 16/08/2108) pour obtenir les informations non trouvées dans le dossier machine sur Lotus. Les informations ont été communiquées par le service Méthode, j'ai rédigé l'IT0639 et fait une info TV.
A35: 80 | B35: 028 | C35: 42786 | D35: Sécurité | E35: Ch22 | F35: 3546 | G35: SOMEX PERCEUSE horizontale | H35: Société ANCANTHE R01565_06002-1a | I35: Page 20 Obs. n° 2 | J35: U 3 | K35: Indication | L35: DIRECTIVE 98/37/CE ANNEXE I | M35: 1.7.4 | N35: La notice d’instructions ne nous a pas été présentée | O35: Vous procurez auprès du fabricant la notice d’instructions. | P35: Notice d'utilisation | Q35: JRL | R35: JRL | S35: 31//10/2018 | T35: 43314 | U35: Terminée | V35: Nous disposons de la notice d'instruction version papier au local maintenance (armoire dossier machine) Qui plus est tous les dossiers machines sont en cours de numérisation. Communiquer la notice d'utilisation au prochain tiers expert afin qu'il finalise la vérification de conformité J'ai échangé avec le fabricant, qui ne peut nous fournir plus, du fait que la machine à plus de 10 ans et que les personnels chargés du projet à l'époque ne sont plus en activité. La société ne fabrique plus de machine spéciale comme la notre. | W35: JRL | X35: En attente de mesure complémentaire
A36: 3 | B36: 029 | C36: 42786 | D36: Sécurité | E36: Ch16 | F36: 742 | G36: MONTAGE C11 n° 126 TABLE DE MONTAGE ROULEMENTS | H36: Société ANCANTHE R01565_06002-2a | I36: Page 7 Obs. n° 1 | J36: U 1 | K36: Mécanique | L36: C. trav | M36: R4324-1 R4324-3 | N36: La protection contre l'accès aux éléments mobiles de transmission est incomplète sous la table. | O36: Protéger l'accès au pignon et moteur. | Q36: JRL | R36: MAM | S36: 43404 | U36: A faire
A37: 3 | B37: 030 | C37: 42786 | D37: Sécurité | E37: Ch16 | F37: 742 | G37: MONTAGE C11 n° 126 TABLE DE MONTAGE ROULEMENTS | H37: Société ANCANTHE R01565_06002-2a | I37: Page 7 Obs. n° 2 | J37: U 1 | K37: Mécanique | L37: C. trav | M37: R4324-2 R4324-3 | N37: La protection contre l'accès aux éléments mobiles des pignons pendant la rotation de la table est incomplète. | O37: Disposer un protecteur mobile verrouillé par un capteur de sécurité. | Q37: JRL | R37: GUM Actémuim | S37: 43404 | U37: A faire
