Workbook

Sheet Calcul TVA
A2: Extraction TVA
B4: TTC | D4: HT
A5: 0.055 | D5: =B5/(1+5.5/100) -> 0
A6: 0.1 | D6: =B6/(1+10/100) -> 0
A7: 0.2 | D7: =B7/(1+20/100) -> 0
A10: Calcul TVA
B12: HT | D12: TTC
A13: 0.055 | D13: =B13*(1+5.5/100) -> 0
A14: 0.1 | D14: =B14*(1+10/100) -> 0
A15: 0.2 | D15: =B15*(1+20/100) -> 0

Sheet Code Fournisseur
B1: Année 2018
B3: Codes | C3: Désignation
B4: 200 | C4: SUEZ
B5: 201 | C5: Transport
B6: 202 | C6: Poubelle 770 litres
B7: 203 | C7: Poubelle 240 litres
B8: 204 | C8: Transport Benne cartons
B9: 205 | C9: Tarif à la tonne / carton
B10: 206 | C10: Traitement
B12: 300 | C12: SOGEDO
B13: 301 | C13: Relevé 01
B14: 302 | C14: Relevé intermédiare
B15: 303 | C15: Relevé 03
B17: 400 | C17: PRIMAGAZ
... B35: 512 | C35: Relevé Décembre

Sheet Tarifs et relevés
D2: Code | F2: Désignation | G2: Tarifs | K2: Code | L2: Désignation | M2: M3 | N2: Différence
D4: 201 | E4: Transport | G4: 300 | L4: Relevé précédent | M4: 5000
D5: 202 | E5: Levée de poubelle 770 litres | G5: 15 | K5: 301 | L5: Relevé 01 | M5: 6000 | N5: =IF(M5>0,M5-M4,"") -> 1000
D6: 203 | E6: Levée de poubelle 240 litres | G6: 8 | K6: 302 | L6: Relevé 02 | M6: 8000 | N6: =IF(M6>0,M6-M5,"") -> 2000
D7: 204 | E7: Transport benne Carton | G7: 200 | K7: 302 | L7: Relevé 03 | M7: 9500 | N7: =IF(M7>0,M7-M6,"") -> 1500
D8: 205 | E8: Tarif à la tonne carton | G8: 10.5 | L8: Tarif au M3 | N8: 0.99
D9: 206 | E9: Traitement | G9: 500
D11: Code | F11: Compteur | G11: Différence | K11: Code | L11: Désignation | M11: Kw | N11: Différence
D13: 401 | E13: Relevé 01 | F13: 8500 | L13: Relevé précedent | M13: 1000
E14: Relevé 02 | F14: 9500 | G14: =F14-F13 -> 1000 | K14: 501 | L14: Janvier | M14: 1500 | N14: =IF(M14>0,M14-M13,"") -> 500
F15: Tarif au Kg | G15: 1 | K15: 502 | L15: Février | M15: 2000 | N15: =IF(M15>0,M15-M14,"") -> 500
D16: 402 | E16: Bouteille 30 Kg | G16: 32.5 | K16: 503 | L16: Mars | M16: 3000 | N16: =IF(M16>0,M16-M15,"") -> 1000
D17: 403 | E17: Bouteille 13 Kg | G17: 24.5 | K17: 504 | L17: Avril | M17: 4000 | N17: =IF(M17>0,M17-M16,"") -> 1000
D18: 404 | E18: Bouteille Le Cube | G18: 18 | K18: 505 | L18: Mai | M18: 6500 | N18: =IF(M18>0,M18-M17,"") -> 2500
K19: 506 | L19: Juin | M19: 8000 | N19: =IF(M19>0,M19-M18,"") -> 1500
K20: 507 | L20: Juillet | M20: 11000 | N20: =IF(M20>0,M20-M19,"") -> 3000
K21: 508 | L21: Août | M21: 14000 | N21: =IF(M21>0,M21-M20,"") -> 3000
K22: 509 | L22: Septembre | M22: 17000 | N22: =IF(M22>0,M22-M21,"") -> 3000
K23: 510 | L23: Octobre | M23: 18000 | N23: =IF(M23>0,M23-M22,"") -> 1000
K24: 511 | L24: Novembre | M24: 20000 | N24: =IF(M24>0,M24-M23,"") -> 2000
K25: 512 | L25: Décembre | M25: 22000 | N25: =IF(M25>0,M25-M24,"") -> 2000
L26: Tarif au KW | N26: 0.25

Sheet Tableau des dépenses
A2: Poste d'investissement | B2: Date | C2: Code travaux | D2: Détail de produit | E2: Code ventilation | F2: Quote part Quantités | G2: Bouteille 30 Kg | H2: Bouteille 13 Kg | I2: Bouteille Le Cube | J2: Gaz Citerne en Kg | K2: Gaz Citerne Montant HT | L2: SUEZ Transport HT | M2: SUEZ 770 l HT | N2: SUEZ 240 l HT | O2: SUEZ Carton HT | P2: SUEZ carton/T HT | Q2: SUEZ Traitement HT | R2: Sogedo Quantité M3 | S2: Sogedo Montant HT | T2: Engie Quantité KW | U2: Engie Montant HT | V2: Total HT | W2: Code TVA | X2: 5,50% | Y2: 10,00% | Z2: 20,00% | AA2: Total HT SUEZ | AB2: Total HT SOGEDO | AC2: Total HT PRIMAGAZ | AD2: Total HT ENGIE | AE2: ENGIE Janvier | AF2: ENGIE Fevrier | AG2: ENGIE Mars | AH2: ENGIE Avril | AI2: ENGIE Mai | AJ2: ENGIE Juin | AK2: ENGIE Juillet | AL2: ENGIE Août | AM2: ENGIE Septembre | AN2: ENGIE Octobre | AO2: ENGIE Novembre | AP2: ENGIE Décembre | AQ2: SOGEDO Relevé 01 | AR2: SOGEDO Relevé 02 | AS2: SOGEDO Relevé 03 | AT2: Montant TVA | AU2: Total TTC
A3: =IF(C3=200,'Code Fournisseur'!$C$4,IF(C3=300,'Code Fournisseur'!$C$12,IF(C3=400,'Code Fournisseur'!$C$17,IF(C3=500,'Code Fournisseur'!$C$23,"")))) -> PRIMAGAZ | C3: 400 | D3: =IF(E3=201,'Code Fournisseur'!C5,IF(E3=202,'Code Fournisseur'!$C$6,IF(E3=203,'Code Fournisseur'!$C$7,IF(E3=204,'Code Fournisseur'!$C$8,IF(E3=205,'Code Fournisseur'!$C$9,IF(E3=206,'Code Fournisseur'!$C$10,IF(E3=301,'Code Fournisseur'!$C$13,IF(E3=302,'Code Fournisseur'!$C$14,IF(E3=303,'Code Fournisseur'!$C$15,IF(E3=401,'Code Fournisseur'!$C$18,IF(E3=402,'Code Fournisseur'!$C$19,IF(E3=403,'Code Fournisseur'!$C$20,IF(E3=404,'Code Fournisseur'!$C$21,IF(E3=501,'Code Fournisseur'!$C$24,IF(E3=502,'Code Fournisseur'!$C$25,IF(E3=503,'Code Fournisseur'!$C$26,IF(E3=504,'Code Fournisseur'!$C$27,IF(E3=505,'Code Fournisseur'!$C$28,IF(E3=506,'Code Fournisseur'!$C$29,IF(E3=507,'Code Fournisseur'!$C$30,IF(E3=508,'Code Fournisseur'!$C$31,IF(E3=509,'Code Fournisseur'!$C$32,IF(E3=510,'Code Fournisseur'!$C$33,IF(E3=511,'Code Fournisseur'!$C$34,IF(E3=512,'Code Fournisseur'!$C$35,""))))))))))))))))))))))))) -> Citerne | E3: 401 | G3: =IF(Tableau1[[#This Row],[Code ventilation]]=402,'Tarifs et relevés'!$G$16*Tableau1[[#This Row],[Quote part Quantités]],"") | H3: =IF(Tableau1[[#This Row],[Code ventilation]]=403,'Tarifs et relevés'!$G$17*Tableau1[[#This Row],[Quote part Quantités]],"") | I3: =IF(Tableau1[[#This Row],[Code ventilation]]=404,'Tarifs et relevés'!$G$18*Tableau1[[#This Row],[Quote part Quantités]],"") | J3: =IF(Tableau1[[#This Row],[Code ventilation]]=401,'Tarifs et relevés'!$G$14,"") -> 1000 | K3: =IF(ISERROR('Tarifs et relevés'!$G$15*Tableau1[[#This Row],[Gaz Citerne en Kg]]),"",'Tarifs et relevés'!$G$15*'Tableau des dépenses'!J3) -> 1000 | L3: =IF(Tableau1[[#This Row],[Code ventilation]]=201,IF(Tableau1[[#This Row],[Quote part Quantités]]=3,'Tarifs et relevés'!$G$4,IF(Tableau1[[#This Row],[Quote part Quantités]]=2,'Tarifs et relevés'!$G$4/3*2,IF(Tableau1[[#This Row],[Quote part Quantités]]=1,'Tarifs et relevés'!$G$4/3,""))),"") | M3: =IF(Tableau1[[#This Row],[Code ventilation]]=202,'Tarifs et relevés'!$G$5*Tableau1[[#This Row],[Quote part Quantités]],"") | N3: =IF(Tableau1[[#This Row],[Code ventilation]]=203,'Tarifs et relevés'!$G$6*Tableau1[[#This Row],[Quote part Quantités]],"") | O3: =IF(Tableau1[[#This Row],[Code ventilation]]=204,'Tarifs et relevés'!$G$7*Tableau1[[#This Row],[Quote part Quantités]],"") | P3: =IF(Tableau1[[#This Row],[Code ventilation]]=205,'Tarifs et relevés'!$G$8*Tableau1[[#This Row],[Quote part Quantités]],"") | Q3: =IF(Tableau1[[#This Row],[Code ventilation]]=206,'Tarifs et relevés'!$G$9*Tableau1[[#This Row],[Quote part Quantités]],"") | R3: =IF(Tableau1[[#This Row],[Code ventilation]]=301,'Tarifs et relevés'!$N$5,IF(Tableau1[[#This Row],[Code ventilation]]=302,'Tarifs et relevés'!$N$6,IF(Tableau1[[#This Row],[Code ventilation]]=303,'Tarifs et relevés'!$N$7,""))) | S3: =IF(ISERROR('Tarifs et relevés'!$N$8*'Tableau des dépenses'!R3),"",'Tarifs et relevés'!$N$8*'Tableau des dépenses'!R3) | T3: =IF(Tableau1[[#This Row],[Code ventilation]]=501,'Tarifs et relevés'!$N$14,IF(Tableau1[[#This Row],[Code ventilation]]=502,'Tarifs et relevés'!$N$15,IF(Tableau1[[#This Row],[Code ventilation]]=503,'Tarifs et relevés'!$N$16,IF(Tableau1[[#This Row],[Code ventilation]]=504,'Tarifs et relevés'!$N$17,IF(Tableau1[[#This Row],[Code ventilation]]=505,'Tarifs et relevés'!$N$18,IF(Tableau1[[#This Row],[Code ventilation]]=506,'Tarifs et relevés'!$N$19,IF(Tableau1[[#This Row],[Code ventilation]]=507,'Tarifs et relevés'!$N$20,IF(Tableau1[[#This Row],[Code ventilation]]=508,'Tarifs et relevés'!$N$21,IF(Tableau1[[#This Row],[Code ventilation]]=509,'Tarifs et relevés'!$N$22,IF(Tableau1[[#This Row],[Code ventilation]]=510,'Tarifs et relevés'!$N$23,IF(Tableau1[[#This Row],[Code ventilation]]=511,'Tarifs et relevés'!$N$24,IF(Tableau1[[#This Row],[Code ventilation]]=512,'Tarifs et relevés'!$N$25,"")))))))))))) | U3: =IF(ISERROR('Tarifs et relevés'!$N$26*Tableau1[[#This Row],[Engie Quantité KW]]),"",'Tarifs et relevés'!$N$26*Tableau1[[#This Row],[Engie Quantité KW]]) | V3: =IF(ISERROR(SUM(Tableau1[[#This Row],[SUEZ Transport HT]:[SUEZ Traitement HT]],Tableau1[[#This Row],[Sogedo Montant HT]],Tableau1[[#This Row],[Engie Montant HT]])),"",(SUM(Tableau1[[#This Row],[SUEZ Transport HT]:[SUEZ Traitement HT]],Tableau1[[#This Row],[Sogedo Montant HT]],Tableau1[[#This Row],[Engie Montant HT]],SUM(Tableau1[[#This Row],[Bouteille 30 Kg]:[Bouteille Le Cube]],Tableau1[[#This Row],[Gaz Citerne Montant HT]])))) -> 1000 | W3: 3 | X3: =IF(W3=1,V3*$Z$2,0) -> 0 | Y3: =IF(W3=2,V3*$Y$2,0) -> 0 | Z3: =IF(W3=3,V3*$Z$2,0) -> 200 | AA3: =SUM(Tableau1[[#This Row],[SUEZ Transport HT]:[SUEZ Traitement HT]]) -> 0 | AB3: =Tableau1[[#This Row],[Sogedo Montant HT]] | AC3: =SUM(Tableau1[[#This Row],[Bouteille 30 Kg]:[Bouteille Le Cube]],Tableau1[[#This Row],[Gaz Citerne Montant HT]]) -> 1000 | AD3: =Tableau1[[#This Row],[Engie Montant HT]] | AE3: =IF($E3=501,'Tarifs et relevés'!$N$14*'Tarifs et relevés'!$N$26,0) -> 0 | AF3: =IF($E3=501,'Tarifs et relevés'!$N$15*'Tarifs et relevés'!$N$26,0) -> 0 | AG3: =IF($E3=503,'Tarifs et relevés'!$N$16*'Tarifs et relevés'!$N$26,0) -> 0 | AH3: =IF($E3=504,'Tarifs et relevés'!$N$17*'Tarifs et relevés'!$N$26,0) -> 0 | AI3: =IF($E3=505,'Tarifs et relevés'!$N$18*'Tarifs et relevés'!$N$26,0) -> 0 | AJ3: =IF($E3=506,'Tarifs et relevés'!$N$19*'Tarifs et relevés'!$N$26,0) -> 0 | AK3: =IF($E3=507,'Tarifs et relevés'!$N$20*'Tarifs et relevés'!$N$26,0) -> 0 | AL3: =IF($E3=508,'Tarifs et relevés'!$N$21*'Tarifs et relevés'!$N$26,0) -> 0 | AM3: =IF($E3=509,'Tarifs et relevés'!$N$22*'Tarifs et relevés'!$N$26,0) -> 0 | AN3: =IF($E3=510,'Tarifs et relevés'!$N$23*'Tarifs et relevés'!$N$26,0) -> 0 | AO3: =IF($E3=511,'Tarifs et relevés'!$N$24*'Tarifs et relevés'!$N$26,0) -> 0 | AP3: =IF($E3=512,'Tarifs et relevés'!$N$25*'Tarifs et relevés'!$N$26,0) -> 0 | AQ3: =IF($E3=301,'Tarifs et relevés'!$N$5*'Tarifs et relevés'!$N$8,0) -> 0 | AR3: =IF($E3=302,'Tarifs et relevés'!$N$6*'Tarifs et relevés'!$N$8,0) -> 0 | AS3: =IF($E3=303,'Tarifs et relevés'!$N$7*'Tarifs et relevés'!$N$8,0) -> 0 | AT3: =SUM(X3:Z3) -> 200 | AU3: =V3+AT3 -> 1200
A4: =IF(C4=200,'Code Fournisseur'!$C$4,IF(C4=300,'Code Fournisseur'!$C$12,IF(C4=400,'Code Fournisseur'!$C$17,IF(C4=500,'Code Fournisseur'!$C$23,"")))) -> PRIMAGAZ | C4: 400 | D4: =IF(E4=201,'Code Fournisseur'!C6,IF(E4=202,'Code Fournisseur'!$C$6,IF(E4=203,'Code Fournisseur'!$C$7,IF(E4=204,'Code Fournisseur'!$C$8,IF(E4=205,'Code Fournisseur'!$C$9,IF(E4=206,'Code Fournisseur'!$C$10,IF(E4=301,'Code Fournisseur'!$C$13,IF(E4=302,'Code Fournisseur'!$C$14,IF(E4=303,'Code Fournisseur'!$C$15,IF(E4=401,'Code Fournisseur'!$C$18,IF(E4=402,'Code Fournisseur'!$C$19,IF(E4=403,'Code Fournisseur'!$C$20,IF(E4=404,'Code Fournisseur'!$C$21,IF(E4=501,'Code Fournisseur'!$C$24,IF(E4=502,'Code Fournisseur'!$C$25,IF(E4=503,'Code Fournisseur'!$C$26,IF(E4=504,'Code Fournisseur'!$C$27,IF(E4=505,'Code Fournisseur'!$C$28,IF(E4=506,'Code Fournisseur'!$C$29,IF(E4=507,'Code Fournisseur'!$C$30,IF(E4=508,'Code Fournisseur'!$C$31,IF(E4=509,'Code Fournisseur'!$C$32,IF(E4=510,'Code Fournisseur'!$C$33,IF(E4=511,'Code Fournisseur'!$C$34,IF(E4=512,'Code Fournisseur'!$C$35,""))))))))))))))))))))))))) -> Bouteilles 30 Kg | E4: 402 | F4: 5 | G4: =IF(Tableau1[[#This Row],[Code ventilation]]=402,'Tarifs et relevés'!$G$16*Tableau1[[#This Row],[Quote part Quantités]],"") -> 162.5 | H4: =IF(Tableau1[[#This Row],[Code ventilation]]=403,'Tarifs et relevés'!$G$17*Tableau1[[#This Row],[Quote part Quantités]],"") | I4: =IF(Tableau1[[#This Row],[Code ventilation]]=404,'Tarifs et relevés'!$G$18*Tableau1[[#This Row],[Quote part Quantités]],"") | J4: =IF(Tableau1[[#This Row],[Code ventilation]]=401,'Tarifs et relevés'!$G$14,"") | K4: =IF(ISERROR('Tarifs et relevés'!$G$15*Tableau1[[#This Row],[Gaz Citerne en Kg]]),"",'Tarifs et relevés'!$G$15*'Tableau des dépenses'!J4) | L4: =IF(Tableau1[[#This Row],[Code ventilation]]=201,IF(Tableau1[[#This Row],[Quote part Quantités]]=3,'Tarifs et relevés'!$G$4,IF(Tableau1[[#This Row],[Quote part Quantités]]=2,'Tarifs et relevés'!$G$4/3*2,IF(Tableau1[[#This Row],[Quote part Quantités]]=1,'Tarifs et relevés'!$G$4/3,""))),"") | M4: =IF(Tableau1[[#This Row],[Code ventilation]]=202,'Tarifs et relevés'!$G$5*Tableau1[[#This Row],[Quote part Quantités]],"") | N4: =IF(Tableau1[[#This Row],[Code ventilation]]=203,'Tarifs et relevés'!$G$6*Tableau1[[#This Row],[Quote part Quantités]],"") | O4: =IF(Tableau1[[#This Row],[Code ventilation]]=204,'Tarifs et relevés'!$G$7*Tableau1[[#This Row],[Quote part Quantités]],"") | P4: =IF(Tableau1[[#This Row],[Code ventilation]]=205,'Tarifs et relevés'!$G$8*Tableau1[[#This Row],[Quote part Quantités]],"") | Q4: =IF(Tableau1[[#This Row],[Code ventilation]]=206,'Tarifs et relevés'!$G$9*Tableau1[[#This Row],[Quote part Quantités]],"") | R4: =IF(Tableau1[[#This Row],[Code ventilation]]=301,'Tarifs et relevés'!$N$5,IF(Tableau1[[#This Row],[Code ventilation]]=302,'Tarifs et relevés'!$N$6,IF(Tableau1[[#This Row],[Code ventilation]]=303,'Tarifs et relevés'!$N$7,""))) | S4: =IF(ISERROR('Tarifs et relevés'!$N$8*'Tableau des dépenses'!R4),"",'Tarifs et relevés'!$N$8*'Tableau des dépenses'!R4) | T4: =IF(Tableau1[[#This Row],[Code ventilation]]=501,'Tarifs et relevés'!$N$14,IF(Tableau1[[#This Row],[Code ventilation]]=502,'Tarifs et relevés'!$N$15,IF(Tableau1[[#This Row],[Code ventilation]]=503,'Tarifs et relevés'!$N$16,IF(Tableau1[[#This Row],[Code ventilation]]=504,'Tarifs et relevés'!$N$17,IF(Tableau1[[#This Row],[Code ventilation]]=505,'Tarifs et relevés'!$N$18,IF(Tableau1[[#This Row],[Code ventilation]]=506,'Tarifs et relevés'!$N$19,IF(Tableau1[[#This Row],[Code ventilation]]=507,'Tarifs et relevés'!$N$20,IF(Tableau1[[#This Row],[Code ventilation]]=508,'Tarifs et relevés'!$N$21,IF(Tableau1[[#This Row],[Code ventilation]]=509,'Tarifs et relevés'!$N$22,IF(Tableau1[[#This Row],[Code ventilation]]=510,'Tarifs et relevés'!$N$23,IF(Tableau1[[#This Row],[Code ventilation]]=511,'Tarifs et relevés'!$N$24,IF(Tableau1[[#This Row],[Code ventilation]]=512,'Tarifs et relevés'!$N$25,"")))))))))))) | U4: =IF(ISERROR('Tarifs et relevés'!$N$26*Tableau1[[#This Row],[Engie Quantité KW]]),"",'Tarifs et relevés'!$N$26*Tableau1[[#This Row],[Engie Quantité KW]]) | V4: =IF(ISERROR(SUM(Tableau1[[#This Row],[SUEZ Transport HT]:[SUEZ Traitement HT]],Tableau1[[#This Row],[Sogedo Montant HT]],Tableau1[[#This Row],[Engie Montant HT]])),"",(SUM(Tableau1[[#This Row],[SUEZ Transport HT]:[SUEZ Traitement HT]],Tableau1[[#This Row],[Sogedo Montant HT]],Tableau1[[#This Row],[Engie Montant HT]],SUM(Tableau1[[#This Row],[Bouteille 30 Kg]:[Bouteille Le Cube]],Tableau1[[#This Row],[Gaz Citerne Montant HT]])))) -> 162.5 | W4: 3 | X4: =IF(W4=1,V4*$Z$2,0) -> 0 | Y4: =IF(W4=2,V4*$Y$2,0) -> 0 | Z4: =IF(W4=3,V4*$Z$2,0) -> 32.5 | AA4: =SUM(Tableau1[[#This Row],[SUEZ Transport HT]:[SUEZ Traitement HT]]) -> 0 | AB4: =Tableau1[[#This Row],[Sogedo Montant HT]] | AC4: =SUM(Tableau1[[#This Row],[Bouteille 30 Kg]:[Bouteille Le Cube]],Tableau1[[#This Row],[Gaz Citerne Montant HT]]) -> 162.5 | AD4: =Tableau1[[#This Row],[Engie Montant HT]] | AE4: =IF($E4=501,'Tarifs et relevés'!$N$14*'Tarifs et relevés'!$N$26,0) -> 0 | AF4: =IF($E4=501,'Tarifs et relevés'!$N$15*'Tarifs et relevés'!$N$26,0) -> 0 | AG4: =IF($E4=503,'Tarifs et relevés'!$N$16*'Tarifs et relevés'!$N$26,0) -> 0 | AH4: =IF($E4=504,'Tarifs et relevés'!$N$17*'Tarifs et relevés'!$N$26,0) -> 0 | AI4: =IF($E4=505,'Tarifs et relevés'!$N$18*'Tarifs et relevés'!$N$26,0) -> 0 | AJ4: =IF($E4=506,'Tarifs et relevés'!$N$19*'Tarifs et relevés'!$N$26,0) -> 0 | AK4: =IF($E4=507,'Tarifs et relevés'!$N$20*'Tarifs et relevés'!$N$26,0) -> 0 | AL4: =IF($E4=508,'Tarifs et relevés'!$N$21*'Tarifs et relevés'!$N$26,0) -> 0 | AM4: =IF($E4=509,'Tarifs et relevés'!$N$22*'Tarifs et relevés'!$N$26,0) -> 0 | AN4: =IF($E4=510,'Tarifs et relevés'!$N$23*'Tarifs et relevés'!$N$26,0) -> 0 | AO4: =IF($E4=511,'Tarifs et relevés'!$N$24*'Tarifs et relevés'!$N$26,0) -> 0 | AP4: =IF($E4=512,'Tarifs et relevés'!$N$25*'Tarifs et relevés'!$N$26,0) -> 0 | AQ4: =IF($E4=301,'Tarifs et relevés'!$N$5*'Tarifs et relevés'!$N$8,0) -> 0 | AR4: =IF($E4=302,'Tarifs et relevés'!$N$6*'Tarifs et relevés'!$N$8,0) -> 0 | AS4: =IF($E4=303,'Tarifs et relevés'!$N$7*'Tarifs et relevés'!$N$8,0) -> 0 | AT4: =SUM(X4:Z4) -> 32.5 | AU4: =V4+AT4 -> 195
A5: =IF(C5=200,'Code Fournisseur'!$C$4,IF(C5=300,'Code Fournisseur'!$C$12,IF(C5=400,'Code Fournisseur'!$C$17,IF(C5=500,'Code Fournisseur'!$C$23,"")))) -> PRIMAGAZ | C5: 400 | D5: =IF(E5=201,'Code Fournisseur'!C7,IF(E5=202,'Code Fournisseur'!$C$6,IF(E5=203,'Code Fournisseur'!$C$7,IF(E5=204,'Code Fournisseur'!$C$8,IF(E5=205,'Code Fournisseur'!$C$9,IF(E5=206,'Code Fournisseur'!$C$10,IF(E5=301,'Code Fournisseur'!$C$13,IF(E5=302,'Code Fournisseur'!$C$14,IF(E5=303,'Code Fournisseur'!$C$15,IF(E5=401,'Code Fournisseur'!$C$18,IF(E5=402,'Code Fournisseur'!$C$19,IF(E5=403,'Code Fournisseur'!$C$20,IF(E5=404,'Code Fournisseur'!$C$21,IF(E5=501,'Code Fournisseur'!$C$24,IF(E5=502,'Code Fournisseur'!$C$25,IF(E5=503,'Code Fournisseur'!$C$26,IF(E5=504,'Code Fournisseur'!$C$27,IF(E5=505,'Code Fournisseur'!$C$28,IF(E5=506,'Code Fournisseur'!$C$29,IF(E5=507,'Code Fournisseur'!$C$30,IF(E5=508,'Code Fournisseur'!$C$31,IF(E5=509,'Code Fournisseur'!$C$32,IF(E5=510,'Code Fournisseur'!$C$33,IF(E5=511,'Code Fournisseur'!$C$34,IF(E5=512,'Code Fournisseur'!$C$35,""))))))))))))))))))))))))) -> Bouteilles 13 Kg | E5: 403 | F5: 5 | G5: =IF(Tableau1[[#This Row],[Code ventilation]]=402,'Tarifs et relevés'!$G$16*Tableau1[[#This Row],[Quote part Quantités]],"") | H5: =IF(Tableau1[[#This Row],[Code ventilation]]=403,'Tarifs et relevés'!$G$17*Tableau1[[#This Row],[Quote part Quantités]],"") -> 122.5 | I5: =IF(Tableau1[[#This Row],[Code ventilation]]=404,'Tarifs et relevés'!$G$18*Tableau1[[#This Row],[Quote part Quantités]],"") | J5: =IF(Tableau1[[#This Row],[Code ventilation]]=401,'Tarifs et relevés'!$G$14,"") | K5: =IF(ISERROR('Tarifs et relevés'!$G$15*Tableau1[[#This Row],[Gaz Citerne en Kg]]),"",'Tarifs et relevés'!$G$15*'Tableau des dépenses'!J5) | L5: =IF(Tableau1[[#This Row],[Code ventilation]]=201,IF(Tableau1[[#This Row],[Quote part Quantités]]=3,'Tarifs et relevés'!$G$4,IF(Tableau1[[#This Row],[Quote part Quantités]]=2,'Tarifs et relevés'!$G$4/3*2,IF(Tableau1[[#This Row],[Quote part Quantités]]=1,'Tarifs et relevés'!$G$4/3,""))),"") | M5: =IF(Tableau1[[#This Row],[Code ventilation]]=202,'Tarifs et relevés'!$G$5*Tableau1[[#This Row],[Quote part Quantités]],"") | N5: =IF(Tableau1[[#This Row],[Code ventilation]]=203,'Tarifs et relevés'!$G$6*Tableau1[[#This Row],[Quote part Quantités]],"") | O5: =IF(Tableau1[[#This Row],[Code ventilation]]=204,'Tarifs et relevés'!$G$7*Tableau1[[#This Row],[Quote part Quantités]],"") | P5: =IF(Tableau1[[#This Row],[Code ventilation]]=205,'Tarifs et relevés'!$G$8*Tableau1[[#This Row],[Quote part Quantités]],"") | Q5: =IF(Tableau1[[#This Row],[Code ventilation]]=206,'Tarifs et relevés'!$G$9*Tableau1[[#This Row],[Quote part Quantités]],"") | R5: =IF(Tableau1[[#This Row],[Code ventilation]]=301,'Tarifs et relevés'!$N$5,IF(Tableau1[[#This Row],[Code ventilation]]=302,'Tarifs et relevés'!$N$6,IF(Tableau1[[#This Row],[Code ventilation]]=303,'Tarifs et relevés'!$N$7,""))) | S5: =IF(ISERROR('Tarifs et relevés'!$N$8*'Tableau des dépenses'!R5),"",'Tarifs et relevés'!$N$8*'Tableau des dépenses'!R5) | T5: =IF(Tableau1[[#This Row],[Code ventilation]]=501,'Tarifs et relevés'!$N$14,IF(Tableau1[[#This Row],[Code ventilation]]=502,'Tarifs et relevés'!$N$15,IF(Tableau1[[#This Row],[Code ventilation]]=503,'Tarifs et relevés'!$N$16,IF(Tableau1[[#This Row],[Code ventilation]]=504,'Tarifs et relevés'!$N$17,IF(Tableau1[[#This Row],[Code ventilation]]=505,'Tarifs et relevés'!$N$18,IF(Tableau1[[#This Row],[Code ventilation]]=506,'Tarifs et relevés'!$N$19,IF(Tableau1[[#This Row],[Code ventilation]]=507,'Tarifs et relevés'!$N$20,IF(Tableau1[[#This Row],[Code ventilation]]=508,'Tarifs et relevés'!$N$21,IF(Tableau1[[#This Row],[Code ventilation]]=509,'Tarifs et relevés'!$N$22,IF(Tableau1[[#This Row],[Code ventilation]]=510,'Tarifs et relevés'!$N$23,IF(Tableau1[[#This Row],[Code ventilation]]=511,'Tarifs et relevés'!$N$24,IF(Tableau1[[#This Row],[Code ventilation]]=512,'Tarifs et relevés'!$N$25,"")))))))))))) | U5: =IF(ISERROR('Tarifs et relevés'!$N$26*Tableau1[[#This Row],[Engie Quantité KW]]),"",'Tarifs et relevés'!$N$26*Tableau1[[#This Row],[Engie Quantité KW]]) | V5: =IF(ISERROR(SUM(Tableau1[[#This Row],[SUEZ Transport HT]:[SUEZ Traitement HT]],Tableau1[[#This Row],[Sogedo Montant HT]],Tableau1[[#This Row],[Engie Montant HT]])),"",(SUM(Tableau1[[#This Row],[SUEZ Transport HT]:[SUEZ Traitement HT]],Tableau1[[#This Row],[Sogedo Montant HT]],Tableau1[[#This Row],[Engie Montant HT]],SUM(Tableau1[[#This Row],[Bouteille 30 Kg]:[Bouteille Le Cube]],Tableau1[[#This Row],[Gaz Citerne Montant HT]])))) -> 122.5 | W5: 3 | X5: =IF(W5=1,V5*$Z$2,0) -> 0 | Y5: =IF(W5=2,V5*$Y$2,0) -> 0 | Z5: =IF(W5=3,V5*$Z$2,0) -> 24.5 | AA5: =SUM(Tableau1[[#This Row],[SUEZ Transport HT]:[SUEZ Traitement HT]]) -> 0 | AB5: =Tableau1[[#This Row],[Sogedo Montant HT]] | AC5: =SUM(Tableau1[[#This Row],[Bouteille 30 Kg]:[Bouteille Le Cube]],Tableau1[[#This Row],[Gaz Citerne Montant HT]]) -> 122.5 | AD5: =Tableau1[[#This Row],[Engie Montant HT]] | AE5: =IF($E5=501,'Tarifs et relevés'!$N$14*'Tarifs et relevés'!$N$26,0) -> 0 | AF5: =IF($E5=501,'Tarifs et relevés'!$N$15*'Tarifs et relevés'!$N$26,0) -> 0 | AG5: =IF($E5=503,'Tarifs et relevés'!$N$16*'Tarifs et relevés'!$N$26,0) -> 0 | AH5: =IF($E5=504,'Tarifs et relevés'!$N$17*'Tarifs et relevés'!$N$26,0) -> 0 | AI5: =IF($E5=505,'Tarifs et relevés'!$N$18*'Tarifs et relevés'!$N$26,0) -> 0 | AJ5: =IF($E5=506,'Tarifs et relevés'!$N$19*'Tarifs et relevés'!$N$26,0) -> 0 | AK5: =IF($E5=507,'Tarifs et relevés'!$N$20*'Tarifs et relevés'!$N$26,0) -> 0 | AL5: =IF($E5=508,'Tarifs et relevés'!$N$21*'Tarifs et relevés'!$N$26,0) -> 0 | AM5: =IF($E5=509,'Tarifs et relevés'!$N$22*'Tarifs et relevés'!$N$26,0) -> 0 | AN5: =IF($E5=510,'Tarifs et relevés'!$N$23*'Tarifs et relevés'!$N$26,0) -> 0 | AO5: =IF($E5=511,'Tarifs et relevés'!$N$24*'Tarifs et relevés'!$N$26,0) -> 0 | AP5: =IF($E5=512,'Tarifs et relevés'!$N$25*'Tarifs et relevés'!$N$26,0) -> 0 | AQ5: =IF($E5=301,'Tarifs et relevés'!$N$5*'Tarifs et relevés'!$N$8,0) -> 0 | AR5: =IF($E5=302,'Tarifs et relevés'!$N$6*'Tarifs et relevés'!$N$8,0) -> 0 | AS5: =IF($E5=303,'Tarifs et relevés'!$N$7*'Tarifs et relevés'!$N$8,0) -> 0 | AT5: =SUM(X5:Z5) -> 24.5 | AU5: =V5+AT5 -> 147
A6: =IF(C6=200,'Code Fournisseur'!$C$4,IF(C6=300,'Code Fournisseur'!$C$12,IF(C6=400,'Code Fournisseur'!$C$17,IF(C6=500,'Code Fournisseur'!$C$23,"")))) -> PRIMAGAZ | C6: 400 | D6: =IF(E6=201,'Code Fournisseur'!C8,IF(E6=202,'Code Fournisseur'!$C$6,IF(E6=203,'Code Fournisseur'!$C$7,IF(E6=204,'Code Fournisseur'!$C$8,IF(E6=205,'Code Fournisseur'!$C$9,IF(E6=206,'Code Fournisseur'!$C$10,IF(E6=301,'Code Fournisseur'!$C$13,IF(E6=302,'Code Fournisseur'!$C$14,IF(E6=303,'Code Fournisseur'!$C$15,IF(E6=401,'Code Fournisseur'!$C$18,IF(E6=402,'Code Fournisseur'!$C$19,IF(E6=403,'Code Fournisseur'!$C$20,IF(E6=404,'Code Fournisseur'!$C$21,IF(E6=501,'Code Fournisseur'!$C$24,IF(E6=502,'Code Fournisseur'!$C$25,IF(E6=503,'Code Fournisseur'!$C$26,IF(E6=504,'Code Fournisseur'!$C$27,IF(E6=505,'Code Fournisseur'!$C$28,IF(E6=506,'Code Fournisseur'!$C$29,IF(E6=507,'Code Fournisseur'!$C$30,IF(E6=508,'Code Fournisseur'!$C$31,IF(E6=509,'Code Fournisseur'!$C$32,IF(E6=510,'Code Fournisseur'!$C$33,IF(E6=511,'Code Fournisseur'!$C$34,IF(E6=512,'Code Fournisseur'!$C$35,""))))))))))))))))))))))))) -> Le Cube | E6: 404 | F6: 5 | G6: =IF(Tableau1[[#This Row],[Code ventilation]]=402,'Tarifs et relevés'!$G$16*Tableau1[[#This Row],[Quote part Quantités]],"") | H6: =IF(Tableau1[[#This Row],[Code ventilation]]=403,'Tarifs et relevés'!$G$17*Tableau1[[#This Row],[Quote part Quantités]],"") | I6: =IF(Tableau1[[#This Row],[Code ventilation]]=404,'Tarifs et relevés'!$G$18*Tableau1[[#This Row],[Quote part Quantités]],"") -> 90 | J6: =IF(Tableau1[[#This Row],[Code ventilation]]=401,'Tarifs et relevés'!$G$14,"") | K6: =IF(ISERROR('Tarifs et relevés'!$G$15*Tableau1[[#This Row],[Gaz Citerne en Kg]]),"",'Tarifs et relevés'!$G$15*'Tableau des dépenses'!J6) | L6: =IF(Tableau1[[#This Row],[Code ventilation]]=201,IF(Tableau1[[#This Row],[Quote part Quantités]]=3,'Tarifs et relevés'!$G$4,IF(Tableau1[[#This Row],[Quote part Quantités]]=2,'Tarifs et relevés'!$G$4/3*2,IF(Tableau1[[#This Row],[Quote part Quantités]]=1,'Tarifs et relevés'!$G$4/3,""))),"") | M6: =IF(Tableau1[[#This Row],[Code ventilation]]=202,'Tarifs et relevés'!$G$5*Tableau1[[#This Row],[Quote part Quantités]],"") | N6: =IF(Tableau1[[#This Row],[Code ventilation]]=203,'Tarifs et relevés'!$G$6*Tableau1[[#This Row],[Quote part Quantités]],"") | O6: =IF(Tableau1[[#This Row],[Code ventilation]]=204,'Tarifs et relevés'!$G$7*Tableau1[[#This Row],[Quote part Quantités]],"") | P6: =IF(Tableau1[[#This Row],[Code ventilation]]=205,'Tarifs et relevés'!$G$8*Tableau1[[#This Row],[Quote part Quantités]],"") | Q6: =IF(Tableau1[[#This Row],[Code ventilation]]=206,'Tarifs et relevés'!$G$9*Tableau1[[#This Row],[Quote part Quantités]],"") | R6: =IF(Tableau1[[#This Row],[Code ventilation]]=301,'Tarifs et relevés'!$N$5,IF(Tableau1[[#This Row],[Code ventilation]]=302,'Tarifs et relevés'!$N$6,IF(Tableau1[[#This Row],[Code ventilation]]=303,'Tarifs et relevés'!$N$7,""))) | S6: =IF(ISERROR('Tarifs et relevés'!$N$8*'Tableau des dépenses'!R6),"",'Tarifs et relevés'!$N$8*'Tableau des dépenses'!R6) | T6: =IF(Tableau1[[#This Row],[Code ventilation]]=501,'Tarifs et relevés'!$N$14,IF(Tableau1[[#This Row],[Code ventilation]]=502,'Tarifs et relevés'!$N$15,IF(Tableau1[[#This Row],[Code ventilation]]=503,'Tarifs et relevés'!$N$16,IF(Tableau1[[#This Row],[Code ventilation]]=504,'Tarifs et relevés'!$N$17,IF(Tableau1[[#This Row],[Code ventilation]]=505,'Tarifs et relevés'!$N$18,IF(Tableau1[[#This Row],[Code ventilation]]=506,'Tarifs et relevés'!$N$19,IF(Tableau1[[#This Row],[Code ventilation]]=507,'Tarifs et relevés'!$N$20,IF(Tableau1[[#This Row],[Code ventilation]]=508,'Tarifs et relevés'!$N$21,IF(Tableau1[[#This Row],[Code ventilation]]=509,'Tarifs et relevés'!$N$22,IF(Tableau1[[#This Row],[Code ventilation]]=510,'Tarifs et relevés'!$N$23,IF(Tableau1[[#This Row],[Code ventilation]]=511,'Tarifs et relevés'!$N$24,IF(Tableau1[[#This Row],[Code ventilation]]=512,'Tarifs et relevés'!$N$25,"")))))))))))) | U6: =IF(ISERROR('Tarifs et relevés'!$N$26*Tableau1[[#This Row],[Engie Quantité KW]]),"",'Tarifs et relevés'!$N$26*Tableau1[[#This Row],[Engie Quantité KW]]) | V6: =IF(ISERROR(SUM(Tableau1[[#This Row],[SUEZ Transport HT]:[SUEZ Traitement HT]],Tableau1[[#This Row],[Sogedo Montant HT]],Tableau1[[#This Row],[Engie Montant HT]])),"",(SUM(Tableau1[[#This Row],[SUEZ Transport HT]:[SUEZ Traitement HT]],Tableau1[[#This Row],[Sogedo Montant HT]],Tableau1[[#This Row],[Engie Montant HT]],SUM(Tableau1[[#This Row],[Bouteille 30 Kg]:[Bouteille Le Cube]],Tableau1[[#This Row],[Gaz Citerne Montant HT]])))) -> 90 | W6: 3 | X6: =IF(W6=1,V6*$Z$2,0) -> 0 | Y6: =IF(W6=2,V6*$Y$2,0) -> 0 | Z6: =IF(W6=3,V6*$Z$2,0) -> 18 | AA6: =SUM(Tableau1[[#This Row],[SUEZ Transport HT]:[SUEZ Traitement HT]]) -> 0 | AB6: =Tableau1[[#This Row],[Sogedo Montant HT]] | AC6: =SUM(Tableau1[[#This Row],[Bouteille 30 Kg]:[Bouteille Le Cube]],Tableau1[[#This Row],[Gaz Citerne Montant HT]]) -> 90 | AD6: =Tableau1[[#This Row],[Engie Montant HT]] | AE6: =IF($E6=501,'Tarifs et relevés'!$N$14*'Tarifs et relevés'!$N$26,0) -> 0 | AF6: =IF($E6=501,'Tarifs et relevés'!$N$15*'Tarifs et relevés'!$N$26,0) -> 0 | AG6: =IF($E6=503,'Tarifs et relevés'!$N$16*'Tarifs et relevés'!$N$26,0) -> 0 | AH6: =IF($E6=504,'Tarifs et relevés'!$N$17*'Tarifs et relevés'!$N$26,0) -> 0 | AI6: =IF($E6=505,'Tarifs et relevés'!$N$18*'Tarifs et relevés'!$N$26,0) -> 0 | AJ6: =IF($E6=506,'Tarifs et relevés'!$N$19*'Tarifs et relevés'!$N$26,0) -> 0 | AK6: =IF($E6=507,'Tarifs et relevés'!$N$20*'Tarifs et relevés'!$N$26,0) -> 0 | AL6: =IF($E6=508,'Tarifs et relevés'!$N$21*'Tarifs et relevés'!$N$26,0) -> 0 | AM6: =IF($E6=509,'Tarifs et relevés'!$N$22*'Tarifs et relevés'!$N$26,0) -> 0 | AN6: =IF($E6=510,'Tarifs et relevés'!$N$23*'Tarifs et relevés'!$N$26,0) -> 0 | AO6: =IF($E6=511,'Tarifs et relevés'!$N$24*'Tarifs et relevés'!$N$26,0) -> 0 | AP6: =IF($E6=512,'Tarifs et relevés'!$N$25*'Tarifs et relevés'!$N$26,0) -> 0 | AQ6: =IF($E6=301,'Tarifs et relevés'!$N$5*'Tarifs et relevés'!$N$8,0) -> 0 | AR6: =IF($E6=302,'Tarifs et relevés'!$N$6*'Tarifs et relevés'!$N$8,0) -> 0 | AS6: =IF($E6=303,'Tarifs et relevés'!$N$7*'Tarifs et relevés'!$N$8,0) -> 0 | AT6: =SUM(X6:Z6) -> 18 | AU6: =V6+AT6 -> 108
A7: =IF(C7=200,'Code Fournisseur'!$C$4,IF(C7=300,'Code Fournisseur'!$C$12,IF(C7=400,'Code Fournisseur'!$C$17,IF(C7=500,'Code Fournisseur'!$C$23,"")))) | D7: =IF(E7=201,'Code Fournisseur'!C9,IF(E7=202,'Code Fournisseur'!$C$6,IF(E7=203,'Code Fournisseur'!$C$7,IF(E7=204,'Code Fournisseur'!$C$8,IF(E7=205,'Code Fournisseur'!$C$9,IF(E7=206,'Code Fournisseur'!$C$10,IF(E7=301,'Code Fournisseur'!$C$13,IF(E7=302,'Code Fournisseur'!$C$14,IF(E7=303,'Code Fournisseur'!$C$15,IF(E7=401,'Code Fournisseur'!$C$18,IF(E7=402,'Code Fournisseur'!$C$19,IF(E7=403,'Code Fournisseur'!$C$20,IF(E7=404,'Code Fournisseur'!$C$21,IF(E7=501,'Code Fournisseur'!$C$24,IF(E7=502,'Code Fournisseur'!$C$25,IF(E7=503,'Code Fournisseur'!$C$26,IF(E7=504,'Code Fournisseur'!$C$27,IF(E7=505,'Code Fournisseur'!$C$28,IF(E7=506,'Code Fournisseur'!$C$29,IF(E7=507,'Code Fournisseur'!$C$30,IF(E7=508,'Code Fournisseur'!$C$31,IF(E7=509,'Code Fournisseur'!$C$32,IF(E7=510,'Code Fournisseur'!$C$33,IF(E7=511,'Code Fournisseur'!$C$34,IF(E7=512,'Code Fournisseur'!$C$35,""))))))))))))))))))))))))) | G7: =IF(Tableau1[[#This Row],[Code ventilation]]=402,'Tarifs et relevés'!$G$16*Tableau1[[#This Row],[Quote part Quantités]],"") | H7: =IF(Tableau1[[#This Row],[Code ventilation]]=403,'Tarifs et relevés'!$G$17*Tableau1[[#This Row],[Quote part Quantités]],"") | I7: =IF(Tableau1[[#This Row],[Code ventilation]]=404,'Tarifs et relevés'!$G$18*Tableau1[[#This Row],[Quote part Quantités]],"") | J7: =IF(Tableau1[[#This Row],[Code ventilation]]=401,'Tarifs et relevés'!$G$14,"") | K7: =IF(ISERROR('Tarifs et relevés'!$G$15*Tableau1[[#This Row],[Gaz Citerne en Kg]]),"",'Tarifs et relevés'!$G$15*'Tableau des dépenses'!J7) | L7: =IF(Tableau1[[#This Row],[Code ventilation]]=201,IF(Tableau1[[#This Row],[Quote part Quantités]]=3,'Tarifs et relevés'!$G$4,IF(Tableau1[[#This Row],[Quote part Quantités]]=2,'Tarifs et relevés'!$G$4/3*2,IF(Tableau1[[#This Row],[Quote part Quantités]]=1,'Tarifs et relevés'!$G$4/3,""))),"") | M7: =IF(Tableau1[[#This Row],[Code ventilation]]=202,'Tarifs et relevés'!$G$5*Tableau1[[#This Row],[Quote part Quantités]],"") | N7: =IF(Tableau1[[#This Row],[Code ventilation]]=203,'Tarifs et relevés'!$G$6*Tableau1[[#This Row],[Quote part Quantités]],"") | O7: =IF(Tableau1[[#This Row],[Code ventilation]]=204,'Tarifs et relevés'!$G$7*Tableau1[[#This Row],[Quote part Quantités]],"") | P7: =IF(Tableau1[[#This Row],[Code ventilation]]=205,'Tarifs et relevés'!$G$8*Tableau1[[#This Row],[Quote part Quantités]],"") | Q7: =IF(Tableau1[[#This Row],[Code ventilation]]=206,'Tarifs et relevés'!$G$9*Tableau1[[#This Row],[Quote part Quantités]],"") | R7: =IF(Tableau1[[#This Row],[Code ventilation]]=301,'Tarifs et relevés'!$N$5,IF(Tableau1[[#This Row],[Code ventilation]]=302,'Tarifs et relevés'!$N$6,IF(Tableau1[[#This Row],[Code ventilation]]=303,'Tarifs et relevés'!$N$7,""))) | S7: =IF(ISERROR('Tarifs et relevés'!$N$8*'Tableau des dépenses'!R7),"",'Tarifs et relevés'!$N$8*'Tableau des dépenses'!R7) | T7: =IF(Tableau1[[#This Row],[Code ventilation]]=501,'Tarifs et relevés'!$N$14,IF(Tableau1[[#This Row],[Code ventilation]]=502,'Tarifs et relevés'!$N$15,IF(Tableau1[[#This Row],[Code ventilation]]=503,'Tarifs et relevés'!$N$16,IF(Tableau1[[#This Row],[Code ventilation]]=504,'Tarifs et relevés'!$N$17,IF(Tableau1[[#This Row],[Code ventilation]]=505,'Tarifs et relevés'!$N$18,IF(Tableau1[[#This Row],[Code ventilation]]=506,'Tarifs et relevés'!$N$19,IF(Tableau1[[#This Row],[Code ventilation]]=507,'Tarifs et relevés'!$N$20,IF(Tableau1[[#This Row],[Code ventilation]]=508,'Tarifs et relevés'!$N$21,IF(Tableau1[[#This Row],[Code ventilation]]=509,'Tarifs et relevés'!$N$22,IF(Tableau1[[#This Row],[Code ventilation]]=510,'Tarifs et relevés'!$N$23,IF(Tableau1[[#This Row],[Code ventilation]]=511,'Tarifs et relevés'!$N$24,IF(Tableau1[[#This Row],[Code ventilation]]=512,'Tarifs et relevés'!$N$25,"")))))))))))) | U7: =IF(ISERROR('Tarifs et relevés'!$N$26*Tableau1[[#This Row],[Engie Quantité KW]]),"",'Tarifs et relevés'!$N$26*Tableau1[[#This Row],[Engie Quantité KW]]) | V7: =IF(ISERROR(SUM(Tableau1[[#This Row],[SUEZ Transport HT]:[SUEZ Traitement HT]],Tableau1[[#This Row],[Sogedo Montant HT]],Tableau1[[#This Row],[Engie Montant HT]])),"",(SUM(Tableau1[[#This Row],[SUEZ Transport HT]:[SUEZ Traitement HT]],Tableau1[[#This Row],[Sogedo Montant HT]],Tableau1[[#This Row],[Engie Montant HT]],SUM(Tableau1[[#This Row],[Bouteille 30 Kg]:[Bouteille Le Cube]],Tableau1[[#This Row],[Gaz Citerne Montant HT]])))) -> 0 | W7: 3 | X7: =IF(W7=1,V7*$Z$2,0) -> 0 | Y7: =IF(W7=2,V7*$Y$2,0) -> 0 | Z7: =IF(W7=3,V7*$Z$2,0) -> 0 | AA7: =SUM(Tableau1[[#This Row],[SUEZ Transport HT]:[SUEZ Traitement HT]]) -> 0 | AB7: =Tableau1[[#This Row],[Sogedo Montant HT]] | AC7: =SUM(Tableau1[[#This Row],[Bouteille 30 Kg]:[Bouteille Le Cube]],Tableau1[[#This Row],[Gaz Citerne Montant HT]]) -> 0 | AD7: =Tableau1[[#This Row],[Engie Montant HT]] | AE7: =IF($E7=501,'Tarifs et relevés'!$N$14*'Tarifs et relevés'!$N$26,0) -> 0 | AF7: =IF($E7=501,'Tarifs et relevés'!$N$15*'Tarifs et relevés'!$N$26,0) -> 0 | AG7: =IF($E7=503,'Tarifs et relevés'!$N$16*'Tarifs et relevés'!$N$26,0) -> 0 | AH7: =IF($E7=504,'Tarifs et relevés'!$N$17*'Tarifs et relevés'!$N$26,0) -> 0 | AI7: =IF($E7=505,'Tarifs et relevés'!$N$18*'Tarifs et relevés'!$N$26,0) -> 0 | AJ7: =IF($E7=506,'Tarifs et relevés'!$N$19*'Tarifs et relevés'!$N$26,0) -> 0 | AK7: =IF($E7=507,'Tarifs et relevés'!$N$20*'Tarifs et relevés'!$N$26,0) -> 0 | AL7: =IF($E7=508,'Tarifs et relevés'!$N$21*'Tarifs et relevés'!$N$26,0) -> 0 | AM7: =IF($E7=509,'Tarifs et relevés'!$N$22*'Tarifs et relevés'!$N$26,0) -> 0 | AN7: =IF($E7=510,'Tarifs et relevés'!$N$23*'Tarifs et relevés'!$N$26,0) -> 0 | AO7: =IF($E7=511,'Tarifs et relevés'!$N$24*'Tarifs et relevés'!$N$26,0) -> 0 | AP7: =IF($E7=512,'Tarifs et relevés'!$N$25*'Tarifs et relevés'!$N$26,0) -> 0 | AQ7: =IF($E7=301,'Tarifs et relevés'!$N$5*'Tarifs et relevés'!$N$8,0) -> 0 | AR7: =IF($E7=302,'Tarifs et relevés'!$N$6*'Tarifs et relevés'!$N$8,0) -> 0 | AS7: =IF($E7=303,'Tarifs et relevés'!$N$7*'Tarifs et relevés'!$N$8,0) -> 0 | AT7: =SUM(X7:Z7) -> 0 | AU7: =V7+AT7 -> 0
A8: =IF(C8=200,'Code Fournisseur'!$C$4,IF(C8=300,'Code Fournisseur'!$C$12,IF(C8=400,'Code Fournisseur'!$C$17,IF(C8=500,'Code Fournisseur'!$C$23,"")))) -> SUEZ | C8: 200 | D8: =IF(E8=201,'Code Fournisseur'!C10,IF(E8=202,'Code Fournisseur'!$C$6,IF(E8=203,'Code Fournisseur'!$C$7,IF(E8=204,'Code Fournisseur'!$C$8,IF(E8=205,'Code Fournisseur'!$C$9,IF(E8=206,'Code Fournisseur'!$C$10,IF(E8=301,'Code Fournisseur'!$C$13,IF(E8=302,'Code Fournisseur'!$C$14,IF(E8=303,'Code Fournisseur'!$C$15,IF(E8=401,'Code Fournisseur'!$C$18,IF(E8=402,'Code Fournisseur'!$C$19,IF(E8=403,'Code Fournisseur'!$C$20,IF(E8=404,'Code Fournisseur'!$C$21,IF(E8=501,'Code Fournisseur'!$C$24,IF(E8=502,'Code Fournisseur'!$C$25,IF(E8=503,'Code Fournisseur'!$C$26,IF(E8=504,'Code Fournisseur'!$C$27,IF(E8=505,'Code Fournisseur'!$C$28,IF(E8=506,'Code Fournisseur'!$C$29,IF(E8=507,'Code Fournisseur'!$C$30,IF(E8=508,'Code Fournisseur'!$C$31,IF(E8=509,'Code Fournisseur'!$C$32,IF(E8=510,'Code Fournisseur'!$C$33,IF(E8=511,'Code Fournisseur'!$C$34,IF(E8=512,'Code Fournisseur'!$C$35,""))))))))))))))))))))))))) -> Traitement | E8: 201 | F8: 1 | G8: =IF(Tableau1[[#This Row],[Code ventilation]]=402,'Tarifs et relevés'!$G$16*Tableau1[[#This Row],[Quote part Quantités]],"") | H8: =IF(Tableau1[[#This Row],[Code ventilation]]=403,'Tarifs et relevés'!$G$17*Tableau1[[#This Row],[Quote part Quantités]],"") | I8: =IF(Tableau1[[#This Row],[Code ventilation]]=404,'Tarifs et relevés'!$G$18*Tableau1[[#This Row],[Quote part Quantités]],"") | J8: =IF(Tableau1[[#This Row],[Code ventilation]]=401,'Tarifs et relevés'!$G$14,"") | K8: =IF(ISERROR('Tarifs et relevés'!$G$15*Tableau1[[#This Row],[Gaz Citerne en Kg]]),"",'Tarifs et relevés'!$G$15*'Tableau des dépenses'!J8) | L8: =IF(Tableau1[[#This Row],[Code ventilation]]=201,IF(Tableau1[[#This Row],[Quote part Quantités]]=3,'Tarifs et relevés'!$G$4,IF(Tableau1[[#This Row],[Quote part Quantités]]=2,'Tarifs et relevés'!$G$4/3*2,IF(Tableau1[[#This Row],[Quote part Quantités]]=1,'Tarifs et relevés'!$G$4/3,""))),"") -> 100 | M8: =IF(Tableau1[[#This Row],[Code ventilation]]=202,'Tarifs et relevés'!$G$5*Tableau1[[#This Row],[Quote part Quantités]],"") | N8: =IF(Tableau1[[#This Row],[Code ventilation]]=203,'Tarifs et relevés'!$G$6*Tableau1[[#This Row],[Quote part Quantités]],"") | O8: =IF(Tableau1[[#This Row],[Code ventilation]]=204,'Tarifs et relevés'!$G$7*Tableau1[[#This Row],[Quote part Quantités]],"") | P8: =IF(Tableau1[[#This Row],[Code ventilation]]=205,'Tarifs et relevés'!$G$8*Tableau1[[#This Row],[Quote part Quantités]],"") | Q8: =IF(Tableau1[[#This Row],[Code ventilation]]=206,'Tarifs et relevés'!$G$9*Tableau1[[#This Row],[Quote part Quantités]],"") | R8: =IF(Tableau1[[#This Row],[Code ventilation]]=301,'Tarifs et relevés'!$N$5,IF(Tableau1[[#This Row],[Code ventilation]]=302,'Tarifs et relevés'!$N$6,IF(Tableau1[[#This Row],[Code ventilation]]=303,'Tarifs et relevés'!$N$7,""))) | S8: =IF(ISERROR('Tarifs et relevés'!$N$8*'Tableau des dépenses'!R8),"",'Tarifs et relevés'!$N$8*'Tableau des dépenses'!R8) | T8: =IF(Tableau1[[#This Row],[Code ventilation]]=501,'Tarifs et relevés'!$N$14,IF(Tableau1[[#This Row],[Code ventilation]]=502,'Tarifs et relevés'!$N$15,IF(Tableau1[[#This Row],[Code ventilation]]=503,'Tarifs et relevés'!$N$16,IF(Tableau1[[#This Row],[Code ventilation]]=504,'Tarifs et relevés'!$N$17,IF(Tableau1[[#This Row],[Code ventilation]]=505,'Tarifs et relevés'!$N$18,IF(Tableau1[[#This Row],[Code ventilation]]=506,'Tarifs et relevés'!$N$19,IF(Tableau1[[#This Row],[Code ventilation]]=507,'Tarifs et relevés'!$N$20,IF(Tableau1[[#This Row],[Code ventilation]]=508,'Tarifs et relevés'!$N$21,IF(Tableau1[[#This Row],[Code ventilation]]=509,'Tarifs et relevés'!$N$22,IF(Tableau1[[#This Row],[Code ventilation]]=510,'Tarifs et relevés'!$N$23,IF(Tableau1[[#This Row],[Code ventilation]]=511,'Tarifs et relevés'!$N$24,IF(Tableau1[[#This Row],[Code ventilation]]=512,'Tarifs et relevés'!$N$25,"")))))))))))) | U8: =IF(ISERROR('Tarifs et relevés'!$N$26*Tableau1[[#This Row],[Engie Quantité KW]]),"",'Tarifs et relevés'!$N$26*Tableau1[[#This Row],[Engie Quantité KW]]) | V8: =IF(ISERROR(SUM(Tableau1[[#This Row],[SUEZ Transport HT]:[SUEZ Traitement HT]],Tableau1[[#This Row],[Sogedo Montant HT]],Tableau1[[#This Row],[Engie Montant HT]])),"",(SUM(Tableau1[[#This Row],[SUEZ Transport HT]:[SUEZ Traitement HT]],Tableau1[[#This Row],[Sogedo Montant HT]],Tableau1[[#This Row],[Engie Montant HT]],SUM(Tableau1[[#This Row],[Bouteille 30 Kg]:[Bouteille Le Cube]],Tableau1[[#This Row],[Gaz Citerne Montant HT]])))) -> 100 | W8: 3 | X8: =IF(W8=1,V8*$Z$2,0) -> 0 | Y8: =IF(W8=2,V8*$Y$2,0) -> 0 | Z8: =IF(W8=3,V8*$Z$2,0) -> 20 | AA8: =SUM(Tableau1[[#This Row],[SUEZ Transport HT]:[SUEZ Traitement HT]]) -> 100 | AB8: =Tableau1[[#This Row],[Sogedo Montant HT]] | AC8: =SUM(Tableau1[[#This Row],[Bouteille 30 Kg]:[Bouteille Le Cube]],Tableau1[[#This Row],[Gaz Citerne Montant HT]]) -> 0 | AD8: =Tableau1[[#This Row],[Engie Montant HT]] | AE8: =IF($E8=501,'Tarifs et relevés'!$N$14*'Tarifs et relevés'!$N$26,0) -> 0 | AF8: =IF($E8=501,'Tarifs et relevés'!$N$15*'Tarifs et relevés'!$N$26,0) -> 0 | AG8: =IF($E8=503,'Tarifs et relevés'!$N$16*'Tarifs et relevés'!$N$26,0) -> 0 | AH8: =IF($E8=504,'Tarifs et relevés'!$N$17*'Tarifs et relevés'!$N$26,0) -> 0 | AI8: =IF($E8=505,'Tarifs et relevés'!$N$18*'Tarifs et relevés'!$N$26,0) -> 0 | AJ8: =IF($E8=506,'Tarifs et relevés'!$N$19*'Tarifs et relevés'!$N$26,0) -> 0 | AK8: =IF($E8=507,'Tarifs et relevés'!$N$20*'Tarifs et relevés'!$N$26,0) -> 0 | AL8: =IF($E8=508,'Tarifs et relevés'!$N$21*'Tarifs et relevés'!$N$26,0) -> 0 | AM8: =IF($E8=509,'Tarifs et relevés'!$N$22*'Tarifs et relevés'!$N$26,0) -> 0 | AN8: =IF($E8=510,'Tarifs et relevés'!$N$23*'Tarifs et relevés'!$N$26,0) -> 0 | AO8: =IF($E8=511,'Tarifs et relevés'!$N$24*'Tarifs et relevés'!$N$26,0) -> 0 | AP8: =IF($E8=512,'Tarifs et relevés'!$N$25*'Tarifs et relevés'!$N$26,0) -> 0 | AQ8: =IF($E8=301,'Tarifs et relevés'!$N$5*'Tarifs et relevés'!$N$8,0) -> 0 | AR8: =IF($E8=302,'Tarifs et relevés'!$N$6*'Tarifs et relevés'!$N$8,0) -> 0 | AS8: =IF($E8=303,'Tarifs et relevés'!$N$7*'Tarifs et relevés'!$N$8,0) -> 0 | AT8: =SUM(X8:Z8) -> 20 | AU8: =V8+AT8 -> 120
A9: =IF(C9=200,'Code Fournisseur'!$C$4,IF(C9=300,'Code Fournisseur'!$C$12,IF(C9=400,'Code Fournisseur'!$C$17,IF(C9=500,'Code Fournisseur'!$C$23,"")))) -> SUEZ | C9: 200 | D9: =IF(E9=201,'Code Fournisseur'!C11,IF(E9=202,'Code Fournisseur'!$C$6,IF(E9=203,'Code Fournisseur'!$C$7,IF(E9=204,'Code Fournisseur'!$C$8,IF(E9=205,'Code Fournisseur'!$C$9,IF(E9=206,'Code Fournisseur'!$C$10,IF(E9=301,'Code Fournisseur'!$C$13,IF(E9=302,'Code Fournisseur'!$C$14,IF(E9=303,'Code Fournisseur'!$C$15,IF(E9=401,'Code Fournisseur'!$C$18,IF(E9=402,'Code Fournisseur'!$C$19,IF(E9=403,'Code Fournisseur'!$C$20,IF(E9=404,'Code Fournisseur'!$C$21,IF(E9=501,'Code Fournisseur'!$C$24,IF(E9=502,'Code Fournisseur'!$C$25,IF(E9=503,'Code Fournisseur'!$C$26,IF(E9=504,'Code Fournisseur'!$C$27,IF(E9=505,'Code Fournisseur'!$C$28,IF(E9=506,'Code Fournisseur'!$C$29,IF(E9=507,'Code Fournisseur'!$C$30,IF(E9=508,'Code Fournisseur'!$C$31,IF(E9=509,'Code Fournisseur'!$C$32,IF(E9=510,'Code Fournisseur'!$C$33,IF(E9=511,'Code Fournisseur'!$C$34,IF(E9=512,'Code Fournisseur'!$C$35,""))))))))))))))))))))))))) -> Poubelle 770 litres | E9: 202 | F9: 15 | G9: =IF(Tableau1[[#This Row],[Code ventilation]]=402,'Tarifs et relevés'!$G$16*Tableau1[[#This Row],[Quote part Quantités]],"") | H9: =IF(Tableau1[[#This Row],[Code ventilation]]=403,'Tarifs et relevés'!$G$17*Tableau1[[#This Row],[Quote part Quantités]],"") | I9: =IF(Tableau1[[#This Row],[Code ventilation]]=404,'Tarifs et relevés'!$G$18*Tableau1[[#This Row],[Quote part Quantités]],"") | J9: =IF(Tableau1[[#This Row],[Code ventilation]]=401,'Tarifs et relevés'!$G$14,"") | K9: =IF(ISERROR('Tarifs et relevés'!$G$15*Tableau1[[#This Row],[Gaz Citerne en Kg]]),"",'Tarifs et relevés'!$G$15*'Tableau des dépenses'!J9) | L9: =IF(Tableau1[[#This Row],[Code ventilation]]=201,IF(Tableau1[[#This Row],[Quote part Quantités]]=3,'Tarifs et relevés'!$G$4,IF(Tableau1[[#This Row],[Quote part Quantités]]=2,'Tarifs et relevés'!$G$4/3*2,IF(Tableau1[[#This Row],[Quote part Quantités]]=1,'Tarifs et relevés'!$G$4/3,""))),"") | M9: =IF(Tableau1[[#This Row],[Code ventilation]]=202,'Tarifs et relevés'!$G$5*Tableau1[[#This Row],[Quote part Quantités]],"") -> 225 | N9: =IF(Tableau1[[#This Row],[Code ventilation]]=203,'Tarifs et relevés'!$G$6*Tableau1[[#This Row],[Quote part Quantités]],"") | O9: =IF(Tableau1[[#This Row],[Code ventilation]]=204,'Tarifs et relevés'!$G$7*Tableau1[[#This Row],[Quote part Quantités]],"") | P9: =IF(Tableau1[[#This Row],[Code ventilation]]=205,'Tarifs et relevés'!$G$8*Tableau1[[#This Row],[Quote part Quantités]],"") | Q9: =IF(Tableau1[[#This Row],[Code ventilation]]=206,'Tarifs et relevés'!$G$9*Tableau1[[#This Row],[Quote part Quantités]],"") | R9: =IF(Tableau1[[#This Row],[Code ventilation]]=301,'Tarifs et relevés'!$N$5,IF(Tableau1[[#This Row],[Code ventilation]]=302,'Tarifs et relevés'!$N$6,IF(Tableau1[[#This Row],[Code ventilation]]=303,'Tarifs et relevés'!$N$7,""))) | S9: =IF(ISERROR('Tarifs et relevés'!$N$8*'Tableau des dépenses'!R9),"",'Tarifs et relevés'!$N$8*'Tableau des dépenses'!R9) | T9: =IF(Tableau1[[#This Row],[Code ventilation]]=501,'Tarifs et relevés'!$N$14,IF(Tableau1[[#This Row],[Code ventilation]]=502,'Tarifs et relevés'!$N$15,IF(Tableau1[[#This Row],[Code ventilation]]=503,'Tarifs et relevés'!$N$16,IF(Tableau1[[#This Row],[Code ventilation]]=504,'Tarifs et relevés'!$N$17,IF(Tableau1[[#This Row],[Code ventilation]]=505,'Tarifs et relevés'!$N$18,IF(Tableau1[[#This Row],[Code ventilation]]=506,'Tarifs et relevés'!$N$19,IF(Tableau1[[#This Row],[Code ventilation]]=507,'Tarifs et relevés'!$N$20,IF(Tableau1[[#This Row],[Code ventilation]]=508,'Tarifs et relevés'!$N$21,IF(Tableau1[[#This Row],[Code ventilation]]=509,'Tarifs et relevés'!$N$22,IF(Tableau1[[#This Row],[Code ventilation]]=510,'Tarifs et relevés'!$N$23,IF(Tableau1[[#This Row],[Code ventilation]]=511,'Tarifs et relevés'!$N$24,IF(Tableau1[[#This Row],[Code ventilation]]=512,'Tarifs et relevés'!$N$25,"")))))))))))) | U9: =IF(ISERROR('Tarifs et relevés'!$N$26*Tableau1[[#This Row],[Engie Quantité KW]]),"",'Tarifs et relevés'!$N$26*Tableau1[[#This Row],[Engie Quantité KW]]) | V9: =IF(ISERROR(SUM(Tableau1[[#This Row],[SUEZ Transport HT]:[SUEZ Traitement HT]],Tableau1[[#This Row],[Sogedo Montant HT]],Tableau1[[#This Row],[Engie Montant HT]])),"",(SUM(Tableau1[[#This Row],[SUEZ Transport HT]:[SUEZ Traitement HT]],Tableau1[[#This Row],[Sogedo Montant HT]],Tableau1[[#This Row],[Engie Montant HT]],SUM(Tableau1[[#This Row],[Bouteille 30 Kg]:[Bouteille Le Cube]],Tableau1[[#This Row],[Gaz Citerne Montant HT]])))) -> 225 | W9: 3 | X9: =IF(W9=1,V9*$Z$2,0) -> 0 | Y9: =IF(W9=2,V9*$Y$2,0) -> 0 | Z9: =IF(W9=3,V9*$Z$2,0) -> 45 | AA9: =SUM(Tableau1[[#This Row],[SUEZ Transport HT]:[SUEZ Traitement HT]]) -> 225 | AB9: =Tableau1[[#This Row],[Sogedo Montant HT]] | AC9: =SUM(Tableau1[[#This Row],[Bouteille 30 Kg]:[Bouteille Le Cube]],Tableau1[[#This Row],[Gaz Citerne Montant HT]]) -> 0 | AD9: =Tableau1[[#This Row],[Engie Montant HT]] | AE9: =IF($E9=501,'Tarifs et relevés'!$N$14*'Tarifs et relevés'!$N$26,0) -> 0 | AF9: =IF($E9=501,'Tarifs et relevés'!$N$15*'Tarifs et relevés'!$N$26,0) -> 0 | AG9: =IF($E9=503,'Tarifs et relevés'!$N$16*'Tarifs et relevés'!$N$26,0) -> 0 | AH9: =IF($E9=504,'Tarifs et relevés'!$N$17*'Tarifs et relevés'!$N$26,0) -> 0 | AI9: =IF($E9=505,'Tarifs et relevés'!$N$18*'Tarifs et relevés'!$N$26,0) -> 0 | AJ9: =IF($E9=506,'Tarifs et relevés'!$N$19*'Tarifs et relevés'!$N$26,0) -> 0 | AK9: =IF($E9=507,'Tarifs et relevés'!$N$20*'Tarifs et relevés'!$N$26,0) -> 0 | AL9: =IF($E9=508,'Tarifs et relevés'!$N$21*'Tarifs et relevés'!$N$26,0) -> 0 | AM9: =IF($E9=509,'Tarifs et relevés'!$N$22*'Tarifs et relevés'!$N$26,0) -> 0 | AN9: =IF($E9=510,'Tarifs et relevés'!$N$23*'Tarifs et relevés'!$N$26,0) -> 0 | AO9: =IF($E9=511,'Tarifs et relevés'!$N$24*'Tarifs et relevés'!$N$26,0) -> 0 | AP9: =IF($E9=512,'Tarifs et relevés'!$N$25*'Tarifs et relevés'!$N$26,0) -> 0 | AQ9: =IF($E9=301,'Tarifs et relevés'!$N$5*'Tarifs et relevés'!$N$8,0) -> 0 | AR9: =IF($E9=302,'Tarifs et relevés'!$N$6*'Tarifs et relevés'!$N$8,0) -> 0 | AS9: =IF($E9=303,'Tarifs et relevés'!$N$7*'Tarifs et relevés'!$N$8,0) -> 0 | AT9: =SUM(X9:Z9) -> 45 | AU9: =V9+AT9 -> 270
A10: =IF(C10=200,'Code Fournisseur'!$C$4,IF(C10=300,'Code Fournisseur'!$C$12,IF(C10=400,'Code Fournisseur'!$C$17,IF(C10=500,'Code Fournisseur'!$C$23,"")))) -> SUEZ | C10: 200 | D10: =IF(E10=201,'Code Fournisseur'!C12,IF(E10=202,'Code Fournisseur'!$C$6,IF(E10=203,'Code Fournisseur'!$C$7,IF(E10=204,'Code Fournisseur'!$C$8,IF(E10=205,'Code Fournisseur'!$C$9,IF(E10=206,'Code Fournisseur'!$C$10,IF(E10=301,'Code Fournisseur'!$C$13,IF(E10=302,'Code Fournisseur'!$C$14,IF(E10=303,'Code Fournisseur'!$C$15,IF(E10=401,'Code Fournisseur'!$C$18,IF(E10=402,'Code Fournisseur'!$C$19,IF(E10=403,'Code Fournisseur'!$C$20,IF(E10=404,'Code Fournisseur'!$C$21,IF(E10=501,'Code Fournisseur'!$C$24,IF(E10=502,'Code Fournisseur'!$C$25,IF(E10=503,'Code Fournisseur'!$C$26,IF(E10=504,'Code Fournisseur'!$C$27,IF(E10=505,'Code Fournisseur'!$C$28,IF(E10=506,'Code Fournisseur'!$C$29,IF(E10=507,'Code Fournisseur'!$C$30,IF(E10=508,'Code Fournisseur'!$C$31,IF(E10=509,'Code Fournisseur'!$C$32,IF(E10=510,'Code Fournisseur'!$C$33,IF(E10=511,'Code Fournisseur'!$C$34,IF(E10=512,'Code Fournisseur'!$C$35,""))))))))))))))))))))))))) -> Poubelle 240 litres | E10: 203 | F10: 10 | G10: =IF(Tableau1[[#This Row],[Code ventilation]]=402,'Tarifs et relevés'!$G$16*Tableau1[[#This Row],[Quote part Quantités]],"") | H10: =IF(Tableau1[[#This Row],[Code ventilation]]=403,'Tarifs et relevés'!$G$17*Tableau1[[#This Row],[Quote part Quantités]],"") | I10: =IF(Tableau1[[#This Row],[Code ventilation]]=404,'Tarifs et relevés'!$G$18*Tableau1[[#This Row],[Quote part Quantités]],"") | J10: =IF(Tableau1[[#This Row],[Code ventilation]]=401,'Tarifs et relevés'!$G$14,"") | K10: =IF(ISERROR('Tarifs et relevés'!$G$15*Tableau1[[#This Row],[Gaz Citerne en Kg]]),"",'Tarifs et relevés'!$G$15*'Tableau des dépenses'!J10) | L10: =IF(Tableau1[[#This Row],[Code ventilation]]=201,IF(Tableau1[[#This Row],[Quote part Quantités]]=3,'Tarifs et relevés'!$G$4,IF(Tableau1[[#This Row],[Quote part Quantités]]=2,'Tarifs et relevés'!$G$4/3*2,IF(Tableau1[[#This Row],[Quote part Quantités]]=1,'Tarifs et relevés'!$G$4/3,""))),"") | M10: =IF(Tableau1[[#This Row],[Code ventilation]]=202,'Tarifs et relevés'!$G$5*Tableau1[[#This Row],[Quote part Quantités]],"") | N10: =IF(Tableau1[[#This Row],[Code ventilation]]=203,'Tarifs et relevés'!$G$6*Tableau1[[#This Row],[Quote part Quantités]],"") -> 80 | O10: =IF(Tableau1[[#This Row],[Code ventilation]]=204,'Tarifs et relevés'!$G$7*Tableau1[[#This Row],[Quote part Quantités]],"") | P10: =IF(Tableau1[[#This Row],[Code ventilation]]=205,'Tarifs et relevés'!$G$8*Tableau1[[#This Row],[Quote part Quantités]],"") | Q10: =IF(Tableau1[[#This Row],[Code ventilation]]=206,'Tarifs et relevés'!$G$9*Tableau1[[#This Row],[Quote part Quantités]],"") | R10: =IF(Tableau1[[#This Row],[Code ventilation]]=301,'Tarifs et relevés'!$N$5,IF(Tableau1[[#This Row],[Code ventilation]]=302,'Tarifs et relevés'!$N$6,IF(Tableau1[[#This Row],[Code ventilation]]=303,'Tarifs et relevés'!$N$7,""))) | S10: =IF(ISERROR('Tarifs et relevés'!$N$8*'Tableau des dépenses'!R10),"",'Tarifs et relevés'!$N$8*'Tableau des dépenses'!R10) | T10: =IF(Tableau1[[#This Row],[Code ventilation]]=501,'Tarifs et relevés'!$N$14,IF(Tableau1[[#This Row],[Code ventilation]]=502,'Tarifs et relevés'!$N$15,IF(Tableau1[[#This Row],[Code ventilation]]=503,'Tarifs et relevés'!$N$16,IF(Tableau1[[#This Row],[Code ventilation]]=504,'Tarifs et relevés'!$N$17,IF(Tableau1[[#This Row],[Code ventilation]]=505,'Tarifs et relevés'!$N$18,IF(Tableau1[[#This Row],[Code ventilation]]=506,'Tarifs et relevés'!$N$19,IF(Tableau1[[#This Row],[Code ventilation]]=507,'Tarifs et relevés'!$N$20,IF(Tableau1[[#This Row],[Code ventilation]]=508,'Tarifs et relevés'!$N$21,IF(Tableau1[[#This Row],[Code ventilation]]=509,'Tarifs et relevés'!$N$22,IF(Tableau1[[#This Row],[Code ventilation]]=510,'Tarifs et relevés'!$N$23,IF(Tableau1[[#This Row],[Code ventilation]]=511,'Tarifs et relevés'!$N$24,IF(Tableau1[[#This Row],[Code ventilation]]=512,'Tarifs et relevés'!$N$25,"")))))))))))) | U10: =IF(ISERROR('Tarifs et relevés'!$N$26*Tableau1[[#This Row],[Engie Quantité KW]]),"",'Tarifs et relevés'!$N$26*Tableau1[[#This Row],[Engie Quantité KW]]) | V10: =IF(ISERROR(SUM(Tableau1[[#This Row],[SUEZ Transport HT]:[SUEZ Traitement HT]],Tableau1[[#This Row],[Sogedo Montant HT]],Tableau1[[#This Row],[Engie Montant HT]])),"",(SUM(Tableau1[[#This Row],[SUEZ Transport HT]:[SUEZ Traitement HT]],Tableau1[[#This Row],[Sogedo Montant HT]],Tableau1[[#This Row],[Engie Montant HT]],SUM(Tableau1[[#This Row],[Bouteille 30 Kg]:[Bouteille Le Cube]],Tableau1[[#This Row],[Gaz Citerne Montant HT]])))) -> 80 | W10: 3 | X10: =IF(W10=1,V10*$Z$2,0) -> 0 | Y10: =IF(W10=2,V10*$Y$2,0) -> 0 | Z10: =IF(W10=3,V10*$Z$2,0) -> 16 | AA10: =SUM(Tableau1[[#This Row],[SUEZ Transport HT]:[SUEZ Traitement HT]]) -> 80 | AB10: =Tableau1[[#This Row],[Sogedo Montant HT]] | AC10: =SUM(Tableau1[[#This Row],[Bouteille 30 Kg]:[Bouteille Le Cube]],Tableau1[[#This Row],[Gaz Citerne Montant HT]]) -> 0 | AD10: =Tableau1[[#This Row],[Engie Montant HT]] | AE10: =IF($E10=501,'Tarifs et relevés'!$N$14*'Tarifs et relevés'!$N$26,0) -> 0 | AF10: =IF($E10=501,'Tarifs et relevés'!$N$15*'Tarifs et relevés'!$N$26,0) -> 0 | AG10: =IF($E10=503,'Tarifs et relevés'!$N$16*'Tarifs et relevés'!$N$26,0) -> 0 | AH10: =IF($E10=504,'Tarifs et relevés'!$N$17*'Tarifs et relevés'!$N$26,0) -> 0 | AI10: =IF($E10=505,'Tarifs et relevés'!$N$18*'Tarifs et relevés'!$N$26,0) -> 0 | AJ10: =IF($E10=506,'Tarifs et relevés'!$N$19*'Tarifs et relevés'!$N$26,0) -> 0 | AK10: =IF($E10=507,'Tarifs et relevés'!$N$20*'Tarifs et relevés'!$N$26,0) -> 0 | AL10: =IF($E10=508,'Tarifs et relevés'!$N$21*'Tarifs et relevés'!$N$26,0) -> 0 | AM10: =IF($E10=509,'Tarifs et relevés'!$N$22*'Tarifs et relevés'!$N$26,0) -> 0 | AN10: =IF($E10=510,'Tarifs et relevés'!$N$23*'Tarifs et relevés'!$N$26,0) -> 0 | AO10: =IF($E10=511,'Tarifs et relevés'!$N$24*'Tarifs et relevés'!$N$26,0) -> 0 | AP10: =IF($E10=512,'Tarifs et relevés'!$N$25*'Tarifs et relevés'!$N$26,0) -> 0 | AQ10: =IF($E10=301,'Tarifs et relevés'!$N$5*'Tarifs et relevés'!$N$8,0) -> 0 | AR10: =IF($E10=302,'Tarifs et relevés'!$N$6*'Tarifs et relevés'!$N$8,0) -> 0 | AS10: =IF($E10=303,'Tarifs et relevés'!$N$7*'Tarifs et relevés'!$N$8,0) -> 0 | AT10: =SUM(X10:Z10) -> 16 | AU10: =V10+AT10 -> 96
A11: =IF(C11=200,'Code Fournisseur'!$C$4,IF(C11=300,'Code Fournisseur'!$C$12,IF(C11=400,'Code Fournisseur'!$C$17,IF(C11=500,'Code Fournisseur'!$C$23,"")))) -> SUEZ | C11: 200 | D11: =IF(E11=201,'Code Fournisseur'!C13,IF(E11=202,'Code Fournisseur'!$C$6,IF(E11=203,'Code Fournisseur'!$C$7,IF(E11=204,'Code Fournisseur'!$C$8,IF(E11=205,'Code Fournisseur'!$C$9,IF(E11=206,'Code Fournisseur'!$C$10,IF(E11=301,'Code Fournisseur'!$C$13,IF(E11=302,'Code Fournisseur'!$C$14,IF(E11=303,'Code Fournisseur'!$C$15,IF(E11=401,'Code Fournisseur'!$C$18,IF(E11=402,'Code Fournisseur'!$C$19,IF(E11=403,'Code Fournisseur'!$C$20,IF(E11=404,'Code Fournisseur'!$C$21,IF(E11=501,'Code Fournisseur'!$C$24,IF(E11=502,'Code Fournisseur'!$C$25,IF(E11=503,'Code Fournisseur'!$C$26,IF(E11=504,'Code Fournisseur'!$C$27,IF(E11=505,'Code Fournisseur'!$C$28,IF(E11=506,'Code Fournisseur'!$C$29,IF(E11=507,'Code Fournisseur'!$C$30,IF(E11=508,'Code Fournisseur'!$C$31,IF(E11=509,'Code Fournisseur'!$C$32,IF(E11=510,'Code Fournisseur'!$C$33,IF(E11=511,'Code Fournisseur'!$C$34,IF(E11=512,'Code Fournisseur'!$C$35,""))))))))))))))))))))))))) -> Transport Benne cartons | E11: 204 | F11: 1 | G11: =IF(Tableau1[[#This Row],[Code ventilation]]=402,'Tarifs et relevés'!$G$16*Tableau1[[#This Row],[Quote part Quantités]],"") | H11: =IF(Tableau1[[#This Row],[Code ventilation]]=403,'Tarifs et relevés'!$G$17*Tableau1[[#This Row],[Quote part Quantités]],"") | I11: =IF(Tableau1[[#This Row],[Code ventilation]]=404,'Tarifs et relevés'!$G$18*Tableau1[[#This Row],[Quote part Quantités]],"") | J11: =IF(Tableau1[[#This Row],[Code ventilation]]=401,'Tarifs et relevés'!$G$14,"") | K11: =IF(ISERROR('Tarifs et relevés'!$G$15*Tableau1[[#This Row],[Gaz Citerne en Kg]]),"",'Tarifs et relevés'!$G$15*'Tableau des dépenses'!J11) | L11: =IF(Tableau1[[#This Row],[Code ventilation]]=201,IF(Tableau1[[#This Row],[Quote part Quantités]]=3,'Tarifs et relevés'!$G$4,IF(Tableau1[[#This Row],[Quote part Quantités]]=2,'Tarifs et relevés'!$G$4/3*2,IF(Tableau1[[#This Row],[Quote part Quantités]]=1,'Tarifs et relevés'!$G$4/3,""))),"") | M11: =IF(Tableau1[[#This Row],[Code ventilation]]=202,'Tarifs et relevés'!$G$5*Tableau1[[#This Row],[Quote part Quantités]],"") | N11: =IF(Tableau1[[#This Row],[Code ventilation]]=203,'Tarifs et relevés'!$G$6*Tableau1[[#This Row],[Quote part Quantités]],"") | O11: =IF(Tableau1[[#This Row],[Code ventilation]]=204,'Tarifs et relevés'!$G$7*Tableau1[[#This Row],[Quote part Quantités]],"") -> 200 | P11: =IF(Tableau1[[#This Row],[Code ventilation]]=205,'Tarifs et relevés'!$G$8*Tableau1[[#This Row],[Quote part Quantités]],"") | Q11: =IF(Tableau1[[#This Row],[Code ventilation]]=206,'Tarifs et relevés'!$G$9*Tableau1[[#This Row],[Quote part Quantités]],"") | R11: =IF(Tableau1[[#This Row],[Code ventilation]]=301,'Tarifs et relevés'!$N$5,IF(Tableau1[[#This Row],[Code ventilation]]=302,'Tarifs et relevés'!$N$6,IF(Tableau1[[#This Row],[Code ventilation]]=303,'Tarifs et relevés'!$N$7,""))) | S11: =IF(ISERROR('Tarifs et relevés'!$N$8*'Tableau des dépenses'!R11),"",'Tarifs et relevés'!$N$8*'Tableau des dépenses'!R11) | T11: =IF(Tableau1[[#This Row],[Code ventilation]]=501,'Tarifs et relevés'!$N$14,IF(Tableau1[[#This Row],[Code ventilation]]=502,'Tarifs et relevés'!$N$15,IF(Tableau1[[#This Row],[Code ventilation]]=503,'Tarifs et relevés'!$N$16,IF(Tableau1[[#This Row],[Code ventilation]]=504,'Tarifs et relevés'!$N$17,IF(Tableau1[[#This Row],[Code ventilation]]=505,'Tarifs et relevés'!$N$18,IF(Tableau1[[#This Row],[Code ventilation]]=506,'Tarifs et relevés'!$N$19,IF(Tableau1[[#This Row],[Code ventilation]]=507,'Tarifs et relevés'!$N$20,IF(Tableau1[[#This Row],[Code ventilation]]=508,'Tarifs et relevés'!$N$21,IF(Tableau1[[#This Row],[Code ventilation]]=509,'Tarifs et relevés'!$N$22,IF(Tableau1[[#This Row],[Code ventilation]]=510,'Tarifs et relevés'!$N$23,IF(Tableau1[[#This Row],[Code ventilation]]=511,'Tarifs et relevés'!$N$24,IF(Tableau1[[#This Row],[Code ventilation]]=512,'Tarifs et relevés'!$N$25,"")))))))))))) | U11: =IF(ISERROR('Tarifs et relevés'!$N$26*Tableau1[[#This Row],[Engie Quantité KW]]),"",'Tarifs et relevés'!$N$26*Tableau1[[#This Row],[Engie Quantité KW]]) | V11: =IF(ISERROR(SUM(Tableau1[[#This Row],[SUEZ Transport HT]:[SUEZ Traitement HT]],Tableau1[[#This Row],[Sogedo Montant HT]],Tableau1[[#This Row],[Engie Montant HT]])),"",(SUM(Tableau1[[#This Row],[SUEZ Transport HT]:[SUEZ Traitement HT]],Tableau1[[#This Row],[Sogedo Montant HT]],Tableau1[[#This Row],[Engie Montant HT]],SUM(Tableau1[[#This Row],[Bouteille 30 Kg]:[Bouteille Le Cube]],Tableau1[[#This Row],[Gaz Citerne Montant HT]])))) -> 200 | W11: 3 | X11: =IF(W11=1,V11*$Z$2,0) -> 0 | Y11: =IF(W11=2,V11*$Y$2,0) -> 0 | Z11: =IF(W11=3,V11*$Z$2,0) -> 40 | AA11: =SUM(Tableau1[[#This Row],[SUEZ Transport HT]:[SUEZ Traitement HT]]) -> 200 | AB11: =Tableau1[[#This Row],[Sogedo Montant HT]] | AC11: =SUM(Tableau1[[#This Row],[Bouteille 30 Kg]:[Bouteille Le Cube]],Tableau1[[#This Row],[Gaz Citerne Montant HT]]) -> 0 | AD11: =Tableau1[[#This Row],[Engie Montant HT]] | AE11: =IF($E11=501,'Tarifs et relevés'!$N$14*'Tarifs et relevés'!$N$26,0) -> 0 | AF11: =IF($E11=501,'Tarifs et relevés'!$N$15*'Tarifs et relevés'!$N$26,0) -> 0 | AG11: =IF($E11=503,'Tarifs et relevés'!$N$16*'Tarifs et relevés'!$N$26,0) -> 0 | AH11: =IF($E11=504,'Tarifs et relevés'!$N$17*'Tarifs et relevés'!$N$26,0) -> 0 | AI11: =IF($E11=505,'Tarifs et relevés'!$N$18*'Tarifs et relevés'!$N$26,0) -> 0 | AJ11: =IF($E11=506,'Tarifs et relevés'!$N$19*'Tarifs et relevés'!$N$26,0) -> 0 | AK11: =IF($E11=507,'Tarifs et relevés'!$N$20*'Tarifs et relevés'!$N$26,0) -> 0 | AL11: =IF($E11=508,'Tarifs et relevés'!$N$21*'Tarifs et relevés'!$N$26,0) -> 0 | AM11: =IF($E11=509,'Tarifs et relevés'!$N$22*'Tarifs et relevés'!$N$26,0) -> 0 | AN11: =IF($E11=510,'Tarifs et relevés'!$N$23*'Tarifs et relevés'!$N$26,0) -> 0 | AO11: =IF($E11=511,'Tarifs et relevés'!$N$24*'Tarifs et relevés'!$N$26,0) -> 0 | AP11: =IF($E11=512,'Tarifs et relevés'!$N$25*'Tarifs et relevés'!$N$26,0) -> 0 | AQ11: =IF($E11=301,'Tarifs et relevés'!$N$5*'Tarifs et relevés'!$N$8,0) -> 0 | AR11: =IF($E11=302,'Tarifs et relevés'!$N$6*'Tarifs et relevés'!$N$8,0) -> 0 | AS11: =IF($E11=303,'Tarifs et relevés'!$N$7*'Tarifs et relevés'!$N$8,0) -> 0 | AT11: =SUM(X11:Z11) -> 40 | AU11: =V11+AT11 -> 240
