Workbook

Sheet Calcul TVA
A2: Extraction TVA
B4: TTC | D4: HT
A5: 0.055 | D5: =B5/(1+5.5/100) -> 0
A6: 0.1 | D6: =B6/(1+10/100) -> 0
A7: 0.2 | D7: =B7/(1+20/100) -> 0
A10: Calcul TVA
B12: HT | D12: TTC
A13: 0.055 | D13: =B13*(1+5.5/100) -> 0
A14: 0.1 | D14: =B14*(1+10/100) -> 0
A15: 0.2 | D15: =B15*(1+20/100) -> 0

Sheet Code Fournisseur
B1: Année 2018
B3: Codes | C3: Désignation
B4: 200 | C4: SUEZ
B5: 201 | C5: Transport
B6: 202 | C6: Poubelle 770 litres
B7: 203 | C7: Poubelle 240 litres
B8: 204 | C8: Transport Benne cartons
B9: 205 | C9: Tarif à la tonne / carton
B10: 206 | C10: Traitement
B12: 300 | C12: SOGEDO
B13: 301 | C13: Relevé 01
B14: 302 | C14: Relevé intermédiare
B15: 303 | C15: Relevé 03
B17: 400 | C17: PRIMAGAZ
... B35: 512 | C35: Relevé Décembre

Sheet Tarifs et relevés
D2: Code | F2: Désignation | G2: Tarifs | K2: Code | L2: Désignation | M2: M3 | N2: Différence
D4: 201 | E4: Transport | G4: 300 | L4: Relevé précédent | M4: 5000
D5: 202 | E5: Levée de poubelle 770 litres | G5: 15 | K5: 301 | L5: Relevé 01 | M5: 6000 | N5: =IF(M5>0,M5-M4,"") -> 1000
D6: 203 | E6: Levée de poubelle 240 litres | G6: 8 | K6: 302 | L6: Relevé 02 | M6: 8000 | N6: =IF(M6>0,M6-M5,"") -> 2000
D7: 204 | E7: Transport benne Carton | G7: 200 | K7: 302 | L7: Relevé 03 | M7: 9500 | N7: =IF(M7>0,M7-M6,"") -> 1500
D8: 205 | E8: Tarif à la tonne carton | G8: 10.5 | L8: Tarif au M3 | N8: 0.99
D9: 206 | E9: Traitement | G9: 500
D11: Code | F11: Compteur | G11: Différence | K11: Code | L11: Désignation | M11: Kw | N11: Différence
D13: 401 | E13: Relevé 01 | F13: 8500 | L13: Relevé précedent | M13: 1000
E14: Relevé 02 | F14: 9500 | G14: =F14-F13 -> 1000 | K14: 501 | L14: Janvier | M14: 1500 | N14: =IF(M14>0,M14-M13,"") -> 500
F15: Tarif au Kg | G15: 1 | K15: 502 | L15: Février | M15: 2000 | N15: =IF(M15>0,M15-M14,"") -> 500
D16: 402 | E16: Bouteille 30 Kg | G16: 32.5 | K16: 503 | L16: Mars | M16: 3000 | N16: =IF(M16>0,M16-M15,"") -> 1000
D17: 403 | E17: Bouteille 13 Kg | G17: 24.5 | K17: 504 | L17: Avril | M17: 4000 | N17: =IF(M17>0,M17-M16,"") -> 1000
D18: 404 | E18: Bouteille Le Cube | G18: 18 | K18: 505 | L18: Mai | M18: 6500 | N18: =IF(M18>0,M18-M17,"") -> 2500
K19: 506 | L19: Juin | M19: 8000 | N19: =IF(M19>0,M19-M18,"") -> 1500
K20: 507 | L20: Juillet | M20: 11000 | N20: =IF(M20>0,M20-M19,"") -> 3000
K21: 508 | L21: Août | M21: 14000 | N21: =IF(M21>0,M21-M20,"") -> 3000
K22: 509 | L22: Septembre | M22: 17000 | N22: =IF(M22>0,M22-M21,"") -> 3000
K23: 510 | L23: Octobre | M23: 18000 | N23: =IF(M23>0,M23-M22,"") -> 1000
K24: 511 | L24: Novembre | M24: 20000 | N24: =IF(M24>0,M24-M23,"") -> 2000
K25: 512 | L25: Décembre | M25: 22000 | N25: =IF(M25>0,M25-M24,"") -> 2000
L26: Tarif au KW | N26: 0.25

Sheet Tableau des dépenses
A2: Poste d'investissement | B2: Date | C2: Code travaux | D2: Détail de produit | E2: Code ventilation | F2: Quote part Quantités | G2: Bouteille 30 Kg | H2: Bouteille 13 Kg | I2: Bouteille Le Cube | J2: Gaz Citerne en Kg | K2: Gaz Citerne Montant HT | L2: SUEZ Transport HT | M2: SUEZ 770 l HT | N2: SUEZ 240 l HT | O2: SUEZ Carton HT | P2: SUEZ carton/T HT | Q2: SUEZ Traitement HT | R2: Sogedo Quantité M3 | S2: Sogedo Montant HT | T2: Engie Quantité KW | U2: Engie Montant HT | V2: Total HT | W2: Code TVA | X2: 5,50% | Y2: 10,00% | Z2: 20,00% | AA2: Total HT SUEZ | AB2: Total HT SOGEDO | AC2: Total HT PRIMAGAZ | AD2: Total HT ENGIE | AE2: ENGIE Janvier | AF2: ENGIE Fevrier | AG2: ENGIE Mars | AH2: ENGIE Avril | AI2: ENGIE Mai | AJ2: ENGIE Juin | AK2: ENGIE Juillet | AL2: ENGIE Août | AM2: ENGIE Septembre | AN2: ENGIE Octobre | AO2: ENGIE Novembre | AP2: ENGIE Décembre | AQ2: SOGEDO Relevé 01 | AR2: SOGEDO Relevé 02 | AS2: SOGEDO Relevé 03 | AT2: Montant TVA | AU2: Total TTC
A3: =IF(C3=200,'Code Fournisseur'!$C$4,IF(C3=300,'Code Fournisseur'!$C$12,IF(C3=400,'Code Fournisseur'!$C$17,IF(C3=500,'Code Fournisseur'!$C$23,"")))) -> PRIMAGAZ | C3: 400 | D3: =IF(E3=201,'Code Fournisseur'!C5,IF(E3=202,'Code Fournisseur'!$C$6,IF(E3=203,'Code Fournisseur'!$C$7,IF(E3=204,'Code Fournisseur'!$C$8,IF(E3=205,'Code Fournisseur'!$C$9,IF(E3=206,'Code Fournisseur'!$C$10,IF(E3=301,'Code Fournisseur'!$C$13,IF(E3=302,'Code Fournisseur'!$C$14,IF(E3=303,'Code Fournisseur'!$C$15,IF(E3=401,'Code Fournisseur'!$C$18,IF(E3=402,'Code Fournisseur'!$C$19,IF(E3=403,'Code Fournisseur'!$C$20,IF(E3=404,'Code Fournisseur'!$C$21,IF(E3=501,'Code Fournisseur'!$C$24,IF(E3=502,'Code Fournisseur'!$C$25,IF(E3=503,'Code Fournisseur'!$C$26,IF(E3=504,'Code Fournisseur'!$C$27,IF(E3=505,'Code Fournisseur'!$C$28,IF(E3=506,'Code Fournisseur'!$C$29,IF(E3=507,'Code Fournisseur'!$C$30,IF(E3=508,'Code Fournisseur'!$C$31,IF(E3=509,'Code Fournisseur'!$C$32,IF(E3=510,'Code Fournisseur'!$C$33,IF(E3=511,'Code Fournisseur'!$C$34,IF(E3=512,'Code Fournisseur'!$C$35,""))))))))))))))))))))))))) -> Citerne | E3: 401 | G3: =IF(Tableau1[[#This Row],[Code ventilation]]=402,'Tarifs et relevés'!$G$16*Tableau1[[#This Row],[Quote part Quantités]],"") | H3: =IF(Tableau1[[#This Row],[Code ventilation]]=403,'Tarifs et relevés'!$G$17*Tableau1[[#This Row],[Quote part Quantités]],"") | I3: =IF(Tableau1[[#This Row],[Code ventilation]]=404,'Tarifs et relevés'!$G$18*Tableau1[[#This Row],[Quote part Quantités]],"") | J3: =IF(Tableau1[[#This Row],[Code ventilation]]=401,'Tarifs et relevés'!$G$14,"") -> 1000 | K3: =IF(ISERROR('Tarifs et relevés'!$G$15*Tableau1[[#This Row],[Gaz Citerne en Kg]]),"",'Tarifs et relevés'!$G$15*'Tableau des dépenses'!J3) -> 1000 | L3: =IF(Tableau1[[#This Row],[Code ventilation]]=201,IF(Tableau1[[#This Row],[Quote part Quantités]]=3,'Tarifs et relevés'!$G$4,IF(Tableau1[[#This Row],[Quote part Quantités]]=2,'Tarifs et relevés'!$G$4/3*2,IF(Tableau1[[#This Row],[Quote part Quantités]]=1,'Tarifs et relevés'!$G$4/3,""))),"") | M3: =IF(Tableau1[[#This Row],[Code ventilation]]=202,'Tarifs et relevés'!$G$5*Tableau1[[#This Row],[Quote part Quantités]],"") | N3: =IF(Tableau1[[#This Row],[Code ventilation]]=203,'Tarifs et relevés'!$G$6*Tableau1[[#This Row],[Quote part Quantités]],"") | O3: =IF(Tableau1[[#This Row],[Code ventilation]]=204,'Tarifs et relevés'!$G$7*Tableau1[[#This Row],[Quote part Quantités]],"") | P3: =IF(Tableau1[[#This Row],[Code ventilation]]=205,'Tarifs et relevés'!$G$8*Tableau1[[#This Row],[Quote part Quantités]],"") | Q3: =IF(Tableau1[[#This Row],[Code ventilation]]=206,'Tarifs et relevés'!$G$9*Tableau1[[#This Row],[Quote part Quantités]],"") | R3: =IF(Tableau1[[#This Row],[Code ventilation]]=301,'Tarifs et relevés'!$N$5,IF(Tableau1[[#This Row],[Code ventilation]]=302,'Tarifs et relevés'!$N$6,IF(Tableau1[[#This Row],[Code ventilation]]=303,'Tarifs et relevés'!$N$7,""))) | S3: =IF(ISERROR('Tarifs et relevés'!$N$8*'Tableau des dépenses'!R3),"",'Tarifs et relevés'!$N$8*'Tableau des dépenses'!R3) | T3: =IF(Tableau1[[#This Row],[Code ventilation]]=501,'Tarifs et relevés'!$N$14,IF(Tableau1[[#This Row],[Code ventilation]]=502,'Tarifs et relevés'!$N$15,IF(Tableau1[[#This Row],[Code ventilation]]=503,'Tarifs et relevés'!$N$16,IF(Tableau1[[#This Row],[Code ventilation]]=504,'Tarifs et relevés'!$N$17,IF(Tableau1[[#This Row],[Code ventilation]]=505,'Tarifs et relevés'!$N$18,IF(Tableau1[[#This Row],[Code ventilation]]=506,'Tarifs et relevés'!$N$19,IF(Tableau1[[#This Row],[Code ventilation]]=507,'Tarifs et relevés'!$N$20,IF(Tableau1[[#This Row],[Code ventilation]]=508,'Tarifs et relevés'!$N$21,IF(Tableau1[[#This Row],[Code ventilation]]=509,'Tarifs et relevés'!$N$22,IF(Tableau1[[#This Row],[Code ventilation]]=510,'Tarifs et relevés'!$N$23,IF(Tableau1[[#This Row],[Code ventilation]]=511,'Tarifs et relevés'!$N$24,IF(Tableau1[[#This Row],[Code ventilation]]=512,'Tarifs et relevés'!$N$25,"")))))))))))) | U3: =IF(ISERROR('Tarifs et relevés'!$N$26*Tableau1[[#This Row],[Engie Quantité KW]]),"",'Tarifs et relevés'!$N$26*Tableau1[[#This Row],[Engie Quantité KW]]) | V3: =IF(ISERROR(SUM(Tableau1[[#This Row],[SUEZ Transport HT]:[SUEZ Traitement HT]],Tableau1[[#This Row],[Sogedo Montant HT]],Tableau1[[#This Row],[Engie Montant HT]])),"",(SUM(Tableau1[[#This Row],[SUEZ Transport HT]:[SUEZ Traitement HT]],Tableau1[[#This Row],[Sogedo Montant HT]],Tableau1[[#This Row],[Engie Montant HT]],SUM(Tableau1[[#This Row],[Bouteille 30 Kg]:[Bouteille Le Cube]],Tableau1[[#This Row],[Gaz Citerne Montant HT]])))) -> 1000 | W3: 3 | X3: =IF(W3=1,V3*$Z$2,0) -> 0 | Y3: =IF(W3=2,V3*$Y$2,0) -> 0 | Z3: =IF(W3=3,V3*$Z$2,0) -> 200 | AA3: =SUM(Tableau1[[#This Row],[SUEZ Transport HT]:[SUEZ Traitement HT]]) -> 0 | AB3: =Tableau1[[#This Row],[Sogedo Montant HT]] | AC3: =SUM(Tableau1[[#This Row],[Bouteille 30 Kg]:[Bouteille Le Cube]],Tableau1[[#This Row],[Gaz Citerne Montant HT]]) -> 1000 | AD3: =Tableau1[[#This Row],[Engie Montant HT]] | AE3: =IF($E3=501,'Tarifs et relevés'!$N$14*'Tarifs et relevés'!$N$26,0) -> 0 | AF3: =IF($E3=501,'Tarifs et relevés'!$N$15*'Tarifs et relevés'!$N$26,0) -> 0 | AG3: =IF($E3=503,'Tarifs et relevés'!$N$16*'Tarifs et relevés'!$N$26,0) -> 0 | AH3: =IF($E3=504,'Tarifs et relevés'!$N$17*'Tarifs et relevés'!$N$26,0) -> 0 | AI3: =IF($E3=505,'Tarifs et relevés'!$N$18*'Tarifs et relevés'!$N$26,0) -> 0 | AJ3: =IF($E3=506,'Tarifs et relevés'!$N$19*'Tarifs et relevés'!$N$26,0) -> 0 | AK3: =IF($E3=507,'Tarifs et relevés'!$N$20*'Tarifs et relevés'!$N$26,0) -> 0 | AL3: =IF($E3=508,'Tarifs et relevés'!$N$21*'Tarifs et relevés'!$N$26,0) -> 0 | AM3: =IF($E3=509,'Tarifs et relevés'!$N$22*'Tarifs et relevés'!$N$26,0) -> 0 | AN3: =IF($E3=510,'Tarifs et relevés'!$N$23*'Tarifs et relevés'!$N$26,0) -> 0 | AO3: =IF($E3=511,'Tarifs et relevés'!$N$24*'Tarifs et relevés'!$N$26,0) -> 0 | AP3: =IF($E3=512,'Tarifs et relevés'!$N$25*'Tarifs et relevés'!$N$26,0) -> 0 | AQ3: =IF($E3=301,'Tarifs et relevés'!$N$5*'Tarifs et relevés'!$N$8,0) -> 0 | AR3: =IF($E3=302,'Tarifs et relevés'!$N$6*'Tarifs et relevés'!$N$8,0) -> 0 | AS3: =IF($E3=303,'Tarifs et relevés'!$N$7*'Tarifs et relevés'!$N$8,0) -> 0 | AT3: =SUM(X3:Z3) -> 200 | AU3: =V3+AT3 -> 1200
A4: =IF(C4=200,'Code Fournisseur'!$C$4,IF(C4=300,'Code Fournisseur'!$C$12,IF(C4=400,'Code Fournisseur'!$C$17,IF(C4=500,'Code Fournisseur'!$C$23,"")))) -> PRIMAGAZ | C4: 400 | D4: =IF(E4=201,'Code Fournisseur'!C6,IF(E4=202,'Code Fournisseur'!$C$6,IF(E4=203,'Code Fournisseur'!$C$7,IF(E4=204,'Code Fournisseur'!$C$8,IF(E4=205,'Code Fournisseur'!$C$9,IF(E4=206,'Code Fournisseur'!$C$10,IF(E4=301,'Code Fournisseur'!$C$13,IF(E4=302,'Code Fournisseur'!$C$14,IF(E4=303,'Code Fournisseur'!$C$15,IF(E4=401,'Code Fournisseur'!$C$18,IF(E4=402,'Code Fournisseur'!$C$19,IF(E4=403,'Code Fournisseur'!$C$20,IF(E4=404,'Code Fournisseur'!$C$21,IF(E4=501,'Code Fournisseur'!$C$24,IF(E4=502,'Code Fournisseur'!$C$25,IF(E4=503,'Code Fournisseur'!$C$26,IF(E4=504,'Code Fournisseur'!$C$27,IF(E4=505,'Code Fournisseur'!$C$28,IF(E4=506,'Code Fournisseur'!$C$29,IF(E4=507,'Code Fournisseur'!$C$30,IF(E4=508,'Code Fournisseur'!$C$31,IF(E4=509,'Code Fournisseur'!$C$32,IF(E4=510,'Code Fournisseur'!$C$33,IF(E4=511,'Code Fournisseur'!$C$34,IF(E4=512,'Code Fournisseur'!$C$35,""))))))))))))))))))))))))) -> Bouteilles 30 Kg | E4: 402 | F4: 5 | G4: =IF(Tableau1[[#This Row],[Code ventilation]]=402,'Tarifs et relevés'!$G$16*Tableau1[[#This Row],[Quote part Quantités]],"") -> 162.5 | H4: =IF(Tableau1[[#This Row],[Code ventilation]]=403,'Tarifs et relevés'!$G$17*Tableau1[[#This Row],[Quote part Quantités]],"") | I4: =IF(Tableau1[[#This Row],[Code ventilation]]=404,'Tarifs et relevés'!$G$18*Tableau1[[#This Row],[Quote part Quantités]],"") | J4: =IF(Tableau1[[#This Row],[Code ventilation]]=401,'Tarifs et relevés'!$G$14,"") | K4: =IF(ISERROR('Tarifs et relevés'!$G$15*Tableau1[[#This Row],[Gaz Citerne en Kg]]),"",'Tarifs et relevés'!$G$15*'Tableau des dépenses'!J4) | L4: =IF(Tableau1[[#This Row],[Code ventilation]]=201,IF(Tableau1[[#This Row],[Quote part Quantités]]=3,'Tarifs et relevés'!$G$4,IF(Tableau1[[#This Row],[Quote part Quantités]]=2,'Tarifs et relevés'!$G$4/3*2,IF(Tableau1[[#This Row],[Quote part Quantités]]=1,'Tarifs et relevés'!$G$4/3,""))),"") | M4: =IF(Tableau1[[#This Row],[Code ventilation]]=202,'Tarifs et relevés'!$G$5*Tableau1[[#This Row],[Quote part Quantités]],"") | N4: =IF(Tableau1[[#This Row],[Code ventilation]]=203,'Tarifs et relevés'!$G$6*Tableau1[[#This Row],[Quote part Quantités]],"") | O4: =IF(Tableau1[[#This Row],[Code ventilation]]=204,'Tarifs et relevés'!$G$7*Tableau1[[#This Row],[Quote part Quantités]],"") | P4: =IF(Tableau1[[#This Row],[Code ventilation]]=205,'Tarifs et relevés'!$G$8*Tableau1[[#This Row],[Quote part Quantités]],"") | Q4: =IF(Tableau1[[#This Row],[Code ventilation]]=206,'Tarifs et relevés'!$G$9*Tableau1[[#This Row],[Quote part Quantités]],"") | R4: =IF(Tableau1[[#This Row],[Code ventilation]]=301,'Tarifs et relevés'!$N$5,IF(Tableau1[[#This Row],[Code ventilation]]=302,'Tarifs et relevés'!$N$6,IF(Tableau1[[#This Row],[Code ventilation]]=303,'Tarifs et relevés'!$N$7,""))) | S4: =IF(ISERROR('Tarifs et relevés'!$N$8*'Tableau des dépenses'!R4),"",'Tarifs et relevés'!$N$8*'Tableau des dépenses'!R4) | T4: =IF(Tableau1[[#This Row],[Code ventilation]]=501,'Tarifs et relevés'!$N$14,IF(Tableau1[[#This Row],[Code ventilation]]=502,'Tarifs et relevés'!$N$15,IF(Tableau1[[#This Row],[Code ventilation]]=503,'Tarifs et relevés'!$N$16,IF(Tableau1[[#This Row],[Code ventilation]]=504,'Tarifs et relevés'!$N$17,IF(Tableau1[[#This Row],[Code ventilation]]=505,'Tarifs et relevés'!$N$18,IF(Tableau1[[#This Row],[Code ventilation]]=506,'Tarifs et relevés'!$N$19,IF(Tableau1[[#This Row],[Code ventilation]]=507,'Tarifs et relevés'!$N$20,IF(Tableau1[[#This Row],[Code ventilation]]=508,'Tarifs et relevés'!$N$21,IF(Tableau1[[#This Row],[Code ventilation]]=509,'Tarifs et relevés'!$N$22,IF(Tableau1[[#This Row],[Code ventilation]]=510,'Tarifs et relevés'!$N$23,IF(Tableau1[[#This Row],[Code ventilation]]=511,'Tarifs et relevés'!$N$24,IF(Tableau1[[#This Row],[Code ventilation]]=512,'Tarifs et relevés'!$N$25,"")))))))))))) | U4: =IF(ISERROR('Tarifs et relevés'!$N$26*Tableau1[[#This Row],[Engie Quantité KW]]),"",'Tarifs et relevés'!$N$26*Tableau1[[#This Row],[Engie Quantité KW]]) | V4: =IF(ISERROR(SUM(Tableau1[[#This Row],[SUEZ Transport HT]:[SUEZ Traitement HT]],Tableau1[[#This Row],[Sogedo Montant HT]],Tableau1[[#This Row],[Engie Montant HT]])),"",(SUM(Tableau1[[#This Row],[SUEZ Transport HT]:[SUEZ Traitement HT]],Tableau1[[#This Row],[Sogedo Montant HT]],Tableau1[[#This Row],[Engie Montant HT]],SUM(Tableau1[[#This Row],[Bouteille 30 Kg]:[Bouteille Le Cube]],Tableau1[[#This Row],[Gaz Citerne Montant HT]])))) -> 162.5 | W4: 3 | X4: =IF(W4=1,V4*$Z$2,0) -> 0 | Y4: =IF(W4=2,V4*$Y$2,0) -> 0 | Z4: =IF(W4=3,V4*$Z$2,0) -> 32.5 | AA4: =SUM(Tableau1[[#This Row],[SUEZ Transport HT]:[SUEZ Traitement HT]]) -> 0 | AB4: =Tableau1[[#This Row],[Sogedo Montant HT]] | AC4: =SUM(Tableau1[[#This Row],[Bouteille 30 Kg]:[Bouteille Le Cube]],Tableau1[[#This Row],[Gaz Citerne Montant HT]]) -> 162.5 | AD4: =Tableau1[[#This Row],[Engie Montant HT]] | AE4: =IF($E4=501,'Tarifs et relevés'!$N$14*'Tarifs et relevés'!$N$26,0) -> 0 | AF4: =IF($E4=501,'Tarifs et relevés'!$N$15*'Tarifs et relevés'!$N$26,0) -> 0 | AG4: =IF($E4=503,'Tarifs et relevés'!$N$16*'Tarifs et relevés'!$N$26,0) -> 0 | AH4: =IF($E4=504,'Tarifs et relevés'!$N$17*'Tarifs et relevés'!$N$26,0) -> 0 | AI4: =IF($E4=505,'Tarifs et relevés'!$N$18*'Tarifs et relevés'!$N$26,0) -> 0 | AJ4: =IF($E4=506,'Tarifs et relevés'!$N$19*'Tarifs et relevés'!$N$26,0) -> 0 | AK4: =IF($E4=507,'Tarifs et relevés'!$N$20*'Tarifs et relevés'!$N$26,0) -> 0 | AL4: =IF($E4=508,'Tarifs et relevés'!$N$21*'Tarifs et relevés'!$N$26,0) -> 0 | AM4: =IF($E4=509,'Tarifs et relevés'!$N$22*'Tarifs et relevés'!$N$26,0) -> 0 | AN4: =IF($E4=510,'Tarifs et relevés'!$N$23*'Tarifs et relevés'!$N$26,0) -> 0 | AO4: =IF($E4=511,'Tarifs et relevés'!$N$24*'Tarifs et relevés'!$N$26,0) -> 0 | AP4: =IF($E4=512,'Tarifs et relevés'!$N$25*'Tarifs et relevés'!$N$26,0) -> 0 | AQ4: =IF($E4=301,'Tarifs et relevés'!$N$5*'Tarifs et relevés'!$N$8,0) -> 0 | AR4: =IF($E4=302,'Tarifs et relevés'!$N$6*'Tarifs et relevés'!$N$8,0) -> 0 | AS4: =IF($E4=303,'Tarifs et relevés'!$N$7*'Tarifs et relevés'!$N$8,0) -> 0 | AT4: =SUM(X4:Z4) -> 32.5 | AU4: =V4+AT4 -> 195
A5: =IF(C5=200,'Code Fournisseur'!$C$4,IF(C5=300,'Code Fournisseur'!$C$12,IF(C5=400,'Code Fournisseur'!$C$17,IF(C5=500,'Code Fournisseur'!$C$23,"")))) -> PRIMAGAZ | C5: 400 | D5: =IF(E5=201,'Code Fournisseur'!C7,IF(E5=202,'Code Fournisseur'!$C$6,IF(E5=203,'Code Fournisseur'!$C$7,IF(E5=204,'Code Fournisseur'!$C$8,IF(E5=205,'Code Fournisseur'!$C$9,IF(E5=206,'Code Fournisseur'!$C$10,IF(E5=301,'Code Fournisseur'!$C$13,IF(E5=302,'Code Fournisseur'!$C$14,IF(E5=303,'Code Fournisseur'!$C$15,IF(E5=401,'Code Fournisseur'!$C$18,IF(E5=402,'Code Fournisseur'!$C$19,IF(E5=403,'Code Fournisseur'!$C$20,IF(E5=404,'Code Fournisseur'!$C$21,IF(E5=501,'Code Fournisseur'!$C$24,IF(E5=502,'Code Fournisseur'!$C$25,IF(E5=503,'Code Fournisseur'!$C$26,IF(E5=504,'Code Fournisseur'!$C$27,IF(E5=505,'Code Fournisseur'!$C$28,IF(E5=506,'Code Fournisseur'!$C$29,IF(E5=507,'Code Fournisseur'!$C$30,IF(E5=508,'Code Fournisseur'!$C$31,IF(E5=509,'Code Fournisseur'!$C$32,IF(E5=510,'Code Fournisseur'!$C$33,IF(E5=511,'Code Fournisseur'!$C$34,IF(E5=512,'Code Fournisseur'!$C$35,""))))))))))))))))))))))))) -> Bouteilles 13 Kg | E5: 403 | F5: 5 | G5: =IF(Tableau1[[#This Row],[Code ventilation]]=402,'Tarifs et relevés'!$G$16*Tableau1[[#This Row],[Quote part Quantités]],"") | H5: =IF(Tableau1[[#This Row],[Code ventilation]]=403,'Tarifs et relevés'!$G$17*Tableau1[[#This Row],[Quote part Quantités]],"") -> 122.5 | I5: =IF(Tableau1[[#This Row],[Code ventilation]]=404,'Tarifs et relevés'!$G$18*Tableau1[[#This Row],[Quote part Quantités]],"") | J5: =IF(Tableau1[[#This Row],[Code ventilation]]=401,'Tarifs et relevés'!$G$14,"") | K5: =IF(ISERROR('Tarifs et relevés'!$G$15*Tableau1[[#This Row],[Gaz Citerne en Kg]]),"",'Tarifs et relevés'!$G$15*'Tableau des dépenses'!J5) | L5: =IF(Tableau1[[#This Row],[Code ventilation]]=201,IF(Tableau1[[#This Row],[Quote part Quantités]]=3,'Tarifs et relevés'!$G$4,IF(Tableau1[[#This Row],[Quote part Quantités]]=2,'Tarifs et relevés'!$G$4/3*2,IF(Tableau1[[#This Row],[Quote part Quantités]]=1,'Tarifs et relevés'!$G$4/3,""))),"") | M5: =IF(Tableau1[[#This Row],[Code ventilation]]=202,'Tarifs et relevés'!$G$5*Tableau1[[#This Row],[Quote part Quantités]],"") | N5: =IF(Tableau1[[#This Row],[Code ventilation]]=203,'Tarifs et relevés'!$G$6*Tableau1[[#This Row],[Quote part Quantités]],"") | O5: =IF(Tableau1[[#This Row],[Code ventilation]]=204,'Tarifs et relevés'!$G$7*Tableau1[[#This Row],[Quote part Quantités]],"") | P5: =IF(Tableau1[[#This Row],[Code ventilation]]=205,'Tarifs et relevés'!$G$8*Tableau1[[#This Row],[Quote part Quantités]],"") | Q5: =IF(Tableau1[[#This Row],[Code ventilation]]=206,'Tarifs et relevés'!$G$9*Tableau1[[#This Row],[Quote part Quantités]],"") | R5: =IF(Tableau1[[#This Row],[Code ventilation]]=301,'Tarifs et relevés'!$N$5,IF(Tableau1[[#This Row],[Code ventilation]]=302,'Tarifs et relevés'!$N$6,IF(Tableau1[[#This Row],[Code ventilation]]=303,'Tarifs et relevés'!$N$7,""))) | S5: =IF(ISERROR('Tarifs et relevés'!$N$8*'Tableau des dépenses'!R5),"",'Tarifs et relevés'!$N$8*'Tableau des dépenses'!R5) | T5: =IF(Tableau1[[#This Row],[Code ventilation]]=501,'Tarifs et relevés'!$N$14,IF(Tableau1[[#This Row],[Code ventilation]]=502,'Tarifs et relevés'!$N$15,IF(Tableau1[[#This Row],[Code ventilation]]=503,'Tarifs et relevés'!$N$16,IF(Tableau1[[#This Row],[Code ventilation]]=504,'Tarifs et relevés'!$N$17,IF(Tableau1[[#This Row],[Code ventilation]]=505,'Tarifs et relevés'!$N$18,IF(Tableau1[[#This Row],[Code ventilation]]=506,'Tarifs et relevés'!$N$19,IF(Tableau1[[#This Row],[Code ventilation]]=507,'Tarifs et relevés'!$N$20,IF(Tableau1[[#This Row],[Code ventilation]]=508,'Tarifs et relevés'!$N$21,IF(Tableau1[[#This Row],[Code ventilation]]=509,'Tarifs et relevés'!$N$22,IF(Tableau1[[#This Row],[Code ventilation]]=510,'Tarifs et relevés'!$N$23,IF(Tableau1[[#This Row],[Code ventilation]]=511,'Tarifs et relevés'!$N$24,IF(Tableau1[[#This Row],[Code ventilation]]=512,'Tarifs et relevés'!$N$25,"")))))))))))) | U5: =IF(ISERROR('Tarifs et relevés'!$N$26*Tableau1[[#This Row],[Engie Quantité KW]]),"",'Tarifs et relevés'!$N$26*Tableau1[[#This Row],[Engie Quantité KW]]) | V5: =IF(ISERROR(SUM(Tableau1[[#This Row],[SUEZ Transport HT]:[SUEZ Traitement HT]],Tableau1[[#This Row],[Sogedo Montant HT]],Tableau1[[#This Row],[Engie Montant HT]])),"",(SUM(Tableau1[[#This Row],[SUEZ Transport HT]:[SUEZ Traitement HT]],Tableau1[[#This Row],[Sogedo Montant HT]],Tableau1[[#This Row],[Engie Montant HT]],SUM(Tableau1[[#This Row],[Bouteille 30 Kg]:[Bouteille Le Cube]],Tableau1[[#This Row],[Gaz Citerne Montant HT]])))) -> 122.5 | W5: 3 | X5: =IF(W5=1,V5*$Z$2,0) -> 0 | Y5: =IF(W5=2,V5*$Y$2,0) -> 0 | Z5: =IF(W5=3,V5*$Z$2,0) -> 24.5 | AA5: =SUM(Tableau1[[#This Row],[SUEZ Transport HT]:[SUEZ Traitement HT]]) -> 0 | AB5: =Tableau1[[#This Row],[Sogedo Montant HT]] | AC5: =SUM(Tableau1[[#This Row],[Bouteille 30 Kg]:[Bouteille Le Cube]],Tableau1[[#This Row],[Gaz Citerne Montant HT]]) -> 122.5 | AD5: =Tableau1[[#This Row],[Engie Montant HT]] | AE5: =IF($E5=501,'Tarifs et relevés'!$N$14*'Tarifs et relevés'!$N$26,0) -> 0 | AF5: =IF($E5=501,'Tarifs et relevés'!$N$15*'Tarifs et relevés'!$N$26,0) -> 0 | AG5: =IF($E5=503,'Tarifs et relevés'!$N$16*'Tarifs et relevés'!$N$26,0) -> 0 | AH5: =IF($E5=504,'Tarifs et relevés'!$N$17*'Tarifs et relevés'!$N$26,0) -> 0 | AI5: =IF($E5=505,'Tarifs et relevés'!$N$18*'Tarifs et relevés'!$N$26,0) -> 0 | AJ5: =IF($E5=506,'Tarifs et relevés'!$N$19*'Tarifs et relevés'!$N$26,0) -> 0 | AK5: =IF($E5=507,'Tarifs et relevés'!$N$20*'Tarifs et relevés'!$N$26,0) -> 0 | AL5: =IF($E5=508,'Tarifs et relevés'!$N$21*'Tarifs et relevés'!$N$26,0) -> 0 | AM5: =IF($E5=509,'Tarifs et relevés'!$N$22*'Tarifs et relevés'!$N$26,0) -> 0 | AN5: =IF($E5=510,'Tarifs et relevés'!$N$23*'Tarifs et relevés'!$N$26,0) -> 0 | AO5: =IF($E5=511,'Tarifs et relevés'!$N$24*'Tarifs et relevés'!$N$26,0) -> 0 | AP5: =IF($E5=512,'Tarifs et relevés'!$N$25*'Tarifs et relevés'!$N$26,0) -> 0 | AQ5: =IF($E5=301,'Tarifs et relevés'!$N$5*'Tarifs et relevés'!$N$8,0) -> 0 | AR5: =IF($E5=302,'Tarifs et relevés'!$N$6*'Tarifs et relevés'!$N$8,0) -> 0 | AS5: =IF($E5=303,'Tarifs et relevés'!$N$7*'Tarifs et relevés'!$N$8,0) -> 0 | AT5: =SUM(X5:Z5) -> 24.5 | AU5: =V5+AT5 -> 147
A6: =IF(C6=200,'Code Fournisseur'!$C$4,IF(C6=300,'Code Fournisseur'!$C$12,IF(C6=400,'Code Fournisseur'!$C$17,IF(C6=500,'Code Fournisseur'!$C$23,"")))) -> PRIMAGAZ | C6: 400 | D6: =IF(E6=201,'Code Fournisseur'!C8,IF(E6=202,'Code Fournisseur'!$C$6,IF(E6=203,'Code Fournisseur'!$C$7,IF(E6=204,'Code Fournisseur'!$C$8,IF(E6=205,'Code Fournisseur'!$C$9,IF(E6=206,'Code Fournisseur'!$C$10,IF(E6=301,'Code Fournisseur'!$C$13,IF(E6=302,'Code Fournisseur'!$C$14,IF(E6=303,'Code Fournisseur'!$C$15,IF(E6=401,'Code Fournisseur'!$C$18,IF(E6=402,'Code Fournisseur'!$C$19,IF(E6=403,'Code Fournisseur'!$C$20,IF(E6=404,'Code Fournisseur'!$C$21,IF(E6=501,'Code Fournisseur'!$C$24,IF(E6=502,'Code Fournisseur'!$C$25,IF(E6=503,'Code Fournisseur'!$C$26,IF(E6=504,'Code Fournisseur'!$C$27,IF(E6=505,'Code Fournisseur'!$C$28,IF(E6=506,'Code Fournisseur'!$C$29,IF(E6=507,'Code Fournisseur'!$C$30,IF(E6=508,'Code Fournisseur'!$C$31,IF(E6=509,'Code Fournisseur'!$C$32,IF(E6=510,'Code Fournisseur'!$C$33,IF(E6=511,'Code Fournisseur'!$C$34,IF(E6=512,'Code Fournisseur'!$C$35,""))))))))))))))))))))))))) -> Le Cube | E6: 404 | F6: 5 | G6: =IF(Tableau1[[#This Row],[Code ventilation]]=402,'Tarifs et relevés'!$G$16*Tableau1[[#This Row],[Quote part Quantités]],"") | H6: =IF(Tableau1[[#This Row],[Code ventilation]]=403,'Tarifs et relevés'!$G$17*Tableau1[[#This Row],[Quote part Quantités]],"") | I6: =IF(Tableau1[[#This Row],[Code ventilation]]=404,'Tarifs et relevés'!$G$18*Tableau1[[#This Row],[Quote part Quantités]],"") -> 90 | J6: =IF(Tableau1[[#This Row],[Code ventilation]]=401,'Tarifs et relevés'!$G$14,"") | K6: =IF(ISERROR('Tarifs et relevés'!$G$15*Tableau1[[#This Row],[Gaz Citerne en Kg]]),"",'Tarifs et relevés'!$G$15*'Tableau des dépenses'!J6) | L6: =IF(Tableau1[[#This Row],[Code ventilation]]=201,IF(Tableau1[[#This Row],[Quote part Quantités]]=3,'Tarifs et relevés'!$G$4,IF(Tableau1[[#This Row],[Quote part Quantités]]=2,'Tarifs et relevés'!$G$4/3*2,IF(Tableau1[[#This Row],[Quote part Quantités]]=1,'Tarifs et relevés'!$G$4/3,""))),"") | M6: =IF(Tableau1[[#This Row],[Code ventilation]]=202,'Tarifs et relevés'!$G$5*Tableau1[[#This Row],[Quote part Quantités]],"") | N6: =IF(Tableau1[[#This Row],[Code ventilation]]=203,'Tarifs et relevés'!$G$6*Tableau1[[#This Row],[Quote part Quantités]],"") | O6: =IF(Tableau1[[#This Row],[Code ventilation]]=204,'Tarifs et relevés'!$G$7*Tableau1[[#This Row],[Quote part Quantités]],"") | P6: =IF(Tableau1[[#This Row],[Code ventilation]]=205,'Tarifs et relevés'!$G$8*Tableau1[[#This Row],[Quote part Quantités]],"") | Q6: =IF(Tableau1[[#This Row],[Code ventilation]]=206,'Tarifs et relevés'!$G$9*Tableau1[[#This Row],[Quote part Quantités]],"") | R6: =IF(Tableau1[[#This Row],[Code ventilation]]=301,'Tarifs et relevés'!$N$5,IF(Tableau1[[#This Row],[Code ventilation]]=302,'Tarifs et relevés'!$N$6,IF(Tableau1[[#This Row],[Code ventilation]]=303,'Tarifs et relevés'!$N$7,""))) | S6: =IF(ISERROR('Tarifs et relevés'!$N$8*'Tableau des dépenses'!R6),"",'Tarifs et relevés'!$N$8*'Tableau des dépenses'!R6) | T6: =IF(Tableau1[[#This Row],[Code ventilation]]=501,'Tarifs et relevés'!$N$14,IF(Tableau1[[#This Row],[Code ventilation]]=502,'Tarifs et relevés'!$N$15,IF(Tableau1[[#This Row],[Code ventilation]]=503,'Tarifs et relevés'!$N$16,IF(Tableau1[[#This Row],[Code ventilation]]=504,'Tarifs et relevés'!$N$17,IF(Tableau1[[#This Row],[Code ventilation]]=505,'Tarifs et relevés'!$N$18,IF(Tableau1[[#This Row],[Code ventilation]]=506,'Tarifs et relevés'!$N$19,IF(Tableau1[[#This Row],[Code ventilation]]=507,'Tarifs et relevés'!$N$20,IF(Tableau1[[#This Row],[Code ventilation]]=508,'Tarifs et relevés'!$N$21,IF(Tableau1[[#This Row],[Code ventilation]]=509,'Tarifs et relevés'!$N$22,IF(Tableau1[[#This Row],[Code ventilation]]=510,'Tarifs et relevés'!$N$23,IF(Tableau1[[#This Row],[Code ventilation]]=511,'Tarifs et relevés'!$N$24,IF(Tableau1[[#This Row],[Code ventilation]]=512,'Tarifs et relevés'!$N$25,"")))))))))))) | U6: =IF(ISERROR('Tarifs et relevés'!$N$26*Tableau1[[#This Row],[Engie Quantité KW]]),"",'Tarifs et relevés'!$N$26*Tableau1[[#This Row],[Engie Quantité KW]]) | V6: =IF(ISERROR(SUM(Tableau1[[#This Row],[SUEZ Transport HT]:[SUEZ Traitement HT]],Tableau1[[#This Row],[Sogedo Montant HT]],Tableau1[[#This Row],[Engie Montant HT]])),"",(SUM(Tableau1[[#This Row],[SUEZ Transport HT]:[SUEZ Traitement HT]],Tableau1[[#This Row],[Sogedo Montant HT]],Tableau1[[#This Row],[Engie Montant HT]],SUM(Tableau1[[#This Row],[Bouteille 30 Kg]:[Bouteille Le Cube]],Tableau1[[#This Row],[Gaz Citerne Montant HT]])))) -> 90 | W6: 3 | X6: =IF(W6=1,V6*$Z$2,0) -> 0 | Y6: =IF(W6=2,V6*$Y$2,0) -> 0 | Z6: =IF(W6=3,V6*$Z$2,0) -> 18 | AA6: =SUM(Tableau1[[#This Row],[SUEZ Transport HT]:[SUEZ Traitement HT]]) -> 0 | AB6: =Tableau1[[#This Row],[Sogedo Montant HT]] | AC6: =SUM(Tableau1[[#This Row],[Bouteille 30 Kg]:[Bouteille Le Cube]],Tableau1[[#This Row],[Gaz Citerne Montant HT]]) -> 90 | AD6: =Tableau1[[#This Row],[Engie Montant HT]] | AE6: =IF($E6=501,'Tarifs et relevés'!$N$14*'Tarifs et relevés'!$N$26,0) -> 0 | AF6: =IF($E6=501,'Tarifs et relevés'!$N$15*'Tarifs et relevés'!$N$26,0) -> 0 | AG6: =IF($E6=503,'Tarifs et relevés'!$N$16*'Tarifs et relevés'!$N$26,0) -> 0 | AH6: =IF($E6=504,'Tarifs et relevés'!$N$17*'Tarifs et relevés'!$N$26,0) -> 0 | AI6: =IF($E6=505,'Tarifs et relevés'!$N$18*'Tarifs et relevés'!$N$26,0) -> 0 | AJ6: =IF($E6=506,'Tarifs et relevés'!$N$19*'Tarifs et relevés'!$N$26,0) -> 0 | AK6: =IF($E6=507,'Tarifs et relevés'!$N$20*'Tarifs et relevés'!$N$26,0) -> 0 | AL6: =IF($E6=508,'Tarifs et relevés'!$N$21*'Tarifs et relevés'!$N$26,0) -> 0 | AM6: =IF($E6=509,'Tarifs et relevés'!$N$22*'Tarifs et relevés'!$N$26,0) -> 0 | AN6: =IF($E6=510,'Tarifs et relevés'!$N$23*'Tarifs et relevés'!$N$26,0) -> 0 | AO6: =IF($E6=511,'Tarifs et relevés'!$N$24*'Tarifs et relevés'!$N$26,0) -> 0 | AP6: =IF($E6=512,'Tarifs et relevés'!$N$25*'Tarifs et relevés'!$N$26,0) -> 0 | AQ6: =IF($E6=301,'Tarifs et relevés'!$N$5*'Tarifs et relevés'!$N$8,0) -> 0 | AR6: =IF($E6=302,'Tarifs et relevés'!$N$6*'Tarifs et relevés'!$N$8,0) -> 0 | AS6: =IF($E6=303,'Tarifs et relevés'!$N$7*'Tarifs et relevés'!$N$8,0) -> 0 | AT6: =SUM(X6:Z6) -> 18 | AU6: =V6+AT6 -> 108
A7: =IF(C7=200,'Code Fournisseur'!$C$4,IF(C7=300,'Code Fournisseur'!$C$12,IF(C7=400,'Code Fournisseur'!$C$17,IF(C7=500,'Code Fournisseur'!$C$23,"")))) | D7: =IF(E7=201,'Code Fournisseur'!C9,IF(E7=202,'Code Fournisseur'!$C$6,IF(E7=203,'Code Fournisseur'!$C$7,IF(E7=204,'Code Fournisseur'!$C$8,IF(E7=205,'Code Fournisseur'!$C$9,IF(E7=206,'Code Fournisseur'!$C$10,IF(E7=301,'Code Fournisseur'!$C$13,IF(E7=302,'Code Fournisseur'!$C$14,IF(E7=303,'Code Fournisseur'!$C$15,IF(E7=401,'Code Fournisseur'!$C$18,IF(E7=402,'Code Fournisseur'!$C$19,IF(E7=403,'Code Fournisseur'!$C$20,IF(E7=404,'Code Fournisseur'!$C$21,IF(E7=501,'Code Fournisseur'!$C$24,IF(E7=502,'Code Fournisseur'!$C$25,IF(E7=503,'Code Fournisseur'!$C$26,IF(E7=504,'Code Fournisseur'!$C$27,IF(E7=505,'Code Fournisseur'!$C$28,IF(E7=506,'Code Fournisseur'!$C$29,IF(E7=507,'Code Fournisseur'!$C$30,IF(E7=508,'Code Fournisseur'!$C$31,IF(E7=509,'Code Fournisseur'!$C$32,IF(E7=510,'Code Fournisseur'!$C$33,IF(E7=511,'Code Fournisseur'!$C$34,IF(E7=512,'Code Fournisseur'!$C$35,""))))))))))))))))))))))))) | G7: =IF(Tableau1[[#This Row],[Code ventilation]]=402,'Tarifs et relevés'!$G$16*Tableau1[[#This Row],[Quote part Quantités]],"") | H7: =IF(Tableau1[[#This Row],[Code ventilation]]=403,'Tarifs et relevés'!$G$17*Tableau1[[#This Row],[Quote part Quantités]],"") | I7: =IF(Tableau1[[#This Row],[Code ventilation]]=404,'Tarifs et relevés'!$G$18*Tableau1[[#This Row],[Quote part Quantités]],"") | J7: =IF(Tableau1[[#This Row],[Code ventilation]]=401,'Tarifs et relevés'!$G$14,"") | K7: =IF(ISERROR('Tarifs et relevés'!$G$15*Tableau1[[#This Row],[Gaz Citerne en Kg]]),"",'Tarifs et relevés'!$G$15*'Tableau des dépenses'!J7) | L7: =IF(Tableau1[[#This Row],[Code ventilation]]=201,IF(Tableau1[[#This Row],[Quote part Quantités]]=3,'Tarifs et relevés'!$G$4,IF(Tableau1[[#This Row],[Quote part Quantités]]=2,'Tarifs et relevés'!$G$4/3*2,IF(Tableau1[[#This Row],[Quote part Quantités]]=1,'Tarifs et relevés'!$G$4/3,""))),"") | M7: =IF(Tableau1[[#This Row],[Code ventilation]]=202,'Tarifs et relevés'!$G$5*Tableau1[[#This Row],[Quote part Quantités]],"") | N7: =IF(Tableau1[[#This Row],[Code ventilation]]=203,'Tarifs et relevés'!$G$6*Tableau1[[#This Row],[Quote part Quantités]],"") | O7: =IF(Tableau1[[#This Row],[Code ventilation]]=204,'Tarifs et relevés'!$G$7*Tableau1[[#This Row],[Quote part Quantités]],"") | P7: =IF(Tableau1[[#This Row],[Code ventilation]]=205,'Tarifs et relevés'!$G$8*Tableau1[[#This Row],[Quote part Quantités]],"") | Q7: =IF(Tableau1[[#This Row],[Code ventilation]]=206,'Tarifs et relevés'!$G$9*Tableau1[[#This Row],[Quote part Quantités]],"") | R7: =IF(Tableau1[[#This Row],[Code ventilation]]=301,'Tarifs et relevés'!$N$5,IF(Tableau1[[#This Row],[Code ventilation]]=302,'Tarifs et relevés'!$N$6,IF(Tableau1[[#This Row],[Code ventilation]]=303,'Tarifs et relevés'!$N$7,""))) | S7: =IF(ISERROR('Tarifs et relevés'!$N$8*'Tableau des dépenses'!R7),"",'Tarifs et relevés'!$N$8*'Tableau des dépenses'!R7) | T7: =IF(Tableau1[[#This Row],[Code ventilation]]=501,'Tarifs et relevés'!$N$14,IF(Tableau1[[#This Row],[Code ventilation]]=502,'Tarifs et relevés'!$N$15,IF(Tableau1[[#This Row],[Code ventilation]]=503,'Tarifs et relevés'!$N$16,IF(Tableau1[[#This Row],[Code ventilation]]=504,'Tarifs et relevés'!$N$17,IF(Tableau1[[#This Row],[Code ventilation]]=505,'Tarifs et relevés'!$N$18,IF(Tableau1[[#This Row],[Code ventilation]]=506,'Tarifs et relevés'!$N$19,IF(Tableau1[[#This Row],[Code ventilation]]=507,'Tarifs et relevés'!$N$20,IF(Tableau1[[#This Row],[Code ventilation]]=508,'Tarifs et relevés'!$N$21,IF(Tableau1[[#This Row],[Code ventilation]]=509,'Tarifs et relevés'!$N$22,IF(Tableau1[[#This Row],[Code ventilation]]=510,'Tarifs et relevés'!$N$23,IF(Tableau1[[#This Row],[Code ventilation]]=511,'Tarifs et relevés'!$N$24,IF(Tableau1[[#This Row],[Code ventilation]]=512,'Tarifs et relevés'!$N$25,"")))))))))))) | U7: =IF(ISERROR('Tarifs et relevés'!$N$26*Tableau1[[#This Row],[Engie Quantité KW]]),"",'Tarifs et relevés'!$N$26*Tableau1[[#This Row],[Engie Quantité KW]]) | V7: =IF(ISERROR(SUM(Tableau1[[#This Row],[SUEZ Transport HT]:[SUEZ Traitement HT]],Tableau1[[#This Row],[Sogedo Montant HT]],Tableau1[[#This Row],[Engie Montant HT]])),"",(SUM(Tableau1[[#This Row],[SUEZ Transport HT]:[SUEZ Traitement HT]],Tableau1[[#This Row],[Sogedo Montant HT]],Tableau1[[#This Row],[Engie Montant HT]],SUM(Tableau1[[#This Row],[Bouteille 30 Kg]:[Bouteille Le Cube]],Tableau1[[#This Row],[Gaz Citerne Montant HT]])))) -> 0 | W7: 3 | X7: =IF(W7=1,V7*$Z$2,0) -> 0 | Y7: =IF(W7=2,V7*$Y$2,0) -> 0 | Z7: =IF(W7=3,V7*$Z$2,0) -> 0 | AA7: =SUM(Tableau1[[#This Row],[SUEZ Transport HT]:[SUEZ Traitement HT]]) -> 0 | AB7: =Tableau1[[#This Row],[Sogedo Montant HT]] | AC7: =SUM(Tableau1[[#This Row],[Bouteille 30 Kg]:[Bouteille Le Cube]],Tableau1[[#This Row],[Gaz Citerne Montant HT]]) -> 0 | AD7: =Tableau1[[#This Row],[Engie Montant HT]] | AE7: =IF($E7=501,'Tarifs et relevés'!$N$14*'Tarifs et relevés'!$N$26,0) -> 0 | AF7: =IF($E7=501,'Tarifs et relevés'!$N$15*'Tarifs et relevés'!$N$26,0) -> 0 | AG7: =IF($E7=503,'Tarifs et relevés'!$N$16*'Tarifs et relevés'!$N$26,0) -> 0 | AH7: =IF($E7=504,'Tarifs et relevés'!$N$17*'Tarifs et relevés'!$N$26,0) -> 0 | AI7: =IF($E7=505,'Tarifs et relevés'!$N$18*'Tarifs et relevés'!$N$26,0) -> 0 | AJ7: =IF($E7=506,'Tarifs et relevés'!$N$19*'Tarifs et relevés'!$N$26,0) -> 0 | AK7: =IF($E7=507,'Tarifs et relevés'!$N$20*'Tarifs et relevés'!$N$26,0) -> 0 | AL7: =IF($E7=508,'Tarifs et relevés'!$N$21*'Tarifs et relevés'!$N$26,0) -> 0 | AM7: =IF($E7=509,'Tarifs et relevés'!$N$22*'Tarifs et relevés'!$N$26,0) -> 0 | AN7: =IF($E7=510,'Tarifs et relevés'!$N$23*'Tarifs et relevés'!$N$26,0) -> 0 | AO7: =IF($E7=511,'Tarifs et relevés'!$N$24*'Tarifs et relevés'!$N$26,0) -> 0 | AP7: =IF($E7=512,'Tarifs et relevés'!$N$25*'Tarifs et relevés'!$N$26,0) -> 0 | AQ7: =IF($E7=301,'Tarifs et relevés'!$N$5*'Tarifs et relevés'!$N$8,0) -> 0 | AR7: =IF($E7=302,'Tarifs et relevés'!$N$6*'Tarifs et relevés'!$N$8,0) -> 0 | AS7: =IF($E7=303,'Tarifs et relevés'!$N$7*'Tarifs et relevés'!$N$8,0) -> 0 | AT7: =SUM(X7:Z7) -> 0 | AU7: =V7+AT7 -> 0
A8: =IF(C8=200,'Code Fournisseur'!$C$4,IF(C8=300,'Code Fournisseur'!$C$12,IF(C8=400,'Code Fournisseur'!$C$17,IF(C8=500,'Code Fournisseur'!$C$23,"")))) -> SUEZ | C8: 200 | D8: =IF(E8=201,'Code Fournisseur'!C10,IF(E8=202,'Code Fournisseur'!$C$6,IF(E8=203,'Code Fournisseur'!$C$7,IF(E8=204,'Code Fournisseur'!$C$8,IF(E8=205,'Code Fournisseur'!$C$9,IF(E8=206,'Code Fournisseur'!$C$10,IF(E8=301,'Code Fournisseur'!$C$13,IF(E8=302,'Code Fournisseur'!$C$14,IF(E8=303,'Code Fournisseur'!$C$15,IF(E8=401,'Code Fournisseur'!$C$18,IF(E8=402,'Code Fournisseur'!$C$19,IF(E8=403,'Code Fournisseur'!$C$20,IF(E8=404,'Code Fournisseur'!$C$21,IF(E8=501,'Code Fournisseur'!$C$24,IF(E8=502,'Code Fournisseur'!$C$25,IF(E8=503,'Code Fournisseur'!$C$26,IF(E8=504,'Code Fournisseur'!$C$27,IF(E8=505,'Code Fournisseur'!$C$28,IF(E8=506,'Code Fournisseur'!$C$29,IF(E8=507,'Code Fournisseur'!$C$30,IF(E8=508,'Code Fournisseur'!$C$31,IF(E8=509,'Code Fournisseur'!$C$32,IF(E8=510,'Code Fournisseur'!$C$33,IF(E8=511,'Code Fournisseur'!$C$34,IF(E8=512,'Code Fournisseur'!$C$35,""))))))))))))))))))))))))) -> Traitement | E8: 201 | F8: 1 | G8: =IF(Tableau1[[#This Row],[Code ventilation]]=402,'Tarifs et relevés'!$G$16*Tableau1[[#This Row],[Quote part Quantités]],"") | H8: =IF(Tableau1[[#This Row],[Code ventilation]]=403,'Tarifs et relevés'!$G$17*Tableau1[[#This Row],[Quote part Quantités]],"") | I8: =IF(Tableau1[[#This Row],[Code ventilation]]=404,'Tarifs et relevés'!$G$18*Tableau1[[#This Row],[Quote part Quantités]],"") | J8: =IF(Tableau1[[#This Row],[Code ventilation]]=401,'Tarifs et relevés'!$G$14,"") | K8: =IF(ISERROR('Tarifs et relevés'!$G$15*Tableau1[[#This Row],[Gaz Citerne en Kg]]),"",'Tarifs et relevés'!$G$15*'Tableau des dépenses'!J8) | L8: =IF(Tableau1[[#This Row],[Code ventilation]]=201,IF(Tableau1[[#This Row],[Quote part Quantités]]=3,'Tarifs et relevés'!$G$4,IF(Tableau1[[#This Row],[Quote part Quantités]]=2,'Tarifs et relevés'!$G$4/3*2,IF(Tableau1[[#This Row],[Quote part Quantités]]=1,'Tarifs et relevés'!$G$4/3,""))),"") -> 100 | M8: =IF(Tableau1[[#This Row],[Code ventilation]]=202,'Tarifs et relevés'!$G$5*Tableau1[[#This Row],[Quote part Quantités]],"") | N8: =IF(Tableau1[[#This Row],[Code ventilation]]=203,'Tarifs et relevés'!$G$6*Tableau1[[#This Row],[Quote part Quantités]],"") | O8: =IF(Tableau1[[#This Row],[Code ventilation]]=204,'Tarifs et relevés'!$G$7*Tableau1[[#This Row],[Quote part Quantités]],"") | P8: =IF(Tableau1[[#This Row],[Code ventilation]]=205,'Tarifs et relevés'!$G$8*Tableau1[[#This Row],[Quote part Quantités]],"") | Q8: =IF(Tableau1[[#This Row],[Code ventilation]]=206,'Tarifs et relevés'!$G$9*Tableau1[[#This Row],[Quote part Quantités]],"") | R8: =IF(Tableau1[[#This Row],[Code ventilation]]=301,'Tarifs et relevés'!$N$5,IF(Tableau1[[#This Row],[Code ventilation]]=302,'Tarifs et relevés'!$N$6,IF(Tableau1[[#This Row],[Code ventilation]]=303,'Tarifs et relevés'!$N$7,""))) | S8: =IF(ISERROR('Tarifs et relevés'!$N$8*'Tableau des dépenses'!R8),"",'Tarifs et relevés'!$N$8*'Tableau des dépenses'!R8) | T8: =IF(Tableau1[[#This Row],[Code ventilation]]=501,'Tarifs et relevés'!$N$14,IF(Tableau1[[#This Row],[Code ventilation]]=502,'Tarifs et relevés'!$N$15,IF(Tableau1[[#This Row],[Code ventilation]]=503,'Tarifs et relevés'!$N$16,IF(Tableau1[[#This Row],[Code ventilation]]=504,'Tarifs et relevés'!$N$17,IF(Tableau1[[#This Row],[Code ventilation]]=505,'Tarifs et relevés'!$N$18,IF(Tableau1[[#This Row],[Code ventilation]]=506,'Tarifs et relevés'!$N$19,IF(Tableau1[[#This Row],[Code ventilation]]=507,'Tarifs et relevés'!$N$20,IF(Tableau1[[#This Row],[Code ventilation]]=508,'Tarifs et relevés'!$N$21,IF(Tableau1[[#This Row],[Code ventilation]]=509,'Tarifs et relevés'!$N$22,IF(Tableau1[[#This Row],[Code ventilation]]=510,'Tarifs et relevés'!$N$23,IF(Tableau1[[#This Row],[Code ventilation]]=511,'Tarifs et relevés'!$N$24,IF(Tableau1[[#This Row],[Code ventilation]]=512,'Tarifs et relevés'!$N$25,"")))))))))))) | U8: =IF(ISERROR('Tarifs et relevés'!$N$26*Tableau1[[#This Row],[Engie Quantité KW]]),"",'Tarifs et relevés'!$N$26*Tableau1[[#This Row],[Engie Quantité KW]]) | V8: =IF(ISERROR(SUM(Tableau1[[#This Row],[SUEZ Transport HT]:[SUEZ Traitement HT]],Tableau1[[#This Row],[Sogedo Montant HT]],Tableau1[[#This Row],[Engie Montant HT]])),"",(SUM(Tableau1[[#This Row],[SUEZ Transport HT]:[SUEZ Traitement HT]],Tableau1[[#This Row],[Sogedo Montant HT]],Tableau1[[#This Row],[Engie Montant HT]],SUM(Tableau1[[#This Row],[Bouteille 30 Kg]:[Bouteille Le Cube]],Tableau1[[#This Row],[Gaz Citerne Montant HT]])))) -> 100 | W8: 3 | X8: =IF(W8=1,V8*$Z$2,0) -> 0 | Y8: =IF(W8=2,V8*$Y$2,0) -> 0 | Z8: =IF(W8=3,V8*$Z$2,0) -> 20 | AA8: =SUM(Tableau1[[#This Row],[SUEZ Transport HT]:[SUEZ Traitement HT]]) -> 100 | AB8: =Tableau1[[#This Row],[Sogedo Montant HT]] | AC8: =SUM(Tableau1[[#This Row],[Bouteille 30 Kg]:[Bouteille Le Cube]],Tableau1[[#This Row],[Gaz Citerne Montant HT]]) -> 0 | AD8: =Tableau1[[#This Row],[Engie Montant HT]] | AE8: =IF($E8=501,'Tarifs et relevés'!$N$14*'Tarifs et relevés'!$N$26,0) -> 0 | AF8: =IF($E8=501,'Tarifs et relevés'!$N$15*'Tarifs et relevés'!$N$26,0) -> 0 | AG8: =IF($E8=503,'Tarifs et relevés'!$N$16*'Tarifs et relevés'!$N$26,0) -> 0 | AH8: =IF($E8=504,'Tarifs et relevés'!$N$17*'Tarifs et relevés'!$N$26,0) -> 0 | AI8: =IF($E8=505,'Tarifs et relevés'!$N$18*'Tarifs et relevés'!$N$26,0) -> 0 | AJ8: =IF($E8=506,'Tarifs et relevés'!$N$19*'Tarifs et relevés'!$N$26,0) -> 0 | AK8: =IF($E8=507,'Tarifs et relevés'!$N$20*'Tarifs et relevés'!$N$26,0) -> 0 | AL8: =IF($E8=508,'Tarifs et relevés'!$N$21*'Tarifs et relevés'!$N$26,0) -> 0 | AM8: =IF($E8=509,'Tarifs et relevés'!$N$22*'Tarifs et relevés'!$N$26,0) -> 0 | AN8: =IF($E8=510,'Tarifs et relevés'!$N$23*'Tarifs et relevés'!$N$26,0) -> 0 | AO8: =IF($E8=511,'Tarifs et relevés'!$N$24*'Tarifs et relevés'!$N$26,0) -> 0 | AP8: =IF($E8=512,'Tarifs et relevés'!$N$25*'Tarifs et relevés'!$N$26,0) -> 0 | AQ8: =IF($E8=301,'Tarifs et relevés'!$N$5*'Tarifs et relevés'!$N$8,0) -> 0 | AR8: =IF($E8=302,'Tarifs et relevés'!$N$6*'Tarifs et relevés'!$N$8,0) -> 0 | AS8: =IF($E8=303,'Tarifs et relevés'!$N$7*'Tarifs et relevés'!$N$8,0) -> 0 | AT8: =SUM(X8:Z8) -> 20 | AU8: =V8+AT8 -> 120
A9: =IF(C9=200,'Code Fournisseur'!$C$4,IF(C9=300,'Code Fournisseur'!$C$12,IF(C9=400,'Code Fournisseur'!$C$17,IF(C9=500,'Code Fournisseur'!$C$23,"")))) -> SUEZ | C9: 200 | D9: =IF(E9=201,'Code Fournisseur'!C11,IF(E9=202,'Code Fournisseur'!$C$6,IF(E9=203,'Code Fournisseur'!$C$7,IF(E9=204,'Code Fournisseur'!$C$8,IF(E9=205,'Code Fournisseur'!$C$9,IF(E9=206,'Code Fournisseur'!$C$10,IF(E9=301,'Code Fournisseur'!$C$13,IF(E9=302,'Code Fournisseur'!$C$14,IF(E9=303,'Code Fournisseur'!$C$15,IF(E9=401,'Code Fournisseur'!$C$18,IF(E9=402,'Code Fournisseur'!$C$19,IF(E9=403,'Code Fournisseur'!$C$20,IF(E9=404,'Code Fournisseur'!$C$21,IF(E9=501,'Code Fournisseur'!$C$24,IF(E9=502,'Code Fournisseur'!$C$25,IF(E9=503,'Code Fournisseur'!$C$26,IF(E9=504,'Code Fournisseur'!$C$27,IF(E9=505,'Code Fournisseur'!$C$28,IF(E9=506,'Code Fournisseur'!$C$29,IF(E9=507,'Code Fournisseur'!$C$30,IF(E9=508,'Code Fournisseur'!$C$31,IF(E9=509,'Code Fournisseur'!$C$32,IF(E9=510,'Code Fournisseur'!$C$33,IF(E9=511,'Code Fournisseur'!$C$34,IF(E9=512,'Code Fournisseur'!$C$35,""))))))))))))))))))))))))) -> Poubelle 770 litres | E9: 202 | F9: 15 | G9: =IF(Tableau1[[#This Row],[Code ventilation]]=402,'Tarifs et relevés'!$G$16*Tableau1[[#This Row],[Quote part Quantités]],"") | H9: =IF(Tableau1[[#This Row],[Code ventilation]]=403,'Tarifs et relevés'!$G$17*Tableau1[[#This Row],[Quote part Quantités]],"") | I9: =IF(Tableau1[[#This Row],[Code ventilation]]=404,'Tarifs et relevés'!$G$18*Tableau1[[#This Row],[Quote part Quantités]],"") | J9: =IF(Tableau1[[#This Row],[Code ventilation]]=401,'Tarifs et relevés'!$G$14,"") | K9: =IF(ISERROR('Tarifs et relevés'!$G$15*Tableau1[[#This Row],[Gaz Citerne en Kg]]),"",'Tarifs et relevés'!$G$15*'Tableau des dépenses'!J9) | L9: =IF(Tableau1[[#This Row],[Code ventilation]]=201,IF(Tableau1[[#This Row],[Quote part Quantités]]=3,'Tarifs et relevés'!$G$4,IF(Tableau1[[#This Row],[Quote part Quantités]]=2,'Tarifs et relevés'!$G$4/3*2,IF(Tableau1[[#This Row],[Quote part Quantités]]=1,'Tarifs et relevés'!$G$4/3,""))),"") | M9: =IF(Tableau1[[#This Row],[Code ventilation]]=202,'Tarifs et relevés'!$G$5*Tableau1[[#This Row],[Quote part Quantités]],"") -> 225 | N9: =IF(Tableau1[[#This Row],[Code ventilation]]=203,'Tarifs et relevés'!$G$6*Tableau1[[#This Row],[Quote part Quantités]],"") | O9: =IF(Tableau1[[#This Row],[Code ventilation]]=204,'Tarifs et relevés'!$G$7*Tableau1[[#This Row],[Quote part Quantités]],"") | P9: =IF(Tableau1[[#This Row],[Code ventilation]]=205,'Tarifs et relevés'!$G$8*Tableau1[[#This Row],[Quote part Quantités]],"") | Q9: =IF(Tableau1[[#This Row],[Code ventilation]]=206,'Tarifs et relevés'!$G$9*Tableau1[[#This Row],[Quote part Quantités]],"") | R9: =IF(Tableau1[[#This Row],[Code ventilation]]=301,'Tarifs et relevés'!$N$5,IF(Tableau1[[#This Row],[Code ventilation]]=302,'Tarifs et relevés'!$N$6,IF(Tableau1[[#This Row],[Code ventilation]]=303,'Tarifs et relevés'!$N$7,""))) | S9: =IF(ISERROR('Tarifs et relevés'!$N$8*'Tableau des dépenses'!R9),"",'Tarifs et relevés'!$N$8*'Tableau des dépenses'!R9) | T9: =IF(Tableau1[[#This Row],[Code ventilation]]=501,'Tarifs et relevés'!$N$14,IF(Tableau1[[#This Row],[Code ventilation]]=502,'Tarifs et relevés'!$N$15,IF(Tableau1[[#This Row],[Code ventilation]]=503,'Tarifs et relevés'!$N$16,IF(Tableau1[[#This Row],[Code ventilation]]=504,'Tarifs et relevés'!$N$17,IF(Tableau1[[#This Row],[Code ventilation]]=505,'Tarifs et relevés'!$N$18,IF(Tableau1[[#This Row],[Code ventilation]]=506,'Tarifs et relevés'!$N$19,IF(Tableau1[[#This Row],[Code ventilation]]=507,'Tarifs et relevés'!$N$20,IF(Tableau1[[#This Row],[Code ventilation]]=508,'Tarifs et relevés'!$N$21,IF(Tableau1[[#This Row],[Code ventilation]]=509,'Tarifs et relevés'!$N$22,IF(Tableau1[[#This Row],[Code ventilation]]=510,'Tarifs et relevés'!$N$23,IF(Tableau1[[#This Row],[Code ventilation]]=511,'Tarifs et relevés'!$N$24,IF(Tableau1[[#This Row],[Code ventilation]]=512,'Tarifs et relevés'!$N$25,"")))))))))))) | U9: =IF(ISERROR('Tarifs et relevés'!$N$26*Tableau1[[#This Row],[Engie Quantité KW]]),"",'Tarifs et relevés'!$N$26*Tableau1[[#This Row],[Engie Quantité KW]]) | V9: =IF(ISERROR(SUM(Tableau1[[#This Row],[SUEZ Transport HT]:[SUEZ Traitement HT]],Tableau1[[#This Row],[Sogedo Montant HT]],Tableau1[[#This Row],[Engie Montant HT]])),"",(SUM(Tableau1[[#This Row],[SUEZ Transport HT]:[SUEZ Traitement HT]],Tableau1[[#This Row],[Sogedo Montant HT]],Tableau1[[#This Row],[Engie Montant HT]],SUM(Tableau1[[#This Row],[Bouteille 30 Kg]:[Bouteille Le Cube]],Tableau1[[#This Row],[Gaz Citerne Montant HT]])))) -> 225 | W9: 3 | X9: =IF(W9=1,V9*$Z$2,0) -> 0 | Y9: =IF(W9=2,V9*$Y$2,0) -> 0 | Z9: =IF(W9=3,V9*$Z$2,0) -> 45 | AA9: =SUM(Tableau1[[#This Row],[SUEZ Transport HT]:[SUEZ Traitement HT]]) -> 225 | AB9: =Tableau1[[#This Row],[Sogedo Montant HT]] | AC9: =SUM(Tableau1[[#This Row],[Bouteille 30 Kg]:[Bouteille Le Cube]],Tableau1[[#This Row],[Gaz Citerne Montant HT]]) -> 0 | AD9: =Tableau1[[#This Row],[Engie Montant HT]] | AE9: =IF($E9=501,'Tarifs et relevés'!$N$14*'Tarifs et relevés'!$N$26,0) -> 0 | AF9: =IF($E9=501,'Tarifs et relevés'!$N$15*'Tarifs et relevés'!$N$26,0) -> 0 | AG9: =IF($E9=503,'Tarifs et relevés'!$N$16*'Tarifs et relevés'!$N$26,0) -> 0 | AH9: =IF($E9=504,'Tarifs et relevés'!$N$17*'Tarifs et relevés'!$N$26,0) -> 0 | AI9: =IF($E9=505,'Tarifs et relevés'!$N$18*'Tarifs et relevés'!$N$26,0) -> 0 | AJ9: =IF($E9=506,'Tarifs et relevés'!$N$19*'Tarifs et relevés'!$N$26,0) -> 0 | AK9: =IF($E9=507,'Tarifs et relevés'!$N$20*'Tarifs et relevés'!$N$26,0) -> 0 | AL9: =IF($E9=508,'Tarifs et relevés'!$N$21*'Tarifs et relevés'!$N$26,0) -> 0 | AM9: =IF($E9=509,'Tarifs et relevés'!$N$22*'Tarifs et relevés'!$N$26,0) -> 0 | AN9: =IF($E9=510,'Tarifs et relevés'!$N$23*'Tarifs et relevés'!$N$26,0) -> 0 | AO9: =IF($E9=511,'Tarifs et relevés'!$N$24*'Tarifs et relevés'!$N$26,0) -> 0 | AP9: =IF($E9=512,'Tarifs et relevés'!$N$25*'Tarifs et relevés'!$N$26,0) -> 0 | AQ9: =IF($E9=301,'Tarifs et relevés'!$N$5*'Tarifs et relevés'!$N$8,0) -> 0 | AR9: =IF($E9=302,'Tarifs et relevés'!$N$6*'Tarifs et relevés'!$N$8,0) -> 0 | AS9: =IF($E9=303,'Tarifs et relevés'!$N$7*'Tarifs et relevés'!$N$8,0) -> 0 | AT9: =SUM(X9:Z9) -> 45 | AU9: =V9+AT9 -> 270
A10: =IF(C10=200,'Code Fournisseur'!$C$4,IF(C10=300,'Code Fournisseur'!$C$12,IF(C10=400,'Code Fournisseur'!$C$17,IF(C10=500,'Code Fournisseur'!$C$23,"")))) -> SUEZ | C10: 200 | D10: =IF(E10=201,'Code Fournisseur'!C12,IF(E10=202,'Code Fournisseur'!$C$6,IF(E10=203,'Code Fournisseur'!$C$7,IF(E10=204,'Code Fournisseur'!$C$8,IF(E10=205,'Code Fournisseur'!$C$9,IF(E10=206,'Code Fournisseur'!$C$10,IF(E10=301,'Code Fournisseur'!$C$13,IF(E10=302,'Code Fournisseur'!$C$14,IF(E10=303,'Code Fournisseur'!$C$15,IF(E10=401,'Code Fournisseur'!$C$18,IF(E10=402,'Code Fournisseur'!$C$19,IF(E10=403,'Code Fournisseur'!$C$20,IF(E10=404,'Code Fournisseur'!$C$21,IF(E10=501,'Code Fournisseur'!$C$24,IF(E10=502,'Code Fournisseur'!$C$25,IF(E10=503,'Code Fournisseur'!$C$26,IF(E10=504,'Code Fournisseur'!$C$27,IF(E10=505,'Code Fournisseur'!$C$28,IF(E10=506,'Code Fournisseur'!$C$29,IF(E10=507,'Code Fournisseur'!$C$30,IF(E10=508,'Code Fournisseur'!$C$31,IF(E10=509,'Code Fournisseur'!$C$32,IF(E10=510,'Code Fournisseur'!$C$33,IF(E10=511,'Code Fournisseur'!$C$34,IF(E10=512,'Code Fournisseur'!$C$35,""))))))))))))))))))))))))) -> Poubelle 240 litres | E10: 203 | F10: 10 | G10: =IF(Tableau1[[#This Row],[Code ventilation]]=402,'Tarifs et relevés'!$G$16*Tableau1[[#This Row],[Quote part Quantités]],"") | H10: =IF(Tableau1[[#This Row],[Code ventilation]]=403,'Tarifs et relevés'!$G$17*Tableau1[[#This Row],[Quote part Quantités]],"") | I10: =IF(Tableau1[[#This Row],[Code ventilation]]=404,'Tarifs et relevés'!$G$18*Tableau1[[#This Row],[Quote part Quantités]],"") | J10: =IF(Tableau1[[#This Row],[Code ventilation]]=401,'Tarifs et relevés'!$G$14,"") | K10: =IF(ISERROR('Tarifs et relevés'!$G$15*Tableau1[[#This Row],[Gaz Citerne en Kg]]),"",'Tarifs et relevés'!$G$15*'Tableau des dépenses'!J10) | L10: =IF(Tableau1[[#This Row],[Code ventilation]]=201,IF(Tableau1[[#This Row],[Quote part Quantités]]=3,'Tarifs et relevés'!$G$4,IF(Tableau1[[#This Row],[Quote part Quantités]]=2,'Tarifs et relevés'!$G$4/3*2,IF(Tableau1[[#This Row],[Quote part Quantités]]=1,'Tarifs et relevés'!$G$4/3,""))),"") | M10: =IF(Tableau1[[#This Row],[Code ventilation]]=202,'Tarifs et relevés'!$G$5*Tableau1[[#This Row],[Quote part Quantités]],"") | N10: =IF(Tableau1[[#This Row],[Code ventilation]]=203,'Tarifs et relevés'!$G$6*Tableau1[[#This Row],[Quote part Quantités]],"") -> 80 | O10: =IF(Tableau1[[#This Row],[Code ventilation]]=204,'Tarifs et relevés'!$G$7*Tableau1[[#This Row],[Quote part Quantités]],"") | P10: =IF(Tableau1[[#This Row],[Code ventilation]]=205,'Tarifs et relevés'!$G$8*Tableau1[[#This Row],[Quote part Quantités]],"") | Q10: =IF(Tableau1[[#This Row],[Code ventilation]]=206,'Tarifs et relevés'!$G$9*Tableau1[[#This Row],[Quote part Quantités]],"") | R10: =IF(Tableau1[[#This Row],[Code ventilation]]=301,'Tarifs et relevés'!$N$5,IF(Tableau1[[#This Row],[Code ventilation]]=302,'Tarifs et relevés'!$N$6,IF(Tableau1[[#This Row],[Code ventilation]]=303,'Tarifs et relevés'!$N$7,""))) | S10: =IF(ISERROR('Tarifs et relevés'!$N$8*'Tableau des dépenses'!R10),"",'Tarifs et relevés'!$N$8*'Tableau des dépenses'!R10) | T10: =IF(Tableau1[[#This Row],[Code ventilation]]=501,'Tarifs et relevés'!$N$14,IF(Tableau1[[#This Row],[Code ventilation]]=502,'Tarifs et relevés'!$N$15,IF(Tableau1[[#This Row],[Code ventilation]]=503,'Tarifs et relevés'!$N$16,IF(Tableau1[[#This Row],[Code ventilation]]=504,'Tarifs et relevés'!$N$17,IF(Tableau1[[#This Row],[Code ventilation]]=505,'Tarifs et relevés'!$N$18,IF(Tableau1[[#This Row],[Code ventilation]]=506,'Tarifs et relevés'!$N$19,IF(Tableau1[[#This Row],[Code ventilation]]=507,'Tarifs et relevés'!$N$20,IF(Tableau1[[#This Row],[Code ventilation]]=508,'Tarifs et relevés'!$N$21,IF(Tableau1[[#This Row],[Code ventilation]]=509,'Tarifs et relevés'!$N$22,IF(Tableau1[[#This Row],[Code ventilation]]=510,'Tarifs et relevés'!$N$23,IF(Tableau1[[#This Row],[Code ventilation]]=511,'Tarifs et relevés'!$N$24,IF(Tableau1[[#This Row],[Code ventilation]]=512,'Tarifs et relevés'!$N$25,"")))))))))))) | U10: =IF(ISERROR('Tarifs et relevés'!$N$26*Tableau1[[#This Row],[Engie Quantité KW]]),"",'Tarifs et relevés'!$N$26*Tableau1[[#This Row],[Engie Quantité KW]]) | V10: =IF(ISERROR(SUM(Tableau1[[#This Row],[SUEZ Transport HT]:[SUEZ Traitement HT]],Tableau1[[#This Row],[Sogedo Montant HT]],Tableau1[[#This Row],[Engie Montant HT]])),"",(SUM(Tableau1[[#This Row],[SUEZ Transport HT]:[SUEZ Traitement HT]],Tableau1[[#This Row],[Sogedo Montant HT]],Tableau1[[#This Row],[Engie Montant HT]],SUM(Tableau1[[#This Row],[Bouteille 30 Kg]:[Bouteille Le Cube]],Tableau1[[#This Row],[Gaz Citerne Montant HT]])))) -> 80 | W10: 3 | X10: =IF(W10=1,V10*$Z$2,0) -> 0 | Y10: =IF(W10=2,V10*$Y$2,0) -> 0 | Z10: =IF(W10=3,V10*$Z$2,0) -> 16 | AA10: =SUM(Tableau1[[#This Row],[SUEZ Transport HT]:[SUEZ Traitement HT]]) -> 80 | AB10: =Tableau1[[#This Row],[Sogedo Montant HT]] | AC10: =SUM(Tableau1[[#This Row],[Bouteille 30 Kg]:[Bouteille Le Cube]],Tableau1[[#This Row],[Gaz Citerne Montant HT]]) -> 0 | AD10: =Tableau1[[#This Row],[Engie Montant HT]] | AE10: =IF($E10=501,'Tarifs et relevés'!$N$14*'Tarifs et relevés'!$N$26,0) -> 0 | AF10: =IF($E10=501,'Tarifs et relevés'!$N$15*'Tarifs et relevés'!$N$26,0) -> 0 | AG10: =IF($E10=503,'Tarifs et relevés'!$N$16*'Tarifs et relevés'!$N$26,0) -> 0 | AH10: =IF($E10=504,'Tarifs et relevés'!$N$17*'Tarifs et relevés'!$N$26,0) -> 0 | AI10: =IF($E10=505,'Tarifs et relevés'!$N$18*'Tarifs et relevés'!$N$26,0) -> 0 | AJ10: =IF($E10=506,'Tarifs et relevés'!$N$19*'Tarifs et relevés'!$N$26,0) -> 0 | AK10: =IF($E10=507,'Tarifs et relevés'!$N$20*'Tarifs et relevés'!$N$26,0) -> 0 | AL10: =IF($E10=508,'Tarifs et relevés'!$N$21*'Tarifs et relevés'!$N$26,0) -> 0 | AM10: =IF($E10=509,'Tarifs et relevés'!$N$22*'Tarifs et relevés'!$N$26,0) -> 0 | AN10: =IF($E10=510,'Tarifs et relevés'!$N$23*'Tarifs et relevés'!$N$26,0) -> 0 | AO10: =IF($E10=511,'Tarifs et relevés'!$N$24*'Tarifs et relevés'!$N$26,0) -> 0 | AP10: =IF($E10=512,'Tarifs et relevés'!$N$25*'Tarifs et relevés'!$N$26,0) -> 0 | AQ10: =IF($E10=301,'Tarifs et relevés'!$N$5*'Tarifs et relevés'!$N$8,0) -> 0 | AR10: =IF($E10=302,'Tarifs et relevés'!$N$6*'Tarifs et relevés'!$N$8,0) -> 0 | AS10: =IF($E10=303,'Tarifs et relevés'!$N$7*'Tarifs et relevés'!$N$8,0) -> 0 | AT10: =SUM(X10:Z10) -> 16 | AU10: =V10+AT10 -> 96
A11: =IF(C11=200,'Code Fournisseur'!$C$4,IF(C11=300,'Code Fournisseur'!$C$12,IF(C11=400,'Code Fournisseur'!$C$17,IF(C11=500,'Code Fournisseur'!$C$23,"")))) -> SUEZ | C11: 200 | D11: =IF(E11=201,'Code Fournisseur'!C13,IF(E11=202,'Code Fournisseur'!$C$6,IF(E11=203,'Code Fournisseur'!$C$7,IF(E11=204,'Code Fournisseur'!$C$8,IF(E11=205,'Code Fournisseur'!$C$9,IF(E11=206,'Code Fournisseur'!$C$10,IF(E11=301,'Code Fournisseur'!$C$13,IF(E11=302,'Code Fournisseur'!$C$14,IF(E11=303,'Code Fournisseur'!$C$15,IF(E11=401,'Code Fournisseur'!$C$18,IF(E11=402,'Code Fournisseur'!$C$19,IF(E11=403,'Code Fournisseur'!$C$20,IF(E11=404,'Code Fournisseur'!$C$21,IF(E11=501,'Code Fournisseur'!$C$24,IF(E11=502,'Code Fournisseur'!$C$25,IF(E11=503,'Code Fournisseur'!$C$26,IF(E11=504,'Code Fournisseur'!$C$27,IF(E11=505,'Code Fournisseur'!$C$28,IF(E11=506,'Code Fournisseur'!$C$29,IF(E11=507,'Code Fournisseur'!$C$30,IF(E11=508,'Code Fournisseur'!$C$31,IF(E11=509,'Code Fournisseur'!$C$32,IF(E11=510,'Code Fournisseur'!$C$33,IF(E11=511,'Code Fournisseur'!$C$34,IF(E11=512,'Code Fournisseur'!$C$35,""))))))))))))))))))))))))) -> Transport Benne cartons | E11: 204 | F11: 1 | G11: =IF(Tableau1[[#This Row],[Code ventilation]]=402,'Tarifs et relevés'!$G$16*Tableau1[[#This Row],[Quote part Quantités]],"") | H11: =IF(Tableau1[[#This Row],[Code ventilation]]=403,'Tarifs et relevés'!$G$17*Tableau1[[#This Row],[Quote part Quantités]],"") | I11: =IF(Tableau1[[#This Row],[Code ventilation]]=404,'Tarifs et relevés'!$G$18*Tableau1[[#This Row],[Quote part Quantités]],"") | J11: =IF(Tableau1[[#This Row],[Code ventilation]]=401,'Tarifs et relevés'!$G$14,"") | K11: =IF(ISERROR('Tarifs et relevés'!$G$15*Tableau1[[#This Row],[Gaz Citerne en Kg]]),"",'Tarifs et relevés'!$G$15*'Tableau des dépenses'!J11) | L11: =IF(Tableau1[[#This Row],[Code ventilation]]=201,IF(Tableau1[[#This Row],[Quote part Quantités]]=3,'Tarifs et relevés'!$G$4,IF(Tableau1[[#This Row],[Quote part Quantités]]=2,'Tarifs et relevés'!$G$4/3*2,IF(Tableau1[[#This Row],[Quote part Quantités]]=1,'Tarifs et relevés'!$G$4/3,""))),"") | M11: =IF(Tableau1[[#This Row],[Code ventilation]]=202,'Tarifs et relevés'!$G$5*Tableau1[[#This Row],[Quote part Quantités]],"") | N11: =IF(Tableau1[[#This Row],[Code ventilation]]=203,'Tarifs et relevés'!$G$6*Tableau1[[#This Row],[Quote part Quantités]],"") | O11: =IF(Tableau1[[#This Row],[Code ventilation]]=204,'Tarifs et relevés'!$G$7*Tableau1[[#This Row],[Quote part Quantités]],"") -> 200 | P11: =IF(Tableau1[[#This Row],[Code ventilation]]=205,'Tarifs et relevés'!$G$8*Tableau1[[#This Row],[Quote part Quantités]],"") | Q11: =IF(Tableau1[[#This Row],[Code ventilation]]=206,'Tarifs et relevés'!$G$9*Tableau1[[#This Row],[Quote part Quantités]],"") | R11: =IF(Tableau1[[#This Row],[Code ventilation]]=301,'Tarifs et relevés'!$N$5,IF(Tableau1[[#This Row],[Code ventilation]]=302,'Tarifs et relevés'!$N$6,IF(Tableau1[[#This Row],[Code ventilation]]=303,'Tarifs et relevés'!$N$7,""))) | S11: =IF(ISERROR('Tarifs et relevés'!$N$8*'Tableau des dépenses'!R11),"",'Tarifs et relevés'!$N$8*'Tableau des dépenses'!R11) | T11: =IF(Tableau1[[#This Row],[Code ventilation]]=501,'Tarifs et relevés'!$N$14,IF(Tableau1[[#This Row],[Code ventilation]]=502,'Tarifs et relevés'!$N$15,IF(Tableau1[[#This Row],[Code ventilation]]=503,'Tarifs et relevés'!$N$16,IF(Tableau1[[#This Row],[Code ventilation]]=504,'Tarifs et relevés'!$N$17,IF(Tableau1[[#This Row],[Code ventilation]]=505,'Tarifs et relevés'!$N$18,IF(Tableau1[[#This Row],[Code ventilation]]=506,'Tarifs et relevés'!$N$19,IF(Tableau1[[#This Row],[Code ventilation]]=507,'Tarifs et relevés'!$N$20,IF(Tableau1[[#This Row],[Code ventilation]]=508,'Tarifs et relevés'!$N$21,IF(Tableau1[[#This Row],[Code ventilation]]=509,'Tarifs et relevés'!$N$22,IF(Tableau1[[#This Row],[Code ventilation]]=510,'Tarifs et relevés'!$N$23,IF(Tableau1[[#This Row],[Code ventilation]]=511,'Tarifs et relevés'!$N$24,IF(Tableau1[[#This Row],[Code ventilation]]=512,'Tarifs et relevés'!$N$25,"")))))))))))) | U11: =IF(ISERROR('Tarifs et relevés'!$N$26*Tableau1[[#This Row],[Engie Quantité KW]]),"",'Tarifs et relevés'!$N$26*Tableau1[[#This Row],[Engie Quantité KW]]) | V11: =IF(ISERROR(SUM(Tableau1[[#This Row],[SUEZ Transport HT]:[SUEZ Traitement HT]],Tableau1[[#This Row],[Sogedo Montant HT]],Tableau1[[#This Row],[Engie Montant HT]])),"",(SUM(Tableau1[[#This Row],[SUEZ Transport HT]:[SUEZ Traitement HT]],Tableau1[[#This Row],[Sogedo Montant HT]],Tableau1[[#This Row],[Engie Montant HT]],SUM(Tableau1[[#This Row],[Bouteille 30 Kg]:[Bouteille Le Cube]],Tableau1[[#This Row],[Gaz Citerne Montant HT]])))) -> 200 | W11: 3 | X11: =IF(W11=1,V11*$Z$2,0) -> 0 | Y11: =IF(W11=2,V11*$Y$2,0) -> 0 | Z11: =IF(W11=3,V11*$Z$2,0) -> 40 | AA11: =SUM(Tableau1[[#This Row],[SUEZ Transport HT]:[SUEZ Traitement HT]]) -> 200 | AB11: =Tableau1[[#This Row],[Sogedo Montant HT]] | AC11: =SUM(Tableau1[[#This Row],[Bouteille 30 Kg]:[Bouteille Le Cube]],Tableau1[[#This Row],[Gaz Citerne Montant HT]]) -> 0 | AD11: =Tableau1[[#This Row],[Engie Montant HT]] | AE11: =IF($E11=501,'Tarifs et relevés'!$N$14*'Tarifs et relevés'!$N$26,0) -> 0 | AF11: =IF($E11=501,'Tarifs et relevés'!$N$15*'Tarifs et relevés'!$N$26,0) -> 0 | AG11: =IF($E11=503,'Tarifs et relevés'!$N$16*'Tarifs et relevés'!$N$26,0) -> 0 | AH11: =IF($E11=504,'Tarifs et relevés'!$N$17*'Tarifs et relevés'!$N$26,0) -> 0 | AI11: =IF($E11=505,'Tarifs et relevés'!$N$18*'Tarifs et relevés'!$N$26,0) -> 0 | AJ11: =IF($E11=506,'Tarifs et relevés'!$N$19*'Tarifs et relevés'!$N$26,0) -> 0 | AK11: =IF($E11=507,'Tarifs et relevés'!$N$20*'Tarifs et relevés'!$N$26,0) -> 0 | AL11: =IF($E11=508,'Tarifs et relevés'!$N$21*'Tarifs et relevés'!$N$26,0) -> 0 | AM11: =IF($E11=509,'Tarifs et relevés'!$N$22*'Tarifs et relevés'!$N$26,0) -> 0 | AN11: =IF($E11=510,'Tarifs et relevés'!$N$23*'Tarifs et relevés'!$N$26,0) -> 0 | AO11: =IF($E11=511,'Tarifs et relevés'!$N$24*'Tarifs et relevés'!$N$26,0) -> 0 | AP11: =IF($E11=512,'Tarifs et relevés'!$N$25*'Tarifs et relevés'!$N$26,0) -> 0 | AQ11: =IF($E11=301,'Tarifs et relevés'!$N$5*'Tarifs et relevés'!$N$8,0) -> 0 | AR11: =IF($E11=302,'Tarifs et relevés'!$N$6*'Tarifs et relevés'!$N$8,0) -> 0 | AS11: =IF($E11=303,'Tarifs et relevés'!$N$7*'Tarifs et relevés'!$N$8,0) -> 0 | AT11: =SUM(X11:Z11) -> 40 | AU11: =V11+AT11 -> 240
A12: =IF(C12=200,'Code Fournisseur'!$C$4,IF(C12=300,'Code Fournisseur'!$C$12,IF(C12=400,'Code Fournisseur'!$C$17,IF(C12=500,'Code Fournisseur'!$C$23,"")))) -> SUEZ | C12: 200 | D12: =IF(E12=201,'Code Fournisseur'!C14,IF(E12=202,'Code Fournisseur'!$C$6,IF(E12=203,'Code Fournisseur'!$C$7,IF(E12=204,'Code Fournisseur'!$C$8,IF(E12=205,'Code Fournisseur'!$C$9,IF(E12=206,'Code Fournisseur'!$C$10,IF(E12=301,'Code Fournisseur'!$C$13,IF(E12=302,'Code Fournisseur'!$C$14,IF(E12=303,'Code Fournisseur'!$C$15,IF(E12=401,'Code Fournisseur'!$C$18,IF(E12=402,'Code Fournisseur'!$C$19,IF(E12=403,'Code Fournisseur'!$C$20,IF(E12=404,'Code Fournisseur'!$C$21,IF(E12=501,'Code Fournisseur'!$C$24,IF(E12=502,'Code Fournisseur'!$C$25,IF(E12=503,'Code Fournisseur'!$C$26,IF(E12=504,'Code Fournisseur'!$C$27,IF(E12=505,'Code Fournisseur'!$C$28,IF(E12=506,'Code Fournisseur'!$C$29,IF(E12=507,'Code Fournisseur'!$C$30,IF(E12=508,'Code Fournisseur'!$C$31,IF(E12=509,'Code Fournisseur'!$C$32,IF(E12=510,'Code Fournisseur'!$C$33,IF(E12=511,'Code Fournisseur'!$C$34,IF(E12=512,'Code Fournisseur'!$C$35,""))))))))))))))))))))))))) -> Tarif à la tonne / carton | E12: 205 | F12: 4.5 | G12: =IF(Tableau1[[#This Row],[Code ventilation]]=402,'Tarifs et relevés'!$G$16*Tableau1[[#This Row],[Quote part Quantités]],"") | H12: =IF(Tableau1[[#This Row],[Code ventilation]]=403,'Tarifs et relevés'!$G$17*Tableau1[[#This Row],[Quote part Quantités]],"") | I12: =IF(Tableau1[[#This Row],[Code ventilation]]=404,'Tarifs et relevés'!$G$18*Tableau1[[#This Row],[Quote part Quantités]],"") | J12: =IF(Tableau1[[#This Row],[Code ventilation]]=401,'Tarifs et relevés'!$G$14,"") | K12: =IF(ISERROR('Tarifs et relevés'!$G$15*Tableau1[[#This Row],[Gaz Citerne en Kg]]),"",'Tarifs et relevés'!$G$15*'Tableau des dépenses'!J12) | L12: =IF(Tableau1[[#This Row],[Code ventilation]]=201,IF(Tableau1[[#This Row],[Quote part Quantités]]=3,'Tarifs et relevés'!$G$4,IF(Tableau1[[#This Row],[Quote part Quantités]]=2,'Tarifs et relevés'!$G$4/3*2,IF(Tableau1[[#This Row],[Quote part Quantités]]=1,'Tarifs et relevés'!$G$4/3,""))),"") | M12: =IF(Tableau1[[#This Row],[Code ventilation]]=202,'Tarifs et relevés'!$G$5*Tableau1[[#This Row],[Quote part Quantités]],"") | N12: =IF(Tableau1[[#This Row],[Code ventilation]]=203,'Tarifs et relevés'!$G$6*Tableau1[[#This Row],[Quote part Quantités]],"") | O12: =IF(Tableau1[[#This Row],[Code ventilation]]=204,'Tarifs et relevés'!$G$7*Tableau1[[#This Row],[Quote part Quantités]],"") | P12: =IF(Tableau1[[#This Row],[Code ventilation]]=205,'Tarifs et relevés'!$G$8*Tableau1[[#This Row],[Quote part Quantités]],"") -> 47.25 | Q12: =IF(Tableau1[[#This Row],[Code ventilation]]=206,'Tarifs et relevés'!$G$9*Tableau1[[#This Row],[Quote part Quantités]],"") | R12: =IF(Tableau1[[#This Row],[Code ventilation]]=301,'Tarifs et relevés'!$N$5,IF(Tableau1[[#This Row],[Code ventilation]]=302,'Tarifs et relevés'!$N$6,IF(Tableau1[[#This Row],[Code ventilation]]=303,'Tarifs et relevés'!$N$7,""))) | S12: =IF(ISERROR('Tarifs et relevés'!$N$8*'Tableau des dépenses'!R12),"",'Tarifs et relevés'!$N$8*'Tableau des dépenses'!R12) | T12: =IF(Tableau1[[#This Row],[Code ventilation]]=501,'Tarifs et relevés'!$N$14,IF(Tableau1[[#This Row],[Code ventilation]]=502,'Tarifs et relevés'!$N$15,IF(Tableau1[[#This Row],[Code ventilation]]=503,'Tarifs et relevés'!$N$16,IF(Tableau1[[#This Row],[Code ventilation]]=504,'Tarifs et relevés'!$N$17,IF(Tableau1[[#This Row],[Code ventilation]]=505,'Tarifs et relevés'!$N$18,IF(Tableau1[[#This Row],[Code ventilation]]=506,'Tarifs et relevés'!$N$19,IF(Tableau1[[#This Row],[Code ventilation]]=507,'Tarifs et relevés'!$N$20,IF(Tableau1[[#This Row],[Code ventilation]]=508,'Tarifs et relevés'!$N$21,IF(Tableau1[[#This Row],[Code ventilation]]=509,'Tarifs et relevés'!$N$22,IF(Tableau1[[#This Row],[Code ventilation]]=510,'Tarifs et relevés'!$N$23,IF(Tableau1[[#This Row],[Code ventilation]]=511,'Tarifs et relevés'!$N$24,IF(Tableau1[[#This Row],[Code ventilation]]=512,'Tarifs et relevés'!$N$25,"")))))))))))) | U12: =IF(ISERROR('Tarifs et relevés'!$N$26*Tableau1[[#This Row],[Engie Quantité KW]]),"",'Tarifs et relevés'!$N$26*Tableau1[[#This Row],[Engie Quantité KW]]) | V12: =IF(ISERROR(SUM(Tableau1[[#This Row],[SUEZ Transport HT]:[SUEZ Traitement HT]],Tableau1[[#This Row],[Sogedo Montant HT]],Tableau1[[#This Row],[Engie Montant HT]])),"",(SUM(Tableau1[[#This Row],[SUEZ Transport HT]:[SUEZ Traitement HT]],Tableau1[[#This Row],[Sogedo Montant HT]],Tableau1[[#This Row],[Engie Montant HT]],SUM(Tableau1[[#This Row],[Bouteille 30 Kg]:[Bouteille Le Cube]],Tableau1[[#This Row],[Gaz Citerne Montant HT]])))) -> 47.25 | W12: 3 | X12: =IF(W12=1,V12*$Z$2,0) -> 0 | Y12: =IF(W12=2,V12*$Y$2,0) -> 0 | Z12: =IF(W12=3,V12*$Z$2,0) -> 9.45 | AA12: =SUM(Tableau1[[#This Row],[SUEZ Transport HT]:[SUEZ Traitement HT]]) -> 47.25 | AB12: =Tableau1[[#This Row],[Sogedo Montant HT]] | AC12: =SUM(Tableau1[[#This Row],[Bouteille 30 Kg]:[Bouteille Le Cube]],Tableau1[[#This Row],[Gaz Citerne Montant HT]]) -> 0 | AD12: =Tableau1[[#This Row],[Engie Montant HT]] | AE12: =IF($E12=501,'Tarifs et relevés'!$N$14*'Tarifs et relevés'!$N$26,0) -> 0 | AF12: =IF($E12=501,'Tarifs et relevés'!$N$15*'Tarifs et relevés'!$N$26,0) -> 0 | AG12: =IF($E12=503,'Tarifs et relevés'!$N$16*'Tarifs et relevés'!$N$26,0) -> 0 | AH12: =IF($E12=504,'Tarifs et relevés'!$N$17*'Tarifs et relevés'!$N$26,0) -> 0 | AI12: =IF($E12=505,'Tarifs et relevés'!$N$18*'Tarifs et relevés'!$N$26,0) -> 0 | AJ12: =IF($E12=506,'Tarifs et relevés'!$N$19*'Tarifs et relevés'!$N$26,0) -> 0 | AK12: =IF($E12=507,'Tarifs et relevés'!$N$20*'Tarifs et relevés'!$N$26,0) -> 0 | AL12: =IF($E12=508,'Tarifs et relevés'!$N$21*'Tarifs et relevés'!$N$26,0) -> 0 | AM12: =IF($E12=509,'Tarifs et relevés'!$N$22*'Tarifs et relevés'!$N$26,0) -> 0 | AN12: =IF($E12=510,'Tarifs et relevés'!$N$23*'Tarifs et relevés'!$N$26,0) -> 0 | AO12: =IF($E12=511,'Tarifs et relevés'!$N$24*'Tarifs et relevés'!$N$26,0) -> 0 | AP12: =IF($E12=512,'Tarifs et relevés'!$N$25*'Tarifs et relevés'!$N$26,0) -> 0 | AQ12: =IF($E12=301,'Tarifs et relevés'!$N$5*'Tarifs et relevés'!$N$8,0) -> 0 | AR12: =IF($E12=302,'Tarifs et relevés'!$N$6*'Tarifs et relevés'!$N$8,0) -> 0 | AS12: =IF($E12=303,'Tarifs et relevés'!$N$7*'Tarifs et relevés'!$N$8,0) -> 0 | AT12: =SUM(X12:Z12) -> 9.45 | AU12: =V12+AT12 -> 56.7
A13: =IF(C13=200,'Code Fournisseur'!$C$4,IF(C13=300,'Code Fournisseur'!$C$12,IF(C13=400,'Code Fournisseur'!$C$17,IF(C13=500,'Code Fournisseur'!$C$23,"")))) -> SUEZ | C13: 200 | D13: =IF(E13=201,'Code Fournisseur'!C15,IF(E13=202,'Code Fournisseur'!$C$6,IF(E13=203,'Code Fournisseur'!$C$7,IF(E13=204,'Code Fournisseur'!$C$8,IF(E13=205,'Code Fournisseur'!$C$9,IF(E13=206,'Code Fournisseur'!$C$10,IF(E13=301,'Code Fournisseur'!$C$13,IF(E13=302,'Code Fournisseur'!$C$14,IF(E13=303,'Code Fournisseur'!$C$15,IF(E13=401,'Code Fournisseur'!$C$18,IF(E13=402,'Code Fournisseur'!$C$19,IF(E13=403,'Code Fournisseur'!$C$20,IF(E13=404,'Code Fournisseur'!$C$21,IF(E13=501,'Code Fournisseur'!$C$24,IF(E13=502,'Code Fournisseur'!$C$25,IF(E13=503,'Code Fournisseur'!$C$26,IF(E13=504,'Code Fournisseur'!$C$27,IF(E13=505,'Code Fournisseur'!$C$28,IF(E13=506,'Code Fournisseur'!$C$29,IF(E13=507,'Code Fournisseur'!$C$30,IF(E13=508,'Code Fournisseur'!$C$31,IF(E13=509,'Code Fournisseur'!$C$32,IF(E13=510,'Code Fournisseur'!$C$33,IF(E13=511,'Code Fournisseur'!$C$34,IF(E13=512,'Code Fournisseur'!$C$35,""))))))))))))))))))))))))) -> Traitement | E13: 206 | F13: 1 | G13: =IF(Tableau1[[#This Row],[Code ventilation]]=402,'Tarifs et relevés'!$G$16*Tableau1[[#This Row],[Quote part Quantités]],"") | H13: =IF(Tableau1[[#This Row],[Code ventilation]]=403,'Tarifs et relevés'!$G$17*Tableau1[[#This Row],[Quote part Quantités]],"") | I13: =IF(Tableau1[[#This Row],[Code ventilation]]=404,'Tarifs et relevés'!$G$18*Tableau1[[#This Row],[Quote part Quantités]],"") | J13: =IF(Tableau1[[#This Row],[Code ventilation]]=401,'Tarifs et relevés'!$G$14,"") | K13: =IF(ISERROR('Tarifs et relevés'!$G$15*Tableau1[[#This Row],[Gaz Citerne en Kg]]),"",'Tarifs et relevés'!$G$15*'Tableau des dépenses'!J13) | L13: =IF(Tableau1[[#This Row],[Code ventilation]]=201,IF(Tableau1[[#This Row],[Quote part Quantités]]=3,'Tarifs et relevés'!$G$4,IF(Tableau1[[#This Row],[Quote part Quantités]]=2,'Tarifs et relevés'!$G$4/3*2,IF(Tableau1[[#This Row],[Quote part Quantités]]=1,'Tarifs et relevés'!$G$4/3,""))),"") | M13: =IF(Tableau1[[#This Row],[Code ventilation]]=202,'Tarifs et relevés'!$G$5*Tableau1[[#This Row],[Quote part Quantités]],"") | N13: =IF(Tableau1[[#This Row],[Code ventilation]]=203,'Tarifs et relevés'!$G$6*Tableau1[[#This Row],[Quote part Quantités]],"") | O13: =IF(Tableau1[[#This Row],[Code ventilation]]=204,'Tarifs et relevés'!$G$7*Tableau1[[#This Row],[Quote part Quantités]],"") | P13: =IF(Tableau1[[#This Row],[Code ventilation]]=205,'Tarifs et relevés'!$G$8*Tableau1[[#This Row],[Quote part Quantités]],"") | Q13: =IF(Tableau1[[#This Row],[Code ventilation]]=206,'Tarifs et relevés'!$G$9*Tableau1[[#This Row],[Quote part Quantités]],"") -> 500 | R13: =IF(Tableau1[[#This Row],[Code ventilation]]=301,'Tarifs et relevés'!$N$5,IF(Tableau1[[#This Row],[Code ventilation]]=302,'Tarifs et relevés'!$N$6,IF(Tableau1[[#This Row],[Code ventilation]]=303,'Tarifs et relevés'!$N$7,""))) | S13: =IF(ISERROR('Tarifs et relevés'!$N$8*'Tableau des dépenses'!R13),"",'Tarifs et relevés'!$N$8*'Tableau des dépenses'!R13) | T13: =IF(Tableau1[[#This Row],[Code ventilation]]=501,'Tarifs et relevés'!$N$14,IF(Tableau1[[#This Row],[Code ventilation]]=502,'Tarifs et relevés'!$N$15,IF(Tableau1[[#This Row],[Code ventilation]]=503,'Tarifs et relevés'!$N$16,IF(Tableau1[[#This Row],[Code ventilation]]=504,'Tarifs et relevés'!$N$17,IF(Tableau1[[#This Row],[Code ventilation]]=505,'Tarifs et relevés'!$N$18,IF(Tableau1[[#This Row],[Code ventilation]]=506,'Tarifs et relevés'!$N$19,IF(Tableau1[[#This Row],[Code ventilation]]=507,'Tarifs et relevés'!$N$20,IF(Tableau1[[#This Row],[Code ventilation]]=508,'Tarifs et relevés'!$N$21,IF(Tableau1[[#This Row],[Code ventilation]]=509,'Tarifs et relevés'!$N$22,IF(Tableau1[[#This Row],[Code ventilation]]=510,'Tarifs et relevés'!$N$23,IF(Tableau1[[#This Row],[Code ventilation]]=511,'Tarifs et relevés'!$N$24,IF(Tableau1[[#This Row],[Code ventilation]]=512,'Tarifs et relevés'!$N$25,"")))))))))))) | U13: =IF(ISERROR('Tarifs et relevés'!$N$26*Tableau1[[#This Row],[Engie Quantité KW]]),"",'Tarifs et relevés'!$N$26*Tableau1[[#This Row],[Engie Quantité KW]]) | V13: =IF(ISERROR(SUM(Tableau1[[#This Row],[SUEZ Transport HT]:[SUEZ Traitement HT]],Tableau1[[#This Row],[Sogedo Montant HT]],Tableau1[[#This Row],[Engie Montant HT]])),"",(SUM(Tableau1[[#This Row],[SUEZ Transport HT]:[SUEZ Traitement HT]],Tableau1[[#This Row],[Sogedo Montant HT]],Tableau1[[#This Row],[Engie Montant HT]],SUM(Tableau1[[#This Row],[Bouteille 30 Kg]:[Bouteille Le Cube]],Tableau1[[#This Row],[Gaz Citerne Montant HT]])))) -> 500 | W13: 3 | X13: =IF(W13=1,V13*$Z$2,0) -> 0 | Y13: =IF(W13=2,V13*$Y$2,0) -> 0 | Z13: =IF(W13=3,V13*$Z$2,0) -> 100 | AA13: =SUM(Tableau1[[#This Row],[SUEZ Transport HT]:[SUEZ Traitement HT]]) -> 500 | AB13: =Tableau1[[#This Row],[Sogedo Montant HT]] | AC13: =SUM(Tableau1[[#This Row],[Bouteille 30 Kg]:[Bouteille Le Cube]],Tableau1[[#This Row],[Gaz Citerne Montant HT]]) -> 0 | AD13: =Tableau1[[#This Row],[Engie Montant HT]] | AE13: =IF($E13=501,'Tarifs et relevés'!$N$14*'Tarifs et relevés'!$N$26,0) -> 0 | AF13: =IF($E13=501,'Tarifs et relevés'!$N$15*'Tarifs et relevés'!$N$26,0) -> 0 | AG13: =IF($E13=503,'Tarifs et relevés'!$N$16*'Tarifs et relevés'!$N$26,0) -> 0 | AH13: =IF($E13=504,'Tarifs et relevés'!$N$17*'Tarifs et relevés'!$N$26,0) -> 0 | AI13: =IF($E13=505,'Tarifs et relevés'!$N$18*'Tarifs et relevés'!$N$26,0) -> 0 | AJ13: =IF($E13=506,'Tarifs et relevés'!$N$19*'Tarifs et relevés'!$N$26,0) -> 0 | AK13: =IF($E13=507,'Tarifs et relevés'!$N$20*'Tarifs et relevés'!$N$26,0) -> 0 | AL13: =IF($E13=508,'Tarifs et relevés'!$N$21*'Tarifs et relevés'!$N$26,0) -> 0 | AM13: =IF($E13=509,'Tarifs et relevés'!$N$22*'Tarifs et relevés'!$N$26,0) -> 0 | AN13: =IF($E13=510,'Tarifs et relevés'!$N$23*'Tarifs et relevés'!$N$26,0) -> 0 | AO13: =IF($E13=511,'Tarifs et relevés'!$N$24*'Tarifs et relevés'!$N$26,0) -> 0 | AP13: =IF($E13=512,'Tarifs et relevés'!$N$25*'Tarifs et relevés'!$N$26,0) -> 0 | AQ13: =IF($E13=301,'Tarifs et relevés'!$N$5*'Tarifs et relevés'!$N$8,0) -> 0 | AR13: =IF($E13=302,'Tarifs et relevés'!$N$6*'Tarifs et relevés'!$N$8,0) -> 0 | AS13: =IF($E13=303,'Tarifs et relevés'!$N$7*'Tarifs et relevés'!$N$8,0) -> 0 | AT13: =SUM(X13:Z13) -> 100 | AU13: =V13+AT13 -> 600
A14: =IF(C14=200,'Code Fournisseur'!$C$4,IF(C14=300,'Code Fournisseur'!$C$12,IF(C14=400,'Code Fournisseur'!$C$17,IF(C14=500,'Code Fournisseur'!$C$23,"")))) | D14: =IF(E14=201,'Code Fournisseur'!C16,IF(E14=202,'Code Fournisseur'!$C$6,IF(E14=203,'Code Fournisseur'!$C$7,IF(E14=204,'Code Fournisseur'!$C$8,IF(E14=205,'Code Fournisseur'!$C$9,IF(E14=206,'Code Fournisseur'!$C$10,IF(E14=301,'Code Fournisseur'!$C$13,IF(E14=302,'Code Fournisseur'!$C$14,IF(E14=303,'Code Fournisseur'!$C$15,IF(E14=401,'Code Fournisseur'!$C$18,IF(E14=402,'Code Fournisseur'!$C$19,IF(E14=403,'Code Fournisseur'!$C$20,IF(E14=404,'Code Fournisseur'!$C$21,IF(E14=501,'Code Fournisseur'!$C$24,IF(E14=502,'Code Fournisseur'!$C$25,IF(E14=503,'Code Fournisseur'!$C$26,IF(E14=504,'Code Fournisseur'!$C$27,IF(E14=505,'Code Fournisseur'!$C$28,IF(E14=506,'Code Fournisseur'!$C$29,IF(E14=507,'Code Fournisseur'!$C$30,IF(E14=508,'Code Fournisseur'!$C$31,IF(E14=509,'Code Fournisseur'!$C$32,IF(E14=510,'Code Fournisseur'!$C$33,IF(E14=511,'Code Fournisseur'!$C$34,IF(E14=512,'Code Fournisseur'!$C$35,""))))))))))))))))))))))))) | G14: =IF(Tableau1[[#This Row],[Code ventilation]]=402,'Tarifs et relevés'!$G$16*Tableau1[[#This Row],[Quote part Quantités]],"") | H14: =IF(Tableau1[[#This Row],[Code ventilation]]=403,'Tarifs et relevés'!$G$17*Tableau1[[#This Row],[Quote part Quantités]],"") | I14: =IF(Tableau1[[#This Row],[Code ventilation]]=404,'Tarifs et relevés'!$G$18*Tableau1[[#This Row],[Quote part Quantités]],"") | J14: =IF(Tableau1[[#This Row],[Code ventilation]]=401,'Tarifs et relevés'!$G$14,"") | K14: =IF(ISERROR('Tarifs et relevés'!$G$15*Tableau1[[#This Row],[Gaz Citerne en Kg]]),"",'Tarifs et relevés'!$G$15*'Tableau des dépenses'!J14) | L14: =IF(Tableau1[[#This Row],[Code ventilation]]=201,IF(Tableau1[[#This Row],[Quote part Quantités]]=3,'Tarifs et relevés'!$G$4,IF(Tableau1[[#This Row],[Quote part Quantités]]=2,'Tarifs et relevés'!$G$4/3*2,IF(Tableau1[[#This Row],[Quote part Quantités]]=1,'Tarifs et relevés'!$G$4/3,""))),"") | M14: =IF(Tableau1[[#This Row],[Code ventilation]]=202,'Tarifs et relevés'!$G$5*Tableau1[[#This Row],[Quote part Quantités]],"") | N14: =IF(Tableau1[[#This Row],[Code ventilation]]=203,'Tarifs et relevés'!$G$6*Tableau1[[#This Row],[Quote part Quantités]],"") | O14: =IF(Tableau1[[#This Row],[Code ventilation]]=204,'Tarifs et relevés'!$G$7*Tableau1[[#This Row],[Quote part Quantités]],"") | P14: =IF(Tableau1[[#This Row],[Code ventilation]]=205,'Tarifs et relevés'!$G$8*Tableau1[[#This Row],[Quote part Quantités]],"") | Q14: =IF(Tableau1[[#This Row],[Code ventilation]]=206,'Tarifs et relevés'!$G$9*Tableau1[[#This Row],[Quote part Quantités]],"") | R14: =IF(Tableau1[[#This Row],[Code ventilation]]=301,'Tarifs et relevés'!$N$5,IF(Tableau1[[#This Row],[Code ventilation]]=302,'Tarifs et relevés'!$N$6,IF(Tableau1[[#This Row],[Code ventilation]]=303,'Tarifs et relevés'!$N$7,""))) | S14: =IF(ISERROR('Tarifs et relevés'!$N$8*'Tableau des dépenses'!R14),"",'Tarifs et relevés'!$N$8*'Tableau des dépenses'!R14) | T14: =IF(Tableau1[[#This Row],[Code ventilation]]=501,'Tarifs et relevés'!$N$14,IF(Tableau1[[#This Row],[Code ventilation]]=502,'Tarifs et relevés'!$N$15,IF(Tableau1[[#This Row],[Code ventilation]]=503,'Tarifs et relevés'!$N$16,IF(Tableau1[[#This Row],[Code ventilation]]=504,'Tarifs et relevés'!$N$17,IF(Tableau1[[#This Row],[Code ventilation]]=505,'Tarifs et relevés'!$N$18,IF(Tableau1[[#This Row],[Code ventilation]]=506,'Tarifs et relevés'!$N$19,IF(Tableau1[[#This Row],[Code ventilation]]=507,'Tarifs et relevés'!$N$20,IF(Tableau1[[#This Row],[Code ventilation]]=508,'Tarifs et relevés'!$N$21,IF(Tableau1[[#This Row],[Code ventilation]]=509,'Tarifs et relevés'!$N$22,IF(Tableau1[[#This Row],[Code ventilation]]=510,'Tarifs et relevés'!$N$23,IF(Tableau1[[#This Row],[Code ventilation]]=511,'Tarifs et relevés'!$N$24,IF(Tableau1[[#This Row],[Code ventilation]]=512,'Tarifs et relevés'!$N$25,"")))))))))))) | U14: =IF(ISERROR('Tarifs et relevés'!$N$26*Tableau1[[#This Row],[Engie Quantité KW]]),"",'Tarifs et relevés'!$N$26*Tableau1[[#This Row],[Engie Quantité KW]]) | V14: =IF(ISERROR(SUM(Tableau1[[#This Row],[SUEZ Transport HT]:[SUEZ Traitement HT]],Tableau1[[#This Row],[Sogedo Montant HT]],Tableau1[[#This Row],[Engie Montant HT]])),"",(SUM(Tableau1[[#This Row],[SUEZ Transport HT]:[SUEZ Traitement HT]],Tableau1[[#This Row],[Sogedo Montant HT]],Tableau1[[#This Row],[Engie Montant HT]],SUM(Tableau1[[#This Row],[Bouteille 30 Kg]:[Bouteille Le Cube]],Tableau1[[#This Row],[Gaz Citerne Montant HT]])))) -> 0 | W14: 3 | X14: =IF(W14=1,V14*$Z$2,0) -> 0 | Y14: =IF(W14=2,V14*$Y$2,0) -> 0 | Z14: =IF(W14=3,V14*$Z$2,0) -> 0 | AA14: =SUM(Tableau1[[#This Row],[SUEZ Transport HT]:[SUEZ Traitement HT]]) -> 0 | AB14: =Tableau1[[#This Row],[Sogedo Montant HT]] | AC14: =SUM(Tableau1[[#This Row],[Bouteille 30 Kg]:[Bouteille Le Cube]],Tableau1[[#This Row],[Gaz Citerne Montant HT]]) -> 0 | AD14: =Tableau1[[#This Row],[Engie Montant HT]] | AE14: =IF($E14=501,'Tarifs et relevés'!$N$14*'Tarifs et relevés'!$N$26,0) -> 0 | AF14: =IF($E14=501,'Tarifs et relevés'!$N$15*'Tarifs et relevés'!$N$26,0) -> 0 | AG14: =IF($E14=503,'Tarifs et relevés'!$N$16*'Tarifs et relevés'!$N$26,0) -> 0 | AH14: =IF($E14=504,'Tarifs et relevés'!$N$17*'Tarifs et relevés'!$N$26,0) -> 0 | AI14: =IF($E14=505,'Tarifs et relevés'!$N$18*'Tarifs et relevés'!$N$26,0) -> 0 | AJ14: =IF($E14=506,'Tarifs et relevés'!$N$19*'Tarifs et relevés'!$N$26,0) -> 0 | AK14: =IF($E14=507,'Tarifs et relevés'!$N$20*'Tarifs et relevés'!$N$26,0) -> 0 | AL14: =IF($E14=508,'Tarifs et relevés'!$N$21*'Tarifs et relevés'!$N$26,0) -> 0 | AM14: =IF($E14=509,'Tarifs et relevés'!$N$22*'Tarifs et relevés'!$N$26,0) -> 0 | AN14: =IF($E14=510,'Tarifs et relevés'!$N$23*'Tarifs et relevés'!$N$26,0) -> 0 | AO14: =IF($E14=511,'Tarifs et relevés'!$N$24*'Tarifs et relevés'!$N$26,0) -> 0 | AP14: =IF($E14=512,'Tarifs et relevés'!$N$25*'Tarifs et relevés'!$N$26,0) -> 0 | AQ14: =IF($E14=301,'Tarifs et relevés'!$N$5*'Tarifs et relevés'!$N$8,0) -> 0 | AR14: =IF($E14=302,'Tarifs et relevés'!$N$6*'Tarifs et relevés'!$N$8,0) -> 0 | AS14: =IF($E14=303,'Tarifs et relevés'!$N$7*'Tarifs et relevés'!$N$8,0) -> 0 | AT14: =SUM(X14:Z14) -> 0 | AU14: =V14+AT14 -> 0
A15: =IF(C15=200,'Code Fournisseur'!$C$4,IF(C15=300,'Code Fournisseur'!$C$12,IF(C15=400,'Code Fournisseur'!$C$17,IF(C15=500,'Code Fournisseur'!$C$23,"")))) -> SOGEDO | C15: 300 | D15: =IF(E15=201,'Code Fournisseur'!C17,IF(E15=202,'Code Fournisseur'!$C$6,IF(E15=203,'Code Fournisseur'!$C$7,IF(E15=204,'Code Fournisseur'!$C$8,IF(E15=205,'Code Fournisseur'!$C$9,IF(E15=206,'Code Fournisseur'!$C$10,IF(E15=301,'Code Fournisseur'!$C$13,IF(E15=302,'Code Fournisseur'!$C$14,IF(E15=303,'Code Fournisseur'!$C$15,IF(E15=401,'Code Fournisseur'!$C$18,IF(E15=402,'Code Fournisseur'!$C$19,IF(E15=403,'Code Fournisseur'!$C$20,IF(E15=404,'Code Fournisseur'!$C$21,IF(E15=501,'Code Fournisseur'!$C$24,IF(E15=502,'Code Fournisseur'!$C$25,IF(E15=503,'Code Fournisseur'!$C$26,IF(E15=504,'Code Fournisseur'!$C$27,IF(E15=505,'Code Fournisseur'!$C$28,IF(E15=506,'Code Fournisseur'!$C$29,IF(E15=507,'Code Fournisseur'!$C$30,IF(E15=508,'Code Fournisseur'!$C$31,IF(E15=509,'Code Fournisseur'!$C$32,IF(E15=510,'Code Fournisseur'!$C$33,IF(E15=511,'Code Fournisseur'!$C$34,IF(E15=512,'Code Fournisseur'!$C$35,""))))))))))))))))))))))))) -> Relevé 01 | E15: 301 | G15: =IF(Tableau1[[#This Row],[Code ventilation]]=402,'Tarifs et relevés'!$G$16*Tableau1[[#This Row],[Quote part Quantités]],"") | H15: =IF(Tableau1[[#This Row],[Code ventilation]]=403,'Tarifs et relevés'!$G$17*Tableau1[[#This Row],[Quote part Quantités]],"") | I15: =IF(Tableau1[[#This Row],[Code ventilation]]=404,'Tarifs et relevés'!$G$18*Tableau1[[#This Row],[Quote part Quantités]],"") | J15: =IF(Tableau1[[#This Row],[Code ventilation]]=401,'Tarifs et relevés'!$G$14,"") | K15: =IF(ISERROR('Tarifs et relevés'!$G$15*Tableau1[[#This Row],[Gaz Citerne en Kg]]),"",'Tarifs et relevés'!$G$15*'Tableau des dépenses'!J15) | L15: =IF(Tableau1[[#This Row],[Code ventilation]]=201,IF(Tableau1[[#This Row],[Quote part Quantités]]=3,'Tarifs et relevés'!$G$4,IF(Tableau1[[#This Row],[Quote part Quantités]]=2,'Tarifs et relevés'!$G$4/3*2,IF(Tableau1[[#This Row],[Quote part Quantités]]=1,'Tarifs et relevés'!$G$4/3,""))),"") | M15: =IF(Tableau1[[#This Row],[Code ventilation]]=202,'Tarifs et relevés'!$G$5*Tableau1[[#This Row],[Quote part Quantités]],"") | N15: =IF(Tableau1[[#This Row],[Code ventilation]]=203,'Tarifs et relevés'!$G$6*Tableau1[[#This Row],[Quote part Quantités]],"") | O15: =IF(Tableau1[[#This Row],[Code ventilation]]=204,'Tarifs et relevés'!$G$7*Tableau1[[#This Row],[Quote part Quantités]],"") | P15: =IF(Tableau1[[#This Row],[Code ventilation]]=205,'Tarifs et relevés'!$G$8*Tableau1[[#This Row],[Quote part Quantités]],"") | Q15: =IF(Tableau1[[#This Row],[Code ventilation]]=206,'Tarifs et relevés'!$G$9*Tableau1[[#This Row],[Quote part Quantités]],"") | R15: =IF(Tableau1[[#This Row],[Code ventilation]]=301,'Tarifs et relevés'!$N$5,IF(Tableau1[[#This Row],[Code ventilation]]=302,'Tarifs et relevés'!$N$6,IF(Tableau1[[#This Row],[Code ventilation]]=303,'Tarifs et relevés'!$N$7,""))) -> 1000 | S15: =IF(ISERROR('Tarifs et relevés'!$N$8*'Tableau des dépenses'!R15),"",'Tarifs et relevés'!$N$8*'Tableau des dépenses'!R15) -> 990 | T15: =IF(Tableau1[[#This Row],[Code ventilation]]=501,'Tarifs et relevés'!$N$14,IF(Tableau1[[#This Row],[Code ventilation]]=502,'Tarifs et relevés'!$N$15,IF(Tableau1[[#This Row],[Code ventilation]]=503,'Tarifs et relevés'!$N$16,IF(Tableau1[[#This Row],[Code ventilation]]=504,'Tarifs et relevés'!$N$17,IF(Tableau1[[#This Row],[Code ventilation]]=505,'Tarifs et relevés'!$N$18,IF(Tableau1[[#This Row],[Code ventilation]]=506,'Tarifs et relevés'!$N$19,IF(Tableau1[[#This Row],[Code ventilation]]=507,'Tarifs et relevés'!$N$20,IF(Tableau1[[#This Row],[Code ventilation]]=508,'Tarifs et relevés'!$N$21,IF(Tableau1[[#This Row],[Code ventilation]]=509,'Tarifs et relevés'!$N$22,IF(Tableau1[[#This Row],[Code ventilation]]=510,'Tarifs et relevés'!$N$23,IF(Tableau1[[#This Row],[Code ventilation]]=511,'Tarifs et relevés'!$N$24,IF(Tableau1[[#This Row],[Code ventilation]]=512,'Tarifs et relevés'!$N$25,"")))))))))))) | U15: =IF(ISERROR('Tarifs et relevés'!$N$26*Tableau1[[#This Row],[Engie Quantité KW]]),"",'Tarifs et relevés'!$N$26*Tableau1[[#This Row],[Engie Quantité KW]]) | V15: =IF(ISERROR(SUM(Tableau1[[#This Row],[SUEZ Transport HT]:[SUEZ Traitement HT]],Tableau1[[#This Row],[Sogedo Montant HT]],Tableau1[[#This Row],[Engie Montant HT]])),"",(SUM(Tableau1[[#This Row],[SUEZ Transport HT]:[SUEZ Traitement HT]],Tableau1[[#This Row],[Sogedo Montant HT]],Tableau1[[#This Row],[Engie Montant HT]],SUM(Tableau1[[#This Row],[Bouteille 30 Kg]:[Bouteille Le Cube]],Tableau1[[#This Row],[Gaz Citerne Montant HT]])))) -> 990 | W15: 3 | X15: =IF(W15=1,V15*$Z$2,0) -> 0 | Y15: =IF(W15=2,V15*$Y$2,0) -> 0 | Z15: =IF(W15=3,V15*$Z$2,0) -> 198 | AA15: =SUM(Tableau1[[#This Row],[SUEZ Transport HT]:[SUEZ Traitement HT]]) -> 0 | AB15: =Tableau1[[#This Row],[Sogedo Montant HT]] -> 990 | AC15: =SUM(Tableau1[[#This Row],[Bouteille 30 Kg]:[Bouteille Le Cube]],Tableau1[[#This Row],[Gaz Citerne Montant HT]]) -> 0 | AD15: =Tableau1[[#This Row],[Engie Montant HT]] | AE15: =IF($E15=501,'Tarifs et relevés'!$N$14*'Tarifs et relevés'!$N$26,0) -> 0 | AF15: =IF($E15=501,'Tarifs et relevés'!$N$15*'Tarifs et relevés'!$N$26,0) -> 0 | AG15: =IF($E15=503,'Tarifs et relevés'!$N$16*'Tarifs et relevés'!$N$26,0) -> 0 | AH15: =IF($E15=504,'Tarifs et relevés'!$N$17*'Tarifs et relevés'!$N$26,0) -> 0 | AI15: =IF($E15=505,'Tarifs et relevés'!$N$18*'Tarifs et relevés'!$N$26,0) -> 0 | AJ15: =IF($E15=506,'Tarifs et relevés'!$N$19*'Tarifs et relevés'!$N$26,0) -> 0 | AK15: =IF($E15=507,'Tarifs et relevés'!$N$20*'Tarifs et relevés'!$N$26,0) -> 0 | AL15: =IF($E15=508,'Tarifs et relevés'!$N$21*'Tarifs et relevés'!$N$26,0) -> 0 | AM15: =IF($E15=509,'Tarifs et relevés'!$N$22*'Tarifs et relevés'!$N$26,0) -> 0 | AN15: =IF($E15=510,'Tarifs et relevés'!$N$23*'Tarifs et relevés'!$N$26,0) -> 0 | AO15: =IF($E15=511,'Tarifs et relevés'!$N$24*'Tarifs et relevés'!$N$26,0) -> 0 | AP15: =IF($E15=512,'Tarifs et relevés'!$N$25*'Tarifs et relevés'!$N$26,0) -> 0 | AQ15: =IF($E15=301,'Tarifs et relevés'!$N$5*'Tarifs et relevés'!$N$8,0) -> 990 | AR15: =IF($E15=302,'Tarifs et relevés'!$N$6*'Tarifs et relevés'!$N$8,0) -> 0 | AS15: =IF($E15=303,'Tarifs et relevés'!$N$7*'Tarifs et relevés'!$N$8,0) -> 0 | AT15: =SUM(X15:Z15) -> 198 | AU15: =V15+AT15 -> 1188
A16: =IF(C16=200,'Code Fournisseur'!$C$4,IF(C16=300,'Code Fournisseur'!$C$12,IF(C16=400,'Code Fournisseur'!$C$17,IF(C16=500,'Code Fournisseur'!$C$23,"")))) -> SOGEDO | C16: 300 | D16: =IF(E16=201,'Code Fournisseur'!C18,IF(E16=202,'Code Fournisseur'!$C$6,IF(E16=203,'Code Fournisseur'!$C$7,IF(E16=204,'Code Fournisseur'!$C$8,IF(E16=205,'Code Fournisseur'!$C$9,IF(E16=206,'Code Fournisseur'!$C$10,IF(E16=301,'Code Fournisseur'!$C$13,IF(E16=302,'Code Fournisseur'!$C$14,IF(E16=303,'Code Fournisseur'!$C$15,IF(E16=401,'Code Fournisseur'!$C$18,IF(E16=402,'Code Fournisseur'!$C$19,IF(E16=403,'Code Fournisseur'!$C$20,IF(E16=404,'Code Fournisseur'!$C$21,IF(E16=501,'Code Fournisseur'!$C$24,IF(E16=502,'Code Fournisseur'!$C$25,IF(E16=503,'Code Fournisseur'!$C$26,IF(E16=504,'Code Fournisseur'!$C$27,IF(E16=505,'Code Fournisseur'!$C$28,IF(E16=506,'Code Fournisseur'!$C$29,IF(E16=507,'Code Fournisseur'!$C$30,IF(E16=508,'Code Fournisseur'!$C$31,IF(E16=509,'Code Fournisseur'!$C$32,IF(E16=510,'Code Fournisseur'!$C$33,IF(E16=511,'Code Fournisseur'!$C$34,IF(E16=512,'Code Fournisseur'!$C$35,""))))))))))))))))))))))))) -> Relevé intermédiare | E16: 302 | G16: =IF(Tableau1[[#This Row],[Code ventilation]]=402,'Tarifs et relevés'!$G$16*Tableau1[[#This Row],[Quote part Quantités]],"") | H16: =IF(Tableau1[[#This Row],[Code ventilation]]=403,'Tarifs et relevés'!$G$17*Tableau1[[#This Row],[Quote part Quantités]],"") | I16: =IF(Tableau1[[#This Row],[Code ventilation]]=404,'Tarifs et relevés'!$G$18*Tableau1[[#This Row],[Quote part Quantités]],"") | J16: =IF(Tableau1[[#This Row],[Code ventilation]]=401,'Tarifs et relevés'!$G$14,"") | K16: =IF(ISERROR('Tarifs et relevés'!$G$15*Tableau1[[#This Row],[Gaz Citerne en Kg]]),"",'Tarifs et relevés'!$G$15*'Tableau des dépenses'!J16) | L16: =IF(Tableau1[[#This Row],[Code ventilation]]=201,IF(Tableau1[[#This Row],[Quote part Quantités]]=3,'Tarifs et relevés'!$G$4,IF(Tableau1[[#This Row],[Quote part Quantités]]=2,'Tarifs et relevés'!$G$4/3*2,IF(Tableau1[[#This Row],[Quote part Quantités]]=1,'Tarifs et relevés'!$G$4/3,""))),"") | M16: =IF(Tableau1[[#This Row],[Code ventilation]]=202,'Tarifs et relevés'!$G$5*Tableau1[[#This Row],[Quote part Quantités]],"") | N16: =IF(Tableau1[[#This Row],[Code ventilation]]=203,'Tarifs et relevés'!$G$6*Tableau1[[#This Row],[Quote part Quantités]],"") | O16: =IF(Tableau1[[#This Row],[Code ventilation]]=204,'Tarifs et relevés'!$G$7*Tableau1[[#This Row],[Quote part Quantités]],"") | P16: =IF(Tableau1[[#This Row],[Code ventilation]]=205,'Tarifs et relevés'!$G$8*Tableau1[[#This Row],[Quote part Quantités]],"") | Q16: =IF(Tableau1[[#This Row],[Code ventilation]]=206,'Tarifs et relevés'!$G$9*Tableau1[[#This Row],[Quote part Quantités]],"") | R16: =IF(Tableau1[[#This Row],[Code ventilation]]=301,'Tarifs et relevés'!$N$5,IF(Tableau1[[#This Row],[Code ventilation]]=302,'Tarifs et relevés'!$N$6,IF(Tableau1[[#This Row],[Code ventilation]]=303,'Tarifs et relevés'!$N$7,""))) -> 2000 | S16: =IF(ISERROR('Tarifs et relevés'!$N$8*'Tableau des dépenses'!R16),"",'Tarifs et relevés'!$N$8*'Tableau des dépenses'!R16) -> 1980 | T16: =IF(Tableau1[[#This Row],[Code ventilation]]=501,'Tarifs et relevés'!$N$14,IF(Tableau1[[#This Row],[Code ventilation]]=502,'Tarifs et relevés'!$N$15,IF(Tableau1[[#This Row],[Code ventilation]]=503,'Tarifs et relevés'!$N$16,IF(Tableau1[[#This Row],[Code ventilation]]=504,'Tarifs et relevés'!$N$17,IF(Tableau1[[#This Row],[Code ventilation]]=505,'Tarifs et relevés'!$N$18,IF(Tableau1[[#This Row],[Code ventilation]]=506,'Tarifs et relevés'!$N$19,IF(Tableau1[[#This Row],[Code ventilation]]=507,'Tarifs et relevés'!$N$20,IF(Tableau1[[#This Row],[Code ventilation]]=508,'Tarifs et relevés'!$N$21,IF(Tableau1[[#This Row],[Code ventilation]]=509,'Tarifs et relevés'!$N$22,IF(Tableau1[[#This Row],[Code ventilation]]=510,'Tarifs et relevés'!$N$23,IF(Tableau1[[#This Row],[Code ventilation]]=511,'Tarifs et relevés'!$N$24,IF(Tableau1[[#This Row],[Code ventilation]]=512,'Tarifs et relevés'!$N$25,"")))))))))))) | U16: =IF(ISERROR('Tarifs et relevés'!$N$26*Tableau1[[#This Row],[Engie Quantité KW]]),"",'Tarifs et relevés'!$N$26*Tableau1[[#This Row],[Engie Quantité KW]]) | V16: =IF(ISERROR(SUM(Tableau1[[#This Row],[SUEZ Transport HT]:[SUEZ Traitement HT]],Tableau1[[#This Row],[Sogedo Montant HT]],Tableau1[[#This Row],[Engie Montant HT]])),"",(SUM(Tableau1[[#This Row],[SUEZ Transport HT]:[SUEZ Traitement HT]],Tableau1[[#This Row],[Sogedo Montant HT]],Tableau1[[#This Row],[Engie Montant HT]],SUM(Tableau1[[#This Row],[Bouteille 30 Kg]:[Bouteille Le Cube]],Tableau1[[#This Row],[Gaz Citerne Montant HT]])))) -> 1980 | W16: 3 | X16: =IF(W16=1,V16*$Z$2,0) -> 0 | Y16: =IF(W16=2,V16*$Y$2,0) -> 0 | Z16: =IF(W16=3,V16*$Z$2,0) -> 396 | AA16: =SUM(Tableau1[[#This Row],[SUEZ Transport HT]:[SUEZ Traitement HT]]) -> 0 | AB16: =Tableau1[[#This Row],[Sogedo Montant HT]] -> 1980 | AC16: =SUM(Tableau1[[#This Row],[Bouteille 30 Kg]:[Bouteille Le Cube]],Tableau1[[#This Row],[Gaz Citerne Montant HT]]) -> 0 | AD16: =Tableau1[[#This Row],[Engie Montant HT]] | AE16: =IF($E16=501,'Tarifs et relevés'!$N$14*'Tarifs et relevés'!$N$26,0) -> 0 | AF16: =IF($E16=501,'Tarifs et relevés'!$N$15*'Tarifs et relevés'!$N$26,0) -> 0 | AG16: =IF($E16=503,'Tarifs et relevés'!$N$16*'Tarifs et relevés'!$N$26,0) -> 0 | AH16: =IF($E16=504,'Tarifs et relevés'!$N$17*'Tarifs et relevés'!$N$26,0) -> 0 | AI16: =IF($E16=505,'Tarifs et relevés'!$N$18*'Tarifs et relevés'!$N$26,0) -> 0 | AJ16: =IF($E16=506,'Tarifs et relevés'!$N$19*'Tarifs et relevés'!$N$26,0) -> 0 | AK16: =IF($E16=507,'Tarifs et relevés'!$N$20*'Tarifs et relevés'!$N$26,0) -> 0 | AL16: =IF($E16=508,'Tarifs et relevés'!$N$21*'Tarifs et relevés'!$N$26,0) -> 0 | AM16: =IF($E16=509,'Tarifs et relevés'!$N$22*'Tarifs et relevés'!$N$26,0) -> 0 | AN16: =IF($E16=510,'Tarifs et relevés'!$N$23*'Tarifs et relevés'!$N$26,0) -> 0 | AO16: =IF($E16=511,'Tarifs et relevés'!$N$24*'Tarifs et relevés'!$N$26,0) -> 0 | AP16: =IF($E16=512,'Tarifs et relevés'!$N$25*'Tarifs et relevés'!$N$26,0) -> 0 | AQ16: =IF($E16=301,'Tarifs et relevés'!$N$5*'Tarifs et relevés'!$N$8,0) -> 0 | AR16: =IF($E16=302,'Tarifs et relevés'!$N$6*'Tarifs et relevés'!$N$8,0) -> 1980 | AS16: =IF($E16=303,'Tarifs et relevés'!$N$7*'Tarifs et relevés'!$N$8,0) -> 0 | AT16: =SUM(X16:Z16) -> 396 | AU16: =V16+AT16 -> 2376
A17: =IF(C17=200,'Code Fournisseur'!$C$4,IF(C17=300,'Code Fournisseur'!$C$12,IF(C17=400,'Code Fournisseur'!$C$17,IF(C17=500,'Code Fournisseur'!$C$23,"")))) -> SOGEDO | C17: 300 | D17: =IF(E17=201,'Code Fournisseur'!C19,IF(E17=202,'Code Fournisseur'!$C$6,IF(E17=203,'Code Fournisseur'!$C$7,IF(E17=204,'Code Fournisseur'!$C$8,IF(E17=205,'Code Fournisseur'!$C$9,IF(E17=206,'Code Fournisseur'!$C$10,IF(E17=301,'Code Fournisseur'!$C$13,IF(E17=302,'Code Fournisseur'!$C$14,IF(E17=303,'Code Fournisseur'!$C$15,IF(E17=401,'Code Fournisseur'!$C$18,IF(E17=402,'Code Fournisseur'!$C$19,IF(E17=403,'Code Fournisseur'!$C$20,IF(E17=404,'Code Fournisseur'!$C$21,IF(E17=501,'Code Fournisseur'!$C$24,IF(E17=502,'Code Fournisseur'!$C$25,IF(E17=503,'Code Fournisseur'!$C$26,IF(E17=504,'Code Fournisseur'!$C$27,IF(E17=505,'Code Fournisseur'!$C$28,IF(E17=506,'Code Fournisseur'!$C$29,IF(E17=507,'Code Fournisseur'!$C$30,IF(E17=508,'Code Fournisseur'!$C$31,IF(E17=509,'Code Fournisseur'!$C$32,IF(E17=510,'Code Fournisseur'!$C$33,IF(E17=511,'Code Fournisseur'!$C$34,IF(E17=512,'Code Fournisseur'!$C$35,""))))))))))))))))))))))))) -> Relevé 03 | E17: 303 | G17: =IF(Tableau1[[#This Row],[Code ventilation]]=402,'Tarifs et relevés'!$G$16*Tableau1[[#This Row],[Quote part Quantités]],"") | H17: =IF(Tableau1[[#This Row],[Code ventilation]]=403,'Tarifs et relevés'!$G$17*Tableau1[[#This Row],[Quote part Quantités]],"") | I17: =IF(Tableau1[[#This Row],[Code ventilation]]=404,'Tarifs et relevés'!$G$18*Tableau1[[#This Row],[Quote part Quantités]],"") | J17: =IF(Tableau1[[#This Row],[Code ventilation]]=401,'Tarifs et relevés'!$G$14,"") | K17: =IF(ISERROR('Tarifs et relevés'!$G$15*Tableau1[[#This Row],[Gaz Citerne en Kg]]),"",'Tarifs et relevés'!$G$15*'Tableau des dépenses'!J17) | L17: =IF(Tableau1[[#This Row],[Code ventilation]]=201,IF(Tableau1[[#This Row],[Quote part Quantités]]=3,'Tarifs et relevés'!$G$4,IF(Tableau1[[#This Row],[Quote part Quantités]]=2,'Tarifs et relevés'!$G$4/3*2,IF(Tableau1[[#This Row],[Quote part Quantités]]=1,'Tarifs et relevés'!$G$4/3,""))),"") | M17: =IF(Tableau1[[#This Row],[Code ventilation]]=202,'Tarifs et relevés'!$G$5*Tableau1[[#This Row],[Quote part Quantités]],"") | N17: =IF(Tableau1[[#This Row],[Code ventilation]]=203,'Tarifs et relevés'!$G$6*Tableau1[[#This Row],[Quote part Quantités]],"") | O17: =IF(Tableau1[[#This Row],[Code ventilation]]=204,'Tarifs et relevés'!$G$7*Tableau1[[#This Row],[Quote part Quantités]],"") | P17: =IF(Tableau1[[#This Row],[Code ventilation]]=205,'Tarifs et relevés'!$G$8*Tableau1[[#This Row],[Quote part Quantités]],"") | Q17: =IF(Tableau1[[#This Row],[Code ventilation]]=206,'Tarifs et relevés'!$G$9*Tableau1[[#This Row],[Quote part Quantités]],"") | R17: =IF(Tableau1[[#This Row],[Code ventilation]]=301,'Tarifs et relevés'!$N$5,IF(Tableau1[[#This Row],[Code ventilation]]=302,'Tarifs et relevés'!$N$6,IF(Tableau1[[#This Row],[Code ventilation]]=303,'Tarifs et relevés'!$N$7,""))) -> 1500 | S17: =IF(ISERROR('Tarifs et relevés'!$N$8*'Tableau des dépenses'!R17),"",'Tarifs et relevés'!$N$8*'Tableau des dépenses'!R17) -> 1485 | T17: =IF(Tableau1[[#This Row],[Code ventilation]]=501,'Tarifs et relevés'!$N$14,IF(Tableau1[[#This Row],[Code ventilation]]=502,'Tarifs et relevés'!$N$15,IF(Tableau1[[#This Row],[Code ventilation]]=503,'Tarifs et relevés'!$N$16,IF(Tableau1[[#This Row],[Code ventilation]]=504,'Tarifs et relevés'!$N$17,IF(Tableau1[[#This Row],[Code ventilation]]=505,'Tarifs et relevés'!$N$18,IF(Tableau1[[#This Row],[Code ventilation]]=506,'Tarifs et relevés'!$N$19,IF(Tableau1[[#This Row],[Code ventilation]]=507,'Tarifs et relevés'!$N$20,IF(Tableau1[[#This Row],[Code ventilation]]=508,'Tarifs et relevés'!$N$21,IF(Tableau1[[#This Row],[Code ventilation]]=509,'Tarifs et relevés'!$N$22,IF(Tableau1[[#This Row],[Code ventilation]]=510,'Tarifs et relevés'!$N$23,IF(Tableau1[[#This Row],[Code ventilation]]=511,'Tarifs et relevés'!$N$24,IF(Tableau1[[#This Row],[Code ventilation]]=512,'Tarifs et relevés'!$N$25,"")))))))))))) | U17: =IF(ISERROR('Tarifs et relevés'!$N$26*Tableau1[[#This Row],[Engie Quantité KW]]),"",'Tarifs et relevés'!$N$26*Tableau1[[#This Row],[Engie Quantité KW]]) | V17: =IF(ISERROR(SUM(Tableau1[[#This Row],[SUEZ Transport HT]:[SUEZ Traitement HT]],Tableau1[[#This Row],[Sogedo Montant HT]],Tableau1[[#This Row],[Engie Montant HT]])),"",(SUM(Tableau1[[#This Row],[SUEZ Transport HT]:[SUEZ Traitement HT]],Tableau1[[#This Row],[Sogedo Montant HT]],Tableau1[[#This Row],[Engie Montant HT]],SUM(Tableau1[[#This Row],[Bouteille 30 Kg]:[Bouteille Le Cube]],Tableau1[[#This Row],[Gaz Citerne Montant HT]])))) -> 1485 | W17: 3 | X17: =IF(W17=1,V17*$Z$2,0) -> 0 | Y17: =IF(W17=2,V17*$Y$2,0) -> 0 | Z17: =IF(W17=3,V17*$Z$2,0) -> 297 | AA17: =SUM(Tableau1[[#This Row],[SUEZ Transport HT]:[SUEZ Traitement HT]]) -> 0 | AB17: =Tableau1[[#This Row],[Sogedo Montant HT]] -> 1485 | AC17: =SUM(Tableau1[[#This Row],[Bouteille 30 Kg]:[Bouteille Le Cube]],Tableau1[[#This Row],[Gaz Citerne Montant HT]]) -> 0 | AD17: =Tableau1[[#This Row],[Engie Montant HT]] | AE17: =IF($E17=501,'Tarifs et relevés'!$N$14*'Tarifs et relevés'!$N$26,0) -> 0 | AF17: =IF($E17=501,'Tarifs et relevés'!$N$15*'Tarifs et relevés'!$N$26,0) -> 0 | AG17: =IF($E17=503,'Tarifs et relevés'!$N$16*'Tarifs et relevés'!$N$26,0) -> 0 | AH17: =IF($E17=504,'Tarifs et relevés'!$N$17*'Tarifs et relevés'!$N$26,0) -> 0 | AI17: =IF($E17=505,'Tarifs et relevés'!$N$18*'Tarifs et relevés'!$N$26,0) -> 0 | AJ17: =IF($E17=506,'Tarifs et relevés'!$N$19*'Tarifs et relevés'!$N$26,0) -> 0 | AK17: =IF($E17=507,'Tarifs et relevés'!$N$20*'Tarifs et relevés'!$N$26,0) -> 0 | AL17: =IF($E17=508,'Tarifs et relevés'!$N$21*'Tarifs et relevés'!$N$26,0) -> 0 | AM17: =IF($E17=509,'Tarifs et relevés'!$N$22*'Tarifs et relevés'!$N$26,0) -> 0 | AN17: =IF($E17=510,'Tarifs et relevés'!$N$23*'Tarifs et relevés'!$N$26,0) -> 0 | AO17: =IF($E17=511,'Tarifs et relevés'!$N$24*'Tarifs et relevés'!$N$26,0) -> 0 | AP17: =IF($E17=512,'Tarifs et relevés'!$N$25*'Tarifs et relevés'!$N$26,0) -> 0 | AQ17: =IF($E17=301,'Tarifs et relevés'!$N$5*'Tarifs et relevés'!$N$8,0) -> 0 | AR17: =IF($E17=302,'Tarifs et relevés'!$N$6*'Tarifs et relevés'!$N$8,0) -> 0 | AS17: =IF($E17=303,'Tarifs et relevés'!$N$7*'Tarifs et relevés'!$N$8,0) -> 1485 | AT17: =SUM(X17:Z17) -> 297 | AU17: =V17+AT17 -> 1782
A18: =IF(C18=200,'Code Fournisseur'!$C$4,IF(C18=300,'Code Fournisseur'!$C$12,IF(C18=400,'Code Fournisseur'!$C$17,IF(C18=500,'Code Fournisseur'!$C$23,"")))) | D18: =IF(E18=201,'Code Fournisseur'!C20,IF(E18=202,'Code Fournisseur'!$C$6,IF(E18=203,'Code Fournisseur'!$C$7,IF(E18=204,'Code Fournisseur'!$C$8,IF(E18=205,'Code Fournisseur'!$C$9,IF(E18=206,'Code Fournisseur'!$C$10,IF(E18=301,'Code Fournisseur'!$C$13,IF(E18=302,'Code Fournisseur'!$C$14,IF(E18=303,'Code Fournisseur'!$C$15,IF(E18=401,'Code Fournisseur'!$C$18,IF(E18=402,'Code Fournisseur'!$C$19,IF(E18=403,'Code Fournisseur'!$C$20,IF(E18=404,'Code Fournisseur'!$C$21,IF(E18=501,'Code Fournisseur'!$C$24,IF(E18=502,'Code Fournisseur'!$C$25,IF(E18=503,'Code Fournisseur'!$C$26,IF(E18=504,'Code Fournisseur'!$C$27,IF(E18=505,'Code Fournisseur'!$C$28,IF(E18=506,'Code Fournisseur'!$C$29,IF(E18=507,'Code Fournisseur'!$C$30,IF(E18=508,'Code Fournisseur'!$C$31,IF(E18=509,'Code Fournisseur'!$C$32,IF(E18=510,'Code Fournisseur'!$C$33,IF(E18=511,'Code Fournisseur'!$C$34,IF(E18=512,'Code Fournisseur'!$C$35,""))))))))))))))))))))))))) | G18: =IF(Tableau1[[#This Row],[Code ventilation]]=402,'Tarifs et relevés'!$G$16*Tableau1[[#This Row],[Quote part Quantités]],"") | H18: =IF(Tableau1[[#This Row],[Code ventilation]]=403,'Tarifs et relevés'!$G$17*Tableau1[[#This Row],[Quote part Quantités]],"") | I18: =IF(Tableau1[[#This Row],[Code ventilation]]=404,'Tarifs et relevés'!$G$18*Tableau1[[#This Row],[Quote part Quantités]],"") | J18: =IF(Tableau1[[#This Row],[Code ventilation]]=401,'Tarifs et relevés'!$G$14,"") | K18: =IF(ISERROR('Tarifs et relevés'!$G$15*Tableau1[[#This Row],[Gaz Citerne en Kg]]),"",'Tarifs et relevés'!$G$15*'Tableau des dépenses'!J18) | L18: =IF(Tableau1[[#This Row],[Code ventilation]]=201,IF(Tableau1[[#This Row],[Quote part Quantités]]=3,'Tarifs et relevés'!$G$4,IF(Tableau1[[#This Row],[Quote part Quantités]]=2,'Tarifs et relevés'!$G$4/3*2,IF(Tableau1[[#This Row],[Quote part Quantités]]=1,'Tarifs et relevés'!$G$4/3,""))),"") | M18: =IF(Tableau1[[#This Row],[Code ventilation]]=202,'Tarifs et relevés'!$G$5*Tableau1[[#This Row],[Quote part Quantités]],"") | N18: =IF(Tableau1[[#This Row],[Code ventilation]]=203,'Tarifs et relevés'!$G$6*Tableau1[[#This Row],[Quote part Quantités]],"") | O18: =IF(Tableau1[[#This Row],[Code ventilation]]=204,'Tarifs et relevés'!$G$7*Tableau1[[#This Row],[Quote part Quantités]],"") | P18: =IF(Tableau1[[#This Row],[Code ventilation]]=205,'Tarifs et relevés'!$G$8*Tableau1[[#This Row],[Quote part Quantités]],"") | Q18: =IF(Tableau1[[#This Row],[Code ventilation]]=206,'Tarifs et relevés'!$G$9*Tableau1[[#This Row],[Quote part Quantités]],"") | R18: =IF(Tableau1[[#This Row],[Code ventilation]]=301,'Tarifs et relevés'!$N$5,IF(Tableau1[[#This Row],[Code ventilation]]=302,'Tarifs et relevés'!$N$6,IF(Tableau1[[#This Row],[Code ventilation]]=303,'Tarifs et relevés'!$N$7,""))) | S18: =IF(ISERROR('Tarifs et relevés'!$N$8*'Tableau des dépenses'!R18),"",'Tarifs et relevés'!$N$8*'Tableau des dépenses'!R18) | T18: =IF(Tableau1[[#This Row],[Code ventilation]]=501,'Tarifs et relevés'!$N$14,IF(Tableau1[[#This Row],[Code ventilation]]=502,'Tarifs et relevés'!$N$15,IF(Tableau1[[#This Row],[Code ventilation]]=503,'Tarifs et relevés'!$N$16,IF(Tableau1[[#This Row],[Code ventilation]]=504,'Tarifs et relevés'!$N$17,IF(Tableau1[[#This Row],[Code ventilation]]=505,'Tarifs et relevés'!$N$18,IF(Tableau1[[#This Row],[Code ventilation]]=506,'Tarifs et relevés'!$N$19,IF(Tableau1[[#This Row],[Code ventilation]]=507,'Tarifs et relevés'!$N$20,IF(Tableau1[[#This Row],[Code ventilation]]=508,'Tarifs et relevés'!$N$21,IF(Tableau1[[#This Row],[Code ventilation]]=509,'Tarifs et relevés'!$N$22,IF(Tableau1[[#This Row],[Code ventilation]]=510,'Tarifs et relevés'!$N$23,IF(Tableau1[[#This Row],[Code ventilation]]=511,'Tarifs et relevés'!$N$24,IF(Tableau1[[#This Row],[Code ventilation]]=512,'Tarifs et relevés'!$N$25,"")))))))))))) | U18: =IF(ISERROR('Tarifs et relevés'!$N$26*Tableau1[[#This Row],[Engie Quantité KW]]),"",'Tarifs et relevés'!$N$26*Tableau1[[#This Row],[Engie Quantité KW]]) | V18: =IF(ISERROR(SUM(Tableau1[[#This Row],[SUEZ Transport HT]:[SUEZ Traitement HT]],Tableau1[[#This Row],[Sogedo Montant HT]],Tableau1[[#This Row],[Engie Montant HT]])),"",(SUM(Tableau1[[#This Row],[SUEZ Transport HT]:[SUEZ Traitement HT]],Tableau1[[#This Row],[Sogedo Montant HT]],Tableau1[[#This Row],[Engie Montant HT]],SUM(Tableau1[[#This Row],[Bouteille 30 Kg]:[Bouteille Le Cube]],Tableau1[[#This Row],[Gaz Citerne Montant HT]])))) -> 0 | W18: 3 | X18: =IF(W18=1,V18*$Z$2,0) -> 0 | Y18: =IF(W18=2,V18*$Y$2,0) -> 0 | Z18: =IF(W18=3,V18*$Z$2,0) -> 0 | AA18: =SUM(Tableau1[[#This Row],[SUEZ Transport HT]:[SUEZ Traitement HT]]) -> 0 | AB18: =Tableau1[[#This Row],[Sogedo Montant HT]] | AC18: =SUM(Tableau1[[#This Row],[Bouteille 30 Kg]:[Bouteille Le Cube]],Tableau1[[#This Row],[Gaz Citerne Montant HT]]) -> 0 | AD18: =Tableau1[[#This Row],[Engie Montant HT]] | AE18: =IF($E18=501,'Tarifs et relevés'!$N$14*'Tarifs et relevés'!$N$26,0) -> 0 | AF18: =IF($E18=501,'Tarifs et relevés'!$N$15*'Tarifs et relevés'!$N$26,0) -> 0 | AG18: =IF($E18=503,'Tarifs et relevés'!$N$16*'Tarifs et relevés'!$N$26,0) -> 0 | AH18: =IF($E18=504,'Tarifs et relevés'!$N$17*'Tarifs et relevés'!$N$26,0) -> 0 | AI18: =IF($E18=505,'Tarifs et relevés'!$N$18*'Tarifs et relevés'!$N$26,0) -> 0 | AJ18: =IF($E18=506,'Tarifs et relevés'!$N$19*'Tarifs et relevés'!$N$26,0) -> 0 | AK18: =IF($E18=507,'Tarifs et relevés'!$N$20*'Tarifs et relevés'!$N$26,0) -> 0 | AL18: =IF($E18=508,'Tarifs et relevés'!$N$21*'Tarifs et relevés'!$N$26,0) -> 0 | AM18: =IF($E18=509,'Tarifs et relevés'!$N$22*'Tarifs et relevés'!$N$26,0) -> 0 | AN18: =IF($E18=510,'Tarifs et relevés'!$N$23*'Tarifs et relevés'!$N$26,0) -> 0 | AO18: =IF($E18=511,'Tarifs et relevés'!$N$24*'Tarifs et relevés'!$N$26,0) -> 0 | AP18: =IF($E18=512,'Tarifs et relevés'!$N$25*'Tarifs et relevés'!$N$26,0) -> 0 | AQ18: =IF($E18=301,'Tarifs et relevés'!$N$5*'Tarifs et relevés'!$N$8,0) -> 0 | AR18: =IF($E18=302,'Tarifs et relevés'!$N$6*'Tarifs et relevés'!$N$8,0) -> 0 | AS18: =IF($E18=303,'Tarifs et relevés'!$N$7*'Tarifs et relevés'!$N$8,0) -> 0 | AT18: =SUM(X18:Z18) -> 0 | AU18: =V18+AT18 -> 0
A19: =IF(C19=200,'Code Fournisseur'!$C$4,IF(C19=300,'Code Fournisseur'!$C$12,IF(C19=400,'Code Fournisseur'!$C$17,IF(C19=500,'Code Fournisseur'!$C$23,"")))) -> ENGIE | C19: 500 | D19: =IF(E19=201,'Code Fournisseur'!C21,IF(E19=202,'Code Fournisseur'!$C$6,IF(E19=203,'Code Fournisseur'!$C$7,IF(E19=204,'Code Fournisseur'!$C$8,IF(E19=205,'Code Fournisseur'!$C$9,IF(E19=206,'Code Fournisseur'!$C$10,IF(E19=301,'Code Fournisseur'!$C$13,IF(E19=302,'Code Fournisseur'!$C$14,IF(E19=303,'Code Fournisseur'!$C$15,IF(E19=401,'Code Fournisseur'!$C$18,IF(E19=402,'Code Fournisseur'!$C$19,IF(E19=403,'Code Fournisseur'!$C$20,IF(E19=404,'Code Fournisseur'!$C$21,IF(E19=501,'Code Fournisseur'!$C$24,IF(E19=502,'Code Fournisseur'!$C$25,IF(E19=503,'Code Fournisseur'!$C$26,IF(E19=504,'Code Fournisseur'!$C$27,IF(E19=505,'Code Fournisseur'!$C$28,IF(E19=506,'Code Fournisseur'!$C$29,IF(E19=507,'Code Fournisseur'!$C$30,IF(E19=508,'Code Fournisseur'!$C$31,IF(E19=509,'Code Fournisseur'!$C$32,IF(E19=510,'Code Fournisseur'!$C$33,IF(E19=511,'Code Fournisseur'!$C$34,IF(E19=512,'Code Fournisseur'!$C$35,""))))))))))))))))))))))))) -> Relevé Janvier | E19: 501 | G19: =IF(Tableau1[[#This Row],[Code ventilation]]=402,'Tarifs et relevés'!$G$16*Tableau1[[#This Row],[Quote part Quantités]],"") | H19: =IF(Tableau1[[#This Row],[Code ventilation]]=403,'Tarifs et relevés'!$G$17*Tableau1[[#This Row],[Quote part Quantités]],"") | I19: =IF(Tableau1[[#This Row],[Code ventilation]]=404,'Tarifs et relevés'!$G$18*Tableau1[[#This Row],[Quote part Quantités]],"") | J19: =IF(Tableau1[[#This Row],[Code ventilation]]=401,'Tarifs et relevés'!$G$14,"") | K19: =IF(ISERROR('Tarifs et relevés'!$G$15*Tableau1[[#This Row],[Gaz Citerne en Kg]]),"",'Tarifs et relevés'!$G$15*'Tableau des dépenses'!J19) | L19: =IF(Tableau1[[#This Row],[Code ventilation]]=201,IF(Tableau1[[#This Row],[Quote part Quantités]]=3,'Tarifs et relevés'!$G$4,IF(Tableau1[[#This Row],[Quote part Quantités]]=2,'Tarifs et relevés'!$G$4/3*2,IF(Tableau1[[#This Row],[Quote part Quantités]]=1,'Tarifs et relevés'!$G$4/3,""))),"") | M19: =IF(Tableau1[[#This Row],[Code ventilation]]=202,'Tarifs et relevés'!$G$5*Tableau1[[#This Row],[Quote part Quantités]],"") | N19: =IF(Tableau1[[#This Row],[Code ventilation]]=203,'Tarifs et relevés'!$G$6*Tableau1[[#This Row],[Quote part Quantités]],"") | O19: =IF(Tableau1[[#This Row],[Code ventilation]]=204,'Tarifs et relevés'!$G$7*Tableau1[[#This Row],[Quote part Quantités]],"") | P19: =IF(Tableau1[[#This Row],[Code ventilation]]=205,'Tarifs et relevés'!$G$8*Tableau1[[#This Row],[Quote part Quantités]],"") | Q19: =IF(Tableau1[[#This Row],[Code ventilation]]=206,'Tarifs et relevés'!$G$9*Tableau1[[#This Row],[Quote part Quantités]],"") | R19: =IF(Tableau1[[#This Row],[Code ventilation]]=301,'Tarifs et relevés'!$N$5,IF(Tableau1[[#This Row],[Code ventilation]]=302,'Tarifs et relevés'!$N$6,IF(Tableau1[[#This Row],[Code ventilation]]=303,'Tarifs et relevés'!$N$7,""))) | S19: =IF(ISERROR('Tarifs et relevés'!$N$8*'Tableau des dépenses'!R19),"",'Tarifs et relevés'!$N$8*'Tableau des dépenses'!R19) | T19: =IF(Tableau1[[#This Row],[Code ventilation]]=501,'Tarifs et relevés'!$N$14,IF(Tableau1[[#This Row],[Code ventilation]]=502,'Tarifs et relevés'!$N$15,IF(Tableau1[[#This Row],[Code ventilation]]=503,'Tarifs et relevés'!$N$16,IF(Tableau1[[#This Row],[Code ventilation]]=504,'Tarifs et relevés'!$N$17,IF(Tableau1[[#This Row],[Code ventilation]]=505,'Tarifs et relevés'!$N$18,IF(Tableau1[[#This Row],[Code ventilation]]=506,'Tarifs et relevés'!$N$19,IF(Tableau1[[#This Row],[Code ventilation]]=507,'Tarifs et relevés'!$N$20,IF(Tableau1[[#This Row],[Code ventilation]]=508,'Tarifs et relevés'!$N$21,IF(Tableau1[[#This Row],[Code ventilation]]=509,'Tarifs et relevés'!$N$22,IF(Tableau1[[#This Row],[Code ventilation]]=510,'Tarifs et relevés'!$N$23,IF(Tableau1[[#This Row],[Code ventilation]]=511,'Tarifs et relevés'!$N$24,IF(Tableau1[[#This Row],[Code ventilation]]=512,'Tarifs et relevés'!$N$25,"")))))))))))) -> 500 | U19: =IF(ISERROR('Tarifs et relevés'!$N$26*Tableau1[[#This Row],[Engie Quantité KW]]),"",'Tarifs et relevés'!$N$26*Tableau1[[#This Row],[Engie Quantité KW]]) -> 125 | V19: =IF(ISERROR(SUM(Tableau1[[#This Row],[SUEZ Transport HT]:[SUEZ Traitement HT]],Tableau1[[#This Row],[Sogedo Montant HT]],Tableau1[[#This Row],[Engie Montant HT]])),"",(SUM(Tableau1[[#This Row],[SUEZ Transport HT]:[SUEZ Traitement HT]],Tableau1[[#This Row],[Sogedo Montant HT]],Tableau1[[#This Row],[Engie Montant HT]],SUM(Tableau1[[#This Row],[Bouteille 30 Kg]:[Bouteille Le Cube]],Tableau1[[#This Row],[Gaz Citerne Montant HT]])))) -> 125 | W19: 3 | X19: =IF(W19=1,V19*$Z$2,0) -> 0 | Y19: =IF(W19=2,V19*$Y$2,0) -> 0 | Z19: =IF(W19=3,V19*$Z$2,0) -> 25 | AA19: =SUM(Tableau1[[#This Row],[SUEZ Transport HT]:[SUEZ Traitement HT]]) -> 0 | AB19: =Tableau1[[#This Row],[Sogedo Montant HT]] | AC19: =SUM(Tableau1[[#This Row],[Bouteille 30 Kg]:[Bouteille Le Cube]],Tableau1[[#This Row],[Gaz Citerne Montant HT]]) -> 0 | AD19: =Tableau1[[#This Row],[Engie Montant HT]] -> 125 | AE19: =IF($E19=501,'Tarifs et relevés'!$N$14*'Tarifs et relevés'!$N$26,0) -> 125 | AF19: =IF($E19=501,'Tarifs et relevés'!$N$15*'Tarifs et relevés'!$N$26,0) -> 125 | AG19: =IF($E19=503,'Tarifs et relevés'!$N$16*'Tarifs et relevés'!$N$26,0) -> 0 | AH19: =IF($E19=504,'Tarifs et relevés'!$N$17*'Tarifs et relevés'!$N$26,0) -> 0 | AI19: =IF($E19=505,'Tarifs et relevés'!$N$18*'Tarifs et relevés'!$N$26,0) -> 0 | AJ19: =IF($E19=506,'Tarifs et relevés'!$N$19*'Tarifs et relevés'!$N$26,0) -> 0 | AK19: =IF($E19=507,'Tarifs et relevés'!$N$20*'Tarifs et relevés'!$N$26,0) -> 0 | AL19: =IF($E19=508,'Tarifs et relevés'!$N$21*'Tarifs et relevés'!$N$26,0) -> 0 | AM19: =IF($E19=509,'Tarifs et relevés'!$N$22*'Tarifs et relevés'!$N$26,0) -> 0 | AN19: =IF($E19=510,'Tarifs et relevés'!$N$23*'Tarifs et relevés'!$N$26,0) -> 0 | AO19: =IF($E19=511,'Tarifs et relevés'!$N$24*'Tarifs et relevés'!$N$26,0) -> 0 | AP19: =IF($E19=512,'Tarifs et relevés'!$N$25*'Tarifs et relevés'!$N$26,0) -> 0 | AQ19: =IF($E19=301,'Tarifs et relevés'!$N$5*'Tarifs et relevés'!$N$8,0) -> 0 | AR19: =IF($E19=302,'Tarifs et relevés'!$N$6*'Tarifs et relevés'!$N$8,0) -> 0 | AS19: =IF($E19=303,'Tarifs et relevés'!$N$7*'Tarifs et relevés'!$N$8,0) -> 0 | AT19: =SUM(X19:Z19) -> 25 | AU19: =V19+AT19 -> 150
A20: =IF(C20=200,'Code Fournisseur'!$C$4,IF(C20=300,'Code Fournisseur'!$C$12,IF(C20=400,'Code Fournisseur'!$C$17,IF(C20=500,'Code Fournisseur'!$C$23,"")))) -> ENGIE | C20: 500 | D20: =IF(E20=201,'Code Fournisseur'!C22,IF(E20=202,'Code Fournisseur'!$C$6,IF(E20=203,'Code Fournisseur'!$C$7,IF(E20=204,'Code Fournisseur'!$C$8,IF(E20=205,'Code Fournisseur'!$C$9,IF(E20=206,'Code Fournisseur'!$C$10,IF(E20=301,'Code Fournisseur'!$C$13,IF(E20=302,'Code Fournisseur'!$C$14,IF(E20=303,'Code Fournisseur'!$C$15,IF(E20=401,'Code Fournisseur'!$C$18,IF(E20=402,'Code Fournisseur'!$C$19,IF(E20=403,'Code Fournisseur'!$C$20,IF(E20=404,'Code Fournisseur'!$C$21,IF(E20=501,'Code Fournisseur'!$C$24,IF(E20=502,'Code Fournisseur'!$C$25,IF(E20=503,'Code Fournisseur'!$C$26,IF(E20=504,'Code Fournisseur'!$C$27,IF(E20=505,'Code Fournisseur'!$C$28,IF(E20=506,'Code Fournisseur'!$C$29,IF(E20=507,'Code Fournisseur'!$C$30,IF(E20=508,'Code Fournisseur'!$C$31,IF(E20=509,'Code Fournisseur'!$C$32,IF(E20=510,'Code Fournisseur'!$C$33,IF(E20=511,'Code Fournisseur'!$C$34,IF(E20=512,'Code Fournisseur'!$C$35,""))))))))))))))))))))))))) -> Relevé Février | E20: 502 | G20: =IF(Tableau1[[#This Row],[Code ventilation]]=402,'Tarifs et relevés'!$G$16*Tableau1[[#This Row],[Quote part Quantités]],"") | H20: =IF(Tableau1[[#This Row],[Code ventilation]]=403,'Tarifs et relevés'!$G$17*Tableau1[[#This Row],[Quote part Quantités]],"") | I20: =IF(Tableau1[[#This Row],[Code ventilation]]=404,'Tarifs et relevés'!$G$18*Tableau1[[#This Row],[Quote part Quantités]],"") | J20: =IF(Tableau1[[#This Row],[Code ventilation]]=401,'Tarifs et relevés'!$G$14,"") | K20: =IF(ISERROR('Tarifs et relevés'!$G$15*Tableau1[[#This Row],[Gaz Citerne en Kg]]),"",'Tarifs et relevés'!$G$15*'Tableau des dépenses'!J20) | L20: =IF(Tableau1[[#This Row],[Code ventilation]]=201,IF(Tableau1[[#This Row],[Quote part Quantités]]=3,'Tarifs et relevés'!$G$4,IF(Tableau1[[#This Row],[Quote part Quantités]]=2,'Tarifs et relevés'!$G$4/3*2,IF(Tableau1[[#This Row],[Quote part Quantités]]=1,'Tarifs et relevés'!$G$4/3,""))),"") | M20: =IF(Tableau1[[#This Row],[Code ventilation]]=202,'Tarifs et relevés'!$G$5*Tableau1[[#This Row],[Quote part Quantités]],"") | N20: =IF(Tableau1[[#This Row],[Code ventilation]]=203,'Tarifs et relevés'!$G$6*Tableau1[[#This Row],[Quote part Quantités]],"") | O20: =IF(Tableau1[[#This Row],[Code ventilation]]=204,'Tarifs et relevés'!$G$7*Tableau1[[#This Row],[Quote part Quantités]],"") | P20: =IF(Tableau1[[#This Row],[Code ventilation]]=205,'Tarifs et relevés'!$G$8*Tableau1[[#This Row],[Quote part Quantités]],"") | Q20: =IF(Tableau1[[#This Row],[Code ventilation]]=206,'Tarifs et relevés'!$G$9*Tableau1[[#This Row],[Quote part Quantités]],"") | R20: =IF(Tableau1[[#This Row],[Code ventilation]]=301,'Tarifs et relevés'!$N$5,IF(Tableau1[[#This Row],[Code ventilation]]=302,'Tarifs et relevés'!$N$6,IF(Tableau1[[#This Row],[Code ventilation]]=303,'Tarifs et relevés'!$N$7,""))) | S20: =IF(ISERROR('Tarifs et relevés'!$N$8*'Tableau des dépenses'!R20),"",'Tarifs et relevés'!$N$8*'Tableau des dépenses'!R20) | T20: =IF(Tableau1[[#This Row],[Code ventilation]]=501,'Tarifs et relevés'!$N$14,IF(Tableau1[[#This Row],[Code ventilation]]=502,'Tarifs et relevés'!$N$15,IF(Tableau1[[#This Row],[Code ventilation]]=503,'Tarifs et relevés'!$N$16,IF(Tableau1[[#This Row],[Code ventilation]]=504,'Tarifs et relevés'!$N$17,IF(Tableau1[[#This Row],[Code ventilation]]=505,'Tarifs et relevés'!$N$18,IF(Tableau1[[#This Row],[Code ventilation]]=506,'Tarifs et relevés'!$N$19,IF(Tableau1[[#This Row],[Code ventilation]]=507,'Tarifs et relevés'!$N$20,IF(Tableau1[[#This Row],[Code ventilation]]=508,'Tarifs et relevés'!$N$21,IF(Tableau1[[#This Row],[Code ventilation]]=509,'Tarifs et relevés'!$N$22,IF(Tableau1[[#This Row],[Code ventilation]]=510,'Tarifs et relevés'!$N$23,IF(Tableau1[[#This Row],[Code ventilation]]=511,'Tarifs et relevés'!$N$24,IF(Tableau1[[#This Row],[Code ventilation]]=512,'Tarifs et relevés'!$N$25,"")))))))))))) -> 500 | U20: =IF(ISERROR('Tarifs et relevés'!$N$26*Tableau1[[#This Row],[Engie Quantité KW]]),"",'Tarifs et relevés'!$N$26*Tableau1[[#This Row],[Engie Quantité KW]]) -> 125 | V20: =IF(ISERROR(SUM(Tableau1[[#This Row],[SUEZ Transport HT]:[SUEZ Traitement HT]],Tableau1[[#This Row],[Sogedo Montant HT]],Tableau1[[#This Row],[Engie Montant HT]])),"",(SUM(Tableau1[[#This Row],[SUEZ Transport HT]:[SUEZ Traitement HT]],Tableau1[[#This Row],[Sogedo Montant HT]],Tableau1[[#This Row],[Engie Montant HT]],SUM(Tableau1[[#This Row],[Bouteille 30 Kg]:[Bouteille Le Cube]],Tableau1[[#This Row],[Gaz Citerne Montant HT]])))) -> 125 | W20: 3 | X20: =IF(W20=1,V20*$Z$2,0) -> 0 | Y20: =IF(W20=2,V20*$Y$2,0) -> 0 | Z20: =IF(W20=3,V20*$Z$2,0) -> 25 | AA20: =SUM(Tableau1[[#This Row],[SUEZ Transport HT]:[SUEZ Traitement HT]]) -> 0 | AB20: =Tableau1[[#This Row],[Sogedo Montant HT]] | AC20: =SUM(Tableau1[[#This Row],[Bouteille 30 Kg]:[Bouteille Le Cube]],Tableau1[[#This Row],[Gaz Citerne Montant HT]]) -> 0 | AD20: =Tableau1[[#This Row],[Engie Montant HT]] -> 125 | AE20: =IF($E20=501,'Tarifs et relevés'!$N$14*'Tarifs et relevés'!$N$26,0) -> 0 | AF20: =IF($E20=501,'Tarifs et relevés'!$N$15*'Tarifs et relevés'!$N$26,0) -> 0 | AG20: =IF($E20=503,'Tarifs et relevés'!$N$16*'Tarifs et relevés'!$N$26,0) -> 0 | AH20: =IF($E20=504,'Tarifs et relevés'!$N$17*'Tarifs et relevés'!$N$26,0) -> 0 | AI20: =IF($E20=505,'Tarifs et relevés'!$N$18*'Tarifs et relevés'!$N$26,0) -> 0 | AJ20: =IF($E20=506,'Tarifs et relevés'!$N$19*'Tarifs et relevés'!$N$26,0) -> 0 | AK20: =IF($E20=507,'Tarifs et relevés'!$N$20*'Tarifs et relevés'!$N$26,0) -> 0 | AL20: =IF($E20=508,'Tarifs et relevés'!$N$21*'Tarifs et relevés'!$N$26,0) -> 0 | AM20: =IF($E20=509,'Tarifs et relevés'!$N$22*'Tarifs et relevés'!$N$26,0) -> 0 | AN20: =IF($E20=510,'Tarifs et relevés'!$N$23*'Tarifs et relevés'!$N$26,0) -> 0 | AO20: =IF($E20=511,'Tarifs et relevés'!$N$24*'Tarifs et relevés'!$N$26,0) -> 0 | AP20: =IF($E20=512,'Tarifs et relevés'!$N$25*'Tarifs et relevés'!$N$26,0) -> 0 | AQ20: =IF($E20=301,'Tarifs et relevés'!$N$5*'Tarifs et relevés'!$N$8,0) -> 0 | AR20: =IF($E20=302,'Tarifs et relevés'!$N$6*'Tarifs et relevés'!$N$8,0) -> 0 | AS20: =IF($E20=303,'Tarifs et relevés'!$N$7*'Tarifs et relevés'!$N$8,0) -> 0 | AT20: =SUM(X20:Z20) -> 25 | AU20: =V20+AT20 -> 150
A21: =IF(C21=200,'Code Fournisseur'!$C$4,IF(C21=300,'Code Fournisseur'!$C$12,IF(C21=400,'Code Fournisseur'!$C$17,IF(C21=500,'Code Fournisseur'!$C$23,"")))) -> ENGIE | C21: 500 | D21: =IF(E21=201,'Code Fournisseur'!C23,IF(E21=202,'Code Fournisseur'!$C$6,IF(E21=203,'Code Fournisseur'!$C$7,IF(E21=204,'Code Fournisseur'!$C$8,IF(E21=205,'Code Fournisseur'!$C$9,IF(E21=206,'Code Fournisseur'!$C$10,IF(E21=301,'Code Fournisseur'!$C$13,IF(E21=302,'Code Fournisseur'!$C$14,IF(E21=303,'Code Fournisseur'!$C$15,IF(E21=401,'Code Fournisseur'!$C$18,IF(E21=402,'Code Fournisseur'!$C$19,IF(E21=403,'Code Fournisseur'!$C$20,IF(E21=404,'Code Fournisseur'!$C$21,IF(E21=501,'Code Fournisseur'!$C$24,IF(E21=502,'Code Fournisseur'!$C$25,IF(E21=503,'Code Fournisseur'!$C$26,IF(E21=504,'Code Fournisseur'!$C$27,IF(E21=505,'Code Fournisseur'!$C$28,IF(E21=506,'Code Fournisseur'!$C$29,IF(E21=507,'Code Fournisseur'!$C$30,IF(E21=508,'Code Fournisseur'!$C$31,IF(E21=509,'Code Fournisseur'!$C$32,IF(E21=510,'Code Fournisseur'!$C$33,IF(E21=511,'Code Fournisseur'!$C$34,IF(E21=512,'Code Fournisseur'!$C$35,""))))))))))))))))))))))))) -> Relevé Mars | E21: 503 | G21: =IF(Tableau1[[#This Row],[Code ventilation]]=402,'Tarifs et relevés'!$G$16*Tableau1[[#This Row],[Quote part Quantités]],"") | H21: =IF(Tableau1[[#This Row],[Code ventilation]]=403,'Tarifs et relevés'!$G$17*Tableau1[[#This Row],[Quote part Quantités]],"") | I21: =IF(Tableau1[[#This Row],[Code ventilation]]=404,'Tarifs et relevés'!$G$18*Tableau1[[#This Row],[Quote part Quantités]],"") | J21: =IF(Tableau1[[#This Row],[Code ventilation]]=401,'Tarifs et relevés'!$G$14,"") | K21: =IF(ISERROR('Tarifs et relevés'!$G$15*Tableau1[[#This Row],[Gaz Citerne en Kg]]),"",'Tarifs et relevés'!$G$15*'Tableau des dépenses'!J21) | L21: =IF(Tableau1[[#This Row],[Code ventilation]]=201,IF(Tableau1[[#This Row],[Quote part Quantités]]=3,'Tarifs et relevés'!$G$4,IF(Tableau1[[#This Row],[Quote part Quantités]]=2,'Tarifs et relevés'!$G$4/3*2,IF(Tableau1[[#This Row],[Quote part Quantités]]=1,'Tarifs et relevés'!$G$4/3,""))),"") | M21: =IF(Tableau1[[#This Row],[Code ventilation]]=202,'Tarifs et relevés'!$G$5*Tableau1[[#This Row],[Quote part Quantités]],"") | N21: =IF(Tableau1[[#This Row],[Code ventilation]]=203,'Tarifs et relevés'!$G$6*Tableau1[[#This Row],[Quote part Quantités]],"") | O21: =IF(Tableau1[[#This Row],[Code ventilation]]=204,'Tarifs et relevés'!$G$7*Tableau1[[#This Row],[Quote part Quantités]],"") | P21: =IF(Tableau1[[#This Row],[Code ventilation]]=205,'Tarifs et relevés'!$G$8*Tableau1[[#This Row],[Quote part Quantités]],"") | Q21: =IF(Tableau1[[#This Row],[Code ventilation]]=206,'Tarifs et relevés'!$G$9*Tableau1[[#This Row],[Quote part Quantités]],"") | R21: =IF(Tableau1[[#This Row],[Code ventilation]]=301,'Tarifs et relevés'!$N$5,IF(Tableau1[[#This Row],[Code ventilation]]=302,'Tarifs et relevés'!$N$6,IF(Tableau1[[#This Row],[Code ventilation]]=303,'Tarifs et relevés'!$N$7,""))) | S21: =IF(ISERROR('Tarifs et relevés'!$N$8*'Tableau des dépenses'!R21),"",'Tarifs et relevés'!$N$8*'Tableau des dépenses'!R21) | T21: =IF(Tableau1[[#This Row],[Code ventilation]]=501,'Tarifs et relevés'!$N$14,IF(Tableau1[[#This Row],[Code ventilation]]=502,'Tarifs et relevés'!$N$15,IF(Tableau1[[#This Row],[Code ventilation]]=503,'Tarifs et relevés'!$N$16,IF(Tableau1[[#This Row],[Code ventilation]]=504,'Tarifs et relevés'!$N$17,IF(Tableau1[[#This Row],[Code ventilation]]=505,'Tarifs et relevés'!$N$18,IF(Tableau1[[#This Row],[Code ventilation]]=506,'Tarifs et relevés'!$N$19,IF(Tableau1[[#This Row],[Code ventilation]]=507,'Tarifs et relevés'!$N$20,IF(Tableau1[[#This Row],[Code ventilation]]=508,'Tarifs et relevés'!$N$21,IF(Tableau1[[#This Row],[Code ventilation]]=509,'Tarifs et relevés'!$N$22,IF(Tableau1[[#This Row],[Code ventilation]]=510,'Tarifs et relevés'!$N$23,IF(Tableau1[[#This Row],[Code ventilation]]=511,'Tarifs et relevés'!$N$24,IF(Tableau1[[#This Row],[Code ventilation]]=512,'Tarifs et relevés'!$N$25,"")))))))))))) -> 1000 | U21: =IF(ISERROR('Tarifs et relevés'!$N$26*Tableau1[[#This Row],[Engie Quantité KW]]),"",'Tarifs et relevés'!$N$26*Tableau1[[#This Row],[Engie Quantité KW]]) -> 250 | V21: =IF(ISERROR(SUM(Tableau1[[#This Row],[SUEZ Transport HT]:[SUEZ Traitement HT]],Tableau1[[#This Row],[Sogedo Montant HT]],Tableau1[[#This Row],[Engie Montant HT]])),"",(SUM(Tableau1[[#This Row],[SUEZ Transport HT]:[SUEZ Traitement HT]],Tableau1[[#This Row],[Sogedo Montant HT]],Tableau1[[#This Row],[Engie Montant HT]],SUM(Tableau1[[#This Row],[Bouteille 30 Kg]:[Bouteille Le Cube]],Tableau1[[#This Row],[Gaz Citerne Montant HT]])))) -> 250 | W21: 3 | X21: =IF(W21=1,V21*$Z$2,0) -> 0 | Y21: =IF(W21=2,V21*$Y$2,0) -> 0 | Z21: =IF(W21=3,V21*$Z$2,0) -> 50 | AA21: =SUM(Tableau1[[#This Row],[SUEZ Transport HT]:[SUEZ Traitement HT]]) -> 0 | AB21: =Tableau1[[#This Row],[Sogedo Montant HT]] | AC21: =SUM(Tableau1[[#This Row],[Bouteille 30 Kg]:[Bouteille Le Cube]],Tableau1[[#This Row],[Gaz Citerne Montant HT]]) -> 0 | AD21: =Tableau1[[#This Row],[Engie Montant HT]] -> 250 | AE21: =IF($E21=501,'Tarifs et relevés'!$N$14*'Tarifs et relevés'!$N$26,0) -> 0 | AF21: =IF($E21=501,'Tarifs et relevés'!$N$15*'Tarifs et relevés'!$N$26,0) -> 0 | AG21: =IF($E21=503,'Tarifs et relevés'!$N$16*'Tarifs et relevés'!$N$26,0) -> 250 | AH21: =IF($E21=504,'Tarifs et relevés'!$N$17*'Tarifs et relevés'!$N$26,0) -> 0 | AI21: =IF($E21=505,'Tarifs et relevés'!$N$18*'Tarifs et relevés'!$N$26,0) -> 0 | AJ21: =IF($E21=506,'Tarifs et relevés'!$N$19*'Tarifs et relevés'!$N$26,0) -> 0 | AK21: =IF($E21=507,'Tarifs et relevés'!$N$20*'Tarifs et relevés'!$N$26,0) -> 0 | AL21: =IF($E21=508,'Tarifs et relevés'!$N$21*'Tarifs et relevés'!$N$26,0) -> 0 | AM21: =IF($E21=509,'Tarifs et relevés'!$N$22*'Tarifs et relevés'!$N$26,0) -> 0 | AN21: =IF($E21=510,'Tarifs et relevés'!$N$23*'Tarifs et relevés'!$N$26,0) -> 0 | AO21: =IF($E21=511,'Tarifs et relevés'!$N$24*'Tarifs et relevés'!$N$26,0) -> 0 | AP21: =IF($E21=512,'Tarifs et relevés'!$N$25*'Tarifs et relevés'!$N$26,0) -> 0 | AQ21: =IF($E21=301,'Tarifs et relevés'!$N$5*'Tarifs et relevés'!$N$8,0) -> 0 | AR21: =IF($E21=302,'Tarifs et relevés'!$N$6*'Tarifs et relevés'!$N$8,0) -> 0 | AS21: =IF($E21=303,'Tarifs et relevés'!$N$7*'Tarifs et relevés'!$N$8,0) -> 0 | AT21: =SUM(X21:Z21) -> 50 | AU21: =V21+AT21 -> 300
A22: =IF(C22=200,'Code Fournisseur'!$C$4,IF(C22=300,'Code Fournisseur'!$C$12,IF(C22=400,'Code Fournisseur'!$C$17,IF(C22=500,'Code Fournisseur'!$C$23,"")))) -> ENGIE | C22: 500 | D22: =IF(E22=201,'Code Fournisseur'!C24,IF(E22=202,'Code Fournisseur'!$C$6,IF(E22=203,'Code Fournisseur'!$C$7,IF(E22=204,'Code Fournisseur'!$C$8,IF(E22=205,'Code Fournisseur'!$C$9,IF(E22=206,'Code Fournisseur'!$C$10,IF(E22=301,'Code Fournisseur'!$C$13,IF(E22=302,'Code Fournisseur'!$C$14,IF(E22=303,'Code Fournisseur'!$C$15,IF(E22=401,'Code Fournisseur'!$C$18,IF(E22=402,'Code Fournisseur'!$C$19,IF(E22=403,'Code Fournisseur'!$C$20,IF(E22=404,'Code Fournisseur'!$C$21,IF(E22=501,'Code Fournisseur'!$C$24,IF(E22=502,'Code Fournisseur'!$C$25,IF(E22=503,'Code Fournisseur'!$C$26,IF(E22=504,'Code Fournisseur'!$C$27,IF(E22=505,'Code Fournisseur'!$C$28,IF(E22=506,'Code Fournisseur'!$C$29,IF(E22=507,'Code Fournisseur'!$C$30,IF(E22=508,'Code Fournisseur'!$C$31,IF(E22=509,'Code Fournisseur'!$C$32,IF(E22=510,'Code Fournisseur'!$C$33,IF(E22=511,'Code Fournisseur'!$C$34,IF(E22=512,'Code Fournisseur'!$C$35,""))))))))))))))))))))))))) -> Relevé Avril | E22: 504 | G22: =IF(Tableau1[[#This Row],[Code ventilation]]=402,'Tarifs et relevés'!$G$16*Tableau1[[#This Row],[Quote part Quantités]],"") | H22: =IF(Tableau1[[#This Row],[Code ventilation]]=403,'Tarifs et relevés'!$G$17*Tableau1[[#This Row],[Quote part Quantités]],"") | I22: =IF(Tableau1[[#This Row],[Code ventilation]]=404,'Tarifs et relevés'!$G$18*Tableau1[[#This Row],[Quote part Quantités]],"") | J22: =IF(Tableau1[[#This Row],[Code ventilation]]=401,'Tarifs et relevés'!$G$14,"") | K22: =IF(ISERROR('Tarifs et relevés'!$G$15*Tableau1[[#This Row],[Gaz Citerne en Kg]]),"",'Tarifs et relevés'!$G$15*'Tableau des dépenses'!J22) | L22: =IF(Tableau1[[#This Row],[Code ventilation]]=201,IF(Tableau1[[#This Row],[Quote part Quantités]]=3,'Tarifs et relevés'!$G$4,IF(Tableau1[[#This Row],[Quote part Quantités]]=2,'Tarifs et relevés'!$G$4/3*2,IF(Tableau1[[#This Row],[Quote part Quantités]]=1,'Tarifs et relevés'!$G$4/3,""))),"") | M22: =IF(Tableau1[[#This Row],[Code ventilation]]=202,'Tarifs et relevés'!$G$5*Tableau1[[#This Row],[Quote part Quantités]],"") | N22: =IF(Tableau1[[#This Row],[Code ventilation]]=203,'Tarifs et relevés'!$G$6*Tableau1[[#This Row],[Quote part Quantités]],"") | O22: =IF(Tableau1[[#This Row],[Code ventilation]]=204,'Tarifs et relevés'!$G$7*Tableau1[[#This Row],[Quote part Quantités]],"") | P22: =IF(Tableau1[[#This Row],[Code ventilation]]=205,'Tarifs et relevés'!$G$8*Tableau1[[#This Row],[Quote part Quantités]],"") | Q22: =IF(Tableau1[[#This Row],[Code ventilation]]=206,'Tarifs et relevés'!$G$9*Tableau1[[#This Row],[Quote part Quantités]],"") | R22: =IF(Tableau1[[#This Row],[Code ventilation]]=301,'Tarifs et relevés'!$N$5,IF(Tableau1[[#This Row],[Code ventilation]]=302,'Tarifs et relevés'!$N$6,IF(Tableau1[[#This Row],[Code ventilation]]=303,'Tarifs et relevés'!$N$7,""))) | S22: =IF(ISERROR('Tarifs et relevés'!$N$8*'Tableau des dépenses'!R22),"",'Tarifs et relevés'!$N$8*'Tableau des dépenses'!R22) | T22: =IF(Tableau1[[#This Row],[Code ventilation]]=501,'Tarifs et relevés'!$N$14,IF(Tableau1[[#This Row],[Code ventilation]]=502,'Tarifs et relevés'!$N$15,IF(Tableau1[[#This Row],[Code ventilation]]=503,'Tarifs et relevés'!$N$16,IF(Tableau1[[#This Row],[Code ventilation]]=504,'Tarifs et relevés'!$N$17,IF(Tableau1[[#This Row],[Code ventilation]]=505,'Tarifs et relevés'!$N$18,IF(Tableau1[[#This Row],[Code ventilation]]=506,'Tarifs et relevés'!$N$19,IF(Tableau1[[#This Row],[Code ventilation]]=507,'Tarifs et relevés'!$N$20,IF(Tableau1[[#This Row],[Code ventilation]]=508,'Tarifs et relevés'!$N$21,IF(Tableau1[[#This Row],[Code ventilation]]=509,'Tarifs et relevés'!$N$22,IF(Tableau1[[#This Row],[Code ventilation]]=510,'Tarifs et relevés'!$N$23,IF(Tableau1[[#This Row],[Code ventilation]]=511,'Tarifs et relevés'!$N$24,IF(Tableau1[[#This Row],[Code ventilation]]=512,'Tarifs et relevés'!$N$25,"")))))))))))) -> 1000 | U22: =IF(ISERROR('Tarifs et relevés'!$N$26*Tableau1[[#This Row],[Engie Quantité KW]]),"",'Tarifs et relevés'!$N$26*Tableau1[[#This Row],[Engie Quantité KW]]) -> 250 | V22: =IF(ISERROR(SUM(Tableau1[[#This Row],[SUEZ Transport HT]:[SUEZ Traitement HT]],Tableau1[[#This Row],[Sogedo Montant HT]],Tableau1[[#This Row],[Engie Montant HT]])),"",(SUM(Tableau1[[#This Row],[SUEZ Transport HT]:[SUEZ Traitement HT]],Tableau1[[#This Row],[Sogedo Montant HT]],Tableau1[[#This Row],[Engie Montant HT]],SUM(Tableau1[[#This Row],[Bouteille 30 Kg]:[Bouteille Le Cube]],Tableau1[[#This Row],[Gaz Citerne Montant HT]])))) -> 250 | W22: 3 | X22: =IF(W22=1,V22*$Z$2,0) -> 0 | Y22: =IF(W22=2,V22*$Y$2,0) -> 0 | Z22: =IF(W22=3,V22*$Z$2,0) -> 50 | AA22: =SUM(Tableau1[[#This Row],[SUEZ Transport HT]:[SUEZ Traitement HT]]) -> 0 | AB22: =Tableau1[[#This Row],[Sogedo Montant HT]] | AC22: =SUM(Tableau1[[#This Row],[Bouteille 30 Kg]:[Bouteille Le Cube]],Tableau1[[#This Row],[Gaz Citerne Montant HT]]) -> 0 | AD22: =Tableau1[[#This Row],[Engie Montant HT]] -> 250 | AE22: =IF($E22=501,'Tarifs et relevés'!$N$14*'Tarifs et relevés'!$N$26,0) -> 0 | AF22: =IF($E22=501,'Tarifs et relevés'!$N$15*'Tarifs et relevés'!$N$26,0) -> 0 | AG22: =IF($E22=503,'Tarifs et relevés'!$N$16*'Tarifs et relevés'!$N$26,0) -> 0 | AH22: =IF($E22=504,'Tarifs et relevés'!$N$17*'Tarifs et relevés'!$N$26,0) -> 250 | AI22: =IF($E22=505,'Tarifs et relevés'!$N$18*'Tarifs et relevés'!$N$26,0) -> 0 | AJ22: =IF($E22=506,'Tarifs et relevés'!$N$19*'Tarifs et relevés'!$N$26,0) -> 0 | AK22: =IF($E22=507,'Tarifs et relevés'!$N$20*'Tarifs et relevés'!$N$26,0) -> 0 | AL22: =IF($E22=508,'Tarifs et relevés'!$N$21*'Tarifs et relevés'!$N$26,0) -> 0 | AM22: =IF($E22=509,'Tarifs et relevés'!$N$22*'Tarifs et relevés'!$N$26,0) -> 0 | AN22: =IF($E22=510,'Tarifs et relevés'!$N$23*'Tarifs et relevés'!$N$26,0) -> 0 | AO22: =IF($E22=511,'Tarifs et relevés'!$N$24*'Tarifs et relevés'!$N$26,0) -> 0 | AP22: =IF($E22=512,'Tarifs et relevés'!$N$25*'Tarifs et relevés'!$N$26,0) -> 0 | AQ22: =IF($E22=301,'Tarifs et relevés'!$N$5*'Tarifs et relevés'!$N$8,0) -> 0 | AR22: =IF($E22=302,'Tarifs et relevés'!$N$6*'Tarifs et relevés'!$N$8,0) -> 0 | AS22: =IF($E22=303,'Tarifs et relevés'!$N$7*'Tarifs et relevés'!$N$8,0) -> 0 | AT22: =SUM(X22:Z22) -> 50 | AU22: =V22+AT22 -> 300
A23: =IF(C23=200,'Code Fournisseur'!$C$4,IF(C23=300,'Code Fournisseur'!$C$12,IF(C23=400,'Code Fournisseur'!$C$17,IF(C23=500,'Code Fournisseur'!$C$23,"")))) -> ENGIE | C23: 500 | D23: =IF(E23=201,'Code Fournisseur'!C25,IF(E23=202,'Code Fournisseur'!$C$6,IF(E23=203,'Code Fournisseur'!$C$7,IF(E23=204,'Code Fournisseur'!$C$8,IF(E23=205,'Code Fournisseur'!$C$9,IF(E23=206,'Code Fournisseur'!$C$10,IF(E23=301,'Code Fournisseur'!$C$13,IF(E23=302,'Code Fournisseur'!$C$14,IF(E23=303,'Code Fournisseur'!$C$15,IF(E23=401,'Code Fournisseur'!$C$18,IF(E23=402,'Code Fournisseur'!$C$19,IF(E23=403,'Code Fournisseur'!$C$20,IF(E23=404,'Code Fournisseur'!$C$21,IF(E23=501,'Code Fournisseur'!$C$24,IF(E23=502,'Code Fournisseur'!$C$25,IF(E23=503,'Code Fournisseur'!$C$26,IF(E23=504,'Code Fournisseur'!$C$27,IF(E23=505,'Code Fournisseur'!$C$28,IF(E23=506,'Code Fournisseur'!$C$29,IF(E23=507,'Code Fournisseur'!$C$30,IF(E23=508,'Code Fournisseur'!$C$31,IF(E23=509,'Code Fournisseur'!$C$32,IF(E23=510,'Code Fournisseur'!$C$33,IF(E23=511,'Code Fournisseur'!$C$34,IF(E23=512,'Code Fournisseur'!$C$35,""))))))))))))))))))))))))) -> Relevé Mai | E23: 505 | G23: =IF(Tableau1[[#This Row],[Code ventilation]]=402,'Tarifs et relevés'!$G$16*Tableau1[[#This Row],[Quote part Quantités]],"") | H23: =IF(Tableau1[[#This Row],[Code ventilation]]=403,'Tarifs et relevés'!$G$17*Tableau1[[#This Row],[Quote part Quantités]],"") | I23: =IF(Tableau1[[#This Row],[Code ventilation]]=404,'Tarifs et relevés'!$G$18*Tableau1[[#This Row],[Quote part Quantités]],"") | J23: =IF(Tableau1[[#This Row],[Code ventilation]]=401,'Tarifs et relevés'!$G$14,"") | K23: =IF(ISERROR('Tarifs et relevés'!$G$15*Tableau1[[#This Row],[Gaz Citerne en Kg]]),"",'Tarifs et relevés'!$G$15*'Tableau des dépenses'!J23) | L23: =IF(Tableau1[[#This Row],[Code ventilation]]=201,IF(Tableau1[[#This Row],[Quote part Quantités]]=3,'Tarifs et relevés'!$G$4,IF(Tableau1[[#This Row],[Quote part Quantités]]=2,'Tarifs et relevés'!$G$4/3*2,IF(Tableau1[[#This Row],[Quote part Quantités]]=1,'Tarifs et relevés'!$G$4/3,""))),"") | M23: =IF(Tableau1[[#This Row],[Code ventilation]]=202,'Tarifs et relevés'!$G$5*Tableau1[[#This Row],[Quote part Quantités]],"") | N23: =IF(Tableau1[[#This Row],[Code ventilation]]=203,'Tarifs et relevés'!$G$6*Tableau1[[#This Row],[Quote part Quantités]],"") | O23: =IF(Tableau1[[#This Row],[Code ventilation]]=204,'Tarifs et relevés'!$G$7*Tableau1[[#This Row],[Quote part Quantités]],"") | P23: =IF(Tableau1[[#This Row],[Code ventilation]]=205,'Tarifs et relevés'!$G$8*Tableau1[[#This Row],[Quote part Quantités]],"") | Q23: =IF(Tableau1[[#This Row],[Code ventilation]]=206,'Tarifs et relevés'!$G$9*Tableau1[[#This Row],[Quote part Quantités]],"") | R23: =IF(Tableau1[[#This Row],[Code ventilation]]=301,'Tarifs et relevés'!$N$5,IF(Tableau1[[#This Row],[Code ventilation]]=302,'Tarifs et relevés'!$N$6,IF(Tableau1[[#This Row],[Code ventilation]]=303,'Tarifs et relevés'!$N$7,""))) | S23: =IF(ISERROR('Tarifs et relevés'!$N$8*'Tableau des dépenses'!R23),"",'Tarifs et relevés'!$N$8*'Tableau des dépenses'!R23) | T23: =IF(Tableau1[[#This Row],[Code ventilation]]=501,'Tarifs et relevés'!$N$14,IF(Tableau1[[#This Row],[Code ventilation]]=502,'Tarifs et relevés'!$N$15,IF(Tableau1[[#This Row],[Code ventilation]]=503,'Tarifs et relevés'!$N$16,IF(Tableau1[[#This Row],[Code ventilation]]=504,'Tarifs et relevés'!$N$17,IF(Tableau1[[#This Row],[Code ventilation]]=505,'Tarifs et relevés'!$N$18,IF(Tableau1[[#This Row],[Code ventilation]]=506,'Tarifs et relevés'!$N$19,IF(Tableau1[[#This Row],[Code ventilation]]=507,'Tarifs et relevés'!$N$20,IF(Tableau1[[#This Row],[Code ventilation]]=508,'Tarifs et relevés'!$N$21,IF(Tableau1[[#This Row],[Code ventilation]]=509,'Tarifs et relevés'!$N$22,IF(Tableau1[[#This Row],[Code ventilation]]=510,'Tarifs et relevés'!$N$23,IF(Tableau1[[#This Row],[Code ventilation]]=511,'Tarifs et relevés'!$N$24,IF(Tableau1[[#This Row],[Code ventilation]]=512,'Tarifs et relevés'!$N$25,"")))))))))))) -> 2500 | U23: =IF(ISERROR('Tarifs et relevés'!$N$26*Tableau1[[#This Row],[Engie Quantité KW]]),"",'Tarifs et relevés'!$N$26*Tableau1[[#This Row],[Engie Quantité KW]]) -> 625 | V23: =IF(ISERROR(SUM(Tableau1[[#This Row],[SUEZ Transport HT]:[SUEZ Traitement HT]],Tableau1[[#This Row],[Sogedo Montant HT]],Tableau1[[#This Row],[Engie Montant HT]])),"",(SUM(Tableau1[[#This Row],[SUEZ Transport HT]:[SUEZ Traitement HT]],Tableau1[[#This Row],[Sogedo Montant HT]],Tableau1[[#This Row],[Engie Montant HT]],SUM(Tableau1[[#This Row],[Bouteille 30 Kg]:[Bouteille Le Cube]],Tableau1[[#This Row],[Gaz Citerne Montant HT]])))) -> 625 | W23: 3 | X23: =IF(W23=1,V23*$Z$2,0) -> 0 | Y23: =IF(W23=2,V23*$Y$2,0) -> 0 | Z23: =IF(W23=3,V23*$Z$2,0) -> 125 | AA23: =SUM(Tableau1[[#This Row],[SUEZ Transport HT]:[SUEZ Traitement HT]]) -> 0 | AB23: =Tableau1[[#This Row],[Sogedo Montant HT]] | AC23: =SUM(Tableau1[[#This Row],[Bouteille 30 Kg]:[Bouteille Le Cube]],Tableau1[[#This Row],[Gaz Citerne Montant HT]]) -> 0 | AD23: =Tableau1[[#This Row],[Engie Montant HT]] -> 625 | AE23: =IF($E23=501,'Tarifs et relevés'!$N$14*'Tarifs et relevés'!$N$26,0) -> 0 | AF23: =IF($E23=501,'Tarifs et relevés'!$N$15*'Tarifs et relevés'!$N$26,0) -> 0 | AG23: =IF($E23=503,'Tarifs et relevés'!$N$16*'Tarifs et relevés'!$N$26,0) -> 0 | AH23: =IF($E23=504,'Tarifs et relevés'!$N$17*'Tarifs et relevés'!$N$26,0) -> 0 | AI23: =IF($E23=505,'Tarifs et relevés'!$N$18*'Tarifs et relevés'!$N$26,0) -> 625 | AJ23: =IF($E23=506,'Tarifs et relevés'!$N$19*'Tarifs et relevés'!$N$26,0) -> 0 | AK23: =IF($E23=507,'Tarifs et relevés'!$N$20*'Tarifs et relevés'!$N$26,0) -> 0 | AL23: =IF($E23=508,'Tarifs et relevés'!$N$21*'Tarifs et relevés'!$N$26,0) -> 0 | AM23: =IF($E23=509,'Tarifs et relevés'!$N$22*'Tarifs et relevés'!$N$26,0) -> 0 | AN23: =IF($E23=510,'Tarifs et relevés'!$N$23*'Tarifs et relevés'!$N$26,0) -> 0 | AO23: =IF($E23=511,'Tarifs et relevés'!$N$24*'Tarifs et relevés'!$N$26,0) -> 0 | AP23: =IF($E23=512,'Tarifs et relevés'!$N$25*'Tarifs et relevés'!$N$26,0) -> 0 | AQ23: =IF($E23=301,'Tarifs et relevés'!$N$5*'Tarifs et relevés'!$N$8,0) -> 0 | AR23: =IF($E23=302,'Tarifs et relevés'!$N$6*'Tarifs et relevés'!$N$8,0) -> 0 | AS23: =IF($E23=303,'Tarifs et relevés'!$N$7*'Tarifs et relevés'!$N$8,0) -> 0 | AT23: =SUM(X23:Z23) -> 125 | AU23: =V23+AT23 -> 750
A24: =IF(C24=200,'Code Fournisseur'!$C$4,IF(C24=300,'Code Fournisseur'!$C$12,IF(C24=400,'Code Fournisseur'!$C$17,IF(C24=500,'Code Fournisseur'!$C$23,"")))) -> ENGIE | C24: 500 | D24: =IF(E24=201,'Code Fournisseur'!C26,IF(E24=202,'Code Fournisseur'!$C$6,IF(E24=203,'Code Fournisseur'!$C$7,IF(E24=204,'Code Fournisseur'!$C$8,IF(E24=205,'Code Fournisseur'!$C$9,IF(E24=206,'Code Fournisseur'!$C$10,IF(E24=301,'Code Fournisseur'!$C$13,IF(E24=302,'Code Fournisseur'!$C$14,IF(E24=303,'Code Fournisseur'!$C$15,IF(E24=401,'Code Fournisseur'!$C$18,IF(E24=402,'Code Fournisseur'!$C$19,IF(E24=403,'Code Fournisseur'!$C$20,IF(E24=404,'Code Fournisseur'!$C$21,IF(E24=501,'Code Fournisseur'!$C$24,IF(E24=502,'Code Fournisseur'!$C$25,IF(E24=503,'Code Fournisseur'!$C$26,IF(E24=504,'Code Fournisseur'!$C$27,IF(E24=505,'Code Fournisseur'!$C$28,IF(E24=506,'Code Fournisseur'!$C$29,IF(E24=507,'Code Fournisseur'!$C$30,IF(E24=508,'Code Fournisseur'!$C$31,IF(E24=509,'Code Fournisseur'!$C$32,IF(E24=510,'Code Fournisseur'!$C$33,IF(E24=511,'Code Fournisseur'!$C$34,IF(E24=512,'Code Fournisseur'!$C$35,""))))))))))))))))))))))))) -> Relevé Juin | E24: 506 | G24: =IF(Tableau1[[#This Row],[Code ventilation]]=402,'Tarifs et relevés'!$G$16*Tableau1[[#This Row],[Quote part Quantités]],"") | H24: =IF(Tableau1[[#This Row],[Code ventilation]]=403,'Tarifs et relevés'!$G$17*Tableau1[[#This Row],[Quote part Quantités]],"") | I24: =IF(Tableau1[[#This Row],[Code ventilation]]=404,'Tarifs et relevés'!$G$18*Tableau1[[#This Row],[Quote part Quantités]],"") | J24: =IF(Tableau1[[#This Row],[Code ventilation]]=401,'Tarifs et relevés'!$G$14,"") | K24: =IF(ISERROR('Tarifs et relevés'!$G$15*Tableau1[[#This Row],[Gaz Citerne en Kg]]),"",'Tarifs et relevés'!$G$15*'Tableau des dépenses'!J24) | L24: =IF(Tableau1[[#This Row],[Code ventilation]]=201,IF(Tableau1[[#This Row],[Quote part Quantités]]=3,'Tarifs et relevés'!$G$4,IF(Tableau1[[#This Row],[Quote part Quantités]]=2,'Tarifs et relevés'!$G$4/3*2,IF(Tableau1[[#This Row],[Quote part Quantités]]=1,'Tarifs et relevés'!$G$4/3,""))),"") | M24: =IF(Tableau1[[#This Row],[Code ventilation]]=202,'Tarifs et relevés'!$G$5*Tableau1[[#This Row],[Quote part Quantités]],"") | N24: =IF(Tableau1[[#This Row],[Code ventilation]]=203,'Tarifs et relevés'!$G$6*Tableau1[[#This Row],[Quote part Quantités]],"") | O24: =IF(Tableau1[[#This Row],[Code ventilation]]=204,'Tarifs et relevés'!$G$7*Tableau1[[#This Row],[Quote part Quantités]],"") | P24: =IF(Tableau1[[#This Row],[Code ventilation]]=205,'Tarifs et relevés'!$G$8*Tableau1[[#This Row],[Quote part Quantités]],"") | Q24: =IF(Tableau1[[#This Row],[Code ventilation]]=206,'Tarifs et relevés'!$G$9*Tableau1[[#This Row],[Quote part Quantités]],"") | R24: =IF(Tableau1[[#This Row],[Code ventilation]]=301,'Tarifs et relevés'!$N$5,IF(Tableau1[[#This Row],[Code ventilation]]=302,'Tarifs et relevés'!$N$6,IF(Tableau1[[#This Row],[Code ventilation]]=303,'Tarifs et relevés'!$N$7,""))) | S24: =IF(ISERROR('Tarifs et relevés'!$N$8*'Tableau des dépenses'!R24),"",'Tarifs et relevés'!$N$8*'Tableau des dépenses'!R24) | T24: =IF(Tableau1[[#This Row],[Code ventilation]]=501,'Tarifs et relevés'!$N$14,IF(Tableau1[[#This Row],[Code ventilation]]=502,'Tarifs et relevés'!$N$15,IF(Tableau1[[#This Row],[Code ventilation]]=503,'Tarifs et relevés'!$N$16,IF(Tableau1[[#This Row],[Code ventilation]]=504,'Tarifs et relevés'!$N$17,IF(Tableau1[[#This Row],[Code ventilation]]=505,'Tarifs et relevés'!$N$18,IF(Tableau1[[#This Row],[Code ventilation]]=506,'Tarifs et relevés'!$N$19,IF(Tableau1[[#This Row],[Code ventilation]]=507,'Tarifs et relevés'!$N$20,IF(Tableau1[[#This Row],[Code ventilation]]=508,'Tarifs et relevés'!$N$21,IF(Tableau1[[#This Row],[Code ventilation]]=509,'Tarifs et relevés'!$N$22,IF(Tableau1[[#This Row],[Code ventilation]]=510,'Tarifs et relevés'!$N$23,IF(Tableau1[[#This Row],[Code ventilation]]=511,'Tarifs et relevés'!$N$24,IF(Tableau1[[#This Row],[Code ventilation]]=512,'Tarifs et relevés'!$N$25,"")))))))))))) -> 1500 | U24: =IF(ISERROR('Tarifs et relevés'!$N$26*Tableau1[[#This Row],[Engie Quantité KW]]),"",'Tarifs et relevés'!$N$26*Tableau1[[#This Row],[Engie Quantité KW]]) -> 375 | V24: =IF(ISERROR(SUM(Tableau1[[#This Row],[SUEZ Transport HT]:[SUEZ Traitement HT]],Tableau1[[#This Row],[Sogedo Montant HT]],Tableau1[[#This Row],[Engie Montant HT]])),"",(SUM(Tableau1[[#This Row],[SUEZ Transport HT]:[SUEZ Traitement HT]],Tableau1[[#This Row],[Sogedo Montant HT]],Tableau1[[#This Row],[Engie Montant HT]],SUM(Tableau1[[#This Row],[Bouteille 30 Kg]:[Bouteille Le Cube]],Tableau1[[#This Row],[Gaz Citerne Montant HT]])))) -> 375 | W24: 3 | X24: =IF(W24=1,V24*$Z$2,0) -> 0 | Y24: =IF(W24=2,V24*$Y$2,0) -> 0 | Z24: =IF(W24=3,V24*$Z$2,0) -> 75 | AA24: =SUM(Tableau1[[#This Row],[SUEZ Transport HT]:[SUEZ Traitement HT]]) -> 0 | AB24: =Tableau1[[#This Row],[Sogedo Montant HT]] | AC24: =SUM(Tableau1[[#This Row],[Bouteille 30 Kg]:[Bouteille Le Cube]],Tableau1[[#This Row],[Gaz Citerne Montant HT]]) -> 0 | AD24: =Tableau1[[#This Row],[Engie Montant HT]] -> 375 | AE24: =IF($E24=501,'Tarifs et relevés'!$N$14*'Tarifs et relevés'!$N$26,0) -> 0 | AF24: =IF($E24=501,'Tarifs et relevés'!$N$15*'Tarifs et relevés'!$N$26,0) -> 0 | AG24: =IF($E24=503,'Tarifs et relevés'!$N$16*'Tarifs et relevés'!$N$26,0) -> 0 | AH24: =IF($E24=504,'Tarifs et relevés'!$N$17*'Tarifs et relevés'!$N$26,0) -> 0 | AI24: =IF($E24=505,'Tarifs et relevés'!$N$18*'Tarifs et relevés'!$N$26,0) -> 0 | AJ24: =IF($E24=506,'Tarifs et relevés'!$N$19*'Tarifs et relevés'!$N$26,0) -> 375 | AK24: =IF($E24=507,'Tarifs et relevés'!$N$20*'Tarifs et relevés'!$N$26,0) -> 0 | AL24: =IF($E24=508,'Tarifs et relevés'!$N$21*'Tarifs et relevés'!$N$26,0) -> 0 | AM24: =IF($E24=509,'Tarifs et relevés'!$N$22*'Tarifs et relevés'!$N$26,0) -> 0 | AN24: =IF($E24=510,'Tarifs et relevés'!$N$23*'Tarifs et relevés'!$N$26,0) -> 0 | AO24: =IF($E24=511,'Tarifs et relevés'!$N$24*'Tarifs et relevés'!$N$26,0) -> 0 | AP24: =IF($E24=512,'Tarifs et relevés'!$N$25*'Tarifs et relevés'!$N$26,0) -> 0 | AQ24: =IF($E24=301,'Tarifs et relevés'!$N$5*'Tarifs et relevés'!$N$8,0) -> 0 | AR24: =IF($E24=302,'Tarifs et relevés'!$N$6*'Tarifs et relevés'!$N$8,0) -> 0 | AS24: =IF($E24=303,'Tarifs et relevés'!$N$7*'Tarifs et relevés'!$N$8,0) -> 0 | AT24: =SUM(X24:Z24) -> 75 | AU24: =V24+AT24 -> 450
A25: =IF(C25=200,'Code Fournisseur'!$C$4,IF(C25=300,'Code Fournisseur'!$C$12,IF(C25=400,'Code Fournisseur'!$C$17,IF(C25=500,'Code Fournisseur'!$C$23,"")))) -> ENGIE | C25: 500 | D25: =IF(E25=201,'Code Fournisseur'!C27,IF(E25=202,'Code Fournisseur'!$C$6,IF(E25=203,'Code Fournisseur'!$C$7,IF(E25=204,'Code Fournisseur'!$C$8,IF(E25=205,'Code Fournisseur'!$C$9,IF(E25=206,'Code Fournisseur'!$C$10,IF(E25=301,'Code Fournisseur'!$C$13,IF(E25=302,'Code Fournisseur'!$C$14,IF(E25=303,'Code Fournisseur'!$C$15,IF(E25=401,'Code Fournisseur'!$C$18,IF(E25=402,'Code Fournisseur'!$C$19,IF(E25=403,'Code Fournisseur'!$C$20,IF(E25=404,'Code Fournisseur'!$C$21,IF(E25=501,'Code Fournisseur'!$C$24,IF(E25=502,'Code Fournisseur'!$C$25,IF(E25=503,'Code Fournisseur'!$C$26,IF(E25=504,'Code Fournisseur'!$C$27,IF(E25=505,'Code Fournisseur'!$C$28,IF(E25=506,'Code Fournisseur'!$C$29,IF(E25=507,'Code Fournisseur'!$C$30,IF(E25=508,'Code Fournisseur'!$C$31,IF(E25=509,'Code Fournisseur'!$C$32,IF(E25=510,'Code Fournisseur'!$C$33,IF(E25=511,'Code Fournisseur'!$C$34,IF(E25=512,'Code Fournisseur'!$C$35,""))))))))))))))))))))))))) -> Relevé Juillet | E25: 507 | G25: =IF(Tableau1[[#This Row],[Code ventilation]]=402,'Tarifs et relevés'!$G$16*Tableau1[[#This Row],[Quote part Quantités]],"") | H25: =IF(Tableau1[[#This Row],[Code ventilation]]=403,'Tarifs et relevés'!$G$17*Tableau1[[#This Row],[Quote part Quantités]],"") | I25: =IF(Tableau1[[#This Row],[Code ventilation]]=404,'Tarifs et relevés'!$G$18*Tableau1[[#This Row],[Quote part Quantités]],"") | J25: =IF(Tableau1[[#This Row],[Code ventilation]]=401,'Tarifs et relevés'!$G$14,"") | K25: =IF(ISERROR('Tarifs et relevés'!$G$15*Tableau1[[#This Row],[Gaz Citerne en Kg]]),"",'Tarifs et relevés'!$G$15*'Tableau des dépenses'!J25) | L25: =IF(Tableau1[[#This Row],[Code ventilation]]=201,IF(Tableau1[[#This Row],[Quote part Quantités]]=3,'Tarifs et relevés'!$G$4,IF(Tableau1[[#This Row],[Quote part Quantités]]=2,'Tarifs et relevés'!$G$4/3*2,IF(Tableau1[[#This Row],[Quote part Quantités]]=1,'Tarifs et relevés'!$G$4/3,""))),"") | M25: =IF(Tableau1[[#This Row],[Code ventilation]]=202,'Tarifs et relevés'!$G$5*Tableau1[[#This Row],[Quote part Quantités]],"") | N25: =IF(Tableau1[[#This Row],[Code ventilation]]=203,'Tarifs et relevés'!$G$6*Tableau1[[#This Row],[Quote part Quantités]],"") | O25: =IF(Tableau1[[#This Row],[Code ventilation]]=204,'Tarifs et relevés'!$G$7*Tableau1[[#This Row],[Quote part Quantités]],"") | P25: =IF(Tableau1[[#This Row],[Code ventilation]]=205,'Tarifs et relevés'!$G$8*Tableau1[[#This Row],[Quote part Quantités]],"") | Q25: =IF(Tableau1[[#This Row],[Code ventilation]]=206,'Tarifs et relevés'!$G$9*Tableau1[[#This Row],[Quote part Quantités]],"") | R25: =IF(Tableau1[[#This Row],[Code ventilation]]=301,'Tarifs et relevés'!$N$5,IF(Tableau1[[#This Row],[Code ventilation]]=302,'Tarifs et relevés'!$N$6,IF(Tableau1[[#This Row],[Code ventilation]]=303,'Tarifs et relevés'!$N$7,""))) | S25: =IF(ISERROR('Tarifs et relevés'!$N$8*'Tableau des dépenses'!R25),"",'Tarifs et relevés'!$N$8*'Tableau des dépenses'!R25) | T25: =IF(Tableau1[[#This Row],[Code ventilation]]=501,'Tarifs et relevés'!$N$14,IF(Tableau1[[#This Row],[Code ventilation]]=502,'Tarifs et relevés'!$N$15,IF(Tableau1[[#This Row],[Code ventilation]]=503,'Tarifs et relevés'!$N$16,IF(Tableau1[[#This Row],[Code ventilation]]=504,'Tarifs et relevés'!$N$17,IF(Tableau1[[#This Row],[Code ventilation]]=505,'Tarifs et relevés'!$N$18,IF(Tableau1[[#This Row],[Code ventilation]]=506,'Tarifs et relevés'!$N$19,IF(Tableau1[[#This Row],[Code ventilation]]=507,'Tarifs et relevés'!$N$20,IF(Tableau1[[#This Row],[Code ventilation]]=508,'Tarifs et relevés'!$N$21,IF(Tableau1[[#This Row],[Code ventilation]]=509,'Tarifs et relevés'!$N$22,IF(Tableau1[[#This Row],[Code ventilation]]=510,'Tarifs et relevés'!$N$23,IF(Tableau1[[#This Row],[Code ventilation]]=511,'Tarifs et relevés'!$N$24,IF(Tableau1[[#This Row],[Code ventilation]]=512,'Tarifs et relevés'!$N$25,"")))))))))))) -> 3000 | U25: =IF(ISERROR('Tarifs et relevés'!$N$26*Tableau1[[#This Row],[Engie Quantité KW]]),"",'Tarifs et relevés'!$N$26*Tableau1[[#This Row],[Engie Quantité KW]]) -> 750 | V25: =IF(ISERROR(SUM(Tableau1[[#This Row],[SUEZ Transport HT]:[SUEZ Traitement HT]],Tableau1[[#This Row],[Sogedo Montant HT]],Tableau1[[#This Row],[Engie Montant HT]])),"",(SUM(Tableau1[[#This Row],[SUEZ Transport HT]:[SUEZ Traitement HT]],Tableau1[[#This Row],[Sogedo Montant HT]],Tableau1[[#This Row],[Engie Montant HT]],SUM(Tableau1[[#This Row],[Bouteille 30 Kg]:[Bouteille Le Cube]],Tableau1[[#This Row],[Gaz Citerne Montant HT]])))) -> 750 | W25: 3 | X25: =IF(W25=1,V25*$Z$2,0) -> 0 | Y25: =IF(W25=2,V25*$Y$2,0) -> 0 | Z25: =IF(W25=3,V25*$Z$2,0) -> 150 | AA25: =SUM(Tableau1[[#This Row],[SUEZ Transport HT]:[SUEZ Traitement HT]]) -> 0 | AB25: =Tableau1[[#This Row],[Sogedo Montant HT]] | AC25: =SUM(Tableau1[[#This Row],[Bouteille 30 Kg]:[Bouteille Le Cube]],Tableau1[[#This Row],[Gaz Citerne Montant HT]]) -> 0 | AD25: =Tableau1[[#This Row],[Engie Montant HT]] -> 750 | AE25: =IF($E25=501,'Tarifs et relevés'!$N$14*'Tarifs et relevés'!$N$26,0) -> 0 | AF25: =IF($E25=501,'Tarifs et relevés'!$N$15*'Tarifs et relevés'!$N$26,0) -> 0 | AG25: =IF($E25=503,'Tarifs et relevés'!$N$16*'Tarifs et relevés'!$N$26,0) -> 0 | AH25: =IF($E25=504,'Tarifs et relevés'!$N$17*'Tarifs et relevés'!$N$26,0) -> 0 | AI25: =IF($E25=505,'Tarifs et relevés'!$N$18*'Tarifs et relevés'!$N$26,0) -> 0 | AJ25: =IF($E25=506,'Tarifs et relevés'!$N$19*'Tarifs et relevés'!$N$26,0) -> 0 | AK25: =IF($E25=507,'Tarifs et relevés'!$N$20*'Tarifs et relevés'!$N$26,0) -> 750 | AL25: =IF($E25=508,'Tarifs et relevés'!$N$21*'Tarifs et relevés'!$N$26,0) -> 0 | AM25: =IF($E25=509,'Tarifs et relevés'!$N$22*'Tarifs et relevés'!$N$26,0) -> 0 | AN25: =IF($E25=510,'Tarifs et relevés'!$N$23*'Tarifs et relevés'!$N$26,0) -> 0 | AO25: =IF($E25=511,'Tarifs et relevés'!$N$24*'Tarifs et relevés'!$N$26,0) -> 0 | AP25: =IF($E25=512,'Tarifs et relevés'!$N$25*'Tarifs et relevés'!$N$26,0) -> 0 | AQ25: =IF($E25=301,'Tarifs et relevés'!$N$5*'Tarifs et relevés'!$N$8,0) -> 0 | AR25: =IF($E25=302,'Tarifs et relevés'!$N$6*'Tarifs et relevés'!$N$8,0) -> 0 | AS25: =IF($E25=303,'Tarifs et relevés'!$N$7*'Tarifs et relevés'!$N$8,0) -> 0 | AT25: =SUM(X25:Z25) -> 150 | AU25: =V25+AT25 -> 900
A26: =IF(C26=200,'Code Fournisseur'!$C$4,IF(C26=300,'Code Fournisseur'!$C$12,IF(C26=400,'Code Fournisseur'!$C$17,IF(C26=500,'Code Fournisseur'!$C$23,"")))) -> ENGIE | C26: 500 | D26: =IF(E26=201,'Code Fournisseur'!C28,IF(E26=202,'Code Fournisseur'!$C$6,IF(E26=203,'Code Fournisseur'!$C$7,IF(E26=204,'Code Fournisseur'!$C$8,IF(E26=205,'Code Fournisseur'!$C$9,IF(E26=206,'Code Fournisseur'!$C$10,IF(E26=301,'Code Fournisseur'!$C$13,IF(E26=302,'Code Fournisseur'!$C$14,IF(E26=303,'Code Fournisseur'!$C$15,IF(E26=401,'Code Fournisseur'!$C$18,IF(E26=402,'Code Fournisseur'!$C$19,IF(E26=403,'Code Fournisseur'!$C$20,IF(E26=404,'Code Fournisseur'!$C$21,IF(E26=501,'Code Fournisseur'!$C$24,IF(E26=502,'Code Fournisseur'!$C$25,IF(E26=503,'Code Fournisseur'!$C$26,IF(E26=504,'Code Fournisseur'!$C$27,IF(E26=505,'Code Fournisseur'!$C$28,IF(E26=506,'Code Fournisseur'!$C$29,IF(E26=507,'Code Fournisseur'!$C$30,IF(E26=508,'Code Fournisseur'!$C$31,IF(E26=509,'Code Fournisseur'!$C$32,IF(E26=510,'Code Fournisseur'!$C$33,IF(E26=511,'Code Fournisseur'!$C$34,IF(E26=512,'Code Fournisseur'!$C$35,""))))))))))))))))))))))))) -> Relevé Août | E26: 508 | G26: =IF(Tableau1[[#This Row],[Code ventilation]]=402,'Tarifs et relevés'!$G$16*Tableau1[[#This Row],[Quote part Quantités]],"") | H26: =IF(Tableau1[[#This Row],[Code ventilation]]=403,'Tarifs et relevés'!$G$17*Tableau1[[#This Row],[Quote part Quantités]],"") | I26: =IF(Tableau1[[#This Row],[Code ventilation]]=404,'Tarifs et relevés'!$G$18*Tableau1[[#This Row],[Quote part Quantités]],"") | J26: =IF(Tableau1[[#This Row],[Code ventilation]]=401,'Tarifs et relevés'!$G$14,"") | K26: =IF(ISERROR('Tarifs et relevés'!$G$15*Tableau1[[#This Row],[Gaz Citerne en Kg]]),"",'Tarifs et relevés'!$G$15*'Tableau des dépenses'!J26) | L26: =IF(Tableau1[[#This Row],[Code ventilation]]=201,IF(Tableau1[[#This Row],[Quote part Quantités]]=3,'Tarifs et relevés'!$G$4,IF(Tableau1[[#This Row],[Quote part Quantités]]=2,'Tarifs et relevés'!$G$4/3*2,IF(Tableau1[[#This Row],[Quote part Quantités]]=1,'Tarifs et relevés'!$G$4/3,""))),"") | M26: =IF(Tableau1[[#This Row],[Code ventilation]]=202,'Tarifs et relevés'!$G$5*Tableau1[[#This Row],[Quote part Quantités]],"") | N26: =IF(Tableau1[[#This Row],[Code ventilation]]=203,'Tarifs et relevés'!$G$6*Tableau1[[#This Row],[Quote part Quantités]],"") | O26: =IF(Tableau1[[#This Row],[Code ventilation]]=204,'Tarifs et relevés'!$G$7*Tableau1[[#This Row],[Quote part Quantités]],"") | P26: =IF(Tableau1[[#This Row],[Code ventilation]]=205,'Tarifs et relevés'!$G$8*Tableau1[[#This Row],[Quote part Quantités]],"") | Q26: =IF(Tableau1[[#This Row],[Code ventilation]]=206,'Tarifs et relevés'!$G$9*Tableau1[[#This Row],[Quote part Quantités]],"") | R26: =IF(Tableau1[[#This Row],[Code ventilation]]=301,'Tarifs et relevés'!$N$5,IF(Tableau1[[#This Row],[Code ventilation]]=302,'Tarifs et relevés'!$N$6,IF(Tableau1[[#This Row],[Code ventilation]]=303,'Tarifs et relevés'!$N$7,""))) | S26: =IF(ISERROR('Tarifs et relevés'!$N$8*'Tableau des dépenses'!R26),"",'Tarifs et relevés'!$N$8*'Tableau des dépenses'!R26) | T26: =IF(Tableau1[[#This Row],[Code ventilation]]=501,'Tarifs et relevés'!$N$14,IF(Tableau1[[#This Row],[Code ventilation]]=502,'Tarifs et relevés'!$N$15,IF(Tableau1[[#This Row],[Code ventilation]]=503,'Tarifs et relevés'!$N$16,IF(Tableau1[[#This Row],[Code ventilation]]=504,'Tarifs et relevés'!$N$17,IF(Tableau1[[#This Row],[Code ventilation]]=505,'Tarifs et relevés'!$N$18,IF(Tableau1[[#This Row],[Code ventilation]]=506,'Tarifs et relevés'!$N$19,IF(Tableau1[[#This Row],[Code ventilation]]=507,'Tarifs et relevés'!$N$20,IF(Tableau1[[#This Row],[Code ventilation]]=508,'Tarifs et relevés'!$N$21,IF(Tableau1[[#This Row],[Code ventilation]]=509,'Tarifs et relevés'!$N$22,IF(Tableau1[[#This Row],[Code ventilation]]=510,'Tarifs et relevés'!$N$23,IF(Tableau1[[#This Row],[Code ventilation]]=511,'Tarifs et relevés'!$N$24,IF(Tableau1[[#This Row],[Code ventilation]]=512,'Tarifs et relevés'!$N$25,"")))))))))))) -> 3000 | U26: =IF(ISERROR('Tarifs et relevés'!$N$26*Tableau1[[#This Row],[Engie Quantité KW]]),"",'Tarifs et relevés'!$N$26*Tableau1[[#This Row],[Engie Quantité KW]]) -> 750 | V26: =IF(ISERROR(SUM(Tableau1[[#This Row],[SUEZ Transport HT]:[SUEZ Traitement HT]],Tableau1[[#This Row],[Sogedo Montant HT]],Tableau1[[#This Row],[Engie Montant HT]])),"",(SUM(Tableau1[[#This Row],[SUEZ Transport HT]:[SUEZ Traitement HT]],Tableau1[[#This Row],[Sogedo Montant HT]],Tableau1[[#This Row],[Engie Montant HT]],SUM(Tableau1[[#This Row],[Bouteille 30 Kg]:[Bouteille Le Cube]],Tableau1[[#This Row],[Gaz Citerne Montant HT]])))) -> 750 | W26: 3 | X26: =IF(W26=1,V26*$Z$2,0) -> 0 | Y26: =IF(W26=2,V26*$Y$2,0) -> 0 | Z26: =IF(W26=3,V26*$Z$2,0) -> 150 | AA26: =SUM(Tableau1[[#This Row],[SUEZ Transport HT]:[SUEZ Traitement HT]]) -> 0 | AB26: =Tableau1[[#This Row],[Sogedo Montant HT]] | AC26: =SUM(Tableau1[[#This Row],[Bouteille 30 Kg]:[Bouteille Le Cube]],Tableau1[[#This Row],[Gaz Citerne Montant HT]]) -> 0 | AD26: =Tableau1[[#This Row],[Engie Montant HT]] -> 750 | AE26: =IF($E26=501,'Tarifs et relevés'!$N$14*'Tarifs et relevés'!$N$26,0) -> 0 | AF26: =IF($E26=501,'Tarifs et relevés'!$N$15*'Tarifs et relevés'!$N$26,0) -> 0 | AG26: =IF($E26=503,'Tarifs et relevés'!$N$16*'Tarifs et relevés'!$N$26,0) -> 0 | AH26: =IF($E26=504,'Tarifs et relevés'!$N$17*'Tarifs et relevés'!$N$26,0) -> 0 | AI26: =IF($E26=505,'Tarifs et relevés'!$N$18*'Tarifs et relevés'!$N$26,0) -> 0 | AJ26: =IF($E26=506,'Tarifs et relevés'!$N$19*'Tarifs et relevés'!$N$26,0) -> 0 | AK26: =IF($E26=507,'Tarifs et relevés'!$N$20*'Tarifs et relevés'!$N$26,0) -> 0 | AL26: =IF($E26=508,'Tarifs et relevés'!$N$21*'Tarifs et relevés'!$N$26,0) -> 750 | AM26: =IF($E26=509,'Tarifs et relevés'!$N$22*'Tarifs et relevés'!$N$26,0) -> 0 | AN26: =IF($E26=510,'Tarifs et relevés'!$N$23*'Tarifs et relevés'!$N$26,0) -> 0 | AO26: =IF($E26=511,'Tarifs et relevés'!$N$24*'Tarifs et relevés'!$N$26,0) -> 0 | AP26: =IF($E26=512,'Tarifs et relevés'!$N$25*'Tarifs et relevés'!$N$26,0) -> 0 | AQ26: =IF($E26=301,'Tarifs et relevés'!$N$5*'Tarifs et relevés'!$N$8,0) -> 0 | AR26: =IF($E26=302,'Tarifs et relevés'!$N$6*'Tarifs et relevés'!$N$8,0) -> 0 | AS26: =IF($E26=303,'Tarifs et relevés'!$N$7*'Tarifs et relevés'!$N$8,0) -> 0 | AT26: =SUM(X26:Z26) -> 150 | AU26: =V26+AT26 -> 900
A27: =IF(C27=200,'Code Fournisseur'!$C$4,IF(C27=300,'Code Fournisseur'!$C$12,IF(C27=400,'Code Fournisseur'!$C$17,IF(C27=500,'Code Fournisseur'!$C$23,"")))) -> ENGIE | C27: 500 | D27: =IF(E27=201,'Code Fournisseur'!C29,IF(E27=202,'Code Fournisseur'!$C$6,IF(E27=203,'Code Fournisseur'!$C$7,IF(E27=204,'Code Fournisseur'!$C$8,IF(E27=205,'Code Fournisseur'!$C$9,IF(E27=206,'Code Fournisseur'!$C$10,IF(E27=301,'Code Fournisseur'!$C$13,IF(E27=302,'Code Fournisseur'!$C$14,IF(E27=303,'Code Fournisseur'!$C$15,IF(E27=401,'Code Fournisseur'!$C$18,IF(E27=402,'Code Fournisseur'!$C$19,IF(E27=403,'Code Fournisseur'!$C$20,IF(E27=404,'Code Fournisseur'!$C$21,IF(E27=501,'Code Fournisseur'!$C$24,IF(E27=502,'Code Fournisseur'!$C$25,IF(E27=503,'Code Fournisseur'!$C$26,IF(E27=504,'Code Fournisseur'!$C$27,IF(E27=505,'Code Fournisseur'!$C$28,IF(E27=506,'Code Fournisseur'!$C$29,IF(E27=507,'Code Fournisseur'!$C$30,IF(E27=508,'Code Fournisseur'!$C$31,IF(E27=509,'Code Fournisseur'!$C$32,IF(E27=510,'Code Fournisseur'!$C$33,IF(E27=511,'Code Fournisseur'!$C$34,IF(E27=512,'Code Fournisseur'!$C$35,""))))))))))))))))))))))))) -> Relevé Septembre | E27: 509 | G27: =IF(Tableau1[[#This Row],[Code ventilation]]=402,'Tarifs et relevés'!$G$16*Tableau1[[#This Row],[Quote part Quantités]],"") | H27: =IF(Tableau1[[#This Row],[Code ventilation]]=403,'Tarifs et relevés'!$G$17*Tableau1[[#This Row],[Quote part Quantités]],"") | I27: =IF(Tableau1[[#This Row],[Code ventilation]]=404,'Tarifs et relevés'!$G$18*Tableau1[[#This Row],[Quote part Quantités]],"") | J27: =IF(Tableau1[[#This Row],[Code ventilation]]=401,'Tarifs et relevés'!$G$14,"") | K27: =IF(ISERROR('Tarifs et relevés'!$G$15*Tableau1[[#This Row],[Gaz Citerne en Kg]]),"",'Tarifs et relevés'!$G$15*'Tableau des dépenses'!J27) | L27: =IF(Tableau1[[#This Row],[Code ventilation]]=201,IF(Tableau1[[#This Row],[Quote part Quantités]]=3,'Tarifs et relevés'!$G$4,IF(Tableau1[[#This Row],[Quote part Quantités]]=2,'Tarifs et relevés'!$G$4/3*2,IF(Tableau1[[#This Row],[Quote part Quantités]]=1,'Tarifs et relevés'!$G$4/3,""))),"") | M27: =IF(Tableau1[[#This Row],[Code ventilation]]=202,'Tarifs et relevés'!$G$5*Tableau1[[#This Row],[Quote part Quantités]],"") | N27: =IF(Tableau1[[#This Row],[Code ventilation]]=203,'Tarifs et relevés'!$G$6*Tableau1[[#This Row],[Quote part Quantités]],"") | O27: =IF(Tableau1[[#This Row],[Code ventilation]]=204,'Tarifs et relevés'!$G$7*Tableau1[[#This Row],[Quote part Quantités]],"") | P27: =IF(Tableau1[[#This Row],[Code ventilation]]=205,'Tarifs et relevés'!$G$8*Tableau1[[#This Row],[Quote part Quantités]],"") | Q27: =IF(Tableau1[[#This Row],[Code ventilation]]=206,'Tarifs et relevés'!$G$9*Tableau1[[#This Row],[Quote part Quantités]],"") | R27: =IF(Tableau1[[#This Row],[Code ventilation]]=301,'Tarifs et relevés'!$N$5,IF(Tableau1[[#This Row],[Code ventilation]]=302,'Tarifs et relevés'!$N$6,IF(Tableau1[[#This Row],[Code ventilation]]=303,'Tarifs et relevés'!$N$7,""))) | S27: =IF(ISERROR('Tarifs et relevés'!$N$8*'Tableau des dépenses'!R27),"",'Tarifs et relevés'!$N$8*'Tableau des dépenses'!R27) | T27: =IF(Tableau1[[#This Row],[Code ventilation]]=501,'Tarifs et relevés'!$N$14,IF(Tableau1[[#This Row],[Code ventilation]]=502,'Tarifs et relevés'!$N$15,IF(Tableau1[[#This Row],[Code ventilation]]=503,'Tarifs et relevés'!$N$16,IF(Tableau1[[#This Row],[Code ventilation]]=504,'Tarifs et relevés'!$N$17,IF(Tableau1[[#This Row],[Code ventilation]]=505,'Tarifs et relevés'!$N$18,IF(Tableau1[[#This Row],[Code ventilation]]=506,'Tarifs et relevés'!$N$19,IF(Tableau1[[#This Row],[Code ventilation]]=507,'Tarifs et relevés'!$N$20,IF(Tableau1[[#This Row],[Code ventilation]]=508,'Tarifs et relevés'!$N$21,IF(Tableau1[[#This Row],[Code ventilation]]=509,'Tarifs et relevés'!$N$22,IF(Tableau1[[#This Row],[Code ventilation]]=510,'Tarifs et relevés'!$N$23,IF(Tableau1[[#This Row],[Code ventilation]]=511,'Tarifs et relevés'!$N$24,IF(Tableau1[[#This Row],[Code ventilation]]=512,'Tarifs et relevés'!$N$25,"")))))))))))) -> 3000 | U27: =IF(ISERROR('Tarifs et relevés'!$N$26*Tableau1[[#This Row],[Engie Quantité KW]]),"",'Tarifs et relevés'!$N$26*Tableau1[[#This Row],[Engie Quantité KW]]) -> 750 | V27: =IF(ISERROR(SUM(Tableau1[[#This Row],[SUEZ Transport HT]:[SUEZ Traitement HT]],Tableau1[[#This Row],[Sogedo Montant HT]],Tableau1[[#This Row],[Engie Montant HT]])),"",(SUM(Tableau1[[#This Row],[SUEZ Transport HT]:[SUEZ Traitement HT]],Tableau1[[#This Row],[Sogedo Montant HT]],Tableau1[[#This Row],[Engie Montant HT]],SUM(Tableau1[[#This Row],[Bouteille 30 Kg]:[Bouteille Le Cube]],Tableau1[[#This Row],[Gaz Citerne Montant HT]])))) -> 750 | W27: 3 | X27: =IF(W27=1,V27*$Z$2,0) -> 0 | Y27: =IF(W27=2,V27*$Y$2,0) -> 0 | Z27: =IF(W27=3,V27*$Z$2,0) -> 150 | AA27: =SUM(Tableau1[[#This Row],[SUEZ Transport HT]:[SUEZ Traitement HT]]) -> 0 | AB27: =Tableau1[[#This Row],[Sogedo Montant HT]] | AC27: =SUM(Tableau1[[#This Row],[Bouteille 30 Kg]:[Bouteille Le Cube]],Tableau1[[#This Row],[Gaz Citerne Montant HT]]) -> 0 | AD27: =Tableau1[[#This Row],[Engie Montant HT]] -> 750 | AE27: =IF($E27=501,'Tarifs et relevés'!$N$14*'Tarifs et relevés'!$N$26,0) -> 0 | AF27: =IF($E27=501,'Tarifs et relevés'!$N$15*'Tarifs et relevés'!$N$26,0) -> 0 | AG27: =IF($E27=503,'Tarifs et relevés'!$N$16*'Tarifs et relevés'!$N$26,0) -> 0 | AH27: =IF($E27=504,'Tarifs et relevés'!$N$17*'Tarifs et relevés'!$N$26,0) -> 0 | AI27: =IF($E27=505,'Tarifs et relevés'!$N$18*'Tarifs et relevés'!$N$26,0) -> 0 | AJ27: =IF($E27=506,'Tarifs et relevés'!$N$19*'Tarifs et relevés'!$N$26,0) -> 0 | AK27: =IF($E27=507,'Tarifs et relevés'!$N$20*'Tarifs et relevés'!$N$26,0) -> 0 | AL27: =IF($E27=508,'Tarifs et relevés'!$N$21*'Tarifs et relevés'!$N$26,0) -> 0 | AM27: =IF($E27=509,'Tarifs et relevés'!$N$22*'Tarifs et relevés'!$N$26,0) -> 750 | AN27: =IF($E27=510,'Tarifs et relevés'!$N$23*'Tarifs et relevés'!$N$26,0) -> 0 | AO27: =IF($E27=511,'Tarifs et relevés'!$N$24*'Tarifs et relevés'!$N$26,0) -> 0 | AP27: =IF($E27=512,'Tarifs et relevés'!$N$25*'Tarifs et relevés'!$N$26,0) -> 0 | AQ27: =IF($E27=301,'Tarifs et relevés'!$N$5*'Tarifs et relevés'!$N$8,0) -> 0 | AR27: =IF($E27=302,'Tarifs et relevés'!$N$6*'Tarifs et relevés'!$N$8,0) -> 0 | AS27: =IF($E27=303,'Tarifs et relevés'!$N$7*'Tarifs et relevés'!$N$8,0) -> 0 | AT27: =SUM(X27:Z27) -> 150 | AU27: =V27+AT27 -> 900
A28: =IF(C28=200,'Code Fournisseur'!$C$4,IF(C28=300,'Code Fournisseur'!$C$12,IF(C28=400,'Code Fournisseur'!$C$17,IF(C28=500,'Code Fournisseur'!$C$23,"")))) -> ENGIE | C28: 500 | D28: =IF(E28=201,'Code Fournisseur'!C30,IF(E28=202,'Code Fournisseur'!$C$6,IF(E28=203,'Code Fournisseur'!$C$7,IF(E28=204,'Code Fournisseur'!$C$8,IF(E28=205,'Code Fournisseur'!$C$9,IF(E28=206,'Code Fournisseur'!$C$10,IF(E28=301,'Code Fournisseur'!$C$13,IF(E28=302,'Code Fournisseur'!$C$14,IF(E28=303,'Code Fournisseur'!$C$15,IF(E28=401,'Code Fournisseur'!$C$18,IF(E28=402,'Code Fournisseur'!$C$19,IF(E28=403,'Code Fournisseur'!$C$20,IF(E28=404,'Code Fournisseur'!$C$21,IF(E28=501,'Code Fournisseur'!$C$24,IF(E28=502,'Code Fournisseur'!$C$25,IF(E28=503,'Code Fournisseur'!$C$26,IF(E28=504,'Code Fournisseur'!$C$27,IF(E28=505,'Code Fournisseur'!$C$28,IF(E28=506,'Code Fournisseur'!$C$29,IF(E28=507,'Code Fournisseur'!$C$30,IF(E28=508,'Code Fournisseur'!$C$31,IF(E28=509,'Code Fournisseur'!$C$32,IF(E28=510,'Code Fournisseur'!$C$33,IF(E28=511,'Code Fournisseur'!$C$34,IF(E28=512,'Code Fournisseur'!$C$35,""))))))))))))))))))))))))) -> Relevé Octobre | E28: 510 | G28: =IF(Tableau1[[#This Row],[Code ventilation]]=402,'Tarifs et relevés'!$G$16*Tableau1[[#This Row],[Quote part Quantités]],"") | H28: =IF(Tableau1[[#This Row],[Code ventilation]]=403,'Tarifs et relevés'!$G$17*Tableau1[[#This Row],[Quote part Quantités]],"") | I28: =IF(Tableau1[[#This Row],[Code ventilation]]=404,'Tarifs et relevés'!$G$18*Tableau1[[#This Row],[Quote part Quantités]],"") | J28: =IF(Tableau1[[#This Row],[Code ventilation]]=401,'Tarifs et relevés'!$G$14,"") | K28: =IF(ISERROR('Tarifs et relevés'!$G$15*Tableau1[[#This Row],[Gaz Citerne en Kg]]),"",'Tarifs et relevés'!$G$15*'Tableau des dépenses'!J28) | L28: =IF(Tableau1[[#This Row],[Code ventilation]]=201,IF(Tableau1[[#This Row],[Quote part Quantités]]=3,'Tarifs et relevés'!$G$4,IF(Tableau1[[#This Row],[Quote part Quantités]]=2,'Tarifs et relevés'!$G$4/3*2,IF(Tableau1[[#This Row],[Quote part Quantités]]=1,'Tarifs et relevés'!$G$4/3,""))),"") | M28: =IF(Tableau1[[#This Row],[Code ventilation]]=202,'Tarifs et relevés'!$G$5*Tableau1[[#This Row],[Quote part Quantités]],"") | N28: =IF(Tableau1[[#This Row],[Code ventilation]]=203,'Tarifs et relevés'!$G$6*Tableau1[[#This Row],[Quote part Quantités]],"") | O28: =IF(Tableau1[[#This Row],[Code ventilation]]=204,'Tarifs et relevés'!$G$7*Tableau1[[#This Row],[Quote part Quantités]],"") | P28: =IF(Tableau1[[#This Row],[Code ventilation]]=205,'Tarifs et relevés'!$G$8*Tableau1[[#This Row],[Quote part Quantités]],"") | Q28: =IF(Tableau1[[#This Row],[Code ventilation]]=206,'Tarifs et relevés'!$G$9*Tableau1[[#This Row],[Quote part Quantités]],"") | R28: =IF(Tableau1[[#This Row],[Code ventilation]]=301,'Tarifs et relevés'!$N$5,IF(Tableau1[[#This Row],[Code ventilation]]=302,'Tarifs et relevés'!$N$6,IF(Tableau1[[#This Row],[Code ventilation]]=303,'Tarifs et relevés'!$N$7,""))) | S28: =IF(ISERROR('Tarifs et relevés'!$N$8*'Tableau des dépenses'!R28),"",'Tarifs et relevés'!$N$8*'Tableau des dépenses'!R28) | T28: =IF(Tableau1[[#This Row],[Code ventilation]]=501,'Tarifs et relevés'!$N$14,IF(Tableau1[[#This Row],[Code ventilation]]=502,'Tarifs et relevés'!$N$15,IF(Tableau1[[#This Row],[Code ventilation]]=503,'Tarifs et relevés'!$N$16,IF(Tableau1[[#This Row],[Code ventilation]]=504,'Tarifs et relevés'!$N$17,IF(Tableau1[[#This Row],[Code ventilation]]=505,'Tarifs et relevés'!$N$18,IF(Tableau1[[#This Row],[Code ventilation]]=506,'Tarifs et relevés'!$N$19,IF(Tableau1[[#This Row],[Code ventilation]]=507,'Tarifs et relevés'!$N$20,IF(Tableau1[[#This Row],[Code ventilation]]=508,'Tarifs et relevés'!$N$21,IF(Tableau1[[#This Row],[Code ventilation]]=509,'Tarifs et relevés'!$N$22,IF(Tableau1[[#This Row],[Code ventilation]]=510,'Tarifs et relevés'!$N$23,IF(Tableau1[[#This Row],[Code ventilation]]=511,'Tarifs et relevés'!$N$24,IF(Tableau1[[#This Row],[Code ventilation]]=512,'Tarifs et relevés'!$N$25,"")))))))))))) -> 1000 | U28: =IF(ISERROR('Tarifs et relevés'!$N$26*Tableau1[[#This Row],[Engie Quantité KW]]),"",'Tarifs et relevés'!$N$26*Tableau1[[#This Row],[Engie Quantité KW]]) -> 250 | V28: =IF(ISERROR(SUM(Tableau1[[#This Row],[SUEZ Transport HT]:[SUEZ Traitement HT]],Tableau1[[#This Row],[Sogedo Montant HT]],Tableau1[[#This Row],[Engie Montant HT]])),"",(SUM(Tableau1[[#This Row],[SUEZ Transport HT]:[SUEZ Traitement HT]],Tableau1[[#This Row],[Sogedo Montant HT]],Tableau1[[#This Row],[Engie Montant HT]],SUM(Tableau1[[#This Row],[Bouteille 30 Kg]:[Bouteille Le Cube]],Tableau1[[#This Row],[Gaz Citerne Montant HT]])))) -> 250 | W28: 3 | X28: =IF(W28=1,V28*$Z$2,0) -> 0 | Y28: =IF(W28=2,V28*$Y$2,0) -> 0 | Z28: =IF(W28=3,V28*$Z$2,0) -> 50 | AA28: =SUM(Tableau1[[#This Row],[SUEZ Transport HT]:[SUEZ Traitement HT]]) -> 0 | AB28: =Tableau1[[#This Row],[Sogedo Montant HT]] | AC28: =SUM(Tableau1[[#This Row],[Bouteille 30 Kg]:[Bouteille Le Cube]],Tableau1[[#This Row],[Gaz Citerne Montant HT]]) -> 0 | AD28: =Tableau1[[#This Row],[Engie Montant HT]] -> 250 | AE28: =IF($E28=501,'Tarifs et relevés'!$N$14*'Tarifs et relevés'!$N$26,0) -> 0 | AF28: =IF($E28=501,'Tarifs et relevés'!$N$15*'Tarifs et relevés'!$N$26,0) -> 0 | AG28: =IF($E28=503,'Tarifs et relevés'!$N$16*'Tarifs et relevés'!$N$26,0) -> 0 | AH28: =IF($E28=504,'Tarifs et relevés'!$N$17*'Tarifs et relevés'!$N$26,0) -> 0 | AI28: =IF($E28=505,'Tarifs et relevés'!$N$18*'Tarifs et relevés'!$N$26,0) -> 0 | AJ28: =IF($E28=506,'Tarifs et relevés'!$N$19*'Tarifs et relevés'!$N$26,0) -> 0 | AK28: =IF($E28=507,'Tarifs et relevés'!$N$20*'Tarifs et relevés'!$N$26,0) -> 0 | AL28: =IF($E28=508,'Tarifs et relevés'!$N$21*'Tarifs et relevés'!$N$26,0) -> 0 | AM28: =IF($E28=509,'Tarifs et relevés'!$N$22*'Tarifs et relevés'!$N$26,0) -> 0 | AN28: =IF($E28=510,'Tarifs et relevés'!$N$23*'Tarifs et relevés'!$N$26,0) -> 250 | AO28: =IF($E28=511,'Tarifs et relevés'!$N$24*'Tarifs et relevés'!$N$26,0) -> 0 | AP28: =IF($E28=512,'Tarifs et relevés'!$N$25*'Tarifs et relevés'!$N$26,0) -> 0 | AQ28: =IF($E28=301,'Tarifs et relevés'!$N$5*'Tarifs et relevés'!$N$8,0) -> 0 | AR28: =IF($E28=302,'Tarifs et relevés'!$N$6*'Tarifs et relevés'!$N$8,0) -> 0 | AS28: =IF($E28=303,'Tarifs et relevés'!$N$7*'Tarifs et relevés'!$N$8,0) -> 0 | AT28: =SUM(X28:Z28) -> 50 | AU28: =V28+AT28 -> 300
A29: =IF(C29=200,'Code Fournisseur'!$C$4,IF(C29=300,'Code Fournisseur'!$C$12,IF(C29=400,'Code Fournisseur'!$C$17,IF(C29=500,'Code Fournisseur'!$C$23,"")))) -> ENGIE | C29: 500 | D29: =IF(E29=201,'Code Fournisseur'!C31,IF(E29=202,'Code Fournisseur'!$C$6,IF(E29=203,'Code Fournisseur'!$C$7,IF(E29=204,'Code Fournisseur'!$C$8,IF(E29=205,'Code Fournisseur'!$C$9,IF(E29=206,'Code Fournisseur'!$C$10,IF(E29=301,'Code Fournisseur'!$C$13,IF(E29=302,'Code Fournisseur'!$C$14,IF(E29=303,'Code Fournisseur'!$C$15,IF(E29=401,'Code Fournisseur'!$C$18,IF(E29=402,'Code Fournisseur'!$C$19,IF(E29=403,'Code Fournisseur'!$C$20,IF(E29=404,'Code Fournisseur'!$C$21,IF(E29=501,'Code Fournisseur'!$C$24,IF(E29=502,'Code Fournisseur'!$C$25,IF(E29=503,'Code Fournisseur'!$C$26,IF(E29=504,'Code Fournisseur'!$C$27,IF(E29=505,'Code Fournisseur'!$C$28,IF(E29=506,'Code Fournisseur'!$C$29,IF(E29=507,'Code Fournisseur'!$C$30,IF(E29=508,'Code Fournisseur'!$C$31,IF(E29=509,'Code Fournisseur'!$C$32,IF(E29=510,'Code Fournisseur'!$C$33,IF(E29=511,'Code Fournisseur'!$C$34,IF(E29=512,'Code Fournisseur'!$C$35,""))))))))))))))))))))))))) -> Relevé Novembre | E29: 511 | G29: =IF(Tableau1[[#This Row],[Code ventilation]]=402,'Tarifs et relevés'!$G$16*Tableau1[[#This Row],[Quote part Quantités]],"") | H29: =IF(Tableau1[[#This Row],[Code ventilation]]=403,'Tarifs et relevés'!$G$17*Tableau1[[#This Row],[Quote part Quantités]],"") | I29: =IF(Tableau1[[#This Row],[Code ventilation]]=404,'Tarifs et relevés'!$G$18*Tableau1[[#This Row],[Quote part Quantités]],"") | J29: =IF(Tableau1[[#This Row],[Code ventilation]]=401,'Tarifs et relevés'!$G$14,"") | K29: =IF(ISERROR('Tarifs et relevés'!$G$15*Tableau1[[#This Row],[Gaz Citerne en Kg]]),"",'Tarifs et relevés'!$G$15*'Tableau des dépenses'!J29) | L29: =IF(Tableau1[[#This Row],[Code ventilation]]=201,IF(Tableau1[[#This Row],[Quote part Quantités]]=3,'Tarifs et relevés'!$G$4,IF(Tableau1[[#This Row],[Quote part Quantités]]=2,'Tarifs et relevés'!$G$4/3*2,IF(Tableau1[[#This Row],[Quote part Quantités]]=1,'Tarifs et relevés'!$G$4/3,""))),"") | M29: =IF(Tableau1[[#This Row],[Code ventilation]]=202,'Tarifs et relevés'!$G$5*Tableau1[[#This Row],[Quote part Quantités]],"") | N29: =IF(Tableau1[[#This Row],[Code ventilation]]=203,'Tarifs et relevés'!$G$6*Tableau1[[#This Row],[Quote part Quantités]],"") | O29: =IF(Tableau1[[#This Row],[Code ventilation]]=204,'Tarifs et relevés'!$G$7*Tableau1[[#This Row],[Quote part Quantités]],"") | P29: =IF(Tableau1[[#This Row],[Code ventilation]]=205,'Tarifs et relevés'!$G$8*Tableau1[[#This Row],[Quote part Quantités]],"") | Q29: =IF(Tableau1[[#This Row],[Code ventilation]]=206,'Tarifs et relevés'!$G$9*Tableau1[[#This Row],[Quote part Quantités]],"") | R29: =IF(Tableau1[[#This Row],[Code ventilation]]=301,'Tarifs et relevés'!$N$5,IF(Tableau1[[#This Row],[Code ventilation]]=302,'Tarifs et relevés'!$N$6,IF(Tableau1[[#This Row],[Code ventilation]]=303,'Tarifs et relevés'!$N$7,""))) | S29: =IF(ISERROR('Tarifs et relevés'!$N$8*'Tableau des dépenses'!R29),"",'Tarifs et relevés'!$N$8*'Tableau des dépenses'!R29) | T29: =IF(Tableau1[[#This Row],[Code ventilation]]=501,'Tarifs et relevés'!$N$14,IF(Tableau1[[#This Row],[Code ventilation]]=502,'Tarifs et relevés'!$N$15,IF(Tableau1[[#This Row],[Code ventilation]]=503,'Tarifs et relevés'!$N$16,IF(Tableau1[[#This Row],[Code ventilation]]=504,'Tarifs et relevés'!$N$17,IF(Tableau1[[#This Row],[Code ventilation]]=505,'Tarifs et relevés'!$N$18,IF(Tableau1[[#This Row],[Code ventilation]]=506,'Tarifs et relevés'!$N$19,IF(Tableau1[[#This Row],[Code ventilation]]=507,'Tarifs et relevés'!$N$20,IF(Tableau1[[#This Row],[Code ventilation]]=508,'Tarifs et relevés'!$N$21,IF(Tableau1[[#This Row],[Code ventilation]]=509,'Tarifs et relevés'!$N$22,IF(Tableau1[[#This Row],[Code ventilation]]=510,'Tarifs et relevés'!$N$23,IF(Tableau1[[#This Row],[Code ventilation]]=511,'Tarifs et relevés'!$N$24,IF(Tableau1[[#This Row],[Code ventilation]]=512,'Tarifs et relevés'!$N$25,"")))))))))))) -> 2000 | U29: =IF(ISERROR('Tarifs et relevés'!$N$26*Tableau1[[#This Row],[Engie Quantité KW]]),"",'Tarifs et relevés'!$N$26*Tableau1[[#This Row],[Engie Quantité KW]]) -> 500 | V29: =IF(ISERROR(SUM(Tableau1[[#This Row],[SUEZ Transport HT]:[SUEZ Traitement HT]],Tableau1[[#This Row],[Sogedo Montant HT]],Tableau1[[#This Row],[Engie Montant HT]])),"",(SUM(Tableau1[[#This Row],[SUEZ Transport HT]:[SUEZ Traitement HT]],Tableau1[[#This Row],[Sogedo Montant HT]],Tableau1[[#This Row],[Engie Montant HT]],SUM(Tableau1[[#This Row],[Bouteille 30 Kg]:[Bouteille Le Cube]],Tableau1[[#This Row],[Gaz Citerne Montant HT]])))) -> 500 | W29: 3 | X29: =IF(W29=1,V29*$Z$2,0) -> 0 | Y29: =IF(W29=2,V29*$Y$2,0) -> 0 | Z29: =IF(W29=3,V29*$Z$2,0) -> 100 | AA29: =SUM(Tableau1[[#This Row],[SUEZ Transport HT]:[SUEZ Traitement HT]]) -> 0 | AB29: =Tableau1[[#This Row],[Sogedo Montant HT]] | AC29: =SUM(Tableau1[[#This Row],[Bouteille 30 Kg]:[Bouteille Le Cube]],Tableau1[[#This Row],[Gaz Citerne Montant HT]]) -> 0 | AD29: =Tableau1[[#This Row],[Engie Montant HT]] -> 500 | AE29: =IF($E29=501,'Tarifs et relevés'!$N$14*'Tarifs et relevés'!$N$26,0) -> 0 | AF29: =IF($E29=501,'Tarifs et relevés'!$N$15*'Tarifs et relevés'!$N$26,0) -> 0 | AG29: =IF($E29=503,'Tarifs et relevés'!$N$16*'Tarifs et relevés'!$N$26,0) -> 0 | AH29: =IF($E29=504,'Tarifs et relevés'!$N$17*'Tarifs et relevés'!$N$26,0) -> 0 | AI29: =IF($E29=505,'Tarifs et relevés'!$N$18*'Tarifs et relevés'!$N$26,0) -> 0 | AJ29: =IF($E29=506,'Tarifs et relevés'!$N$19*'Tarifs et relevés'!$N$26,0) -> 0 | AK29: =IF($E29=507,'Tarifs et relevés'!$N$20*'Tarifs et relevés'!$N$26,0) -> 0 | AL29: =IF($E29=508,'Tarifs et relevés'!$N$21*'Tarifs et relevés'!$N$26,0) -> 0 | AM29: =IF($E29=509,'Tarifs et relevés'!$N$22*'Tarifs et relevés'!$N$26,0) -> 0 | AN29: =IF($E29=510,'Tarifs et relevés'!$N$23*'Tarifs et relevés'!$N$26,0) -> 0 | AO29: =IF($E29=511,'Tarifs et relevés'!$N$24*'Tarifs et relevés'!$N$26,0) -> 500 | AP29: =IF($E29=512,'Tarifs et relevés'!$N$25*'Tarifs et relevés'!$N$26,0) -> 0 | AQ29: =IF($E29=301,'Tarifs et relevés'!$N$5*'Tarifs et relevés'!$N$8,0) -> 0 | AR29: =IF($E29=302,'Tarifs et relevés'!$N$6*'Tarifs et relevés'!$N$8,0) -> 0 | AS29: =IF($E29=303,'Tarifs et relevés'!$N$7*'Tarifs et relevés'!$N$8,0) -> 0 | AT29: =SUM(X29:Z29) -> 100 | AU29: =V29+AT29 -> 600
A30: =IF(C30=200,'Code Fournisseur'!$C$4,IF(C30=300,'Code Fournisseur'!$C$12,IF(C30=400,'Code Fournisseur'!$C$17,IF(C30=500,'Code Fournisseur'!$C$23,"")))) -> ENGIE | C30: 500 | D30: =IF(E30=201,'Code Fournisseur'!C32,IF(E30=202,'Code Fournisseur'!$C$6,IF(E30=203,'Code Fournisseur'!$C$7,IF(E30=204,'Code Fournisseur'!$C$8,IF(E30=205,'Code Fournisseur'!$C$9,IF(E30=206,'Code Fournisseur'!$C$10,IF(E30=301,'Code Fournisseur'!$C$13,IF(E30=302,'Code Fournisseur'!$C$14,IF(E30=303,'Code Fournisseur'!$C$15,IF(E30=401,'Code Fournisseur'!$C$18,IF(E30=402,'Code Fournisseur'!$C$19,IF(E30=403,'Code Fournisseur'!$C$20,IF(E30=404,'Code Fournisseur'!$C$21,IF(E30=501,'Code Fournisseur'!$C$24,IF(E30=502,'Code Fournisseur'!$C$25,IF(E30=503,'Code Fournisseur'!$C$26,IF(E30=504,'Code Fournisseur'!$C$27,IF(E30=505,'Code Fournisseur'!$C$28,IF(E30=506,'Code Fournisseur'!$C$29,IF(E30=507,'Code Fournisseur'!$C$30,IF(E30=508,'Code Fournisseur'!$C$31,IF(E30=509,'Code Fournisseur'!$C$32,IF(E30=510,'Code Fournisseur'!$C$33,IF(E30=511,'Code Fournisseur'!$C$34,IF(E30=512,'Code Fournisseur'!$C$35,""))))))))))))))))))))))))) -> Relevé Décembre | E30: 512 | G30: =IF(Tableau1[[#This Row],[Code ventilation]]=402,'Tarifs et relevés'!$G$16*Tableau1[[#This Row],[Quote part Quantités]],"") | H30: =IF(Tableau1[[#This Row],[Code ventilation]]=403,'Tarifs et relevés'!$G$17*Tableau1[[#This Row],[Quote part Quantités]],"") | I30: =IF(Tableau1[[#This Row],[Code ventilation]]=404,'Tarifs et relevés'!$G$18*Tableau1[[#This Row],[Quote part Quantités]],"") | J30: =IF(Tableau1[[#This Row],[Code ventilation]]=401,'Tarifs et relevés'!$G$14,"") | K30: =IF(ISERROR('Tarifs et relevés'!$G$15*Tableau1[[#This Row],[Gaz Citerne en Kg]]),"",'Tarifs et relevés'!$G$15*'Tableau des dépenses'!J30) | L30: =IF(Tableau1[[#This Row],[Code ventilation]]=201,IF(Tableau1[[#This Row],[Quote part Quantités]]=3,'Tarifs et relevés'!$G$4,IF(Tableau1[[#This Row],[Quote part Quantités]]=2,'Tarifs et relevés'!$G$4/3*2,IF(Tableau1[[#This Row],[Quote part Quantités]]=1,'Tarifs et relevés'!$G$4/3,""))),"") | M30: =IF(Tableau1[[#This Row],[Code ventilation]]=202,'Tarifs et relevés'!$G$5*Tableau1[[#This Row],[Quote part Quantités]],"") | N30: =IF(Tableau1[[#This Row],[Code ventilation]]=203,'Tarifs et relevés'!$G$6*Tableau1[[#This Row],[Quote part Quantités]],"") | O30: =IF(Tableau1[[#This Row],[Code ventilation]]=204,'Tarifs et relevés'!$G$7*Tableau1[[#This Row],[Quote part Quantités]],"") | P30: =IF(Tableau1[[#This Row],[Code ventilation]]=205,'Tarifs et relevés'!$G$8*Tableau1[[#This Row],[Quote part Quantités]],"") | Q30: =IF(Tableau1[[#This Row],[Code ventilation]]=206,'Tarifs et relevés'!$G$9*Tableau1[[#This Row],[Quote part Quantités]],"") | R30: =IF(Tableau1[[#This Row],[Code ventilation]]=301,'Tarifs et relevés'!$N$5,IF(Tableau1[[#This Row],[Code ventilation]]=302,'Tarifs et relevés'!$N$6,IF(Tableau1[[#This Row],[Code ventilation]]=303,'Tarifs et relevés'!$N$7,""))) | S30: =IF(ISERROR('Tarifs et relevés'!$N$8*'Tableau des dépenses'!R30),"",'Tarifs et relevés'!$N$8*'Tableau des dépenses'!R30) | T30: =IF(Tableau1[[#This Row],[Code ventilation]]=501,'Tarifs et relevés'!$N$14,IF(Tableau1[[#This Row],[Code ventilation]]=502,'Tarifs et relevés'!$N$15,IF(Tableau1[[#This Row],[Code ventilation]]=503,'Tarifs et relevés'!$N$16,IF(Tableau1[[#This Row],[Code ventilation]]=504,'Tarifs et relevés'!$N$17,IF(Tableau1[[#This Row],[Code ventilation]]=505,'Tarifs et relevés'!$N$18,IF(Tableau1[[#This Row],[Code ventilation]]=506,'Tarifs et relevés'!$N$19,IF(Tableau1[[#This Row],[Code ventilation]]=507,'Tarifs et relevés'!$N$20,IF(Tableau1[[#This Row],[Code ventilation]]=508,'Tarifs et relevés'!$N$21,IF(Tableau1[[#This Row],[Code ventilation]]=509,'Tarifs et relevés'!$N$22,IF(Tableau1[[#This Row],[Code ventilation]]=510,'Tarifs et relevés'!$N$23,IF(Tableau1[[#This Row],[Code ventilation]]=511,'Tarifs et relevés'!$N$24,IF(Tableau1[[#This Row],[Code ventilation]]=512,'Tarifs et relevés'!$N$25,"")))))))))))) -> 2000 | U30: =IF(ISERROR('Tarifs et relevés'!$N$26*Tableau1[[#This Row],[Engie Quantité KW]]),"",'Tarifs et relevés'!$N$26*Tableau1[[#This Row],[Engie Quantité KW]]) -> 500 | V30: =IF(ISERROR(SUM(Tableau1[[#This Row],[SUEZ Transport HT]:[SUEZ Traitement HT]],Tableau1[[#This Row],[Sogedo Montant HT]],Tableau1[[#This Row],[Engie Montant HT]])),"",(SUM(Tableau1[[#This Row],[SUEZ Transport HT]:[SUEZ Traitement HT]],Tableau1[[#This Row],[Sogedo Montant HT]],Tableau1[[#This Row],[Engie Montant HT]],SUM(Tableau1[[#This Row],[Bouteille 30 Kg]:[Bouteille Le Cube]],Tableau1[[#This Row],[Gaz Citerne Montant HT]])))) -> 500 | W30: 3 | X30: =IF(W30=1,V30*$Z$2,0) -> 0 | Y30: =IF(W30=2,V30*$Y$2,0) -> 0 | Z30: =IF(W30=3,V30*$Z$2,0) -> 100 | AA30: =SUM(Tableau1[[#This Row],[SUEZ Transport HT]:[SUEZ Traitement HT]]) -> 0 | AB30: =Tableau1[[#This Row],[Sogedo Montant HT]] | AC30: =SUM(Tableau1[[#This Row],[Bouteille 30 Kg]:[Bouteille Le Cube]],Tableau1[[#This Row],[Gaz Citerne Montant HT]]) -> 0 | AD30: =Tableau1[[#This Row],[Engie Montant HT]] -> 500 | AE30: =IF($E30=501,'Tarifs et relevés'!$N$14*'Tarifs et relevés'!$N$26,0) -> 0 | AF30: =IF($E30=501,'Tarifs et relevés'!$N$15*'Tarifs et relevés'!$N$26,0) -> 0 | AG30: =IF($E30=503,'Tarifs et relevés'!$N$16*'Tarifs et relevés'!$N$26,0) -> 0 | AH30: =IF($E30=504,'Tarifs et relevés'!$N$17*'Tarifs et relevés'!$N$26,0) -> 0 | AI30: =IF($E30=505,'Tarifs et relevés'!$N$18*'Tarifs et relevés'!$N$26,0) -> 0 | AJ30: =IF($E30=506,'Tarifs et relevés'!$N$19*'Tarifs et relevés'!$N$26,0) -> 0 | AK30: =IF($E30=507,'Tarifs et relevés'!$N$20*'Tarifs et relevés'!$N$26,0) -> 0 | AL30: =IF($E30=508,'Tarifs et relevés'!$N$21*'Tarifs et relevés'!$N$26,0) -> 0 | AM30: =IF($E30=509,'Tarifs et relevés'!$N$22*'Tarifs et relevés'!$N$26,0) -> 0 | AN30: =IF($E30=510,'Tarifs et relevés'!$N$23*'Tarifs et relevés'!$N$26,0) -> 0 | AO30: =IF($E30=511,'Tarifs et relevés'!$N$24*'Tarifs et relevés'!$N$26,0) -> 0 | AP30: =IF($E30=512,'Tarifs et relevés'!$N$25*'Tarifs et relevés'!$N$26,0) -> 500 | AQ30: =IF($E30=301,'Tarifs et relevés'!$N$5*'Tarifs et relevés'!$N$8,0) -> 0 | AR30: =IF($E30=302,'Tarifs et relevés'!$N$6*'Tarifs et relevés'!$N$8,0) -> 0 | AS30: =IF($E30=303,'Tarifs et relevés'!$N$7*'Tarifs et relevés'!$N$8,0) -> 0 | AT30: =SUM(X30:Z30) -> 100 | AU30: =V30+AT30 -> 600
A31: =IF(C31=200,'Code Fournisseur'!$C$4,IF(C31=300,'Code Fournisseur'!$C$12,IF(C31=400,'Code Fournisseur'!$C$17,IF(C31=500,'Code Fournisseur'!$C$23,"")))) | D31: =IF(E31=201,'Code Fournisseur'!C33,IF(E31=202,'Code Fournisseur'!$C$6,IF(E31=203,'Code Fournisseur'!$C$7,IF(E31=204,'Code Fournisseur'!$C$8,IF(E31=205,'Code Fournisseur'!$C$9,IF(E31=206,'Code Fournisseur'!$C$10,IF(E31=301,'Code Fournisseur'!$C$13,IF(E31=302,'Code Fournisseur'!$C$14,IF(E31=303,'Code Fournisseur'!$C$15,IF(E31=401,'Code Fournisseur'!$C$18,IF(E31=402,'Code Fournisseur'!$C$19,IF(E31=403,'Code Fournisseur'!$C$20,IF(E31=404,'Code Fournisseur'!$C$21,IF(E31=501,'Code Fournisseur'!$C$24,IF(E31=502,'Code Fournisseur'!$C$25,IF(E31=503,'Code Fournisseur'!$C$26,IF(E31=504,'Code Fournisseur'!$C$27,IF(E31=505,'Code Fournisseur'!$C$28,IF(E31=506,'Code Fournisseur'!$C$29,IF(E31=507,'Code Fournisseur'!$C$30,IF(E31=508,'Code Fournisseur'!$C$31,IF(E31=509,'Code Fournisseur'!$C$32,IF(E31=510,'Code Fournisseur'!$C$33,IF(E31=511,'Code Fournisseur'!$C$34,IF(E31=512,'Code Fournisseur'!$C$35,""))))))))))))))))))))))))) | G31: =IF(Tableau1[[#This Row],[Code ventilation]]=402,'Tarifs et relevés'!$G$16*Tableau1[[#This Row],[Quote part Quantités]],"") | H31: =IF(Tableau1[[#This Row],[Code ventilation]]=403,'Tarifs et relevés'!$G$17*Tableau1[[#This Row],[Quote part Quantités]],"") | I31: =IF(Tableau1[[#This Row],[Code ventilation]]=404,'Tarifs et relevés'!$G$18*Tableau1[[#This Row],[Quote part Quantités]],"") | J31: =IF(Tableau1[[#This Row],[Code ventilation]]=401,'Tarifs et relevés'!$G$14,"") | K31: =IF(ISERROR('Tarifs et relevés'!$G$15*Tableau1[[#This Row],[Gaz Citerne en Kg]]),"",'Tarifs et relevés'!$G$15*'Tableau des dépenses'!J31) | L31: =IF(Tableau1[[#This Row],[Code ventilation]]=201,IF(Tableau1[[#This Row],[Quote part Quantités]]=3,'Tarifs et relevés'!$G$4,IF(Tableau1[[#This Row],[Quote part Quantités]]=2,'Tarifs et relevés'!$G$4/3*2,IF(Tableau1[[#This Row],[Quote part Quantités]]=1,'Tarifs et relevés'!$G$4/3,""))),"") | M31: =IF(Tableau1[[#This Row],[Code ventilation]]=202,'Tarifs et relevés'!$G$5*Tableau1[[#This Row],[Quote part Quantités]],"") | N31: =IF(Tableau1[[#This Row],[Code ventilation]]=203,'Tarifs et relevés'!$G$6*Tableau1[[#This Row],[Quote part Quantités]],"") | O31: =IF(Tableau1[[#This Row],[Code ventilation]]=204,'Tarifs et relevés'!$G$7*Tableau1[[#This Row],[Quote part Quantités]],"") | P31: =IF(Tableau1[[#This Row],[Code ventilation]]=205,'Tarifs et relevés'!$G$8*Tableau1[[#This Row],[Quote part Quantités]],"") | Q31: =IF(Tableau1[[#This Row],[Code ventilation]]=206,'Tarifs et relevés'!$G$9*Tableau1[[#This Row],[Quote part Quantités]],"") | R31: =IF(Tableau1[[#This Row],[Code ventilation]]=301,'Tarifs et relevés'!$N$5,IF(Tableau1[[#This Row],[Code ventilation]]=302,'Tarifs et relevés'!$N$6,IF(Tableau1[[#This Row],[Code ventilation]]=303,'Tarifs et relevés'!$N$7,""))) | S31: =IF(ISERROR('Tarifs et relevés'!$N$8*'Tableau des dépenses'!R31),"",'Tarifs et relevés'!$N$8*'Tableau des dépenses'!R31) | T31: =IF(Tableau1[[#This Row],[Code ventilation]]=501,'Tarifs et relevés'!$N$14,IF(Tableau1[[#This Row],[Code ventilation]]=502,'Tarifs et relevés'!$N$15,IF(Tableau1[[#This Row],[Code ventilation]]=503,'Tarifs et relevés'!$N$16,IF(Tableau1[[#This Row],[Code ventilation]]=504,'Tarifs et relevés'!$N$17,IF(Tableau1[[#This Row],[Code ventilation]]=505,'Tarifs et relevés'!$N$18,IF(Tableau1[[#This Row],[Code ventilation]]=506,'Tarifs et relevés'!$N$19,IF(Tableau1[[#This Row],[Code ventilation]]=507,'Tarifs et relevés'!$N$20,IF(Tableau1[[#This Row],[Code ventilation]]=508,'Tarifs et relevés'!$N$21,IF(Tableau1[[#This Row],[Code ventilation]]=509,'Tarifs et relevés'!$N$22,IF(Tableau1[[#This Row],[Code ventilation]]=510,'Tarifs et relevés'!$N$23,IF(Tableau1[[#This Row],[Code ventilation]]=511,'Tarifs et relevés'!$N$24,IF(Tableau1[[#This Row],[Code ventilation]]=512,'Tarifs et relevés'!$N$25,"")))))))))))) | U31: =IF(ISERROR('Tarifs et relevés'!$N$26*Tableau1[[#This Row],[Engie Quantité KW]]),"",'Tarifs et relevés'!$N$26*Tableau1[[#This Row],[Engie Quantité KW]]) | V31: =IF(ISERROR(SUM(Tableau1[[#This Row],[SUEZ Transport HT]:[SUEZ Traitement HT]],Tableau1[[#This Row],[Sogedo Montant HT]],Tableau1[[#This Row],[Engie Montant HT]])),"",(SUM(Tableau1[[#This Row],[SUEZ Transport HT]:[SUEZ Traitement HT]],Tableau1[[#This Row],[Sogedo Montant HT]],Tableau1[[#This Row],[Engie Montant HT]],SUM(Tableau1[[#This Row],[Bouteille 30 Kg]:[Bouteille Le Cube]],Tableau1[[#This Row],[Gaz Citerne Montant HT]])))) -> 0 | W31: 3 | X31: =IF(W31=1,V31*$Z$2,0) -> 0 | Y31: =IF(W31=2,V31*$Y$2,0) -> 0 | Z31: =IF(W31=3,V31*$Z$2,0) -> 0 | AA31: =SUM(Tableau1[[#This Row],[SUEZ Transport HT]:[SUEZ Traitement HT]]) -> 0 | AB31: =Tableau1[[#This Row],[Sogedo Montant HT]] | AC31: =SUM(Tableau1[[#This Row],[Bouteille 30 Kg]:[Bouteille Le Cube]],Tableau1[[#This Row],[Gaz Citerne Montant HT]]) -> 0 | AD31: =Tableau1[[#This Row],[Engie Montant HT]] | AE31: =IF($E31=501,'Tarifs et relevés'!$N$14*'Tarifs et relevés'!$N$26,0) -> 0 | AF31: =IF($E31=501,'Tarifs et relevés'!$N$15*'Tarifs et relevés'!$N$26,0) -> 0 | AG31: =IF($E31=503,'Tarifs et relevés'!$N$16*'Tarifs et relevés'!$N$26,0) -> 0 | AH31: =IF($E31=504,'Tarifs et relevés'!$N$17*'Tarifs et relevés'!$N$26,0) -> 0 | AI31: =IF($E31=505,'Tarifs et relevés'!$N$18*'Tarifs et relevés'!$N$26,0) -> 0 | AJ31: =IF($E31=506,'Tarifs et relevés'!$N$19*'Tarifs et relevés'!$N$26,0) -> 0 | AK31: =IF($E31=507,'Tarifs et relevés'!$N$20*'Tarifs et relevés'!$N$26,0) -> 0 | AL31: =IF($E31=508,'Tarifs et relevés'!$N$21*'Tarifs et relevés'!$N$26,0) -> 0 | AM31: =IF($E31=509,'Tarifs et relevés'!$N$22*'Tarifs et relevés'!$N$26,0) -> 0 | AN31: =IF($E31=510,'Tarifs et relevés'!$N$23*'Tarifs et relevés'!$N$26,0) -> 0 | AO31: =IF($E31=511,'Tarifs et relevés'!$N$24*'Tarifs et relevés'!$N$26,0) -> 0 | AP31: =IF($E31=512,'Tarifs et relevés'!$N$25*'Tarifs et relevés'!$N$26,0) -> 0 | AQ31: =IF($E31=301,'Tarifs et relevés'!$N$5*'Tarifs et relevés'!$N$8,0) -> 0 | AR31: =IF($E31=302,'Tarifs et relevés'!$N$6*'Tarifs et relevés'!$N$8,0) -> 0 | AS31: =IF($E31=303,'Tarifs et relevés'!$N$7*'Tarifs et relevés'!$N$8,0) -> 0 | AT31: =SUM(X31:Z31) -> 0 | AU31: =V31+AT31 -> 0
A32: =IF(C32=200,'Code Fournisseur'!$C$4,IF(C32=300,'Code Fournisseur'!$C$12,IF(C32=400,'Code Fournisseur'!$C$17,IF(C32=500,'Code Fournisseur'!$C$23,"")))) | D32: =IF(E32=201,'Code Fournisseur'!C34,IF(E32=202,'Code Fournisseur'!$C$6,IF(E32=203,'Code Fournisseur'!$C$7,IF(E32=204,'Code Fournisseur'!$C$8,IF(E32=205,'Code Fournisseur'!$C$9,IF(E32=206,'Code Fournisseur'!$C$10,IF(E32=301,'Code Fournisseur'!$C$13,IF(E32=302,'Code Fournisseur'!$C$14,IF(E32=303,'Code Fournisseur'!$C$15,IF(E32=401,'Code Fournisseur'!$C$18,IF(E32=402,'Code Fournisseur'!$C$19,IF(E32=403,'Code Fournisseur'!$C$20,IF(E32=404,'Code Fournisseur'!$C$21,IF(E32=501,'Code Fournisseur'!$C$24,IF(E32=502,'Code Fournisseur'!$C$25,IF(E32=503,'Code Fournisseur'!$C$26,IF(E32=504,'Code Fournisseur'!$C$27,IF(E32=505,'Code Fournisseur'!$C$28,IF(E32=506,'Code Fournisseur'!$C$29,IF(E32=507,'Code Fournisseur'!$C$30,IF(E32=508,'Code Fournisseur'!$C$31,IF(E32=509,'Code Fournisseur'!$C$32,IF(E32=510,'Code Fournisseur'!$C$33,IF(E32=511,'Code Fournisseur'!$C$34,IF(E32=512,'Code Fournisseur'!$C$35,""))))))))))))))))))))))))) | G32: =IF(Tableau1[[#This Row],[Code ventilation]]=402,'Tarifs et relevés'!$G$16*Tableau1[[#This Row],[Quote part Quantités]],"") | H32: =IF(Tableau1[[#This Row],[Code ventilation]]=403,'Tarifs et relevés'!$G$17*Tableau1[[#This Row],[Quote part Quantités]],"") | I32: =IF(Tableau1[[#This Row],[Code ventilation]]=404,'Tarifs et relevés'!$G$18*Tableau1[[#This Row],[Quote part Quantités]],"") | J32: =IF(Tableau1[[#This Row],[Code ventilation]]=401,'Tarifs et relevés'!$G$14,"") | K32: =IF(ISERROR('Tarifs et relevés'!$G$15*Tableau1[[#This Row],[Gaz Citerne en Kg]]),"",'Tarifs et relevés'!$G$15*'Tableau des dépenses'!J32) | L32: =IF(Tableau1[[#This Row],[Code ventilation]]=201,IF(Tableau1[[#This Row],[Quote part Quantités]]=3,'Tarifs et relevés'!$G$4,IF(Tableau1[[#This Row],[Quote part Quantités]]=2,'Tarifs et relevés'!$G$4/3*2,IF(Tableau1[[#This Row],[Quote part Quantités]]=1,'Tarifs et relevés'!$G$4/3,""))),"") | M32: =IF(Tableau1[[#This Row],[Code ventilation]]=202,'Tarifs et relevés'!$G$5*Tableau1[[#This Row],[Quote part Quantités]],"") | N32: =IF(Tableau1[[#This Row],[Code ventilation]]=203,'Tarifs et relevés'!$G$6*Tableau1[[#This Row],[Quote part Quantités]],"") | O32: =IF(Tableau1[[#This Row],[Code ventilation]]=204,'Tarifs et relevés'!$G$7*Tableau1[[#This Row],[Quote part Quantités]],"") | P32: =IF(Tableau1[[#This Row],[Code ventilation]]=205,'Tarifs et relevés'!$G$8*Tableau1[[#This Row],[Quote part Quantités]],"") | Q32: =IF(Tableau1[[#This Row],[Code ventilation]]=206,'Tarifs et relevés'!$G$9*Tableau1[[#This Row],[Quote part Quantités]],"") | R32: =IF(Tableau1[[#This Row],[Code ventilation]]=301,'Tarifs et relevés'!$N$5,IF(Tableau1[[#This Row],[Code ventilation]]=302,'Tarifs et relevés'!$N$6,IF(Tableau1[[#This Row],[Code ventilation]]=303,'Tarifs et relevés'!$N$7,""))) | S32: =IF(ISERROR('Tarifs et relevés'!$N$8*'Tableau des dépenses'!R32),"",'Tarifs et relevés'!$N$8*'Tableau des dépenses'!R32) | T32: =IF(Tableau1[[#This Row],[Code ventilation]]=501,'Tarifs et relevés'!$N$14,IF(Tableau1[[#This Row],[Code ventilation]]=502,'Tarifs et relevés'!$N$15,IF(Tableau1[[#This Row],[Code ventilation]]=503,'Tarifs et relevés'!$N$16,IF(Tableau1[[#This Row],[Code ventilation]]=504,'Tarifs et relevés'!$N$17,IF(Tableau1[[#This Row],[Code ventilation]]=505,'Tarifs et relevés'!$N$18,IF(Tableau1[[#This Row],[Code ventilation]]=506,'Tarifs et relevés'!$N$19,IF(Tableau1[[#This Row],[Code ventilation]]=507,'Tarifs et relevés'!$N$20,IF(Tableau1[[#This Row],[Code ventilation]]=508,'Tarifs et relevés'!$N$21,IF(Tableau1[[#This Row],[Code ventilation]]=509,'Tarifs et relevés'!$N$22,IF(Tableau1[[#This Row],[Code ventilation]]=510,'Tarifs et relevés'!$N$23,IF(Tableau1[[#This Row],[Code ventilation]]=511,'Tarifs et relevés'!$N$24,IF(Tableau1[[#This Row],[Code ventilation]]=512,'Tarifs et relevés'!$N$25,"")))))))))))) | U32: =IF(ISERROR('Tarifs et relevés'!$N$26*Tableau1[[#This Row],[Engie Quantité KW]]),"",'Tarifs et relevés'!$N$26*Tableau1[[#This Row],[Engie Quantité KW]]) | V32: =IF(ISERROR(SUM(Tableau1[[#This Row],[SUEZ Transport HT]:[SUEZ Traitement HT]],Tableau1[[#This Row],[Sogedo Montant HT]],Tableau1[[#This Row],[Engie Montant HT]])),"",(SUM(Tableau1[[#This Row],[SUEZ Transport HT]:[SUEZ Traitement HT]],Tableau1[[#This Row],[Sogedo Montant HT]],Tableau1[[#This Row],[Engie Montant HT]],SUM(Tableau1[[#This Row],[Bouteille 30 Kg]:[Bouteille Le Cube]],Tableau1[[#This Row],[Gaz Citerne Montant HT]])))) -> 0 | W32: 3 | X32: =IF(W32=1,V32*$Z$2,0) -> 0 | Y32: =IF(W32=2,V32*$Y$2,0) -> 0 | Z32: =IF(W32=3,V32*$Z$2,0) -> 0 | AA32: =SUM(Tableau1[[#This Row],[SUEZ Transport HT]:[SUEZ Traitement HT]]) -> 0 | AB32: =Tableau1[[#This Row],[Sogedo Montant HT]] | AC32: =SUM(Tableau1[[#This Row],[Bouteille 30 Kg]:[Bouteille Le Cube]],Tableau1[[#This Row],[Gaz Citerne Montant HT]]) -> 0 | AD32: =Tableau1[[#This Row],[Engie Montant HT]] | AE32: =IF($E32=501,'Tarifs et relevés'!$N$14*'Tarifs et relevés'!$N$26,0) -> 0 | AF32: =IF($E32=501,'Tarifs et relevés'!$N$15*'Tarifs et relevés'!$N$26,0) -> 0 | AG32: =IF($E32=503,'Tarifs et relevés'!$N$16*'Tarifs et relevés'!$N$26,0) -> 0 | AH32: =IF($E32=504,'Tarifs et relevés'!$N$17*'Tarifs et relevés'!$N$26,0) -> 0 | AI32: =IF($E32=505,'Tarifs et relevés'!$N$18*'Tarifs et relevés'!$N$26,0) -> 0 | AJ32: =IF($E32=506,'Tarifs et relevés'!$N$19*'Tarifs et relevés'!$N$26,0) -> 0 | AK32: =IF($E32=507,'Tarifs et relevés'!$N$20*'Tarifs et relevés'!$N$26,0) -> 0 | AL32: =IF($E32=508,'Tarifs et relevés'!$N$21*'Tarifs et relevés'!$N$26,0) -> 0 | AM32: =IF($E32=509,'Tarifs et relevés'!$N$22*'Tarifs et relevés'!$N$26,0) -> 0 | AN32: =IF($E32=510,'Tarifs et relevés'!$N$23*'Tarifs et relevés'!$N$26,0) -> 0 | AO32: =IF($E32=511,'Tarifs et relevés'!$N$24*'Tarifs et relevés'!$N$26,0) -> 0 | AP32: =IF($E32=512,'Tarifs et relevés'!$N$25*'Tarifs et relevés'!$N$26,0) -> 0 | AQ32: =IF($E32=301,'Tarifs et relevés'!$N$5*'Tarifs et relevés'!$N$8,0) -> 0 | AR32: =IF($E32=302,'Tarifs et relevés'!$N$6*'Tarifs et relevés'!$N$8,0) -> 0 | AS32: =IF($E32=303,'Tarifs et relevés'!$N$7*'Tarifs et relevés'!$N$8,0) -> 0 | AT32: =SUM(X32:Z32) -> 0 | AU32: =V32+AT32 -> 0
A33: =IF(C33=200,'Code Fournisseur'!$C$4,IF(C33=300,'Code Fournisseur'!$C$12,IF(C33=400,'Code Fournisseur'!$C$17,IF(C33=500,'Code Fournisseur'!$C$23,"")))) | D33: =IF(E33=201,'Code Fournisseur'!C35,IF(E33=202,'Code Fournisseur'!$C$6,IF(E33=203,'Code Fournisseur'!$C$7,IF(E33=204,'Code Fournisseur'!$C$8,IF(E33=205,'Code Fournisseur'!$C$9,IF(E33=206,'Code Fournisseur'!$C$10,IF(E33=301,'Code Fournisseur'!$C$13,IF(E33=302,'Code Fournisseur'!$C$14,IF(E33=303,'Code Fournisseur'!$C$15,IF(E33=401,'Code Fournisseur'!$C$18,IF(E33=402,'Code Fournisseur'!$C$19,IF(E33=403,'Code Fournisseur'!$C$20,IF(E33=404,'Code Fournisseur'!$C$21,IF(E33=501,'Code Fournisseur'!$C$24,IF(E33=502,'Code Fournisseur'!$C$25,IF(E33=503,'Code Fournisseur'!$C$26,IF(E33=504,'Code Fournisseur'!$C$27,IF(E33=505,'Code Fournisseur'!$C$28,IF(E33=506,'Code Fournisseur'!$C$29,IF(E33=507,'Code Fournisseur'!$C$30,IF(E33=508,'Code Fournisseur'!$C$31,IF(E33=509,'Code Fournisseur'!$C$32,IF(E33=510,'Code Fournisseur'!$C$33,IF(E33=511,'Code Fournisseur'!$C$34,IF(E33=512,'Code Fournisseur'!$C$35,""))))))))))))))))))))))))) | G33: =IF(Tableau1[[#This Row],[Code ventilation]]=402,'Tarifs et relevés'!$G$16*Tableau1[[#This Row],[Quote part Quantités]],"") | H33: =IF(Tableau1[[#This Row],[Code ventilation]]=403,'Tarifs et relevés'!$G$17*Tableau1[[#This Row],[Quote part Quantités]],"") | I33: =IF(Tableau1[[#This Row],[Code ventilation]]=404,'Tarifs et relevés'!$G$18*Tableau1[[#This Row],[Quote part Quantités]],"") | J33: =IF(Tableau1[[#This Row],[Code ventilation]]=401,'Tarifs et relevés'!$G$14,"") | K33: =IF(ISERROR('Tarifs et relevés'!$G$15*Tableau1[[#This Row],[Gaz Citerne en Kg]]),"",'Tarifs et relevés'!$G$15*'Tableau des dépenses'!J33) | L33: =IF(Tableau1[[#This Row],[Code ventilation]]=201,IF(Tableau1[[#This Row],[Quote part Quantités]]=3,'Tarifs et relevés'!$G$4,IF(Tableau1[[#This Row],[Quote part Quantités]]=2,'Tarifs et relevés'!$G$4/3*2,IF(Tableau1[[#This Row],[Quote part Quantités]]=1,'Tarifs et relevés'!$G$4/3,""))),"") | M33: =IF(Tableau1[[#This Row],[Code ventilation]]=202,'Tarifs et relevés'!$G$5*Tableau1[[#This Row],[Quote part Quantités]],"") | N33: =IF(Tableau1[[#This Row],[Code ventilation]]=203,'Tarifs et relevés'!$G$6*Tableau1[[#This Row],[Quote part Quantités]],"") | O33: =IF(Tableau1[[#This Row],[Code ventilation]]=204,'Tarifs et relevés'!$G$7*Tableau1[[#This Row],[Quote part Quantités]],"") | P33: =IF(Tableau1[[#This Row],[Code ventilation]]=205,'Tarifs et relevés'!$G$8*Tableau1[[#This Row],[Quote part Quantités]],"") | Q33: =IF(Tableau1[[#This Row],[Code ventilation]]=206,'Tarifs et relevés'!$G$9*Tableau1[[#This Row],[Quote part Quantités]],"") | R33: =IF(Tableau1[[#This Row],[Code ventilation]]=301,'Tarifs et relevés'!$N$5,IF(Tableau1[[#This Row],[Code ventilation]]=302,'Tarifs et relevés'!$N$6,IF(Tableau1[[#This Row],[Code ventilation]]=303,'Tarifs et relevés'!$N$7,""))) | S33: =IF(ISERROR('Tarifs et relevés'!$N$8*'Tableau des dépenses'!R33),"",'Tarifs et relevés'!$N$8*'Tableau des dépenses'!R33) | T33: =IF(Tableau1[[#This Row],[Code ventilation]]=501,'Tarifs et relevés'!$N$14,IF(Tableau1[[#This Row],[Code ventilation]]=502,'Tarifs et relevés'!$N$15,IF(Tableau1[[#This Row],[Code ventilation]]=503,'Tarifs et relevés'!$N$16,IF(Tableau1[[#This Row],[Code ventilation]]=504,'Tarifs et relevés'!$N$17,IF(Tableau1[[#This Row],[Code ventilation]]=505,'Tarifs et relevés'!$N$18,IF(Tableau1[[#This Row],[Code ventilation]]=506,'Tarifs et relevés'!$N$19,IF(Tableau1[[#This Row],[Code ventilation]]=507,'Tarifs et relevés'!$N$20,IF(Tableau1[[#This Row],[Code ventilation]]=508,'Tarifs et relevés'!$N$21,IF(Tableau1[[#This Row],[Code ventilation]]=509,'Tarifs et relevés'!$N$22,IF(Tableau1[[#This Row],[Code ventilation]]=510,'Tarifs et relevés'!$N$23,IF(Tableau1[[#This Row],[Code ventilation]]=511,'Tarifs et relevés'!$N$24,IF(Tableau1[[#This Row],[Code ventilation]]=512,'Tarifs et relevés'!$N$25,"")))))))))))) | U33: =IF(ISERROR('Tarifs et relevés'!$N$26*Tableau1[[#This Row],[Engie Quantité KW]]),"",'Tarifs et relevés'!$N$26*Tableau1[[#This Row],[Engie Quantité KW]]) | V33: =IF(ISERROR(SUM(Tableau1[[#This Row],[SUEZ Transport HT]:[SUEZ Traitement HT]],Tableau1[[#This Row],[Sogedo Montant HT]],Tableau1[[#This Row],[Engie Montant HT]])),"",(SUM(Tableau1[[#This Row],[SUEZ Transport HT]:[SUEZ Traitement HT]],Tableau1[[#This Row],[Sogedo Montant HT]],Tableau1[[#This Row],[Engie Montant HT]],SUM(Tableau1[[#This Row],[Bouteille 30 Kg]:[Bouteille Le Cube]],Tableau1[[#This Row],[Gaz Citerne Montant HT]])))) -> 0 | W33: 3 | X33: =IF(W33=1,V33*$Z$2,0) -> 0 | Y33: =IF(W33=2,V33*$Y$2,0) -> 0 | Z33: =IF(W33=3,V33*$Z$2,0) -> 0 | AA33: =SUM(Tableau1[[#This Row],[SUEZ Transport HT]:[SUEZ Traitement HT]]) -> 0 | AB33: =Tableau1[[#This Row],[Sogedo Montant HT]] | AC33: =SUM(Tableau1[[#This Row],[Bouteille 30 Kg]:[Bouteille Le Cube]],Tableau1[[#This Row],[Gaz Citerne Montant HT]]) -> 0 | AD33: =Tableau1[[#This Row],[Engie Montant HT]] | AE33: =IF($E33=501,'Tarifs et relevés'!$N$14*'Tarifs et relevés'!$N$26,0) -> 0 | AF33: =IF($E33=501,'Tarifs et relevés'!$N$15*'Tarifs et relevés'!$N$26,0) -> 0 | AG33: =IF($E33=503,'Tarifs et relevés'!$N$16*'Tarifs et relevés'!$N$26,0) -> 0 | AH33: =IF($E33=504,'Tarifs et relevés'!$N$17*'Tarifs et relevés'!$N$26,0) -> 0 | AI33: =IF($E33=505,'Tarifs et relevés'!$N$18*'Tarifs et relevés'!$N$26,0) -> 0 | AJ33: =IF($E33=506,'Tarifs et relevés'!$N$19*'Tarifs et relevés'!$N$26,0) -> 0 | AK33: =IF($E33=507,'Tarifs et relevés'!$N$20*'Tarifs et relevés'!$N$26,0) -> 0 | AL33: =IF($E33=508,'Tarifs et relevés'!$N$21*'Tarifs et relevés'!$N$26,0) -> 0 | AM33: =IF($E33=509,'Tarifs et relevés'!$N$22*'Tarifs et relevés'!$N$26,0) -> 0 | AN33: =IF($E33=510,'Tarifs et relevés'!$N$23*'Tarifs et relevés'!$N$26,0) -> 0 | AO33: =IF($E33=511,'Tarifs et relevés'!$N$24*'Tarifs et relevés'!$N$26,0) -> 0 | AP33: =IF($E33=512,'Tarifs et relevés'!$N$25*'Tarifs et relevés'!$N$26,0) -> 0 | AQ33: =IF($E33=301,'Tarifs et relevés'!$N$5*'Tarifs et relevés'!$N$8,0) -> 0 | AR33: =IF($E33=302,'Tarifs et relevés'!$N$6*'Tarifs et relevés'!$N$8,0) -> 0 | AS33: =IF($E33=303,'Tarifs et relevés'!$N$7*'Tarifs et relevés'!$N$8,0) -> 0 | AT33: =SUM(X33:Z33) -> 0 | AU33: =V33+AT33 -> 0
