Workbook
Name date: Paramètres!$D$1

Sheet Paramètres
A1: MOIS | B1: Potentiel du mois 2019 | D1: 43496
A2: 43466 | B2: 22
A3: 43497 | B3: 20
A4: 43525 | B4: 21
A5: 43556 | B5: 21
A6: 43586 | B6: 20
A7: 43617 | B7: 19
A8: 43647 | B8: 23
A9: 43678 | B9: 21
A10: 43709 | B10: 21
A11: 43739 | B11: 23
A12: 43770 | B12: 19
A13: 43800 | B13: 21

Sheet Contrats presta
L1: 43466 | M1: 43497 | N1: 43525 | O1: 43556 | P1: 43586 | Q1: 43617 | R1: 43647 | S1: 43678 | T1: 43709 | U1: 43739 | V1: 43770 | W1: 43800
L2: 43496 | M2: 43524 | N2: 43555 | O2: 43585 | P2: 43616 | Q2: 43646 | R2: 43677 | S2: 43708 | T2: 43738 | U2: 43769 | V2: 43799 | W2: 43830
A3: Agence | B3: Collaborateurs | C3: Poste | D3: Service | E3: CSP | F3: Sexe | G3: Date d'entrée | H3: Tarif journalier | I3: Début de contrat | J3: Fin de contrat | K3: Etat | L3: janv.-19 | M3: févr.-19 | N3: mars-19 | O3: avr.-19 | P3: mai-19 | Q3: juin-19 | R3: juil.-19 | S3: août-19 | T3: sept.-19 | U3: oct.-19 | V3: nov.-19 | W3: déc.-19
A4: AGENCE 3 | B4: COLLABORATEUR 3 | C4: POSTE 1 | D4: C112 | E4: Cadres | F4: H | G4: 43374 | H4: 10.5 | I4: 43374 | J4: 43490 | K4: =IF(J4>TODAY(),"En cours","Fin") -> Fin | L4: =IF(AND($I4>=L$1,$J4<=L$2),1,IF(AND($I4<=L$2,$J4>=L$2),1,IF($I4<$L$1,IF($J4>=L$1,1,0),0))) -> 1 | M4: =IF(AND($I4>=M$1,$J4<=M$2),1,IF(AND($I4<=M$2,$J4>=M$2),1,IF($I4<$L$1,IF($J4>=M$1,1,0),0))) -> 0 | N4: =IF(AND($I4>=N$1,$J4<=N$2),1,IF(AND($I4<=N$2,$J4>=N$2),1,IF($I4<$L$1,IF($J4>=N$1,1,0),0))) -> 0 | O4: =IF(AND($I4>=O$1,$J4<=O$2),1,IF(AND($I4<=O$2,$J4>=O$2),1,IF($I4<$L$1,IF($J4>=O$1,1,0),0))) -> 0 | P4: =IF(AND($I4>=P$1,$J4<=P$2),1,IF(AND($I4<=P$2,$J4>=P$2),1,IF($I4<$L$1,IF($J4>=P$1,1,0),0))) -> 0 | Q4: =IF(AND($I4>=Q$1,$J4<=Q$2),1,IF(AND($I4<=Q$2,$J4>=Q$2),1,IF($I4<$L$1,IF($J4>=Q$1,1,0),0))) -> 0 | R4: =IF(AND($I4>=R$1,$J4<=R$2),1,IF(AND($I4<=R$2,$J4>=R$2),1,IF($I4<$L$1,IF($J4>=R$1,1,0),0))) -> 0 | S4: =IF(AND($I4>=S$1,$J4<=S$2),1,IF(AND($I4<=S$2,$J4>=S$2),1,IF($I4<$L$1,IF($J4>=S$1,1,0),0))) -> 0 | ... W4: =IF(AND($I4>=W$1,$J4<=W$2),1,IF(AND($I4<=W$2,$J4>=W$2),1,IF($I4<$L$1,IF($J4>=W$1,1,0),0))) -> 0
A5: AGENCE 7 | B5: COLLABORATEUR 13 | C5: POSTE 1 | D5: C114 | E5: ETAM | F5: H | G5: 43544 | H5: 10.5 | I5: 43544 | J5: 43823 | K5: =IF(J5>TODAY(),"En cours","Fin") -> En cours | L5: =IF(AND($I5>=L$1,$J5<=L$2),1,IF(AND($I5<=L$2,$J5>=L$2),1,IF($I5<$L$1,IF($J5>=L$1,1,0),0))) -> 0 | M5: =IF(AND($I5>=M$1,$J5<=M$2),1,IF(AND($I5<=M$2,$J5>=M$2),1,IF($I5<$L$1,IF($J5>=M$1,1,0),0))) -> 0 | N5: =IF(AND($I5>=N$1,$J5<=N$2),1,IF(AND($I5<=N$2,$J5>=N$2),1,IF($I5<$L$1,IF($J5>=N$1,1,0),0))) -> 1 | O5: =IF(AND($I5>=O$1,$J5<=O$2),1,IF(AND($I5<=O$2,$J5>=O$2),1,IF($I5<$L$1,IF($J5>=O$1,1,0),0))) -> 1 | P5: =IF(AND($I5>=P$1,$J5<=P$2),1,IF(AND($I5<=P$2,$J5>=P$2),1,IF($I5<$L$1,IF($J5>=P$1,1,0),0))) -> 1 | Q5: =IF(AND($I5>=Q$1,$J5<=Q$2),1,IF(AND($I5<=Q$2,$J5>=Q$2),1,IF($I5<$L$1,IF($J5>=Q$1,1,0),0))) -> 1 | R5: =IF(AND($I5>=R$1,$J5<=R$2),1,IF(AND($I5<=R$2,$J5>=R$2),1,IF($I5<$L$1,IF($J5>=R$1,1,0),0))) -> 1 | S5: =IF(AND($I5>=S$1,$J5<=S$2),1,IF(AND($I5<=S$2,$J5>=S$2),1,IF($I5<$L$1,IF($J5>=S$1,1,0),0))) -> 1 | ... W5: =IF(AND($I5>=W$1,$J5<=W$2),1,IF(AND($I5<=W$2,$J5>=W$2),1,IF($I5<$L$1,IF($J5>=W$1,1,0),0))) -> 0
A6: AGENCE 1 | B6: COLLABORATEUR | C6: POSTE 1 | D6: A111 | E6: Cadres | F6: H | G6: 43731 | H6: 10.5 | I6: 43731 | J6: 43823 | K6: =IF(J6>TODAY(),"En cours","Fin") -> En cours | L6: =IF(AND($I6>=L$1,$J6<=L$2),1,IF(AND($I6<=L$2,$J6>=L$2),1,IF($I6<$L$1,IF($J6>=L$1,1,0),0))) -> 0 | M6: =IF(AND($I6>=M$1,$J6<=M$2),1,IF(AND($I6<=M$2,$J6>=M$2),1,IF($I6<$L$1,IF($J6>=M$1,1,0),0))) -> 0 | N6: =IF(AND($I6>=N$1,$J6<=N$2),1,IF(AND($I6<=N$2,$J6>=N$2),1,IF($I6<$L$1,IF($J6>=N$1,1,0),0))) -> 0 | O6: =IF(AND($I6>=O$1,$J6<=O$2),1,IF(AND($I6<=O$2,$J6>=O$2),1,IF($I6<$L$1,IF($J6>=O$1,1,0),0))) -> 0 | P6: =IF(AND($I6>=P$1,$J6<=P$2),1,IF(AND($I6<=P$2,$J6>=P$2),1,IF($I6<$L$1,IF($J6>=P$1,1,0),0))) -> 0 | Q6: =IF(AND($I6>=Q$1,$J6<=Q$2),1,IF(AND($I6<=Q$2,$J6>=Q$2),1,IF($I6<$L$1,IF($J6>=Q$1,1,0),0))) -> 0 | R6: =IF(AND($I6>=R$1,$J6<=R$2),1,IF(AND($I6<=R$2,$J6>=R$2),1,IF($I6<$L$1,IF($J6>=R$1,1,0),0))) -> 0 | S6: =IF(AND($I6>=S$1,$J6<=S$2),1,IF(AND($I6<=S$2,$J6>=S$2),1,IF($I6<$L$1,IF($J6>=S$1,1,0),0))) -> 0 | ... W6: =IF(AND($I6>=W$1,$J6<=W$2),1,IF(AND($I6<=W$2,$J6>=W$2),1,IF($I6<$L$1,IF($J6>=W$1,1,0),0))) -> 0
A7: AGENCE 7 | B7: COLLABORATEUR 14 | C7: POSTE 1 | D7: C111 | E7: ETAM | F7: H | G7: 43353 | H7: 10.5 | I7: 43353 | J7: 43476 | K7: =IF(J7>TODAY(),"En cours","Fin") -> Fin | L7: =IF(AND($I7>=L$1,$J7<=L$2),1,IF(AND($I7<=L$2,$J7>=L$2),1,IF($I7<$L$1,IF($J7>=L$1,1,0),0))) -> 1 | M7: =IF(AND($I7>=M$1,$J7<=M$2),1,IF(AND($I7<=M$2,$J7>=M$2),1,IF($I7<$L$1,IF($J7>=M$1,1,0),0))) -> 0 | N7: =IF(AND($I7>=N$1,$J7<=N$2),1,IF(AND($I7<=N$2,$J7>=N$2),1,IF($I7<$L$1,IF($J7>=N$1,1,0),0))) -> 0 | O7: =IF(AND($I7>=O$1,$J7<=O$2),1,IF(AND($I7<=O$2,$J7>=O$2),1,IF($I7<$L$1,IF($J7>=O$1,1,0),0))) -> 0 | P7: =IF(AND($I7>=P$1,$J7<=P$2),1,IF(AND($I7<=P$2,$J7>=P$2),1,IF($I7<$L$1,IF($J7>=P$1,1,0),0))) -> 0 | Q7: =IF(AND($I7>=Q$1,$J7<=Q$2),1,IF(AND($I7<=Q$2,$J7>=Q$2),1,IF($I7<$L$1,IF($J7>=Q$1,1,0),0))) -> 0 | R7: =IF(AND($I7>=R$1,$J7<=R$2),1,IF(AND($I7<=R$2,$J7>=R$2),1,IF($I7<$L$1,IF($J7>=R$1,1,0),0))) -> 0 | S7: =IF(AND($I7>=S$1,$J7<=S$2),1,IF(AND($I7<=S$2,$J7>=S$2),1,IF($I7<$L$1,IF($J7>=S$1,1,0),0))) -> 0 | ... W7: =IF(AND($I7>=W$1,$J7<=W$2),1,IF(AND($I7<=W$2,$J7>=W$2),1,IF($I7<$L$1,IF($J7>=W$1,1,0),0))) -> 0
A8: AGENCE 5 | B8: COLLABORATEUR 7 | C8: POSTE 2 | D8: C112 | E8: Cadres | F8: H | G8: 42989 | H8: 10.5 | I8: 42989 | J8: 43644 | K8: =IF(J8>TODAY(),"En cours","Fin") -> Fin | L8: =IF(AND($I8>=L$1,$J8<=L$2),1,IF(AND($I8<=L$2,$J8>=L$2),1,IF($I8<$L$1,IF($J8>=L$1,1,0),0))) -> 1 | M8: =IF(AND($I8>=M$1,$J8<=M$2),1,IF(AND($I8<=M$2,$J8>=M$2),1,IF($I8<$L$1,IF($J8>=M$1,1,0),0))) -> 1 | N8: =IF(AND($I8>=N$1,$J8<=N$2),1,IF(AND($I8<=N$2,$J8>=N$2),1,IF($I8<$L$1,IF($J8>=N$1,1,0),0))) -> 1 | O8: =IF(AND($I8>=O$1,$J8<=O$2),1,IF(AND($I8<=O$2,$J8>=O$2),1,IF($I8<$L$1,IF($J8>=O$1,1,0),0))) -> 1 | P8: =IF(AND($I8>=P$1,$J8<=P$2),1,IF(AND($I8<=P$2,$J8>=P$2),1,IF($I8<$L$1,IF($J8>=P$1,1,0),0))) -> 1 | Q8: =IF(AND($I8>=Q$1,$J8<=Q$2),1,IF(AND($I8<=Q$2,$J8>=Q$2),1,IF($I8<$L$1,IF($J8>=Q$1,1,0),0))) -> 1 | R8: =IF(AND($I8>=R$1,$J8<=R$2),1,IF(AND($I8<=R$2,$J8>=R$2),1,IF($I8<$L$1,IF($J8>=R$1,1,0),0))) -> 0 | S8: =IF(AND($I8>=S$1,$J8<=S$2),1,IF(AND($I8<=S$2,$J8>=S$2),1,IF($I8<$L$1,IF($J8>=S$1,1,0),0))) -> 0 | ... W8: =IF(AND($I8>=W$1,$J8<=W$2),1,IF(AND($I8<=W$2,$J8>=W$2),1,IF($I8<$L$1,IF($J8>=W$1,1,0),0))) -> 0
A9: AGENCE 4 | B9: COLLABORATEUR 6 | C9: POSTE 4 | D9: C111 | E9: ETAM | F9: H | G9: 43500 | H9: 10.5 | I9: 43500 | J9: 43630 | K9: =IF(J9>TODAY(),"En cours","Fin") -> Fin | L9: =IF(AND($I9>=L$1,$J9<=L$2),1,IF(AND($I9<=L$2,$J9>=L$2),1,IF($I9<$L$1,IF($J9>=L$1,1,0),0))) -> 0 | M9: =IF(AND($I9>=M$1,$J9<=M$2),1,IF(AND($I9<=M$2,$J9>=M$2),1,IF($I9<$L$1,IF($J9>=M$1,1,0),0))) -> 1 | N9: =IF(AND($I9>=N$1,$J9<=N$2),1,IF(AND($I9<=N$2,$J9>=N$2),1,IF($I9<$L$1,IF($J9>=N$1,1,0),0))) -> 1 | O9: =IF(AND($I9>=O$1,$J9<=O$2),1,IF(AND($I9<=O$2,$J9>=O$2),1,IF($I9<$L$1,IF($J9>=O$1,1,0),0))) -> 1 | P9: =IF(AND($I9>=P$1,$J9<=P$2),1,IF(AND($I9<=P$2,$J9>=P$2),1,IF($I9<$L$1,IF($J9>=P$1,1,0),0))) -> 1 | Q9: =IF(AND($I9>=Q$1,$J9<=Q$2),1,IF(AND($I9<=Q$2,$J9>=Q$2),1,IF($I9<$L$1,IF($J9>=Q$1,1,0),0))) -> 0 | R9: =IF(AND($I9>=R$1,$J9<=R$2),1,IF(AND($I9<=R$2,$J9>=R$2),1,IF($I9<$L$1,IF($J9>=R$1,1,0),0))) -> 0 | S9: =IF(AND($I9>=S$1,$J9<=S$2),1,IF(AND($I9<=S$2,$J9>=S$2),1,IF($I9<$L$1,IF($J9>=S$1,1,0),0))) -> 0 | ... W9: =IF(AND($I9>=W$1,$J9<=W$2),1,IF(AND($I9<=W$2,$J9>=W$2),1,IF($I9<$L$1,IF($J9>=W$1,1,0),0))) -> 0
A10: AGENCE 7 | B10: COLLABORATEUR 15 | C10: POSTE 1 | D10: C111 | E10: ETAM | F10: H | G10: 43129 | H10: 10.5 | I10: 43129 | J10: 43565 | K10: =IF(J10>TODAY(),"En cours","Fin") -> Fin | L10: =IF(AND($I10>=L$1,$J10<=L$2),1,IF(AND($I10<=L$2,$J10>=L$2),1,IF($I10<$L$1,IF($J10>=L$1,1,0),0))) -> 1 | M10: =IF(AND($I10>=M$1,$J10<=M$2),1,IF(AND($I10<=M$2,$J10>=M$2),1,IF($I10<$L$1,IF($J10>=M$1,1,0),0))) -> 1 | N10: =IF(AND($I10>=N$1,$J10<=N$2),1,IF(AND($I10<=N$2,$J10>=N$2),1,IF($I10<$L$1,IF($J10>=N$1,1,0),0))) -> 1 | O10: =IF(AND($I10>=O$1,$J10<=O$2),1,IF(AND($I10<=O$2,$J10>=O$2),1,IF($I10<$L$1,IF($J10>=O$1,1,0),0))) -> 1 | P10: =IF(AND($I10>=P$1,$J10<=P$2),1,IF(AND($I10<=P$2,$J10>=P$2),1,IF($I10<$L$1,IF($J10>=P$1,1,0),0))) -> 0 | Q10: =IF(AND($I10>=Q$1,$J10<=Q$2),1,IF(AND($I10<=Q$2,$J10>=Q$2),1,IF($I10<$L$1,IF($J10>=Q$1,1,0),0))) -> 0 | R10: =IF(AND($I10>=R$1,$J10<=R$2),1,IF(AND($I10<=R$2,$J10>=R$2),1,IF($I10<$L$1,IF($J10>=R$1,1,0),0))) -> 0 | S10: =IF(AND($I10>=S$1,$J10<=S$2),1,IF(AND($I10<=S$2,$J10>=S$2),1,IF($I10<$L$1,IF($J10>=S$1,1,0),0))) -> 0 | ... W10: =IF(AND($I10>=W$1,$J10<=W$2),1,IF(AND($I10<=W$2,$J10>=W$2),1,IF($I10<$L$1,IF($J10>=W$1,1,0),0))) -> 0
A11: AGENCE 7 | B11: COLLABORATEUR 16 | C11: POSTE 1 | D11: C111 | E11: ETAM | F11: H | G11: 43467 | H11: 10.5 | I11: 43467 | J11: 43769 | K11: =IF(J11>TODAY(),"En cours","Fin") -> En cours | L11: =IF(AND($I11>=L$1,$J11<=L$2),1,IF(AND($I11<=L$2,$J11>=L$2),1,IF($I11<$L$1,IF($J11>=L$1,1,0),0))) -> 1 | M11: =IF(AND($I11>=M$1,$J11<=M$2),1,IF(AND($I11<=M$2,$J11>=M$2),1,IF($I11<$L$1,IF($J11>=M$1,1,0),0))) -> 1 | N11: =IF(AND($I11>=N$1,$J11<=N$2),1,IF(AND($I11<=N$2,$J11>=N$2),1,IF($I11<$L$1,IF($J11>=N$1,1,0),0))) -> 1 | O11: =IF(AND($I11>=O$1,$J11<=O$2),1,IF(AND($I11<=O$2,$J11>=O$2),1,IF($I11<$L$1,IF($J11>=O$1,1,0),0))) -> 1 | P11: =IF(AND($I11>=P$1,$J11<=P$2),1,IF(AND($I11<=P$2,$J11>=P$2),1,IF($I11<$L$1,IF($J11>=P$1,1,0),0))) -> 1 | Q11: =IF(AND($I11>=Q$1,$J11<=Q$2),1,IF(AND($I11<=Q$2,$J11>=Q$2),1,IF($I11<$L$1,IF($J11>=Q$1,1,0),0))) -> 1 | R11: =IF(AND($I11>=R$1,$J11<=R$2),1,IF(AND($I11<=R$2,$J11>=R$2),1,IF($I11<$L$1,IF($J11>=R$1,1,0),0))) -> 1 | S11: =IF(AND($I11>=S$1,$J11<=S$2),1,IF(AND($I11<=S$2,$J11>=S$2),1,IF($I11<$L$1,IF($J11>=S$1,1,0),0))) -> 1 | ... W11: =IF(AND($I11>=W$1,$J11<=W$2),1,IF(AND($I11<=W$2,$J11>=W$2),1,IF($I11<$L$1,IF($J11>=W$1,1,0),0))) -> 0
A12: AGENCE 3 | B12: COLLABORATEUR 4 | C12: POSTE 1 | D12: A122 | E12: Cadres | F12: H | G12: 43738 | H12: 10.5 | I12: 43738 | J12: 43823 | K12: =IF(J12>TODAY(),"En cours","Fin") -> En cours | L12: =IF(AND($I12>=L$1,$J12<=L$2),1,IF(AND($I12<=L$2,$J12>=L$2),1,IF($I12<$L$1,IF($J12>=L$1,1,0),0))) -> 0 | M12: =IF(AND($I12>=M$1,$J12<=M$2),1,IF(AND($I12<=M$2,$J12>=M$2),1,IF($I12<$L$1,IF($J12>=M$1,1,0),0))) -> 0 | N12: =IF(AND($I12>=N$1,$J12<=N$2),1,IF(AND($I12<=N$2,$J12>=N$2),1,IF($I12<$L$1,IF($J12>=N$1,1,0),0))) -> 0 | O12: =IF(AND($I12>=O$1,$J12<=O$2),1,IF(AND($I12<=O$2,$J12>=O$2),1,IF($I12<$L$1,IF($J12>=O$1,1,0),0))) -> 0 | P12: =IF(AND($I12>=P$1,$J12<=P$2),1,IF(AND($I12<=P$2,$J12>=P$2),1,IF($I12<$L$1,IF($J12>=P$1,1,0),0))) -> 0 | Q12: =IF(AND($I12>=Q$1,$J12<=Q$2),1,IF(AND($I12<=Q$2,$J12>=Q$2),1,IF($I12<$L$1,IF($J12>=Q$1,1,0),0))) -> 0 | R12: =IF(AND($I12>=R$1,$J12<=R$2),1,IF(AND($I12<=R$2,$J12>=R$2),1,IF($I12<$L$1,IF($J12>=R$1,1,0),0))) -> 0 | S12: =IF(AND($I12>=S$1,$J12<=S$2),1,IF(AND($I12<=S$2,$J12>=S$2),1,IF($I12<$L$1,IF($J12>=S$1,1,0),0))) -> 0 | ... W12: =IF(AND($I12>=W$1,$J12<=W$2),1,IF(AND($I12<=W$2,$J12>=W$2),1,IF($I12<$L$1,IF($J12>=W$1,1,0),0))) -> 0
A13: AGENCE 5 | B13: COLLABORATEUR 8 | C13: POSTE 2 | D13: C112 | E13: Cadres | F13: H | G13: 42968 | H13: 10.5 | I13: 42968 | J13: 43497 | K13: =IF(J13>TODAY(),"En cours","Fin") -> Fin | L13: =IF(AND($I13>=L$1,$J13<=L$2),1,IF(AND($I13<=L$2,$J13>=L$2),1,IF($I13<$L$1,IF($J13>=L$1,1,0),0))) -> 1 | M13: =IF(AND($I13>=M$1,$J13<=M$2),1,IF(AND($I13<=M$2,$J13>=M$2),1,IF($I13<$L$1,IF($J13>=M$1,1,0),0))) -> 1 | N13: =IF(AND($I13>=N$1,$J13<=N$2),1,IF(AND($I13<=N$2,$J13>=N$2),1,IF($I13<$L$1,IF($J13>=N$1,1,0),0))) -> 0 | O13: =IF(AND($I13>=O$1,$J13<=O$2),1,IF(AND($I13<=O$2,$J13>=O$2),1,IF($I13<$L$1,IF($J13>=O$1,1,0),0))) -> 0 | P13: =IF(AND($I13>=P$1,$J13<=P$2),1,IF(AND($I13<=P$2,$J13>=P$2),1,IF($I13<$L$1,IF($J13>=P$1,1,0),0))) -> 0 | Q13: =IF(AND($I13>=Q$1,$J13<=Q$2),1,IF(AND($I13<=Q$2,$J13>=Q$2),1,IF($I13<$L$1,IF($J13>=Q$1,1,0),0))) -> 0 | R13: =IF(AND($I13>=R$1,$J13<=R$2),1,IF(AND($I13<=R$2,$J13>=R$2),1,IF($I13<$L$1,IF($J13>=R$1,1,0),0))) -> 0 | S13: =IF(AND($I13>=S$1,$J13<=S$2),1,IF(AND($I13<=S$2,$J13>=S$2),1,IF($I13<$L$1,IF($J13>=S$1,1,0),0))) -> 0 | ... W13: =IF(AND($I13>=W$1,$J13<=W$2),1,IF(AND($I13<=W$2,$J13>=W$2),1,IF($I13<$L$1,IF($J13>=W$1,1,0),0))) -> 0
A14: AGENCE 5 | B14: COLLABORATEUR 9 | C14: POSTE 2 | D14: C112 | E14: Cadres | F14: H | G14: 42968 | H14: 10.5 | I14: 43535 | J14: 43707 | K14: =IF(J14>TODAY(),"En cours","Fin") -> Fin | L14: =IF(AND($I14>=L$1,$J14<=L$2),1,IF(AND($I14<=L$2,$J14>=L$2),1,IF($I14<$L$1,IF($J14>=L$1,1,0),0))) -> 0 | M14: =IF(AND($I14>=M$1,$J14<=M$2),1,IF(AND($I14<=M$2,$J14>=M$2),1,IF($I14<$L$1,IF($J14>=M$1,1,0),0))) -> 0 | N14: =IF(AND($I14>=N$1,$J14<=N$2),1,IF(AND($I14<=N$2,$J14>=N$2),1,IF($I14<$L$1,IF($J14>=N$1,1,0),0))) -> 1 | O14: =IF(AND($I14>=O$1,$J14<=O$2),1,IF(AND($I14<=O$2,$J14>=O$2),1,IF($I14<$L$1,IF($J14>=O$1,1,0),0))) -> 1 | P14: =IF(AND($I14>=P$1,$J14<=P$2),1,IF(AND($I14<=P$2,$J14>=P$2),1,IF($I14<$L$1,IF($J14>=P$1,1,0),0))) -> 1 | Q14: =IF(AND($I14>=Q$1,$J14<=Q$2),1,IF(AND($I14<=Q$2,$J14>=Q$2),1,IF($I14<$L$1,IF($J14>=Q$1,1,0),0))) -> 1 | R14: =IF(AND($I14>=R$1,$J14<=R$2),1,IF(AND($I14<=R$2,$J14>=R$2),1,IF($I14<$L$1,IF($J14>=R$1,1,0),0))) -> 1 | S14: =IF(AND($I14>=S$1,$J14<=S$2),1,IF(AND($I14<=S$2,$J14>=S$2),1,IF($I14<$L$1,IF($J14>=S$1,1,0),0))) -> 0 | ... W14: =IF(AND($I14>=W$1,$J14<=W$2),1,IF(AND($I14<=W$2,$J14>=W$2),1,IF($I14<$L$1,IF($J14>=W$1,1,0),0))) -> 0
A15: AGENCE 2 | B15: COLLABORATEUR 2 | C15: POSTE 2 | D15: A121 | E15: Cadres | F15: H | G15: 43031 | H15: 10.5 | I15: 43031 | J15: 43553 | K15: =IF(J15>TODAY(),"En cours","Fin") -> Fin | L15: =IF(AND($I15>=L$1,$J15<=L$2),1,IF(AND($I15<=L$2,$J15>=L$2),1,IF($I15<$L$1,IF($J15>=L$1,1,0),0))) -> 1 | M15: =IF(AND($I15>=M$1,$J15<=M$2),1,IF(AND($I15<=M$2,$J15>=M$2),1,IF($I15<$L$1,IF($J15>=M$1,1,0),0))) -> 1 | N15: =IF(AND($I15>=N$1,$J15<=N$2),1,IF(AND($I15<=N$2,$J15>=N$2),1,IF($I15<$L$1,IF($J15>=N$1,1,0),0))) -> 1 | O15: =IF(AND($I15>=O$1,$J15<=O$2),1,IF(AND($I15<=O$2,$J15>=O$2),1,IF($I15<$L$1,IF($J15>=O$1,1,0),0))) -> 0 | P15: =IF(AND($I15>=P$1,$J15<=P$2),1,IF(AND($I15<=P$2,$J15>=P$2),1,IF($I15<$L$1,IF($J15>=P$1,1,0),0))) -> 0 | Q15: =IF(AND($I15>=Q$1,$J15<=Q$2),1,IF(AND($I15<=Q$2,$J15>=Q$2),1,IF($I15<$L$1,IF($J15>=Q$1,1,0),0))) -> 0 | R15: =IF(AND($I15>=R$1,$J15<=R$2),1,IF(AND($I15<=R$2,$J15>=R$2),1,IF($I15<$L$1,IF($J15>=R$1,1,0),0))) -> 0 | S15: =IF(AND($I15>=S$1,$J15<=S$2),1,IF(AND($I15<=S$2,$J15>=S$2),1,IF($I15<$L$1,IF($J15>=S$1,1,0),0))) -> 0 | ... W15: =IF(AND($I15>=W$1,$J15<=W$2),1,IF(AND($I15<=W$2,$J15>=W$2),1,IF($I15<$L$1,IF($J15>=W$1,1,0),0))) -> 0
... A20: AGENCE 7 | B20: COLLABORATEUR 17 | C20: POSTE 5 | D20: A122 | E20: Cadres | F20: F | G20: 43766 | H20: 10.5 | I20: 43766 | J20: 44186 | K20: =IF(J20>TODAY(),"En cours","Fin") -> En cours | L20: =IF(AND($I20>=L$1,$J20<=L$2),1,IF(AND($I20<=L$2,$J20>=L$2),1,IF($I20<$L$1,IF($J20>=L$1,1,0),0))) -> 0 | M20: =IF(AND($I20>=M$1,$J20<=M$2),1,IF(AND($I20<=M$2,$J20>=M$2),1,IF($I20<$L$1,IF($J20>=M$1,1,0),0))) -> 0 | N20: =IF(AND($I20>=N$1,$J20<=N$2),1,IF(AND($I20<=N$2,$J20>=N$2),1,IF($I20<$L$1,IF($J20>=N$1,1,0),0))) -> 0 | O20: =IF(AND($I20>=O$1,$J20<=O$2),1,IF(AND($I20<=O$2,$J20>=O$2),1,IF($I20<$L$1,IF($J20>=O$1,1,0),0))) -> 0 | P20: =IF(AND($I20>=P$1,$J20<=P$2),1,IF(AND($I20<=P$2,$J20>=P$2),1,IF($I20<$L$1,IF($J20>=P$1,1,0),0))) -> 0 | Q20: =IF(AND($I20>=Q$1,$J20<=Q$2),1,IF(AND($I20<=Q$2,$J20>=Q$2),1,IF($I20<$L$1,IF($J20>=Q$1,1,0),0))) -> 0 | R20: =IF(AND($I20>=R$1,$J20<=R$2),1,IF(AND($I20<=R$2,$J20>=R$2),1,IF($I20<$L$1,IF($J20>=R$1,1,0),0))) -> 0 | S20: =IF(AND($I20>=S$1,$J20<=S$2),1,IF(AND($I20<=S$2,$J20>=S$2),1,IF($I20<$L$1,IF($J20>=S$1,1,0),0))) -> 0 | ... W20: =IF(AND($I20>=W$1,$J20<=W$2),1,IF(AND($I20<=W$2,$J20>=W$2),1,IF($I20<$L$1,IF($J20>=W$1,1,0),0))) -> 1

Sheet Facturation
A1: Mois | B1: Agence | C1: Collaborateurs | D1: Poste | E1: Service | F1: CSP | G1: Sexe | H1: Date d'entrée | I1: Tarif journalier | J1: Début de contrat | K1: Fin de contrat | L1: Potentiel jours mois | M1: Jours travaillés | N1: Primes | O1: Coût de prestation | P1: ETP | Q1: IFM | R1: Coef | S1: Heures sup
L2: =IF(A2="","",VLOOKUP($A2,Paramètres!$A$1:$B$13,2,0)) | O2: =IF(A2="","",I2*M2) | P2: =IF(A2="PHONE REGIE",1.37,IF(M2=0,"",M2/L2)) | Q2: =IF(A2="","",IF(K2=0,1,K2>=EDATE(A2,1)-1)*1)
L3: =IF(A3="","",VLOOKUP($A3,Paramètres!$A$1:$B$13,2,0)) | O3: =IF(A3="","",I3*M3) | P3: =IF(A3="PHONE REGIE",1.37,IF(M3=0,"",M3/L3)) | Q3: =IF(A3="","",IF(K3=0,1,K3>=EDATE(A3,1)-1)*1)
L4: =IF(A4="","",VLOOKUP($A4,Paramètres!$A$1:$B$13,2,0)) | O4: =IF(A4="","",I4*M4) | P4: =IF(A4="PHONE REGIE",1.37,IF(M4=0,"",M4/L4)) | Q4: =IF(A4="","",IF(K4=0,1,K4>=EDATE(A4,1)-1)*1)
L5: =IF(A5="","",VLOOKUP($A5,Paramètres!$A$1:$B$13,2,0)) | O5: =IF(A5="","",I5*M5) | P5: =IF(A5="PHONE REGIE",1.37,IF(M5=0,"",M5/L5)) | Q5: =IF(A5="","",IF(K5=0,1,K5>=EDATE(A5,1)-1)*1)
L6: =IF(A6="","",VLOOKUP($A6,Paramètres!$A$1:$B$13,2,0)) | O6: =IF(A6="","",I6*M6) | P6: =IF(A6="PHONE REGIE",1.37,IF(M6=0,"",M6/L6)) | Q6: =IF(A6="","",IF(K6=0,1,K6>=EDATE(A6,1)-1)*1)
L7: =IF(A7="","",VLOOKUP($A7,Paramètres!$A$1:$B$13,2,0)) | O7: =IF(A7="","",I7*M7) | P7: =IF(A7="PHONE REGIE",1.37,IF(M7=0,"",M7/L7)) | Q7: =IF(A7="","",IF(K7=0,1,K7>=EDATE(A7,1)-1)*1)
L8: =IF(A8="","",VLOOKUP($A8,Paramètres!$A$1:$B$13,2,0)) | O8: =IF(A8="","",I8*M8) | P8: =IF(A8="PHONE REGIE",1.37,IF(M8=0,"",M8/L8)) | Q8: =IF(A8="","",IF(K8=0,1,K8>=EDATE(A8,1)-1)*1)
L9: =IF(A9="","",VLOOKUP($A9,Paramètres!$A$1:$B$13,2,0)) | O9: =IF(A9="","",I9*M9) | P9: =IF(A9="PHONE REGIE",1.37,IF(M9=0,"",M9/L9)) | Q9: =IF(A9="","",IF(K9=0,1,K9>=EDATE(A9,1)-1)*1)
L10: =IF(A10="","",VLOOKUP($A10,Paramètres!$A$1:$B$13,2,0)) | O10: =IF(A10="","",I10*M10) | P10: =IF(A10="PHONE REGIE",1.37,IF(M10=0,"",M10/L10)) | Q10: =IF(A10="","",IF(K10=0,1,K10>=EDATE(A10,1)-1)*1)
L11: =IF(A11="","",VLOOKUP($A11,Paramètres!$A$1:$B$13,2,0)) | O11: =IF(A11="","",I11*M11) | P11: =IF(A11="PHONE REGIE",1.37,IF(M11=0,"",M11/L11)) | Q11: =IF(A11="","",IF(K11=0,1,K11>=EDATE(A11,1)-1)*1)
L12: =IF(A12="","",VLOOKUP($A12,Paramètres!$A$1:$B$13,2,0)) | O12: =IF(A12="","",I12*M12) | P12: =IF(A12="PHONE REGIE",1.37,IF(M12=0,"",M12/L12)) | Q12: =IF(A12="","",IF(K12=0,1,K12>=EDATE(A12,1)-1)*1)
L13: =IF(A13="","",VLOOKUP($A13,Paramètres!$A$1:$B$13,2,0)) | O13: =IF(A13="","",I13*M13) | P13: =IF(A13="PHONE REGIE",1.37,IF(M13=0,"",M13/L13)) | Q13: =IF(A13="","",IF(K13=0,1,K13>=EDATE(A13,1)-1)*1)
... L1058: =IF(A1058="","",VLOOKUP($A1058,Paramètres!$A$1:$B$13,2,0)) | O1058: =IF(A1058="","",I1058*M1058) | P1058: =IF(A1058="PHONE REGIE",1.37,IF(M1058=0,"",M1058/L1058)) | Q1058: =IF(A1058="","",IF(K1058=0,1,K1058>=EDATE(A1058,1)-1)*1)
L1059: =IF(A1059="","",VLOOKUP($A1059,Paramètres!$A$1:$B$13,2,0)) | P1059: =IF(A1059="PHONE REGIE",1.37,IF(M1059=0,"",M1059/L1059)) | Q1059: =IF(A1059="","",IF(K1059=0,1,K1059>=EDATE(A1059,1)-1)*1)
L1060: =IF(A1060="","",VLOOKUP($A1060,Paramètres!$A$1:$B$13,2,0)) | P1060: =IF(A1060="PHONE REGIE",1.37,IF(M1060=0,"",M1060/L1060)) | Q1060: =IF(A1060="","",IF(K1060=0,1,K1060>=EDATE(A1060,1)-1)*1)
L1061: =IF(A1061="","",VLOOKUP($A1061,Paramètres!$A$1:$B$13,2,0)) | P1061: =IF(A1061="PHONE REGIE",1.37,IF(M1061=0,"",M1061/L1061)) | Q1061: =IF(A1061="","",IF(K1061=0,1,K1061>=EDATE(A1061,1)-1)*1)
L1062: =IF(A1062="","",VLOOKUP($A1062,Paramètres!$A$1:$B$13,2,0)) | P1062: =IF(A1062="PHONE REGIE",1.37,IF(M1062=0,"",M1062/L1062)) | Q1062: =IF(A1062="","",IF(K1062=0,1,K1062>=EDATE(A1062,1)-1)*1)
L1063: =IF(A1063="","",VLOOKUP($A1063,Paramètres!$A$1:$B$13,2,0)) | P1063: =IF(A1063="PHONE REGIE",1.37,IF(M1063=0,"",M1063/L1063)) | Q1063: =IF(A1063="","",IF(K1063=0,1,K1063>=EDATE(A1063,1)-1)*1)
L1064: =IF(A1064="","",VLOOKUP($A1064,Paramètres!$A$1:$B$13,2,0)) | P1064: =IF(A1064="PHONE REGIE",1.37,IF(M1064=0,"",M1064/L1064)) | Q1064: =IF(A1064="","",IF(K1064=0,1,K1064>=EDATE(A1064,1)-1)*1)
L1065: =IF(A1065="","",VLOOKUP($A1065,Paramètres!$A$1:$B$13,2,0)) | P1065: =IF(A1065="PHONE REGIE",1.37,IF(M1065=0,"",M1065/L1065)) | Q1065: =IF(A1065="","",IF(K1065=0,1,K1065>=EDATE(A1065,1)-1)*1)
L1066: =IF(A1066="","",VLOOKUP($A1066,Paramètres!$A$1:$B$13,2,0)) | P1066: =IF(A1066="PHONE REGIE",1.37,IF(M1066=0,"",M1066/L1066)) | Q1066: =IF(A1066="","",IF(K1066=0,1,K1066>=EDATE(A1066,1)-1)*1)
L1067: =IF(A1067="","",VLOOKUP($A1067,Paramètres!$A$1:$B$13,2,0)) | P1067: =IF(A1067="PHONE REGIE",1.37,IF(M1067=0,"",M1067/L1067)) | Q1067: =IF(A1067="","",IF(K1067=0,1,K1067>=EDATE(A1067,1)-1)*1)
L1068: =IF(A1068="","",VLOOKUP($A1068,Paramètres!$A$1:$B$13,2,0)) | P1068: =IF(A1068="PHONE REGIE",1.37,IF(M1068=0,"",M1068/L1068)) | Q1068: =IF(A1068="","",IF(K1068=0,1,K1068>=EDATE(A1068,1)-1)*1)
L1069: =IF(A1069="","",VLOOKUP($A1069,Paramètres!$A$1:$B$13,2,0)) | P1069: =IF(A1069="PHONE REGIE",1.37,IF(M1069=0,"",M1069/L1069)) | Q1069: =IF(A1069="","",IF(K1069=0,1,K1069>=EDATE(A1069,1)-1)*1)
L1070: =IF(A1070="","",VLOOKUP($A1070,Paramètres!$A$1:$B$13,2,0)) | P1070: =IF(A1070="PHONE REGIE",1.37,IF(M1070=0,"",M1070/L1070)) | Q1070: =IF(A1070="","",IF(K1070=0,1,K1070>=EDATE(A1070,1)-1)*1)
... L1124: =IF(A1124="","",VLOOKUP($A1124,Paramètres!$A$1:$B$13,2,0)) | P1124: =IF(A1124="PHONE REGIE",1.37,IF(M1124=0,"",M1124/L1124)) | Q1124: =IF(A1124="","",IF(K1124=0,1,K1124>=EDATE(A1124,1)-1)*1)
L1125: =IF(A1125="","",VLOOKUP($A1125,Paramètres!$A$1:$B$13,2,0)) | Q1125: =IF(A1125="","",IF(K1125=0,1,K1125>=EDATE(A1125,1)-1)*1)
L1126: =IF(A1126="","",VLOOKUP($A1126,Paramètres!$A$1:$B$13,2,0)) | Q1126: =IF(A1126="","",IF(K1126=0,1,K1126>=EDATE(A1126,1)-1)*1)

Sheet Feuil1
A1: Mois | B1: Agence | C1: Collaborateurs | D1: Poste | E1: Service | F1: CSP | G1: Sexe | H1: Date d'entrée | I1: Tarif journalier | J1: Début de contrat | K1: Fin de contrat | L1: Potentiel jours mois | M1: Jours travaillés | N1: Primes | O1: Coût de prestation | P1: ETP | Q1: IFM | R1: Coef | S1: Heures sup
A2: 43466 | B2: AGENCE 3 | C2: COLLABORATEUR 3 | D2: POSTE 1 | E2: C112 | F2: Cadres | G2: H | H2: 43374 | I2: 10.5 | J2: 43374 | K2: 43490 | L2: =IF(A2="","",VLOOKUP($A2,Paramètres!$A$1:$B$13,2,0)) -> 22 | O2: =IF(A2="","",I2*M2) -> 0 | P2: =IF(A2="PHONE REGIE",1.37,IF(M2=0,"",M2/L2)) | Q2: =IF(A2="","",IF(K2=0,1,K2>=EDATE(A2,1)-1)*1) -> 0
A3: 43466 | B3: AGENCE 7 | C3: COLLABORATEUR 14 | D3: POSTE 1 | E3: C111 | F3: ETAM | G3: H | H3: 43353 | I3: 10.5 | J3: 43353 | K3: 43476 | L3: =IF(A3="","",VLOOKUP($A3,Paramètres!$A$1:$B$13,2,0)) -> 22 | O3: =IF(A3="","",I3*M3) -> 0 | P3: =IF(A3="PHONE REGIE",1.37,IF(M3=0,"",M3/L3)) | Q3: =IF(A3="","",IF(K3=0,1,K3>=EDATE(A3,1)-1)*1) -> 0
A4: 43466 | B4: AGENCE 5 | C4: COLLABORATEUR 7 | D4: POSTE 2 | E4: C112 | F4: Cadres | G4: H | H4: 42989 | I4: 10.5 | J4: 42989 | K4: 43644 | L4: =IF(A4="","",VLOOKUP($A4,Paramètres!$A$1:$B$13,2,0)) -> 22 | O4: =IF(A4="","",I4*M4) -> 0 | P4: =IF(A4="PHONE REGIE",1.37,IF(M4=0,"",M4/L4)) | Q4: =IF(A4="","",IF(K4=0,1,K4>=EDATE(A4,1)-1)*1) -> 1
A5: 43466 | B5: AGENCE 7 | C5: COLLABORATEUR 15 | D5: POSTE 1 | E5: C111 | F5: ETAM | G5: H | H5: 43129 | I5: 10.5 | J5: 43129 | K5: 43565 | L5: =IF(A5="","",VLOOKUP($A5,Paramètres!$A$1:$B$13,2,0)) -> 22 | O5: =IF(A5="","",I5*M5) -> 0 | P5: =IF(A5="PHONE REGIE",1.37,IF(M5=0,"",M5/L5)) | Q5: =IF(A5="","",IF(K5=0,1,K5>=EDATE(A5,1)-1)*1) -> 1
A6: 43466 | B6: AGENCE 7 | C6: COLLABORATEUR 16 | D6: POSTE 1 | E6: C111 | F6: ETAM | G6: H | H6: 43467 | I6: 10.5 | J6: 43467 | K6: 43769 | L6: =IF(A6="","",VLOOKUP($A6,Paramètres!$A$1:$B$13,2,0)) -> 22 | O6: =IF(A6="","",I6*M6) -> 0 | P6: =IF(A6="PHONE REGIE",1.37,IF(M6=0,"",M6/L6)) | Q6: =IF(A6="","",IF(K6=0,1,K6>=EDATE(A6,1)-1)*1) -> 1
A7: 43466 | B7: AGENCE 5 | C7: COLLABORATEUR 8 | D7: POSTE 2 | E7: C112 | F7: Cadres | G7: H | H7: 42968 | I7: 10.5 | J7: 42968 | K7: 43497 | L7: =IF(A7="","",VLOOKUP($A7,Paramètres!$A$1:$B$13,2,0)) -> 22 | O7: =IF(A7="","",I7*M7) -> 0 | P7: =IF(A7="PHONE REGIE",1.37,IF(M7=0,"",M7/L7)) | Q7: =IF(A7="","",IF(K7=0,1,K7>=EDATE(A7,1)-1)*1) -> 1
A8: 43466 | B8: AGENCE 2 | C8: COLLABORATEUR 2 | D8: POSTE 2 | E8: A121 | F8: Cadres | G8: H | H8: 43031 | I8: 10.5 | J8: 43031 | K8: 43553 | L8: =IF(A8="","",VLOOKUP($A8,Paramètres!$A$1:$B$13,2,0)) -> 22 | O8: =IF(A8="","",I8*M8) -> 0 | P8: =IF(A8="PHONE REGIE",1.37,IF(M8=0,"",M8/L8)) | Q8: =IF(A8="","",IF(K8=0,1,K8>=EDATE(A8,1)-1)*1) -> 1
A9: 43466 | B9: AGENCE 5 | C9: COLLABORATEUR 10 | D9: POSTE 2 | E9: C116 | F9: Cadres | G9: H | H9: 43171 | I9: 10.5 | J9: 43248 | K9: 43503 | L9: =IF(A9="","",VLOOKUP($A9,Paramètres!$A$1:$B$13,2,0)) -> 22 | O9: =IF(A9="","",I9*M9) -> 0 | P9: =IF(A9="PHONE REGIE",1.37,IF(M9=0,"",M9/L9)) | Q9: =IF(A9="","",IF(K9=0,1,K9>=EDATE(A9,1)-1)*1) -> 1
A10: 43466 | B10: AGENCE 6 | C10: COLLABORATEUR 12 | D10: POSTE 3 | E10: A121 | F10: Cadres | G10: H | H10: 43185 | I10: 10.5 | J10: 43185 | K10: 43799 | L10: =IF(A10="","",VLOOKUP($A10,Paramètres!$A$1:$B$13,2,0)) -> 22 | O10: =IF(A10="","",I10*M10) -> 0 | P10: =IF(A10="PHONE REGIE",1.37,IF(M10=0,"",M10/L10)) | Q10: =IF(A10="","",IF(K10=0,1,K10>=EDATE(A10,1)-1)*1) -> 1
A11: 43497 | B11: AGENCE 5 | C11: COLLABORATEUR 7 | D11: POSTE 2 | E11: C112 | F11: Cadres | G11: H | H11: 42989 | I11: 10.5 | J11: 42989 | K11: 43644 | L11: =IF(A11="","",VLOOKUP($A11,Paramètres!$A$1:$B$13,2,0)) -> 20 | O11: =IF(A11="","",I11*M11) -> 0 | P11: =IF(A11="PHONE REGIE",1.37,IF(M11=0,"",M11/L11)) | Q11: =IF(A11="","",IF(K11=0,1,K11>=EDATE(A11,1)-1)*1) -> 1
A12: 43497 | B12: AGENCE 4 | C12: COLLABORATEUR 6 | D12: POSTE 4 | E12: C111 | F12: ETAM | G12: H | H12: 43500 | I12: 10.5 | J12: 43500 | K12: 43630 | L12: =IF(A12="","",VLOOKUP($A12,Paramètres!$A$1:$B$13,2,0)) -> 20 | O12: =IF(A12="","",I12*M12) -> 0 | P12: =IF(A12="PHONE REGIE",1.37,IF(M12=0,"",M12/L12)) | Q12: =IF(A12="","",IF(K12=0,1,K12>=EDATE(A12,1)-1)*1) -> 1
A13: 43497 | B13: AGENCE 7 | C13: COLLABORATEUR 15 | D13: POSTE 1 | E13: C111 | F13: ETAM | G13: H | H13: 43129 | I13: 10.5 | J13: 43129 | K13: 43565 | L13: =IF(A13="","",VLOOKUP($A13,Paramètres!$A$1:$B$13,2,0)) -> 20 | O13: =IF(A13="","",I13*M13) -> 0 | P13: =IF(A13="PHONE REGIE",1.37,IF(M13=0,"",M13/L13)) | Q13: =IF(A13="","",IF(K13=0,1,K13>=EDATE(A13,1)-1)*1) -> 1
... A76: 43770 | B76: AGENCE 6 | C76: COLLABORATEUR 12 | D76: POSTE 3 | E76: A121 | F76: Cadres | G76: H | H76: 43185 | I76: 10.5 | J76: 43185 | K76: 43799 | L76: =IF(A76="","",VLOOKUP($A76,Paramètres!$A$1:$B$13,2,0)) -> 19 | O76: =IF(A76="","",I76*M76) -> 0 | P76: =IF(A76="PHONE REGIE",1.37,IF(M76=0,"",M76/L76)) | Q76: =IF(A76="","",IF(K76=0,1,K76>=EDATE(A76,1)-1)*1) -> 1
L77: =IF(A77="","",VLOOKUP($A77,Paramètres!$A$1:$B$13,2,0)) | O77: =IF(A77="","",I77*M77) | P77: =IF(A77="PHONE REGIE",1.37,IF(M77=0,"",M77/L77)) | Q77: =IF(A77="","",IF(K77=0,1,K77>=EDATE(A77,1)-1)*1)
L78: =IF(A78="","",VLOOKUP($A78,Paramètres!$A$1:$B$13,2,0)) | O78: =IF(A78="","",I78*M78) | P78: =IF(A78="PHONE REGIE",1.37,IF(M78=0,"",M78/L78)) | Q78: =IF(A78="","",IF(K78=0,1,K78>=EDATE(A78,1)-1)*1)
L79: =IF(A79="","",VLOOKUP($A79,Paramètres!$A$1:$B$13,2,0)) | O79: =IF(A79="","",I79*M79) | P79: =IF(A79="PHONE REGIE",1.37,IF(M79=0,"",M79/L79)) | Q79: =IF(A79="","",IF(K79=0,1,K79>=EDATE(A79,1)-1)*1)
L80: =IF(A80="","",VLOOKUP($A80,Paramètres!$A$1:$B$13,2,0)) | O80: =IF(A80="","",I80*M80) | P80: =IF(A80="PHONE REGIE",1.37,IF(M80=0,"",M80/L80)) | Q80: =IF(A80="","",IF(K80=0,1,K80>=EDATE(A80,1)-1)*1)
L81: =IF(A81="","",VLOOKUP($A81,Paramètres!$A$1:$B$13,2,0)) | O81: =IF(A81="","",I81*M81) | P81: =IF(A81="PHONE REGIE",1.37,IF(M81=0,"",M81/L81)) | Q81: =IF(A81="","",IF(K81=0,1,K81>=EDATE(A81,1)-1)*1)
L82: =IF(A82="","",VLOOKUP($A82,Paramètres!$A$1:$B$13,2,0)) | O82: =IF(A82="","",I82*M82) | P82: =IF(A82="PHONE REGIE",1.37,IF(M82=0,"",M82/L82)) | Q82: =IF(A82="","",IF(K82=0,1,K82>=EDATE(A82,1)-1)*1)
L83: =IF(A83="","",VLOOKUP($A83,Paramètres!$A$1:$B$13,2,0)) | O83: =IF(A83="","",I83*M83) | P83: =IF(A83="PHONE REGIE",1.37,IF(M83=0,"",M83/L83)) | Q83: =IF(A83="","",IF(K83=0,1,K83>=EDATE(A83,1)-1)*1)
L84: =IF(A84="","",VLOOKUP($A84,Paramètres!$A$1:$B$13,2,0)) | O84: =IF(A84="","",I84*M84) | P84: =IF(A84="PHONE REGIE",1.37,IF(M84=0,"",M84/L84)) | Q84: =IF(A84="","",IF(K84=0,1,K84>=EDATE(A84,1)-1)*1)
L85: =IF(A85="","",VLOOKUP($A85,Paramètres!$A$1:$B$13,2,0)) | O85: =IF(A85="","",I85*M85) | P85: =IF(A85="PHONE REGIE",1.37,IF(M85=0,"",M85/L85)) | Q85: =IF(A85="","",IF(K85=0,1,K85>=EDATE(A85,1)-1)*1)
L86: =IF(A86="","",VLOOKUP($A86,Paramètres!$A$1:$B$13,2,0)) | O86: =IF(A86="","",I86*M86) | P86: =IF(A86="PHONE REGIE",1.37,IF(M86=0,"",M86/L86)) | Q86: =IF(A86="","",IF(K86=0,1,K86>=EDATE(A86,1)-1)*1)
L87: =IF(A87="","",VLOOKUP($A87,Paramètres!$A$1:$B$13,2,0)) | O87: =IF(A87="","",I87*M87) | P87: =IF(A87="PHONE REGIE",1.37,IF(M87=0,"",M87/L87)) | Q87: =IF(A87="","",IF(K87=0,1,K87>=EDATE(A87,1)-1)*1)
L88: =IF(A88="","",VLOOKUP($A88,Paramètres!$A$1:$B$13,2,0)) | O88: =IF(A88="","",I88*M88) | P88: =IF(A88="PHONE REGIE",1.37,IF(M88=0,"",M88/L88)) | Q88: =IF(A88="","",IF(K88=0,1,K88>=EDATE(A88,1)-1)*1)
... L1058: =IF(A1058="","",VLOOKUP($A1058,Paramètres!$A$1:$B$13,2,0)) | O1058: =IF(A1058="","",I1058*M1058) | P1058: =IF(A1058="PHONE REGIE",1.37,IF(M1058=0,"",M1058/L1058)) | Q1058: =IF(A1058="","",IF(K1058=0,1,K1058>=EDATE(A1058,1)-1)*1)
L1059: =IF(A1059="","",VLOOKUP($A1059,Paramètres!$A$1:$B$13,2,0)) | P1059: =IF(A1059="PHONE REGIE",1.37,IF(M1059=0,"",M1059/L1059)) | Q1059: =IF(A1059="","",IF(K1059=0,1,K1059>=EDATE(A1059,1)-1)*1)
L1060: =IF(A1060="","",VLOOKUP($A1060,Paramètres!$A$1:$B$13,2,0)) | P1060: =IF(A1060="PHONE REGIE",1.37,IF(M1060=0,"",M1060/L1060)) | Q1060: =IF(A1060="","",IF(K1060=0,1,K1060>=EDATE(A1060,1)-1)*1)
L1061: =IF(A1061="","",VLOOKUP($A1061,Paramètres!$A$1:$B$13,2,0)) | P1061: =IF(A1061="PHONE REGIE",1.37,IF(M1061=0,"",M1061/L1061)) | Q1061: =IF(A1061="","",IF(K1061=0,1,K1061>=EDATE(A1061,1)-1)*1)
L1062: =IF(A1062="","",VLOOKUP($A1062,Paramètres!$A$1:$B$13,2,0)) | P1062: =IF(A1062="PHONE REGIE",1.37,IF(M1062=0,"",M1062/L1062)) | Q1062: =IF(A1062="","",IF(K1062=0,1,K1062>=EDATE(A1062,1)-1)*1)
L1063: =IF(A1063="","",VLOOKUP($A1063,Paramètres!$A$1:$B$13,2,0)) | P1063: =IF(A1063="PHONE REGIE",1.37,IF(M1063=0,"",M1063/L1063)) | Q1063: =IF(A1063="","",IF(K1063=0,1,K1063>=EDATE(A1063,1)-1)*1)
L1064: =IF(A1064="","",VLOOKUP($A1064,Paramètres!$A$1:$B$13,2,0)) | P1064: =IF(A1064="PHONE REGIE",1.37,IF(M1064=0,"",M1064/L1064)) | Q1064: =IF(A1064="","",IF(K1064=0,1,K1064>=EDATE(A1064,1)-1)*1)
L1065: =IF(A1065="","",VLOOKUP($A1065,Paramètres!$A$1:$B$13,2,0)) | P1065: =IF(A1065="PHONE REGIE",1.37,IF(M1065=0,"",M1065/L1065)) | Q1065: =IF(A1065="","",IF(K1065=0,1,K1065>=EDATE(A1065,1)-1)*1)
L1066: =IF(A1066="","",VLOOKUP($A1066,Paramètres!$A$1:$B$13,2,0)) | P1066: =IF(A1066="PHONE REGIE",1.37,IF(M1066=0,"",M1066/L1066)) | Q1066: =IF(A1066="","",IF(K1066=0,1,K1066>=EDATE(A1066,1)-1)*1)
L1067: =IF(A1067="","",VLOOKUP($A1067,Paramètres!$A$1:$B$13,2,0)) | P1067: =IF(A1067="PHONE REGIE",1.37,IF(M1067=0,"",M1067/L1067)) | Q1067: =IF(A1067="","",IF(K1067=0,1,K1067>=EDATE(A1067,1)-1)*1)
L1068: =IF(A1068="","",VLOOKUP($A1068,Paramètres!$A$1:$B$13,2,0)) | P1068: =IF(A1068="PHONE REGIE",1.37,IF(M1068=0,"",M1068/L1068)) | Q1068: =IF(A1068="","",IF(K1068=0,1,K1068>=EDATE(A1068,1)-1)*1)
L1069: =IF(A1069="","",VLOOKUP($A1069,Paramètres!$A$1:$B$13,2,0)) | P1069: =IF(A1069="PHONE REGIE",1.37,IF(M1069=0,"",M1069/L1069)) | Q1069: =IF(A1069="","",IF(K1069=0,1,K1069>=EDATE(A1069,1)-1)*1)
L1070: =IF(A1070="","",VLOOKUP($A1070,Paramètres!$A$1:$B$13,2,0)) | P1070: =IF(A1070="PHONE REGIE",1.37,IF(M1070=0,"",M1070/L1070)) | Q1070: =IF(A1070="","",IF(K1070=0,1,K1070>=EDATE(A1070,1)-1)*1)
... L1124: =IF(A1124="","",VLOOKUP($A1124,Paramètres!$A$1:$B$13,2,0)) | P1124: =IF(A1124="PHONE REGIE",1.37,IF(M1124=0,"",M1124/L1124)) | Q1124: =IF(A1124="","",IF(K1124=0,1,K1124>=EDATE(A1124,1)-1)*1)
...
