Workbook
Name CSP: [1]Paramètres!$C$5:$C$7
Name DATE: 'SUIVI '!$A$3
Name IFM: [1]Paramètres!$A$5:$A$6
Name Liste_ancien_service: #REF!
Name LISTE_LIGNE_SERVICE: #REF!

Sheet SUIVI 
A3: =TODAY() -> 43424 | B3: =CONCATENATE("S",WEEKNUM(TODAY())) -> S47
A5: AGCE | B5: NOM | C5: Poste | D5: DATE ENTREE | E5: DUREE CUMULEE | F5: Costcent | G5: MOI-MOD | H5: CSP | I5: SEXE | J5: Tarif journalier | K5: DEBUT CONTRAT | L5: FIN CONTRAT | M5: ETAT
A6: Agence 1 | B6: Collaborateur 1 | C6: Poste | D6: 42184 | E6: =IF(K6="","",L6-D6)/30 -> 41.666667 | F6: C114 | G6: =IF(LEFT(F6,1)="A","MOI","MOD") -> MOD | H6: ETAM | I6: H | J6: 10 | K6: 43098 | L6: 43434
A7: Agence 2 | B7: Collaborateur 2 | C7: Poste | D7: 42499 | E7: =IF(K7="","",L7-D7)/30 -> 21.833333 | F7: C111 | G7: =IF(LEFT(F7,1)="A","MOI","MOD") -> MOD | H7: ETAM | I7: H | J7: 10 | K7: 42499 | L7: 43154 | M7: F
A8: Agence 3 | B8: Collaborateur 3 | C8: Poste | D8: 42513 | E8: =IF(K8="","",L8-D8)/30 -> 30.7 | F8: C114 | G8: =IF(LEFT(F8,1)="A","MOI","MOD") -> MOD | H8: ETAM | I8: H | J8: 10 | K8: 42513 | L8: 43434
A9: Agence 1 | B9: Collaborateur 4 | C9: Poste | D9: 42535 | E9: =IF(K9="","",L9-D9)/30 -> 28.966667 | F9: A111 | G9: =IF(LEFT(F9,1)="A","MOI","MOD") -> MOI | H9: ETAM | I9: H | J9: 10 | K9: 42535 | L9: 43404 | M9: F
A10: Agence 1 | B10: Collaborateur 5 | C10: Poste | D10: 42604 | E10: =IF(K10="","",L10-D10)/30 -> 26.666667 | F10: C111 | G10: =IF(LEFT(F10,1)="A","MOI","MOD") -> MOD | H10: ETAM | I10: H | J10: 10 | K10: 42604 | L10: 43404 | M10: F
A11: Agence 1 | B11: Collaborateur 6 | C11: Poste | D11: 42604 | E11: =IF(K11="","",L11-D11)/30 -> 26.666667 | F11: C111 | G11: =IF(LEFT(F11,1)="A","MOI","MOD") -> MOD | H11: ETAM | I11: H | J11: 10 | K11: 42604 | L11: 43404 | M11: F
A12: Agence 1 | B12: Collaborateur 7 | C12: Poste | D12: 42632 | E12: =IF(K12="","",L12-D12)/30 -> 25.733333 | F12: C111 | G12: =IF(LEFT(F12,1)="A","MOI","MOD") -> MOD | H12: ETAM | I12: H | J12: 10 | K12: 42632 | L12: 43404 | M12: F
A13: Agence 1 | B13: Collaborateur 8 | C13: Poste | D13: 42738 | E13: =IF(K13="","",L13-D13)/30 -> 13.3 | F13: C111 | G13: =IF(LEFT(F13,1)="A","MOI","MOD") -> MOD | H13: ETAM | I13: H | J13: 10 | K13: 42738 | L13: 43137 | M13: F
A14: Agence 1 | B14: Collaborateur 9 | C14: Poste | D14: 42738 | E14: =IF(K14="","",L14-D14)/30 -> 16.433333 | F14: C111 | G14: =IF(LEFT(F14,1)="A","MOI","MOD") -> MOD | H14: ETAM | I14: H | J14: 10 | K14: 42738 | L14: 43231 | M14: F
A15: Agence 2 | B15: Collaborateur 10 | C15: Poste | D15: 42800 | E15: =IF(K15="","",L15-D15)/30 -> 20.133333 | F15: C111 | G15: =IF(LEFT(F15,1)="A","MOI","MOD") -> MOD | H15: ETAM | I15: H | J15: 10 | K15: 42800 | L15: 43404 | M15: F
A16: Agence 2 | B16: Collaborateur 11 | C16: Poste | D16: 42828 | E16: =IF(K16="","",L16-D16)/30 -> 21.233333 | F16: C116 | G16: =IF(LEFT(F16,1)="A","MOI","MOD") -> MOD | H16: Cadres | I16: H | J16: 10 | K16: 42828 | L16: 43465
A17: Agence 2 | B17: Collaborateur 12 | C17: Poste | D17: 42836 | E17: =IF(K17="","",L17-D17)/30 -> 17.833333 | F17: A801 | G17: =IF(LEFT(F17,1)="A","MOI","MOD") -> MOI | H17: Cadres | I17: H | J17: 10 | K17: 42836 | L17: 43371 | M17: F
A18: Agence 3 | B18: Collaborateur 13 | C18: Poste | D18: 42864 | E18: =IF(K18="","",L18-D18)/30 -> 8.2666667 | F18: A141 | G18: =IF(LEFT(F18,1)="A","MOI","MOD") -> MOI | H18: Cadres | I18: H | J18: 10 | K18: 42864 | L18: 43112 | M18: F
A19: Agence 4 | B19: Collaborateur 14 | C19: Poste | D19: 42919 | E19: =IF(K19="","",L19-D19)/30 -> 17.866667 | F19: A121 | G19: =IF(LEFT(F19,1)="A","MOI","MOD") -> MOI | H19: Cadres | I19: H | J19: 10 | K19: 42919 | L19: 43455
A20: Agence 5 | B20: Collaborateur 15 | C20: Poste | D20: 42926 | E20: =IF(K20="","",L20-D20)/30 -> 14.6 | F20: A111 | G20: =IF(LEFT(F20,1)="A","MOI","MOD") -> MOI | H20: Cadres | I20: H | J20: 10 | K20: 42926 | L20: 43364 | M20: F
A21: Agence 6 | B21: Collaborateur 16 | C21: Poste | D21: 42933 | E21: =IF(K21="","",L21-D21)/30 -> 15.533333 | F21: C111 | G21: =IF(LEFT(F21,1)="A","MOI","MOD") -> MOD | H21: ETAM | I21: H | J21: 10 | K21: 42933 | L21: 43399 | M21: F
A22: Agence 7 | B22: Collaborateur 17 | C22: Poste | D22: 42968 | E22: =IF(K22="","",L22-D22)/30 -> 16.233333 | F22: C112 | G22: =IF(LEFT(F22,1)="A","MOI","MOD") -> MOD | H22: Cadres | I22: H | J22: 10 | K22: 42968 | L22: 43455
A23: Agence 8 | B23: Collaborateur 18 | C23: Poste | D23: 42989 | E23: =IF(K23="","",L23-D23)/30 -> 18.866667 | F23: C112 | G23: =IF(LEFT(F23,1)="A","MOI","MOD") -> MOD | H23: Cadres | I23: H | J23: 10 | K23: 42989 | L23: 43555

Sheet FACTURATION
A1: AGCE | B1: NOM | C1: Costcent | D1: MOI-MOD | E1: CSP | F1: SEXE | G1: Tarif journalier | H1: DEBUT CONTRAT | I1: FIN CONTRAT | J1: MOIS | K1: POTENTIEL JOURS MOIS | L1: JOURS TRAVAILLES | M1: PRIMES | N1: Coût | O1: ETP | P1: IFM | Q1: COEF | R1: HEURES SUP
A2: AGENCE 1 | B2: Collaborateur 1 | C2: C114 | D2: =VLOOKUP(FACTURATION!$B$2,'SUIVI '!$B$6:$I$23,6,0) -> MOD | E2: =VLOOKUP(FACTURATION!$B$2,'SUIVI '!$B$6:$I$23,7,0) -> ETAM | F2: =VLOOKUP(FACTURATION!$B$2,'SUIVI '!$B$6:$I$23,8,0) -> H | G2: 10 | H2: 42184 | I2: 43434 | J2: 43101 | K2: 22 | L2: 22 | M2: 100 | N2: =IF(L2="","",(L2*G2)+M2) -> 320 | O2: =IF(FACTURATION!$L$2=0,"",L2/K2) -> 1 | P2: =#N/A -> #N/A
A3: AGENCE 1 | B3: Collaborateur 1 | C3: C114 | D3: =VLOOKUP(FACTURATION!$B$3,'SUIVI '!$B$6:$I$23,6,0) -> MOD | E3: =VLOOKUP(FACTURATION!$B$3,'SUIVI '!$B$6:$I$23,7,0) -> ETAM | F3: =VLOOKUP(FACTURATION!$B$3,'SUIVI '!$B$6:$I$23,8,0) -> H | G3: 10 | H3: 42184 | I3: 43434 | J3: 43132 | K3: 20 | L3: 20 | N3: =IF(L3="","",(L3*G3)+M3) -> 200 | O3: =IF(FACTURATION!$L$3=0,"",L3/K3) -> 1 | P3: =#N/A -> #N/A
A4: AGENCE 1 | B4: Collaborateur 1 | C4: C114 | D4: =VLOOKUP(FACTURATION!$B$4,'SUIVI '!$B$6:$I$23,6,0) -> MOD | E4: =VLOOKUP(FACTURATION!$B$4,'SUIVI '!$B$6:$I$23,7,0) -> ETAM | F4: =VLOOKUP(FACTURATION!$B$4,'SUIVI '!$B$6:$I$23,8,0) -> H | G4: 10 | H4: 42184 | I4: 43434 | J4: 43160 | K4: 22 | L4: 22 | N4: =IF(L4="","",(L4*G4)+M4) -> 220 | O4: =IF(FACTURATION!$L$4=0,"",L4/K4) -> 1 | P4: =#N/A -> #N/A
A5: AGENCE 1 | B5: Collaborateur 1 | C5: C114 | D5: =VLOOKUP(FACTURATION!$B$5,'SUIVI '!$B$6:$I$23,6,0) -> MOD | E5: =VLOOKUP(FACTURATION!$B$5,'SUIVI '!$B$6:$I$23,7,0) -> ETAM | F5: =VLOOKUP(FACTURATION!$B$5,'SUIVI '!$B$6:$I$23,8,0) -> H | G5: 10 | H5: 42184 | I5: 43434 | J5: 43191 | K5: 20 | L5: 20 | N5: =IF(L5="","",(L5*G5)+M5) -> 200 | O5: =IF(FACTURATION!$L$5=0,"",L5/K5) -> 1 | P5: =#N/A -> #N/A
A6: AGENCE 1 | B6: Collaborateur 1 | C6: C114 | D6: =VLOOKUP(FACTURATION!$B$6,'SUIVI '!$B$6:$I$23,6,0) -> MOD | E6: =VLOOKUP(FACTURATION!$B$6,'SUIVI '!$B$6:$I$23,7,0) -> ETAM | F6: =VLOOKUP(FACTURATION!$B$6,'SUIVI '!$B$6:$I$23,8,0) -> H | G6: 10 | H6: 42184 | I6: 43434 | J6: 43221 | K6: 19 | L6: 19 | N6: =IF(L6="","",(L6*G6)+M6) -> 190 | O6: =IF(FACTURATION!$L$6=0,"",L6/K6) -> 1 | P6: =#N/A -> #N/A
A7: AGENCE 1 | B7: Collaborateur 1 | C7: C114 | D7: =VLOOKUP(FACTURATION!$B$7,'SUIVI '!$B$6:$I$23,6,0) -> MOD | E7: =VLOOKUP(FACTURATION!$B$7,'SUIVI '!$B$6:$I$23,7,0) -> ETAM | F7: =VLOOKUP(FACTURATION!$B$7,'SUIVI '!$B$6:$I$23,8,0) -> H | G7: 10 | H7: 42184 | I7: 43434 | J7: 43252 | K7: 21 | L7: 21 | N7: =IF(L7="","",(L7*G7)+M7) -> 210 | O7: =IF(FACTURATION!$L$7=0,"",L7/K7) -> 1 | P7: =#N/A -> #N/A
A8: AGENCE 1 | B8: Collaborateur 1 | C8: C114 | D8: =VLOOKUP(FACTURATION!$B$8,'SUIVI '!$B$6:$I$23,6,0) -> MOD | E8: =VLOOKUP(FACTURATION!$B$8,'SUIVI '!$B$6:$I$23,7,0) -> ETAM | F8: =VLOOKUP(FACTURATION!$B$8,'SUIVI '!$B$6:$I$23,8,0) -> H | G8: 10 | H8: 42184 | I8: 43434 | J8: 43282 | K8: 22 | L8: 22 | N8: =IF(L8="","",(L8*G8)+M8) -> 220 | O8: =IF(FACTURATION!$L$8=0,"",L8/K8) -> 1 | P8: =#N/A -> #N/A
A9: AGENCE 1 | B9: Collaborateur 1 | C9: C114 | D9: =VLOOKUP(FACTURATION!$B$9,'SUIVI '!$B$6:$I$23,6,0) -> MOD | E9: =VLOOKUP(FACTURATION!$B$9,'SUIVI '!$B$6:$I$23,7,0) -> ETAM | F9: =VLOOKUP(FACTURATION!$B$9,'SUIVI '!$B$6:$I$23,8,0) -> H | G9: 10 | H9: 42184 | I9: 43434 | J9: 43313 | K9: 22 | L9: 22 | N9: =IF(L9="","",(L9*G9)+M9) -> 220 | O9: =IF(FACTURATION!$L$9=0,"",L9/K9) -> 1 | P9: =#N/A -> #N/A
A10: AGENCE 1 | B10: Collaborateur 1 | C10: C114 | D10: =VLOOKUP(FACTURATION!$B$10,'SUIVI '!$B$6:$I$23,6,0) -> MOD | E10: =VLOOKUP(FACTURATION!$B$10,'SUIVI '!$B$6:$I$23,7,0) -> ETAM | F10: =VLOOKUP(FACTURATION!$B$10,'SUIVI '!$B$6:$I$23,8,0) -> H | G10: 10 | H10: 42184 | I10: 43434 | J10: 43344 | K10: 20 | L10: 20 | N10: =IF(L10="","",(L10*G10)+M10) -> 200 | O10: =IF(FACTURATION!$L$10=0,"",L10/K10) -> 1 | P10: =#N/A -> #N/A
A11: AGENCE 1 | B11: Collaborateur 1 | C11: C114 | D11: =VLOOKUP(FACTURATION!$B$11,'SUIVI '!$B$6:$I$23,6,0) -> MOD | E11: =VLOOKUP(FACTURATION!$B$11,'SUIVI '!$B$6:$I$23,7,0) -> ETAM | F11: =VLOOKUP(FACTURATION!$B$11,'SUIVI '!$B$6:$I$23,8,0) -> H | G11: 10 | H11: 42184 | I11: 43434 | J11: 43374 | K11: 23 | L11: 23 | N11: =IF(L11="","",(L11*G11)+M11) -> 230 | O11: =IF(FACTURATION!$L$11=0,"",L11/K11) -> 1 | P11: =#N/A -> #N/A
A12: AGENCE 1 | B12: Collaborateur 1 | C12: C114 | D12: =VLOOKUP(FACTURATION!$B$12,'SUIVI '!$B$6:$I$23,6,0) -> MOD | E12: =VLOOKUP(FACTURATION!$B$12,'SUIVI '!$B$6:$I$23,7,0) -> ETAM | F12: =VLOOKUP(FACTURATION!$B$12,'SUIVI '!$B$6:$I$23,8,0) -> H | G12: 10 | H12: 42184 | I12: 43434 | J12: 43405 | K12: 21 | N12: =IF(L12="","",(L12*G12)+M12) | O12: =IF(FACTURATION!$L$12=0,"",L12/K12) | P12: =#N/A -> #N/A
A13: AGENCE 2 | B13: Collaborateur 2 | C13: C111 | D13: =VLOOKUP(FACTURATION!$B$13,'SUIVI '!$B$6:$I$23,6,0) -> MOD | E13: =VLOOKUP(FACTURATION!$B$13,'SUIVI '!$B$6:$I$23,7,0) -> ETAM | F13: =VLOOKUP(FACTURATION!$B$13,'SUIVI '!$B$6:$I$23,8,0) -> H | G13: 10 | H13: 42499 | I13: 43154 | J13: 43101 | K13: 22 | L13: 22 | N13: =IF(L13="","",(L13*G13)+M13) -> 220 | O13: =IF(FACTURATION!$L$13=0,"",L13/K13) -> 1 | P13: =#N/A -> #N/A
A14: AGENCE 2 | B14: Collaborateur 2 | C14: C111 | D14: =VLOOKUP(FACTURATION!$B$14,'SUIVI '!$B$6:$I$23,6,0) -> MOD | E14: =VLOOKUP(FACTURATION!$B$14,'SUIVI '!$B$6:$I$23,7,0) -> ETAM | F14: =VLOOKUP(FACTURATION!$B$14,'SUIVI '!$B$6:$I$23,8,0) -> H | G14: 10 | H14: 42499 | I14: 43154 | J14: 43132 | K14: 20 | L14: 20 | N14: =IF(L14="","",(L14*G14)+M14) -> 200 | O14: =IF(FACTURATION!$L$14=0,"",L14/K14) -> 1 | P14: =#N/A -> #N/A
