Workbook
Name Conca: Concatenation!$B$2:$H$32
Name concaten: Concatenation!$I$2:$AM$32
Name date: NNI!$F$1:$F$12
Name NNI: NNI!$A$1:$B$12
Name Tableau: Concatenation!$B$2:$H$404

Sheet Concatenation
B1: NNI | C1: Nom-Prénom | D1: Mois | E1: Semaine | F1: Jours | G1: Activité | H1: Résultat
A2: 1 | B2: =SAISIE!$C$2 -> B | C2: =SAISIE!$C$4 -> DUBAR Nathalie | D2: =SAISIE!$C$6 -> 43132 | E2: =SAISIE!$D$7 -> 5 | F2: =SAISIE!$D$9 -> 43132 | G2: =SAISIE!$C$10 -> Charges internes | H2: =SAISIE!$D$10 -> 0.06
B3: =SAISIE!$C$2 -> B | C3: =SAISIE!$C$4 -> DUBAR Nathalie | D3: =SAISIE!$C$6 -> 43132 | E3: =SAISIE!$E$7 -> 5 | F3: =SAISIE!$E$9 -> 43133 | G3: =SAISIE!$C$10 -> Charges internes | H3: =SAISIE!$E$10 -> 0.07
B4: =SAISIE!$C$2 -> B | C4: =SAISIE!$C$4 -> DUBAR Nathalie | D4: =SAISIE!$C$6 -> 43132 | E4: =SAISIE!$F$7 -> 5 | F4: =SAISIE!$F$9 -> 43134 | G4: =SAISIE!$C$10 -> Charges internes | H4: =SAISIE!$F$10 -> 0.08
B5: =SAISIE!$C$2 -> B | C5: =SAISIE!$C$4 -> DUBAR Nathalie | D5: =SAISIE!$C$6 -> 43132 | E5: =SAISIE!$G$7 -> 5 | F5: =SAISIE!$G$9 -> 43135 | G5: =SAISIE!$C$10 -> Charges internes | H5: =SAISIE!$G$10 -> 0.09
B6: =SAISIE!$C$2 -> B | C6: =SAISIE!$C$4 -> DUBAR Nathalie | D6: =SAISIE!$C$6 -> 43132 | E6: =SAISIE!$H$7 -> 6 | F6: =SAISIE!$H$9 -> 43136 | G6: =SAISIE!$C$10 -> Charges internes | H6: =SAISIE!$H$10 -> 0.06
B7: =SAISIE!$C$2 -> B | C7: =SAISIE!$C$4 -> DUBAR Nathalie | D7: =SAISIE!$C$6 -> 43132 | E7: =SAISIE!$I$7 -> 6 | F7: =SAISIE!$I$9 -> 43137 | G7: =SAISIE!$C$10 -> Charges internes | H7: =SAISIE!$I$10 -> 0.06
B8: =SAISIE!$C$2 -> B | C8: =SAISIE!$C$4 -> DUBAR Nathalie | D8: =SAISIE!$C$6 -> 43132 | E8: =SAISIE!$J$7 -> 6 | F8: =SAISIE!$J$9 -> 43138 | G8: =SAISIE!$C$10 -> Charges internes | H8: =SAISIE!$J$10 -> 0.06
B9: =SAISIE!$C$2 -> B | C9: =SAISIE!$C$4 -> DUBAR Nathalie | D9: =SAISIE!$C$6 -> 43132 | E9: =SAISIE!$K$7 -> 6 | F9: =SAISIE!$K$9 -> 43139 | G9: =SAISIE!$C$10 -> Charges internes | H9: =SAISIE!$K$10 -> 0.06
B10: =SAISIE!$C$2 -> B | C10: =SAISIE!$C$4 -> DUBAR Nathalie | D10: =SAISIE!$C$6 -> 43132 | E10: =SAISIE!$L$7 -> 6 | F10: =SAISIE!$L$9 -> 43140 | G10: =SAISIE!$C$10 -> Charges internes | H10: =SAISIE!$L$10 -> 0.06
B11: =SAISIE!$C$2 -> B | C11: =SAISIE!$C$4 -> DUBAR Nathalie | D11: =SAISIE!$C$6 -> 43132 | E11: =SAISIE!$M$7 -> 6 | F11: =SAISIE!$M$9 -> 43141 | G11: =SAISIE!$C$10 -> Charges internes | H11: =SAISIE!$M$10 -> 0.06
B12: =SAISIE!$C$2 -> B | C12: =SAISIE!$C$4 -> DUBAR Nathalie | D12: =SAISIE!$C$6 -> 43132 | E12: =SAISIE!$N$7 -> 6 | F12: =SAISIE!$N$9 -> 43142 | G12: =SAISIE!$C$10 -> Charges internes | H12: =SAISIE!$N$10 -> 0.06
B13: =SAISIE!$C$2 -> B | C13: =SAISIE!$C$4 -> DUBAR Nathalie | D13: =SAISIE!$C$6 -> 43132 | E13: =SAISIE!$O$7 -> 7 | F13: =SAISIE!$O$9 -> 43143 | G13: =SAISIE!$C$10 -> Charges internes | H13: =SAISIE!$O$10 -> 0.06
B14: =SAISIE!$C$2 -> B | C14: =SAISIE!$C$4 -> DUBAR Nathalie | D14: =SAISIE!$C$6 -> 43132 | E14: =SAISIE!$P$7 -> 7 | F14: =SAISIE!$P$9 -> 43144 | G14: =SAISIE!$C$10 -> Charges internes | H14: =SAISIE!$P$10 -> 0.06
B15: =SAISIE!$C$2 -> B | C15: =SAISIE!$C$4 -> DUBAR Nathalie | D15: =SAISIE!$C$6 -> 43132 | E15: =SAISIE!$Q$7 -> 7 | F15: =SAISIE!$Q$9 -> 43145 | G15: =SAISIE!$C$10 -> Charges internes | H15: =SAISIE!$Q$10 -> 0.06
B16: =SAISIE!$C$2 -> B | C16: =SAISIE!$C$4 -> DUBAR Nathalie | D16: =SAISIE!$C$6 -> 43132 | E16: =SAISIE!$R$7 -> 7 | F16: =SAISIE!$R$9 -> 43146 | G16: =SAISIE!$C$10 -> Charges internes | H16: =SAISIE!$R$10 -> 0.06
B17: =SAISIE!$C$2 -> B | C17: =SAISIE!$C$4 -> DUBAR Nathalie | D17: =SAISIE!$C$6 -> 43132 | E17: =SAISIE!$S$7 -> 7 | F17: =SAISIE!$S$9 -> 43147 | G17: =SAISIE!$C$10 -> Charges internes | H17: =SAISIE!$S$10 -> 0.06
B18: =SAISIE!$C$2 -> B | C18: =SAISIE!$C$4 -> DUBAR Nathalie | D18: =SAISIE!$C$6 -> 43132 | E18: =SAISIE!$T$7 -> 7 | F18: =SAISIE!$T$9 -> 43148 | G18: =SAISIE!$C$10 -> Charges internes | H18: =SAISIE!$T$10 -> 0.06
B19: =SAISIE!$C$2 -> B | C19: =SAISIE!$C$4 -> DUBAR Nathalie | D19: =SAISIE!$C$6 -> 43132 | E19: =SAISIE!$U$7 -> 7 | F19: =SAISIE!$U$9 -> 43149 | G19: =SAISIE!$C$10 -> Charges internes | H19: =SAISIE!$U$10 -> 0.06
B20: =SAISIE!$C$2 -> B | C20: =SAISIE!$C$4 -> DUBAR Nathalie | D20: =SAISIE!$C$6 -> 43132 | E20: =SAISIE!$V$7 -> 8 | F20: =SAISIE!$V$9 -> 43150 | G20: =SAISIE!$C$10 -> Charges internes | H20: =SAISIE!$V$10 -> 0.06
B21: =SAISIE!$C$2 -> B | C21: =SAISIE!$C$4 -> DUBAR Nathalie | D21: =SAISIE!$C$6 -> 43132 | E21: =SAISIE!$W$7 -> 8 | F21: =SAISIE!$W$9 -> 43151 | G21: =SAISIE!$C$10 -> Charges internes | H21: =SAISIE!$W$10 -> 0.06
B22: =SAISIE!$C$2 -> B | C22: =SAISIE!$C$4 -> DUBAR Nathalie | D22: =SAISIE!$C$6 -> 43132 | E22: =SAISIE!$X$7 -> 8 | F22: =SAISIE!$X$9 -> 43152 | G22: =SAISIE!$C$10 -> Charges internes | H22: =SAISIE!$X$10 -> 0.06
B23: =SAISIE!$C$2 -> B | C23: =SAISIE!$C$4 -> DUBAR Nathalie | D23: =SAISIE!$C$6 -> 43132 | E23: =SAISIE!$Y$7 -> 8 | F23: =SAISIE!$Y$9 -> 43153 | G23: =SAISIE!$C$10 -> Charges internes | H23: =SAISIE!$Y$10 -> 0.06
B24: =SAISIE!$C$2 -> B | C24: =SAISIE!$C$4 -> DUBAR Nathalie | D24: =SAISIE!$C$6 -> 43132 | E24: =SAISIE!$Z$7 -> 8 | F24: =SAISIE!$Z$9 -> 43154 | G24: =SAISIE!$C$10 -> Charges internes | H24: =SAISIE!$Z$10 -> 0.06
B25: =SAISIE!$C$2 -> B | C25: =SAISIE!$C$4 -> DUBAR Nathalie | D25: =SAISIE!$C$6 -> 43132 | E25: =SAISIE!$AA$7 -> 8 | F25: =SAISIE!$AA$9 -> 43155 | G25: =SAISIE!$C$10 -> Charges internes | H25: =SAISIE!$AA$10 -> 0.06
B26: =SAISIE!$C$2 -> B | C26: =SAISIE!$C$4 -> DUBAR Nathalie | D26: =SAISIE!$C$6 -> 43132 | E26: =SAISIE!$AB$7 -> 8 | F26: =SAISIE!$AB$9 -> 43156 | G26: =SAISIE!$C$10 -> Charges internes | H26: =SAISIE!$AB$10 -> 0
B27: =SAISIE!$C$2 -> B | C27: =SAISIE!$C$4 -> DUBAR Nathalie | D27: =SAISIE!$C$6 -> 43132 | E27: =SAISIE!$AC$7 -> 9 | F27: =SAISIE!$AC$9 -> 43157 | G27: =SAISIE!$C$10 -> Charges internes | H27: =SAISIE!$AC$10 -> 0
B28: =SAISIE!$C$2 -> B | C28: =SAISIE!$C$4 -> DUBAR Nathalie | D28: =SAISIE!$C$6 -> 43132 | E28: =SAISIE!$AD$7 -> 9 | F28: =SAISIE!$AD$9 -> 43158 | G28: =SAISIE!$C$10 -> Charges internes | H28: =SAISIE!$AD$10 -> 0
B29: =SAISIE!$C$2 -> B | C29: =SAISIE!$C$4 -> DUBAR Nathalie | D29: =SAISIE!$C$6 -> 43132 | E29: =SAISIE!$AE$7 -> 9 | F29: =SAISIE!$AE$9 -> 43159 | G29: =SAISIE!$C$10 -> Charges internes | H29: =SAISIE!$AE$10 -> 0
B30: =SAISIE!$C$2 -> B | C30: =SAISIE!$C$4 -> DUBAR Nathalie | D30: =SAISIE!$C$6 -> 43132 | E30: =SAISIE!$AF$7 | F30: =SAISIE!$AF$9 | G30: =SAISIE!$C$10 -> Charges internes | H30: =SAISIE!$AF$10 -> 0
B31: =SAISIE!$C$2 -> B | C31: =SAISIE!$C$4 -> DUBAR Nathalie | D31: =SAISIE!$C$6 -> 43132 | E31: =SAISIE!$AG$7 | F31: =SAISIE!$AG$9 | G31: =SAISIE!$C$10 -> Charges internes | H31: =SAISIE!$AG$10 -> 0
B32: =SAISIE!$C$2 -> B | C32: =SAISIE!$C$4 -> DUBAR Nathalie | D32: =SAISIE!$C$6 -> 43132 | E32: =SAISIE!$AH$7 | F32: =SAISIE!$AH$9 | G32: =SAISIE!$C$10 -> Charges internes | H32: =SAISIE!$AH$10 -> 0
A33: 2 | B33: =SAISIE!$C$2 -> B | C33: =SAISIE!$C$4 -> DUBAR Nathalie | D33: =SAISIE!$C$6 -> 43132 | E33: =SAISIE!$D$7 -> 5 | F33: =SAISIE!$D$9 -> 43132 | G33: =SAISIE!$C$11 -> Projets transverses DMP | H33: =SAISIE!$D$11 -> 0.06
B34: =SAISIE!$C$2 -> B | C34: =SAISIE!$C$4 -> DUBAR Nathalie | D34: =SAISIE!$C$6 -> 43132 | E34: =SAISIE!$E$7 -> 5 | F34: =SAISIE!$E$9 -> 43133 | G34: =SAISIE!$C$11 -> Projets transverses DMP | H34: =SAISIE!$E$11 -> 0.06
B35: =SAISIE!$C$2 -> B | C35: =SAISIE!$C$4 -> DUBAR Nathalie | D35: =SAISIE!$C$6 -> 43132 | E35: =SAISIE!$F$7 -> 5 | F35: =SAISIE!$F$9 -> 43134 | G35: =SAISIE!$C$11 -> Projets transverses DMP | H35: =SAISIE!$F$11 -> 0.06
B36: =SAISIE!$C$2 -> B | C36: =SAISIE!$C$4 -> DUBAR Nathalie | D36: =SAISIE!$C$6 -> 43132 | E36: =SAISIE!$G$7 -> 5 | F36: =SAISIE!$G$9 -> 43135 | G36: =SAISIE!$C$11 -> Projets transverses DMP | H36: =SAISIE!$G$11 -> 0.06
B37: =SAISIE!$C$2 -> B | C37: =SAISIE!$C$4 -> DUBAR Nathalie | D37: =SAISIE!$C$6 -> 43132 | E37: =SAISIE!$H$7 -> 6 | F37: =SAISIE!$H$9 -> 43136 | G37: =SAISIE!$C$11 -> Projets transverses DMP | H37: =SAISIE!$H$11 -> 0.06
B38: =SAISIE!$C$2 -> B | C38: =SAISIE!$C$4 -> DUBAR Nathalie | D38: =SAISIE!$C$6 -> 43132 | E38: =SAISIE!$I$7 -> 6 | F38: =SAISIE!$I$9 -> 43137 | G38: =SAISIE!$C$11 -> Projets transverses DMP | H38: =SAISIE!$I$11 -> 0.06
B39: =SAISIE!$C$2 -> B | C39: =SAISIE!$C$4 -> DUBAR Nathalie | D39: =SAISIE!$C$6 -> 43132 | E39: =SAISIE!$J$7 -> 6 | F39: =SAISIE!$J$9 -> 43138 | G39: =SAISIE!$C$11 -> Projets transverses DMP | H39: =SAISIE!$J$11 -> 0.06
B40: =SAISIE!$C$2 -> B | C40: =SAISIE!$C$4 -> DUBAR Nathalie | D40: =SAISIE!$C$6 -> 43132 | E40: =SAISIE!$K$7 -> 6 | F40: =SAISIE!$K$9 -> 43139 | G40: =SAISIE!$C$11 -> Projets transverses DMP | H40: =SAISIE!$K$11 -> 0.06
...

Sheet MODOP
A1: MODE OPERATOIRE
A3: 1 / Saisissez votre NNI court en cellule C2
A4: 2 / Choisissez la date dans le menu déroulant en cellule C6
A5: 3 / Collectez en pourcentage de votre journée le temps consacré à chacune des macros activités dont vous trouverez le détail ci-dessous, sans remplir les colonnes grisées (week-ends) ni les jours fériés
A6: 4 / Vérifiez que le total de chaque fin de journée fasse bien 100% (vert)
B10: Macro activités expertises Pôle Marketing et ROR | C10: Description
B11: Charges internes | C11: Réunions d'équipe, séminaire, conf tel DMP, réunion DMP,…
B12: Projets transverses DMP | C12: Innovation, sécurité, Serious game, configurateur, boite à outils,tutoriels…
B13: Réponse et traitement des sollicitations | C13: Temps passé à répondre et analyser les demandes
B14: Préparation amont professionnalisation | C14: Préparation des déploiements, interventions, conf tel, mop hebdo, quizz,... etc
B15: Professionnalisation | C15: Déploiement, appui aux vendeurs et conseillers, intervention en réunion, conf tel ventes/ADV, Infos métier et MEP,…
B16: Montée en compétences | C16: Appropriation et lecture des supports, nouveautés polco, informations du national, questions DECLIC
B17: Animation nationale | C17: Conf tel, demandes spécifiques, réunion physique, participation à des GT nationaux
B18: Pilotage | C18: Requêtes, contributions PPO , CAP, visibilité et analyse de la performance des offres, suivi expé, remontées marges
B19: Traitement de fichiers | C19: Turpe 5,Assainissements, Devis en revalo,comptes OH à soumettre,forçage de prix et dépôt de garantie
B20: Rebelotage des portefeuilles et des conseillers référents | C20: Changement des équipes de comptes commerciaux, PDS et PF
B21: Congés et Absences diverses | C21: Congés et absences
... B25: Suivi DPI et PNT | C25: DCRC et MAFF

Sheet SAISIE
C1: =DATE(YEAR(D9),MONTH(D9)+1,1)-1 -> 43159
B2: NNI | C2: B | G2: Suivi des activités
B4: Nom − Prénom | C4: =IF(C2=""," ",VLOOKUP(C2,NNI,2,FALSE)) -> DUBAR Nathalie
B6: Mois | C6: 43132
D7: =IF(D9="","",WEEKNUM(D9,2)) -> 5 | E7: =IF(E9="","",WEEKNUM(E9,2)) -> 5 | F7: =IF(F9="","",WEEKNUM(F9,2)) -> 5 | G7: =IF(G9="","",WEEKNUM(G9,2)) -> 5 | H7: =IF(H9="","",WEEKNUM(H9,2)) -> 6 | I7: =IF(I9="","",WEEKNUM(I9,2)) -> 6 | J7: =IF(J9="","",WEEKNUM(J9,2)) -> 6 | K7: =IF(K9="","",WEEKNUM(K9,2)) -> 6 | ... AH7: =IF(AH9="","",WEEKNUM(AH9,2))
D8: =D9 -> 43132 | E8: =E9 -> 43133 | F8: =F9 -> 43134 | G8: =G9 -> 43135 | H8: =H9 -> 43136 | I8: =I9 -> 43137 | J8: =J9 -> 43138 | K8: =K9 -> 43139 | ... AH8: =AH9
C9: Saisir en pourcentage de la journée | D9: =C6 -> 43132 | E9: =IF(D9="","",IF(D9=$C$1,"",+D9+1)) -> 43133 | F9: =IF(E9="","",IF(E9=$C$1,"",+E9+1)) -> 43134 | G9: =IF(F9="","",IF(F9=$C$1,"",+F9+1)) -> 43135 | H9: =IF(G9="","",IF(G9=$C$1,"",+G9+1)) -> 43136 | I9: =IF(H9="","",IF(H9=$C$1,"",+H9+1)) -> 43137 | J9: =IF(I9="","",IF(I9=$C$1,"",+I9+1)) -> 43138 | K9: =IF(J9="","",IF(J9=$C$1,"",+J9+1)) -> 43139 | L9: =IF(K9="","",IF(K9=$C$1,"",+K9+1)) -> 43140 | ... AH9: =IF(AG9="","",IF(AG9=$C$1,"",+AG9+1)) | AI9: TOTAL
B10: Commun Marketing et ROR | C10: Charges internes | D10: 0.06 | E10: 0.07 | F10: 0.08 | G10: 0.09 | H10: 0.06 | I10: 0.06 | J10: 0.06 | K10: 0.06 | L10: 0.06 | M10: 0.06 | N10: 0.06 | O10: 0.06 | P10: 0.06 | Q10: 0.06 | R10: 0.06 | S10: 0.06 | T10: 0.06 | U10: 0.06 | V10: 0.06 | W10: 0.06 | X10: 0.06 | Y10: 0.06 | Z10: 0.06 | AA10: 0.06 | AI10: =IF(COUNTA(D10:AH10)=0,0,SUM(D10:AH10)/COUNTA(D10:AH10)) -> 0.0625
C11: Projets transverses DMP | D11: 0.06 | E11: 0.06 | F11: 0.06 | G11: 0.06 | H11: 0.06 | I11: 0.06 | J11: 0.06 | K11: 0.06 | L11: 0.06 | M11: 0.06 | N11: 0.06 | O11: 0.06 | P11: 0.06 | Q11: 0.06 | R11: 0.06 | S11: 0.06 | T11: 0.06 | U11: 0.06 | V11: 0.06 | W11: 0.06 | X11: 0.06 | Y11: 0.06 | Z11: 0.06 | AA11: 0.06 | AB11: 0.06 | AH11: 0.06 | AI11: =IF(COUNTA(D11:AH11)=0,0,SUM(D11:AH11)/COUNTA(D11:AH11)) -> 0.06
C12: Réponse et traitement des sollicitations | D12: 0.06 | E12: 0.06 | F12: 0.06 | G12: 0.06 | H12: 0.06 | I12: 0.06 | J12: 0.06 | K12: 0.06 | L12: 0.06 | M12: 0.06 | N12: 0.06 | O12: 0.06 | P12: 0.06 | Q12: 0.06 | R12: 0.06 | S12: 0.06 | T12: 0.06 | U12: 0.06 | V12: 0.06 | W12: 0.06 | X12: 0.06 | Y12: 0.06 | Z12: 0.06 | AA12: 0.06 | AB12: 0.06 | AH12: 0.06 | AI12: =IF(COUNTA(D12:AH12)=0,0,SUM(D12:AH12)/COUNTA(D12:AH12)) -> 0.06
C13: Préparation amont professionnalisation | D13: 0.06 | E13: 0.06 | F13: 0.06 | G13: 0.06 | H13: 0.06 | I13: 0.06 | J13: 0.06 | K13: 0.06 | L13: 0.06 | M13: 0.06 | N13: 0.06 | O13: 0.06 | P13: 0.06 | Q13: 0.06 | R13: 0.06 | S13: 0.06 | T13: 0.06 | U13: 0.06 | V13: 0.06 | W13: 0.06 | X13: 0.06 | Y13: 0.06 | Z13: 0.06 | AA13: 0.06 | AB13: 0.06 | AH13: 0.06 | AI13: =IF(COUNTA(D13:AH13)=0,0,SUM(D13:AH13)/COUNTA(D13:AH13)) -> 0.06
C14: Professionnalisation | D14: 0.06 | E14: 0.06 | F14: 0.06 | G14: 0.06 | H14: 0.06 | I14: 0.06 | J14: 0.06 | K14: 0.06 | L14: 0.06 | M14: 0.06 | N14: 0.06 | O14: 0.06 | P14: 0.06 | Q14: 0.06 | R14: 0.06 | S14: 0.06 | T14: 0.06 | U14: 0.06 | V14: 0.06 | W14: 0.06 | X14: 0.06 | Y14: 0.06 | Z14: 0.06 | AA14: 0.06 | AB14: 0.06 | AH14: 0.06 | AI14: =IF(COUNTA(D14:AH14)=0,0,SUM(D14:AH14)/COUNTA(D14:AH14)) -> 0.06
C15: Montée en compétences | D15: 0.06 | E15: 0.06 | F15: 0.06 | G15: 0.06 | H15: 0.06 | I15: 0.06 | J15: 0.06 | K15: 0.06 | L15: 0.06 | M15: 0.06 | N15: 0.06 | O15: 0.06 | P15: 0.06 | Q15: 0.06 | R15: 0.06 | S15: 0.06 | T15: 0.06 | U15: 0.06 | V15: 0.06 | W15: 0.06 | X15: 0.06 | Y15: 0.06 | Z15: 0.06 | AA15: 0.06 | AB15: 0.06 | AH15: 0.06 | AI15: =IF(COUNTA(D15:AH15)=0,0,SUM(D15:AH15)/COUNTA(D15:AH15)) -> 0.06
C16: Animation nationale | D16: 0.06 | E16: 0.06 | F16: 0.06 | G16: 0.06 | H16: 0.06 | I16: 0.06 | J16: 0.06 | K16: 0.06 | L16: 0.06 | M16: 0.06 | N16: 0.06 | O16: 0.06 | P16: 0.06 | Q16: 0.06 | R16: 0.06 | S16: 0.06 | T16: 0.06 | U16: 0.06 | V16: 0.06 | W16: 0.06 | X16: 0.06 | Y16: 0.06 | Z16: 0.06 | AA16: 0.06 | AB16: 0.06 | AH16: 0.06 | AI16: =IF(COUNTA(D16:AH16)=0,0,SUM(D16:AH16)/COUNTA(D16:AH16)) -> 0.06
C17: Pilotage | D17: 0.06 | E17: 0.06 | F17: 0.06 | G17: 0.06 | H17: 0.06 | I17: 0.06 | J17: 0.06 | K17: 0.06 | L17: 0.06 | M17: 0.06 | N17: 0.06 | O17: 0.06 | P17: 0.06 | Q17: 0.06 | R17: 0.06 | S17: 0.06 | T17: 0.06 | U17: 0.06 | V17: 0.06 | W17: 0.06 | X17: 0.06 | Y17: 0.06 | Z17: 0.06 | AA17: 0.06 | AB17: 0.06 | AH17: 0.06 | AI17: =IF(COUNTA(D17:AH17)=0,0,SUM(D17:AH17)/COUNTA(D17:AH17)) -> 0.06
C18: Traitement de fichiers | D18: 0.06 | E18: 0.06 | F18: 0.06 | G18: 0.06 | H18: 0.06 | I18: 0.06 | J18: 0.06 | K18: 0.06 | L18: 0.06 | M18: 0.06 | N18: 0.06 | O18: 0.06 | P18: 0.06 | Q18: 0.06 | R18: 0.06 | S18: 0.06 | T18: 0.06 | U18: 0.06 | V18: 0.06 | W18: 0.06 | X18: 0.06 | Y18: 0.06 | Z18: 0.06 | AA18: 0.06 | AB18: 0.06 | AH18: 0.06 | AI18: =IF(COUNTA(D18:AH18)=0,0,SUM(D18:AH18)/COUNTA(D18:AH18)) -> 0.06
C19: Rebelotage des portefeuilles et des conseillers référents | D19: 0.06 | E19: 0.06 | F19: 0.06 | G19: 0.06 | H19: 0.06 | I19: 0.06 | J19: 0.06 | K19: 0.06 | L19: 0.06 | M19: 0.06 | N19: 0.06 | O19: 0.06 | P19: 0.06 | Q19: 0.06 | R19: 0.06 | S19: 0.06 | T19: 0.06 | U19: 0.06 | V19: 0.06 | W19: 0.06 | X19: 0.06 | Y19: 0.06 | Z19: 0.06 | AA19: 0.06 | AB19: 0.06 | AH19: 0.06 | AI19: =IF(COUNTA(D19:AH19)=0,0,SUM(D19:AH19)/COUNTA(D19:AH19)) -> 0.06
C20: Congés et Absences diverses | D20: 0.28 | E20: 0.06 | F20: 0.06 | G20: 0.06 | H20: 0.06 | I20: 0.06 | J20: 0.06 | K20: 0.06 | L20: 0.06 | M20: 0.06 | N20: 0.06 | O20: 0.06 | P20: 0.06 | Q20: 0.06 | R20: 0.06 | S20: 0.06 | T20: 0.06 | U20: 0.06 | V20: 0.06 | W20: 0.06 | X20: 0.06 | Y20: 0.06 | Z20: 0.06 | AA20: 0.06 | AB20: 0.06 | AH20: 0.06 | AI20: =IF(COUNTA(D20:AH20)=0,0,SUM(D20:AH20)/COUNTA(D20:AH20)) -> 0.068461538
B21: Spécifique ROR | C21: Suivi des indicateurs d’activité | D21: 0.06 | E21: 0.06 | F21: 0.06 | G21: 0.06 | H21: 0.06 | I21: 0.06 | J21: 0.06 | K21: 0.06 | L21: 0.06 | M21: 0.06 | N21: 0.06 | O21: 0.06 | P21: 0.06 | Q21: 0.06 | R21: 0.06 | S21: 0.06 | T21: 0.06 | U21: 0.06 | V21: 0.06 | W21: 0.06 | X21: 0.06 | Y21: 0.06 | Z21: 0.06 | AA21: 0.06 | AB21: 0.06 | AH21: 0.06 | AI21: =IF(COUNTA(D21:AH21)=0,0,SUM(D21:AH21)/COUNTA(D21:AH21)) -> 0.06
C22: Suivi DPI et PNT | D22: 0.06 | E22: 0.06 | F22: 0.06 | G22: 0.06 | H22: 0.06 | I22: 0.06 | J22: 0.06 | K22: 0.06 | L22: 0.06 | M22: 0.06 | N22: 0.06 | O22: 0.06 | P22: 0.06 | Q22: 0.06 | R22: 0.06 | S22: 0.06 | T22: 0.06 | U22: 0.06 | V22: 0.06 | W22: 0.06 | X22: 0.06 | Y22: 0.06 | Z22: 0.06 | AA22: 0.06 | AB22: 0.06 | AH22: 0.06 | AI22: =IF(COUNTA(D22:AH22)=0,0,SUM(D22:AH22)/COUNTA(D22:AH22)) -> 0.06
B23: Total | D23: =SUM(D10:D22) -> 1 | E23: =SUM(E10:E22) -> 0.79 | F23: =SUM(F10:F22) -> 0.8 | G23: =SUM(G10:G22) -> 0.81 | H23: =SUM(H10:H22) -> 0.78 | I23: =SUM(I10:I22) -> 0.78 | J23: =SUM(J10:J22) -> 0.78 | K23: =SUM(K10:K22) -> 0.78 | ... AH23: =SUM(AH10:AH22) -> 0.72

Sheet Jours feriés
B2: jours feriés
B3: 43192
B4: 43221
B5: 43228
B6: 43230
B7: 43241
B8: 43295
B9: 43327
B10: 43374
B11: 43459

Sheet NNI
A1: NNI − N° contrat | B1: Nom − Prénom | C1: UO (libellé) | D1: SDUM (libellé) | F1: 43101
A2: A | B2: D'HORME Sophie | C2: EXPERTISE ACTIVITES | D2: POLE ANIMATION MARKETING | F2: 43132
A3: B | B3: DUBAR Nathalie | C3: EXPERTISE ACTIVITES | D3: POLE ANIMATION MARKETING | F3: 43160
A4: C | B4: LENGLART Alice | C4: EXPERTISE OFFRES | D4: POLE ANIMATION MARKETING | F4: 43191
A5: D | B5: MALIET Florence | C5: EXPERTISE ACTIVITES | D5: POLE ANIMATION MARKETING | F5: 43221
A6: E | B6: MATOVSKI Mitko | C6: EXPERTISE OFFRES | D6: POLE ANIMATION MARKETING | F6: 43252
A7: F | B7: MESSIAS Bruno | C7: EXPERTISE ACTIVITES | D7: POLE ANIMATION MARKETING | F7: 43282
A8: G | B8: MOHAMI Naima | C8: EXPERTISE ACTIVITES | D8: POLE ANIMATION MARKETING | F8: 43313
A9: H | B9: LOOCK Sébastien | C9: EXPERTISE ACTIVITES | D9: POLE SATISFACTION | F9: 43344
A10: I | B10: BELIN Christophe | C10: EXPERTISE ACTIVITES | D10: POLE SATISFACTION | F10: 43374
A11: J | B11: MARQUES Pierre | C11: EXPERTISE OFFRES | D11: POLE SATISFACTION | F11: 43405
A12: K | B12: AGOSTINO Laure | C12: EXPERTISE ACTIVITES | D12: POLE SATISFACTION | F12: 43435
