Workbook
Name année: 'S13'!$A$2
Name Debut_personnel: Personnel!$D$8:$D$76
Name Nom_personnel: Personnel!$C$8:$C$76
Name semaine: 'S13'!$D$1

Sheet Chantier
A1: CHANTIERS OUVERTS
A3: N° | B3: MAITRE OUVRAGE | C3: LIEU | D3: CONDUCTEUR | E3: N° ETUDE | F3: N° MARCHE | G3: ARCHIVES | H3: CC | I3: OUVERTURE | J3: MONTANT HT
A4: =IF('[1]2007'!A4=0,"",'[1]2007'!A4) -> 07/001
A5: =IF('[1]2007'!A5=0,"",'[1]2007'!A5) -> 07/002
A6: =IF('[1]2007'!A6=0,"",'[1]2007'!A6) -> 07/003
A7: =IF('[1]2007'!A7=0,"",'[1]2007'!A7) -> 07/004
A8: =IF('[1]2007'!A8=0,"",'[1]2007'!A8) -> 07/005
A9: =IF('[1]2007'!A9=0,"",'[1]2007'!A9) -> 07/006
A10: =IF('[1]2007'!A10=0,"",'[1]2007'!A10) -> 07/007
A11: =IF('[1]2007'!A11=0,"",'[1]2007'!A11) -> 07/008
A12: =IF('[1]2007'!A12=0,"",'[1]2007'!A12) -> 07/009
A13: =IF('[1]2007'!A13=0,"",'[1]2007'!A13) -> 07/010
A14: =IF('[1]2007'!A14=0,"",'[1]2007'!A14) -> 07/011
A15: =IF('[1]2007'!A15=0,"",'[1]2007'!A15) -> 07/012
... A209: =IF('[1]2007'!A209=0,"",'[1]2007'!A209) -> 07/204
A210: =IF('[1]2008'!A4=0,"",'[1]2008'!A4) -> 08/001 | D210: =IF('[1]2008'!D4=0,"",'[1]2008'!D4)
A211: =IF('[1]2008'!A5=0,"",'[1]2008'!A5) -> 08/002 | D211: =IF('[1]2008'!D5=0,"",'[1]2008'!D5)
A212: =IF('[1]2008'!A6=0,"",'[1]2008'!A6) -> 08/003 | D212: =IF('[1]2008'!D6=0,"",'[1]2008'!D6)
A213: =IF('[1]2008'!A7=0,"",'[1]2008'!A7) -> 08/004 | D213: =IF('[1]2008'!D7=0,"",'[1]2008'!D7)
A214: =IF('[1]2008'!A8=0,"",'[1]2008'!A8) -> 08/005 | D214: =IF('[1]2008'!D8=0,"",'[1]2008'!D8)
A215: =IF('[1]2008'!A9=0,"",'[1]2008'!A9) -> 08/006 | D215: =IF('[1]2008'!D9=0,"",'[1]2008'!D9)
A216: =IF('[1]2008'!A10=0,"",'[1]2008'!A10) -> 08/007 | D216: =IF('[1]2008'!D10=0,"",'[1]2008'!D10)
A217: =IF('[1]2008'!A11=0,"",'[1]2008'!A11) -> 08/008 | D217: =IF('[1]2008'!D11=0,"",'[1]2008'!D11)
A218: =IF('[1]2008'!A12=0,"",'[1]2008'!A12) -> 08/009 | D218: =IF('[1]2008'!D12=0,"",'[1]2008'!D12)
A219: =IF('[1]2008'!A13=0,"",'[1]2008'!A13) -> 08/010 | D219: =IF('[1]2008'!D13=0,"",'[1]2008'!D13)
A220: =IF('[1]2008'!A14=0,"",'[1]2008'!A14) -> 08/011 | D220: =IF('[1]2008'!D14=0,"",'[1]2008'!D14)
A221: =IF('[1]2008'!A15=0,"",'[1]2008'!A15) -> 08/012 | D221: =IF('[1]2008'!D15=0,"",'[1]2008'!D15)
... A407: =IF('[1]2008'!A201=0,"",'[1]2008'!A201) -> 08/198 | D407: =IF('[1]2008'!D201=0,"",'[1]2008'!D201) -> FW
A408: =IF('[1]2009'!A3=0,"",'[1]2009'!A3) -> 09/001 | D408: =IF('[1]2009'!D3=0,"",'[1]2009'!D3) -> PD
A409: =IF('[1]2009'!A4=0,"",'[1]2009'!A4) -> 09/002 | D409: =IF('[1]2009'!D4=0,"",'[1]2009'!D4) -> PD
A410: =IF('[1]2009'!A5=0,"",'[1]2009'!A5) -> 09/003 | D410: =IF('[1]2009'!D5=0,"",'[1]2009'!D5) -> PD
A411: =IF('[1]2009'!A6=0,"",'[1]2009'!A6) -> 09/004 | D411: =IF('[1]2009'!D6=0,"",'[1]2009'!D6) -> SC
A412: =IF('[1]2009'!A7=0,"",'[1]2009'!A7) -> 09/005 | D412: =IF('[1]2009'!D7=0,"",'[1]2009'!D7) -> SC
A413: =IF('[1]2009'!A8=0,"",'[1]2009'!A8) -> 09/006 | D413: =IF('[1]2009'!D8=0,"",'[1]2009'!D8) -> FW
A414: =IF('[1]2009'!A9=0,"",'[1]2009'!A9) -> 09/007 | D414: =IF('[1]2009'!D9=0,"",'[1]2009'!D9) -> SC
A415: =IF('[1]2009'!A10=0,"",'[1]2009'!A10) -> 09/008 | D415: =IF('[1]2009'!D10=0,"",'[1]2009'!D10) -> MB
A416: =IF('[1]2009'!A11=0,"",'[1]2009'!A11) -> 09/009 | D416: =IF('[1]2009'!D11=0,"",'[1]2009'!D11) -> SC
A417: =IF('[1]2009'!A12=0,"",'[1]2009'!A12) -> 09/010 | D417: =IF('[1]2009'!D12=0,"",'[1]2009'!D12) -> PD
A418: =IF('[1]2009'!A13=0,"",'[1]2009'!A13) -> 09/011 | D418: =IF('[1]2009'!D13=0,"",'[1]2009'!D13) -> JPL
A419: =IF('[1]2009'!A14=0,"",'[1]2009'!A14) -> 09/012 | D419: =IF('[1]2009'!D14=0,"",'[1]2009'!D14) -> MB
... A576: =IF('[1]2009'!A171=0,"",'[1]2009'!A171) -> 09/167 | D576: =IF('[1]2009'!D171=0,"",'[1]2009'!D171) -> FW
A577: =IF('[1]2010'!A3=0,"",'[1]2010'!A3) -> 10/001 | D577: =IF('[1]2010'!D3=0,"",'[1]2010'!D3) -> PHD
A578: =IF('[1]2010'!A4=0,"",'[1]2010'!A4) -> 10/002 | D578: =IF('[1]2010'!D4=0,"",'[1]2010'!D4) -> PHD
A579: =IF('[1]2010'!A5=0,"",'[1]2010'!A5) -> 10/003 | D579: =IF('[1]2010'!D5=0,"",'[1]2010'!D5) -> PHD
A580: =IF('[1]2010'!A6=0,"",'[1]2010'!A6) -> 10/004 | D580: =IF('[1]2010'!D6=0,"",'[1]2010'!D6) -> FW
A581: =IF('[1]2010'!A7=0,"",'[1]2010'!A7) -> 10/005 | D581: =IF('[1]2010'!D7=0,"",'[1]2010'!D7) -> SC
A582: =IF('[1]2010'!A8=0,"",'[1]2010'!A8) -> 10/006 | D582: =IF('[1]2010'!D8=0,"",'[1]2010'!D8) -> SC
A583: =IF('[1]2010'!A9=0,"",'[1]2010'!A9) -> 10/007 | D583: =IF('[1]2010'!D9=0,"",'[1]2010'!D9) -> MB
A584: =IF('[1]2010'!A10=0,"",'[1]2010'!A10) -> 10/008 | D584: =IF('[1]2010'!D10=0,"",'[1]2010'!D10) -> MB
A585: =IF('[1]2010'!A11=0,"",'[1]2010'!A11) -> 10/009 | D585: =IF('[1]2010'!D11=0,"",'[1]2010'!D11) -> SC
A586: =IF('[1]2010'!A12=0,"",'[1]2010'!A12) -> 10/010 | D586: =IF('[1]2010'!D12=0,"",'[1]2010'!D12) -> MB
A587: =IF('[1]2010'!A13=0,"",'[1]2010'!A13) -> 10/011 | D587: =IF('[1]2010'!D13=0,"",'[1]2010'!D13) -> JPL
A588: =IF('[1]2010'!A14=0,"",'[1]2010'!A14) -> 10/012 | D588: =IF('[1]2010'!D14=0,"",'[1]2010'!D14) -> JPL
... A831: =IF('[1]2010'!A257=0,"",'[1]2010'!A257) -> 10/254 | D831: =IF('[1]2010'!D257=0,"",'[1]2010'!D257) -> PHD
A832: =IF('[1]2011'!A3=0,"",'[1]2011'!A3) -> 11/001 | D832: =IF('[1]2011'!D3=0,"",'[1]2011'!D3) -> PHD
A833: =IF('[1]2011'!A4=0,"",'[1]2011'!A4) -> 11/002 | D833: =IF('[1]2011'!D4=0,"",'[1]2011'!D4) -> PHD
A834: =IF('[1]2011'!A5=0,"",'[1]2011'!A5) -> 11/003 | D834: =IF('[1]2011'!D5=0,"",'[1]2011'!D5) -> PHD
A835: =IF('[1]2011'!A6=0,"",'[1]2011'!A6) -> 11/004 | D835: =IF('[1]2011'!D6=0,"",'[1]2011'!D6) -> FW
A836: =IF('[1]2011'!A7=0,"",'[1]2011'!A7) -> 11/005 | D836: =IF('[1]2011'!D7=0,"",'[1]2011'!D7) -> SC
A837: =IF('[1]2011'!A8=0,"",'[1]2011'!A8) -> 11/006 | D837: =IF('[1]2011'!D8=0,"",'[1]2011'!D8) -> MB
A838: =IF('[1]2011'!A9=0,"",'[1]2011'!A9) -> 11/007 | D838: =IF('[1]2011'!D9=0,"",'[1]2011'!D9) -> MB
A839: =IF('[1]2011'!A10=0,"",'[1]2011'!A10) -> 11/008 | D839: =IF('[1]2011'!D10=0,"",'[1]2011'!D10) -> SC
A840: =IF('[1]2011'!A11=0,"",'[1]2011'!A11) -> 11/009 | D840: =IF('[1]2011'!D11=0,"",'[1]2011'!D11) -> MB
A841: =IF('[1]2011'!A12=0,"",'[1]2011'!A12) -> 11/010 | D841: =IF('[1]2011'!D12=0,"",'[1]2011'!D12) -> SC
A842: =IF('[1]2011'!A13=0,"",'[1]2011'!A13) -> 11/011 | D842: =IF('[1]2011'!D13=0,"",'[1]2011'!D13) -> SC
A843: =IF('[1]2011'!A14=0,"",'[1]2011'!A14) -> 11/012 | D843: =IF('[1]2011'!D14=0,"",'[1]2011'!D14) -> MB
... A1001: =IF('[1]2011'!A172=0,"",'[1]2011'!A172) -> 11/169 | D1001: =IF('[1]2011'!D172=0,"",'[1]2011'!D172) -> SC
A1002: =IF('[1]2012'!A3=0,"",'[1]2012'!A3) -> 12/001 | D1002: =IF('[1]2012'!D3=0,"",'[1]2012'!D3) -> JPL
A1003: =IF('[1]2012'!A4=0,"",'[1]2012'!A4) -> 12/002 | D1003: =IF('[1]2012'!D4=0,"",'[1]2012'!D4) -> JPL
A1004: =IF('[1]2012'!A5=0,"",'[1]2012'!A5) -> 12/003 | D1004: =IF('[1]2012'!D5=0,"",'[1]2012'!D5) -> JPL
A1005: =IF('[1]2012'!A6=0,"",'[1]2012'!A6) -> 12/004 | D1005: =IF('[1]2012'!D6=0,"",'[1]2012'!D6) -> SC
A1006: =IF('[1]2012'!A7=0,"",'[1]2012'!A7) -> 12/005 | D1006: =IF('[1]2012'!D7=0,"",'[1]2012'!D7) -> MB
A1007: =IF('[1]2012'!A8=0,"",'[1]2012'!A8) -> 12/006 | D1007: =IF('[1]2012'!D8=0,"",'[1]2012'!D8) -> MB
A1008: =IF('[1]2012'!A9=0,"",'[1]2012'!A9) -> 12/007 | D1008: =IF('[1]2012'!D9=0,"",'[1]2012'!D9) -> SC
A1009: =IF('[1]2012'!A10=0,"",'[1]2012'!A10) -> 12/008 | D1009: =IF('[1]2012'!D10=0,"",'[1]2012'!D10) -> SC
A1010: =IF('[1]2012'!A11=0,"",'[1]2012'!A11) -> 12/009 | D1010: =IF('[1]2012'!D11=0,"",'[1]2012'!D11) -> SC
A1011: =IF('[1]2012'!A12=0,"",'[1]2012'!A12) -> 12/010 | D1011: =IF('[1]2012'!D12=0,"",'[1]2012'!D12) -> SC
A1012: =IF('[1]2012'!A13=0,"",'[1]2012'!A13) -> 12/011 | D1012: =IF('[1]2012'!D13=0,"",'[1]2012'!D13) -> JPL
A1013: =IF('[1]2012'!A14=0,"",'[1]2012'!A14) -> 12/012 | D1013: =IF('[1]2012'!D14=0,"",'[1]2012'!D14) -> FW
... A1158: =IF('[1]2012'!A159=0,"",'[1]2012'!A159) -> 12/157 | D1158: =IF('[1]2012'!D159=0,"",'[1]2012'!D159) -> JPL
A1159: =IF('[1]2013'!A3=0,"",'[1]2013'!A3) -> 13/001 | D1159: =IF('[1]2013'!D3=0,"",'[1]2013'!D3) -> JPL
A1160: =IF('[1]2013'!A4=0,"",'[1]2013'!A4) -> 13/002 | D1160: =IF('[1]2013'!D4=0,"",'[1]2013'!D4) -> JPL
A1161: =IF('[1]2013'!A5=0,"",'[1]2013'!A5) -> 13/003 | D1161: =IF('[1]2013'!D5=0,"",'[1]2013'!D5) -> JPL
A1162: =IF('[1]2013'!A6=0,"",'[1]2013'!A6) -> 13/004 | D1162: =IF('[1]2013'!D6=0,"",'[1]2013'!D6) -> MB
A1163: =IF('[1]2013'!A7=0,"",'[1]2013'!A7) -> 13/005 | D1163: =IF('[1]2013'!D7=0,"",'[1]2013'!D7) -> FW
A1164: =IF('[1]2013'!A8=0,"",'[1]2013'!A8) -> 13/006 | D1164: =IF('[1]2013'!D8=0,"",'[1]2013'!D8) -> SC
A1165: =IF('[1]2013'!A9=0,"",'[1]2013'!A9) -> 13/007 | D1165: =IF('[1]2013'!D9=0,"",'[1]2013'!D9) -> SC
A1166: =IF('[1]2013'!A10=0,"",'[1]2013'!A10) -> 13/008 | D1166: =IF('[1]2013'!D10=0,"",'[1]2013'!D10) -> SC
A1167: =IF('[1]2013'!A11=0,"",'[1]2013'!A11) -> 13/009 | D1167: =IF('[1]2013'!D11=0,"",'[1]2013'!D11) -> FW
A1168: =IF('[1]2013'!A12=0,"",'[1]2013'!A12) -> 13/010 | D1168: =IF('[1]2013'!D12=0,"",'[1]2013'!D12) -> FW
A1169: =IF('[1]2013'!A13=0,"",'[1]2013'!A13) -> 13/011 | D1169: =IF('[1]2013'!D13=0,"",'[1]2013'!D13) -> SC
A1170: =IF('[1]2013'!A14=0,"",'[1]2013'!A14) -> 13/012 | D1170: =IF('[1]2013'!D14=0,"",'[1]2013'!D14) -> JPL
... A1321: =IF('[1]2013'!A165=0,"",'[1]2013'!A165) -> 13/163 | D1321: =IF('[1]2013'!D165=0,"",'[1]2013'!D165) -> SC
A1322: =IF('[1]2014'!A3=0,"",'[1]2014'!A3) -> 14/001 | D1322: =IF('[1]2014'!D3=0,"",'[1]2014'!D3) -> JPL
A1323: =IF('[1]2014'!A4=0,"",'[1]2014'!A4) -> 14/002 | D1323: =IF('[1]2014'!D4=0,"",'[1]2014'!D4) -> JPL
A1324: =IF('[1]2014'!A5=0,"",'[1]2014'!A5) -> 14/003 | D1324: =IF('[1]2014'!D5=0,"",'[1]2014'!D5) -> JPL
A1325: =IF('[1]2014'!A6=0,"",'[1]2014'!A6) -> 14/004 | D1325: =IF('[1]2014'!D6=0,"",'[1]2014'!D6) -> FW
A1326: =IF('[1]2014'!A7=0,"",'[1]2014'!A7) -> 14/005 | D1326: =IF('[1]2014'!D7=0,"",'[1]2014'!D7) -> FW
A1327: =IF('[1]2014'!A8=0,"",'[1]2014'!A8) -> 14/006 | D1327: =IF('[1]2014'!D8=0,"",'[1]2014'!D8) -> FW
A1328: =IF('[1]2014'!A9=0,"",'[1]2014'!A9) -> 14/007 | D1328: =IF('[1]2014'!D9=0,"",'[1]2014'!D9) -> PHD
...

Sheet Liste du personnel
A1: LISTE DU PERSONNEL LB
A4: SALARIE | B4: N° SECURITE SOCIALE | C4: DATE NAISSANCE | D4: DATE ENTREE DANS L'ENTREPRISE | E4: CONTRAT | F4: POSTE | G4: ADRESSE | H4: CP | I4: VILLE
A5: ALBERT Ludovic
A6: ANDO Benoît
A7: BERNARD Serge
A8: ddfdgdd
A9: dghb
A10: egfgf
A11: evxvcxv
A12: gggsdg
A13: gghdfgdf
A14: ifdfgf
A15: jsdwgfdf
A16: kdfg
... A18: ngdder

Sheet Intérimaires
A1: INTERIMAIRES
A2: Nom | B2: Téléphone | C2: Poste | D2: Entrprise intérim

Sheet Personnel
C7: ='Liste du personnel'!A4 -> SALARIE | D7: 1 | E7: 5 | F7: 9 | G7: 13 | H7: 17 | I7: 21 | J7: 25 | K7: 29 | L7: 33 | M7: 37 | O7: SALARIE INTERIMAIRE | P7: DISPO
C8: =IF('Liste du personnel'!A5=0, "", 'Liste du personnel'!A5) -> ALBERT Ludovic | D8: =IF(ROWS($7:7)<=COUNTA(Nom_personnel)-SUMPRODUCT(COUNTIF(Nom_personnel,'S13'!D$8:D$68)), INDEX(Nom_personnel,SMALL(IF((COUNTIF('S13'!D$8:D$68,Nom_personnel)=0),ROW(INDIRECT("1:"&ROWS(Nom_personnel)))),ROWS($7:7))),"") -> ALBERT Ludovic | E8: =IF(ROWS($7:7)<=COUNTA(Nom_personnel)-SUMPRODUCT(COUNTIF(Nom_personnel,'S13'!H$8:H$68)), INDEX(Nom_personnel,SMALL(IF((COUNTIF('S13'!H$8:H$68,Nom_personnel)=0),ROW(INDIRECT("1:"&ROWS(Nom_personnel)))),ROWS($7:7))),"") | F8: =IF(ROWS($7:7)<=COUNTA(Nom_personnel)-SUMPRODUCT(COUNTIF(Nom_personnel,'S13'!F$8:F$68)), INDEX(Nom_personnel,SMALL(IF((COUNTIF('S13'!F$8:F$68,Nom_personnel)=0),ROW(INDIRECT("1:"&ROWS(Nom_personnel)))),ROWS($7:7))),"") -> ALBERT Ludovic | G8: =IF(ROWS($7:7)<=COUNTA(Nom_personnel)-SUMPRODUCT(COUNTIF(Nom_personnel,'S13'!G$8:G$68)), INDEX(Nom_personnel,SMALL(IF((COUNTIF('S13'!G$8:G$68,Nom_personnel)=0),ROW(INDIRECT("1:"&ROWS(Nom_personnel)))),ROWS($7:7))),"") -> ALBERT Ludovic | H8: =IF(ROWS($7:7)<=COUNTA(Nom_personnel)-SUMPRODUCT(COUNTIF(Nom_personnel,'S13'!H$8:H$68)), INDEX(Nom_personnel,SMALL(IF((COUNTIF('S13'!H$8:H$68,Nom_personnel)=0),ROW(INDIRECT("1:"&ROWS(Nom_personnel)))),ROWS($7:7))),"") | O8: =IF(Intérimaires!A3=0, "", Intérimaires!A3)
C9: =IF('Liste du personnel'!A6=0, "", 'Liste du personnel'!A6) -> ANDO Benoît | D9: =IF(ROWS($7:8)<=COUNTA(Nom_personnel)-SUMPRODUCT(COUNTIF(Nom_personnel,'S13'!D$8:D$68)), INDEX(Nom_personnel,SMALL(IF((COUNTIF('S13'!D$8:D$68,Nom_personnel)=0),ROW(INDIRECT("1:"&ROWS(Nom_personnel)))),ROWS($7:8))),"") -> #NUM! | E9: =IF(ROWS($7:8)<=COUNTA(Nom_personnel)-SUMPRODUCT(COUNTIF(Nom_personnel,'S13'!H$8:H$68)), INDEX(Nom_personnel,SMALL(IF((COUNTIF('S13'!H$8:H$68,Nom_personnel)=0),ROW(INDIRECT("1:"&ROWS(Nom_personnel)))),ROWS($7:8))),"") | F9: =IF(ROWS($7:8)<=COUNTA(Nom_personnel)-SUMPRODUCT(COUNTIF(Nom_personnel,'S13'!F$8:F$68)), INDEX(Nom_personnel,SMALL(IF((COUNTIF('S13'!F$8:F$68,Nom_personnel)=0),ROW(INDIRECT("1:"&ROWS(Nom_personnel)))),ROWS($7:8))),"") -> #NUM! | G9: =IF(ROWS($7:8)<=COUNTA(Nom_personnel)-SUMPRODUCT(COUNTIF(Nom_personnel,'S13'!G$8:G$68)), INDEX(Nom_personnel,SMALL(IF((COUNTIF('S13'!G$8:G$68,Nom_personnel)=0),ROW(INDIRECT("1:"&ROWS(Nom_personnel)))),ROWS($7:8))),"") -> #NUM! | H9: =IF(ROWS($7:8)<=COUNTA(Nom_personnel)-SUMPRODUCT(COUNTIF(Nom_personnel,'S13'!H$8:H$68)), INDEX(Nom_personnel,SMALL(IF((COUNTIF('S13'!H$8:H$68,Nom_personnel)=0),ROW(INDIRECT("1:"&ROWS(Nom_personnel)))),ROWS($7:8))),"") | O9: =IF(Intérimaires!A4=0, "", Intérimaires!A4)
C10: =IF('Liste du personnel'!A7=0, "", 'Liste du personnel'!A7) -> BERNARD Serge | D10: =IF(ROWS($7:9)<=COUNTA(Nom_personnel)-SUMPRODUCT(COUNTIF(Nom_personnel,'S13'!D$8:D$68)), INDEX(Nom_personnel,SMALL(IF((COUNTIF('S13'!D$8:D$68,Nom_personnel)=0),ROW(INDIRECT("1:"&ROWS(Nom_personnel)))),ROWS($7:9))),"") -> #NUM! | E10: =IF(ROWS($7:9)<=COUNTA(Nom_personnel)-SUMPRODUCT(COUNTIF(Nom_personnel,'S13'!H$8:H$68)), INDEX(Nom_personnel,SMALL(IF((COUNTIF('S13'!H$8:H$68,Nom_personnel)=0),ROW(INDIRECT("1:"&ROWS(Nom_personnel)))),ROWS($7:9))),"") | F10: =IF(ROWS($7:9)<=COUNTA(Nom_personnel)-SUMPRODUCT(COUNTIF(Nom_personnel,'S13'!F$8:F$68)), INDEX(Nom_personnel,SMALL(IF((COUNTIF('S13'!F$8:F$68,Nom_personnel)=0),ROW(INDIRECT("1:"&ROWS(Nom_personnel)))),ROWS($7:9))),"") -> #NUM! | G10: =IF(ROWS($7:9)<=COUNTA(Nom_personnel)-SUMPRODUCT(COUNTIF(Nom_personnel,'S13'!G$8:G$68)), INDEX(Nom_personnel,SMALL(IF((COUNTIF('S13'!G$8:G$68,Nom_personnel)=0),ROW(INDIRECT("1:"&ROWS(Nom_personnel)))),ROWS($7:9))),"") -> #NUM! | H10: =IF(ROWS($7:9)<=COUNTA(Nom_personnel)-SUMPRODUCT(COUNTIF(Nom_personnel,'S13'!H$8:H$68)), INDEX(Nom_personnel,SMALL(IF((COUNTIF('S13'!H$8:H$68,Nom_personnel)=0),ROW(INDIRECT("1:"&ROWS(Nom_personnel)))),ROWS($7:9))),"") | O10: =IF(Intérimaires!A5=0, "", Intérimaires!A5)
C11: =IF('Liste du personnel'!A8=0, "", 'Liste du personnel'!A8) -> ddfdgdd | D11: =IF(ROWS($7:10)<=COUNTA(Nom_personnel)-SUMPRODUCT(COUNTIF(Nom_personnel,'S13'!D$8:D$68)), INDEX(Nom_personnel,SMALL(IF((COUNTIF('S13'!D$8:D$68,Nom_personnel)=0),ROW(INDIRECT("1:"&ROWS(Nom_personnel)))),ROWS($7:10))),"") -> #NUM! | E11: =IF(ROWS($7:10)<=COUNTA(Nom_personnel)-SUMPRODUCT(COUNTIF(Nom_personnel,'S13'!H$8:H$68)), INDEX(Nom_personnel,SMALL(IF((COUNTIF('S13'!H$8:H$68,Nom_personnel)=0),ROW(INDIRECT("1:"&ROWS(Nom_personnel)))),ROWS($7:10))),"") | F11: =IF(ROWS($7:10)<=COUNTA(Nom_personnel)-SUMPRODUCT(COUNTIF(Nom_personnel,'S13'!F$8:F$68)), INDEX(Nom_personnel,SMALL(IF((COUNTIF('S13'!F$8:F$68,Nom_personnel)=0),ROW(INDIRECT("1:"&ROWS(Nom_personnel)))),ROWS($7:10))),"") -> #NUM! | G11: =IF(ROWS($7:10)<=COUNTA(Nom_personnel)-SUMPRODUCT(COUNTIF(Nom_personnel,'S13'!G$8:G$68)), INDEX(Nom_personnel,SMALL(IF((COUNTIF('S13'!G$8:G$68,Nom_personnel)=0),ROW(INDIRECT("1:"&ROWS(Nom_personnel)))),ROWS($7:10))),"") -> #NUM! | H11: =IF(ROWS($7:10)<=COUNTA(Nom_personnel)-SUMPRODUCT(COUNTIF(Nom_personnel,'S13'!H$8:H$68)), INDEX(Nom_personnel,SMALL(IF((COUNTIF('S13'!H$8:H$68,Nom_personnel)=0),ROW(INDIRECT("1:"&ROWS(Nom_personnel)))),ROWS($7:10))),"") | O11: =IF(Intérimaires!A6=0, "", Intérimaires!A6)
C12: =IF('Liste du personnel'!A9=0, "", 'Liste du personnel'!A9) -> dghb | D12: =IF(ROWS($7:11)<=COUNTA(Nom_personnel)-SUMPRODUCT(COUNTIF(Nom_personnel,'S13'!D$8:D$68)), INDEX(Nom_personnel,SMALL(IF((COUNTIF('S13'!D$8:D$68,Nom_personnel)=0),ROW(INDIRECT("1:"&ROWS(Nom_personnel)))),ROWS($7:11))),"") -> #NUM! | E12: =IF(ROWS($7:11)<=COUNTA(Nom_personnel)-SUMPRODUCT(COUNTIF(Nom_personnel,'S13'!H$8:H$68)), INDEX(Nom_personnel,SMALL(IF((COUNTIF('S13'!H$8:H$68,Nom_personnel)=0),ROW(INDIRECT("1:"&ROWS(Nom_personnel)))),ROWS($7:11))),"") | F12: =IF(ROWS($7:11)<=COUNTA(Nom_personnel)-SUMPRODUCT(COUNTIF(Nom_personnel,'S13'!F$8:F$68)), INDEX(Nom_personnel,SMALL(IF((COUNTIF('S13'!F$8:F$68,Nom_personnel)=0),ROW(INDIRECT("1:"&ROWS(Nom_personnel)))),ROWS($7:11))),"") -> #NUM! | G12: =IF(ROWS($7:11)<=COUNTA(Nom_personnel)-SUMPRODUCT(COUNTIF(Nom_personnel,'S13'!G$8:G$68)), INDEX(Nom_personnel,SMALL(IF((COUNTIF('S13'!G$8:G$68,Nom_personnel)=0),ROW(INDIRECT("1:"&ROWS(Nom_personnel)))),ROWS($7:11))),"") -> #NUM! | H12: =IF(ROWS($7:11)<=COUNTA(Nom_personnel)-SUMPRODUCT(COUNTIF(Nom_personnel,'S13'!H$8:H$68)), INDEX(Nom_personnel,SMALL(IF((COUNTIF('S13'!H$8:H$68,Nom_personnel)=0),ROW(INDIRECT("1:"&ROWS(Nom_personnel)))),ROWS($7:11))),"") | O12: =IF(Intérimaires!A7=0, "", Intérimaires!A7)
C13: =IF('Liste du personnel'!A10=0, "", 'Liste du personnel'!A10) -> egfgf | D13: =IF(ROWS($7:12)<=COUNTA(Nom_personnel)-SUMPRODUCT(COUNTIF(Nom_personnel,'S13'!D$8:D$68)), INDEX(Nom_personnel,SMALL(IF((COUNTIF('S13'!D$8:D$68,Nom_personnel)=0),ROW(INDIRECT("1:"&ROWS(Nom_personnel)))),ROWS($7:12))),"") -> #NUM! | E13: =IF(ROWS($7:12)<=COUNTA(Nom_personnel)-SUMPRODUCT(COUNTIF(Nom_personnel,'S13'!H$8:H$68)), INDEX(Nom_personnel,SMALL(IF((COUNTIF('S13'!H$8:H$68,Nom_personnel)=0),ROW(INDIRECT("1:"&ROWS(Nom_personnel)))),ROWS($7:12))),"") | F13: =IF(ROWS($7:12)<=COUNTA(Nom_personnel)-SUMPRODUCT(COUNTIF(Nom_personnel,'S13'!F$8:F$68)), INDEX(Nom_personnel,SMALL(IF((COUNTIF('S13'!F$8:F$68,Nom_personnel)=0),ROW(INDIRECT("1:"&ROWS(Nom_personnel)))),ROWS($7:12))),"") -> #NUM! | G13: =IF(ROWS($7:12)<=COUNTA(Nom_personnel)-SUMPRODUCT(COUNTIF(Nom_personnel,'S13'!G$8:G$68)), INDEX(Nom_personnel,SMALL(IF((COUNTIF('S13'!G$8:G$68,Nom_personnel)=0),ROW(INDIRECT("1:"&ROWS(Nom_personnel)))),ROWS($7:12))),"") -> #NUM! | H13: =IF(ROWS($7:12)<=COUNTA(Nom_personnel)-SUMPRODUCT(COUNTIF(Nom_personnel,'S13'!H$8:H$68)), INDEX(Nom_personnel,SMALL(IF((COUNTIF('S13'!H$8:H$68,Nom_personnel)=0),ROW(INDIRECT("1:"&ROWS(Nom_personnel)))),ROWS($7:12))),"") | O13: =IF(Intérimaires!A8=0, "", Intérimaires!A8)
C14: =IF('Liste du personnel'!A11=0, "", 'Liste du personnel'!A11) -> evxvcxv | D14: =IF(ROWS($7:13)<=COUNTA(Nom_personnel)-SUMPRODUCT(COUNTIF(Nom_personnel,'S13'!D$8:D$68)), INDEX(Nom_personnel,SMALL(IF((COUNTIF('S13'!D$8:D$68,Nom_personnel)=0),ROW(INDIRECT("1:"&ROWS(Nom_personnel)))),ROWS($7:13))),"") -> #NUM! | E14: =IF(ROWS($7:13)<=COUNTA(Nom_personnel)-SUMPRODUCT(COUNTIF(Nom_personnel,'S13'!H$8:H$68)), INDEX(Nom_personnel,SMALL(IF((COUNTIF('S13'!H$8:H$68,Nom_personnel)=0),ROW(INDIRECT("1:"&ROWS(Nom_personnel)))),ROWS($7:13))),"") | F14: =IF(ROWS($7:13)<=COUNTA(Nom_personnel)-SUMPRODUCT(COUNTIF(Nom_personnel,'S13'!F$8:F$68)), INDEX(Nom_personnel,SMALL(IF((COUNTIF('S13'!F$8:F$68,Nom_personnel)=0),ROW(INDIRECT("1:"&ROWS(Nom_personnel)))),ROWS($7:13))),"") -> #NUM! | G14: =IF(ROWS($7:13)<=COUNTA(Nom_personnel)-SUMPRODUCT(COUNTIF(Nom_personnel,'S13'!G$8:G$68)), INDEX(Nom_personnel,SMALL(IF((COUNTIF('S13'!G$8:G$68,Nom_personnel)=0),ROW(INDIRECT("1:"&ROWS(Nom_personnel)))),ROWS($7:13))),"") -> #NUM! | H14: =IF(ROWS($7:13)<=COUNTA(Nom_personnel)-SUMPRODUCT(COUNTIF(Nom_personnel,'S13'!H$8:H$68)), INDEX(Nom_personnel,SMALL(IF((COUNTIF('S13'!H$8:H$68,Nom_personnel)=0),ROW(INDIRECT("1:"&ROWS(Nom_personnel)))),ROWS($7:13))),"") | O14: =IF(Intérimaires!A9=0, "", Intérimaires!A9)
C15: =IF('Liste du personnel'!A12=0, "", 'Liste du personnel'!A12) -> gggsdg | D15: =IF(ROWS($7:14)<=COUNTA(Nom_personnel)-SUMPRODUCT(COUNTIF(Nom_personnel,'S13'!D$8:D$68)), INDEX(Nom_personnel,SMALL(IF((COUNTIF('S13'!D$8:D$68,Nom_personnel)=0),ROW(INDIRECT("1:"&ROWS(Nom_personnel)))),ROWS($7:14))),"") -> #NUM! | E15: =IF(ROWS($7:14)<=COUNTA(Nom_personnel)-SUMPRODUCT(COUNTIF(Nom_personnel,'S13'!H$8:H$68)), INDEX(Nom_personnel,SMALL(IF((COUNTIF('S13'!H$8:H$68,Nom_personnel)=0),ROW(INDIRECT("1:"&ROWS(Nom_personnel)))),ROWS($7:14))),"") | F15: =IF(ROWS($7:14)<=COUNTA(Nom_personnel)-SUMPRODUCT(COUNTIF(Nom_personnel,'S13'!F$8:F$68)), INDEX(Nom_personnel,SMALL(IF((COUNTIF('S13'!F$8:F$68,Nom_personnel)=0),ROW(INDIRECT("1:"&ROWS(Nom_personnel)))),ROWS($7:14))),"") -> #NUM! | G15: =IF(ROWS($7:14)<=COUNTA(Nom_personnel)-SUMPRODUCT(COUNTIF(Nom_personnel,'S13'!G$8:G$68)), INDEX(Nom_personnel,SMALL(IF((COUNTIF('S13'!G$8:G$68,Nom_personnel)=0),ROW(INDIRECT("1:"&ROWS(Nom_personnel)))),ROWS($7:14))),"") -> #NUM! | H15: =IF(ROWS($7:14)<=COUNTA(Nom_personnel)-SUMPRODUCT(COUNTIF(Nom_personnel,'S13'!H$8:H$68)), INDEX(Nom_personnel,SMALL(IF((COUNTIF('S13'!H$8:H$68,Nom_personnel)=0),ROW(INDIRECT("1:"&ROWS(Nom_personnel)))),ROWS($7:14))),"") | O15: =IF(Intérimaires!A10=0, "", Intérimaires!A10)
C16: =IF('Liste du personnel'!A13=0, "", 'Liste du personnel'!A13) -> gghdfgdf | D16: =IF(ROWS($7:15)<=COUNTA(Nom_personnel)-SUMPRODUCT(COUNTIF(Nom_personnel,'S13'!D$8:D$68)), INDEX(Nom_personnel,SMALL(IF((COUNTIF('S13'!D$8:D$68,Nom_personnel)=0),ROW(INDIRECT("1:"&ROWS(Nom_personnel)))),ROWS($7:15))),"") -> #NUM! | E16: =IF(ROWS($7:15)<=COUNTA(Nom_personnel)-SUMPRODUCT(COUNTIF(Nom_personnel,'S13'!H$8:H$68)), INDEX(Nom_personnel,SMALL(IF((COUNTIF('S13'!H$8:H$68,Nom_personnel)=0),ROW(INDIRECT("1:"&ROWS(Nom_personnel)))),ROWS($7:15))),"") | F16: =IF(ROWS($7:15)<=COUNTA(Nom_personnel)-SUMPRODUCT(COUNTIF(Nom_personnel,'S13'!F$8:F$68)), INDEX(Nom_personnel,SMALL(IF((COUNTIF('S13'!F$8:F$68,Nom_personnel)=0),ROW(INDIRECT("1:"&ROWS(Nom_personnel)))),ROWS($7:15))),"") -> #NUM! | G16: =IF(ROWS($7:15)<=COUNTA(Nom_personnel)-SUMPRODUCT(COUNTIF(Nom_personnel,'S13'!G$8:G$68)), INDEX(Nom_personnel,SMALL(IF((COUNTIF('S13'!G$8:G$68,Nom_personnel)=0),ROW(INDIRECT("1:"&ROWS(Nom_personnel)))),ROWS($7:15))),"") -> #NUM! | H16: =IF(ROWS($7:15)<=COUNTA(Nom_personnel)-SUMPRODUCT(COUNTIF(Nom_personnel,'S13'!H$8:H$68)), INDEX(Nom_personnel,SMALL(IF((COUNTIF('S13'!H$8:H$68,Nom_personnel)=0),ROW(INDIRECT("1:"&ROWS(Nom_personnel)))),ROWS($7:15))),"") | O16: =IF(Intérimaires!A11=0, "", Intérimaires!A11)
C17: =IF('Liste du personnel'!A14=0, "", 'Liste du personnel'!A14) -> ifdfgf | D17: =IF(ROWS($7:16)<=COUNTA(Nom_personnel)-SUMPRODUCT(COUNTIF(Nom_personnel,'S13'!D$8:D$68)), INDEX(Nom_personnel,SMALL(IF((COUNTIF('S13'!D$8:D$68,Nom_personnel)=0),ROW(INDIRECT("1:"&ROWS(Nom_personnel)))),ROWS($7:16))),"") -> #NUM! | E17: =IF(ROWS($7:16)<=COUNTA(Nom_personnel)-SUMPRODUCT(COUNTIF(Nom_personnel,'S13'!H$8:H$68)), INDEX(Nom_personnel,SMALL(IF((COUNTIF('S13'!H$8:H$68,Nom_personnel)=0),ROW(INDIRECT("1:"&ROWS(Nom_personnel)))),ROWS($7:16))),"") | F17: =IF(ROWS($7:16)<=COUNTA(Nom_personnel)-SUMPRODUCT(COUNTIF(Nom_personnel,'S13'!F$8:F$68)), INDEX(Nom_personnel,SMALL(IF((COUNTIF('S13'!F$8:F$68,Nom_personnel)=0),ROW(INDIRECT("1:"&ROWS(Nom_personnel)))),ROWS($7:16))),"") -> #NUM! | G17: =IF(ROWS($7:16)<=COUNTA(Nom_personnel)-SUMPRODUCT(COUNTIF(Nom_personnel,'S13'!G$8:G$68)), INDEX(Nom_personnel,SMALL(IF((COUNTIF('S13'!G$8:G$68,Nom_personnel)=0),ROW(INDIRECT("1:"&ROWS(Nom_personnel)))),ROWS($7:16))),"") -> #NUM! | H17: =IF(ROWS($7:16)<=COUNTA(Nom_personnel)-SUMPRODUCT(COUNTIF(Nom_personnel,'S13'!H$8:H$68)), INDEX(Nom_personnel,SMALL(IF((COUNTIF('S13'!H$8:H$68,Nom_personnel)=0),ROW(INDIRECT("1:"&ROWS(Nom_personnel)))),ROWS($7:16))),"") | O17: =IF(Intérimaires!A12=0, "", Intérimaires!A12)
C18: =IF('Liste du personnel'!A15=0, "", 'Liste du personnel'!A15) -> jsdwgfdf | D18: =IF(ROWS($7:17)<=COUNTA(Nom_personnel)-SUMPRODUCT(COUNTIF(Nom_personnel,'S13'!D$8:D$68)), INDEX(Nom_personnel,SMALL(IF((COUNTIF('S13'!D$8:D$68,Nom_personnel)=0),ROW(INDIRECT("1:"&ROWS(Nom_personnel)))),ROWS($7:17))),"") -> #NUM! | E18: =IF(ROWS($7:17)<=COUNTA(Nom_personnel)-SUMPRODUCT(COUNTIF(Nom_personnel,'S13'!H$8:H$68)), INDEX(Nom_personnel,SMALL(IF((COUNTIF('S13'!H$8:H$68,Nom_personnel)=0),ROW(INDIRECT("1:"&ROWS(Nom_personnel)))),ROWS($7:17))),"") | F18: =IF(ROWS($7:17)<=COUNTA(Nom_personnel)-SUMPRODUCT(COUNTIF(Nom_personnel,'S13'!F$8:F$68)), INDEX(Nom_personnel,SMALL(IF((COUNTIF('S13'!F$8:F$68,Nom_personnel)=0),ROW(INDIRECT("1:"&ROWS(Nom_personnel)))),ROWS($7:17))),"") -> #NUM! | G18: =IF(ROWS($7:17)<=COUNTA(Nom_personnel)-SUMPRODUCT(COUNTIF(Nom_personnel,'S13'!G$8:G$68)), INDEX(Nom_personnel,SMALL(IF((COUNTIF('S13'!G$8:G$68,Nom_personnel)=0),ROW(INDIRECT("1:"&ROWS(Nom_personnel)))),ROWS($7:17))),"") -> #NUM! | H18: =IF(ROWS($7:17)<=COUNTA(Nom_personnel)-SUMPRODUCT(COUNTIF(Nom_personnel,'S13'!H$8:H$68)), INDEX(Nom_personnel,SMALL(IF((COUNTIF('S13'!H$8:H$68,Nom_personnel)=0),ROW(INDIRECT("1:"&ROWS(Nom_personnel)))),ROWS($7:17))),"") | O18: =IF(Intérimaires!A13=0, "", Intérimaires!A13)
C19: =IF('Liste du personnel'!A16=0, "", 'Liste du personnel'!A16) -> kdfg | D19: =IF(ROWS($7:18)<=COUNTA(Nom_personnel)-SUMPRODUCT(COUNTIF(Nom_personnel,'S13'!D$8:D$68)), INDEX(Nom_personnel,SMALL(IF((COUNTIF('S13'!D$8:D$68,Nom_personnel)=0),ROW(INDIRECT("1:"&ROWS(Nom_personnel)))),ROWS($7:18))),"") -> #NUM! | E19: =IF(ROWS($7:18)<=COUNTA(Nom_personnel)-SUMPRODUCT(COUNTIF(Nom_personnel,'S13'!H$8:H$68)), INDEX(Nom_personnel,SMALL(IF((COUNTIF('S13'!H$8:H$68,Nom_personnel)=0),ROW(INDIRECT("1:"&ROWS(Nom_personnel)))),ROWS($7:18))),"") | F19: =IF(ROWS($7:18)<=COUNTA(Nom_personnel)-SUMPRODUCT(COUNTIF(Nom_personnel,'S13'!F$8:F$68)), INDEX(Nom_personnel,SMALL(IF((COUNTIF('S13'!F$8:F$68,Nom_personnel)=0),ROW(INDIRECT("1:"&ROWS(Nom_personnel)))),ROWS($7:18))),"") -> #NUM! | G19: =IF(ROWS($7:18)<=COUNTA(Nom_personnel)-SUMPRODUCT(COUNTIF(Nom_personnel,'S13'!G$8:G$68)), INDEX(Nom_personnel,SMALL(IF((COUNTIF('S13'!G$8:G$68,Nom_personnel)=0),ROW(INDIRECT("1:"&ROWS(Nom_personnel)))),ROWS($7:18))),"") -> #NUM! | H19: =IF(ROWS($7:18)<=COUNTA(Nom_personnel)-SUMPRODUCT(COUNTIF(Nom_personnel,'S13'!H$8:H$68)), INDEX(Nom_personnel,SMALL(IF((COUNTIF('S13'!H$8:H$68,Nom_personnel)=0),ROW(INDIRECT("1:"&ROWS(Nom_personnel)))),ROWS($7:18))),"") | O19: =IF(Intérimaires!A14=0, "", Intérimaires!A14)
C20: =IF('Liste du personnel'!A17=0, "", 'Liste du personnel'!A17) -> ltfhd | D20: =IF(ROWS($7:19)<=COUNTA(Nom_personnel)-SUMPRODUCT(COUNTIF(Nom_personnel,'S13'!D$8:D$68)), INDEX(Nom_personnel,SMALL(IF((COUNTIF('S13'!D$8:D$68,Nom_personnel)=0),ROW(INDIRECT("1:"&ROWS(Nom_personnel)))),ROWS($7:19))),"") -> #NUM! | E20: =IF(ROWS($7:19)<=COUNTA(Nom_personnel)-SUMPRODUCT(COUNTIF(Nom_personnel,'S13'!H$8:H$68)), INDEX(Nom_personnel,SMALL(IF((COUNTIF('S13'!H$8:H$68,Nom_personnel)=0),ROW(INDIRECT("1:"&ROWS(Nom_personnel)))),ROWS($7:19))),"") | F20: =IF(ROWS($7:19)<=COUNTA(Nom_personnel)-SUMPRODUCT(COUNTIF(Nom_personnel,'S13'!F$8:F$68)), INDEX(Nom_personnel,SMALL(IF((COUNTIF('S13'!F$8:F$68,Nom_personnel)=0),ROW(INDIRECT("1:"&ROWS(Nom_personnel)))),ROWS($7:19))),"") -> #NUM! | G20: =IF(ROWS($7:19)<=COUNTA(Nom_personnel)-SUMPRODUCT(COUNTIF(Nom_personnel,'S13'!G$8:G$68)), INDEX(Nom_personnel,SMALL(IF((COUNTIF('S13'!G$8:G$68,Nom_personnel)=0),ROW(INDIRECT("1:"&ROWS(Nom_personnel)))),ROWS($7:19))),"") -> #NUM! | H20: =IF(ROWS($7:19)<=COUNTA(Nom_personnel)-SUMPRODUCT(COUNTIF(Nom_personnel,'S13'!H$8:H$68)), INDEX(Nom_personnel,SMALL(IF((COUNTIF('S13'!H$8:H$68,Nom_personnel)=0),ROW(INDIRECT("1:"&ROWS(Nom_personnel)))),ROWS($7:19))),"") | O20: =IF(Intérimaires!A15=0, "", Intérimaires!A15)
C21: =IF('Liste du personnel'!A18=0, "", 'Liste du personnel'!A18) -> ngdder | D21: =IF(ROWS($7:20)<=COUNTA(Nom_personnel)-SUMPRODUCT(COUNTIF(Nom_personnel,'S13'!D$8:D$68)), INDEX(Nom_personnel,SMALL(IF((COUNTIF('S13'!D$8:D$68,Nom_personnel)=0),ROW(INDIRECT("1:"&ROWS(Nom_personnel)))),ROWS($7:20))),"") -> #NUM! | E21: =IF(ROWS($7:20)<=COUNTA(Nom_personnel)-SUMPRODUCT(COUNTIF(Nom_personnel,'S13'!H$8:H$68)), INDEX(Nom_personnel,SMALL(IF((COUNTIF('S13'!H$8:H$68,Nom_personnel)=0),ROW(INDIRECT("1:"&ROWS(Nom_personnel)))),ROWS($7:20))),"") | F21: =IF(ROWS($7:20)<=COUNTA(Nom_personnel)-SUMPRODUCT(COUNTIF(Nom_personnel,'S13'!F$8:F$68)), INDEX(Nom_personnel,SMALL(IF((COUNTIF('S13'!F$8:F$68,Nom_personnel)=0),ROW(INDIRECT("1:"&ROWS(Nom_personnel)))),ROWS($7:20))),"") -> #NUM! | G21: =IF(ROWS($7:20)<=COUNTA(Nom_personnel)-SUMPRODUCT(COUNTIF(Nom_personnel,'S13'!G$8:G$68)), INDEX(Nom_personnel,SMALL(IF((COUNTIF('S13'!G$8:G$68,Nom_personnel)=0),ROW(INDIRECT("1:"&ROWS(Nom_personnel)))),ROWS($7:20))),"") -> #NUM! | H21: =IF(ROWS($7:20)<=COUNTA(Nom_personnel)-SUMPRODUCT(COUNTIF(Nom_personnel,'S13'!H$8:H$68)), INDEX(Nom_personnel,SMALL(IF((COUNTIF('S13'!H$8:H$68,Nom_personnel)=0),ROW(INDIRECT("1:"&ROWS(Nom_personnel)))),ROWS($7:20))),"") | O21: =IF(Intérimaires!A16=0, "", Intérimaires!A16)
C22: =IF('Liste du personnel'!A19=0, "", 'Liste du personnel'!A19) | D22: =IF(ROWS($7:21)<=COUNTA(Nom_personnel)-SUMPRODUCT(COUNTIF(Nom_personnel,'S13'!D$8:D$68)), INDEX(Nom_personnel,SMALL(IF((COUNTIF('S13'!D$8:D$68,Nom_personnel)=0),ROW(INDIRECT("1:"&ROWS(Nom_personnel)))),ROWS($7:21))),"") -> #NUM! | E22: =IF(ROWS($7:21)<=COUNTA(Nom_personnel)-SUMPRODUCT(COUNTIF(Nom_personnel,'S13'!H$8:H$68)), INDEX(Nom_personnel,SMALL(IF((COUNTIF('S13'!H$8:H$68,Nom_personnel)=0),ROW(INDIRECT("1:"&ROWS(Nom_personnel)))),ROWS($7:21))),"") | F22: =IF(ROWS($7:21)<=COUNTA(Nom_personnel)-SUMPRODUCT(COUNTIF(Nom_personnel,'S13'!F$8:F$68)), INDEX(Nom_personnel,SMALL(IF((COUNTIF('S13'!F$8:F$68,Nom_personnel)=0),ROW(INDIRECT("1:"&ROWS(Nom_personnel)))),ROWS($7:21))),"") -> #NUM! | G22: =IF(ROWS($7:21)<=COUNTA(Nom_personnel)-SUMPRODUCT(COUNTIF(Nom_personnel,'S13'!G$8:G$68)), INDEX(Nom_personnel,SMALL(IF((COUNTIF('S13'!G$8:G$68,Nom_personnel)=0),ROW(INDIRECT("1:"&ROWS(Nom_personnel)))),ROWS($7:21))),"") -> #NUM! | H22: =IF(ROWS($7:21)<=COUNTA(Nom_personnel)-SUMPRODUCT(COUNTIF(Nom_personnel,'S13'!H$8:H$68)), INDEX(Nom_personnel,SMALL(IF((COUNTIF('S13'!H$8:H$68,Nom_personnel)=0),ROW(INDIRECT("1:"&ROWS(Nom_personnel)))),ROWS($7:21))),"") | O22: =IF(Intérimaires!A17=0, "", Intérimaires!A17)
C23: =IF('Liste du personnel'!A20=0, "", 'Liste du personnel'!A20) | D23: =IF(ROWS($7:22)<=COUNTA(Nom_personnel)-SUMPRODUCT(COUNTIF(Nom_personnel,'S13'!D$8:D$68)), INDEX(Nom_personnel,SMALL(IF((COUNTIF('S13'!D$8:D$68,Nom_personnel)=0),ROW(INDIRECT("1:"&ROWS(Nom_personnel)))),ROWS($7:22))),"") -> #NUM! | E23: =IF(ROWS($7:22)<=COUNTA(Nom_personnel)-SUMPRODUCT(COUNTIF(Nom_personnel,'S13'!E$8:E$68)), INDEX(Nom_personnel,SMALL(IF((COUNTIF('S13'!E$8:E$68,Nom_personnel)=0),ROW(INDIRECT("1:"&ROWS(Nom_personnel)))),ROWS($7:22))),"") -> #NUM! | F23: =IF(ROWS($7:22)<=COUNTA(Nom_personnel)-SUMPRODUCT(COUNTIF(Nom_personnel,'S13'!F$8:F$68)), INDEX(Nom_personnel,SMALL(IF((COUNTIF('S13'!F$8:F$68,Nom_personnel)=0),ROW(INDIRECT("1:"&ROWS(Nom_personnel)))),ROWS($7:22))),"") -> #NUM! | G23: =IF(ROWS($7:22)<=COUNTA(Nom_personnel)-SUMPRODUCT(COUNTIF(Nom_personnel,'S13'!G$8:G$68)), INDEX(Nom_personnel,SMALL(IF((COUNTIF('S13'!G$8:G$68,Nom_personnel)=0),ROW(INDIRECT("1:"&ROWS(Nom_personnel)))),ROWS($7:22))),"") -> #NUM! | H23: =IF(ROWS($7:22)<=COUNTA(Nom_personnel)-SUMPRODUCT(COUNTIF(Nom_personnel,'S13'!H$8:H$68)), INDEX(Nom_personnel,SMALL(IF((COUNTIF('S13'!H$8:H$68,Nom_personnel)=0),ROW(INDIRECT("1:"&ROWS(Nom_personnel)))),ROWS($7:22))),"") | O23: =IF(Intérimaires!A18=0, "", Intérimaires!A18)
C24: =IF('Liste du personnel'!A21=0, "", 'Liste du personnel'!A21) | D24: =IF(ROWS($7:23)<=COUNTA(Nom_personnel)-SUMPRODUCT(COUNTIF(Nom_personnel,'S13'!D$8:D$68)), INDEX(Nom_personnel,SMALL(IF((COUNTIF('S13'!D$8:D$68,Nom_personnel)=0),ROW(INDIRECT("1:"&ROWS(Nom_personnel)))),ROWS($7:23))),"") -> #NUM! | E24: =IF(ROWS($7:23)<=COUNTA(Nom_personnel)-SUMPRODUCT(COUNTIF(Nom_personnel,'S13'!E$8:E$68)), INDEX(Nom_personnel,SMALL(IF((COUNTIF('S13'!E$8:E$68,Nom_personnel)=0),ROW(INDIRECT("1:"&ROWS(Nom_personnel)))),ROWS($7:23))),"") -> #NUM! | F24: =IF(ROWS($7:23)<=COUNTA(Nom_personnel)-SUMPRODUCT(COUNTIF(Nom_personnel,'S13'!F$8:F$68)), INDEX(Nom_personnel,SMALL(IF((COUNTIF('S13'!F$8:F$68,Nom_personnel)=0),ROW(INDIRECT("1:"&ROWS(Nom_personnel)))),ROWS($7:23))),"") -> #NUM! | G24: =IF(ROWS($7:23)<=COUNTA(Nom_personnel)-SUMPRODUCT(COUNTIF(Nom_personnel,'S13'!G$8:G$68)), INDEX(Nom_personnel,SMALL(IF((COUNTIF('S13'!G$8:G$68,Nom_personnel)=0),ROW(INDIRECT("1:"&ROWS(Nom_personnel)))),ROWS($7:23))),"") -> #NUM! | O24: =IF(Intérimaires!A19=0, "", Intérimaires!A19)
C25: =IF('Liste du personnel'!A22=0, "", 'Liste du personnel'!A22) | D25: =IF(ROWS($7:24)<=COUNTA(Nom_personnel)-SUMPRODUCT(COUNTIF(Nom_personnel,'S13'!D$8:D$68)), INDEX(Nom_personnel,SMALL(IF((COUNTIF('S13'!D$8:D$68,Nom_personnel)=0),ROW(INDIRECT("1:"&ROWS(Nom_personnel)))),ROWS($7:24))),"") -> #NUM! | E25: =IF(ROWS($7:24)<=COUNTA(Nom_personnel)-SUMPRODUCT(COUNTIF(Nom_personnel,'S13'!E$8:E$68)), INDEX(Nom_personnel,SMALL(IF((COUNTIF('S13'!E$8:E$68,Nom_personnel)=0),ROW(INDIRECT("1:"&ROWS(Nom_personnel)))),ROWS($7:24))),"") -> #NUM! | F25: =IF(ROWS($7:24)<=COUNTA(Nom_personnel)-SUMPRODUCT(COUNTIF(Nom_personnel,'S13'!F$8:F$68)), INDEX(Nom_personnel,SMALL(IF((COUNTIF('S13'!F$8:F$68,Nom_personnel)=0),ROW(INDIRECT("1:"&ROWS(Nom_personnel)))),ROWS($7:24))),"") -> #NUM! | G25: =IF(ROWS($7:24)<=COUNTA(Nom_personnel)-SUMPRODUCT(COUNTIF(Nom_personnel,'S13'!G$8:G$68)), INDEX(Nom_personnel,SMALL(IF((COUNTIF('S13'!G$8:G$68,Nom_personnel)=0),ROW(INDIRECT("1:"&ROWS(Nom_personnel)))),ROWS($7:24))),"") -> #NUM! | O25: =IF(Intérimaires!A20=0, "", Intérimaires!A20)
C26: =IF('Liste du personnel'!A23=0, "", 'Liste du personnel'!A23) | D26: =IF(ROWS($7:25)<=COUNTA(Nom_personnel)-SUMPRODUCT(COUNTIF(Nom_personnel,'S13'!D$8:D$68)), INDEX(Nom_personnel,SMALL(IF((COUNTIF('S13'!D$8:D$68,Nom_personnel)=0),ROW(INDIRECT("1:"&ROWS(Nom_personnel)))),ROWS($7:25))),"") -> #NUM! | E26: =IF(ROWS($7:25)<=COUNTA(Nom_personnel)-SUMPRODUCT(COUNTIF(Nom_personnel,'S13'!E$8:E$68)), INDEX(Nom_personnel,SMALL(IF((COUNTIF('S13'!E$8:E$68,Nom_personnel)=0),ROW(INDIRECT("1:"&ROWS(Nom_personnel)))),ROWS($7:25))),"") -> #NUM! | F26: =IF(ROWS($7:25)<=COUNTA(Nom_personnel)-SUMPRODUCT(COUNTIF(Nom_personnel,'S13'!F$8:F$68)), INDEX(Nom_personnel,SMALL(IF((COUNTIF('S13'!F$8:F$68,Nom_personnel)=0),ROW(INDIRECT("1:"&ROWS(Nom_personnel)))),ROWS($7:25))),"") -> #NUM! | G26: =IF(ROWS($7:25)<=COUNTA(Nom_personnel)-SUMPRODUCT(COUNTIF(Nom_personnel,'S13'!G$8:G$68)), INDEX(Nom_personnel,SMALL(IF((COUNTIF('S13'!G$8:G$68,Nom_personnel)=0),ROW(INDIRECT("1:"&ROWS(Nom_personnel)))),ROWS($7:25))),"") -> #NUM! | O26: =IF(Intérimaires!A21=0, "", Intérimaires!A21)
C27: =IF('Liste du personnel'!A24=0, "", 'Liste du personnel'!A24) | D27: =IF(ROWS($7:26)<=COUNTA(Nom_personnel)-SUMPRODUCT(COUNTIF(Nom_personnel,'S13'!D$8:D$68)), INDEX(Nom_personnel,SMALL(IF((COUNTIF('S13'!D$8:D$68,Nom_personnel)=0),ROW(INDIRECT("1:"&ROWS(Nom_personnel)))),ROWS($7:26))),"") -> #NUM! | E27: =IF(ROWS($7:26)<=COUNTA(Nom_personnel)-SUMPRODUCT(COUNTIF(Nom_personnel,'S13'!E$8:E$68)), INDEX(Nom_personnel,SMALL(IF((COUNTIF('S13'!E$8:E$68,Nom_personnel)=0),ROW(INDIRECT("1:"&ROWS(Nom_personnel)))),ROWS($7:26))),"") -> #NUM! | F27: =IF(ROWS($7:26)<=COUNTA(Nom_personnel)-SUMPRODUCT(COUNTIF(Nom_personnel,'S13'!F$8:F$68)), INDEX(Nom_personnel,SMALL(IF((COUNTIF('S13'!F$8:F$68,Nom_personnel)=0),ROW(INDIRECT("1:"&ROWS(Nom_personnel)))),ROWS($7:26))),"") -> #NUM! | G27: =IF(ROWS($7:26)<=COUNTA(Nom_personnel)-SUMPRODUCT(COUNTIF(Nom_personnel,'S13'!G$8:G$68)), INDEX(Nom_personnel,SMALL(IF((COUNTIF('S13'!G$8:G$68,Nom_personnel)=0),ROW(INDIRECT("1:"&ROWS(Nom_personnel)))),ROWS($7:26))),"") -> #NUM! | O27: =IF(Intérimaires!A22=0, "", Intérimaires!A22)
C28: =IF('Liste du personnel'!A25=0, "", 'Liste du personnel'!A25) | D28: =IF(ROWS($7:27)<=COUNTA(Nom_personnel)-SUMPRODUCT(COUNTIF(Nom_personnel,'S13'!D$8:D$68)), INDEX(Nom_personnel,SMALL(IF((COUNTIF('S13'!D$8:D$68,Nom_personnel)=0),ROW(INDIRECT("1:"&ROWS(Nom_personnel)))),ROWS($7:27))),"") -> #NUM! | E28: =IF(ROWS($7:27)<=COUNTA(Nom_personnel)-SUMPRODUCT(COUNTIF(Nom_personnel,'S13'!E$8:E$68)), INDEX(Nom_personnel,SMALL(IF((COUNTIF('S13'!E$8:E$68,Nom_personnel)=0),ROW(INDIRECT("1:"&ROWS(Nom_personnel)))),ROWS($7:27))),"") -> #NUM! | F28: =IF(ROWS($7:27)<=COUNTA(Nom_personnel)-SUMPRODUCT(COUNTIF(Nom_personnel,'S13'!F$8:F$68)), INDEX(Nom_personnel,SMALL(IF((COUNTIF('S13'!F$8:F$68,Nom_personnel)=0),ROW(INDIRECT("1:"&ROWS(Nom_personnel)))),ROWS($7:27))),"") -> #NUM! | G28: =IF(ROWS($7:27)<=COUNTA(Nom_personnel)-SUMPRODUCT(COUNTIF(Nom_personnel,'S13'!G$8:G$68)), INDEX(Nom_personnel,SMALL(IF((COUNTIF('S13'!G$8:G$68,Nom_personnel)=0),ROW(INDIRECT("1:"&ROWS(Nom_personnel)))),ROWS($7:27))),"") -> #NUM! | O28: =IF(Intérimaires!A23=0, "", Intérimaires!A23)
C29: =IF('Liste du personnel'!A26=0, "", 'Liste du personnel'!A26) | D29: =IF(ROWS($7:28)<=COUNTA(Nom_personnel)-SUMPRODUCT(COUNTIF(Nom_personnel,'S13'!D29:D89)), INDEX(Nom_personnel,SMALL(IF((COUNTIF('S13'!D29:D89,Nom_personnel)=0),ROW(INDIRECT("1:"&ROWS(Nom_personnel)))),ROWS($7:28))),"") -> #NUM! | E29: =IF(ROWS($7:28)<=COUNTA(Nom_personnel)-SUMPRODUCT(COUNTIF(Nom_personnel,'S13'!E$8:E$68)), INDEX(Nom_personnel,SMALL(IF((COUNTIF('S13'!E$8:E$68,Nom_personnel)=0),ROW(INDIRECT("1:"&ROWS(Nom_personnel)))),ROWS($7:28))),"") -> #NUM! | F29: =IF(ROWS($7:28)<=COUNTA(Nom_personnel)-SUMPRODUCT(COUNTIF(Nom_personnel,'S13'!F$8:F$68)), INDEX(Nom_personnel,SMALL(IF((COUNTIF('S13'!F$8:F$68,Nom_personnel)=0),ROW(INDIRECT("1:"&ROWS(Nom_personnel)))),ROWS($7:28))),"") -> #NUM! | G29: =IF(ROWS($7:28)<=COUNTA(Nom_personnel)-SUMPRODUCT(COUNTIF(Nom_personnel,'S13'!G$8:G$68)), INDEX(Nom_personnel,SMALL(IF((COUNTIF('S13'!G$8:G$68,Nom_personnel)=0),ROW(INDIRECT("1:"&ROWS(Nom_personnel)))),ROWS($7:28))),"") -> #NUM! | O29: =IF(Intérimaires!A24=0, "", Intérimaires!A24)
C30: =IF('Liste du personnel'!A27=0, "", 'Liste du personnel'!A27) | D30: =IF(ROWS($7:29)<=COUNTA(Nom_personnel)-SUMPRODUCT(COUNTIF(Nom_personnel,'S13'!D30:D90)), INDEX(Nom_personnel,SMALL(IF((COUNTIF('S13'!D30:D90,Nom_personnel)=0),ROW(INDIRECT("1:"&ROWS(Nom_personnel)))),ROWS($7:29))),"") -> #NUM! | E30: =IF(ROWS($7:29)<=COUNTA(Nom_personnel)-SUMPRODUCT(COUNTIF(Nom_personnel,'S13'!E$8:E$68)), INDEX(Nom_personnel,SMALL(IF((COUNTIF('S13'!E$8:E$68,Nom_personnel)=0),ROW(INDIRECT("1:"&ROWS(Nom_personnel)))),ROWS($7:29))),"") -> #NUM! | F30: =IF(ROWS($7:29)<=COUNTA(Nom_personnel)-SUMPRODUCT(COUNTIF(Nom_personnel,'S13'!F$8:F$68)), INDEX(Nom_personnel,SMALL(IF((COUNTIF('S13'!F$8:F$68,Nom_personnel)=0),ROW(INDIRECT("1:"&ROWS(Nom_personnel)))),ROWS($7:29))),"") -> #NUM! | G30: =IF(ROWS($7:29)<=COUNTA(Nom_personnel)-SUMPRODUCT(COUNTIF(Nom_personnel,'S13'!G$8:G$68)), INDEX(Nom_personnel,SMALL(IF((COUNTIF('S13'!G$8:G$68,Nom_personnel)=0),ROW(INDIRECT("1:"&ROWS(Nom_personnel)))),ROWS($7:29))),"") -> #NUM! | O30: =IF(Intérimaires!A25=0, "", Intérimaires!A25)
C31: =IF('Liste du personnel'!A28=0, "", 'Liste du personnel'!A28) | D31: =IF(ROWS($7:30)<=COUNTA(Nom_personnel)-SUMPRODUCT(COUNTIF(Nom_personnel,'S13'!D31:D91)), INDEX(Nom_personnel,SMALL(IF((COUNTIF('S13'!D31:D91,Nom_personnel)=0),ROW(INDIRECT("1:"&ROWS(Nom_personnel)))),ROWS($7:30))),"") -> #NUM! | E31: =IF(ROWS($7:30)<=COUNTA(Nom_personnel)-SUMPRODUCT(COUNTIF(Nom_personnel,'S13'!E$8:E$68)), INDEX(Nom_personnel,SMALL(IF((COUNTIF('S13'!E$8:E$68,Nom_personnel)=0),ROW(INDIRECT("1:"&ROWS(Nom_personnel)))),ROWS($7:30))),"") -> #NUM! | F31: =IF(ROWS($7:30)<=COUNTA(Nom_personnel)-SUMPRODUCT(COUNTIF(Nom_personnel,'S13'!F$8:F$68)), INDEX(Nom_personnel,SMALL(IF((COUNTIF('S13'!F$8:F$68,Nom_personnel)=0),ROW(INDIRECT("1:"&ROWS(Nom_personnel)))),ROWS($7:30))),"") -> #NUM! | G31: =IF(ROWS($7:30)<=COUNTA(Nom_personnel)-SUMPRODUCT(COUNTIF(Nom_personnel,'S13'!G$8:G$68)), INDEX(Nom_personnel,SMALL(IF((COUNTIF('S13'!G$8:G$68,Nom_personnel)=0),ROW(INDIRECT("1:"&ROWS(Nom_personnel)))),ROWS($7:30))),"") -> #NUM! | O31: =IF(Intérimaires!A26=0, "", Intérimaires!A26)
C32: =IF('Liste du personnel'!A29=0, "", 'Liste du personnel'!A29) | D32: =IF(ROWS($7:31)<=COUNTA(Nom_personnel)-SUMPRODUCT(COUNTIF(Nom_personnel,'S13'!D32:D92)), INDEX(Nom_personnel,SMALL(IF((COUNTIF('S13'!D32:D92,Nom_personnel)=0),ROW(INDIRECT("1:"&ROWS(Nom_personnel)))),ROWS($7:31))),"") -> #NUM! | E32: =IF(ROWS($7:31)<=COUNTA(Nom_personnel)-SUMPRODUCT(COUNTIF(Nom_personnel,'S13'!E$8:E$68)), INDEX(Nom_personnel,SMALL(IF((COUNTIF('S13'!E$8:E$68,Nom_personnel)=0),ROW(INDIRECT("1:"&ROWS(Nom_personnel)))),ROWS($7:31))),"") -> #NUM! | F32: =IF(ROWS($7:31)<=COUNTA(Nom_personnel)-SUMPRODUCT(COUNTIF(Nom_personnel,'S13'!F$8:F$68)), INDEX(Nom_personnel,SMALL(IF((COUNTIF('S13'!F$8:F$68,Nom_personnel)=0),ROW(INDIRECT("1:"&ROWS(Nom_personnel)))),ROWS($7:31))),"") -> #NUM! | G32: =IF(ROWS($7:31)<=COUNTA(Nom_personnel)-SUMPRODUCT(COUNTIF(Nom_personnel,'S13'!G$8:G$68)), INDEX(Nom_personnel,SMALL(IF((COUNTIF('S13'!G$8:G$68,Nom_personnel)=0),ROW(INDIRECT("1:"&ROWS(Nom_personnel)))),ROWS($7:31))),"") -> #NUM! | O32: =IF(Intérimaires!A27=0, "", Intérimaires!A27)
C33: =IF('Liste du personnel'!A30=0, "", 'Liste du personnel'!A30) | D33: =IF(ROWS($7:32)<=COUNTA(Nom_personnel)-SUMPRODUCT(COUNTIF(Nom_personnel,'S13'!D33:D93)), INDEX(Nom_personnel,SMALL(IF((COUNTIF('S13'!D33:D93,Nom_personnel)=0),ROW(INDIRECT("1:"&ROWS(Nom_personnel)))),ROWS($7:32))),"") -> #NUM! | E33: =IF(ROWS($7:32)<=COUNTA(Nom_personnel)-SUMPRODUCT(COUNTIF(Nom_personnel,'S13'!E$8:E$68)), INDEX(Nom_personnel,SMALL(IF((COUNTIF('S13'!E$8:E$68,Nom_personnel)=0),ROW(INDIRECT("1:"&ROWS(Nom_personnel)))),ROWS($7:32))),"") -> #NUM! | F33: =IF(ROWS($7:32)<=COUNTA(Nom_personnel)-SUMPRODUCT(COUNTIF(Nom_personnel,'S13'!F$8:F$68)), INDEX(Nom_personnel,SMALL(IF((COUNTIF('S13'!F$8:F$68,Nom_personnel)=0),ROW(INDIRECT("1:"&ROWS(Nom_personnel)))),ROWS($7:32))),"") -> #NUM! | G33: =IF(ROWS($7:32)<=COUNTA(Nom_personnel)-SUMPRODUCT(COUNTIF(Nom_personnel,'S13'!G$8:G$68)), INDEX(Nom_personnel,SMALL(IF((COUNTIF('S13'!G$8:G$68,Nom_personnel)=0),ROW(INDIRECT("1:"&ROWS(Nom_personnel)))),ROWS($7:32))),"") -> #NUM! | O33: =IF(Intérimaires!A28=0, "", Intérimaires!A28)
C34: =IF('Liste du personnel'!A31=0, "", 'Liste du personnel'!A31) | D34: =IF(ROWS($7:33)<=COUNTA(Nom_personnel)-SUMPRODUCT(COUNTIF(Nom_personnel,'S13'!D34:D94)), INDEX(Nom_personnel,SMALL(IF((COUNTIF('S13'!D34:D94,Nom_personnel)=0),ROW(INDIRECT("1:"&ROWS(Nom_personnel)))),ROWS($7:33))),"") -> #NUM! | E34: =IF(ROWS($7:33)<=COUNTA(Nom_personnel)-SUMPRODUCT(COUNTIF(Nom_personnel,'S13'!E$8:E$68)), INDEX(Nom_personnel,SMALL(IF((COUNTIF('S13'!E$8:E$68,Nom_personnel)=0),ROW(INDIRECT("1:"&ROWS(Nom_personnel)))),ROWS($7:33))),"") -> #NUM! | F34: =IF(ROWS($7:33)<=COUNTA(Nom_personnel)-SUMPRODUCT(COUNTIF(Nom_personnel,'S13'!F$8:F$68)), INDEX(Nom_personnel,SMALL(IF((COUNTIF('S13'!F$8:F$68,Nom_personnel)=0),ROW(INDIRECT("1:"&ROWS(Nom_personnel)))),ROWS($7:33))),"") -> #NUM! | G34: =IF(ROWS($7:33)<=COUNTA(Nom_personnel)-SUMPRODUCT(COUNTIF(Nom_personnel,'S13'!G$8:G$68)), INDEX(Nom_personnel,SMALL(IF((COUNTIF('S13'!G$8:G$68,Nom_personnel)=0),ROW(INDIRECT("1:"&ROWS(Nom_personnel)))),ROWS($7:33))),"") -> #NUM! | O34: =IF(Intérimaires!A29=0, "", Intérimaires!A29)
C35: =IF('Liste du personnel'!A32=0, "", 'Liste du personnel'!A32) | D35: =IF(ROWS($7:34)<=COUNTA(Nom_personnel)-SUMPRODUCT(COUNTIF(Nom_personnel,'S13'!D35:D95)), INDEX(Nom_personnel,SMALL(IF((COUNTIF('S13'!D35:D95,Nom_personnel)=0),ROW(INDIRECT("1:"&ROWS(Nom_personnel)))),ROWS($7:34))),"") -> #NUM! | E35: =IF(ROWS($7:34)<=COUNTA(Nom_personnel)-SUMPRODUCT(COUNTIF(Nom_personnel,'S13'!E$8:E$68)), INDEX(Nom_personnel,SMALL(IF((COUNTIF('S13'!E$8:E$68,Nom_personnel)=0),ROW(INDIRECT("1:"&ROWS(Nom_personnel)))),ROWS($7:34))),"") -> #NUM! | F35: =IF(ROWS($7:34)<=COUNTA(Nom_personnel)-SUMPRODUCT(COUNTIF(Nom_personnel,'S13'!F$8:F$68)), INDEX(Nom_personnel,SMALL(IF((COUNTIF('S13'!F$8:F$68,Nom_personnel)=0),ROW(INDIRECT("1:"&ROWS(Nom_personnel)))),ROWS($7:34))),"") -> #NUM! | G35: =IF(ROWS($7:34)<=COUNTA(Nom_personnel)-SUMPRODUCT(COUNTIF(Nom_personnel,'S13'!G$8:G$68)), INDEX(Nom_personnel,SMALL(IF((COUNTIF('S13'!G$8:G$68,Nom_personnel)=0),ROW(INDIRECT("1:"&ROWS(Nom_personnel)))),ROWS($7:34))),"") -> #NUM! | O35: =IF(Intérimaires!A30=0, "", Intérimaires!A30)
C36: =IF('Liste du personnel'!A33=0, "", 'Liste du personnel'!A33) | D36: =IF(ROWS($7:35)<=COUNTA(Nom_personnel)-SUMPRODUCT(COUNTIF(Nom_personnel,'S13'!D36:D96)), INDEX(Nom_personnel,SMALL(IF((COUNTIF('S13'!D36:D96,Nom_personnel)=0),ROW(INDIRECT("1:"&ROWS(Nom_personnel)))),ROWS($7:35))),"") -> #NUM! | E36: =IF(ROWS($7:35)<=COUNTA(Nom_personnel)-SUMPRODUCT(COUNTIF(Nom_personnel,'S13'!E$8:E$68)), INDEX(Nom_personnel,SMALL(IF((COUNTIF('S13'!E$8:E$68,Nom_personnel)=0),ROW(INDIRECT("1:"&ROWS(Nom_personnel)))),ROWS($7:35))),"") -> #NUM! | F36: =IF(ROWS($7:35)<=COUNTA(Nom_personnel)-SUMPRODUCT(COUNTIF(Nom_personnel,'S13'!F$8:F$68)), INDEX(Nom_personnel,SMALL(IF((COUNTIF('S13'!F$8:F$68,Nom_personnel)=0),ROW(INDIRECT("1:"&ROWS(Nom_personnel)))),ROWS($7:35))),"") -> #NUM! | G36: =IF(ROWS($7:35)<=COUNTA(Nom_personnel)-SUMPRODUCT(COUNTIF(Nom_personnel,'S13'!G$8:G$68)), INDEX(Nom_personnel,SMALL(IF((COUNTIF('S13'!G$8:G$68,Nom_personnel)=0),ROW(INDIRECT("1:"&ROWS(Nom_personnel)))),ROWS($7:35))),"") -> #NUM! | O36: =IF(Intérimaires!A31=0, "", Intérimaires!A31)
C37: =IF('Liste du personnel'!A34=0, "", 'Liste du personnel'!A34) | D37: =IF(ROWS($7:36)<=COUNTA(Nom_personnel)-SUMPRODUCT(COUNTIF(Nom_personnel,'S13'!D37:D97)), INDEX(Nom_personnel,SMALL(IF((COUNTIF('S13'!D37:D97,Nom_personnel)=0),ROW(INDIRECT("1:"&ROWS(Nom_personnel)))),ROWS($7:36))),"") -> #NUM! | E37: =IF(ROWS($7:36)<=COUNTA(Nom_personnel)-SUMPRODUCT(COUNTIF(Nom_personnel,'S13'!E$8:E$68)), INDEX(Nom_personnel,SMALL(IF((COUNTIF('S13'!E$8:E$68,Nom_personnel)=0),ROW(INDIRECT("1:"&ROWS(Nom_personnel)))),ROWS($7:36))),"") -> #NUM! | F37: =IF(ROWS($7:36)<=COUNTA(Nom_personnel)-SUMPRODUCT(COUNTIF(Nom_personnel,'S13'!F$8:F$68)), INDEX(Nom_personnel,SMALL(IF((COUNTIF('S13'!F$8:F$68,Nom_personnel)=0),ROW(INDIRECT("1:"&ROWS(Nom_personnel)))),ROWS($7:36))),"") -> #NUM! | G37: =IF(ROWS($7:36)<=COUNTA(Nom_personnel)-SUMPRODUCT(COUNTIF(Nom_personnel,'S13'!G$8:G$68)), INDEX(Nom_personnel,SMALL(IF((COUNTIF('S13'!G$8:G$68,Nom_personnel)=0),ROW(INDIRECT("1:"&ROWS(Nom_personnel)))),ROWS($7:36))),"") -> #NUM! | O37: =IF(Intérimaires!A32=0, "", Intérimaires!A32)
C38: =IF('Liste du personnel'!A35=0, "", 'Liste du personnel'!A35) | D38: =IF(ROWS($7:37)<=COUNTA(Nom_personnel)-SUMPRODUCT(COUNTIF(Nom_personnel,'S13'!D38:D98)), INDEX(Nom_personnel,SMALL(IF((COUNTIF('S13'!D38:D98,Nom_personnel)=0),ROW(INDIRECT("1:"&ROWS(Nom_personnel)))),ROWS($7:37))),"") -> #NUM! | E38: =IF(ROWS($7:37)<=COUNTA(Nom_personnel)-SUMPRODUCT(COUNTIF(Nom_personnel,'S13'!E$8:E$68)), INDEX(Nom_personnel,SMALL(IF((COUNTIF('S13'!E$8:E$68,Nom_personnel)=0),ROW(INDIRECT("1:"&ROWS(Nom_personnel)))),ROWS($7:37))),"") -> #NUM! | F38: =IF(ROWS($7:37)<=COUNTA(Nom_personnel)-SUMPRODUCT(COUNTIF(Nom_personnel,'S13'!F$8:F$68)), INDEX(Nom_personnel,SMALL(IF((COUNTIF('S13'!F$8:F$68,Nom_personnel)=0),ROW(INDIRECT("1:"&ROWS(Nom_personnel)))),ROWS($7:37))),"") -> #NUM! | G38: =IF(ROWS($7:37)<=COUNTA(Nom_personnel)-SUMPRODUCT(COUNTIF(Nom_personnel,'S13'!G$8:G$68)), INDEX(Nom_personnel,SMALL(IF((COUNTIF('S13'!G$8:G$68,Nom_personnel)=0),ROW(INDIRECT("1:"&ROWS(Nom_personnel)))),ROWS($7:37))),"") -> #NUM! | O38: =IF(Intérimaires!A33=0, "", Intérimaires!A33)
C39: =IF('Liste du personnel'!A36=0, "", 'Liste du personnel'!A36) | D39: =IF(ROWS($7:38)<=COUNTA(Nom_personnel)-SUMPRODUCT(COUNTIF(Nom_personnel,'S13'!D39:D99)), INDEX(Nom_personnel,SMALL(IF((COUNTIF('S13'!D39:D99,Nom_personnel)=0),ROW(INDIRECT("1:"&ROWS(Nom_personnel)))),ROWS($7:38))),"") -> #NUM! | E39: =IF(ROWS($7:38)<=COUNTA(Nom_personnel)-SUMPRODUCT(COUNTIF(Nom_personnel,'S13'!E$8:E$68)), INDEX(Nom_personnel,SMALL(IF((COUNTIF('S13'!E$8:E$68,Nom_personnel)=0),ROW(INDIRECT("1:"&ROWS(Nom_personnel)))),ROWS($7:38))),"") -> #NUM! | F39: =IF(ROWS($7:38)<=COUNTA(Nom_personnel)-SUMPRODUCT(COUNTIF(Nom_personnel,'S13'!F$8:F$68)), INDEX(Nom_personnel,SMALL(IF((COUNTIF('S13'!F$8:F$68,Nom_personnel)=0),ROW(INDIRECT("1:"&ROWS(Nom_personnel)))),ROWS($7:38))),"") -> #NUM! | G39: =IF(ROWS($7:38)<=COUNTA(Nom_personnel)-SUMPRODUCT(COUNTIF(Nom_personnel,'S13'!G$8:G$68)), INDEX(Nom_personnel,SMALL(IF((COUNTIF('S13'!G$8:G$68,Nom_personnel)=0),ROW(INDIRECT("1:"&ROWS(Nom_personnel)))),ROWS($7:38))),"") -> #NUM! | O39: =IF(Intérimaires!A34=0, "", Intérimaires!A34)
C40: =IF('Liste du personnel'!A37=0, "", 'Liste du personnel'!A37) | D40: =IF(ROWS($7:39)<=COUNTA(Nom_personnel)-SUMPRODUCT(COUNTIF(Nom_personnel,'S13'!D40:D100)), INDEX(Nom_personnel,SMALL(IF((COUNTIF('S13'!D40:D100,Nom_personnel)=0),ROW(INDIRECT("1:"&ROWS(Nom_personnel)))),ROWS($7:39))),"") -> #NUM! | E40: =IF(ROWS($7:39)<=COUNTA(Nom_personnel)-SUMPRODUCT(COUNTIF(Nom_personnel,'S13'!E$8:E$68)), INDEX(Nom_personnel,SMALL(IF((COUNTIF('S13'!E$8:E$68,Nom_personnel)=0),ROW(INDIRECT("1:"&ROWS(Nom_personnel)))),ROWS($7:39))),"") -> #NUM! | F40: =IF(ROWS($7:39)<=COUNTA(Nom_personnel)-SUMPRODUCT(COUNTIF(Nom_personnel,'S13'!F$8:F$68)), INDEX(Nom_personnel,SMALL(IF((COUNTIF('S13'!F$8:F$68,Nom_personnel)=0),ROW(INDIRECT("1:"&ROWS(Nom_personnel)))),ROWS($7:39))),"") -> #NUM! | G40: =IF(ROWS($7:39)<=COUNTA(Nom_personnel)-SUMPRODUCT(COUNTIF(Nom_personnel,'S13'!G$8:G$68)), INDEX(Nom_personnel,SMALL(IF((COUNTIF('S13'!G$8:G$68,Nom_personnel)=0),ROW(INDIRECT("1:"&ROWS(Nom_personnel)))),ROWS($7:39))),"") -> #NUM! | O40: =IF(Intérimaires!A35=0, "", Intérimaires!A35)
C41: =IF('Liste du personnel'!A38=0, "", 'Liste du personnel'!A38) | D41: =IF(ROWS($7:40)<=COUNTA(Nom_personnel)-SUMPRODUCT(COUNTIF(Nom_personnel,'S13'!D41:D101)), INDEX(Nom_personnel,SMALL(IF((COUNTIF('S13'!D41:D101,Nom_personnel)=0),ROW(INDIRECT("1:"&ROWS(Nom_personnel)))),ROWS($7:40))),"") -> #NUM! | E41: =IF(ROWS($7:40)<=COUNTA(Nom_personnel)-SUMPRODUCT(COUNTIF(Nom_personnel,'S13'!E$8:E$68)), INDEX(Nom_personnel,SMALL(IF((COUNTIF('S13'!E$8:E$68,Nom_personnel)=0),ROW(INDIRECT("1:"&ROWS(Nom_personnel)))),ROWS($7:40))),"") -> #NUM! | F41: =IF(ROWS($7:40)<=COUNTA(Nom_personnel)-SUMPRODUCT(COUNTIF(Nom_personnel,'S13'!F$8:F$68)), INDEX(Nom_personnel,SMALL(IF((COUNTIF('S13'!F$8:F$68,Nom_personnel)=0),ROW(INDIRECT("1:"&ROWS(Nom_personnel)))),ROWS($7:40))),"") -> #NUM! | G41: =IF(ROWS($7:40)<=COUNTA(Nom_personnel)-SUMPRODUCT(COUNTIF(Nom_personnel,'S13'!G$8:G$68)), INDEX(Nom_personnel,SMALL(IF((COUNTIF('S13'!G$8:G$68,Nom_personnel)=0),ROW(INDIRECT("1:"&ROWS(Nom_personnel)))),ROWS($7:40))),"") -> #NUM! | O41: =IF(Intérimaires!A36=0, "", Intérimaires!A36)
C42: =IF('Liste du personnel'!A39=0, "", 'Liste du personnel'!A39) | D42: =IF(ROWS($7:41)<=COUNTA(Nom_personnel)-SUMPRODUCT(COUNTIF(Nom_personnel,'S13'!D42:D102)), INDEX(Nom_personnel,SMALL(IF((COUNTIF('S13'!D42:D102,Nom_personnel)=0),ROW(INDIRECT("1:"&ROWS(Nom_personnel)))),ROWS($7:41))),"") -> #NUM! | E42: =IF(ROWS($7:41)<=COUNTA(Nom_personnel)-SUMPRODUCT(COUNTIF(Nom_personnel,'S13'!E$8:E$68)), INDEX(Nom_personnel,SMALL(IF((COUNTIF('S13'!E$8:E$68,Nom_personnel)=0),ROW(INDIRECT("1:"&ROWS(Nom_personnel)))),ROWS($7:41))),"") -> #NUM! | F42: =IF(ROWS($7:41)<=COUNTA(Nom_personnel)-SUMPRODUCT(COUNTIF(Nom_personnel,'S13'!F$8:F$68)), INDEX(Nom_personnel,SMALL(IF((COUNTIF('S13'!F$8:F$68,Nom_personnel)=0),ROW(INDIRECT("1:"&ROWS(Nom_personnel)))),ROWS($7:41))),"") -> #NUM! | G42: =IF(ROWS($7:41)<=COUNTA(Nom_personnel)-SUMPRODUCT(COUNTIF(Nom_personnel,'S13'!G$8:G$68)), INDEX(Nom_personnel,SMALL(IF((COUNTIF('S13'!G$8:G$68,Nom_personnel)=0),ROW(INDIRECT("1:"&ROWS(Nom_personnel)))),ROWS($7:41))),"") -> #NUM! | O42: =IF(Intérimaires!A37=0, "", Intérimaires!A37)
C43: =IF('Liste du personnel'!A40=0, "", 'Liste du personnel'!A40) | D43: =IF(ROWS($7:42)<=COUNTA(Nom_personnel)-SUMPRODUCT(COUNTIF(Nom_personnel,'S13'!D43:D103)), INDEX(Nom_personnel,SMALL(IF((COUNTIF('S13'!D43:D103,Nom_personnel)=0),ROW(INDIRECT("1:"&ROWS(Nom_personnel)))),ROWS($7:42))),"") -> #NUM! | E43: =IF(ROWS($7:42)<=COUNTA(Nom_personnel)-SUMPRODUCT(COUNTIF(Nom_personnel,'S13'!E$8:E$68)), INDEX(Nom_personnel,SMALL(IF((COUNTIF('S13'!E$8:E$68,Nom_personnel)=0),ROW(INDIRECT("1:"&ROWS(Nom_personnel)))),ROWS($7:42))),"") -> #NUM! | F43: =IF(ROWS($7:42)<=COUNTA(Nom_personnel)-SUMPRODUCT(COUNTIF(Nom_personnel,'S13'!F$8:F$68)), INDEX(Nom_personnel,SMALL(IF((COUNTIF('S13'!F$8:F$68,Nom_personnel)=0),ROW(INDIRECT("1:"&ROWS(Nom_personnel)))),ROWS($7:42))),"") -> #NUM! | G43: =IF(ROWS($7:42)<=COUNTA(Nom_personnel)-SUMPRODUCT(COUNTIF(Nom_personnel,'S13'!G$8:G$68)), INDEX(Nom_personnel,SMALL(IF((COUNTIF('S13'!G$8:G$68,Nom_personnel)=0),ROW(INDIRECT("1:"&ROWS(Nom_personnel)))),ROWS($7:42))),"") -> #NUM! | O43: =IF(Intérimaires!A38=0, "", Intérimaires!A38)
C44: =IF('Liste du personnel'!A41=0, "", 'Liste du personnel'!A41) | D44: =IF(ROWS($7:43)<=COUNTA(Nom_personnel)-SUMPRODUCT(COUNTIF(Nom_personnel,'S13'!D44:D104)), INDEX(Nom_personnel,SMALL(IF((COUNTIF('S13'!D44:D104,Nom_personnel)=0),ROW(INDIRECT("1:"&ROWS(Nom_personnel)))),ROWS($7:43))),"") -> #NUM! | E44: =IF(ROWS($7:43)<=COUNTA(Nom_personnel)-SUMPRODUCT(COUNTIF(Nom_personnel,'S13'!E$8:E$68)), INDEX(Nom_personnel,SMALL(IF((COUNTIF('S13'!E$8:E$68,Nom_personnel)=0),ROW(INDIRECT("1:"&ROWS(Nom_personnel)))),ROWS($7:43))),"") -> #NUM! | F44: =IF(ROWS($7:43)<=COUNTA(Nom_personnel)-SUMPRODUCT(COUNTIF(Nom_personnel,'S13'!F$8:F$68)), INDEX(Nom_personnel,SMALL(IF((COUNTIF('S13'!F$8:F$68,Nom_personnel)=0),ROW(INDIRECT("1:"&ROWS(Nom_personnel)))),ROWS($7:43))),"") -> #NUM! | G44: =IF(ROWS($7:43)<=COUNTA(Nom_personnel)-SUMPRODUCT(COUNTIF(Nom_personnel,'S13'!G$8:G$68)), INDEX(Nom_personnel,SMALL(IF((COUNTIF('S13'!G$8:G$68,Nom_personnel)=0),ROW(INDIRECT("1:"&ROWS(Nom_personnel)))),ROWS($7:43))),"") -> #NUM! | O44: =IF(Intérimaires!A39=0, "", Intérimaires!A39)
C45: =IF('Liste du personnel'!A42=0, "", 'Liste du personnel'!A42) | D45: =IF(ROWS($7:44)<=COUNTA(Nom_personnel)-SUMPRODUCT(COUNTIF(Nom_personnel,'S13'!D45:D105)), INDEX(Nom_personnel,SMALL(IF((COUNTIF('S13'!D45:D105,Nom_personnel)=0),ROW(INDIRECT("1:"&ROWS(Nom_personnel)))),ROWS($7:44))),"") -> #NUM! | E45: =IF(ROWS($7:44)<=COUNTA(Nom_personnel)-SUMPRODUCT(COUNTIF(Nom_personnel,'S13'!E$8:E$68)), INDEX(Nom_personnel,SMALL(IF((COUNTIF('S13'!E$8:E$68,Nom_personnel)=0),ROW(INDIRECT("1:"&ROWS(Nom_personnel)))),ROWS($7:44))),"") -> #NUM! | F45: =IF(ROWS($7:44)<=COUNTA(Nom_personnel)-SUMPRODUCT(COUNTIF(Nom_personnel,'S13'!F$8:F$68)), INDEX(Nom_personnel,SMALL(IF((COUNTIF('S13'!F$8:F$68,Nom_personnel)=0),ROW(INDIRECT("1:"&ROWS(Nom_personnel)))),ROWS($7:44))),"") -> #NUM! | G45: =IF(ROWS($7:44)<=COUNTA(Nom_personnel)-SUMPRODUCT(COUNTIF(Nom_personnel,'S13'!G$8:G$68)), INDEX(Nom_personnel,SMALL(IF((COUNTIF('S13'!G$8:G$68,Nom_personnel)=0),ROW(INDIRECT("1:"&ROWS(Nom_personnel)))),ROWS($7:44))),"") -> #NUM! | O45: =IF(Intérimaires!A40=0, "", Intérimaires!A40)
C46: =IF('Liste du personnel'!A43=0, "", 'Liste du personnel'!A43) | D46: =IF(ROWS($7:45)<=COUNTA(Nom_personnel)-SUMPRODUCT(COUNTIF(Nom_personnel,'S13'!D46:D106)), INDEX(Nom_personnel,SMALL(IF((COUNTIF('S13'!D46:D106,Nom_personnel)=0),ROW(INDIRECT("1:"&ROWS(Nom_personnel)))),ROWS($7:45))),"") -> #NUM! | E46: =IF(ROWS($7:45)<=COUNTA(Nom_personnel)-SUMPRODUCT(COUNTIF(Nom_personnel,'S13'!E$8:E$68)), INDEX(Nom_personnel,SMALL(IF((COUNTIF('S13'!E$8:E$68,Nom_personnel)=0),ROW(INDIRECT("1:"&ROWS(Nom_personnel)))),ROWS($7:45))),"") -> #NUM! | F46: =IF(ROWS($7:45)<=COUNTA(Nom_personnel)-SUMPRODUCT(COUNTIF(Nom_personnel,'S13'!F$8:F$68)), INDEX(Nom_personnel,SMALL(IF((COUNTIF('S13'!F$8:F$68,Nom_personnel)=0),ROW(INDIRECT("1:"&ROWS(Nom_personnel)))),ROWS($7:45))),"") -> #NUM! | G46: =IF(ROWS($7:45)<=COUNTA(Nom_personnel)-SUMPRODUCT(COUNTIF(Nom_personnel,'S13'!G$8:G$68)), INDEX(Nom_personnel,SMALL(IF((COUNTIF('S13'!G$8:G$68,Nom_personnel)=0),ROW(INDIRECT("1:"&ROWS(Nom_personnel)))),ROWS($7:45))),"") -> #NUM! | O46: =IF(Intérimaires!A41=0, "", Intérimaires!A41)
C47: =IF('Liste du personnel'!A44=0, "", 'Liste du personnel'!A44) | D47: =IF(ROWS($7:46)<=COUNTA(Nom_personnel)-SUMPRODUCT(COUNTIF(Nom_personnel,'S13'!D47:D107)), INDEX(Nom_personnel,SMALL(IF((COUNTIF('S13'!D47:D107,Nom_personnel)=0),ROW(INDIRECT("1:"&ROWS(Nom_personnel)))),ROWS($7:46))),"") -> #NUM! | E47: =IF(ROWS($7:46)<=COUNTA(Nom_personnel)-SUMPRODUCT(COUNTIF(Nom_personnel,'S13'!E$8:E$68)), INDEX(Nom_personnel,SMALL(IF((COUNTIF('S13'!E$8:E$68,Nom_personnel)=0),ROW(INDIRECT("1:"&ROWS(Nom_personnel)))),ROWS($7:46))),"") -> #NUM! | F47: =IF(ROWS($7:46)<=COUNTA(Nom_personnel)-SUMPRODUCT(COUNTIF(Nom_personnel,'S13'!F$8:F$68)), INDEX(Nom_personnel,SMALL(IF((COUNTIF('S13'!F$8:F$68,Nom_personnel)=0),ROW(INDIRECT("1:"&ROWS(Nom_personnel)))),ROWS($7:46))),"") -> #NUM! | G47: =IF(ROWS($7:46)<=COUNTA(Nom_personnel)-SUMPRODUCT(COUNTIF(Nom_personnel,'S13'!G$8:G$68)), INDEX(Nom_personnel,SMALL(IF((COUNTIF('S13'!G$8:G$68,Nom_personnel)=0),ROW(INDIRECT("1:"&ROWS(Nom_personnel)))),ROWS($7:46))),"") -> #NUM! | O47: =IF(Intérimaires!A42=0, "", Intérimaires!A42)
C48: =IF('Liste du personnel'!A45=0, "", 'Liste du personnel'!A45) | D48: =IF(ROWS($7:47)<=COUNTA(Nom_personnel)-SUMPRODUCT(COUNTIF(Nom_personnel,'S13'!D48:D108)), INDEX(Nom_personnel,SMALL(IF((COUNTIF('S13'!D48:D108,Nom_personnel)=0),ROW(INDIRECT("1:"&ROWS(Nom_personnel)))),ROWS($7:47))),"") -> #NUM! | E48: =IF(ROWS($7:47)<=COUNTA(Nom_personnel)-SUMPRODUCT(COUNTIF(Nom_personnel,'S13'!E$8:E$68)), INDEX(Nom_personnel,SMALL(IF((COUNTIF('S13'!E$8:E$68,Nom_personnel)=0),ROW(INDIRECT("1:"&ROWS(Nom_personnel)))),ROWS($7:47))),"") -> #NUM! | F48: =IF(ROWS($7:47)<=COUNTA(Nom_personnel)-SUMPRODUCT(COUNTIF(Nom_personnel,'S13'!F$8:F$68)), INDEX(Nom_personnel,SMALL(IF((COUNTIF('S13'!F$8:F$68,Nom_personnel)=0),ROW(INDIRECT("1:"&ROWS(Nom_personnel)))),ROWS($7:47))),"") -> #NUM! | G48: =IF(ROWS($7:47)<=COUNTA(Nom_personnel)-SUMPRODUCT(COUNTIF(Nom_personnel,'S13'!G$8:G$68)), INDEX(Nom_personnel,SMALL(IF((COUNTIF('S13'!G$8:G$68,Nom_personnel)=0),ROW(INDIRECT("1:"&ROWS(Nom_personnel)))),ROWS($7:47))),"") -> #NUM! | O48: =IF(Intérimaires!A43=0, "", Intérimaires!A43)
C49: =IF('Liste du personnel'!A46=0, "", 'Liste du personnel'!A46) | D49: =IF(ROWS($7:48)<=COUNTA(Nom_personnel)-SUMPRODUCT(COUNTIF(Nom_personnel,'S13'!D49:D109)), INDEX(Nom_personnel,SMALL(IF((COUNTIF('S13'!D49:D109,Nom_personnel)=0),ROW(INDIRECT("1:"&ROWS(Nom_personnel)))),ROWS($7:48))),"") -> #NUM! | E49: =IF(ROWS($7:48)<=COUNTA(Nom_personnel)-SUMPRODUCT(COUNTIF(Nom_personnel,'S13'!E$8:E$68)), INDEX(Nom_personnel,SMALL(IF((COUNTIF('S13'!E$8:E$68,Nom_personnel)=0),ROW(INDIRECT("1:"&ROWS(Nom_personnel)))),ROWS($7:48))),"") -> #NUM! | F49: =IF(ROWS($7:48)<=COUNTA(Nom_personnel)-SUMPRODUCT(COUNTIF(Nom_personnel,'S13'!F$8:F$68)), INDEX(Nom_personnel,SMALL(IF((COUNTIF('S13'!F$8:F$68,Nom_personnel)=0),ROW(INDIRECT("1:"&ROWS(Nom_personnel)))),ROWS($7:48))),"") -> #NUM! | G49: =IF(ROWS($7:48)<=COUNTA(Nom_personnel)-SUMPRODUCT(COUNTIF(Nom_personnel,'S13'!G$8:G$68)), INDEX(Nom_personnel,SMALL(IF((COUNTIF('S13'!G$8:G$68,Nom_personnel)=0),ROW(INDIRECT("1:"&ROWS(Nom_personnel)))),ROWS($7:48))),"") -> #NUM! | O49: =IF(Intérimaires!A44=0, "", Intérimaires!A44)
C50: =IF('Liste du personnel'!A47=0, "", 'Liste du personnel'!A47) | D50: =IF(ROWS($7:49)<=COUNTA(Nom_personnel)-SUMPRODUCT(COUNTIF(Nom_personnel,'S13'!D50:D110)), INDEX(Nom_personnel,SMALL(IF((COUNTIF('S13'!D50:D110,Nom_personnel)=0),ROW(INDIRECT("1:"&ROWS(Nom_personnel)))),ROWS($7:49))),"") -> #NUM! | E50: =IF(ROWS($7:49)<=COUNTA(Nom_personnel)-SUMPRODUCT(COUNTIF(Nom_personnel,'S13'!E$8:E$68)), INDEX(Nom_personnel,SMALL(IF((COUNTIF('S13'!E$8:E$68,Nom_personnel)=0),ROW(INDIRECT("1:"&ROWS(Nom_personnel)))),ROWS($7:49))),"") -> #NUM! | F50: =IF(ROWS($7:49)<=COUNTA(Nom_personnel)-SUMPRODUCT(COUNTIF(Nom_personnel,'S13'!F$8:F$68)), INDEX(Nom_personnel,SMALL(IF((COUNTIF('S13'!F$8:F$68,Nom_personnel)=0),ROW(INDIRECT("1:"&ROWS(Nom_personnel)))),ROWS($7:49))),"") -> #NUM! | G50: =IF(ROWS($7:49)<=COUNTA(Nom_personnel)-SUMPRODUCT(COUNTIF(Nom_personnel,'S13'!G$8:G$68)), INDEX(Nom_personnel,SMALL(IF((COUNTIF('S13'!G$8:G$68,Nom_personnel)=0),ROW(INDIRECT("1:"&ROWS(Nom_personnel)))),ROWS($7:49))),"") -> #NUM! | O50: =IF(Intérimaires!A45=0, "", Intérimaires!A45)
C51: =IF('Liste du personnel'!A48=0, "", 'Liste du personnel'!A48) | D51: =IF(ROWS($7:50)<=COUNTA(Nom_personnel)-SUMPRODUCT(COUNTIF(Nom_personnel,'S13'!D51:D111)), INDEX(Nom_personnel,SMALL(IF((COUNTIF('S13'!D51:D111,Nom_personnel)=0),ROW(INDIRECT("1:"&ROWS(Nom_personnel)))),ROWS($7:50))),"") -> #NUM! | E51: =IF(ROWS($7:50)<=COUNTA(Nom_personnel)-SUMPRODUCT(COUNTIF(Nom_personnel,'S13'!E$8:E$68)), INDEX(Nom_personnel,SMALL(IF((COUNTIF('S13'!E$8:E$68,Nom_personnel)=0),ROW(INDIRECT("1:"&ROWS(Nom_personnel)))),ROWS($7:50))),"") -> #NUM! | F51: =IF(ROWS($7:50)<=COUNTA(Nom_personnel)-SUMPRODUCT(COUNTIF(Nom_personnel,'S13'!F$8:F$68)), INDEX(Nom_personnel,SMALL(IF((COUNTIF('S13'!F$8:F$68,Nom_personnel)=0),ROW(INDIRECT("1:"&ROWS(Nom_personnel)))),ROWS($7:50))),"") -> #NUM! | G51: =IF(ROWS($7:50)<=COUNTA(Nom_personnel)-SUMPRODUCT(COUNTIF(Nom_personnel,'S13'!G$8:G$68)), INDEX(Nom_personnel,SMALL(IF((COUNTIF('S13'!G$8:G$68,Nom_personnel)=0),ROW(INDIRECT("1:"&ROWS(Nom_personnel)))),ROWS($7:50))),"") -> #NUM! | O51: =IF(Intérimaires!A46=0, "", Intérimaires!A46)
C52: =IF('Liste du personnel'!A49=0, "", 'Liste du personnel'!A49) | D52: =IF(ROWS($7:51)<=COUNTA(Nom_personnel)-SUMPRODUCT(COUNTIF(Nom_personnel,'S13'!D52:D112)), INDEX(Nom_personnel,SMALL(IF((COUNTIF('S13'!D52:D112,Nom_personnel)=0),ROW(INDIRECT("1:"&ROWS(Nom_personnel)))),ROWS($7:51))),"") -> #NUM! | E52: =IF(ROWS($7:51)<=COUNTA(Nom_personnel)-SUMPRODUCT(COUNTIF(Nom_personnel,'S13'!E$8:E$68)), INDEX(Nom_personnel,SMALL(IF((COUNTIF('S13'!E$8:E$68,Nom_personnel)=0),ROW(INDIRECT("1:"&ROWS(Nom_personnel)))),ROWS($7:51))),"") -> #NUM! | F52: =IF(ROWS($7:51)<=COUNTA(Nom_personnel)-SUMPRODUCT(COUNTIF(Nom_personnel,'S13'!F$8:F$68)), INDEX(Nom_personnel,SMALL(IF((COUNTIF('S13'!F$8:F$68,Nom_personnel)=0),ROW(INDIRECT("1:"&ROWS(Nom_personnel)))),ROWS($7:51))),"") -> #NUM! | G52: =IF(ROWS($7:51)<=COUNTA(Nom_personnel)-SUMPRODUCT(COUNTIF(Nom_personnel,'S13'!G$8:G$68)), INDEX(Nom_personnel,SMALL(IF((COUNTIF('S13'!G$8:G$68,Nom_personnel)=0),ROW(INDIRECT("1:"&ROWS(Nom_personnel)))),ROWS($7:51))),"") -> #NUM! | O52: =IF(Intérimaires!A47=0, "", Intérimaires!A47)
C53: =IF('Liste du personnel'!A50=0, "", 'Liste du personnel'!A50) | D53: =IF(ROWS($7:52)<=COUNTA(Nom_personnel)-SUMPRODUCT(COUNTIF(Nom_personnel,'S13'!D53:D113)), INDEX(Nom_personnel,SMALL(IF((COUNTIF('S13'!D53:D113,Nom_personnel)=0),ROW(INDIRECT("1:"&ROWS(Nom_personnel)))),ROWS($7:52))),"") -> #NUM! | E53: =IF(ROWS($7:52)<=COUNTA(Nom_personnel)-SUMPRODUCT(COUNTIF(Nom_personnel,'S13'!E$8:E$68)), INDEX(Nom_personnel,SMALL(IF((COUNTIF('S13'!E$8:E$68,Nom_personnel)=0),ROW(INDIRECT("1:"&ROWS(Nom_personnel)))),ROWS($7:52))),"") -> #NUM! | F53: =IF(ROWS($7:52)<=COUNTA(Nom_personnel)-SUMPRODUCT(COUNTIF(Nom_personnel,'S13'!F$8:F$68)), INDEX(Nom_personnel,SMALL(IF((COUNTIF('S13'!F$8:F$68,Nom_personnel)=0),ROW(INDIRECT("1:"&ROWS(Nom_personnel)))),ROWS($7:52))),"") -> #NUM! | G53: =IF(ROWS($7:52)<=COUNTA(Nom_personnel)-SUMPRODUCT(COUNTIF(Nom_personnel,'S13'!G$8:G$68)), INDEX(Nom_personnel,SMALL(IF((COUNTIF('S13'!G$8:G$68,Nom_personnel)=0),ROW(INDIRECT("1:"&ROWS(Nom_personnel)))),ROWS($7:52))),"") -> #NUM! | O53: =IF(Intérimaires!A48=0, "", Intérimaires!A48)
C54: =IF('Liste du personnel'!A51=0, "", 'Liste du personnel'!A51) | D54: =IF(ROWS($7:53)<=COUNTA(Nom_personnel)-SUMPRODUCT(COUNTIF(Nom_personnel,'S13'!D54:D114)), INDEX(Nom_personnel,SMALL(IF((COUNTIF('S13'!D54:D114,Nom_personnel)=0),ROW(INDIRECT("1:"&ROWS(Nom_personnel)))),ROWS($7:53))),"") -> #NUM! | E54: =IF(ROWS($7:53)<=COUNTA(Nom_personnel)-SUMPRODUCT(COUNTIF(Nom_personnel,'S13'!E$8:E$68)), INDEX(Nom_personnel,SMALL(IF((COUNTIF('S13'!E$8:E$68,Nom_personnel)=0),ROW(INDIRECT("1:"&ROWS(Nom_personnel)))),ROWS($7:53))),"") -> #NUM! | F54: =IF(ROWS($7:53)<=COUNTA(Nom_personnel)-SUMPRODUCT(COUNTIF(Nom_personnel,'S13'!F$8:F$68)), INDEX(Nom_personnel,SMALL(IF((COUNTIF('S13'!F$8:F$68,Nom_personnel)=0),ROW(INDIRECT("1:"&ROWS(Nom_personnel)))),ROWS($7:53))),"") -> #NUM! | G54: =IF(ROWS($7:53)<=COUNTA(Nom_personnel)-SUMPRODUCT(COUNTIF(Nom_personnel,'S13'!G$8:G$68)), INDEX(Nom_personnel,SMALL(IF((COUNTIF('S13'!G$8:G$68,Nom_personnel)=0),ROW(INDIRECT("1:"&ROWS(Nom_personnel)))),ROWS($7:53))),"") -> #NUM! | O54: =IF(Intérimaires!A49=0, "", Intérimaires!A49)
C55: =IF('Liste du personnel'!A52=0, "", 'Liste du personnel'!A52) | D55: =IF(ROWS($7:54)<=COUNTA(Nom_personnel)-SUMPRODUCT(COUNTIF(Nom_personnel,'S13'!D55:D115)), INDEX(Nom_personnel,SMALL(IF((COUNTIF('S13'!D55:D115,Nom_personnel)=0),ROW(INDIRECT("1:"&ROWS(Nom_personnel)))),ROWS($7:54))),"") -> #NUM! | E55: =IF(ROWS($7:54)<=COUNTA(Nom_personnel)-SUMPRODUCT(COUNTIF(Nom_personnel,'S13'!E$8:E$68)), INDEX(Nom_personnel,SMALL(IF((COUNTIF('S13'!E$8:E$68,Nom_personnel)=0),ROW(INDIRECT("1:"&ROWS(Nom_personnel)))),ROWS($7:54))),"") -> #NUM! | F55: =IF(ROWS($7:54)<=COUNTA(Nom_personnel)-SUMPRODUCT(COUNTIF(Nom_personnel,'S13'!F$8:F$68)), INDEX(Nom_personnel,SMALL(IF((COUNTIF('S13'!F$8:F$68,Nom_personnel)=0),ROW(INDIRECT("1:"&ROWS(Nom_personnel)))),ROWS($7:54))),"") -> #NUM! | G55: =IF(ROWS($7:54)<=COUNTA(Nom_personnel)-SUMPRODUCT(COUNTIF(Nom_personnel,'S13'!G$8:G$68)), INDEX(Nom_personnel,SMALL(IF((COUNTIF('S13'!G$8:G$68,Nom_personnel)=0),ROW(INDIRECT("1:"&ROWS(Nom_personnel)))),ROWS($7:54))),"") -> #NUM! | O55: =IF(Intérimaires!A50=0, "", Intérimaires!A50)
C56: =IF('Liste du personnel'!A53=0, "", 'Liste du personnel'!A53) | D56: =IF(ROWS($7:55)<=COUNTA(Nom_personnel)-SUMPRODUCT(COUNTIF(Nom_personnel,'S13'!D56:D116)), INDEX(Nom_personnel,SMALL(IF((COUNTIF('S13'!D56:D116,Nom_personnel)=0),ROW(INDIRECT("1:"&ROWS(Nom_personnel)))),ROWS($7:55))),"") -> #NUM! | E56: =IF(ROWS($7:55)<=COUNTA(Nom_personnel)-SUMPRODUCT(COUNTIF(Nom_personnel,'S13'!E$8:E$68)), INDEX(Nom_personnel,SMALL(IF((COUNTIF('S13'!E$8:E$68,Nom_personnel)=0),ROW(INDIRECT("1:"&ROWS(Nom_personnel)))),ROWS($7:55))),"") -> #NUM! | F56: =IF(ROWS($7:55)<=COUNTA(Nom_personnel)-SUMPRODUCT(COUNTIF(Nom_personnel,'S13'!F$8:F$68)), INDEX(Nom_personnel,SMALL(IF((COUNTIF('S13'!F$8:F$68,Nom_personnel)=0),ROW(INDIRECT("1:"&ROWS(Nom_personnel)))),ROWS($7:55))),"") -> #NUM! | G56: =IF(ROWS($7:55)<=COUNTA(Nom_personnel)-SUMPRODUCT(COUNTIF(Nom_personnel,'S13'!G$8:G$68)), INDEX(Nom_personnel,SMALL(IF((COUNTIF('S13'!G$8:G$68,Nom_personnel)=0),ROW(INDIRECT("1:"&ROWS(Nom_personnel)))),ROWS($7:55))),"") -> #NUM! | O56: =IF(Intérimaires!A51=0, "", Intérimaires!A51)
C57: =IF('Liste du personnel'!A54=0, "", 'Liste du personnel'!A54) | D57: =IF(ROWS($7:56)<=COUNTA(Nom_personnel)-SUMPRODUCT(COUNTIF(Nom_personnel,'S13'!D57:D117)), INDEX(Nom_personnel,SMALL(IF((COUNTIF('S13'!D57:D117,Nom_personnel)=0),ROW(INDIRECT("1:"&ROWS(Nom_personnel)))),ROWS($7:56))),"") -> #NUM! | E57: =IF(ROWS($7:56)<=COUNTA(Nom_personnel)-SUMPRODUCT(COUNTIF(Nom_personnel,'S13'!E$8:E$68)), INDEX(Nom_personnel,SMALL(IF((COUNTIF('S13'!E$8:E$68,Nom_personnel)=0),ROW(INDIRECT("1:"&ROWS(Nom_personnel)))),ROWS($7:56))),"") -> #NUM! | F57: =IF(ROWS($7:56)<=COUNTA(Nom_personnel)-SUMPRODUCT(COUNTIF(Nom_personnel,'S13'!F$8:F$68)), INDEX(Nom_personnel,SMALL(IF((COUNTIF('S13'!F$8:F$68,Nom_personnel)=0),ROW(INDIRECT("1:"&ROWS(Nom_personnel)))),ROWS($7:56))),"") -> #NUM! | G57: =IF(ROWS($7:56)<=COUNTA(Nom_personnel)-SUMPRODUCT(COUNTIF(Nom_personnel,'S13'!G$8:G$68)), INDEX(Nom_personnel,SMALL(IF((COUNTIF('S13'!G$8:G$68,Nom_personnel)=0),ROW(INDIRECT("1:"&ROWS(Nom_personnel)))),ROWS($7:56))),"") -> #NUM! | O57: =IF(Intérimaires!A52=0, "", Intérimaires!A52)
C58: =IF('Liste du personnel'!A55=0, "", 'Liste du personnel'!A55) | D58: =IF(ROWS($7:57)<=COUNTA(Nom_personnel)-SUMPRODUCT(COUNTIF(Nom_personnel,'S13'!D58:D118)), INDEX(Nom_personnel,SMALL(IF((COUNTIF('S13'!D58:D118,Nom_personnel)=0),ROW(INDIRECT("1:"&ROWS(Nom_personnel)))),ROWS($7:57))),"") -> #NUM! | E58: =IF(ROWS($7:57)<=COUNTA(Nom_personnel)-SUMPRODUCT(COUNTIF(Nom_personnel,'S13'!E$8:E$68)), INDEX(Nom_personnel,SMALL(IF((COUNTIF('S13'!E$8:E$68,Nom_personnel)=0),ROW(INDIRECT("1:"&ROWS(Nom_personnel)))),ROWS($7:57))),"") -> #NUM! | F58: =IF(ROWS($7:57)<=COUNTA(Nom_personnel)-SUMPRODUCT(COUNTIF(Nom_personnel,'S13'!F$8:F$68)), INDEX(Nom_personnel,SMALL(IF((COUNTIF('S13'!F$8:F$68,Nom_personnel)=0),ROW(INDIRECT("1:"&ROWS(Nom_personnel)))),ROWS($7:57))),"") -> #NUM! | G58: =IF(ROWS($7:57)<=COUNTA(Nom_personnel)-SUMPRODUCT(COUNTIF(Nom_personnel,'S13'!G$8:G$68)), INDEX(Nom_personnel,SMALL(IF((COUNTIF('S13'!G$8:G$68,Nom_personnel)=0),ROW(INDIRECT("1:"&ROWS(Nom_personnel)))),ROWS($7:57))),"") -> #NUM! | O58: =IF(Intérimaires!A53=0, "", Intérimaires!A53)
C59: =IF('Liste du personnel'!A56=0, "", 'Liste du personnel'!A56) | D59: =IF(ROWS($7:58)<=COUNTA(Nom_personnel)-SUMPRODUCT(COUNTIF(Nom_personnel,'S13'!D59:D119)), INDEX(Nom_personnel,SMALL(IF((COUNTIF('S13'!D59:D119,Nom_personnel)=0),ROW(INDIRECT("1:"&ROWS(Nom_personnel)))),ROWS($7:58))),"") -> #NUM! | E59: =IF(ROWS($7:58)<=COUNTA(Nom_personnel)-SUMPRODUCT(COUNTIF(Nom_personnel,'S13'!E$8:E$68)), INDEX(Nom_personnel,SMALL(IF((COUNTIF('S13'!E$8:E$68,Nom_personnel)=0),ROW(INDIRECT("1:"&ROWS(Nom_personnel)))),ROWS($7:58))),"") -> #NUM! | F59: =IF(ROWS($7:58)<=COUNTA(Nom_personnel)-SUMPRODUCT(COUNTIF(Nom_personnel,'S13'!F$8:F$68)), INDEX(Nom_personnel,SMALL(IF((COUNTIF('S13'!F$8:F$68,Nom_personnel)=0),ROW(INDIRECT("1:"&ROWS(Nom_personnel)))),ROWS($7:58))),"") -> #NUM! | G59: =IF(ROWS($7:58)<=COUNTA(Nom_personnel)-SUMPRODUCT(COUNTIF(Nom_personnel,'S13'!G$8:G$68)), INDEX(Nom_personnel,SMALL(IF((COUNTIF('S13'!G$8:G$68,Nom_personnel)=0),ROW(INDIRECT("1:"&ROWS(Nom_personnel)))),ROWS($7:58))),"") -> #NUM! | O59: =IF(Intérimaires!A54=0, "", Intérimaires!A54)
C60: =IF('Liste du personnel'!A57=0, "", 'Liste du personnel'!A57) | D60: =IF(ROWS($7:59)<=COUNTA(Nom_personnel)-SUMPRODUCT(COUNTIF(Nom_personnel,'S13'!D60:D120)), INDEX(Nom_personnel,SMALL(IF((COUNTIF('S13'!D60:D120,Nom_personnel)=0),ROW(INDIRECT("1:"&ROWS(Nom_personnel)))),ROWS($7:59))),"") -> #NUM! | E60: =IF(ROWS($7:59)<=COUNTA(Nom_personnel)-SUMPRODUCT(COUNTIF(Nom_personnel,'S13'!E$8:E$68)), INDEX(Nom_personnel,SMALL(IF((COUNTIF('S13'!E$8:E$68,Nom_personnel)=0),ROW(INDIRECT("1:"&ROWS(Nom_personnel)))),ROWS($7:59))),"") -> #NUM! | F60: =IF(ROWS($7:59)<=COUNTA(Nom_personnel)-SUMPRODUCT(COUNTIF(Nom_personnel,'S13'!F$8:F$68)), INDEX(Nom_personnel,SMALL(IF((COUNTIF('S13'!F$8:F$68,Nom_personnel)=0),ROW(INDIRECT("1:"&ROWS(Nom_personnel)))),ROWS($7:59))),"") -> #NUM! | G60: =IF(ROWS($7:59)<=COUNTA(Nom_personnel)-SUMPRODUCT(COUNTIF(Nom_personnel,'S13'!G$8:G$68)), INDEX(Nom_personnel,SMALL(IF((COUNTIF('S13'!G$8:G$68,Nom_personnel)=0),ROW(INDIRECT("1:"&ROWS(Nom_personnel)))),ROWS($7:59))),"") -> #NUM! | O60: =IF(Intérimaires!A55=0, "", Intérimaires!A55)
C61: =IF('Liste du personnel'!A58=0, "", 'Liste du personnel'!A58) | D61: =IF(ROWS($7:60)<=COUNTA(Nom_personnel)-SUMPRODUCT(COUNTIF(Nom_personnel,'S13'!D61:D121)), INDEX(Nom_personnel,SMALL(IF((COUNTIF('S13'!D61:D121,Nom_personnel)=0),ROW(INDIRECT("1:"&ROWS(Nom_personnel)))),ROWS($7:60))),"") -> #NUM! | E61: =IF(ROWS($7:60)<=COUNTA(Nom_personnel)-SUMPRODUCT(COUNTIF(Nom_personnel,'S13'!E$8:E$68)), INDEX(Nom_personnel,SMALL(IF((COUNTIF('S13'!E$8:E$68,Nom_personnel)=0),ROW(INDIRECT("1:"&ROWS(Nom_personnel)))),ROWS($7:60))),"") -> #NUM! | F61: =IF(ROWS($7:60)<=COUNTA(Nom_personnel)-SUMPRODUCT(COUNTIF(Nom_personnel,'S13'!F$8:F$68)), INDEX(Nom_personnel,SMALL(IF((COUNTIF('S13'!F$8:F$68,Nom_personnel)=0),ROW(INDIRECT("1:"&ROWS(Nom_personnel)))),ROWS($7:60))),"") -> #NUM! | G61: =IF(ROWS($7:60)<=COUNTA(Nom_personnel)-SUMPRODUCT(COUNTIF(Nom_personnel,'S13'!G$8:G$68)), INDEX(Nom_personnel,SMALL(IF((COUNTIF('S13'!G$8:G$68,Nom_personnel)=0),ROW(INDIRECT("1:"&ROWS(Nom_personnel)))),ROWS($7:60))),"") -> #NUM! | O61: =IF(Intérimaires!A56=0, "", Intérimaires!A56)
C62: =IF('Liste du personnel'!A59=0, "", 'Liste du personnel'!A59) | D62: =IF(ROWS($7:61)<=COUNTA(Nom_personnel)-SUMPRODUCT(COUNTIF(Nom_personnel,'S13'!D62:D122)), INDEX(Nom_personnel,SMALL(IF((COUNTIF('S13'!D62:D122,Nom_personnel)=0),ROW(INDIRECT("1:"&ROWS(Nom_personnel)))),ROWS($7:61))),"") -> #NUM! | E62: =IF(ROWS($7:61)<=COUNTA(Nom_personnel)-SUMPRODUCT(COUNTIF(Nom_personnel,'S13'!E$8:E$68)), INDEX(Nom_personnel,SMALL(IF((COUNTIF('S13'!E$8:E$68,Nom_personnel)=0),ROW(INDIRECT("1:"&ROWS(Nom_personnel)))),ROWS($7:61))),"") -> #NUM! | F62: =IF(ROWS($7:61)<=COUNTA(Nom_personnel)-SUMPRODUCT(COUNTIF(Nom_personnel,'S13'!F$8:F$68)), INDEX(Nom_personnel,SMALL(IF((COUNTIF('S13'!F$8:F$68,Nom_personnel)=0),ROW(INDIRECT("1:"&ROWS(Nom_personnel)))),ROWS($7:61))),"") -> #NUM! | G62: =IF(ROWS($7:61)<=COUNTA(Nom_personnel)-SUMPRODUCT(COUNTIF(Nom_personnel,'S13'!G$8:G$68)), INDEX(Nom_personnel,SMALL(IF((COUNTIF('S13'!G$8:G$68,Nom_personnel)=0),ROW(INDIRECT("1:"&ROWS(Nom_personnel)))),ROWS($7:61))),"") -> #NUM! | O62: =IF(Intérimaires!A57=0, "", Intérimaires!A57)
C63: =IF('Liste du personnel'!A60=0, "", 'Liste du personnel'!A60) | D63: =IF(ROWS($7:62)<=COUNTA(Nom_personnel)-SUMPRODUCT(COUNTIF(Nom_personnel,'S13'!D63:D123)), INDEX(Nom_personnel,SMALL(IF((COUNTIF('S13'!D63:D123,Nom_personnel)=0),ROW(INDIRECT("1:"&ROWS(Nom_personnel)))),ROWS($7:62))),"") -> #NUM! | E63: =IF(ROWS($7:62)<=COUNTA(Nom_personnel)-SUMPRODUCT(COUNTIF(Nom_personnel,'S13'!E$8:E$68)), INDEX(Nom_personnel,SMALL(IF((COUNTIF('S13'!E$8:E$68,Nom_personnel)=0),ROW(INDIRECT("1:"&ROWS(Nom_personnel)))),ROWS($7:62))),"") -> #NUM! | F63: =IF(ROWS($7:62)<=COUNTA(Nom_personnel)-SUMPRODUCT(COUNTIF(Nom_personnel,'S13'!F$8:F$68)), INDEX(Nom_personnel,SMALL(IF((COUNTIF('S13'!F$8:F$68,Nom_personnel)=0),ROW(INDIRECT("1:"&ROWS(Nom_personnel)))),ROWS($7:62))),"") -> #NUM! | G63: =IF(ROWS($7:62)<=COUNTA(Nom_personnel)-SUMPRODUCT(COUNTIF(Nom_personnel,'S13'!G$8:G$68)), INDEX(Nom_personnel,SMALL(IF((COUNTIF('S13'!G$8:G$68,Nom_personnel)=0),ROW(INDIRECT("1:"&ROWS(Nom_personnel)))),ROWS($7:62))),"") -> #NUM! | O63: =IF(Intérimaires!A58=0, "", Intérimaires!A58)
C64: =IF('Liste du personnel'!A61=0, "", 'Liste du personnel'!A61) | D64: =IF(ROWS($7:63)<=COUNTA(Nom_personnel)-SUMPRODUCT(COUNTIF(Nom_personnel,'S13'!D64:D124)), INDEX(Nom_personnel,SMALL(IF((COUNTIF('S13'!D64:D124,Nom_personnel)=0),ROW(INDIRECT("1:"&ROWS(Nom_personnel)))),ROWS($7:63))),"") -> #NUM! | E64: =IF(ROWS($7:63)<=COUNTA(Nom_personnel)-SUMPRODUCT(COUNTIF(Nom_personnel,'S13'!E$8:E$68)), INDEX(Nom_personnel,SMALL(IF((COUNTIF('S13'!E$8:E$68,Nom_personnel)=0),ROW(INDIRECT("1:"&ROWS(Nom_personnel)))),ROWS($7:63))),"") -> #NUM! | F64: =IF(ROWS($7:63)<=COUNTA(Nom_personnel)-SUMPRODUCT(COUNTIF(Nom_personnel,'S13'!F$8:F$68)), INDEX(Nom_personnel,SMALL(IF((COUNTIF('S13'!F$8:F$68,Nom_personnel)=0),ROW(INDIRECT("1:"&ROWS(Nom_personnel)))),ROWS($7:63))),"") -> #NUM! | G64: =IF(ROWS($7:63)<=COUNTA(Nom_personnel)-SUMPRODUCT(COUNTIF(Nom_personnel,'S13'!G$8:G$68)), INDEX(Nom_personnel,SMALL(IF((COUNTIF('S13'!G$8:G$68,Nom_personnel)=0),ROW(INDIRECT("1:"&ROWS(Nom_personnel)))),ROWS($7:63))),"") -> #NUM! | O64: =IF(Intérimaires!A59=0, "", Intérimaires!A59)
C65: =IF('Liste du personnel'!A62=0, "", 'Liste du personnel'!A62) | D65: =IF(ROWS($7:64)<=COUNTA(Nom_personnel)-SUMPRODUCT(COUNTIF(Nom_personnel,'S13'!D65:D125)), INDEX(Nom_personnel,SMALL(IF((COUNTIF('S13'!D65:D125,Nom_personnel)=0),ROW(INDIRECT("1:"&ROWS(Nom_personnel)))),ROWS($7:64))),"") -> #NUM! | E65: =IF(ROWS($7:64)<=COUNTA(Nom_personnel)-SUMPRODUCT(COUNTIF(Nom_personnel,'S13'!E$8:E$68)), INDEX(Nom_personnel,SMALL(IF((COUNTIF('S13'!E$8:E$68,Nom_personnel)=0),ROW(INDIRECT("1:"&ROWS(Nom_personnel)))),ROWS($7:64))),"") -> #NUM! | F65: =IF(ROWS($7:64)<=COUNTA(Nom_personnel)-SUMPRODUCT(COUNTIF(Nom_personnel,'S13'!F$8:F$68)), INDEX(Nom_personnel,SMALL(IF((COUNTIF('S13'!F$8:F$68,Nom_personnel)=0),ROW(INDIRECT("1:"&ROWS(Nom_personnel)))),ROWS($7:64))),"") -> #NUM! | G65: =IF(ROWS($7:64)<=COUNTA(Nom_personnel)-SUMPRODUCT(COUNTIF(Nom_personnel,'S13'!G$8:G$68)), INDEX(Nom_personnel,SMALL(IF((COUNTIF('S13'!G$8:G$68,Nom_personnel)=0),ROW(INDIRECT("1:"&ROWS(Nom_personnel)))),ROWS($7:64))),"") -> #NUM! | O65: =IF(Intérimaires!A60=0, "", Intérimaires!A60)
C66: =IF('Liste du personnel'!A63=0, "", 'Liste du personnel'!A63) | D66: =IF(ROWS($7:65)<=COUNTA(Nom_personnel)-SUMPRODUCT(COUNTIF(Nom_personnel,'S13'!D66:D126)), INDEX(Nom_personnel,SMALL(IF((COUNTIF('S13'!D66:D126,Nom_personnel)=0),ROW(INDIRECT("1:"&ROWS(Nom_personnel)))),ROWS($7:65))),"") -> #NUM! | E66: =IF(ROWS($7:65)<=COUNTA(Nom_personnel)-SUMPRODUCT(COUNTIF(Nom_personnel,'S13'!E$8:E$68)), INDEX(Nom_personnel,SMALL(IF((COUNTIF('S13'!E$8:E$68,Nom_personnel)=0),ROW(INDIRECT("1:"&ROWS(Nom_personnel)))),ROWS($7:65))),"") -> #NUM! | F66: =IF(ROWS($7:65)<=COUNTA(Nom_personnel)-SUMPRODUCT(COUNTIF(Nom_personnel,'S13'!F$8:F$68)), INDEX(Nom_personnel,SMALL(IF((COUNTIF('S13'!F$8:F$68,Nom_personnel)=0),ROW(INDIRECT("1:"&ROWS(Nom_personnel)))),ROWS($7:65))),"") -> #NUM! | G66: =IF(ROWS($7:65)<=COUNTA(Nom_personnel)-SUMPRODUCT(COUNTIF(Nom_personnel,'S13'!G$8:G$68)), INDEX(Nom_personnel,SMALL(IF((COUNTIF('S13'!G$8:G$68,Nom_personnel)=0),ROW(INDIRECT("1:"&ROWS(Nom_personnel)))),ROWS($7:65))),"") -> #NUM! | O66: =IF(Intérimaires!A61=0, "", Intérimaires!A61)
C67: =IF('Liste du personnel'!A64=0, "", 'Liste du personnel'!A64) | D67: =IF(ROWS($7:66)<=COUNTA(Nom_personnel)-SUMPRODUCT(COUNTIF(Nom_personnel,'S13'!D67:D127)), INDEX(Nom_personnel,SMALL(IF((COUNTIF('S13'!D67:D127,Nom_personnel)=0),ROW(INDIRECT("1:"&ROWS(Nom_personnel)))),ROWS($7:66))),"") -> #NUM! | E67: =IF(ROWS($7:66)<=COUNTA(Nom_personnel)-SUMPRODUCT(COUNTIF(Nom_personnel,'S13'!E$8:E$68)), INDEX(Nom_personnel,SMALL(IF((COUNTIF('S13'!E$8:E$68,Nom_personnel)=0),ROW(INDIRECT("1:"&ROWS(Nom_personnel)))),ROWS($7:66))),"") -> #NUM! | F67: =IF(ROWS($7:66)<=COUNTA(Nom_personnel)-SUMPRODUCT(COUNTIF(Nom_personnel,'S13'!F$8:F$68)), INDEX(Nom_personnel,SMALL(IF((COUNTIF('S13'!F$8:F$68,Nom_personnel)=0),ROW(INDIRECT("1:"&ROWS(Nom_personnel)))),ROWS($7:66))),"") -> #NUM! | G67: =IF(ROWS($7:66)<=COUNTA(Nom_personnel)-SUMPRODUCT(COUNTIF(Nom_personnel,'S13'!G$8:G$68)), INDEX(Nom_personnel,SMALL(IF((COUNTIF('S13'!G$8:G$68,Nom_personnel)=0),ROW(INDIRECT("1:"&ROWS(Nom_personnel)))),ROWS($7:66))),"") -> #NUM! | O67: =IF(Intérimaires!A62=0, "", Intérimaires!A62)
C68: =IF('Liste du personnel'!A65=0, "", 'Liste du personnel'!A65) | D68: =IF(ROWS($7:67)<=COUNTA(Nom_personnel)-SUMPRODUCT(COUNTIF(Nom_personnel,'S13'!D68:D128)), INDEX(Nom_personnel,SMALL(IF((COUNTIF('S13'!D68:D128,Nom_personnel)=0),ROW(INDIRECT("1:"&ROWS(Nom_personnel)))),ROWS($7:67))),"") -> #NUM! | E68: =IF(ROWS($7:67)<=COUNTA(Nom_personnel)-SUMPRODUCT(COUNTIF(Nom_personnel,'S13'!E$8:E$68)), INDEX(Nom_personnel,SMALL(IF((COUNTIF('S13'!E$8:E$68,Nom_personnel)=0),ROW(INDIRECT("1:"&ROWS(Nom_personnel)))),ROWS($7:67))),"") -> #NUM! | F68: =IF(ROWS($7:67)<=COUNTA(Nom_personnel)-SUMPRODUCT(COUNTIF(Nom_personnel,'S13'!F$8:F$68)), INDEX(Nom_personnel,SMALL(IF((COUNTIF('S13'!F$8:F$68,Nom_personnel)=0),ROW(INDIRECT("1:"&ROWS(Nom_personnel)))),ROWS($7:67))),"") -> #NUM! | G68: =IF(ROWS($7:67)<=COUNTA(Nom_personnel)-SUMPRODUCT(COUNTIF(Nom_personnel,'S13'!G$8:G$68)), INDEX(Nom_personnel,SMALL(IF((COUNTIF('S13'!G$8:G$68,Nom_personnel)=0),ROW(INDIRECT("1:"&ROWS(Nom_personnel)))),ROWS($7:67))),"") -> #NUM! | O68: =IF(Intérimaires!A63=0, "", Intérimaires!A63)
C69: =IF('Liste du personnel'!A66=0, "", 'Liste du personnel'!A66) | D69: =IF(ROWS($7:68)<=COUNTA(Nom_personnel)-SUMPRODUCT(COUNTIF(Nom_personnel,'S13'!D69:D129)), INDEX(Nom_personnel,SMALL(IF((COUNTIF('S13'!D69:D129,Nom_personnel)=0),ROW(INDIRECT("1:"&ROWS(Nom_personnel)))),ROWS($7:68))),"") -> #NUM! | E69: =IF(ROWS($7:68)<=COUNTA(Nom_personnel)-SUMPRODUCT(COUNTIF(Nom_personnel,'S13'!E$8:E$68)), INDEX(Nom_personnel,SMALL(IF((COUNTIF('S13'!E$8:E$68,Nom_personnel)=0),ROW(INDIRECT("1:"&ROWS(Nom_personnel)))),ROWS($7:68))),"") -> #NUM! | F69: =IF(ROWS($7:68)<=COUNTA(Nom_personnel)-SUMPRODUCT(COUNTIF(Nom_personnel,'S13'!F$8:F$68)), INDEX(Nom_personnel,SMALL(IF((COUNTIF('S13'!F$8:F$68,Nom_personnel)=0),ROW(INDIRECT("1:"&ROWS(Nom_personnel)))),ROWS($7:68))),"") -> #NUM! | G69: =IF(ROWS($7:68)<=COUNTA(Nom_personnel)-SUMPRODUCT(COUNTIF(Nom_personnel,'S13'!G$8:G$68)), INDEX(Nom_personnel,SMALL(IF((COUNTIF('S13'!G$8:G$68,Nom_personnel)=0),ROW(INDIRECT("1:"&ROWS(Nom_personnel)))),ROWS($7:68))),"") -> #NUM! | O69: =IF(Intérimaires!A64=0, "", Intérimaires!A64)
C70: =IF('Liste du personnel'!A67=0, "", 'Liste du personnel'!A67) | D70: =IF(ROWS($7:69)<=COUNTA(Nom_personnel)-SUMPRODUCT(COUNTIF(Nom_personnel,'S13'!D70:D130)), INDEX(Nom_personnel,SMALL(IF((COUNTIF('S13'!D70:D130,Nom_personnel)=0),ROW(INDIRECT("1:"&ROWS(Nom_personnel)))),ROWS($7:69))),"") -> #NUM! | E70: =IF(ROWS($7:69)<=COUNTA(Nom_personnel)-SUMPRODUCT(COUNTIF(Nom_personnel,'S13'!E$8:E$68)), INDEX(Nom_personnel,SMALL(IF((COUNTIF('S13'!E$8:E$68,Nom_personnel)=0),ROW(INDIRECT("1:"&ROWS(Nom_personnel)))),ROWS($7:69))),"") -> #NUM! | F70: =IF(ROWS($7:69)<=COUNTA(Nom_personnel)-SUMPRODUCT(COUNTIF(Nom_personnel,'S13'!F$8:F$68)), INDEX(Nom_personnel,SMALL(IF((COUNTIF('S13'!F$8:F$68,Nom_personnel)=0),ROW(INDIRECT("1:"&ROWS(Nom_personnel)))),ROWS($7:69))),"") -> #NUM! | G70: =IF(ROWS($7:69)<=COUNTA(Nom_personnel)-SUMPRODUCT(COUNTIF(Nom_personnel,'S13'!G$8:G$68)), INDEX(Nom_personnel,SMALL(IF((COUNTIF('S13'!G$8:G$68,Nom_personnel)=0),ROW(INDIRECT("1:"&ROWS(Nom_personnel)))),ROWS($7:69))),"") -> #NUM! | O70: =IF(Intérimaires!A65=0, "", Intérimaires!A65)
C71: =IF('Liste du personnel'!A68=0, "", 'Liste du personnel'!A68) | D71: =IF(ROWS($7:70)<=COUNTA(Nom_personnel)-SUMPRODUCT(COUNTIF(Nom_personnel,'S13'!D71:D131)), INDEX(Nom_personnel,SMALL(IF((COUNTIF('S13'!D71:D131,Nom_personnel)=0),ROW(INDIRECT("1:"&ROWS(Nom_personnel)))),ROWS($7:70))),"") -> #NUM! | E71: =IF(ROWS($7:70)<=COUNTA(Nom_personnel)-SUMPRODUCT(COUNTIF(Nom_personnel,'S13'!E$8:E$68)), INDEX(Nom_personnel,SMALL(IF((COUNTIF('S13'!E$8:E$68,Nom_personnel)=0),ROW(INDIRECT("1:"&ROWS(Nom_personnel)))),ROWS($7:70))),"") -> #NUM! | F71: =IF(ROWS($7:70)<=COUNTA(Nom_personnel)-SUMPRODUCT(COUNTIF(Nom_personnel,'S13'!F$8:F$68)), INDEX(Nom_personnel,SMALL(IF((COUNTIF('S13'!F$8:F$68,Nom_personnel)=0),ROW(INDIRECT("1:"&ROWS(Nom_personnel)))),ROWS($7:70))),"") -> #NUM! | G71: =IF(ROWS($7:70)<=COUNTA(Nom_personnel)-SUMPRODUCT(COUNTIF(Nom_personnel,'S13'!G$8:G$68)), INDEX(Nom_personnel,SMALL(IF((COUNTIF('S13'!G$8:G$68,Nom_personnel)=0),ROW(INDIRECT("1:"&ROWS(Nom_personnel)))),ROWS($7:70))),"") -> #NUM! | O71: =IF(Intérimaires!A66=0, "", Intérimaires!A66)
C72: =IF('Liste du personnel'!A69=0, "", 'Liste du personnel'!A69) | D72: =IF(ROWS($7:71)<=COUNTA(Nom_personnel)-SUMPRODUCT(COUNTIF(Nom_personnel,'S13'!D72:D132)), INDEX(Nom_personnel,SMALL(IF((COUNTIF('S13'!D72:D132,Nom_personnel)=0),ROW(INDIRECT("1:"&ROWS(Nom_personnel)))),ROWS($7:71))),"") -> #NUM! | E72: =IF(ROWS($7:71)<=COUNTA(Nom_personnel)-SUMPRODUCT(COUNTIF(Nom_personnel,'S13'!E$8:E$68)), INDEX(Nom_personnel,SMALL(IF((COUNTIF('S13'!E$8:E$68,Nom_personnel)=0),ROW(INDIRECT("1:"&ROWS(Nom_personnel)))),ROWS($7:71))),"") -> #NUM! | F72: =IF(ROWS($7:71)<=COUNTA(Nom_personnel)-SUMPRODUCT(COUNTIF(Nom_personnel,'S13'!F$8:F$68)), INDEX(Nom_personnel,SMALL(IF((COUNTIF('S13'!F$8:F$68,Nom_personnel)=0),ROW(INDIRECT("1:"&ROWS(Nom_personnel)))),ROWS($7:71))),"") -> #NUM! | G72: =IF(ROWS($7:71)<=COUNTA(Nom_personnel)-SUMPRODUCT(COUNTIF(Nom_personnel,'S13'!G$8:G$68)), INDEX(Nom_personnel,SMALL(IF((COUNTIF('S13'!G$8:G$68,Nom_personnel)=0),ROW(INDIRECT("1:"&ROWS(Nom_personnel)))),ROWS($7:71))),"") -> #NUM! | O72: =IF(Intérimaires!A67=0, "", Intérimaires!A67)
C73: =IF('Liste du personnel'!A70=0, "", 'Liste du personnel'!A70) | D73: =IF(ROWS($7:72)<=COUNTA(Nom_personnel)-SUMPRODUCT(COUNTIF(Nom_personnel,'S13'!D73:D133)), INDEX(Nom_personnel,SMALL(IF((COUNTIF('S13'!D73:D133,Nom_personnel)=0),ROW(INDIRECT("1:"&ROWS(Nom_personnel)))),ROWS($7:72))),"") -> #NUM! | E73: =IF(ROWS($7:72)<=COUNTA(Nom_personnel)-SUMPRODUCT(COUNTIF(Nom_personnel,'S13'!E$8:E$68)), INDEX(Nom_personnel,SMALL(IF((COUNTIF('S13'!E$8:E$68,Nom_personnel)=0),ROW(INDIRECT("1:"&ROWS(Nom_personnel)))),ROWS($7:72))),"") -> #NUM! | F73: =IF(ROWS($7:72)<=COUNTA(Nom_personnel)-SUMPRODUCT(COUNTIF(Nom_personnel,'S13'!F$8:F$68)), INDEX(Nom_personnel,SMALL(IF((COUNTIF('S13'!F$8:F$68,Nom_personnel)=0),ROW(INDIRECT("1:"&ROWS(Nom_personnel)))),ROWS($7:72))),"") -> #NUM! | G73: =IF(ROWS($7:72)<=COUNTA(Nom_personnel)-SUMPRODUCT(COUNTIF(Nom_personnel,'S13'!G$8:G$68)), INDEX(Nom_personnel,SMALL(IF((COUNTIF('S13'!G$8:G$68,Nom_personnel)=0),ROW(INDIRECT("1:"&ROWS(Nom_personnel)))),ROWS($7:72))),"") -> #NUM! | O73: =IF(Intérimaires!A68=0, "", Intérimaires!A68)
C74: =IF('Liste du personnel'!A71=0, "", 'Liste du personnel'!A71) | D74: =IF(ROWS($7:73)<=COUNTA(Nom_personnel)-SUMPRODUCT(COUNTIF(Nom_personnel,'S13'!D74:D134)), INDEX(Nom_personnel,SMALL(IF((COUNTIF('S13'!D74:D134,Nom_personnel)=0),ROW(INDIRECT("1:"&ROWS(Nom_personnel)))),ROWS($7:73))),"") -> #NUM! | E74: =IF(ROWS($7:73)<=COUNTA(Nom_personnel)-SUMPRODUCT(COUNTIF(Nom_personnel,'S13'!E$8:E$68)), INDEX(Nom_personnel,SMALL(IF((COUNTIF('S13'!E$8:E$68,Nom_personnel)=0),ROW(INDIRECT("1:"&ROWS(Nom_personnel)))),ROWS($7:73))),"") -> #NUM! | F74: =IF(ROWS($7:73)<=COUNTA(Nom_personnel)-SUMPRODUCT(COUNTIF(Nom_personnel,'S13'!F$8:F$68)), INDEX(Nom_personnel,SMALL(IF((COUNTIF('S13'!F$8:F$68,Nom_personnel)=0),ROW(INDIRECT("1:"&ROWS(Nom_personnel)))),ROWS($7:73))),"") -> #NUM! | G74: =IF(ROWS($7:73)<=COUNTA(Nom_personnel)-SUMPRODUCT(COUNTIF(Nom_personnel,'S13'!G$8:G$68)), INDEX(Nom_personnel,SMALL(IF((COUNTIF('S13'!G$8:G$68,Nom_personnel)=0),ROW(INDIRECT("1:"&ROWS(Nom_personnel)))),ROWS($7:73))),"") -> #NUM! | O74: =IF(Intérimaires!A69=0, "", Intérimaires!A69)
C75: =IF('Liste du personnel'!A72=0, "", 'Liste du personnel'!A72) | D75: =IF(ROWS($7:74)<=COUNTA(Nom_personnel)-SUMPRODUCT(COUNTIF(Nom_personnel,'S13'!D75:D135)), INDEX(Nom_personnel,SMALL(IF((COUNTIF('S13'!D75:D135,Nom_personnel)=0),ROW(INDIRECT("1:"&ROWS(Nom_personnel)))),ROWS($7:74))),"") -> #NUM! | E75: =IF(ROWS($7:74)<=COUNTA(Nom_personnel)-SUMPRODUCT(COUNTIF(Nom_personnel,'S13'!E$8:E$68)), INDEX(Nom_personnel,SMALL(IF((COUNTIF('S13'!E$8:E$68,Nom_personnel)=0),ROW(INDIRECT("1:"&ROWS(Nom_personnel)))),ROWS($7:74))),"") -> #NUM! | F75: =IF(ROWS($7:74)<=COUNTA(Nom_personnel)-SUMPRODUCT(COUNTIF(Nom_personnel,'S13'!F$8:F$68)), INDEX(Nom_personnel,SMALL(IF((COUNTIF('S13'!F$8:F$68,Nom_personnel)=0),ROW(INDIRECT("1:"&ROWS(Nom_personnel)))),ROWS($7:74))),"") -> #NUM! | G75: =IF(ROWS($7:74)<=COUNTA(Nom_personnel)-SUMPRODUCT(COUNTIF(Nom_personnel,'S13'!G$8:G$68)), INDEX(Nom_personnel,SMALL(IF((COUNTIF('S13'!G$8:G$68,Nom_personnel)=0),ROW(INDIRECT("1:"&ROWS(Nom_personnel)))),ROWS($7:74))),"") -> #NUM! | O75: =IF(Intérimaires!A70=0, "", Intérimaires!A70)
C76: =IF('Liste du personnel'!A73=0, "", 'Liste du personnel'!A73) | D76: =IF(ROWS($7:75)<=COUNTA(Nom_personnel)-SUMPRODUCT(COUNTIF(Nom_personnel,'S13'!D76:D136)), INDEX(Nom_personnel,SMALL(IF((COUNTIF('S13'!D76:D136,Nom_personnel)=0),ROW(INDIRECT("1:"&ROWS(Nom_personnel)))),ROWS($7:75))),"") -> #NUM! | E76: =IF(ROWS($7:75)<=COUNTA(Nom_personnel)-SUMPRODUCT(COUNTIF(Nom_personnel,'S13'!E$8:E$68)), INDEX(Nom_personnel,SMALL(IF((COUNTIF('S13'!E$8:E$68,Nom_personnel)=0),ROW(INDIRECT("1:"&ROWS(Nom_personnel)))),ROWS($7:75))),"") -> #NUM! | F76: =IF(ROWS($7:75)<=COUNTA(Nom_personnel)-SUMPRODUCT(COUNTIF(Nom_personnel,'S13'!F$8:F$68)), INDEX(Nom_personnel,SMALL(IF((COUNTIF('S13'!F$8:F$68,Nom_personnel)=0),ROW(INDIRECT("1:"&ROWS(Nom_personnel)))),ROWS($7:75))),"") -> #NUM! | G76: =IF(ROWS($7:75)<=COUNTA(Nom_personnel)-SUMPRODUCT(COUNTIF(Nom_personnel,'S13'!G$8:G$68)), INDEX(Nom_personnel,SMALL(IF((COUNTIF('S13'!G$8:G$68,Nom_personnel)=0),ROW(INDIRECT("1:"&ROWS(Nom_personnel)))),ROWS($7:75))),"") -> #NUM! | O76: =IF(Intérimaires!A71=0, "", Intérimaires!A71)
C77: =IF('Liste du personnel'!A74=0, "", 'Liste du personnel'!A74) | M77: ADIA Ludovic
C78: =IF('Liste du personnel'!A75=0, "", 'Liste du personnel'!A75) | M78: ANDREU Benoît
C79: =IF('Liste du personnel'!A76=0, "", 'Liste du personnel'!A76) | M79: BANOS Serge
C80: =IF('Liste du personnel'!A77=0, "", 'Liste du personnel'!A77) | M80: BARROUILLET Patrice
C81: =IF('Liste du personnel'!A78=0, "", 'Liste du personnel'!A78) | M81: BATS Sébastien
C82: =IF('Liste du personnel'!A79=0, "", 'Liste du personnel'!A79) | M82: BERNADET Bruno
C83: =IF('Liste du personnel'!A80=0, "", 'Liste du personnel'!A80) | M83: BEYELER Dominique
M84: BUGEAUD Martial
M85: CABANNES Aline
M86: CALIOT Camille
M87: CASCAIS Sébastien
M88: CASTETS Patrick
M89: CAVALERIE Sylvain
M90: COUTURE Hervé
M91: DABADIE Patrick
M92: DE CASTRO David
M93: DE TURENNE Alexandre
M94: DESCAMPS Eric
M95: DESCAT Thomas
... M9458: WALACH Christian

Sheet S13
D1: 11 | I1: du: | J1: =IF(semaine="","",DATE(année,1,3)-WEEKDAY(DATE(année,1,3))-5+(7*semaine)) -> 43171 | L1: au: | M1: =IF($J$1="","",$J$1+6) -> 43177 | AQ1: Entreprise BAPTISTAN
A2: 2018
A4: N° CHANTIER | B4: CONDUC | D4: =semaine -> 11 | X4: =semaine -> 11 | AR4: TRANSFERTS
C5: CHANTIER | D5: =IF(semaine="","",DATE(année,1,3)-WEEKDAY(DATE(année,1,3))-5+(7*semaine)) -> 43171 | H5: =IF(D5="","",D5+1) -> 43172 | L5: =IF(H5="","",H5+1) -> 43173 | P5: =IF(L5="","",L5+1) -> 43174 | T5: =IF(P5="","",P5+1) -> 43175 | X5: =IF(semaine="","",DATE(année,1,3)-WEEKDAY(DATE(année,1,3))-5+(7*semaine)) -> 43171 | AB5: =IF(X5="","",X5+1) -> 43172 | AF5: =IF(AB5="","",AB5+1) -> 43173 | AJ5: =IF(AF5="","",AF5+1) -> 43174 | AN5: =IF(AJ5="","",AJ5+1) -> 43175
D6: 1 | E6: 2 | F6: 3 | G6: 4 | H6: 5 | I6: 6 | J6: 7 | K6: 8 | L6: 9 | M6: 10 | N6: 11 | O6: 12 | P6: 13 | Q6: 14 | R6: 15 | S6: 16 | T6: 17 | U6: 18 | V6: 19 | W6: 20 | X6: 21 | Y6: 22 | Z6: 23 | AA6: 24 | AB6: 25 | AC6: 26 | AD6: 27 | AE6: 28 | AF6: 29 | AG6: 30 | AH6: 31 | AI6: 32 | AJ6: 33 | AK6: 34 | AL6: 35 | AM6: 36 | AN6: 37 | AO6: 38 | AP6: 39 | AQ6: 40
D7: Humain | E7: Intérimaires | F7: Matériel | G7: Location | H7: Humain | I7: Intérimaires | J7: Matériel | K7: Location | L7: Humain | M7: Intérimaires | N7: Matériel | O7: Location | P7: Humain | Q7: Intérimaires | R7: Matériel | S7: Location | T7: Humain | U7: Intérimaires | V7: Matériel | W7: Location | X7: Humain | Y7: Intérimaires | Z7: Matériel | AA7: Location | AB7: Humain | AC7: Intérimaires | AD7: Matériel | AE7: Location | AF7: Humain | AG7: Intérimaires | AH7: Matériel | AI7: Location | AJ7: Humain | AK7: Intérimaires | AL7: Matériel | AM7: Location | AN7: Humain | AO7: Intérimaires | AP7: Matériel | AQ7: Location
H8: =IF(D8=0, "", D8)
A9: 16/046 | B9: =IF(A9=0,"",VLOOKUP(A9,Chantier!A$4:D$9999,4,FALSE )) -> SC | C9: =IF(A9=0,"",VLOOKUP(A9,Chantier!A$4:D$9999,2,FALSE )) -> 0 | H9: =IF($D9=0, "", $D9) | I9: =IF($E9=0, "", $E9) | J9: =IF($F9=0, "", $F9) | K9: =IF($G9=0, "", $G9) | L9: =IF($D9=0, "", $D9) | M9: =IF($E9=0, "", $E9) | N9: =IF($F9=0, "", $F9) | O9: =IF($G9=0, "", $G9) | P9: =IF($D9=0, "", $D9) | Q9: =IF($E9=0, "", $E9) | R9: =IF($F9=0, "", $F9) | S9: =IF($G9=0, "", $G9) | T9: =IF($D9=0, "", $D9) | U9: =IF($E9=0, "", $E9) | V9: =IF($F9=0, "", $F9) | W9: =IF($G9=0, "", $G9)
B10: =IF(A10=0,"",VLOOKUP(A10,Chantier!A$4:D$9999,4,FALSE )) | C10: =IF(A10=0,"",VLOOKUP(A10,Chantier!A$4:D$9999,2,FALSE )) | H10: =IF($D10=0, "", $D10) | I10: =IF($E10=0, "", $E10) | J10: =IF($F10=0, "", $F10) | K10: =IF($G10=0, "", $G10) | L10: =IF($D10=0, "", $D10) | M10: =IF($E10=0, "", $E10) | N10: =IF($F10=0, "", $F10) | O10: =IF($G10=0, "", $G10) | P10: =IF($D10=0, "", $D10) | Q10: =IF($E10=0, "", $E10) | R10: =IF($F10=0, "", $F10) | S10: =IF($G10=0, "", $G10) | T10: =IF($D10=0, "", $D10) | U10: =IF($E10=0, "", $E10) | V10: =IF($F10=0, "", $F10) | W10: =IF($G10=0, "", $G10)
B11: =IF(A11=0,"",VLOOKUP(A11,Chantier!A$4:D$9999,4,FALSE )) | C11: =IF(A11=0,"",VLOOKUP(A11,Chantier!A$4:D$9999,2,FALSE )) | H11: =IF($D11=0, "", $D11) | I11: =IF($E11=0, "", $E11) | J11: =IF($F11=0, "", $F11) | K11: =IF($G11=0, "", $G11) | L11: =IF($D11=0, "", $D11) | M11: =IF($E11=0, "", $E11) | N11: =IF($F11=0, "", $F11) | O11: =IF($G11=0, "", $G11) | P11: =IF($D11=0, "", $D11) | Q11: =IF($E11=0, "", $E11) | R11: =IF($F11=0, "", $F11) | S11: =IF($G11=0, "", $G11) | T11: =IF($D11=0, "", $D11) | U11: =IF($E11=0, "", $E11) | V11: =IF($F11=0, "", $F11) | W11: =IF($G11=0, "", $G11)
B12: =IF(A12=0,"",VLOOKUP(A12,Chantier!A$4:D$9999,4,FALSE )) | C12: =IF(A12=0,"",VLOOKUP(A12,Chantier!A$4:D$9999,2,FALSE )) | H12: =IF($D12=0, "", $D12) | I12: =IF($E12=0, "", $E12) | J12: =IF($F12=0, "", $F12) | K12: =IF($G12=0, "", $G12) | L12: =IF($D12=0, "", $D12) | M12: =IF($E12=0, "", $E12) | N12: =IF($F12=0, "", $F12) | O12: =IF($G12=0, "", $G12) | P12: =IF($D12=0, "", $D12) | Q12: =IF($E12=0, "", $E12) | R12: =IF($F12=0, "", $F12) | S12: =IF($G12=0, "", $G12) | T12: =IF($D12=0, "", $D12) | U12: =IF($E12=0, "", $E12) | V12: =IF($F12=0, "", $F12) | W12: =IF($G12=0, "", $G12)
B13: =IF(A13=0,"",VLOOKUP(A13,Chantier!A$4:D$9999,4,FALSE )) | C13: =IF(A13=0,"",VLOOKUP(A13,Chantier!A$4:D$9999,2,FALSE )) | F13: Plaque vibrante | H13: =IF($D13=0, "", $D13) | I13: =IF($E13=0, "", $E13) | J13: =IF($F13=0, "", $F13) -> Plaque vibrante | K13: =IF($G13=0, "", $G13) | L13: =IF($D13=0, "", $D13) | M13: =IF($E13=0, "", $E13) | N13: =IF($F13=0, "", $F13) -> Plaque vibrante | O13: =IF($G13=0, "", $G13) | P13: =IF($D13=0, "", $D13) | Q13: =IF($E13=0, "", $E13) | R13: =IF($F13=0, "", $F13) -> Plaque vibrante | S13: =IF($G13=0, "", $G13) | T13: =IF($D13=0, "", $D13) | U13: =IF($E13=0, "", $E13) | V13: =IF($F13=0, "", $F13) -> Plaque vibrante | W13: =IF($G13=0, "", $G13)
B14: =IF(A14=0,"",VLOOKUP(A14,Chantier!A$4:D$9999,4,FALSE )) | C14: =IF(A14=0,"",VLOOKUP(A14,Chantier!A$4:D$9999,2,FALSE )) | F14: RLX BW 100 | H14: =IF($D14=0, "", $D14) | I14: =IF($E14=0, "", $E14) | J14: =IF($F14=0, "", $F14) -> RLX BW 100 | K14: =IF($G14=0, "", $G14) | L14: =IF($D14=0, "", $D14) | M14: =IF($E14=0, "", $E14) | N14: =IF($F14=0, "", $F14) -> RLX BW 100 | O14: =IF($G14=0, "", $G14) | P14: =IF($D14=0, "", $D14) | Q14: =IF($E14=0, "", $E14) | R14: =IF($F14=0, "", $F14) -> RLX BW 100 | S14: =IF($G14=0, "", $G14) | T14: =IF($D14=0, "", $D14) | U14: =IF($E14=0, "", $E14) | V14: =IF($F14=0, "", $F14) -> RLX BW 100 | W14: =IF($G14=0, "", $G14)
B15: =IF(A15=0,"",VLOOKUP(A15,Chantier!A$4:D$9999,4,FALSE )) | C15: =IF(A15=0,"",VLOOKUP(A15,Chantier!A$4:D$9999,2,FALSE )) | F15: 4*2 | H15: =IF($D15=0, "", $D15) | I15: =IF($E15=0, "", $E15) | J15: =IF($F15=0, "", $F15) -> 4*2 | K15: =IF($G15=0, "", $G15) | L15: =IF($D15=0, "", $D15) | M15: =IF($E15=0, "", $E15) | N15: =IF($F15=0, "", $F15) -> 4*2 | O15: =IF($G15=0, "", $G15) | P15: =IF($D15=0, "", $D15) | Q15: =IF($E15=0, "", $E15) | R15: =IF($F15=0, "", $F15) -> 4*2 | S15: =IF($G15=0, "", $G15) | T15: =IF($D15=0, "", $D15) | U15: =IF($E15=0, "", $E15) | V15: =IF($F15=0, "", $F15) -> 4*2 | W15: =IF($G15=0, "", $G15)
B16: =IF(A16=0,"",VLOOKUP(A16,Chantier!A$4:D$9999,4,FALSE )) | C16: =IF(A16=0,"",VLOOKUP(A16,Chantier!A$4:D$9999,2,FALSE )) | F16: Semi Mercedez | H16: =IF($D16=0, "", $D16) | I16: =IF($E16=0, "", $E16) | J16: =IF($F16=0, "", $F16) -> Semi Mercedez | K16: =IF($G16=0, "", $G16) | L16: =IF($D16=0, "", $D16) | M16: =IF($E16=0, "", $E16) | N16: =IF($F16=0, "", $F16) -> Semi Mercedez | O16: =IF($G16=0, "", $G16) | P16: =IF($D16=0, "", $D16) | Q16: =IF($E16=0, "", $E16) | R16: =IF($F16=0, "", $F16) -> Semi Mercedez | S16: =IF($G16=0, "", $G16) | T16: =IF($D16=0, "", $D16) | U16: =IF($E16=0, "", $E16) | V16: =IF($F16=0, "", $F16) -> Semi Mercedez | W16: =IF($G16=0, "", $G16)
B17: =IF(A17=0,"",VLOOKUP(A17,Chantier!A$4:D$9999,4,FALSE )) | C17: =IF(A17=0,"",VLOOKUP(A17,Chantier!A$4:D$9999,2,FALSE )) | F17: Semi Mercedez | H17: =IF($D17=0, "", $D17) | I17: =IF($E17=0, "", $E17) | J17: =IF($F17=0, "", $F17) -> Semi Mercedez | K17: =IF($G17=0, "", $G17) | L17: =IF($D17=0, "", $D17) | M17: =IF($E17=0, "", $E17) | N17: =IF($F17=0, "", $F17) -> Semi Mercedez | O17: =IF($G17=0, "", $G17) | P17: =IF($D17=0, "", $D17) | Q17: =IF($E17=0, "", $E17) | R17: =IF($F17=0, "", $F17) -> Semi Mercedez | S17: =IF($G17=0, "", $G17) | T17: =IF($D17=0, "", $D17) | U17: =IF($E17=0, "", $E17) | V17: =IF($F17=0, "", $F17) -> Semi Mercedez | W17: =IF($G17=0, "", $G17)
B18: =IF(A18=0,"",VLOOKUP(A18,Chantier!A$4:D$9999,4,FALSE )) | C18: =IF(A18=0,"",VLOOKUP(A18,Chantier!A$4:D$9999,2,FALSE )) | H18: =IF($D18=0, "", $D18) | I18: =IF($E18=0, "", $E18) | J18: =IF($F18=0, "", $F18) | K18: =IF($G18=0, "", $G18) | L18: =IF($D18=0, "", $D18) | M18: =IF($E18=0, "", $E18) | N18: =IF($F18=0, "", $F18) | O18: =IF($G18=0, "", $G18) | P18: =IF($D18=0, "", $D18) | Q18: =IF($E18=0, "", $E18) | R18: =IF($F18=0, "", $F18) | S18: =IF($G18=0, "", $G18) | T18: =IF($D18=0, "", $D18) | U18: =IF($E18=0, "", $E18) | V18: =IF($F18=0, "", $F18) | W18: =IF($G18=0, "", $G18)
B19: =IF(A19=0,"",VLOOKUP(A19,Chantier!A$4:D$9999,4,FALSE )) | C19: =IF(A19=0,"",VLOOKUP(A19,Chantier!A$4:D$9999,2,FALSE )) | H19: =IF($D19=0, "", $D19) | I19: =IF($E19=0, "", $E19) | J19: =IF($F19=0, "", $F19) | K19: =IF($G19=0, "", $G19) | L19: =IF($D19=0, "", $D19) | M19: =IF($E19=0, "", $E19) | N19: =IF($F19=0, "", $F19) | O19: =IF($G19=0, "", $G19) | P19: =IF($D19=0, "", $D19) | Q19: =IF($E19=0, "", $E19) | R19: =IF($F19=0, "", $F19) | S19: =IF($G19=0, "", $G19) | T19: =IF($D19=0, "", $D19) | U19: =IF($E19=0, "", $E19) | V19: =IF($F19=0, "", $F19) | W19: =IF($G19=0, "", $G19)
B20: =IF(A20=0,"",VLOOKUP(A20,Chantier!A$4:D$9999,4,FALSE )) | C20: =IF(A20=0,"",VLOOKUP(A20,Chantier!A$4:D$9999,2,FALSE )) | H20: =IF($D20=0, "", $D20) | I20: =IF($E20=0, "", $E20) | J20: =IF($F20=0, "", $F20) | K20: =IF($G20=0, "", $G20) | L20: =IF($D20=0, "", $D20) | M20: =IF($E20=0, "", $E20) | N20: =IF($F20=0, "", $F20) | O20: =IF($G20=0, "", $G20) | P20: =IF($D20=0, "", $D20) | Q20: =IF($E20=0, "", $E20) | R20: =IF($F20=0, "", $F20) | S20: =IF($G20=0, "", $G20) | T20: =IF($D20=0, "", $D20) | U20: =IF($E20=0, "", $E20) | V20: =IF($F20=0, "", $F20) | W20: =IF($G20=0, "", $G20)
B21: =IF(A21=0,"",VLOOKUP(A21,Chantier!A$4:D$9999,4,FALSE )) | C21: =IF(A21=0,"",VLOOKUP(A21,Chantier!A$4:D$9999,2,FALSE )) | H21: =IF($D21=0, "", $D21) | I21: =IF($E21=0, "", $E21) | J21: =IF($F21=0, "", $F21) | K21: =IF($G21=0, "", $G21) | L21: =IF($D21=0, "", $D21) | M21: =IF($E21=0, "", $E21) | N21: =IF($F21=0, "", $F21) | O21: =IF($G21=0, "", $G21) | P21: =IF($D21=0, "", $D21) | Q21: =IF($E21=0, "", $E21) | R21: =IF($F21=0, "", $F21) | S21: =IF($G21=0, "", $G21) | T21: =IF($D21=0, "", $D21) | U21: =IF($E21=0, "", $E21) | V21: =IF($F21=0, "", $F21) | W21: =IF($G21=0, "", $G21)
B22: =IF(A22=0,"",VLOOKUP(A22,Chantier!A$4:D$9999,4,FALSE )) | C22: =IF(A22=0,"",VLOOKUP(A22,Chantier!A$4:D$9999,2,FALSE )) | H22: =IF($D22=0, "", $D22) | I22: =IF($E22=0, "", $E22) | J22: =IF($F22=0, "", $F22) | K22: =IF($G22=0, "", $G22) | L22: =IF($D22=0, "", $D22) | M22: =IF($E22=0, "", $E22) | N22: =IF($F22=0, "", $F22) | O22: =IF($G22=0, "", $G22) | P22: =IF($D22=0, "", $D22) | Q22: =IF($E22=0, "", $E22) | R22: =IF($F22=0, "", $F22) | S22: =IF($G22=0, "", $G22) | T22: =IF($D22=0, "", $D22) | U22: =IF($E22=0, "", $E22) | V22: =IF($F22=0, "", $F22) | W22: =IF($G22=0, "", $G22)
B23: =IF(A23=0,"",VLOOKUP(A23,Chantier!A$4:D$9999,4,FALSE )) | C23: =IF(A23=0,"",VLOOKUP(A23,Chantier!A$4:D$9999,2,FALSE )) | H23: =IF($D23=0, "", $D23) | I23: =IF($E23=0, "", $E23) | J23: =IF($F23=0, "", $F23) | K23: =IF($G23=0, "", $G23) | L23: =IF($D23=0, "", $D23) | M23: =IF($E23=0, "", $E23) | N23: =IF($F23=0, "", $F23) | O23: =IF($G23=0, "", $G23) | P23: =IF($D23=0, "", $D23) | Q23: =IF($E23=0, "", $E23) | R23: =IF($F23=0, "", $F23) | S23: =IF($G23=0, "", $G23) | T23: =IF($D23=0, "", $D23) | U23: =IF($E23=0, "", $E23) | V23: =IF($F23=0, "", $F23) | W23: =IF($G23=0, "", $G23)
B24: =IF(A24=0,"",VLOOKUP(A24,Chantier!A$4:D$9999,4,FALSE )) | C24: =IF(A24=0,"",VLOOKUP(A24,Chantier!A$4:D$9999,2,FALSE )) | H24: =IF($D24=0, "", $D24) | I24: =IF($E24=0, "", $E24) | J24: =IF($F24=0, "", $F24) | K24: =IF($G24=0, "", $G24) | L24: =IF($D24=0, "", $D24) | M24: =IF($E24=0, "", $E24) | N24: =IF($F24=0, "", $F24) | O24: =IF($G24=0, "", $G24) | P24: =IF($D24=0, "", $D24) | Q24: =IF($E24=0, "", $E24) | R24: =IF($F24=0, "", $F24) | S24: =IF($G24=0, "", $G24) | T24: =IF($D24=0, "", $D24) | U24: =IF($E24=0, "", $E24) | V24: =IF($F24=0, "", $F24) | W24: =IF($G24=0, "", $G24)
B25: =IF(A25=0,"",VLOOKUP(A25,Chantier!A$4:D$9999,4,FALSE )) | C25: =IF(A25=0,"",VLOOKUP(A25,Chantier!A$4:D$9999,2,FALSE )) | H25: =IF($D25=0, "", $D25) | I25: =IF($E25=0, "", $E25) | J25: =IF($F25=0, "", $F25) | K25: =IF($G25=0, "", $G25) | L25: =IF($D25=0, "", $D25) | M25: =IF($E25=0, "", $E25) | N25: =IF($F25=0, "", $F25) | O25: =IF($G25=0, "", $G25) | P25: =IF($D25=0, "", $D25) | Q25: =IF($E25=0, "", $E25) | R25: =IF($F25=0, "", $F25) | S25: =IF($G25=0, "", $G25) | T25: =IF($D25=0, "", $D25) | U25: =IF($E25=0, "", $E25) | V25: =IF($F25=0, "", $F25) | W25: =IF($G25=0, "", $G25)
B26: =IF(A26=0,"",VLOOKUP(A26,Chantier!A$4:D$9999,4,FALSE )) | C26: =IF(A26=0,"",VLOOKUP(A26,Chantier!A$4:D$9999,2,FALSE )) | H26: =IF($D26=0, "", $D26) | I26: =IF($E26=0, "", $E26) | J26: =IF($F26=0, "", $F26) | K26: =IF($G26=0, "", $G26) | L26: =IF($D26=0, "", $D26) | M26: =IF($E26=0, "", $E26) | N26: =IF($F26=0, "", $F26) | O26: =IF($G26=0, "", $G26) | P26: =IF($D26=0, "", $D26) | Q26: =IF($E26=0, "", $E26) | R26: =IF($F26=0, "", $F26) | S26: =IF($G26=0, "", $G26) | T26: =IF($D26=0, "", $D26) | U26: =IF($E26=0, "", $E26) | V26: =IF($F26=0, "", $F26) | W26: =IF($G26=0, "", $G26)
B27: =IF(A27=0,"",VLOOKUP(A27,Chantier!A$4:D$9999,4,FALSE )) | C27: =IF(A27=0,"",VLOOKUP(A27,Chantier!A$4:D$9999,2,FALSE )) | H27: =IF($D27=0, "", $D27) | I27: =IF($E27=0, "", $E27) | J27: =IF($F27=0, "", $F27) | K27: =IF($G27=0, "", $G27) | L27: =IF($D27=0, "", $D27) | M27: =IF($E27=0, "", $E27) | N27: =IF($F27=0, "", $F27) | O27: =IF($G27=0, "", $G27) | P27: =IF($D27=0, "", $D27) | Q27: =IF($E27=0, "", $E27) | R27: =IF($F27=0, "", $F27) | S27: =IF($G27=0, "", $G27) | T27: =IF($D27=0, "", $D27) | U27: =IF($E27=0, "", $E27) | V27: =IF($F27=0, "", $F27) | W27: =IF($G27=0, "", $G27)
B28: =IF(A28=0,"",VLOOKUP(A28,Chantier!A$4:D$9999,4,FALSE )) | C28: =IF(A28=0,"",VLOOKUP(A28,Chantier!A$4:D$9999,2,FALSE )) | H28: =IF($D28=0, "", $D28) | I28: =IF($E28=0, "", $E28) | J28: =IF($F28=0, "", $F28) | K28: =IF($G28=0, "", $G28) | L28: =IF($D28=0, "", $D28) | M28: =IF($E28=0, "", $E28) | N28: =IF($F28=0, "", $F28) | O28: =IF($G28=0, "", $G28) | P28: =IF($D28=0, "", $D28) | Q28: =IF($E28=0, "", $E28) | R28: =IF($F28=0, "", $F28) | S28: =IF($G28=0, "", $G28) | T28: =IF($D28=0, "", $D28) | U28: =IF($E28=0, "", $E28) | V28: =IF($F28=0, "", $F28) | W28: =IF($G28=0, "", $G28)
B29: =IF(A29=0,"",VLOOKUP(A29,Chantier!A$4:D$9999,4,FALSE )) | C29: =IF(A29=0,"",VLOOKUP(A29,Chantier!A$4:D$9999,2,FALSE )) | H29: =IF($D29=0, "", $D29) | I29: =IF($E29=0, "", $E29) | J29: =IF($F29=0, "", $F29) | K29: =IF($G29=0, "", $G29) | L29: =IF($D29=0, "", $D29) | M29: =IF($E29=0, "", $E29) | N29: =IF($F29=0, "", $F29) | O29: =IF($G29=0, "", $G29) | P29: =IF($D29=0, "", $D29) | Q29: =IF($E29=0, "", $E29) | R29: =IF($F29=0, "", $F29) | S29: =IF($G29=0, "", $G29) | T29: =IF($D29=0, "", $D29) | U29: =IF($E29=0, "", $E29) | V29: =IF($F29=0, "", $F29) | W29: =IF($G29=0, "", $G29)
... B67: =IF(A67=0,"",VLOOKUP(A67,Chantier!A$4:D$9999,4,FALSE )) | C67: =IF(A67=0,"",VLOOKUP(A67,Chantier!A$4:D$9999,2,FALSE )) | H67: =IF($D67=0, "", $D67) | I67: =IF($E67=0, "", $E67) | J67: =IF($F67=0, "", $F67) | K67: =IF($G67=0, "", $G67) | L67: =IF($D67=0, "", $D67) | M67: =IF($E67=0, "", $E67) | N67: =IF($F67=0, "", $F67) | O67: =IF($G67=0, "", $G67) | P67: =IF($D67=0, "", $D67) | Q67: =IF($E67=0, "", $E67) | R67: =IF($F67=0, "", $F67) | S67: =IF($G67=0, "", $G67) | T67: =IF($D67=0, "", $D67) | U67: =IF($E67=0, "", $E67) | V67: =IF($F67=0, "", $F67) | W67: =IF($G67=0, "", $G67)
B68: =IF(A68=0,"",LOOKUP(A68,Chantier!A$4:A$9999,Chantier!D:D)) | C68: =IF(A68=0,"",LOOKUP(A68,Chantier!A$4:A$9999,Chantier!B:B))
