Workbook
Name année: 'S13'!$A$2
Name Debut_personnel: Personnel!$D$8:$D$76
Name Nom_personnel: Personnel!$C$8:$C$76
Name semaine: 'S13'!$D$1

Sheet Chantier
A1: CHANTIERS OUVERTS
A3: N° | B3: MAITRE OUVRAGE | C3: LIEU | D3: CONDUCTEUR | E3: N° ETUDE | F3: N° MARCHE | G3: ARCHIVES | H3: CC | I3: OUVERTURE | J3: MONTANT HT
A4: =IF('[1]2007'!A4=0,"",'[1]2007'!A4) -> 07/001
A5: =IF('[1]2007'!A5=0,"",'[1]2007'!A5) -> 07/002
A6: =IF('[1]2007'!A6=0,"",'[1]2007'!A6) -> 07/003
A7: =IF('[1]2007'!A7=0,"",'[1]2007'!A7) -> 07/004
A8: =IF('[1]2007'!A8=0,"",'[1]2007'!A8) -> 07/005
A9: =IF('[1]2007'!A9=0,"",'[1]2007'!A9) -> 07/006
A10: =IF('[1]2007'!A10=0,"",'[1]2007'!A10) -> 07/007
A11: =IF('[1]2007'!A11=0,"",'[1]2007'!A11) -> 07/008
A12: =IF('[1]2007'!A12=0,"",'[1]2007'!A12) -> 07/009
A13: =IF('[1]2007'!A13=0,"",'[1]2007'!A13) -> 07/010
A14: =IF('[1]2007'!A14=0,"",'[1]2007'!A14) -> 07/011
A15: =IF('[1]2007'!A15=0,"",'[1]2007'!A15) -> 07/012
... A209: =IF('[1]2007'!A209=0,"",'[1]2007'!A209) -> 07/204
A210: =IF('[1]2008'!A4=0,"",'[1]2008'!A4) -> 08/001 | D210: =IF('[1]2008'!D4=0,"",'[1]2008'!D4)
A211: =IF('[1]2008'!A5=0,"",'[1]2008'!A5) -> 08/002 | D211: =IF('[1]2008'!D5=0,"",'[1]2008'!D5)
A212: =IF('[1]2008'!A6=0,"",'[1]2008'!A6) -> 08/003 | D212: =IF('[1]2008'!D6=0,"",'[1]2008'!D6)
A213: =IF('[1]2008'!A7=0,"",'[1]2008'!A7) -> 08/004 | D213: =IF('[1]2008'!D7=0,"",'[1]2008'!D7)
A214: =IF('[1]2008'!A8=0,"",'[1]2008'!A8) -> 08/005 | D214: =IF('[1]2008'!D8=0,"",'[1]2008'!D8)
A215: =IF('[1]2008'!A9=0,"",'[1]2008'!A9) -> 08/006 | D215: =IF('[1]2008'!D9=0,"",'[1]2008'!D9)
A216: =IF('[1]2008'!A10=0,"",'[1]2008'!A10) -> 08/007 | D216: =IF('[1]2008'!D10=0,"",'[1]2008'!D10)
A217: =IF('[1]2008'!A11=0,"",'[1]2008'!A11) -> 08/008 | D217: =IF('[1]2008'!D11=0,"",'[1]2008'!D11)
A218: =IF('[1]2008'!A12=0,"",'[1]2008'!A12) -> 08/009 | D218: =IF('[1]2008'!D12=0,"",'[1]2008'!D12)
A219: =IF('[1]2008'!A13=0,"",'[1]2008'!A13) -> 08/010 | D219: =IF('[1]2008'!D13=0,"",'[1]2008'!D13)
A220: =IF('[1]2008'!A14=0,"",'[1]2008'!A14) -> 08/011 | D220: =IF('[1]2008'!D14=0,"",'[1]2008'!D14)
A221: =IF('[1]2008'!A15=0,"",'[1]2008'!A15) -> 08/012 | D221: =IF('[1]2008'!D15=0,"",'[1]2008'!D15)
... A407: =IF('[1]2008'!A201=0,"",'[1]2008'!A201) -> 08/198 | D407: =IF('[1]2008'!D201=0,"",'[1]2008'!D201) -> FW
A408: =IF('[1]2009'!A3=0,"",'[1]2009'!A3) -> 09/001 | D408: =IF('[1]2009'!D3=0,"",'[1]2009'!D3) -> PD
A409: =IF('[1]2009'!A4=0,"",'[1]2009'!A4) -> 09/002 | D409: =IF('[1]2009'!D4=0,"",'[1]2009'!D4) -> PD
A410: =IF('[1]2009'!A5=0,"",'[1]2009'!A5) -> 09/003 | D410: =IF('[1]2009'!D5=0,"",'[1]2009'!D5) -> PD
A411: =IF('[1]2009'!A6=0,"",'[1]2009'!A6) -> 09/004 | D411: =IF('[1]2009'!D6=0,"",'[1]2009'!D6) -> SC
A412: =IF('[1]2009'!A7=0,"",'[1]2009'!A7) -> 09/005 | D412: =IF('[1]2009'!D7=0,"",'[1]2009'!D7) -> SC
A413: =IF('[1]2009'!A8=0,"",'[1]2009'!A8) -> 09/006 | D413: =IF('[1]2009'!D8=0,"",'[1]2009'!D8) -> FW
A414: =IF('[1]2009'!A9=0,"",'[1]2009'!A9) -> 09/007 | D414: =IF('[1]2009'!D9=0,"",'[1]2009'!D9) -> SC
A415: =IF('[1]2009'!A10=0,"",'[1]2009'!A10) -> 09/008 | D415: =IF('[1]2009'!D10=0,"",'[1]2009'!D10) -> MB
A416: =IF('[1]2009'!A11=0,"",'[1]2009'!A11) -> 09/009 | D416: =IF('[1]2009'!D11=0,"",'[1]2009'!D11) -> SC
A417: =IF('[1]2009'!A12=0,"",'[1]2009'!A12) -> 09/010 | D417: =IF('[1]2009'!D12=0,"",'[1]2009'!D12) -> PD
A418: =IF('[1]2009'!A13=0,"",'[1]2009'!A13) -> 09/011 | D418: =IF('[1]2009'!D13=0,"",'[1]2009'!D13) -> JPL
A419: =IF('[1]2009'!A14=0,"",'[1]2009'!A14) -> 09/012 | D419: =IF('[1]2009'!D14=0,"",'[1]2009'!D14) -> MB
...

Sheet Liste du personnel
A1: LISTE DU PERSONNEL LB
A4: SALARIE | B4: N° SECURITE SOCIALE | C4: DATE NAISSANCE | D4: DATE ENTREE DANS L'ENTREPRISE | E4: CONTRAT | F4: POSTE | G4: ADRESSE | H4: CP | I4: VILLE
A5: ALBERT Ludovic
A6: ANDO Benoît
A7: BERNARD Serge
A8: ddfdgdd
A9: dghb
A10: egfgf
A11: evxvcxv
A12: gggsdg
A13: gghdfgdf
A14: ifdfgf
A15: jsdwgfdf
A16: kdfg
... A18: ngdder

Sheet Intérimaires
A1: INTERIMAIRES
A2: Nom | B2: Téléphone | C2: Poste | D2: Entrprise intérim

Sheet Personnel
C7: ='Liste du personnel'!A4 -> SALARIE | D7: 1 | E7: 5 | F7: 9 | G7: 13 | H7: 17 | I7: 21 | J7: 25 | K7: 29 | L7: 33 | M7: 37 | O7: SALARIE INTERIMAIRE | P7: DISPO
C8: =IF('Liste du personnel'!A5=0, "", 'Liste du personnel'!A5) -> ALBERT Ludovic | D8: =IF(ROWS($7:7)<=COUNTA(Nom_personnel)-SUMPRODUCT(COUNTIF(Nom_personnel,'S13'!D$8:D$68)), INDEX(Nom_personnel,SMALL(IF((COUNTIF('S13'!D$8:D$68,Nom_personnel)=0),ROW(INDIRECT("1:"&ROWS(Nom_personnel)))),ROWS($7:7))),"") -> ALBERT Ludovic | E8: =IF(ROWS($7:7)<=COUNTA(Nom_personnel)-SUMPRODUCT(COUNTIF(Nom_personnel,'S13'!H$8:H$68)), INDEX(Nom_personnel,SMALL(IF((COUNTIF('S13'!H$8:H$68,Nom_personnel)=0),ROW(INDIRECT("1:"&ROWS(Nom_personnel)))),ROWS($7:7))),"") | F8: =IF(ROWS($7:7)<=COUNTA(Nom_personnel)-SUMPRODUCT(COUNTIF(Nom_personnel,'S13'!F$8:F$68)), INDEX(Nom_personnel,SMALL(IF((COUNTIF('S13'!F$8:F$68,Nom_personnel)=0),ROW(INDIRECT("1:"&ROWS(Nom_personnel)))),ROWS($7:7))),"") -> ALBERT Ludovic | G8: =IF(ROWS($7:7)<=COUNTA(Nom_personnel)-SUMPRODUCT(COUNTIF(Nom_personnel,'S13'!G$8:G$68)), INDEX(Nom_personnel,SMALL(IF((COUNTIF('S13'!G$8:G$68,Nom_personnel)=0),ROW(INDIRECT("1:"&ROWS(Nom_personnel)))),ROWS($7:7))),"") -> ALBERT Ludovic | H8: =IF(ROWS($7:7)<=COUNTA(Nom_personnel)-SUMPRODUCT(COUNTIF(Nom_personnel,'S13'!H$8:H$68)), INDEX(Nom_personnel,SMALL(IF((COUNTIF('S13'!H$8:H$68,Nom_personnel)=0),ROW(INDIRECT("1:"&ROWS(Nom_personnel)))),ROWS($7:7))),"") | O8: =IF(Intérimaires!A3=0, "", Intérimaires!A3)
C9: =IF('Liste du personnel'!A6=0, "", 'Liste du personnel'!A6) -> ANDO Benoît | D9: =IF(ROWS($7:8)<=COUNTA(Nom_personnel)-SUMPRODUCT(COUNTIF(Nom_personnel,'S13'!D$8:D$68)), INDEX(Nom_personnel,SMALL(IF((COUNTIF('S13'!D$8:D$68,Nom_personnel)=0),ROW(INDIRECT("1:"&ROWS(Nom_personnel)))),ROWS($7:8))),"") -> #NUM! | E9: =IF(ROWS($7:8)<=COUNTA(Nom_personnel)-SUMPRODUCT(COUNTIF(Nom_personnel,'S13'!H$8:H$68)), INDEX(Nom_personnel,SMALL(IF((COUNTIF('S13'!H$8:H$68,Nom_personnel)=0),ROW(INDIRECT("1:"&ROWS(Nom_personnel)))),ROWS($7:8))),"") | F9: =IF(ROWS($7:8)<=COUNTA(Nom_personnel)-SUMPRODUCT(COUNTIF(Nom_personnel,'S13'!F$8:F$68)), INDEX(Nom_personnel,SMALL(IF((COUNTIF('S13'!F$8:F$68,Nom_personnel)=0),ROW(INDIRECT("1:"&ROWS(Nom_personnel)))),ROWS($7:8))),"") -> #NUM! | G9: =IF(ROWS($7:8)<=COUNTA(Nom_personnel)-SUMPRODUCT(COUNTIF(Nom_personnel,'S13'!G$8:G$68)), INDEX(Nom_personnel,SMALL(IF((COUNTIF('S13'!G$8:G$68,Nom_personnel)=0),ROW(INDIRECT("1:"&ROWS(Nom_personnel)))),ROWS($7:8))),"") -> #NUM! | H9: =IF(ROWS($7:8)<=COUNTA(Nom_personnel)-SUMPRODUCT(COUNTIF(Nom_personnel,'S13'!H$8:H$68)), INDEX(Nom_personnel,SMALL(IF((COUNTIF('S13'!H$8:H$68,Nom_personnel)=0),ROW(INDIRECT("1:"&ROWS(Nom_personnel)))),ROWS($7:8))),"") | O9: =IF(Intérimaires!A4=0, "", Intérimaires!A4)
C10: =IF('Liste du personnel'!A7=0, "", 'Liste du personnel'!A7) -> BERNARD Serge | D10: =IF(ROWS($7:9)<=COUNTA(Nom_personnel)-SUMPRODUCT(COUNTIF(Nom_personnel,'S13'!D$8:D$68)), INDEX(Nom_personnel,SMALL(IF((COUNTIF('S13'!D$8:D$68,Nom_personnel)=0),ROW(INDIRECT("1:"&ROWS(Nom_personnel)))),ROWS($7:9))),"") -> #NUM! | E10: =IF(ROWS($7:9)<=COUNTA(Nom_personnel)-SUMPRODUCT(COUNTIF(Nom_personnel,'S13'!H$8:H$68)), INDEX(Nom_personnel,SMALL(IF((COUNTIF('S13'!H$8:H$68,Nom_personnel)=0),ROW(INDIRECT("1:"&ROWS(Nom_personnel)))),ROWS($7:9))),"") | F10: =IF(ROWS($7:9)<=COUNTA(Nom_personnel)-SUMPRODUCT(COUNTIF(Nom_personnel,'S13'!F$8:F$68)), INDEX(Nom_personnel,SMALL(IF((COUNTIF('S13'!F$8:F$68,Nom_personnel)=0),ROW(INDIRECT("1:"&ROWS(Nom_personnel)))),ROWS($7:9))),"") -> #NUM! | G10: =IF(ROWS($7:9)<=COUNTA(Nom_personnel)-SUMPRODUCT(COUNTIF(Nom_personnel,'S13'!G$8:G$68)), INDEX(Nom_personnel,SMALL(IF((COUNTIF('S13'!G$8:G$68,Nom_personnel)=0),ROW(INDIRECT("1:"&ROWS(Nom_personnel)))),ROWS($7:9))),"") -> #NUM! | H10: =IF(ROWS($7:9)<=COUNTA(Nom_personnel)-SUMPRODUCT(COUNTIF(Nom_personnel,'S13'!H$8:H$68)), INDEX(Nom_personnel,SMALL(IF((COUNTIF('S13'!H$8:H$68,Nom_personnel)=0),ROW(INDIRECT("1:"&ROWS(Nom_personnel)))),ROWS($7:9))),"") | O10: =IF(Intérimaires!A5=0, "", Intérimaires!A5)
C11: =IF('Liste du personnel'!A8=0, "", 'Liste du personnel'!A8) -> ddfdgdd | D11: =IF(ROWS($7:10)<=COUNTA(Nom_personnel)-SUMPRODUCT(COUNTIF(Nom_personnel,'S13'!D$8:D$68)), INDEX(Nom_personnel,SMALL(IF((COUNTIF('S13'!D$8:D$68,Nom_personnel)=0),ROW(INDIRECT("1:"&ROWS(Nom_personnel)))),ROWS($7:10))),"") -> #NUM! | E11: =IF(ROWS($7:10)<=COUNTA(Nom_personnel)-SUMPRODUCT(COUNTIF(Nom_personnel,'S13'!H$8:H$68)), INDEX(Nom_personnel,SMALL(IF((COUNTIF('S13'!H$8:H$68,Nom_personnel)=0),ROW(INDIRECT("1:"&ROWS(Nom_personnel)))),ROWS($7:10))),"") | F11: =IF(ROWS($7:10)<=COUNTA(Nom_personnel)-SUMPRODUCT(COUNTIF(Nom_personnel,'S13'!F$8:F$68)), INDEX(Nom_personnel,SMALL(IF((COUNTIF('S13'!F$8:F$68,Nom_personnel)=0),ROW(INDIRECT("1:"&ROWS(Nom_personnel)))),ROWS($7:10))),"") -> #NUM! | G11: =IF(ROWS($7:10)<=COUNTA(Nom_personnel)-SUMPRODUCT(COUNTIF(Nom_personnel,'S13'!G$8:G$68)), INDEX(Nom_personnel,SMALL(IF((COUNTIF('S13'!G$8:G$68,Nom_personnel)=0),ROW(INDIRECT("1:"&ROWS(Nom_personnel)))),ROWS($7:10))),"") -> #NUM! | H11: =IF(ROWS($7:10)<=COUNTA(Nom_personnel)-SUMPRODUCT(COUNTIF(Nom_personnel,'S13'!H$8:H$68)), INDEX(Nom_personnel,SMALL(IF((COUNTIF('S13'!H$8:H$68,Nom_personnel)=0),ROW(INDIRECT("1:"&ROWS(Nom_personnel)))),ROWS($7:10))),"") | O11: =IF(Intérimaires!A6=0, "", Intérimaires!A6)
C12: =IF('Liste du personnel'!A9=0, "", 'Liste du personnel'!A9) -> dghb | D12: =IF(ROWS($7:11)<=COUNTA(Nom_personnel)-SUMPRODUCT(COUNTIF(Nom_personnel,'S13'!D$8:D$68)), INDEX(Nom_personnel,SMALL(IF((COUNTIF('S13'!D$8:D$68,Nom_personnel)=0),ROW(INDIRECT("1:"&ROWS(Nom_personnel)))),ROWS($7:11))),"") -> #NUM! | E12: =IF(ROWS($7:11)<=COUNTA(Nom_personnel)-SUMPRODUCT(COUNTIF(Nom_personnel,'S13'!H$8:H$68)), INDEX(Nom_personnel,SMALL(IF((COUNTIF('S13'!H$8:H$68,Nom_personnel)=0),ROW(INDIRECT("1:"&ROWS(Nom_personnel)))),ROWS($7:11))),"") | F12: =IF(ROWS($7:11)<=COUNTA(Nom_personnel)-SUMPRODUCT(COUNTIF(Nom_personnel,'S13'!F$8:F$68)), INDEX(Nom_personnel,SMALL(IF((COUNTIF('S13'!F$8:F$68,Nom_personnel)=0),ROW(INDIRECT("1:"&ROWS(Nom_personnel)))),ROWS($7:11))),"") -> #NUM! | G12: =IF(ROWS($7:11)<=COUNTA(Nom_personnel)-SUMPRODUCT(COUNTIF(Nom_personnel,'S13'!G$8:G$68)), INDEX(Nom_personnel,SMALL(IF((COUNTIF('S13'!G$8:G$68,Nom_personnel)=0),ROW(INDIRECT("1:"&ROWS(Nom_personnel)))),ROWS($7:11))),"") -> #NUM! | H12: =IF(ROWS($7:11)<=COUNTA(Nom_personnel)-SUMPRODUCT(COUNTIF(Nom_personnel,'S13'!H$8:H$68)), INDEX(Nom_personnel,SMALL(IF((COUNTIF('S13'!H$8:H$68,Nom_personnel)=0),ROW(INDIRECT("1:"&ROWS(Nom_personnel)))),ROWS($7:11))),"") | O12: =IF(Intérimaires!A7=0, "", Intérimaires!A7)
C13: =IF('Liste du personnel'!A10=0, "", 'Liste du personnel'!A10) -> egfgf | D13: =IF(ROWS($7:12)<=COUNTA(Nom_personnel)-SUMPRODUCT(COUNTIF(Nom_personnel,'S13'!D$8:D$68)), INDEX(Nom_personnel,SMALL(IF((COUNTIF('S13'!D$8:D$68,Nom_personnel)=0),ROW(INDIRECT("1:"&ROWS(Nom_personnel)))),ROWS($7:12))),"") -> #NUM! | E13: =IF(ROWS($7:12)<=COUNTA(Nom_personnel)-SUMPRODUCT(COUNTIF(Nom_personnel,'S13'!H$8:H$68)), INDEX(Nom_personnel,SMALL(IF((COUNTIF('S13'!H$8:H$68,Nom_personnel)=0),ROW(INDIRECT("1:"&ROWS(Nom_personnel)))),ROWS($7:12))),"") | F13: =IF(ROWS($7:12)<=COUNTA(Nom_personnel)-SUMPRODUCT(COUNTIF(Nom_personnel,'S13'!F$8:F$68)), INDEX(Nom_personnel,SMALL(IF((COUNTIF('S13'!F$8:F$68,Nom_personnel)=0),ROW(INDIRECT("1:"&ROWS(Nom_personnel)))),ROWS($7:12))),"") -> #NUM! | G13: =IF(ROWS($7:12)<=COUNTA(Nom_personnel)-SUMPRODUCT(COUNTIF(Nom_personnel,'S13'!G$8:G$68)), INDEX(Nom_personnel,SMALL(IF((COUNTIF('S13'!G$8:G$68,Nom_personnel)=0),ROW(INDIRECT("1:"&ROWS(Nom_personnel)))),ROWS($7:12))),"") -> #NUM! | H13: =IF(ROWS($7:12)<=COUNTA(Nom_personnel)-SUMPRODUCT(COUNTIF(Nom_personnel,'S13'!H$8:H$68)), INDEX(Nom_personnel,SMALL(IF((COUNTIF('S13'!H$8:H$68,Nom_personnel)=0),ROW(INDIRECT("1:"&ROWS(Nom_personnel)))),ROWS($7:12))),"") | O13: =IF(Intérimaires!A8=0, "", Intérimaires!A8)
C14: =IF('Liste du personnel'!A11=0, "", 'Liste du personnel'!A11) -> evxvcxv | D14: =IF(ROWS($7:13)<=COUNTA(Nom_personnel)-SUMPRODUCT(COUNTIF(Nom_personnel,'S13'!D$8:D$68)), INDEX(Nom_personnel,SMALL(IF((COUNTIF('S13'!D$8:D$68,Nom_personnel)=0),ROW(INDIRECT("1:"&ROWS(Nom_personnel)))),ROWS($7:13))),"") -> #NUM! | E14: =IF(ROWS($7:13)<=COUNTA(Nom_personnel)-SUMPRODUCT(COUNTIF(Nom_personnel,'S13'!H$8:H$68)), INDEX(Nom_personnel,SMALL(IF((COUNTIF('S13'!H$8:H$68,Nom_personnel)=0),ROW(INDIRECT("1:"&ROWS(Nom_personnel)))),ROWS($7:13))),"") | F14: =IF(ROWS($7:13)<=COUNTA(Nom_personnel)-SUMPRODUCT(COUNTIF(Nom_personnel,'S13'!F$8:F$68)), INDEX(Nom_personnel,SMALL(IF((COUNTIF('S13'!F$8:F$68,Nom_personnel)=0),ROW(INDIRECT("1:"&ROWS(Nom_personnel)))),ROWS($7:13))),"") -> #NUM! | G14: =IF(ROWS($7:13)<=COUNTA(Nom_personnel)-SUMPRODUCT(COUNTIF(Nom_personnel,'S13'!G$8:G$68)), INDEX(Nom_personnel,SMALL(IF((COUNTIF('S13'!G$8:G$68,Nom_personnel)=0),ROW(INDIRECT("1:"&ROWS(Nom_personnel)))),ROWS($7:13))),"") -> #NUM! | H14: =IF(ROWS($7:13)<=COUNTA(Nom_personnel)-SUMPRODUCT(COUNTIF(Nom_personnel,'S13'!H$8:H$68)), INDEX(Nom_personnel,SMALL(IF((COUNTIF('S13'!H$8:H$68,Nom_personnel)=0),ROW(INDIRECT("1:"&ROWS(Nom_personnel)))),ROWS($7:13))),"") | O14: =IF(Intérimaires!A9=0, "", Intérimaires!A9)
C15: =IF('Liste du personnel'!A12=0, "", 'Liste du personnel'!A12) -> gggsdg | D15: =IF(ROWS($7:14)<=COUNTA(Nom_personnel)-SUMPRODUCT(COUNTIF(Nom_personnel,'S13'!D$8:D$68)), INDEX(Nom_personnel,SMALL(IF((COUNTIF('S13'!D$8:D$68,Nom_personnel)=0),ROW(INDIRECT("1:"&ROWS(Nom_personnel)))),ROWS($7:14))),"") -> #NUM! | E15: =IF(ROWS($7:14)<=COUNTA(Nom_personnel)-SUMPRODUCT(COUNTIF(Nom_personnel,'S13'!H$8:H$68)), INDEX(Nom_personnel,SMALL(IF((COUNTIF('S13'!H$8:H$68,Nom_personnel)=0),ROW(INDIRECT("1:"&ROWS(Nom_personnel)))),ROWS($7:14))),"") | F15: =IF(ROWS($7:14)<=COUNTA(Nom_personnel)-SUMPRODUCT(COUNTIF(Nom_personnel,'S13'!F$8:F$68)), INDEX(Nom_personnel,SMALL(IF((COUNTIF('S13'!F$8:F$68,Nom_personnel)=0),ROW(INDIRECT("1:"&ROWS(Nom_personnel)))),ROWS($7:14))),"") -> #NUM! | G15: =IF(ROWS($7:14)<=COUNTA(Nom_personnel)-SUMPRODUCT(COUNTIF(Nom_personnel,'S13'!G$8:G$68)), INDEX(Nom_personnel,SMALL(IF((COUNTIF('S13'!G$8:G$68,Nom_personnel)=0),ROW(INDIRECT("1:"&ROWS(Nom_personnel)))),ROWS($7:14))),"") -> #NUM! | H15: =IF(ROWS($7:14)<=COUNTA(Nom_personnel)-SUMPRODUCT(COUNTIF(Nom_personnel,'S13'!H$8:H$68)), INDEX(Nom_personnel,SMALL(IF((COUNTIF('S13'!H$8:H$68,Nom_personnel)=0),ROW(INDIRECT("1:"&ROWS(Nom_personnel)))),ROWS($7:14))),"") | O15: =IF(Intérimaires!A10=0, "", Intérimaires!A10)
C16: =IF('Liste du personnel'!A13=0, "", 'Liste du personnel'!A13) -> gghdfgdf | D16: =IF(ROWS($7:15)<=COUNTA(Nom_personnel)-SUMPRODUCT(COUNTIF(Nom_personnel,'S13'!D$8:D$68)), INDEX(Nom_personnel,SMALL(IF((COUNTIF('S13'!D$8:D$68,Nom_personnel)=0),ROW(INDIRECT("1:"&ROWS(Nom_personnel)))),ROWS($7:15))),"") -> #NUM! | E16: =IF(ROWS($7:15)<=COUNTA(Nom_personnel)-SUMPRODUCT(COUNTIF(Nom_personnel,'S13'!H$8:H$68)), INDEX(Nom_personnel,SMALL(IF((COUNTIF('S13'!H$8:H$68,Nom_personnel)=0),ROW(INDIRECT("1:"&ROWS(Nom_personnel)))),ROWS($7:15))),"") | F16: =IF(ROWS($7:15)<=COUNTA(Nom_personnel)-SUMPRODUCT(COUNTIF(Nom_personnel,'S13'!F$8:F$68)), INDEX(Nom_personnel,SMALL(IF((COUNTIF('S13'!F$8:F$68,Nom_personnel)=0),ROW(INDIRECT("1:"&ROWS(Nom_personnel)))),ROWS($7:15))),"") -> #NUM! | G16: =IF(ROWS($7:15)<=COUNTA(Nom_personnel)-SUMPRODUCT(COUNTIF(Nom_personnel,'S13'!G$8:G$68)), INDEX(Nom_personnel,SMALL(IF((COUNTIF('S13'!G$8:G$68,Nom_personnel)=0),ROW(INDIRECT("1:"&ROWS(Nom_personnel)))),ROWS($7:15))),"") -> #NUM! | H16: =IF(ROWS($7:15)<=COUNTA(Nom_personnel)-SUMPRODUCT(COUNTIF(Nom_personnel,'S13'!H$8:H$68)), INDEX(Nom_personnel,SMALL(IF((COUNTIF('S13'!H$8:H$68,Nom_personnel)=0),ROW(INDIRECT("1:"&ROWS(Nom_personnel)))),ROWS($7:15))),"") | O16: =IF(Intérimaires!A11=0, "", Intérimaires!A11)
C17: =IF('Liste du personnel'!A14=0, "", 'Liste du personnel'!A14) -> ifdfgf | D17: =IF(ROWS($7:16)<=COUNTA(Nom_personnel)-SUMPRODUCT(COUNTIF(Nom_personnel,'S13'!D$8:D$68)), INDEX(Nom_personnel,SMALL(IF((COUNTIF('S13'!D$8:D$68,Nom_personnel)=0),ROW(INDIRECT("1:"&ROWS(Nom_personnel)))),ROWS($7:16))),"") -> #NUM! | E17: =IF(ROWS($7:16)<=COUNTA(Nom_personnel)-SUMPRODUCT(COUNTIF(Nom_personnel,'S13'!H$8:H$68)), INDEX(Nom_personnel,SMALL(IF((COUNTIF('S13'!H$8:H$68,Nom_personnel)=0),ROW(INDIRECT("1:"&ROWS(Nom_personnel)))),ROWS($7:16))),"") | F17: =IF(ROWS($7:16)<=COUNTA(Nom_personnel)-SUMPRODUCT(COUNTIF(Nom_personnel,'S13'!F$8:F$68)), INDEX(Nom_personnel,SMALL(IF((COUNTIF('S13'!F$8:F$68,Nom_personnel)=0),ROW(INDIRECT("1:"&ROWS(Nom_personnel)))),ROWS($7:16))),"") -> #NUM! | G17: =IF(ROWS($7:16)<=COUNTA(Nom_personnel)-SUMPRODUCT(COUNTIF(Nom_personnel,'S13'!G$8:G$68)), INDEX(Nom_personnel,SMALL(IF((COUNTIF('S13'!G$8:G$68,Nom_personnel)=0),ROW(INDIRECT("1:"&ROWS(Nom_personnel)))),ROWS($7:16))),"") -> #NUM! | H17: =IF(ROWS($7:16)<=COUNTA(Nom_personnel)-SUMPRODUCT(COUNTIF(Nom_personnel,'S13'!H$8:H$68)), INDEX(Nom_personnel,SMALL(IF((COUNTIF('S13'!H$8:H$68,Nom_personnel)=0),ROW(INDIRECT("1:"&ROWS(Nom_personnel)))),ROWS($7:16))),"") | O17: =IF(Intérimaires!A12=0, "", Intérimaires!A12)
C18: =IF('Liste du personnel'!A15=0, "", 'Liste du personnel'!A15) -> jsdwgfdf | D18: =IF(ROWS($7:17)<=COUNTA(Nom_personnel)-SUMPRODUCT(COUNTIF(Nom_personnel,'S13'!D$8:D$68)), INDEX(Nom_personnel,SMALL(IF((COUNTIF('S13'!D$8:D$68,Nom_personnel)=0),ROW(INDIRECT("1:"&ROWS(Nom_personnel)))),ROWS($7:17))),"") -> #NUM! | E18: =IF(ROWS($7:17)<=COUNTA(Nom_personnel)-SUMPRODUCT(COUNTIF(Nom_personnel,'S13'!H$8:H$68)), INDEX(Nom_personnel,SMALL(IF((COUNTIF('S13'!H$8:H$68,Nom_personnel)=0),ROW(INDIRECT("1:"&ROWS(Nom_personnel)))),ROWS($7:17))),"") | F18: =IF(ROWS($7:17)<=COUNTA(Nom_personnel)-SUMPRODUCT(COUNTIF(Nom_personnel,'S13'!F$8:F$68)), INDEX(Nom_personnel,SMALL(IF((COUNTIF('S13'!F$8:F$68,Nom_personnel)=0),ROW(INDIRECT("1:"&ROWS(Nom_personnel)))),ROWS($7:17))),"") -> #NUM! | G18: =IF(ROWS($7:17)<=COUNTA(Nom_personnel)-SUMPRODUCT(COUNTIF(Nom_personnel,'S13'!G$8:G$68)), INDEX(Nom_personnel,SMALL(IF((COUNTIF('S13'!G$8:G$68,Nom_personnel)=0),ROW(INDIRECT("1:"&ROWS(Nom_personnel)))),ROWS($7:17))),"") -> #NUM! | H18: =IF(ROWS($7:17)<=COUNTA(Nom_personnel)-SUMPRODUCT(COUNTIF(Nom_personnel,'S13'!H$8:H$68)), INDEX(Nom_personnel,SMALL(IF((COUNTIF('S13'!H$8:H$68,Nom_personnel)=0),ROW(INDIRECT("1:"&ROWS(Nom_personnel)))),ROWS($7:17))),"") | O18: =IF(Intérimaires!A13=0, "", Intérimaires!A13)
C19: =IF('Liste du personnel'!A16=0, "", 'Liste du personnel'!A16) -> kdfg | D19: =IF(ROWS($7:18)<=COUNTA(Nom_personnel)-SUMPRODUCT(COUNTIF(Nom_personnel,'S13'!D$8:D$68)), INDEX(Nom_personnel,SMALL(IF((COUNTIF('S13'!D$8:D$68,Nom_personnel)=0),ROW(INDIRECT("1:"&ROWS(Nom_personnel)))),ROWS($7:18))),"") -> #NUM! | E19: =IF(ROWS($7:18)<=COUNTA(Nom_personnel)-SUMPRODUCT(COUNTIF(Nom_personnel,'S13'!H$8:H$68)), INDEX(Nom_personnel,SMALL(IF((COUNTIF('S13'!H$8:H$68,Nom_personnel)=0),ROW(INDIRECT("1:"&ROWS(Nom_personnel)))),ROWS($7:18))),"") | F19: =IF(ROWS($7:18)<=COUNTA(Nom_personnel)-SUMPRODUCT(COUNTIF(Nom_personnel,'S13'!F$8:F$68)), INDEX(Nom_personnel,SMALL(IF((COUNTIF('S13'!F$8:F$68,Nom_personnel)=0),ROW(INDIRECT("1:"&ROWS(Nom_personnel)))),ROWS($7:18))),"") -> #NUM! | G19: =IF(ROWS($7:18)<=COUNTA(Nom_personnel)-SUMPRODUCT(COUNTIF(Nom_personnel,'S13'!G$8:G$68)), INDEX(Nom_personnel,SMALL(IF((COUNTIF('S13'!G$8:G$68,Nom_personnel)=0),ROW(INDIRECT("1:"&ROWS(Nom_personnel)))),ROWS($7:18))),"") -> #NUM! | H19: =IF(ROWS($7:18)<=COUNTA(Nom_personnel)-SUMPRODUCT(COUNTIF(Nom_personnel,'S13'!H$8:H$68)), INDEX(Nom_personnel,SMALL(IF((COUNTIF('S13'!H$8:H$68,Nom_personnel)=0),ROW(INDIRECT("1:"&ROWS(Nom_personnel)))),ROWS($7:18))),"") | O19: =IF(Intérimaires!A14=0, "", Intérimaires!A14)
C20: =IF('Liste du personnel'!A17=0, "", 'Liste du personnel'!A17) -> ltfhd | D20: =IF(ROWS($7:19)<=COUNTA(Nom_personnel)-SUMPRODUCT(COUNTIF(Nom_personnel,'S13'!D$8:D$68)), INDEX(Nom_personnel,SMALL(IF((COUNTIF('S13'!D$8:D$68,Nom_personnel)=0),ROW(INDIRECT("1:"&ROWS(Nom_personnel)))),ROWS($7:19))),"") -> #NUM! | E20: =IF(ROWS($7:19)<=COUNTA(Nom_personnel)-SUMPRODUCT(COUNTIF(Nom_personnel,'S13'!H$8:H$68)), INDEX(Nom_personnel,SMALL(IF((COUNTIF('S13'!H$8:H$68,Nom_personnel)=0),ROW(INDIRECT("1:"&ROWS(Nom_personnel)))),ROWS($7:19))),"") | F20: =IF(ROWS($7:19)<=COUNTA(Nom_personnel)-SUMPRODUCT(COUNTIF(Nom_personnel,'S13'!F$8:F$68)), INDEX(Nom_personnel,SMALL(IF((COUNTIF('S13'!F$8:F$68,Nom_personnel)=0),ROW(INDIRECT("1:"&ROWS(Nom_personnel)))),ROWS($7:19))),"") -> #NUM! | G20: =IF(ROWS($7:19)<=COUNTA(Nom_personnel)-SUMPRODUCT(COUNTIF(Nom_personnel,'S13'!G$8:G$68)), INDEX(Nom_personnel,SMALL(IF((COUNTIF('S13'!G$8:G$68,Nom_personnel)=0),ROW(INDIRECT("1:"&ROWS(Nom_personnel)))),ROWS($7:19))),"") -> #NUM! | H20: =IF(ROWS($7:19)<=COUNTA(Nom_personnel)-SUMPRODUCT(COUNTIF(Nom_personnel,'S13'!H$8:H$68)), INDEX(Nom_personnel,SMALL(IF((COUNTIF('S13'!H$8:H$68,Nom_personnel)=0),ROW(INDIRECT("1:"&ROWS(Nom_personnel)))),ROWS($7:19))),"") | O20: =IF(Intérimaires!A15=0, "", Intérimaires!A15)
C21: =IF('Liste du personnel'!A18=0, "", 'Liste du personnel'!A18) -> ngdder | D21: =IF(ROWS($7:20)<=COUNTA(Nom_personnel)-SUMPRODUCT(COUNTIF(Nom_personnel,'S13'!D$8:D$68)), INDEX(Nom_personnel,SMALL(IF((COUNTIF('S13'!D$8:D$68,Nom_personnel)=0),ROW(INDIRECT("1:"&ROWS(Nom_personnel)))),ROWS($7:20))),"") -> #NUM! | E21: =IF(ROWS($7:20)<=COUNTA(Nom_personnel)-SUMPRODUCT(COUNTIF(Nom_personnel,'S13'!H$8:H$68)), INDEX(Nom_personnel,SMALL(IF((COUNTIF('S13'!H$8:H$68,Nom_personnel)=0),ROW(INDIRECT("1:"&ROWS(Nom_personnel)))),ROWS($7:20))),"") | F21: =IF(ROWS($7:20)<=COUNTA(Nom_personnel)-SUMPRODUCT(COUNTIF(Nom_personnel,'S13'!F$8:F$68)), INDEX(Nom_personnel,SMALL(IF((COUNTIF('S13'!F$8:F$68,Nom_personnel)=0),ROW(INDIRECT("1:"&ROWS(Nom_personnel)))),ROWS($7:20))),"") -> #NUM! | G21: =IF(ROWS($7:20)<=COUNTA(Nom_personnel)-SUMPRODUCT(COUNTIF(Nom_personnel,'S13'!G$8:G$68)), INDEX(Nom_personnel,SMALL(IF((COUNTIF('S13'!G$8:G$68,Nom_personnel)=0),ROW(INDIRECT("1:"&ROWS(Nom_personnel)))),ROWS($7:20))),"") -> #NUM! | H21: =IF(ROWS($7:20)<=COUNTA(Nom_personnel)-SUMPRODUCT(COUNTIF(Nom_personnel,'S13'!H$8:H$68)), INDEX(Nom_personnel,SMALL(IF((COUNTIF('S13'!H$8:H$68,Nom_personnel)=0),ROW(INDIRECT("1:"&ROWS(Nom_personnel)))),ROWS($7:20))),"") | O21: =IF(Intérimaires!A16=0, "", Intérimaires!A16)
C22: =IF('Liste du personnel'!A19=0, "", 'Liste du personnel'!A19) | D22: =IF(ROWS($7:21)<=COUNTA(Nom_personnel)-SUMPRODUCT(COUNTIF(Nom_personnel,'S13'!D$8:D$68)), INDEX(Nom_personnel,SMALL(IF((COUNTIF('S13'!D$8:D$68,Nom_personnel)=0),ROW(INDIRECT("1:"&ROWS(Nom_personnel)))),ROWS($7:21))),"") -> #NUM! | E22: =IF(ROWS($7:21)<=COUNTA(Nom_personnel)-SUMPRODUCT(COUNTIF(Nom_personnel,'S13'!H$8:H$68)), INDEX(Nom_personnel,SMALL(IF((COUNTIF('S13'!H$8:H$68,Nom_personnel)=0),ROW(INDIRECT("1:"&ROWS(Nom_personnel)))),ROWS($7:21))),"") | F22: =IF(ROWS($7:21)<=COUNTA(Nom_personnel)-SUMPRODUCT(COUNTIF(Nom_personnel,'S13'!F$8:F$68)), INDEX(Nom_personnel,SMALL(IF((COUNTIF('S13'!F$8:F$68,Nom_personnel)=0),ROW(INDIRECT("1:"&ROWS(Nom_personnel)))),ROWS($7:21))),"") -> #NUM! | G22: =IF(ROWS($7:21)<=COUNTA(Nom_personnel)-SUMPRODUCT(COUNTIF(Nom_personnel,'S13'!G$8:G$68)), INDEX(Nom_personnel,SMALL(IF((COUNTIF('S13'!G$8:G$68,Nom_personnel)=0),ROW(INDIRECT("1:"&ROWS(Nom_personnel)))),ROWS($7:21))),"") -> #NUM! | H22: =IF(ROWS($7:21)<=COUNTA(Nom_personnel)-SUMPRODUCT(COUNTIF(Nom_personnel,'S13'!H$8:H$68)), INDEX(Nom_personnel,SMALL(IF((COUNTIF('S13'!H$8:H$68,Nom_personnel)=0),ROW(INDIRECT("1:"&ROWS(Nom_personnel)))),ROWS($7:21))),"") | O22: =IF(Intérimaires!A17=0, "", Intérimaires!A17)
C23: =IF('Liste du personnel'!A20=0, "", 'Liste du personnel'!A20) | D23: =IF(ROWS($7:22)<=COUNTA(Nom_personnel)-SUMPRODUCT(COUNTIF(Nom_personnel,'S13'!D$8:D$68)), INDEX(Nom_personnel,SMALL(IF((COUNTIF('S13'!D$8:D$68,Nom_personnel)=0),ROW(INDIRECT("1:"&ROWS(Nom_personnel)))),ROWS($7:22))),"") -> #NUM! | E23: =IF(ROWS($7:22)<=COUNTA(Nom_personnel)-SUMPRODUCT(COUNTIF(Nom_personnel,'S13'!E$8:E$68)), INDEX(Nom_personnel,SMALL(IF((COUNTIF('S13'!E$8:E$68,Nom_personnel)=0),ROW(INDIRECT("1:"&ROWS(Nom_personnel)))),ROWS($7:22))),"") -> #NUM! | F23: =IF(ROWS($7:22)<=COUNTA(Nom_personnel)-SUMPRODUCT(COUNTIF(Nom_personnel,'S13'!F$8:F$68)), INDEX(Nom_personnel,SMALL(IF((COUNTIF('S13'!F$8:F$68,Nom_personnel)=0),ROW(INDIRECT("1:"&ROWS(Nom_personnel)))),ROWS($7:22))),"") -> #NUM! | G23: =IF(ROWS($7:22)<=COUNTA(Nom_personnel)-SUMPRODUCT(COUNTIF(Nom_personnel,'S13'!G$8:G$68)), INDEX(Nom_personnel,SMALL(IF((COUNTIF('S13'!G$8:G$68,Nom_personnel)=0),ROW(INDIRECT("1:"&ROWS(Nom_personnel)))),ROWS($7:22))),"") -> #NUM! | H23: =IF(ROWS($7:22)<=COUNTA(Nom_personnel)-SUMPRODUCT(COUNTIF(Nom_personnel,'S13'!H$8:H$68)), INDEX(Nom_personnel,SMALL(IF((COUNTIF('S13'!H$8:H$68,Nom_personnel)=0),ROW(INDIRECT("1:"&ROWS(Nom_personnel)))),ROWS($7:22))),"") | O23: =IF(Intérimaires!A18=0, "", Intérimaires!A18)
C24: =IF('Liste du personnel'!A21=0, "", 'Liste du personnel'!A21) | D24: =IF(ROWS($7:23)<=COUNTA(Nom_personnel)-SUMPRODUCT(COUNTIF(Nom_personnel,'S13'!D$8:D$68)), INDEX(Nom_personnel,SMALL(IF((COUNTIF('S13'!D$8:D$68,Nom_personnel)=0),ROW(INDIRECT("1:"&ROWS(Nom_personnel)))),ROWS($7:23))),"") -> #NUM! | E24: =IF(ROWS($7:23)<=COUNTA(Nom_personnel)-SUMPRODUCT(COUNTIF(Nom_personnel,'S13'!E$8:E$68)), INDEX(Nom_personnel,SMALL(IF((COUNTIF('S13'!E$8:E$68,Nom_personnel)=0),ROW(INDIRECT("1:"&ROWS(Nom_personnel)))),ROWS($7:23))),"") -> #NUM! | F24: =IF(ROWS($7:23)<=COUNTA(Nom_personnel)-SUMPRODUCT(COUNTIF(Nom_personnel,'S13'!F$8:F$68)), INDEX(Nom_personnel,SMALL(IF((COUNTIF('S13'!F$8:F$68,Nom_personnel)=0),ROW(INDIRECT("1:"&ROWS(Nom_personnel)))),ROWS($7:23))),"") -> #NUM! | G24: =IF(ROWS($7:23)<=COUNTA(Nom_personnel)-SUMPRODUCT(COUNTIF(Nom_personnel,'S13'!G$8:G$68)), INDEX(Nom_personnel,SMALL(IF((COUNTIF('S13'!G$8:G$68,Nom_personnel)=0),ROW(INDIRECT("1:"&ROWS(Nom_personnel)))),ROWS($7:23))),"") -> #NUM! | O24: =IF(Intérimaires!A19=0, "", Intérimaires!A19)
C25: =IF('Liste du personnel'!A22=0, "", 'Liste du personnel'!A22) | D25: =IF(ROWS($7:24)<=COUNTA(Nom_personnel)-SUMPRODUCT(COUNTIF(Nom_personnel,'S13'!D$8:D$68)), INDEX(Nom_personnel,SMALL(IF((COUNTIF('S13'!D$8:D$68,Nom_personnel)=0),ROW(INDIRECT("1:"&ROWS(Nom_personnel)))),ROWS($7:24))),"") -> #NUM! | E25: =IF(ROWS($7:24)<=COUNTA(Nom_personnel)-SUMPRODUCT(COUNTIF(Nom_personnel,'S13'!E$8:E$68)), INDEX(Nom_personnel,SMALL(IF((COUNTIF('S13'!E$8:E$68,Nom_personnel)=0),ROW(INDIRECT("1:"&ROWS(Nom_personnel)))),ROWS($7:24))),"") -> #NUM! | F25: =IF(ROWS($7:24)<=COUNTA(Nom_personnel)-SUMPRODUCT(COUNTIF(Nom_personnel,'S13'!F$8:F$68)), INDEX(Nom_personnel,SMALL(IF((COUNTIF('S13'!F$8:F$68,Nom_personnel)=0),ROW(INDIRECT("1:"&ROWS(Nom_personnel)))),ROWS($7:24))),"") -> #NUM! | G25: =IF(ROWS($7:24)<=COUNTA(Nom_personnel)-SUMPRODUCT(COUNTIF(Nom_personnel,'S13'!G$8:G$68)), INDEX(Nom_personnel,SMALL(IF((COUNTIF('S13'!G$8:G$68,Nom_personnel)=0),ROW(INDIRECT("1:"&ROWS(Nom_personnel)))),ROWS($7:24))),"") -> #NUM! | O25: =IF(Intérimaires!A20=0, "", Intérimaires!A20)
C26: =IF('Liste du personnel'!A23=0, "", 'Liste du personnel'!A23) | D26: =IF(ROWS($7:25)<=COUNTA(Nom_personnel)-SUMPRODUCT(COUNTIF(Nom_personnel,'S13'!D$8:D$68)), INDEX(Nom_personnel,SMALL(IF((COUNTIF('S13'!D$8:D$68,Nom_personnel)=0),ROW(INDIRECT("1:"&ROWS(Nom_personnel)))),ROWS($7:25))),"") -> #NUM! | E26: =IF(ROWS($7:25)<=COUNTA(Nom_personnel)-SUMPRODUCT(COUNTIF(Nom_personnel,'S13'!E$8:E$68)), INDEX(Nom_personnel,SMALL(IF((COUNTIF('S13'!E$8:E$68,Nom_personnel)=0),ROW(INDIRECT("1:"&ROWS(Nom_personnel)))),ROWS($7:25))),"") -> #NUM! | F26: =IF(ROWS($7:25)<=COUNTA(Nom_personnel)-SUMPRODUCT(COUNTIF(Nom_personnel,'S13'!F$8:F$68)), INDEX(Nom_personnel,SMALL(IF((COUNTIF('S13'!F$8:F$68,Nom_personnel)=0),ROW(INDIRECT("1:"&ROWS(Nom_personnel)))),ROWS($7:25))),"") -> #NUM! | G26: =IF(ROWS($7:25)<=COUNTA(Nom_personnel)-SUMPRODUCT(COUNTIF(Nom_personnel,'S13'!G$8:G$68)), INDEX(Nom_personnel,SMALL(IF((COUNTIF('S13'!G$8:G$68,Nom_personnel)=0),ROW(INDIRECT("1:"&ROWS(Nom_personnel)))),ROWS($7:25))),"") -> #NUM! | O26: =IF(Intérimaires!A21=0, "", Intérimaires!A21)
C27: =IF('Liste du personnel'!A24=0, "", 'Liste du personnel'!A24) | D27: =IF(ROWS($7:26)<=COUNTA(Nom_personnel)-SUMPRODUCT(COUNTIF(Nom_personnel,'S13'!D$8:D$68)), INDEX(Nom_personnel,SMALL(IF((COUNTIF('S13'!D$8:D$68,Nom_personnel)=0),ROW(INDIRECT("1:"&ROWS(Nom_personnel)))),ROWS($7:26))),"") -> #NUM! | E27: =IF(ROWS($7:26)<=COUNTA(Nom_personnel)-SUMPRODUCT(COUNTIF(Nom_personnel,'S13'!E$8:E$68)), INDEX(Nom_personnel,SMALL(IF((COUNTIF('S13'!E$8:E$68,Nom_personnel)=0),ROW(INDIRECT("1:"&ROWS(Nom_personnel)))),ROWS($7:26))),"") -> #NUM! | F27: =IF(ROWS($7:26)<=COUNTA(Nom_personnel)-SUMPRODUCT(COUNTIF(Nom_personnel,'S13'!F$8:F$68)), INDEX(Nom_personnel,SMALL(IF((COUNTIF('S13'!F$8:F$68,Nom_personnel)=0),ROW(INDIRECT("1:"&ROWS(Nom_personnel)))),ROWS($7:26))),"") -> #NUM! | G27: =IF(ROWS($7:26)<=COUNTA(Nom_personnel)-SUMPRODUCT(COUNTIF(Nom_personnel,'S13'!G$8:G$68)), INDEX(Nom_personnel,SMALL(IF((COUNTIF('S13'!G$8:G$68,Nom_personnel)=0),ROW(INDIRECT("1:"&ROWS(Nom_personnel)))),ROWS($7:26))),"") -> #NUM! | O27: =IF(Intérimaires!A22=0, "", Intérimaires!A22)
C28: =IF('Liste du personnel'!A25=0, "", 'Liste du personnel'!A25) | D28: =IF(ROWS($7:27)<=COUNTA(Nom_personnel)-SUMPRODUCT(COUNTIF(Nom_personnel,'S13'!D$8:D$68)), INDEX(Nom_personnel,SMALL(IF((COUNTIF('S13'!D$8:D$68,Nom_personnel)=0),ROW(INDIRECT("1:"&ROWS(Nom_personnel)))),ROWS($7:27))),"") -> #NUM! | E28: =IF(ROWS($7:27)<=COUNTA(Nom_personnel)-SUMPRODUCT(COUNTIF(Nom_personnel,'S13'!E$8:E$68)), INDEX(Nom_personnel,SMALL(IF((COUNTIF('S13'!E$8:E$68,Nom_personnel)=0),ROW(INDIRECT("1:"&ROWS(Nom_personnel)))),ROWS($7:27))),"") -> #NUM! | F28: =IF(ROWS($7:27)<=COUNTA(Nom_personnel)-SUMPRODUCT(COUNTIF(Nom_personnel,'S13'!F$8:F$68)), INDEX(Nom_personnel,SMALL(IF((COUNTIF('S13'!F$8:F$68,Nom_personnel)=0),ROW(INDIRECT("1:"&ROWS(Nom_personnel)))),ROWS($7:27))),"") -> #NUM! | G28: =IF(ROWS($7:27)<=COUNTA(Nom_personnel)-SUMPRODUCT(COUNTIF(Nom_personnel,'S13'!G$8:G$68)), INDEX(Nom_personnel,SMALL(IF((COUNTIF('S13'!G$8:G$68,Nom_personnel)=0),ROW(INDIRECT("1:"&ROWS(Nom_personnel)))),ROWS($7:27))),"") -> #NUM! | O28: =IF(Intérimaires!A23=0, "", Intérimaires!A23)
C29: =IF('Liste du personnel'!A26=0, "", 'Liste du personnel'!A26) | D29: =IF(ROWS($7:28)<=COUNTA(Nom_personnel)-SUMPRODUCT(COUNTIF(Nom_personnel,'S13'!D29:D89)), INDEX(Nom_personnel,SMALL(IF((COUNTIF('S13'!D29:D89,Nom_personnel)=0),ROW(INDIRECT("1:"&ROWS(Nom_personnel)))),ROWS($7:28))),"") -> #NUM! | E29: =IF(ROWS($7:28)<=COUNTA(Nom_personnel)-SUMPRODUCT(COUNTIF(Nom_personnel,'S13'!E$8:E$68)), INDEX(Nom_personnel,SMALL(IF((COUNTIF('S13'!E$8:E$68,Nom_personnel)=0),ROW(INDIRECT("1:"&ROWS(Nom_personnel)))),ROWS($7:28))),"") -> #NUM! | F29: =IF(ROWS($7:28)<=COUNTA(Nom_personnel)-SUMPRODUCT(COUNTIF(Nom_personnel,'S13'!F$8:F$68)), INDEX(Nom_personnel,SMALL(IF((COUNTIF('S13'!F$8:F$68,Nom_personnel)=0),ROW(INDIRECT("1:"&ROWS(Nom_personnel)))),ROWS($7:28))),"") -> #NUM! | G29: =IF(ROWS($7:28)<=COUNTA(Nom_personnel)-SUMPRODUCT(COUNTIF(Nom_personnel,'S13'!G$8:G$68)), INDEX(Nom_personnel,SMALL(IF((COUNTIF('S13'!G$8:G$68,Nom_personnel)=0),ROW(INDIRECT("1:"&ROWS(Nom_personnel)))),ROWS($7:28))),"") -> #NUM! | O29: =IF(Intérimaires!A24=0, "", Intérimaires!A24)
C30: =IF('Liste du personnel'!A27=0, "", 'Liste du personnel'!A27) | D30: =IF(ROWS($7:29)<=COUNTA(Nom_personnel)-SUMPRODUCT(COUNTIF(Nom_personnel,'S13'!D30:D90)), INDEX(Nom_personnel,SMALL(IF((COUNTIF('S13'!D30:D90,Nom_personnel)=0),ROW(INDIRECT("1:"&ROWS(Nom_personnel)))),ROWS($7:29))),"") -> #NUM! | E30: =IF(ROWS($7:29)<=COUNTA(Nom_personnel)-SUMPRODUCT(COUNTIF(Nom_personnel,'S13'!E$8:E$68)), INDEX(Nom_personnel,SMALL(IF((COUNTIF('S13'!E$8:E$68,Nom_personnel)=0),ROW(INDIRECT("1:"&ROWS(Nom_personnel)))),ROWS($7:29))),"") -> #NUM! | F30: =IF(ROWS($7:29)<=COUNTA(Nom_personnel)-SUMPRODUCT(COUNTIF(Nom_personnel,'S13'!F$8:F$68)), INDEX(Nom_personnel,SMALL(IF((COUNTIF('S13'!F$8:F$68,Nom_personnel)=0),ROW(INDIRECT("1:"&ROWS(Nom_personnel)))),ROWS($7:29))),"") -> #NUM! | G30: =IF(ROWS($7:29)<=COUNTA(Nom_personnel)-SUMPRODUCT(COUNTIF(Nom_personnel,'S13'!G$8:G$68)), INDEX(Nom_personnel,SMALL(IF((COUNTIF('S13'!G$8:G$68,Nom_personnel)=0),ROW(INDIRECT("1:"&ROWS(Nom_personnel)))),ROWS($7:29))),"") -> #NUM! | O30: =IF(Intérimaires!A25=0, "", Intérimaires!A25)
C31: =IF('Liste du personnel'!A28=0, "", 'Liste du personnel'!A28) | D31: =IF(ROWS($7:30)<=COUNTA(Nom_personnel)-SUMPRODUCT(COUNTIF(Nom_personnel,'S13'!D31:D91)), INDEX(Nom_personnel,SMALL(IF((COUNTIF('S13'!D31:D91,Nom_personnel)=0),ROW(INDIRECT("1:"&ROWS(Nom_personnel)))),ROWS($7:30))),"") -> #NUM! | E31: =IF(ROWS($7:30)<=COUNTA(Nom_personnel)-SUMPRODUCT(COUNTIF(Nom_personnel,'S13'!E$8:E$68)), INDEX(Nom_personnel,SMALL(IF((COUNTIF('S13'!E$8:E$68,Nom_personnel)=0),ROW(INDIRECT("1:"&ROWS(Nom_personnel)))),ROWS($7:30))),"") -> #NUM! | F31: =IF(ROWS($7:30)<=COUNTA(Nom_personnel)-SUMPRODUCT(COUNTIF(Nom_personnel,'S13'!F$8:F$68)), INDEX(Nom_personnel,SMALL(IF((COUNTIF('S13'!F$8:F$68,Nom_personnel)=0),ROW(INDIRECT("1:"&ROWS(Nom_personnel)))),ROWS($7:30))),"") -> #NUM! | G31: =IF(ROWS($7:30)<=COUNTA(Nom_personnel)-SUMPRODUCT(COUNTIF(Nom_personnel,'S13'!G$8:G$68)), INDEX(Nom_personnel,SMALL(IF((COUNTIF('S13'!G$8:G$68,Nom_personnel)=0),ROW(INDIRECT("1:"&ROWS(Nom_personnel)))),ROWS($7:30))),"") -> #NUM! | O31: =IF(Intérimaires!A26=0, "", Intérimaires!A26)
C32: =IF('Liste du personnel'!A29=0, "", 'Liste du personnel'!A29) | D32: =IF(ROWS($7:31)<=COUNTA(Nom_personnel)-SUMPRODUCT(COUNTIF(Nom_personnel,'S13'!D32:D92)), INDEX(Nom_personnel,SMALL(IF((COUNTIF('S13'!D32:D92,Nom_personnel)=0),ROW(INDIRECT("1:"&ROWS(Nom_personnel)))),ROWS($7:31))),"") -> #NUM! | E32: =IF(ROWS($7:31)<=COUNTA(Nom_personnel)-SUMPRODUCT(COUNTIF(Nom_personnel,'S13'!E$8:E$68)), INDEX(Nom_personnel,SMALL(IF((COUNTIF('S13'!E$8:E$68,Nom_personnel)=0),ROW(INDIRECT("1:"&ROWS(Nom_personnel)))),ROWS($7:31))),"") -> #NUM! | F32: =IF(ROWS($7:31)<=COUNTA(Nom_personnel)-SUMPRODUCT(COUNTIF(Nom_personnel,'S13'!F$8:F$68)), INDEX(Nom_personnel,SMALL(IF((COUNTIF('S13'!F$8:F$68,Nom_personnel)=0),ROW(INDIRECT("1:"&ROWS(Nom_personnel)))),ROWS($7:31))),"") -> #NUM! | G32: =IF(ROWS($7:31)<=COUNTA(Nom_personnel)-SUMPRODUCT(COUNTIF(Nom_personnel,'S13'!G$8:G$68)), INDEX(Nom_personnel,SMALL(IF((COUNTIF('S13'!G$8:G$68,Nom_personnel)=0),ROW(INDIRECT("1:"&ROWS(Nom_personnel)))),ROWS($7:31))),"") -> #NUM! | O32: =IF(Intérimaires!A27=0, "", Intérimaires!A27)
C33: =IF('Liste du personnel'!A30=0, "", 'Liste du personnel'!A30) | D33: =IF(ROWS($7:32)<=COUNTA(Nom_personnel)-SUMPRODUCT(COUNTIF(Nom_personnel,'S13'!D33:D93)), INDEX(Nom_personnel,SMALL(IF((COUNTIF('S13'!D33:D93,Nom_personnel)=0),ROW(INDIRECT("1:"&ROWS(Nom_personnel)))),ROWS($7:32))),"") -> #NUM! | E33: =IF(ROWS($7:32)<=COUNTA(Nom_personnel)-SUMPRODUCT(COUNTIF(Nom_personnel,'S13'!E$8:E$68)), INDEX(Nom_personnel,SMALL(IF((COUNTIF('S13'!E$8:E$68,Nom_personnel)=0),ROW(INDIRECT("1:"&ROWS(Nom_personnel)))),ROWS($7:32))),"") -> #NUM! | F33: =IF(ROWS($7:32)<=COUNTA(Nom_personnel)-SUMPRODUCT(COUNTIF(Nom_personnel,'S13'!F$8:F$68)), INDEX(Nom_personnel,SMALL(IF((COUNTIF('S13'!F$8:F$68,Nom_personnel)=0),ROW(INDIRECT("1:"&ROWS(Nom_personnel)))),ROWS($7:32))),"") -> #NUM! | G33: =IF(ROWS($7:32)<=COUNTA(Nom_personnel)-SUMPRODUCT(COUNTIF(Nom_personnel,'S13'!G$8:G$68)), INDEX(Nom_personnel,SMALL(IF((COUNTIF('S13'!G$8:G$68,Nom_personnel)=0),ROW(INDIRECT("1:"&ROWS(Nom_personnel)))),ROWS($7:32))),"") -> #NUM! | O33: =IF(Intérimaires!A28=0, "", Intérimaires!A28)
C34: =IF('Liste du personnel'!A31=0, "", 'Liste du personnel'!A31) | D34: =IF(ROWS($7:33)<=COUNTA(Nom_personnel)-SUMPRODUCT(COUNTIF(Nom_personnel,'S13'!D34:D94)), INDEX(Nom_personnel,SMALL(IF((COUNTIF('S13'!D34:D94,Nom_personnel)=0),ROW(INDIRECT("1:"&ROWS(Nom_personnel)))),ROWS($7:33))),"") -> #NUM! | E34: =IF(ROWS($7:33)<=COUNTA(Nom_personnel)-SUMPRODUCT(COUNTIF(Nom_personnel,'S13'!E$8:E$68)), INDEX(Nom_personnel,SMALL(IF((COUNTIF('S13'!E$8:E$68,Nom_personnel)=0),ROW(INDIRECT("1:"&ROWS(Nom_personnel)))),ROWS($7:33))),"") -> #NUM! | F34: =IF(ROWS($7:33)<=COUNTA(Nom_personnel)-SUMPRODUCT(COUNTIF(Nom_personnel,'S13'!F$8:F$68)), INDEX(Nom_personnel,SMALL(IF((COUNTIF('S13'!F$8:F$68,Nom_personnel)=0),ROW(INDIRECT("1:"&ROWS(Nom_personnel)))),ROWS($7:33))),"") -> #NUM! | G34: =IF(ROWS($7:33)<=COUNTA(Nom_personnel)-SUMPRODUCT(COUNTIF(Nom_personnel,'S13'!G$8:G$68)), INDEX(Nom_personnel,SMALL(IF((COUNTIF('S13'!G$8:G$68,Nom_personnel)=0),ROW(INDIRECT("1:"&ROWS(Nom_personnel)))),ROWS($7:33))),"") -> #NUM! | O34: =IF(Intérimaires!A29=0, "", Intérimaires!A29)
C35: =IF('Liste du personnel'!A32=0, "", 'Liste du personnel'!A32) | D35: =IF(ROWS($7:34)<=COUNTA(Nom_personnel)-SUMPRODUCT(COUNTIF(Nom_personnel,'S13'!D35:D95)), INDEX(Nom_personnel,SMALL(IF((COUNTIF('S13'!D35:D95,Nom_personnel)=0),ROW(INDIRECT("1:"&ROWS(Nom_personnel)))),ROWS($7:34))),"") -> #NUM! | E35: =IF(ROWS($7:34)<=COUNTA(Nom_personnel)-SUMPRODUCT(COUNTIF(Nom_personnel,'S13'!E$8:E$68)), INDEX(Nom_personnel,SMALL(IF((COUNTIF('S13'!E$8:E$68,Nom_personnel)=0),ROW(INDIRECT("1:"&ROWS(Nom_personnel)))),ROWS($7:34))),"") -> #NUM! | F35: =IF(ROWS($7:34)<=COUNTA(Nom_personnel)-SUMPRODUCT(COUNTIF(Nom_personnel,'S13'!F$8:F$68)), INDEX(Nom_personnel,SMALL(IF((COUNTIF('S13'!F$8:F$68,Nom_personnel)=0),ROW(INDIRECT("1:"&ROWS(Nom_personnel)))),ROWS($7:34))),"") -> #NUM! | G35: =IF(ROWS($7:34)<=COUNTA(Nom_personnel)-SUMPRODUCT(COUNTIF(Nom_personnel,'S13'!G$8:G$68)), INDEX(Nom_personnel,SMALL(IF((COUNTIF('S13'!G$8:G$68,Nom_personnel)=0),ROW(INDIRECT("1:"&ROWS(Nom_personnel)))),ROWS($7:34))),"") -> #NUM! | O35: =IF(Intérimaires!A30=0, "", Intérimaires!A30)
C36: =IF('Liste du personnel'!A33=0, "", 'Liste du personnel'!A33) | D36: =IF(ROWS($7:35)<=COUNTA(Nom_personnel)-SUMPRODUCT(COUNTIF(Nom_personnel,'S13'!D36:D96)), INDEX(Nom_personnel,SMALL(IF((COUNTIF('S13'!D36:D96,Nom_personnel)=0),ROW(INDIRECT("1:"&ROWS(Nom_personnel)))),ROWS($7:35))),"") -> #NUM! | E36: =IF(ROWS($7:35)<=COUNTA(Nom_personnel)-SUMPRODUCT(COUNTIF(Nom_personnel,'S13'!E$8:E$68)), INDEX(Nom_personnel,SMALL(IF((COUNTIF('S13'!E$8:E$68,Nom_personnel)=0),ROW(INDIRECT("1:"&ROWS(Nom_personnel)))),ROWS($7:35))),"") -> #NUM! | F36: =IF(ROWS($7:35)<=COUNTA(Nom_personnel)-SUMPRODUCT(COUNTIF(Nom_personnel,'S13'!F$8:F$68)), INDEX(Nom_personnel,SMALL(IF((COUNTIF('S13'!F$8:F$68,Nom_personnel)=0),ROW(INDIRECT("1:"&ROWS(Nom_personnel)))),ROWS($7:35))),"") -> #NUM! | G36: =IF(ROWS($7:35)<=COUNTA(Nom_personnel)-SUMPRODUCT(COUNTIF(Nom_personnel,'S13'!G$8:G$68)), INDEX(Nom_personnel,SMALL(IF((COUNTIF('S13'!G$8:G$68,Nom_personnel)=0),ROW(INDIRECT("1:"&ROWS(Nom_personnel)))),ROWS($7:35))),"") -> #NUM! | O36: =IF(Intérimaires!A31=0, "", Intérimaires!A31)
C37: =IF('Liste du personnel'!A34=0, "", 'Liste du personnel'!A34) | D37: =IF(ROWS($7:36)<=COUNTA(Nom_personnel)-SUMPRODUCT(COUNTIF(Nom_personnel,'S13'!D37:D97)), INDEX(Nom_personnel,SMALL(IF((COUNTIF('S13'!D37:D97,Nom_personnel)=0),ROW(INDIRECT("1:"&ROWS(Nom_personnel)))),ROWS($7:36))),"") -> #NUM! | E37: =IF(ROWS($7:36)<=COUNTA(Nom_personnel)-SUMPRODUCT(COUNTIF(Nom_personnel,'S13'!E$8:E$68)), INDEX(Nom_personnel,SMALL(IF((COUNTIF('S13'!E$8:E$68,Nom_personnel)=0),ROW(INDIRECT("1:"&ROWS(Nom_personnel)))),ROWS($7:36))),"") -> #NUM! | F37: =IF(ROWS($7:36)<=COUNTA(Nom_personnel)-SUMPRODUCT(COUNTIF(Nom_personnel,'S13'!F$8:F$68)), INDEX(Nom_personnel,SMALL(IF((COUNTIF('S13'!F$8:F$68,Nom_personnel)=0),ROW(INDIRECT("1:"&ROWS(Nom_personnel)))),ROWS($7:36))),"") -> #NUM! | G37: =IF(ROWS($7:36)<=COUNTA(Nom_personnel)-SUMPRODUCT(COUNTIF(Nom_personnel,'S13'!G$8:G$68)), INDEX(Nom_personnel,SMALL(IF((COUNTIF('S13'!G$8:G$68,Nom_personnel)=0),ROW(INDIRECT("1:"&ROWS(Nom_personnel)))),ROWS($7:36))),"") -> #NUM! | O37: =IF(Intérimaires!A32=0, "", Intérimaires!A32)
C38: =IF('Liste du personnel'!A35=0, "", 'Liste du personnel'!A35) | D38: =IF(ROWS($7:37)<=COUNTA(Nom_personnel)-SUMPRODUCT(COUNTIF(Nom_personnel,'S13'!D38:D98)), INDEX(Nom_personnel,SMALL(IF((COUNTIF('S13'!D38:D98,Nom_personnel)=0),ROW(INDIRECT("1:"&ROWS(Nom_personnel)))),ROWS($7:37))),"") -> #NUM! | E38: =IF(ROWS($7:37)<=COUNTA(Nom_personnel)-SUMPRODUCT(COUNTIF(Nom_personnel,'S13'!E$8:E$68)), INDEX(Nom_personnel,SMALL(IF((COUNTIF('S13'!E$8:E$68,Nom_personnel)=0),ROW(INDIRECT("1:"&ROWS(Nom_personnel)))),ROWS($7:37))),"") -> #NUM! | F38: =IF(ROWS($7:37)<=COUNTA(Nom_personnel)-SUMPRODUCT(COUNTIF(Nom_personnel,'S13'!F$8:F$68)), INDEX(Nom_personnel,SMALL(IF((COUNTIF('S13'!F$8:F$68,Nom_personnel)=0),ROW(INDIRECT("1:"&ROWS(Nom_personnel)))),ROWS($7:37))),"") -> #NUM! | G38: =IF(ROWS($7:37)<=COUNTA(Nom_personnel)-SUMPRODUCT(COUNTIF(Nom_personnel,'S13'!G$8:G$68)), INDEX(Nom_personnel,SMALL(IF((COUNTIF('S13'!G$8:G$68,Nom_personnel)=0),ROW(INDIRECT("1:"&ROWS(Nom_personnel)))),ROWS($7:37))),"") -> #NUM! | O38: =IF(Intérimaires!A33=0, "", Intérimaires!A33)
C39: =IF('Liste du personnel'!A36=0, "", 'Liste du personnel'!A36) | D39: =IF(ROWS($7:38)<=COUNTA(Nom_personnel)-SUMPRODUCT(COUNTIF(Nom_personnel,'S13'!D39:D99)), INDEX(Nom_personnel,SMALL(IF((COUNTIF('S13'!D39:D99,Nom_personnel)=0),ROW(INDIRECT("1:"&ROWS(Nom_personnel)))),ROWS($7:38))),"") -> #NUM! | E39: =IF(ROWS($7:38)<=COUNTA(Nom_personnel)-SUMPRODUCT(COUNTIF(Nom_personnel,'S13'!E$8:E$68)), INDEX(Nom_personnel,SMALL(IF((COUNTIF('S13'!E$8:E$68,Nom_personnel)=0),ROW(INDIRECT("1:"&ROWS(Nom_personnel)))),ROWS($7:38))),"") -> #NUM! | F39: =IF(ROWS($7:38)<=COUNTA(Nom_personnel)-SUMPRODUCT(COUNTIF(Nom_personnel,'S13'!F$8:F$68)), INDEX(Nom_personnel,SMALL(IF((COUNTIF('S13'!F$8:F$68,Nom_personnel)=0),ROW(INDIRECT("1:"&ROWS(Nom_personnel)))),ROWS($7:38))),"") -> #NUM! | G39: =IF(ROWS($7:38)<=COUNTA(Nom_personnel)-SUMPRODUCT(COUNTIF(Nom_personnel,'S13'!G$8:G$68)), INDEX(Nom_personnel,SMALL(IF((COUNTIF('S13'!G$8:G$68,Nom_personnel)=0),ROW(INDIRECT("1:"&ROWS(Nom_personnel)))),ROWS($7:38))),"") -> #NUM! | O39: =IF(Intérimaires!A34=0, "", Intérimaires!A34)
C40: =IF('Liste du personnel'!A37=0, "", 'Liste du personnel'!A37) | D40: =IF(ROWS($7:39)<=COUNTA(Nom_personnel)-SUMPRODUCT(COUNTIF(Nom_personnel,'S13'!D40:D100)), INDEX(Nom_personnel,SMALL(IF((COUNTIF('S13'!D40:D100,Nom_personnel)=0),ROW(INDIRECT("1:"&ROWS(Nom_personnel)))),ROWS($7:39))),"") -> #NUM! | E40: =IF(ROWS($7:39)<=COUNTA(Nom_personnel)-SUMPRODUCT(COUNTIF(Nom_personnel,'S13'!E$8:E$68)), INDEX(Nom_personnel,SMALL(IF((COUNTIF('S13'!E$8:E$68,Nom_personnel)=0),ROW(INDIRECT("1:"&ROWS(Nom_personnel)))),ROWS($7:39))),"") -> #NUM! | F40: =IF(ROWS($7:39)<=COUNTA(Nom_personnel)-SUMPRODUCT(COUNTIF(Nom_personnel,'S13'!F$8:F$68)), INDEX(Nom_personnel,SMALL(IF((COUNTIF('S13'!F$8:F$68,Nom_personnel)=0),ROW(INDIRECT("1:"&ROWS(Nom_personnel)))),ROWS($7:39))),"") -> #NUM! | G40: =IF(ROWS($7:39)<=COUNTA(Nom_personnel)-SUMPRODUCT(COUNTIF(Nom_personnel,'S13'!G$8:G$68)), INDEX(Nom_personnel,SMALL(IF((COUNTIF('S13'!G$8:G$68,Nom_personnel)=0),ROW(INDIRECT("1:"&ROWS(Nom_personnel)))),ROWS($7:39))),"") -> #NUM! | O40: =IF(Intérimaires!A35=0, "", Intérimaires!A35)
C41: =IF('Liste du personnel'!A38=0, "", 'Liste du personnel'!A38) | D41: =IF(ROWS($7:40)<=COUNTA(Nom_personnel)-SUMPRODUCT(COUNTIF(Nom_personnel,'S13'!D41:D101)), INDEX(Nom_personnel,SMALL(IF((COUNTIF('S13'!D41:D101,Nom_personnel)=0),ROW(INDIRECT("1:"&ROWS(Nom_personnel)))),ROWS($7:40))),"") -> #NUM! | E41: =IF(ROWS($7:40)<=COUNTA(Nom_personnel)-SUMPRODUCT(COUNTIF(Nom_personnel,'S13'!E$8:E$68)), INDEX(Nom_personnel,SMALL(IF((COUNTIF('S13'!E$8:E$68,Nom_personnel)=0),ROW(INDIRECT("1:"&ROWS(Nom_personnel)))),ROWS($7:40))),"") -> #NUM! | F41: =IF(ROWS($7:40)<=COUNTA(Nom_personnel)-SUMPRODUCT(COUNTIF(Nom_personnel,'S13'!F$8:F$68)), INDEX(Nom_personnel,SMALL(IF((COUNTIF('S13'!F$8:F$68,Nom_personnel)=0),ROW(INDIRECT("1:"&ROWS(Nom_personnel)))),ROWS($7:40))),"") -> #NUM! | G41: =IF(ROWS($7:40)<=COUNTA(Nom_personnel)-SUMPRODUCT(COUNTIF(Nom_personnel,'S13'!G$8:G$68)), INDEX(Nom_personnel,SMALL(IF((COUNTIF('S13'!G$8:G$68,Nom_personnel)=0),ROW(INDIRECT("1:"&ROWS(Nom_personnel)))),ROWS($7:40))),"") -> #NUM! | O41: =IF(Intérimaires!A36=0, "", Intérimaires!A36)
C42: =IF('Liste du personnel'!A39=0, "", 'Liste du personnel'!A39) | D42: =IF(ROWS($7:41)<=COUNTA(Nom_personnel)-SUMPRODUCT(COUNTIF(Nom_personnel,'S13'!D42:D102)), INDEX(Nom_personnel,SMALL(IF((COUNTIF('S13'!D42:D102,Nom_personnel)=0),ROW(INDIRECT("1:"&ROWS(Nom_personnel)))),ROWS($7:41))),"") -> #NUM! | E42: =IF(ROWS($7:41)<=COUNTA(Nom_personnel)-SUMPRODUCT(COUNTIF(Nom_personnel,'S13'!E$8:E$68)), INDEX(Nom_personnel,SMALL(IF((COUNTIF('S13'!E$8:E$68,Nom_personnel)=0),ROW(INDIRECT("1:"&ROWS(Nom_personnel)))),ROWS($7:41))),"") -> #NUM! | F42: =IF(ROWS($7:41)<=COUNTA(Nom_personnel)-SUMPRODUCT(COUNTIF(Nom_personnel,'S13'!F$8:F$68)), INDEX(Nom_personnel,SMALL(IF((COUNTIF('S13'!F$8:F$68,Nom_personnel)=0),ROW(INDIRECT("1:"&ROWS(Nom_personnel)))),ROWS($7:41))),"") -> #NUM! | G42: =IF(ROWS($7:41)<=COUNTA(Nom_personnel)-SUMPRODUCT(COUNTIF(Nom_personnel,'S13'!G$8:G$68)), INDEX(Nom_personnel,SMALL(IF((COUNTIF('S13'!G$8:G$68,Nom_personnel)=0),ROW(INDIRECT("1:"&ROWS(Nom_personnel)))),ROWS($7:41))),"") -> #NUM! | O42: =IF(Intérimaires!A37=0, "", Intérimaires!A37)
C43: =IF('Liste du personnel'!A40=0, "", 'Liste du personnel'!A40) | D43: =IF(ROWS($7:42)<=COUNTA(Nom_personnel)-SUMPRODUCT(COUNTIF(Nom_personnel,'S13'!D43:D103)), INDEX(Nom_personnel,SMALL(IF((COUNTIF('S13'!D43:D103,Nom_personnel)=0),ROW(INDIRECT("1:"&ROWS(Nom_personnel)))),ROWS($7:42))),"") -> #NUM! | E43: =IF(ROWS($7:42)<=COUNTA(Nom_personnel)-SUMPRODUCT(COUNTIF(Nom_personnel,'S13'!E$8:E$68)), INDEX(Nom_personnel,SMALL(IF((COUNTIF('S13'!E$8:E$68,Nom_personnel)=0),ROW(INDIRECT("1:"&ROWS(Nom_personnel)))),ROWS($7:42))),"") -> #NUM! | F43: =IF(ROWS($7:42)<=COUNTA(Nom_personnel)-SUMPRODUCT(COUNTIF(Nom_personnel,'S13'!F$8:F$68)), INDEX(Nom_personnel,SMALL(IF((COUNTIF('S13'!F$8:F$68,Nom_personnel)=0),ROW(INDIRECT("1:"&ROWS(Nom_personnel)))),ROWS($7:42))),"") -> #NUM! | G43: =IF(ROWS($7:42)<=COUNTA(Nom_personnel)-SUMPRODUCT(COUNTIF(Nom_personnel,'S13'!G$8:G$68)), INDEX(Nom_personnel,SMALL(IF((COUNTIF('S13'!G$8:G$68,Nom_personnel)=0),ROW(INDIRECT("1:"&ROWS(Nom_personnel)))),ROWS($7:42))),"") -> #NUM! | O43: =IF(Intérimaires!A38=0, "", Intérimaires!A38)
C44: =IF('Liste du personnel'!A41=0, "", 'Liste du personnel'!A41) | D44: =IF(ROWS($7:43)<=COUNTA(Nom_personnel)-SUMPRODUCT(COUNTIF(Nom_personnel,'S13'!D44:D104)), INDEX(Nom_personnel,SMALL(IF((COUNTIF('S13'!D44:D104,Nom_personnel)=0),ROW(INDIRECT("1:"&ROWS(Nom_personnel)))),ROWS($7:43))),"") -> #NUM! | E44: =IF(ROWS($7:43)<=COUNTA(Nom_personnel)-SUMPRODUCT(COUNTIF(Nom_personnel,'S13'!E$8:E$68)), INDEX(Nom_personnel,SMALL(IF((COUNTIF('S13'!E$8:E$68,Nom_personnel)=0),ROW(INDIRECT("1:"&ROWS(Nom_personnel)))),ROWS($7:43))),"") -> #NUM! | F44: =IF(ROWS($7:43)<=COUNTA(Nom_personnel)-SUMPRODUCT(COUNTIF(Nom_personnel,'S13'!F$8:F$68)), INDEX(Nom_personnel,SMALL(IF((COUNTIF('S13'!F$8:F$68,Nom_personnel)=0),ROW(INDIRECT("1:"&ROWS(Nom_personnel)))),ROWS($7:43))),"") -> #NUM! | G44: =IF(ROWS($7:43)<=COUNTA(Nom_personnel)-SUMPRODUCT(COUNTIF(Nom_personnel,'S13'!G$8:G$68)), INDEX(Nom_personnel,SMALL(IF((COUNTIF('S13'!G$8:G$68,Nom_personnel)=0),ROW(INDIRECT("1:"&ROWS(Nom_personnel)))),ROWS($7:43))),"") -> #NUM! | O44: =IF(Intérimaires!A39=0, "", Intérimaires!A39)
C45: =IF('Liste du personnel'!A42=0, "", 'Liste du personnel'!A42) | D45: =IF(ROWS($7:44)<=COUNTA(Nom_personnel)-SUMPRODUCT(COUNTIF(Nom_personnel,'S13'!D45:D105)), INDEX(Nom_personnel,SMALL(IF((COUNTIF('S13'!D45:D105,Nom_personnel)=0),ROW(INDIRECT("1:"&ROWS(Nom_personnel)))),ROWS($7:44))),"") -> #NUM! | E45: =IF(ROWS($7:44)<=COUNTA(Nom_personnel)-SUMPRODUCT(COUNTIF(Nom_personnel,'S13'!E$8:E$68)), INDEX(Nom_personnel,SMALL(IF((COUNTIF('S13'!E$8:E$68,Nom_personnel)=0),ROW(INDIRECT("1:"&ROWS(Nom_personnel)))),ROWS($7:44))),"") -> #NUM! | F45: =IF(ROWS($7:44)<=COUNTA(Nom_personnel)-SUMPRODUCT(COUNTIF(Nom_personnel,'S13'!F$8:F$68)), INDEX(Nom_personnel,SMALL(IF((COUNTIF('S13'!F$8:F$68,Nom_personnel)=0),ROW(INDIRECT("1:"&ROWS(Nom_personnel)))),ROWS($7:44))),"") -> #NUM! | G45: =IF(ROWS($7:44)<=COUNTA(Nom_personnel)-SUMPRODUCT(COUNTIF(Nom_personnel,'S13'!G$8:G$68)), INDEX(Nom_personnel,SMALL(IF((COUNTIF('S13'!G$8:G$68,Nom_personnel)=0),ROW(INDIRECT("1:"&ROWS(Nom_personnel)))),ROWS($7:44))),"") -> #NUM! | O45: =IF(Intérimaires!A40=0, "", Intérimaires!A40)
C46: =IF('Liste du personnel'!A43=0, "", 'Liste du personnel'!A43) | D46: =IF(ROWS($7:45)<=COUNTA(Nom_personnel)-SUMPRODUCT(COUNTIF(Nom_personnel,'S13'!D46:D106)), INDEX(Nom_personnel,SMALL(IF((COUNTIF('S13'!D46:D106,Nom_personnel)=0),ROW(INDIRECT("1:"&ROWS(Nom_personnel)))),ROWS($7:45))),"") -> #NUM! | E46: =IF(ROWS($7:45)<=COUNTA(Nom_personnel)-SUMPRODUCT(COUNTIF(Nom_personnel,'S13'!E$8:E$68)), INDEX(Nom_personnel,SMALL(IF((COUNTIF('S13'!E$8:E$68,Nom_personnel)=0),ROW(INDIRECT("1:"&ROWS(Nom_personnel)))),ROWS($7:45))),"") -> #NUM! | F46: =IF(ROWS($7:45)<=COUNTA(Nom_personnel)-SUMPRODUCT(COUNTIF(Nom_personnel,'S13'!F$8:F$68)), INDEX(Nom_personnel,SMALL(IF((COUNTIF('S13'!F$8:F$68,Nom_personnel)=0),ROW(INDIRECT("1:"&ROWS(Nom_personnel)))),ROWS($7:45))),"") -> #NUM! | G46: =IF(ROWS($7:45)<=COUNTA(Nom_personnel)-SUMPRODUCT(COUNTIF(Nom_personnel,'S13'!G$8:G$68)), INDEX(Nom_personnel,SMALL(IF((COUNTIF('S13'!G$8:G$68,Nom_personnel)=0),ROW(INDIRECT("1:"&ROWS(Nom_personnel)))),ROWS($7:45))),"") -> #NUM! | O46: =IF(Intérimaires!A41=0, "", Intérimaires!A41)
...

Sheet S13
D1: 11 | I1: du: | J1: =IF(semaine="","",DATE(année,1,3)-WEEKDAY(DATE(année,1,3))-5+(7*semaine)) -> 43171 | L1: au: | M1: =IF($J$1="","",$J$1+6) -> 43177 | AQ1: Entreprise BAPTISTAN
A2: 2018
A4: N° CHANTIER | B4: CONDUC | D4: =semaine -> 11 | X4: =semaine -> 11 | AR4: TRANSFERTS
C5: CHANTIER | D5: =IF(semaine="","",DATE(année,1,3)-WEEKDAY(DATE(année,1,3))-5+(7*semaine)) -> 43171 | H5: =IF(D5="","",D5+1) -> 43172 | L5: =IF(H5="","",H5+1) -> 43173 | P5: =IF(L5="","",L5+1) -> 43174 | T5: =IF(P5="","",P5+1) -> 43175 | X5: =IF(semaine="","",DATE(année,1,3)-WEEKDAY(DATE(année,1,3))-5+(7*semaine)) -> 43171 | AB5: =IF(X5="","",X5+1) -> 43172 | AF5: =IF(AB5="","",AB5+1) -> 43173 | AJ5: =IF(AF5="","",AF5+1) -> 43174 | AN5: =IF(AJ5="","",AJ5+1) -> 43175
D6: 1 | E6: 2 | F6: 3 | G6: 4 | H6: 5 | I6: 6 | J6: 7 | K6: 8 | L6: 9 | M6: 10 | N6: 11 | O6: 12 | P6: 13 | Q6: 14 | R6: 15 | S6: 16 | T6: 17 | U6: 18 | V6: 19 | W6: 20 | X6: 21 | Y6: 22 | Z6: 23 | AA6: 24 | AB6: 25 | AC6: 26 | AD6: 27 | AE6: 28 | AF6: 29 | AG6: 30 | AH6: 31 | AI6: 32 | AJ6: 33 | AK6: 34 | AL6: 35 | AM6: 36 | AN6: 37 | AO6: 38 | AP6: 39 | AQ6: 40
D7: Humain | E7: Intérimaires | F7: Matériel | G7: Location | H7: Humain | I7: Intérimaires | J7: Matériel | K7: Location | L7: Humain | M7: Intérimaires | N7: Matériel | O7: Location | P7: Humain | Q7: Intérimaires | R7: Matériel | S7: Location | T7: Humain | U7: Intérimaires | V7: Matériel | W7: Location | X7: Humain | Y7: Intérimaires | Z7: Matériel | AA7: Location | AB7: Humain | AC7: Intérimaires | AD7: Matériel | AE7: Location | AF7: Humain | AG7: Intérimaires | AH7: Matériel | AI7: Location | AJ7: Humain | AK7: Intérimaires | AL7: Matériel | AM7: Location | AN7: Humain | AO7: Intérimaires | AP7: Matériel | AQ7: Location
H8: =IF(D8=0, "", D8)
A9: 16/046 | B9: =IF(A9=0,"",VLOOKUP(A9,Chantier!A$4:D$9999,4,FALSE )) -> SC | C9: =IF(A9=0,"",VLOOKUP(A9,Chantier!A$4:D$9999,2,FALSE )) -> 0 | H9: =IF($D9=0, "", $D9) | I9: =IF($E9=0, "", $E9) | J9: =IF($F9=0, "", $F9) | K9: =IF($G9=0, "", $G9) | L9: =IF($D9=0, "", $D9) | M9: =IF($E9=0, "", $E9) | N9: =IF($F9=0, "", $F9) | O9: =IF($G9=0, "", $G9) | P9: =IF($D9=0, "", $D9) | Q9: =IF($E9=0, "", $E9) | R9: =IF($F9=0, "", $F9) | S9: =IF($G9=0, "", $G9) | T9: =IF($D9=0, "", $D9) | U9: =IF($E9=0, "", $E9) | V9: =IF($F9=0, "", $F9) | W9: =IF($G9=0, "", $G9)
B10: =IF(A10=0,"",VLOOKUP(A10,Chantier!A$4:D$9999,4,FALSE )) | C10: =IF(A10=0,"",VLOOKUP(A10,Chantier!A$4:D$9999,2,FALSE )) | H10: =IF($D10=0, "", $D10) | I10: =IF($E10=0, "", $E10) | J10: =IF($F10=0, "", $F10) | K10: =IF($G10=0, "", $G10) | L10: =IF($D10=0, "", $D10) | M10: =IF($E10=0, "", $E10) | N10: =IF($F10=0, "", $F10) | O10: =IF($G10=0, "", $G10) | P10: =IF($D10=0, "", $D10) | Q10: =IF($E10=0, "", $E10) | R10: =IF($F10=0, "", $F10) | S10: =IF($G10=0, "", $G10) | T10: =IF($D10=0, "", $D10) | U10: =IF($E10=0, "", $E10) | V10: =IF($F10=0, "", $F10) | W10: =IF($G10=0, "", $G10)
B11: =IF(A11=0,"",VLOOKUP(A11,Chantier!A$4:D$9999,4,FALSE )) | C11: =IF(A11=0,"",VLOOKUP(A11,Chantier!A$4:D$9999,2,FALSE )) | H11: =IF($D11=0, "", $D11) | I11: =IF($E11=0, "", $E11) | J11: =IF($F11=0, "", $F11) | K11: =IF($G11=0, "", $G11) | L11: =IF($D11=0, "", $D11) | M11: =IF($E11=0, "", $E11) | N11: =IF($F11=0, "", $F11) | O11: =IF($G11=0, "", $G11) | P11: =IF($D11=0, "", $D11) | Q11: =IF($E11=0, "", $E11) | R11: =IF($F11=0, "", $F11) | S11: =IF($G11=0, "", $G11) | T11: =IF($D11=0, "", $D11) | U11: =IF($E11=0, "", $E11) | V11: =IF($F11=0, "", $F11) | W11: =IF($G11=0, "", $G11)
B12: =IF(A12=0,"",VLOOKUP(A12,Chantier!A$4:D$9999,4,FALSE )) | C12: =IF(A12=0,"",VLOOKUP(A12,Chantier!A$4:D$9999,2,FALSE )) | H12: =IF($D12=0, "", $D12) | I12: =IF($E12=0, "", $E12) | J12: =IF($F12=0, "", $F12) | K12: =IF($G12=0, "", $G12) | L12: =IF($D12=0, "", $D12) | M12: =IF($E12=0, "", $E12) | N12: =IF($F12=0, "", $F12) | O12: =IF($G12=0, "", $G12) | P12: =IF($D12=0, "", $D12) | Q12: =IF($E12=0, "", $E12) | R12: =IF($F12=0, "", $F12) | S12: =IF($G12=0, "", $G12) | T12: =IF($D12=0, "", $D12) | U12: =IF($E12=0, "", $E12) | V12: =IF($F12=0, "", $F12) | W12: =IF($G12=0, "", $G12)
B13: =IF(A13=0,"",VLOOKUP(A13,Chantier!A$4:D$9999,4,FALSE )) | C13: =IF(A13=0,"",VLOOKUP(A13,Chantier!A$4:D$9999,2,FALSE )) | F13: Plaque vibrante | H13: =IF($D13=0, "", $D13) | I13: =IF($E13=0, "", $E13) | J13: =IF($F13=0, "", $F13) -> Plaque vibrante | K13: =IF($G13=0, "", $G13) | L13: =IF($D13=0, "", $D13) | M13: =IF($E13=0, "", $E13) | N13: =IF($F13=0, "", $F13) -> Plaque vibrante | O13: =IF($G13=0, "", $G13) | P13: =IF($D13=0, "", $D13) | Q13: =IF($E13=0, "", $E13) | R13: =IF($F13=0, "", $F13) -> Plaque vibrante | S13: =IF($G13=0, "", $G13) | T13: =IF($D13=0, "", $D13) | U13: =IF($E13=0, "", $E13) | V13: =IF($F13=0, "", $F13) -> Plaque vibrante | W13: =IF($G13=0, "", $G13)
B14: =IF(A14=0,"",VLOOKUP(A14,Chantier!A$4:D$9999,4,FALSE )) | C14: =IF(A14=0,"",VLOOKUP(A14,Chantier!A$4:D$9999,2,FALSE )) | F14: RLX BW 100 | H14: =IF($D14=0, "", $D14) | I14: =IF($E14=0, "", $E14) | J14: =IF($F14=0, "", $F14) -> RLX BW 100 | K14: =IF($G14=0, "", $G14) | L14: =IF($D14=0, "", $D14) | M14: =IF($E14=0, "", $E14) | N14: =IF($F14=0, "", $F14) -> RLX BW 100 | O14: =IF($G14=0, "", $G14) | P14: =IF($D14=0, "", $D14) | Q14: =IF($E14=0, "", $E14) | R14: =IF($F14=0, "", $F14) -> RLX BW 100 | S14: =IF($G14=0, "", $G14) | T14: =IF($D14=0, "", $D14) | U14: =IF($E14=0, "", $E14) | V14: =IF($F14=0, "", $F14) -> RLX BW 100 | W14: =IF($G14=0, "", $G14)
B15: =IF(A15=0,"",VLOOKUP(A15,Chantier!A$4:D$9999,4,FALSE )) | C15: =IF(A15=0,"",VLOOKUP(A15,Chantier!A$4:D$9999,2,FALSE )) | F15: 4*2 | H15: =IF($D15=0, "", $D15) | I15: =IF($E15=0, "", $E15) | J15: =IF($F15=0, "", $F15) -> 4*2 | K15: =IF($G15=0, "", $G15) | L15: =IF($D15=0, "", $D15) | M15: =IF($E15=0, "", $E15) | N15: =IF($F15=0, "", $F15) -> 4*2 | O15: =IF($G15=0, "", $G15) | P15: =IF($D15=0, "", $D15) | Q15: =IF($E15=0, "", $E15) | R15: =IF($F15=0, "", $F15) -> 4*2 | S15: =IF($G15=0, "", $G15) | T15: =IF($D15=0, "", $D15) | U15: =IF($E15=0, "", $E15) | V15: =IF($F15=0, "", $F15) -> 4*2 | W15: =IF($G15=0, "", $G15)
B16: =IF(A16=0,"",VLOOKUP(A16,Chantier!A$4:D$9999,4,FALSE )) | C16: =IF(A16=0,"",VLOOKUP(A16,Chantier!A$4:D$9999,2,FALSE )) | F16: Semi Mercedez | H16: =IF($D16=0, "", $D16) | I16: =IF($E16=0, "", $E16) | J16: =IF($F16=0, "", $F16) -> Semi Mercedez | K16: =IF($G16=0, "", $G16) | L16: =IF($D16=0, "", $D16) | M16: =IF($E16=0, "", $E16) | N16: =IF($F16=0, "", $F16) -> Semi Mercedez | O16: =IF($G16=0, "", $G16) | P16: =IF($D16=0, "", $D16) | Q16: =IF($E16=0, "", $E16) | R16: =IF($F16=0, "", $F16) -> Semi Mercedez | S16: =IF($G16=0, "", $G16) | T16: =IF($D16=0, "", $D16) | U16: =IF($E16=0, "", $E16) | V16: =IF($F16=0, "", $F16) -> Semi Mercedez | W16: =IF($G16=0, "", $G16)
B17: =IF(A17=0,"",VLOOKUP(A17,Chantier!A$4:D$9999,4,FALSE )) | C17: =IF(A17=0,"",VLOOKUP(A17,Chantier!A$4:D$9999,2,FALSE )) | F17: Semi Mercedez | H17: =IF($D17=0, "", $D17) | I17: =IF($E17=0, "", $E17) | J17: =IF($F17=0, "", $F17) -> Semi Mercedez | K17: =IF($G17=0, "", $G17) | L17: =IF($D17=0, "", $D17) | M17: =IF($E17=0, "", $E17) | N17: =IF($F17=0, "", $F17) -> Semi Mercedez | O17: =IF($G17=0, "", $G17) | P17: =IF($D17=0, "", $D17) | Q17: =IF($E17=0, "", $E17) | R17: =IF($F17=0, "", $F17) -> Semi Mercedez | S17: =IF($G17=0, "", $G17) | T17: =IF($D17=0, "", $D17) | U17: =IF($E17=0, "", $E17) | V17: =IF($F17=0, "", $F17) -> Semi Mercedez | W17: =IF($G17=0, "", $G17)
B18: =IF(A18=0,"",VLOOKUP(A18,Chantier!A$4:D$9999,4,FALSE )) | C18: =IF(A18=0,"",VLOOKUP(A18,Chantier!A$4:D$9999,2,FALSE )) | H18: =IF($D18=0, "", $D18) | I18: =IF($E18=0, "", $E18) | J18: =IF($F18=0, "", $F18) | K18: =IF($G18=0, "", $G18) | L18: =IF($D18=0, "", $D18) | M18: =IF($E18=0, "", $E18) | N18: =IF($F18=0, "", $F18) | O18: =IF($G18=0, "", $G18) | P18: =IF($D18=0, "", $D18) | Q18: =IF($E18=0, "", $E18) | R18: =IF($F18=0, "", $F18) | S18: =IF($G18=0, "", $G18) | T18: =IF($D18=0, "", $D18) | U18: =IF($E18=0, "", $E18) | V18: =IF($F18=0, "", $F18) | W18: =IF($G18=0, "", $G18)
B19: =IF(A19=0,"",VLOOKUP(A19,Chantier!A$4:D$9999,4,FALSE )) | C19: =IF(A19=0,"",VLOOKUP(A19,Chantier!A$4:D$9999,2,FALSE )) | H19: =IF($D19=0, "", $D19) | I19: =IF($E19=0, "", $E19) | J19: =IF($F19=0, "", $F19) | K19: =IF($G19=0, "", $G19) | L19: =IF($D19=0, "", $D19) | M19: =IF($E19=0, "", $E19) | N19: =IF($F19=0, "", $F19) | O19: =IF($G19=0, "", $G19) | P19: =IF($D19=0, "", $D19) | Q19: =IF($E19=0, "", $E19) | R19: =IF($F19=0, "", $F19) | S19: =IF($G19=0, "", $G19) | T19: =IF($D19=0, "", $D19) | U19: =IF($E19=0, "", $E19) | V19: =IF($F19=0, "", $F19) | W19: =IF($G19=0, "", $G19)
B20: =IF(A20=0,"",VLOOKUP(A20,Chantier!A$4:D$9999,4,FALSE )) | C20: =IF(A20=0,"",VLOOKUP(A20,Chantier!A$4:D$9999,2,FALSE )) | H20: =IF($D20=0, "", $D20) | I20: =IF($E20=0, "", $E20) | J20: =IF($F20=0, "", $F20) | K20: =IF($G20=0, "", $G20) | L20: =IF($D20=0, "", $D20) | M20: =IF($E20=0, "", $E20) | N20: =IF($F20=0, "", $F20) | O20: =IF($G20=0, "", $G20) | P20: =IF($D20=0, "", $D20) | Q20: =IF($E20=0, "", $E20) | R20: =IF($F20=0, "", $F20) | S20: =IF($G20=0, "", $G20) | T20: =IF($D20=0, "", $D20) | U20: =IF($E20=0, "", $E20) | V20: =IF($F20=0, "", $F20) | W20: =IF($G20=0, "", $G20)
B21: =IF(A21=0,"",VLOOKUP(A21,Chantier!A$4:D$9999,4,FALSE )) | C21: =IF(A21=0,"",VLOOKUP(A21,Chantier!A$4:D$9999,2,FALSE )) | H21: =IF($D21=0, "", $D21) | I21: =IF($E21=0, "", $E21) | J21: =IF($F21=0, "", $F21) | K21: =IF($G21=0, "", $G21) | L21: =IF($D21=0, "", $D21) | M21: =IF($E21=0, "", $E21) | N21: =IF($F21=0, "", $F21) | O21: =IF($G21=0, "", $G21) | P21: =IF($D21=0, "", $D21) | Q21: =IF($E21=0, "", $E21) | R21: =IF($F21=0, "", $F21) | S21: =IF($G21=0, "", $G21) | T21: =IF($D21=0, "", $D21) | U21: =IF($E21=0, "", $E21) | V21: =IF($F21=0, "", $F21) | W21: =IF($G21=0, "", $G21)
B22: =IF(A22=0,"",VLOOKUP(A22,Chantier!A$4:D$9999,4,FALSE )) | C22: =IF(A22=0,"",VLOOKUP(A22,Chantier!A$4:D$9999,2,FALSE )) | H22: =IF($D22=0, "", $D22) | I22: =IF($E22=0, "", $E22) | J22: =IF($F22=0, "", $F22) | K22: =IF($G22=0, "", $G22) | L22: =IF($D22=0, "", $D22) | M22: =IF($E22=0, "", $E22) | N22: =IF($F22=0, "", $F22) | O22: =IF($G22=0, "", $G22) | P22: =IF($D22=0, "", $D22) | Q22: =IF($E22=0, "", $E22) | R22: =IF($F22=0, "", $F22) | S22: =IF($G22=0, "", $G22) | T22: =IF($D22=0, "", $D22) | U22: =IF($E22=0, "", $E22) | V22: =IF($F22=0, "", $F22) | W22: =IF($G22=0, "", $G22)
