Workbook

Sheet Calendrier Général
A1: Date | B1: Equipe | C1: D/E | D1: Adversaire | E1: Horaire | F1: Score | H1: Détail
A2: 43337 | B2: Senior A | C2: E | D2: Gué de Sénac (33) | E2: 20h | F2: 0 | G2: 0 | H2: Coupe de France
A3: 43344 | B3: Senior A | C3: D | D3: Vindelle (16) | E3: 20h | F3: 1 | G3: 2 | H3: Coupe de France
A4: 43351 | B4: Senior A | C4: E | D4: Cendrieux Ladouze | E4: 20h | F4: 1 | G4: 2
A5: 43365 | B5: Senior A | C5: D | D5: Pays Beaumontois | E5: 20h30 | F5: 0 | G5: 0
A6: 43373 | B6: Senior A | C6: E | D6: Larche La Feuillade | E6: 15h | F6: 1 | G6: 1 | H6: Coupe d'Aquitaine
A7: 43387 | B7: Senior A | C7: E | D7: La Bachellerie | E7: 15h | F7: 0 | G7: 0 | H7: Coupe de Dordogne
A8: 43393 | B8: Senior A | C8: D | D8: Pays Mareuil | E8: 20h | F8: 0 | G8: 3
A9: 43400 | B9: Senior A | C9: D | D9: Limens Jsa | E9: 20h30 | F9: 0 | G9: 0 | H9: Coupe de Dordogne
A10: 43408 | B10: Senior A | C10: E | D10: Prigonrieux 2 | E10: 15h | F10: 2 | G10: 1
A11: 43414 | B11: Senior A | C11: D | D11: Thenon Limeyrat 2 | E11: 20h | F11: 2 | G11: 0
A12: 43422 | B12: Senior A | C12: E | D12: Pays de Montaigne | E12: 15h | F12: 5 | G12: 0
A13: 43428 | B13: Senior A | C13: D | D13: Château L'Evèque | E13: 20h | F13: 0 | G13: 2
A14: 43435 | B14: Senior A | C14: E | D14: Boulazac 2 | E14: 20h | F14: 1 | G14: 2
A15: 43442 | B15: Senior A | C15: D | D15: Neuvic St Léon | E15: 20h
A16: 43450 | B16: Senior A | C16: E | D16: FAUX à 15h | E16: 15h
A17: 43492 | B17: Senior A | C17: D | D17: TSMB | E17: 15h
A18: 43499 | B18: Senior A | C18: E | D18: Ribérac | E18: 15h
A19: 43506 | B19: Senior A | C19: E | D19: Pays Beaumontois | E19: 15h
A20: 43527 | B20: Senior A | C20: E | D20: Pays Mareuil | E20: 15h
A21: 43533 | B21: Senior A | C21: D | D21: Prigonrieux 2 | E21: 20h
A22: 43548 | B22: Senior A | C22: E | D22: Thenon Limeyrat 2 | E22: 15h
A23: 43554 | B23: Senior A | C23: D | D23: Pays de Montaigne | E23: 20h
A24: 43562 | B24: Senior A | C24: E | D24: Château L'Evèque | E24: 15h
A25: 43568 | B25: Senior A | C25: D | D25: Boulazac 2 | E25: 20h
A26: 43583 | B26: Senior A | C26: E | D26: Neuvic St Léon | E26: 15h
A27: 43589 | B27: Senior A | C27: D | D27: FALSE | E27: 20h
A28: 43597 | B28: Senior A | C28: E | D28: TSMB | E28: 15h
A29: 43610 | B29: Senior A | C29: D | D29: Ribérac | E29: 20h
A30: 43617 | B30: Senior A | C30: D | D30: Cendrieux Ladouze | E30: 20h
A31: 43352 | B31: Senior B | C31: D | D31: Marsac / Chancelade 2 | E31: 15h | F31: 5 | G31: 2
A32: 43359 | B32: Senior B | C32: D | D32: St Laurent des Hommes 2 | E32: 15h | H32: Coupe du District
A33: 43366 | B33: Senior B | C33: E | D33: Villefranche | E33: 15h
A34: 43373 | B34: Senior B | C34: D | D34: Nord Dordogne | E34: 15h | H34: Coupe du District
A35: 43380 | B35: Senior B | C35: D | D35: Pays de l'Eyraud | E35: 15h
A36: 43387 | B36: Senior B | C36: E | D36: Antonne Le Change 2 | E36: 15h | H36: Coupe du District
A37: 43394 | B37: Senior B | C37: D | D37: Couze | E37: 15h
A38: 43400 | B38: Senior B | C38: D | D38: Limens Jsa 3 | E38: 18h | H38: Challenge Seri Pub
A39: 43408 | B39: Senior B | C39: E | D39: Creysse / Mouleydier | E39: 13h
A40: 43415 | B40: Senior B | C40: D | D40: Cours de Pile | E40: 15h
A41: 43422 | B41: Senior B | C41: E | D41: Prigonrieux 3 | E41: 15h
A42: 43436 | B42: Senior B | C42: D | D42: Le Monteil | E42: 15h
A43: 43443 | B43: Senior B | C43: E | D43: Vergt à 15h | E43: 15h
A44: 43450 | B44: Senior B | C44: D | D44: Lalinde / Cales | E44: 15h
A45: 43499 | B45: Senior B | C45: E | D45: FALSE | E45: 13h
A46: 43506 | B46: Senior B | C46: D | D46: Villefranche | E46: 13h
A47: 43513 | B47: Senior B | C47: E | D47: Pays de L'Eyraud | E47: 15h
A48: 43527 | B48: Senior B | C48: E | D48: Couze | E48: 15h
A49: 43534 | B49: Senior B | C49: D | D49: Creysse / Mouleydier 2 | E49: 15h
A50: 43548 | B50: Senior B | C50: E | D50: Cours de Pile | E50: 15h
A51: 43562 | B51: Senior B | C51: D | D51: Prigonrieux 3 | E51: 15h
A52: 43569 | B52: Senior B | C52: E | D52: Le Monteil | E52: 15h
A53: 43583 | B53: Senior B | C53: D | D53: Vergt | E53: 15h
A54: 43590 | B54: Senior B | C54: E | D54: Lalinde / Cales | E54: 15h
A55: 43597 | B55: Senior B | C55: D | D55: FAUX 2 | E55: 15h
A56: 43611 | B56: Senior B | C56: E | D56: Marsac / Chancelade 2 | E56: 13h
A57: 43352 | B57: Senior C | C57: D | D57: Ste Alvère 2 | E57: 15h | F57: 3 | G57: 1
A58: 43359 | B58: Senior C | C58: D | D58: Pays Beaumontois 2 | E58: 15h | H58: Coupe du District
A59: 43366 | B59: Senior C | C59: E | D59: Rouffignac / Plazac 3 | E59: 13h
A60: 43373 | B60: Senior C | C60: D | D60: Le Pizou | E60: 15h | H60: Challenge Seri Pub
A61: 43380 | B61: Senior C | C61: D | D61: Cendrieux Ladouze 2 | E61: 15h
A62: 43387 | B62: Senior C | C62: E | D62: Château L'Evèque | E62: 15h | H62: Challenge Seri Pub
A63: 43394 | B63: Senior C | C63: E | D63: Atur 2 | E63: 13h
A64: 43408 | B64: Senior C | C64: E | D64: Marsaneix 2 | E64: 13h
A65: 43415 | B65: Senior C | C65: D | D65: St Pierre de Chignac | E65: 15h
A66: 43422 | B66: Senior C | C66: E | D66: Vergt 2 | E66: 13h
A67: 43373 | B67: Senior F | C67: D | D67: Nontron St Pardoux Ent | E67: 13h
A68: 43387 | B68: Senior F | C68: D | D68: Razac sur l'isle | E68: 15h
A69: 43394 | B69: Senior F | C69: D | D69: Excideuil St Médard | E69: 15h
A70: 43415 | B70: Senior F | C70: E | D70: Château L'Evèque | E70: 15h
A71: 43422 | B71: Senior F | C71: D | D71: Périgord Vert | E71: 15h
A72: 43429 | B72: Senior F | C72: D | D72: Terrasson Portugais | E72: 14h30 | H72: Challenge Féminin à 8
A73: 43443 | B73: Senior F | C73: E | D73: Jumilhac à 15h | E73: 15h
A74: 43365 | B74: U11 A | C74: D | D74: Plateau à Chamiers | E74: 14h
A75: 43372 | B75: U11 A | C75: E | D75: Plateau à Notre Dame | E75: 14h
A76: 43379 | B76: U11 A | C76: E | D76: Plateau à Chancelade | E76: 14h
A77: 43386 | B77: U11 A | C77: E | D77: Plateau à St Saud | E77: 14h
A78: 43414 | B78: U11 A | C78: E | D78: Plateaux à Périgueux Foot | E78: 14h | H78: Coupe de Dordogne
A79: 43421 | B79: U11 A | C79: E | D79: Plateau à Verteillac | E79: 14h
A80: 43428 | B80: U11 A | C80: D | D80: Plateau à Chamiers | E80: 14h | H80: 4 équipes
A81: 43435 | B81: U11 A | C81: E | D81: Plateau à Corgnac | E81: 14h
A82: 43442 | B82: U11 A | C82: E | D82: Plateau à Périgueux Foot | E82: 10h30
A83: 43449 | B83: U11 A | C83: E | D83: Plateau à Verteillac | E83: 14h
A84: 43491 | B84: U11 A | C84: E | D84: Plateau à Bassillac | E84: 14h
A85: 43498 | B85: U11 A | C85: D | D85: Plateau à Chamiers | E85: 14h | H85: 4 équipes
A86: 43365 | B86: U11 B | C86: E | D86: Plateau à Hautefort | E86: 14h
A87: 43372 | B87: U11 B | C87: E | D87: Plateau à Bassillac | E87: 14h
A88: 43379 | B88: U11 B | C88: E | D88: Plateau à Trélissac | E88: 14h
A89: 43386 | B89: U11 B | C89: E | D89: Plateau à Boulazac | E89: 14h
A90: 43414 | B90: U11 B | C90: E | D90: Plateaux à Périgueux Foot | E90: 14h | H90: Coupe de Dordogne
A91: 43421 | B91: U11 B | C91: E | D91: Plateau à Atur | E91: 14h
A92: 43428 | B92: U11 B | C92: E | D92: Plateau à Marsaneix | E92: 14h
A93: 43435 | B93: U11 B | C93: E | D93: Plateau à Marsaneix | E93: 14h
A94: 43442 | B94: U11 B | C94: D | D94: Plateau à Chamiers | E94: 14h | H94: 4 équipes
A95: 43449 | B95: U11 B | C95: E | D95: Plateau à Notre Dame de Sanilhac | E95: 14h
A96: 43491 | B96: U11 B | C96: E | D96: Plateau à Trélissac | E96: 14h
A97: 43498 | B97: U11 B | C97: E | D97: Plateau à Montignac | E97: 14h
A98: 43365 | B98: U11 C | C98: D | D98: Plateau à Chamiers | E98: 14h
A99: 43372 | B99: U11 C | C99: E | D99: Plateau à Notre Dame | E99: 14h
A100: 43379 | B100: U11 C | C100: E | D100: Plateau à Chancelade | E100: 14h
...

Sheet Senior A
A1: Calendrier Sénior A - Saison 2018 - 2019
A2: Samedi | C2: Seniors A - D1 | D2: Horaire | E2: Score | G2: Encadrement de l'équipe A | K2: Samedi | L2: Dimanche
A3: 43337 | B3: =IFERROR(VLOOKUP($A3,'Calendrier Général'!$A$2:$G$30,3,FALSE),"") -> E | C3: =IFERROR(VLOOKUP($A3,'Calendrier Général'!$A$2:$G$30,4,FALSE),"") -> Gué de Sénac (33) | D3: =IFERROR(VLOOKUP($A3,'Calendrier Général'!$A$2:$G$30,5,FALSE),"") -> 20h | E3: =IFERROR(VLOOKUP($A3,'Calendrier Général'!$A$2:$G$30,6,FALSE),"") -> 0 | F3: =IFERROR(VLOOKUP($A3,'Calendrier Général'!$A$2:$G$30,7,FALSE),"") -> 0 | K3: 43337 | L3: 43338
A4: 43344 | B4: =IFERROR(VLOOKUP($A4,'Calendrier Général'!$A$2:$G$30,3,FALSE),"") -> D | C4: =IFERROR(VLOOKUP($A4,'Calendrier Général'!$A$2:$G$30,4,FALSE),"") -> Vindelle (16) | D4: =IFERROR(VLOOKUP($A4,'Calendrier Général'!$A$2:$G$30,5,FALSE),"") -> 20h | E4: =IFERROR(VLOOKUP($A4,'Calendrier Général'!$A$2:$G$30,6,FALSE),"") -> 1 | F4: =IFERROR(VLOOKUP($A4,'Calendrier Général'!$A$2:$G$30,7,FALSE),"") -> 2 | K4: =K3+7 -> 43344 | L4: =L3+7 -> 43345
A5: 43351 | B5: =IFERROR(VLOOKUP($A5,'Calendrier Général'!$A$2:$G$30,3,FALSE),"") -> E | C5: =IFERROR(VLOOKUP($A5,'Calendrier Général'!$A$2:$G$30,4,FALSE),"") -> Cendrieux Ladouze | D5: =IFERROR(VLOOKUP($A5,'Calendrier Général'!$A$2:$G$30,5,FALSE),"") -> 20h | E5: =IFERROR(VLOOKUP($A5,'Calendrier Général'!$A$2:$G$30,6,FALSE),"") -> 1 | F5: =IFERROR(VLOOKUP($A5,'Calendrier Général'!$A$2:$G$30,7,FALSE),"") -> 2 | K5: =K4+7 -> 43351 | L5: =L4+7 -> 43352
A6: 43359 | B6: =IFERROR(VLOOKUP($A6,'Calendrier Général'!$A$2:$G$30,3,FALSE),"") | C6: =IFERROR(VLOOKUP($A6,'Calendrier Général'!$A$2:$G$30,4,FALSE),"") | D6: =IFERROR(VLOOKUP($A6,'Calendrier Général'!$A$2:$G$30,5,FALSE),"") | E6: =IFERROR(VLOOKUP($A6,'Calendrier Général'!$A$2:$G$30,6,FALSE),"") | F6: =IFERROR(VLOOKUP($A6,'Calendrier Général'!$A$2:$G$30,7,FALSE),"") | K6: =K5+7 -> 43358 | L6: =L5+7 -> 43359
A7: 43365 | B7: =IFERROR(VLOOKUP($A7,'Calendrier Général'!$A$2:$G$30,3,FALSE),"") -> D | C7: =IFERROR(VLOOKUP($A7,'Calendrier Général'!$A$2:$G$30,4,FALSE),"") -> Pays Beaumontois | D7: =IFERROR(VLOOKUP($A7,'Calendrier Général'!$A$2:$G$30,5,FALSE),"") -> 20h30 | E7: =IFERROR(VLOOKUP($A7,'Calendrier Général'!$A$2:$G$30,6,FALSE),"") -> 0 | F7: =IFERROR(VLOOKUP($A7,'Calendrier Général'!$A$2:$G$30,7,FALSE),"") -> 0 | K7: =K6+7 -> 43365 | L7: =L6+7 -> 43366
A8: 43373 | B8: =IFERROR(VLOOKUP($A8,'Calendrier Général'!$A$2:$G$30,3,FALSE),"") -> E | C8: =IFERROR(VLOOKUP($A8,'Calendrier Général'!$A$2:$G$30,4,FALSE),"") -> Larche La Feuillade | D8: =IFERROR(VLOOKUP($A8,'Calendrier Général'!$A$2:$G$30,5,FALSE),"") -> 15h | E8: =IFERROR(VLOOKUP($A8,'Calendrier Général'!$A$2:$G$30,6,FALSE),"") -> 1 | F8: =IFERROR(VLOOKUP($A8,'Calendrier Général'!$A$2:$G$30,7,FALSE),"") -> 1 | K8: =K7+7 -> 43372 | L8: =L7+7 -> 43373
A9: 43380 | B9: =IFERROR(VLOOKUP($A9,'Calendrier Général'!$A$2:$G$30,3,FALSE),"") | C9: =IFERROR(VLOOKUP($A9,'Calendrier Général'!$A$2:$G$30,4,FALSE),"") | D9: =IFERROR(VLOOKUP($A9,'Calendrier Général'!$A$2:$G$30,5,FALSE),"") | E9: =IFERROR(VLOOKUP($A9,'Calendrier Général'!$A$2:$G$30,6,FALSE),"") | F9: =IFERROR(VLOOKUP($A9,'Calendrier Général'!$A$2:$G$30,7,FALSE),"") | K9: =K8+7 -> 43379 | L9: =L8+7 -> 43380
A10: 43387 | B10: =IFERROR(VLOOKUP($A10,'Calendrier Général'!$A$2:$G$30,3,FALSE),"") -> E | C10: =IFERROR(VLOOKUP($A10,'Calendrier Général'!$A$2:$G$30,4,FALSE),"") -> La Bachellerie | D10: =IFERROR(VLOOKUP($A10,'Calendrier Général'!$A$2:$G$30,5,FALSE),"") -> 15h | E10: =IFERROR(VLOOKUP($A10,'Calendrier Général'!$A$2:$G$30,6,FALSE),"") -> 0 | F10: =IFERROR(VLOOKUP($A10,'Calendrier Général'!$A$2:$G$30,7,FALSE),"") -> 0 | K10: =K9+7 -> 43386 | L10: =L9+7 -> 43387
A11: 43393 | B11: =IFERROR(VLOOKUP($A11,'Calendrier Général'!$A$2:$G$30,3,FALSE),"") -> D | C11: =IFERROR(VLOOKUP($A11,'Calendrier Général'!$A$2:$G$30,4,FALSE),"") -> Pays Mareuil | D11: =IFERROR(VLOOKUP($A11,'Calendrier Général'!$A$2:$G$30,5,FALSE),"") -> 20h | E11: =IFERROR(VLOOKUP($A11,'Calendrier Général'!$A$2:$G$30,6,FALSE),"") -> 0 | F11: =IFERROR(VLOOKUP($A11,'Calendrier Général'!$A$2:$G$30,7,FALSE),"") -> 3 | K11: =K10+7 -> 43393 | L11: =L10+7 -> 43394
A12: 43400 | B12: =IFERROR(VLOOKUP($A12,'Calendrier Général'!$A$2:$G$30,3,FALSE),"") -> D | C12: =IFERROR(VLOOKUP($A12,'Calendrier Général'!$A$2:$G$30,4,FALSE),"") -> Limens Jsa | D12: =IFERROR(VLOOKUP($A12,'Calendrier Général'!$A$2:$G$30,5,FALSE),"") -> 20h30 | E12: =IFERROR(VLOOKUP($A12,'Calendrier Général'!$A$2:$G$30,6,FALSE),"") -> 0 | F12: =IFERROR(VLOOKUP($A12,'Calendrier Général'!$A$2:$G$30,7,FALSE),"") -> 0 | K12: =K11+7 -> 43400 | L12: =L11+7 -> 43401
A13: 43409 | B13: =IFERROR(VLOOKUP($A13,'Calendrier Général'!$A$2:$G$30,3,FALSE),"") | C13: =IFERROR(VLOOKUP($A13,'Calendrier Général'!$A$2:$G$30,4,FALSE),"") | D13: =IFERROR(VLOOKUP($A13,'Calendrier Général'!$A$2:$G$30,5,FALSE),"") | E13: =IFERROR(VLOOKUP($A13,'Calendrier Général'!$A$2:$G$30,6,FALSE),"") | F13: =IFERROR(VLOOKUP($A13,'Calendrier Général'!$A$2:$G$30,7,FALSE),"") | K13: =K12+7 -> 43407 | L13: =L12+7 -> 43408
A14: 43415 | B14: =IFERROR(VLOOKUP($A14,'Calendrier Général'!$A$2:$G$30,3,FALSE),"") | C14: =IFERROR(VLOOKUP($A14,'Calendrier Général'!$A$2:$G$30,4,FALSE),"") | D14: =IFERROR(VLOOKUP($A14,'Calendrier Général'!$A$2:$G$30,5,FALSE),"") | E14: =IFERROR(VLOOKUP($A14,'Calendrier Général'!$A$2:$G$30,6,FALSE),"") | F14: =IFERROR(VLOOKUP($A14,'Calendrier Général'!$A$2:$G$30,7,FALSE),"") | K14: =K13+7 -> 43414 | L14: =L13+7 -> 43415
A15: 43423 | B15: =IFERROR(VLOOKUP($A15,'Calendrier Général'!$A$2:$G$30,3,FALSE),"") | C15: =IFERROR(VLOOKUP($A15,'Calendrier Général'!$A$2:$G$30,4,FALSE),"") | D15: =IFERROR(VLOOKUP($A15,'Calendrier Général'!$A$2:$G$30,5,FALSE),"") | E15: =IFERROR(VLOOKUP($A15,'Calendrier Général'!$A$2:$G$30,6,FALSE),"") | F15: =IFERROR(VLOOKUP($A15,'Calendrier Général'!$A$2:$G$30,7,FALSE),"") | K15: =K14+7 -> 43421 | L15: =L14+7 -> 43422
... A23: 43478 | B23: =IFERROR(VLOOKUP($A23,'Calendrier Général'!$A$2:$G$30,3,FALSE),"") | C23: =IFERROR(VLOOKUP($A23,'Calendrier Général'!$A$2:$G$30,4,FALSE),"") | D23: =IFERROR(VLOOKUP($A23,'Calendrier Général'!$A$2:$G$30,5,FALSE),"") | E23: =IFERROR(VLOOKUP($A23,'Calendrier Général'!$A$2:$G$30,6,FALSE),"") | F23: =IFERROR(VLOOKUP($A23,'Calendrier Général'!$A$2:$G$30,7,FALSE),"") | K23: =K22+7 -> 43477 | L23: =L22+7 -> 43478
A24: 43485 | B24: =IFERROR(VLOOKUP($A24,'Calendrier Général'!$A$2:$G$30,3,FALSE),"") | C24: =IFERROR(VLOOKUP($A24,'Calendrier Général'!$A$2:$G$30,4,FALSE),"") | D24: =IFERROR(VLOOKUP($A24,'Calendrier Général'!$A$2:$G$30,5,FALSE),"") | E24: =IFERROR(VLOOKUP($A24,'Calendrier Général'!$A$2:$G$30,6,FALSE),"") | F24: =IFERROR(VLOOKUP($A24,'Calendrier Général'!$A$2:$G$30,7,FALSE),"") | G24: Légende | K24: =K23+7 -> 43484 | L24: =L23+7 -> 43485
A25: 43492 | B25: =IFERROR(VLOOKUP($A25,'Calendrier Général'!$A$2:$G$30,3,FALSE),"") -> D | C25: =IFERROR(VLOOKUP($A25,'Calendrier Général'!$A$2:$G$30,4,FALSE),"") -> TSMB | D25: =IFERROR(VLOOKUP($A25,'Calendrier Général'!$A$2:$G$30,5,FALSE),"") -> 15h | E25: =IFERROR(VLOOKUP($A25,'Calendrier Général'!$A$2:$G$30,6,FALSE),"") -> 0 | F25: =IFERROR(VLOOKUP($A25,'Calendrier Général'!$A$2:$G$30,7,FALSE),"") -> 0 | G25: Coupe de France | K25: =K24+7 -> 43491 | L25: =L24+7 -> 43492
A26: 43499 | B26: =IFERROR(VLOOKUP($A26,'Calendrier Général'!$A$2:$G$30,3,FALSE),"") -> E | C26: =IFERROR(VLOOKUP($A26,'Calendrier Général'!$A$2:$G$30,4,FALSE),"") -> Ribérac | D26: =IFERROR(VLOOKUP($A26,'Calendrier Général'!$A$2:$G$30,5,FALSE),"") -> 15h | E26: =IFERROR(VLOOKUP($A26,'Calendrier Général'!$A$2:$G$30,6,FALSE),"") -> 0 | F26: =IFERROR(VLOOKUP($A26,'Calendrier Général'!$A$2:$G$30,7,FALSE),"") -> 0 | G26: Coupe d'Aquitaine | K26: =K25+7 -> 43498 | L26: =L25+7 -> 43499
A27: 43506 | B27: =IFERROR(VLOOKUP($A27,'Calendrier Général'!$A$2:$G$30,3,FALSE),"") -> E | C27: =IFERROR(VLOOKUP($A27,'Calendrier Général'!$A$2:$G$30,4,FALSE),"") -> Pays Beaumontois | D27: =IFERROR(VLOOKUP($A27,'Calendrier Général'!$A$2:$G$30,5,FALSE),"") -> 15h | E27: =IFERROR(VLOOKUP($A27,'Calendrier Général'!$A$2:$G$30,6,FALSE),"") -> 0 | F27: =IFERROR(VLOOKUP($A27,'Calendrier Général'!$A$2:$G$30,7,FALSE),"") -> 0 | G27: Coupe de Dordogne | K27: =K26+7 -> 43505 | L27: =L26+7 -> 43506
A28: 43513 | B28: =IFERROR(VLOOKUP($A28,'Calendrier Général'!$A$2:$G$30,3,FALSE),"") | C28: =IFERROR(VLOOKUP($A28,'Calendrier Général'!$A$2:$G$30,4,FALSE),"") | D28: =IFERROR(VLOOKUP($A28,'Calendrier Général'!$A$2:$G$30,5,FALSE),"") | E28: =IFERROR(VLOOKUP($A28,'Calendrier Général'!$A$2:$G$30,6,FALSE),"") | F28: =IFERROR(VLOOKUP($A28,'Calendrier Général'!$A$2:$G$30,7,FALSE),"") | K28: =K27+7 -> 43512 | L28: =L27+7 -> 43513
A29: 43520 | B29: =IFERROR(VLOOKUP($A29,'Calendrier Général'!$A$2:$G$30,3,FALSE),"") | C29: =IFERROR(VLOOKUP($A29,'Calendrier Général'!$A$2:$G$30,4,FALSE),"") | D29: =IFERROR(VLOOKUP($A29,'Calendrier Général'!$A$2:$G$30,5,FALSE),"") | E29: =IFERROR(VLOOKUP($A29,'Calendrier Général'!$A$2:$G$30,6,FALSE),"") | F29: =IFERROR(VLOOKUP($A29,'Calendrier Général'!$A$2:$G$30,7,FALSE),"") | K29: =K28+7 -> 43519 | L29: =L28+7 -> 43520
A30: 43527 | B30: =IFERROR(VLOOKUP($A30,'Calendrier Général'!$A$2:$G$30,3,FALSE),"") -> E | C30: =IFERROR(VLOOKUP($A30,'Calendrier Général'!$A$2:$G$30,4,FALSE),"") -> Pays Mareuil | D30: =IFERROR(VLOOKUP($A30,'Calendrier Général'!$A$2:$G$30,5,FALSE),"") -> 15h | E30: =IFERROR(VLOOKUP($A30,'Calendrier Général'!$A$2:$G$30,6,FALSE),"") -> 0 | F30: =IFERROR(VLOOKUP($A30,'Calendrier Général'!$A$2:$G$30,7,FALSE),"") -> 0 | K30: =K29+7 -> 43526 | L30: =L29+7 -> 43527
A31: 43533 | B31: =IFERROR(VLOOKUP($A31,'Calendrier Général'!$A$2:$G$30,3,FALSE),"") -> D | C31: =IFERROR(VLOOKUP($A31,'Calendrier Général'!$A$2:$G$30,4,FALSE),"") -> Prigonrieux 2 | D31: =IFERROR(VLOOKUP($A31,'Calendrier Général'!$A$2:$G$30,5,FALSE),"") -> 20h | E31: =IFERROR(VLOOKUP($A31,'Calendrier Général'!$A$2:$G$30,6,FALSE),"") -> 0 | F31: =IFERROR(VLOOKUP($A31,'Calendrier Général'!$A$2:$G$30,7,FALSE),"") -> 0 | G31: Reçoit à | K31: =K30+7 -> 43533 | L31: =L30+7 -> 43534
A32: 43540 | B32: =IFERROR(VLOOKUP($A32,'Calendrier Général'!$A$2:$G$30,3,FALSE),"") | C32: =IFERROR(VLOOKUP($A32,'Calendrier Général'!$A$2:$G$30,4,FALSE),"") | D32: =IFERROR(VLOOKUP($A32,'Calendrier Général'!$A$2:$G$30,5,FALSE),"") | E32: =IFERROR(VLOOKUP($A32,'Calendrier Général'!$A$2:$G$30,6,FALSE),"") | F32: =IFERROR(VLOOKUP($A32,'Calendrier Général'!$A$2:$G$30,7,FALSE),"") | K32: =K31+7 -> 43540 | L32: =L31+7 -> 43541
A33: 43548 | B33: =IFERROR(VLOOKUP($A33,'Calendrier Général'!$A$2:$G$30,3,FALSE),"") -> E | C33: =IFERROR(VLOOKUP($A33,'Calendrier Général'!$A$2:$G$30,4,FALSE),"") -> Thenon Limeyrat 2 | D33: =IFERROR(VLOOKUP($A33,'Calendrier Général'!$A$2:$G$30,5,FALSE),"") -> 15h | E33: =IFERROR(VLOOKUP($A33,'Calendrier Général'!$A$2:$G$30,6,FALSE),"") -> 0 | F33: =IFERROR(VLOOKUP($A33,'Calendrier Général'!$A$2:$G$30,7,FALSE),"") -> 0 | G33: Cendrieux Ladouze à Cendrieux | K33: =K32+7 -> 43547 | L33: =L32+7 -> 43548
A34: 43554 | B34: =IFERROR(VLOOKUP($A34,'Calendrier Général'!$A$2:$G$30,3,FALSE),"") -> D | C34: =IFERROR(VLOOKUP($A34,'Calendrier Général'!$A$2:$G$30,4,FALSE),"") -> Pays de Montaigne | D34: =IFERROR(VLOOKUP($A34,'Calendrier Général'!$A$2:$G$30,5,FALSE),"") -> 20h | E34: =IFERROR(VLOOKUP($A34,'Calendrier Général'!$A$2:$G$30,6,FALSE),"") -> 0 | F34: =IFERROR(VLOOKUP($A34,'Calendrier Général'!$A$2:$G$30,7,FALSE),"") -> 0 | G34: Prigonrieux à Prigonrieux | K34: =K33+7 -> 43554 | L34: =L33+7 -> 43555
A35: 43562 | B35: =IFERROR(VLOOKUP($A35,'Calendrier Général'!$A$2:$G$30,3,FALSE),"") -> E | C35: =IFERROR(VLOOKUP($A35,'Calendrier Général'!$A$2:$G$30,4,FALSE),"") -> Château L'Evèque | D35: =IFERROR(VLOOKUP($A35,'Calendrier Général'!$A$2:$G$30,5,FALSE),"") -> 15h | E35: =IFERROR(VLOOKUP($A35,'Calendrier Général'!$A$2:$G$30,6,FALSE),"") -> 0 | F35: =IFERROR(VLOOKUP($A35,'Calendrier Général'!$A$2:$G$30,7,FALSE),"") -> 0 | G35: Pays de Montaigne à St Antoine deBreuilh | K35: =K34+7 -> 43561 | L35: =L34+7 -> 43562
A36: 43568 | B36: =IFERROR(VLOOKUP($A36,'Calendrier Général'!$A$2:$G$30,3,FALSE),"") -> D | C36: =IFERROR(VLOOKUP($A36,'Calendrier Général'!$A$2:$G$30,4,FALSE),"") -> Boulazac 2 | D36: =IFERROR(VLOOKUP($A36,'Calendrier Général'!$A$2:$G$30,5,FALSE),"") -> 20h | E36: =IFERROR(VLOOKUP($A36,'Calendrier Général'!$A$2:$G$30,6,FALSE),"") -> 0 | F36: =IFERROR(VLOOKUP($A36,'Calendrier Général'!$A$2:$G$30,7,FALSE),"") -> 0 | G36: Boulazac à Boulazac | K36: =K35+7 -> 43568 | L36: =L35+7 -> 43569
A37: 43575 | B37: =IFERROR(VLOOKUP($A37,'Calendrier Général'!$A$2:$G$30,3,FALSE),"") | C37: =IFERROR(VLOOKUP($A37,'Calendrier Général'!$A$2:$G$30,4,FALSE),"") | D37: =IFERROR(VLOOKUP($A37,'Calendrier Général'!$A$2:$G$30,5,FALSE),"") | E37: =IFERROR(VLOOKUP($A37,'Calendrier Général'!$A$2:$G$30,6,FALSE),"") | F37: =IFERROR(VLOOKUP($A37,'Calendrier Général'!$A$2:$G$30,7,FALSE),"") | G37: Faux à Faux | K37: =K36+7 -> 43575 | L37: =L36+7 -> 43576
A38: 43583 | B38: =IFERROR(VLOOKUP($A38,'Calendrier Général'!$A$2:$G$30,3,FALSE),"") -> E | C38: =IFERROR(VLOOKUP($A38,'Calendrier Général'!$A$2:$G$30,4,FALSE),"") -> Neuvic St Léon | D38: =IFERROR(VLOOKUP($A38,'Calendrier Général'!$A$2:$G$30,5,FALSE),"") -> 15h | E38: =IFERROR(VLOOKUP($A38,'Calendrier Général'!$A$2:$G$30,6,FALSE),"") -> 0 | F38: =IFERROR(VLOOKUP($A38,'Calendrier Général'!$A$2:$G$30,7,FALSE),"") -> 0 | G38: Ribérac à Ribérac (Gazon synthétique) | K38: =K37+7 -> 43582 | L38: =L37+7 -> 43583
A39: 43589 | B39: =IFERROR(VLOOKUP($A39,'Calendrier Général'!$A$2:$G$30,3,FALSE),"") -> D | C39: =IFERROR(VLOOKUP($A39,'Calendrier Général'!$A$2:$G$30,4,FALSE),"") -> FALSE | D39: =IFERROR(VLOOKUP($A39,'Calendrier Général'!$A$2:$G$30,5,FALSE),"") -> 20h | E39: =IFERROR(VLOOKUP($A39,'Calendrier Général'!$A$2:$G$30,6,FALSE),"") -> 0 | F39: =IFERROR(VLOOKUP($A39,'Calendrier Général'!$A$2:$G$30,7,FALSE),"") -> 0 | G39: Pays Beaumontois à Beaumont en Périgord | K39: =K38+7 -> 43589 | L39: =L38+7 -> 43590
A40: 43597 | B40: =IFERROR(VLOOKUP($A40,'Calendrier Général'!$A$2:$G$30,3,FALSE),"") -> E | C40: =IFERROR(VLOOKUP($A40,'Calendrier Général'!$A$2:$G$30,4,FALSE),"") -> TSMB | D40: =IFERROR(VLOOKUP($A40,'Calendrier Général'!$A$2:$G$30,5,FALSE),"") -> 15h | E40: =IFERROR(VLOOKUP($A40,'Calendrier Général'!$A$2:$G$30,6,FALSE),"") -> 0 | F40: =IFERROR(VLOOKUP($A40,'Calendrier Général'!$A$2:$G$30,7,FALSE),"") -> 0 | G40: Pays Mareuil à Mareuil | K40: =K39+7 -> 43596 | L40: =L39+7 -> 43597
A41: 43604 | B41: =IFERROR(VLOOKUP($A41,'Calendrier Général'!$A$2:$G$30,3,FALSE),"") | C41: =IFERROR(VLOOKUP($A41,'Calendrier Général'!$A$2:$G$30,4,FALSE),"") | D41: =IFERROR(VLOOKUP($A41,'Calendrier Général'!$A$2:$G$30,5,FALSE),"") | E41: =IFERROR(VLOOKUP($A41,'Calendrier Général'!$A$2:$G$30,6,FALSE),"") | F41: =IFERROR(VLOOKUP($A41,'Calendrier Général'!$A$2:$G$30,7,FALSE),"") | G41: Thenon Limeyrat à Limeyrat | K41: =K40+7 -> 43603 | L41: =L40+7 -> 43604
A42: 43610 | B42: =IFERROR(VLOOKUP($A42,'Calendrier Général'!$A$2:$G$30,3,FALSE),"") -> D | C42: =IFERROR(VLOOKUP($A42,'Calendrier Général'!$A$2:$G$30,4,FALSE),"") -> Ribérac | D42: =IFERROR(VLOOKUP($A42,'Calendrier Général'!$A$2:$G$30,5,FALSE),"") -> 20h | E42: =IFERROR(VLOOKUP($A42,'Calendrier Général'!$A$2:$G$30,6,FALSE),"") -> 0 | F42: =IFERROR(VLOOKUP($A42,'Calendrier Général'!$A$2:$G$30,7,FALSE),"") -> 0 | G42: Château L'Evèque à Château L'Evèque | K42: =K41+7 -> 43610 | L42: =L41+7 -> 43611
A43: 43617 | B43: =IFERROR(VLOOKUP($A43,'Calendrier Général'!$A$2:$G$30,3,FALSE),"") -> D | C43: =IFERROR(VLOOKUP($A43,'Calendrier Général'!$A$2:$G$30,4,FALSE),"") -> Cendrieux Ladouze | D43: =IFERROR(VLOOKUP($A43,'Calendrier Général'!$A$2:$G$30,5,FALSE),"") -> 20h | E43: =IFERROR(VLOOKUP($A43,'Calendrier Général'!$A$2:$G$30,6,FALSE),"") -> 0 | F43: =IFERROR(VLOOKUP($A43,'Calendrier Général'!$A$2:$G$30,7,FALSE),"") -> 0 | G43: Neuvic St Léon à Neuvic | K43: =K42+7 -> 43617 | L43: =L42+7 -> 43618
A44: 43624 | B44: =IFERROR(VLOOKUP($A44,'Calendrier Général'!$A$2:$G$30,3,FALSE),"") | C44: =IFERROR(VLOOKUP($A44,'Calendrier Général'!$A$2:$G$30,4,FALSE),"") | D44: =IFERROR(VLOOKUP($A44,'Calendrier Général'!$A$2:$G$30,5,FALSE),"") | E44: =IFERROR(VLOOKUP($A44,'Calendrier Général'!$A$2:$G$30,6,FALSE),"") | F44: =IFERROR(VLOOKUP($A44,'Calendrier Général'!$A$2:$G$30,7,FALSE),"") | G44: TSMB à Verteillac | K44: =K43+7 -> 43624 | L44: =L43+7 -> 43625
A45: 43631 | C45: Finales | K45: =K44+7 -> 43631 | L45: =L44+7 -> 43632
