Workbook
Name zoe: OFFSET(Feuil1!$A$7:$N$7,MATCH(Feuil1!A$6,Feuil1!$C:$C,0)-7,2,COUNTIF(Feuil1!$C:$C,Feuil1!A$6),1)

Sheet Sheet1
A1: Prénom | B1: Age | C1: Mon 1er choix (6 pts) | D1: Mon 2ème choix (4 pts) | E1: Mon 3ème choix (3 pts) | F1: Mon 4ème choix (2 pts) | G1: Mon dernier choix (1 pt)
A3: karine | B3: 47 | C3: psychose d'Alfred Hitchcock | D3: le silence des agneaux | E3: la piscine | F3: peau d'âne de Jacques Demy | G3: usual suspect de Bryan Singer
A4: Maëva | B4: 28 | C4: Pulp Fiction | D4: Mommy | E4: La vie est belle (de Roberto Benigni) | F4: The Big Lebowski | G4: Taxi Driver
A5: Marie Rose | B5: 65 | C5: LA NUIT DU CHASSEUR | D5: BUFFET FROID | E5: COLD WAR | F5: LA DECHIRURE | G5: LES BLUES BROTHERS
A6: Emilie | B6: 32 | C6: GHOST | D6: A STAR IS BORN | E6: LES INNOCENTES | F6: QU'EST CE QU'ON A FAIT AU BON DIEU ! | G6: LE ROI LION
A7: Antoine | B7: 10 | C7: Marie poppins 2 | D7: hôtel transyvanie 3 | E7: moi moche et méchant | F7: le grinch | G7: l'âge de glace 5
A8: STEPHANIE | B8: 50 | C8: AU REVOIR LES ENFANTS | D8: JESUS L ENQUETE | E8: INTO THE WILD | F8: ROCCO ET SES FRERES | G8: UN MONDE PARFAIT
A9: Marthe | B9: 61 | C9: OUT OF AFRICA | D9: TITANIC | E9: TOOTSIE | F9: FOREST GUMP | G9: GLADIATOR
A10: Christian | B10: 44 | C10: Star Wars 1 | D10: Le parrain 1 | E10: Star Wars 2 | F10: Le parrain 2 | G10: Rocky 1
A11: Yann | B11: 38 | C11: Lost highway | D11: Ghost dog | E11: Under the skin | F11: Pulp fiction | G11: Snow piercer
A12: Caroline | B12: 25 | C12: Lion | D12: A star is born | E12: La couleur des sentiments | F12: Mon voisin totorro | G12: American history x
A13: Laura | B13: 29 | C13: Un gorille dans la brume | D13: Américain nightmire
A14: Yannick | B14: 45 | C14: Danse avec les loups | D14: Seven | E14: Contagion | F14: Basic instinct | G14: Missisipi burning
A15: pascale | B15: 45 | C15: le grand bleu | D15: titanic | E15: l homme qui murmurait à l oreille des chevaux | F15: les petits mouchoirs | G15: pretty woman
A16: sylvie | B16: 45 | C16: La vie est belle | D16: Thelma et Louise | E16: winter bones | F16: pulp fiction | G16: seven
A17: Sarah | B17: 10 | C17: Darkest minds | D17: Santa et cie | E17: Harry potter 3 | F17: Harry potter 4 | G17: Scooby doo et le monstre du lac
A18: Audrey | B18: 46 | C18: Starwars IV | D18: Les affranchis | E18: Retour vers le futur | F18: La folie des grandeurs | G18: Si Versailles m’était conté
A19: Emmanuelle | B19: 32 | C19: Ne t’inquietes Pas je vais bien | D19: Pupille
A20: Lili | B20: 38 | C20: Empire records | D20: La belle verte | E20: Le grand bleu | F20: La vie est un long fleuve tranquille | G20: Amélie Poulain
A21: Françoise | B21: 61 | C21: Les délices de tokyo | D21: Mommy | E21: Le retour de mary poppins | F21: La saveur des ramens | G21: Mirai ma petite soeur
A22: Sophie | B22: 64 | C22: Il Postino ( Le facteur avec Philippe Noiret ) 1994 | D22: In the mood for love 2000 | E22: Bombon el perro 2005 | F22: Blancanieves 2012 | G22: Speedy 1928 de Harold Lloyd
A23: marie-françoise | B23: 74 | C23: amanda | D23: Edmond | E23: les invisibles | F23: facteur cheval
A24: Annick | B24: 79 | C24: Docteur Jivago | D24: S’est sidéré Story | E24: Oit offre Africa | F24: La couleur des sentiments | G24: Bienvenue chez les tchi
A25: Anne-Marie | B25: 54 | C25: Le patient anglais | D25: Mommy | E25: A star is born | F25: Partir | G25: Greystoke la légende de Tarzan
A26: Pascale | B26: 49 | C26: Bohemian rapsody | D26: Love actually 2 | E26: The hate u give | F26: Lestontons flingueurs | G26: Le grand bleu
A27: Nicole | B27: 61 | C27: Hellzapoppin | D27: Incendies | E27: Il y a longtemps que je t'aime | F27: West side story | G27: Amadeus
A28: Sophie | B28: 40 | C28: Dirty dancing | D28: Le brio | E28: Pretty woman | F28: Working girl | G28: 3 billboards
A29: Fabienne | B29: 44 | C29: Vol au dessus d'un nid de coucou | D29: Le cercle des poètes disparus | E29: Le grand bleu | F29: Kill bill | G29: Seven
A30: Celine | B30: 38 | C30: Titanic | D30: La liste de schindler | E30: Adieu ma concubine | F30: Dirty dancing | G30: Forest Gump
A31: lauriane | B31: 32 | C31: le seigneur des anneaux | D31: harry potter | E31: 7 vies | F31: gladiator | G31: 60s chrono
A32: VERONIQUE | B32: 64 | C32: Docteur Givago | D32: Dersou Ousala | E32: Laurence d’Arabie | F32: Les femmes du 4eme etage | G32: Le crabe tambour
A33: Anne | B33: 62 | C33: Out off africa | D33: La route de madison | E33: La femme du sixième etage | F33: Indochine
A34: Esteban | B34: 20 | C34: projet x | D34: Intouchable | E34: Rémi sans amie | F34: mia et le migou | G34: star wars
A35: Vincent | B35: 31 | C35: Fight Club | D35: Gladiator | E35: Snatch | F35: Dikkenek | G35: Le Parrain
A36: Françoise | B36: 70 | C36: Le voyage des comédiens | D36: La nuit nous appartient | E36: Urga | F36: Pulp fiction | G36: Lost in tanslation
A37: Françoise | B37: 70 | C37: Le voyage des comédiens | D37: La nuit nous appartient | E37: Urga | F37: Pulp fiction | G37: Lost in tanslation
A38: Satine | B38: 10 | C38: Harry Potter 3 | D38: Harry Potter 7 partie 2 | E38: Avatar | F38: Les enfants de Timpelbach | G38: Les Choristes
A39: Armelle | B39: 57 | C39: La vie est belle | D39: Le cercle des poètes disparus | E39: Out of africa | F39: Apollo 13 | G39: ET
A40: nicole | B40: 71 | C40: out of africa | D40: le pianiste | E40: west side story | F40: le grand bleu | G40: le diner de cons
A41: Meryam | B41: 37 | C41: Scarface | D41: Usual suspect | E41: Les évadés | F41: Le temoin du mal | G41: E.T
...

Sheet Feuil1
A2: Résultat du Sondage
E3: COLONNES DE CALCULS A MASQUER - AU BESOIN
A4: POINTS | E4: 6 | F4: 4 | G4: 3 | H4: 2 | I4: 1 | T4: 6 | U4: 4 | V4: 3 | W4: 2 | X4: 1
A5: CLASSEMENT QUESTIONS | E5: 1 | F5: 2 | G5: 3 | H5: 4 | I5: 5 | J5: 1 | K5: 2 | L5: 3 | M5: 4 | N5: 5
A6: FILMS | C6: POINTS | D6: AGES | E6: CHOIX | J6: AGE | T6: 1 | U6: 2 | V6: 3 | W6: 4 | X6: 5
A7: le silence des agneaux | B7: =E7*6+F7*4+G7*3+H7*2+I7 -> 4 | C7: =INDEX($E$4:$I$4,1,MATCH(1,$E7:$I7,0)) -> 4 | D7: =MAX($J7:$N7) -> 47 | E7: =COUNTIF(OFFSET(Sheet1!$C$3:$C$3,0,Feuil1!E$5-1,COUNTA(Sheet1!$A:$A)-2),Feuil1!$A7) -> 0 | F7: =COUNTIF(OFFSET(Sheet1!$C$3:$C$3,0,Feuil1!F$5-1,COUNTA(Sheet1!$A:$A)-2),Feuil1!$A7) -> 1 | G7: =COUNTIF(OFFSET(Sheet1!$C$3:$C$3,0,Feuil1!G$5-1,COUNTA(Sheet1!$A:$A)-2),Feuil1!$A7) -> 0 | H7: =COUNTIF(OFFSET(Sheet1!$C$3:$C$3,0,Feuil1!H$5-1,COUNTA(Sheet1!$A:$A)-2),Feuil1!$A7) -> 0 | I7: =COUNTIF(OFFSET(Sheet1!$C$3:$C$3,0,Feuil1!I$5-1,COUNTA(Sheet1!$A:$A)-2),Feuil1!$A7) -> 0 | J7: =IFERROR(VALUE(INDEX(Sheet1!$B$3:$B$8,MATCH($A7,OFFSET(Sheet1!$C$3:$C$3,0,Feuil1!J$5-1,COUNTA(Sheet1!$A:$A)-2),0))),0) -> 0 | K7: =IFERROR(VALUE(INDEX(Sheet1!$B$3:$B$8,MATCH($A7,OFFSET(Sheet1!$C$3:$C$3,0,Feuil1!K$5-1,COUNTA(Sheet1!$A:$A)-2),0))),0) -> 47 | L7: =IFERROR(VALUE(INDEX(Sheet1!$B$3:$B$8,MATCH($A7,OFFSET(Sheet1!$C$3:$C$3,0,Feuil1!L$5-1,COUNTA(Sheet1!$A:$A)-2),0))),0) -> 0 | M7: =IFERROR(VALUE(INDEX(Sheet1!$B$3:$B$8,MATCH($A7,OFFSET(Sheet1!$C$3:$C$3,0,Feuil1!M$5-1,COUNTA(Sheet1!$A:$A)-2),0))),0) -> 0 | N7: =IFERROR(VALUE(INDEX(Sheet1!$B$3:$B$8,MATCH($A7,OFFSET(Sheet1!$C$3:$C$3,0,Feuil1!N$5-1,COUNTA(Sheet1!$A:$A)-2),0))),0) -> 0 | P7: =IFERROR(VALUE(INDEX(OFFSET(Sheet1!$B:$B,2,0,COUNTA(Sheet1!$B:$B)-2,1),ROW()-ROW(Feuil1!$6:$6))),0) -> 47 | Q7: =IFERROR(RANK($P7,OFFSET(Feuil1!$P$7,0,0,COUNTIF(Feuil1!$P$7:$P$24,">0")),1),"") -> 15 | R7: =IF($Q7="","",R6+1) -> 1 | S7: =INDEX($P$7:$P$24,MATCH($R7,$Q$7:$Q$24,0)) -> 10 | T7: psychose d'Alfred Hitchcock | U7: le silence des agneaux | V7: la piscine | W7: peau d'âne de Jacques Demy | X7: usual suspect de Bryan Singer
A8: Mommy | B8: =E8*6+F8*4+G8*3+H8*2+I8 -> 12 | C8: =INDEX($E$4:$I$4,1,MATCH(1,$E8:$I8,0)) -> #N/A | D8: =MAX($J8:$N8) -> 28 | E8: =COUNTIF(OFFSET(Sheet1!$C$3:$C$3,0,Feuil1!E$5-1,COUNTA(Sheet1!$A:$A)-2),Feuil1!$A8) -> 0 | F8: =COUNTIF(OFFSET(Sheet1!$C$3:$C$3,0,Feuil1!F$5-1,COUNTA(Sheet1!$A:$A)-2),Feuil1!$A8) -> 3 | G8: =COUNTIF(OFFSET(Sheet1!$C$3:$C$3,0,Feuil1!G$5-1,COUNTA(Sheet1!$A:$A)-2),Feuil1!$A8) -> 0 | H8: =COUNTIF(OFFSET(Sheet1!$C$3:$C$3,0,Feuil1!H$5-1,COUNTA(Sheet1!$A:$A)-2),Feuil1!$A8) -> 0 | I8: =COUNTIF(OFFSET(Sheet1!$C$3:$C$3,0,Feuil1!I$5-1,COUNTA(Sheet1!$A:$A)-2),Feuil1!$A8) -> 0 | J8: =IFERROR(VALUE(INDEX(Sheet1!$B$3:$B$8,MATCH($A8,OFFSET(Sheet1!$C$3:$C$3,0,Feuil1!J$5-1,COUNTA(Sheet1!$A:$A)-2),0))),0) -> 0 | K8: =IFERROR(VALUE(INDEX(Sheet1!$B$3:$B$8,MATCH($A8,OFFSET(Sheet1!$C$3:$C$3,0,Feuil1!K$5-1,COUNTA(Sheet1!$A:$A)-2),0))),0) -> 28 | L8: =IFERROR(VALUE(INDEX(Sheet1!$B$3:$B$8,MATCH($A8,OFFSET(Sheet1!$C$3:$C$3,0,Feuil1!L$5-1,COUNTA(Sheet1!$A:$A)-2),0))),0) -> 0 | M8: =IFERROR(VALUE(INDEX(Sheet1!$B$3:$B$8,MATCH($A8,OFFSET(Sheet1!$C$3:$C$3,0,Feuil1!M$5-1,COUNTA(Sheet1!$A:$A)-2),0))),0) -> 0 | N8: =IFERROR(VALUE(INDEX(Sheet1!$B$3:$B$8,MATCH($A8,OFFSET(Sheet1!$C$3:$C$3,0,Feuil1!N$5-1,COUNTA(Sheet1!$A:$A)-2),0))),0) -> 0 | P8: =IFERROR(VALUE(INDEX(OFFSET(Sheet1!$B:$B,2,0,COUNTA(Sheet1!$B:$B)-2,1),ROW()-ROW(Feuil1!$6:$6))),0) -> 28 | Q8: =IFERROR(RANK($P8,OFFSET(Feuil1!$P$7,0,0,COUNTIF(Feuil1!$P$7:$P$24,">0")),1),"") -> 4 | R8: =IF($Q8="","",R7+1) -> 2 | S8: =INDEX($P$7:$P$24,MATCH($R8,$Q$7:$Q$24,0)) -> #N/A | T8: Pulp Fiction | U8: Mommy | V8: La vie est belle (de Roberto Benigni) | W8: The Big Lebowski | X8: Taxi Driver
A9: BUFFET FROID | B9: =E9*6+F9*4+G9*3+H9*2+I9 -> 4 | C9: =INDEX($E$4:$I$4,1,MATCH(1,$E9:$I9,0)) -> 4 | D9: =MAX($J9:$N9) -> 65 | E9: =COUNTIF(OFFSET(Sheet1!$C$3:$C$3,0,Feuil1!E$5-1,COUNTA(Sheet1!$A:$A)-2),Feuil1!$A9) -> 0 | F9: =COUNTIF(OFFSET(Sheet1!$C$3:$C$3,0,Feuil1!F$5-1,COUNTA(Sheet1!$A:$A)-2),Feuil1!$A9) -> 1 | G9: =COUNTIF(OFFSET(Sheet1!$C$3:$C$3,0,Feuil1!G$5-1,COUNTA(Sheet1!$A:$A)-2),Feuil1!$A9) -> 0 | H9: =COUNTIF(OFFSET(Sheet1!$C$3:$C$3,0,Feuil1!H$5-1,COUNTA(Sheet1!$A:$A)-2),Feuil1!$A9) -> 0 | I9: =COUNTIF(OFFSET(Sheet1!$C$3:$C$3,0,Feuil1!I$5-1,COUNTA(Sheet1!$A:$A)-2),Feuil1!$A9) -> 0 | J9: =IFERROR(VALUE(INDEX(Sheet1!$B$3:$B$8,MATCH($A9,OFFSET(Sheet1!$C$3:$C$3,0,Feuil1!J$5-1,COUNTA(Sheet1!$A:$A)-2),0))),0) -> 0 | K9: =IFERROR(VALUE(INDEX(Sheet1!$B$3:$B$8,MATCH($A9,OFFSET(Sheet1!$C$3:$C$3,0,Feuil1!K$5-1,COUNTA(Sheet1!$A:$A)-2),0))),0) -> 65 | L9: =IFERROR(VALUE(INDEX(Sheet1!$B$3:$B$8,MATCH($A9,OFFSET(Sheet1!$C$3:$C$3,0,Feuil1!L$5-1,COUNTA(Sheet1!$A:$A)-2),0))),0) -> 0 | M9: =IFERROR(VALUE(INDEX(Sheet1!$B$3:$B$8,MATCH($A9,OFFSET(Sheet1!$C$3:$C$3,0,Feuil1!M$5-1,COUNTA(Sheet1!$A:$A)-2),0))),0) -> 0 | N9: =IFERROR(VALUE(INDEX(Sheet1!$B$3:$B$8,MATCH($A9,OFFSET(Sheet1!$C$3:$C$3,0,Feuil1!N$5-1,COUNTA(Sheet1!$A:$A)-2),0))),0) -> 0 | P9: =IFERROR(VALUE(INDEX(OFFSET(Sheet1!$B:$B,2,0,COUNTA(Sheet1!$B:$B)-2,1),ROW()-ROW(Feuil1!$6:$6))),0) -> 65 | Q9: =IFERROR(RANK($P9,OFFSET(Feuil1!$P$7,0,0,COUNTIF(Feuil1!$P$7:$P$24,">0")),1),"") -> 18 | R9: =IF($Q9="","",R8+1) -> 3 | S9: =INDEX($P$7:$P$24,MATCH($R9,$Q$7:$Q$24,0)) -> 25 | T9: LA NUIT DU CHASSEUR | U9: BUFFET FROID | V9: COLD WAR | W9: LA DECHIRURE | X9: LES BLUES BROTHERS
A10: A STAR IS BORN | B10: =E10*6+F10*4+G10*3+H10*2+I10 -> 11 | C10: =INDEX($E$4:$I$4,1,MATCH(1,$E10:$I10,0)) -> 3 | D10: =MAX($J10:$N10) -> 32 | E10: =COUNTIF(OFFSET(Sheet1!$C$3:$C$3,0,Feuil1!E$5-1,COUNTA(Sheet1!$A:$A)-2),Feuil1!$A10) -> 0 | F10: =COUNTIF(OFFSET(Sheet1!$C$3:$C$3,0,Feuil1!F$5-1,COUNTA(Sheet1!$A:$A)-2),Feuil1!$A10) -> 2 | G10: =COUNTIF(OFFSET(Sheet1!$C$3:$C$3,0,Feuil1!G$5-1,COUNTA(Sheet1!$A:$A)-2),Feuil1!$A10) -> 1 | H10: =COUNTIF(OFFSET(Sheet1!$C$3:$C$3,0,Feuil1!H$5-1,COUNTA(Sheet1!$A:$A)-2),Feuil1!$A10) -> 0 | I10: =COUNTIF(OFFSET(Sheet1!$C$3:$C$3,0,Feuil1!I$5-1,COUNTA(Sheet1!$A:$A)-2),Feuil1!$A10) -> 0 | J10: =IFERROR(VALUE(INDEX(Sheet1!$B$3:$B$8,MATCH($A10,OFFSET(Sheet1!$C$3:$C$3,0,Feuil1!J$5-1,COUNTA(Sheet1!$A:$A)-2),0))),0) -> 0 | K10: =IFERROR(VALUE(INDEX(Sheet1!$B$3:$B$8,MATCH($A10,OFFSET(Sheet1!$C$3:$C$3,0,Feuil1!K$5-1,COUNTA(Sheet1!$A:$A)-2),0))),0) -> 32 | L10: =IFERROR(VALUE(INDEX(Sheet1!$B$3:$B$8,MATCH($A10,OFFSET(Sheet1!$C$3:$C$3,0,Feuil1!L$5-1,COUNTA(Sheet1!$A:$A)-2),0))),0) -> 0 | M10: =IFERROR(VALUE(INDEX(Sheet1!$B$3:$B$8,MATCH($A10,OFFSET(Sheet1!$C$3:$C$3,0,Feuil1!M$5-1,COUNTA(Sheet1!$A:$A)-2),0))),0) -> 0 | N10: =IFERROR(VALUE(INDEX(Sheet1!$B$3:$B$8,MATCH($A10,OFFSET(Sheet1!$C$3:$C$3,0,Feuil1!N$5-1,COUNTA(Sheet1!$A:$A)-2),0))),0) -> 0 | P10: =IFERROR(VALUE(INDEX(OFFSET(Sheet1!$B:$B,2,0,COUNTA(Sheet1!$B:$B)-2,1),ROW()-ROW(Feuil1!$6:$6))),0) -> 32 | Q10: =IFERROR(RANK($P10,OFFSET(Feuil1!$P$7,0,0,COUNTIF(Feuil1!$P$7:$P$24,">0")),1),"") -> 6 | R10: =IF($Q10="","",R9+1) -> 4 | S10: =INDEX($P$7:$P$24,MATCH($R10,$Q$7:$Q$24,0)) -> 28 | T10: GHOST | U10: A STAR IS BORN | V10: LES INNOCENTES | W10: QU'EST CE QU'ON A FAIT AU BON DIEU ! | X10: LE ROI LION
A11: hôtel transyvanie 3 | B11: =E11*6+F11*4+G11*3+H11*2+I11 -> 4 | C11: =INDEX($E$4:$I$4,1,MATCH(1,$E11:$I11,0)) -> 4 | D11: =MAX($J11:$N11) -> 10 | E11: =COUNTIF(OFFSET(Sheet1!$C$3:$C$3,0,Feuil1!E$5-1,COUNTA(Sheet1!$A:$A)-2),Feuil1!$A11) -> 0 | F11: =COUNTIF(OFFSET(Sheet1!$C$3:$C$3,0,Feuil1!F$5-1,COUNTA(Sheet1!$A:$A)-2),Feuil1!$A11) -> 1 | G11: =COUNTIF(OFFSET(Sheet1!$C$3:$C$3,0,Feuil1!G$5-1,COUNTA(Sheet1!$A:$A)-2),Feuil1!$A11) -> 0 | H11: =COUNTIF(OFFSET(Sheet1!$C$3:$C$3,0,Feuil1!H$5-1,COUNTA(Sheet1!$A:$A)-2),Feuil1!$A11) -> 0 | I11: =COUNTIF(OFFSET(Sheet1!$C$3:$C$3,0,Feuil1!I$5-1,COUNTA(Sheet1!$A:$A)-2),Feuil1!$A11) -> 0 | J11: =IFERROR(VALUE(INDEX(Sheet1!$B$3:$B$8,MATCH($A11,OFFSET(Sheet1!$C$3:$C$3,0,Feuil1!J$5-1,COUNTA(Sheet1!$A:$A)-2),0))),0) -> 0 | K11: =IFERROR(VALUE(INDEX(Sheet1!$B$3:$B$8,MATCH($A11,OFFSET(Sheet1!$C$3:$C$3,0,Feuil1!K$5-1,COUNTA(Sheet1!$A:$A)-2),0))),0) -> 10 | L11: =IFERROR(VALUE(INDEX(Sheet1!$B$3:$B$8,MATCH($A11,OFFSET(Sheet1!$C$3:$C$3,0,Feuil1!L$5-1,COUNTA(Sheet1!$A:$A)-2),0))),0) -> 0 | M11: =IFERROR(VALUE(INDEX(Sheet1!$B$3:$B$8,MATCH($A11,OFFSET(Sheet1!$C$3:$C$3,0,Feuil1!M$5-1,COUNTA(Sheet1!$A:$A)-2),0))),0) -> 0 | N11: =IFERROR(VALUE(INDEX(Sheet1!$B$3:$B$8,MATCH($A11,OFFSET(Sheet1!$C$3:$C$3,0,Feuil1!N$5-1,COUNTA(Sheet1!$A:$A)-2),0))),0) -> 0 | P11: =IFERROR(VALUE(INDEX(OFFSET(Sheet1!$B:$B,2,0,COUNTA(Sheet1!$B:$B)-2,1),ROW()-ROW(Feuil1!$6:$6))),0) -> 10 | Q11: =IFERROR(RANK($P11,OFFSET(Feuil1!$P$7,0,0,COUNTIF(Feuil1!$P$7:$P$24,">0")),1),"") -> 1 | R11: =IF($Q11="","",R10+1) -> 5 | S11: =INDEX($P$7:$P$24,MATCH($R11,$Q$7:$Q$24,0)) -> 29 | T11: Marie poppins 2 | U11: hôtel transyvanie 3 | V11: moi moche et méchant | W11: le grinch | X11: l'âge de glace 5
A12: JESUS L ENQUETE | B12: =E12*6+F12*4+G12*3+H12*2+I12 -> 4 | C12: =INDEX($E$4:$I$4,1,MATCH(1,$E12:$I12,0)) -> 4 | D12: =MAX($J12:$N12) -> 50 | E12: =COUNTIF(OFFSET(Sheet1!$C$3:$C$3,0,Feuil1!E$5-1,COUNTA(Sheet1!$A:$A)-2),Feuil1!$A12) -> 0 | F12: =COUNTIF(OFFSET(Sheet1!$C$3:$C$3,0,Feuil1!F$5-1,COUNTA(Sheet1!$A:$A)-2),Feuil1!$A12) -> 1 | G12: =COUNTIF(OFFSET(Sheet1!$C$3:$C$3,0,Feuil1!G$5-1,COUNTA(Sheet1!$A:$A)-2),Feuil1!$A12) -> 0 | H12: =COUNTIF(OFFSET(Sheet1!$C$3:$C$3,0,Feuil1!H$5-1,COUNTA(Sheet1!$A:$A)-2),Feuil1!$A12) -> 0 | I12: =COUNTIF(OFFSET(Sheet1!$C$3:$C$3,0,Feuil1!I$5-1,COUNTA(Sheet1!$A:$A)-2),Feuil1!$A12) -> 0 | J12: =IFERROR(VALUE(INDEX(Sheet1!$B$3:$B$8,MATCH($A12,OFFSET(Sheet1!$C$3:$C$3,0,Feuil1!J$5-1,COUNTA(Sheet1!$A:$A)-2),0))),0) -> 0 | K12: =IFERROR(VALUE(INDEX(Sheet1!$B$3:$B$8,MATCH($A12,OFFSET(Sheet1!$C$3:$C$3,0,Feuil1!K$5-1,COUNTA(Sheet1!$A:$A)-2),0))),0) -> 50 | L12: =IFERROR(VALUE(INDEX(Sheet1!$B$3:$B$8,MATCH($A12,OFFSET(Sheet1!$C$3:$C$3,0,Feuil1!L$5-1,COUNTA(Sheet1!$A:$A)-2),0))),0) -> 0 | M12: =IFERROR(VALUE(INDEX(Sheet1!$B$3:$B$8,MATCH($A12,OFFSET(Sheet1!$C$3:$C$3,0,Feuil1!M$5-1,COUNTA(Sheet1!$A:$A)-2),0))),0) -> 0 | N12: =IFERROR(VALUE(INDEX(Sheet1!$B$3:$B$8,MATCH($A12,OFFSET(Sheet1!$C$3:$C$3,0,Feuil1!N$5-1,COUNTA(Sheet1!$A:$A)-2),0))),0) -> 0 | P12: =IFERROR(VALUE(INDEX(OFFSET(Sheet1!$B:$B,2,0,COUNTA(Sheet1!$B:$B)-2,1),ROW()-ROW(Feuil1!$6:$6))),0) -> 50 | Q12: =IFERROR(RANK($P12,OFFSET(Feuil1!$P$7,0,0,COUNTIF(Feuil1!$P$7:$P$24,">0")),1),"") -> 16 | R12: =IF($Q12="","",R11+1) -> 6 | S12: =INDEX($P$7:$P$24,MATCH($R12,$Q$7:$Q$24,0)) -> 32 | T12: AU REVOIR LES ENFANTS | U12: JESUS L ENQUETE | V12: INTO THE WILD | W12: ROCCO ET SES FRERES | X12: UN MONDE PARFAIT
A13: TITANIC | B13: =E13*6+F13*4+G13*3+H13*2+I13 -> 14 | C13: =INDEX($E$4:$I$4,1,MATCH(1,$E13:$I13,0)) -> 6 | D13: =MAX($J13:$N13) -> 0 | E13: =COUNTIF(OFFSET(Sheet1!$C$3:$C$3,0,Feuil1!E$5-1,COUNTA(Sheet1!$A:$A)-2),Feuil1!$A13) -> 1 | F13: =COUNTIF(OFFSET(Sheet1!$C$3:$C$3,0,Feuil1!F$5-1,COUNTA(Sheet1!$A:$A)-2),Feuil1!$A13) -> 2 | G13: =COUNTIF(OFFSET(Sheet1!$C$3:$C$3,0,Feuil1!G$5-1,COUNTA(Sheet1!$A:$A)-2),Feuil1!$A13) -> 0 | H13: =COUNTIF(OFFSET(Sheet1!$C$3:$C$3,0,Feuil1!H$5-1,COUNTA(Sheet1!$A:$A)-2),Feuil1!$A13) -> 0 | I13: =COUNTIF(OFFSET(Sheet1!$C$3:$C$3,0,Feuil1!I$5-1,COUNTA(Sheet1!$A:$A)-2),Feuil1!$A13) -> 0 | J13: =IFERROR(VALUE(INDEX(Sheet1!$B$3:$B$8,MATCH($A13,OFFSET(Sheet1!$C$3:$C$3,0,Feuil1!J$5-1,COUNTA(Sheet1!$A:$A)-2),0))),0) -> 0 | K13: =IFERROR(VALUE(INDEX(Sheet1!$B$3:$B$8,MATCH($A13,OFFSET(Sheet1!$C$3:$C$3,0,Feuil1!K$5-1,COUNTA(Sheet1!$A:$A)-2),0))),0) -> 0 | L13: =IFERROR(VALUE(INDEX(Sheet1!$B$3:$B$8,MATCH($A13,OFFSET(Sheet1!$C$3:$C$3,0,Feuil1!L$5-1,COUNTA(Sheet1!$A:$A)-2),0))),0) -> 0 | M13: =IFERROR(VALUE(INDEX(Sheet1!$B$3:$B$8,MATCH($A13,OFFSET(Sheet1!$C$3:$C$3,0,Feuil1!M$5-1,COUNTA(Sheet1!$A:$A)-2),0))),0) -> 0 | N13: =IFERROR(VALUE(INDEX(Sheet1!$B$3:$B$8,MATCH($A13,OFFSET(Sheet1!$C$3:$C$3,0,Feuil1!N$5-1,COUNTA(Sheet1!$A:$A)-2),0))),0) -> 0 | P13: =IFERROR(VALUE(INDEX(OFFSET(Sheet1!$B:$B,2,0,COUNTA(Sheet1!$B:$B)-2,1),ROW()-ROW(Feuil1!$6:$6))),0) -> 61 | Q13: =IFERROR(RANK($P13,OFFSET(Feuil1!$P$7,0,0,COUNTIF(Feuil1!$P$7:$P$24,">0")),1),"") -> 17 | R13: =IF($Q13="","",R12+1) -> 7 | S13: =INDEX($P$7:$P$24,MATCH($R13,$Q$7:$Q$24,0)) -> #N/A | T13: OUT OF AFRICA | U13: TITANIC | V13: TOOTSIE | W13: FOREST GUMP | X13: GLADIATOR
A14: Le parrain 1 | B14: =E14*6+F14*4+G14*3+H14*2+I14 -> 4 | C14: =INDEX($E$4:$I$4,1,MATCH(1,$E14:$I14,0)) -> 4 | D14: =MAX($J14:$N14) -> 0 | E14: =COUNTIF(OFFSET(Sheet1!$C$3:$C$3,0,Feuil1!E$5-1,COUNTA(Sheet1!$A:$A)-2),Feuil1!$A14) -> 0 | F14: =COUNTIF(OFFSET(Sheet1!$C$3:$C$3,0,Feuil1!F$5-1,COUNTA(Sheet1!$A:$A)-2),Feuil1!$A14) -> 1 | G14: =COUNTIF(OFFSET(Sheet1!$C$3:$C$3,0,Feuil1!G$5-1,COUNTA(Sheet1!$A:$A)-2),Feuil1!$A14) -> 0 | H14: =COUNTIF(OFFSET(Sheet1!$C$3:$C$3,0,Feuil1!H$5-1,COUNTA(Sheet1!$A:$A)-2),Feuil1!$A14) -> 0 | I14: =COUNTIF(OFFSET(Sheet1!$C$3:$C$3,0,Feuil1!I$5-1,COUNTA(Sheet1!$A:$A)-2),Feuil1!$A14) -> 0 | J14: =IFERROR(VALUE(INDEX(Sheet1!$B$3:$B$8,MATCH($A14,OFFSET(Sheet1!$C$3:$C$3,0,Feuil1!J$5-1,COUNTA(Sheet1!$A:$A)-2),0))),0) -> 0 | K14: =IFERROR(VALUE(INDEX(Sheet1!$B$3:$B$8,MATCH($A14,OFFSET(Sheet1!$C$3:$C$3,0,Feuil1!K$5-1,COUNTA(Sheet1!$A:$A)-2),0))),0) -> 0 | L14: =IFERROR(VALUE(INDEX(Sheet1!$B$3:$B$8,MATCH($A14,OFFSET(Sheet1!$C$3:$C$3,0,Feuil1!L$5-1,COUNTA(Sheet1!$A:$A)-2),0))),0) -> 0 | M14: =IFERROR(VALUE(INDEX(Sheet1!$B$3:$B$8,MATCH($A14,OFFSET(Sheet1!$C$3:$C$3,0,Feuil1!M$5-1,COUNTA(Sheet1!$A:$A)-2),0))),0) -> 0 | N14: =IFERROR(VALUE(INDEX(Sheet1!$B$3:$B$8,MATCH($A14,OFFSET(Sheet1!$C$3:$C$3,0,Feuil1!N$5-1,COUNTA(Sheet1!$A:$A)-2),0))),0) -> 0 | P14: =IFERROR(VALUE(INDEX(OFFSET(Sheet1!$B:$B,2,0,COUNTA(Sheet1!$B:$B)-2,1),ROW()-ROW(Feuil1!$6:$6))),0) -> 44 | Q14: =IFERROR(RANK($P14,OFFSET(Feuil1!$P$7,0,0,COUNTIF(Feuil1!$P$7:$P$24,">0")),1),"") -> 10 | R14: =IF($Q14="","",R13+1) -> 8 | S14: =INDEX($P$7:$P$24,MATCH($R14,$Q$7:$Q$24,0)) -> 38 | T14: Star Wars 1 | U14: Le parrain 1 | V14: Star Wars 2 | W14: Le parrain 2 | X14: Rocky 1
A15: Ghost dog | B15: =E15*6+F15*4+G15*3+H15*2+I15 -> 4 | C15: =INDEX($E$4:$I$4,1,MATCH(1,$E15:$I15,0)) -> 4 | D15: =MAX($J15:$N15) -> 0 | E15: =COUNTIF(OFFSET(Sheet1!$C$3:$C$3,0,Feuil1!E$5-1,COUNTA(Sheet1!$A:$A)-2),Feuil1!$A15) -> 0 | F15: =COUNTIF(OFFSET(Sheet1!$C$3:$C$3,0,Feuil1!F$5-1,COUNTA(Sheet1!$A:$A)-2),Feuil1!$A15) -> 1 | G15: =COUNTIF(OFFSET(Sheet1!$C$3:$C$3,0,Feuil1!G$5-1,COUNTA(Sheet1!$A:$A)-2),Feuil1!$A15) -> 0 | H15: =COUNTIF(OFFSET(Sheet1!$C$3:$C$3,0,Feuil1!H$5-1,COUNTA(Sheet1!$A:$A)-2),Feuil1!$A15) -> 0 | I15: =COUNTIF(OFFSET(Sheet1!$C$3:$C$3,0,Feuil1!I$5-1,COUNTA(Sheet1!$A:$A)-2),Feuil1!$A15) -> 0 | J15: =IFERROR(VALUE(INDEX(Sheet1!$B$3:$B$8,MATCH($A15,OFFSET(Sheet1!$C$3:$C$3,0,Feuil1!J$5-1,COUNTA(Sheet1!$A:$A)-2),0))),0) -> 0 | K15: =IFERROR(VALUE(INDEX(Sheet1!$B$3:$B$8,MATCH($A15,OFFSET(Sheet1!$C$3:$C$3,0,Feuil1!K$5-1,COUNTA(Sheet1!$A:$A)-2),0))),0) -> 0 | L15: =IFERROR(VALUE(INDEX(Sheet1!$B$3:$B$8,MATCH($A15,OFFSET(Sheet1!$C$3:$C$3,0,Feuil1!L$5-1,COUNTA(Sheet1!$A:$A)-2),0))),0) -> 0 | M15: =IFERROR(VALUE(INDEX(Sheet1!$B$3:$B$8,MATCH($A15,OFFSET(Sheet1!$C$3:$C$3,0,Feuil1!M$5-1,COUNTA(Sheet1!$A:$A)-2),0))),0) -> 0 | N15: =IFERROR(VALUE(INDEX(Sheet1!$B$3:$B$8,MATCH($A15,OFFSET(Sheet1!$C$3:$C$3,0,Feuil1!N$5-1,COUNTA(Sheet1!$A:$A)-2),0))),0) -> 0 | P15: =IFERROR(VALUE(INDEX(OFFSET(Sheet1!$B:$B,2,0,COUNTA(Sheet1!$B:$B)-2,1),ROW()-ROW(Feuil1!$6:$6))),0) -> 38 | Q15: =IFERROR(RANK($P15,OFFSET(Feuil1!$P$7,0,0,COUNTIF(Feuil1!$P$7:$P$24,">0")),1),"") -> 8 | R15: =IF($Q15="","",R14+1) -> 9 | S15: =INDEX($P$7:$P$24,MATCH($R15,$Q$7:$Q$24,0)) -> #N/A | T15: Lost highway | U15: Ghost dog | V15: Under the skin | W15: Pulp fiction | X15: Snow piercer
A16: Américain nightmire | B16: =E16*6+F16*4+G16*3+H16*2+I16 -> 4 | C16: =INDEX($E$4:$I$4,1,MATCH(1,$E16:$I16,0)) -> 4 | D16: =MAX($J16:$N16) -> 0 | E16: =COUNTIF(OFFSET(Sheet1!$C$3:$C$3,0,Feuil1!E$5-1,COUNTA(Sheet1!$A:$A)-2),Feuil1!$A16) -> 0 | F16: =COUNTIF(OFFSET(Sheet1!$C$3:$C$3,0,Feuil1!F$5-1,COUNTA(Sheet1!$A:$A)-2),Feuil1!$A16) -> 1 | G16: =COUNTIF(OFFSET(Sheet1!$C$3:$C$3,0,Feuil1!G$5-1,COUNTA(Sheet1!$A:$A)-2),Feuil1!$A16) -> 0 | H16: =COUNTIF(OFFSET(Sheet1!$C$3:$C$3,0,Feuil1!H$5-1,COUNTA(Sheet1!$A:$A)-2),Feuil1!$A16) -> 0 | I16: =COUNTIF(OFFSET(Sheet1!$C$3:$C$3,0,Feuil1!I$5-1,COUNTA(Sheet1!$A:$A)-2),Feuil1!$A16) -> 0 | J16: =IFERROR(VALUE(INDEX(Sheet1!$B$3:$B$8,MATCH($A16,OFFSET(Sheet1!$C$3:$C$3,0,Feuil1!J$5-1,COUNTA(Sheet1!$A:$A)-2),0))),0) -> 0 | K16: =IFERROR(VALUE(INDEX(Sheet1!$B$3:$B$8,MATCH($A16,OFFSET(Sheet1!$C$3:$C$3,0,Feuil1!K$5-1,COUNTA(Sheet1!$A:$A)-2),0))),0) -> 0 | L16: =IFERROR(VALUE(INDEX(Sheet1!$B$3:$B$8,MATCH($A16,OFFSET(Sheet1!$C$3:$C$3,0,Feuil1!L$5-1,COUNTA(Sheet1!$A:$A)-2),0))),0) -> 0 | M16: =IFERROR(VALUE(INDEX(Sheet1!$B$3:$B$8,MATCH($A16,OFFSET(Sheet1!$C$3:$C$3,0,Feuil1!M$5-1,COUNTA(Sheet1!$A:$A)-2),0))),0) -> 0 | N16: =IFERROR(VALUE(INDEX(Sheet1!$B$3:$B$8,MATCH($A16,OFFSET(Sheet1!$C$3:$C$3,0,Feuil1!N$5-1,COUNTA(Sheet1!$A:$A)-2),0))),0) -> 0 | P16: =IFERROR(VALUE(INDEX(OFFSET(Sheet1!$B:$B,2,0,COUNTA(Sheet1!$B:$B)-2,1),ROW()-ROW(Feuil1!$6:$6))),0) -> 25 | Q16: =IFERROR(RANK($P16,OFFSET(Feuil1!$P$7,0,0,COUNTIF(Feuil1!$P$7:$P$24,">0")),1),"") -> 3 | R16: =IF($Q16="","",R15+1) -> 10 | S16: =INDEX($P$7:$P$24,MATCH($R16,$Q$7:$Q$24,0)) -> 44 | T16: Lion | U16: A star is born | V16: La couleur des sentiments | W16: Mon voisin totorro | X16: American history x
A17: Seven | B17: =E17*6+F17*4+G17*3+H17*2+I17 -> 6 | C17: =INDEX($E$4:$I$4,1,MATCH(1,$E17:$I17,0)) -> 4 | D17: =MAX($J17:$N17) -> 0 | E17: =COUNTIF(OFFSET(Sheet1!$C$3:$C$3,0,Feuil1!E$5-1,COUNTA(Sheet1!$A:$A)-2),Feuil1!$A17) -> 0 | F17: =COUNTIF(OFFSET(Sheet1!$C$3:$C$3,0,Feuil1!F$5-1,COUNTA(Sheet1!$A:$A)-2),Feuil1!$A17) -> 1 | G17: =COUNTIF(OFFSET(Sheet1!$C$3:$C$3,0,Feuil1!G$5-1,COUNTA(Sheet1!$A:$A)-2),Feuil1!$A17) -> 0 | H17: =COUNTIF(OFFSET(Sheet1!$C$3:$C$3,0,Feuil1!H$5-1,COUNTA(Sheet1!$A:$A)-2),Feuil1!$A17) -> 0 | I17: =COUNTIF(OFFSET(Sheet1!$C$3:$C$3,0,Feuil1!I$5-1,COUNTA(Sheet1!$A:$A)-2),Feuil1!$A17) -> 2 | J17: =IFERROR(VALUE(INDEX(Sheet1!$B$3:$B$8,MATCH($A17,OFFSET(Sheet1!$C$3:$C$3,0,Feuil1!J$5-1,COUNTA(Sheet1!$A:$A)-2),0))),0) -> 0 | K17: =IFERROR(VALUE(INDEX(Sheet1!$B$3:$B$8,MATCH($A17,OFFSET(Sheet1!$C$3:$C$3,0,Feuil1!K$5-1,COUNTA(Sheet1!$A:$A)-2),0))),0) -> 0 | L17: =IFERROR(VALUE(INDEX(Sheet1!$B$3:$B$8,MATCH($A17,OFFSET(Sheet1!$C$3:$C$3,0,Feuil1!L$5-1,COUNTA(Sheet1!$A:$A)-2),0))),0) -> 0 | M17: =IFERROR(VALUE(INDEX(Sheet1!$B$3:$B$8,MATCH($A17,OFFSET(Sheet1!$C$3:$C$3,0,Feuil1!M$5-1,COUNTA(Sheet1!$A:$A)-2),0))),0) -> 0 | N17: =IFERROR(VALUE(INDEX(Sheet1!$B$3:$B$8,MATCH($A17,OFFSET(Sheet1!$C$3:$C$3,0,Feuil1!N$5-1,COUNTA(Sheet1!$A:$A)-2),0))),0) -> 0 | P17: =IFERROR(VALUE(INDEX(OFFSET(Sheet1!$B:$B,2,0,COUNTA(Sheet1!$B:$B)-2,1),ROW()-ROW(Feuil1!$6:$6))),0) -> 29 | Q17: =IFERROR(RANK($P17,OFFSET(Feuil1!$P$7,0,0,COUNTIF(Feuil1!$P$7:$P$24,">0")),1),"") -> 5 | R17: =IF($Q17="","",R16+1) -> 11 | S17: =INDEX($P$7:$P$24,MATCH($R17,$Q$7:$Q$24,0)) -> 45 | T17: Un gorille dans la brume | U17: Américain nightmire
A18: Thelma et Louise | B18: =E18*6+F18*4+G18*3+H18*2+I18 -> 4 | C18: =INDEX($E$4:$I$4,1,MATCH(1,$E18:$I18,0)) -> 4 | D18: =MAX($J18:$N18) -> 0 | E18: =COUNTIF(OFFSET(Sheet1!$C$3:$C$3,0,Feuil1!E$5-1,COUNTA(Sheet1!$A:$A)-2),Feuil1!$A18) -> 0 | F18: =COUNTIF(OFFSET(Sheet1!$C$3:$C$3,0,Feuil1!F$5-1,COUNTA(Sheet1!$A:$A)-2),Feuil1!$A18) -> 1 | G18: =COUNTIF(OFFSET(Sheet1!$C$3:$C$3,0,Feuil1!G$5-1,COUNTA(Sheet1!$A:$A)-2),Feuil1!$A18) -> 0 | H18: =COUNTIF(OFFSET(Sheet1!$C$3:$C$3,0,Feuil1!H$5-1,COUNTA(Sheet1!$A:$A)-2),Feuil1!$A18) -> 0 | I18: =COUNTIF(OFFSET(Sheet1!$C$3:$C$3,0,Feuil1!I$5-1,COUNTA(Sheet1!$A:$A)-2),Feuil1!$A18) -> 0 | J18: =IFERROR(VALUE(INDEX(Sheet1!$B$3:$B$8,MATCH($A18,OFFSET(Sheet1!$C$3:$C$3,0,Feuil1!J$5-1,COUNTA(Sheet1!$A:$A)-2),0))),0) -> 0 | K18: =IFERROR(VALUE(INDEX(Sheet1!$B$3:$B$8,MATCH($A18,OFFSET(Sheet1!$C$3:$C$3,0,Feuil1!K$5-1,COUNTA(Sheet1!$A:$A)-2),0))),0) -> 0 | L18: =IFERROR(VALUE(INDEX(Sheet1!$B$3:$B$8,MATCH($A18,OFFSET(Sheet1!$C$3:$C$3,0,Feuil1!L$5-1,COUNTA(Sheet1!$A:$A)-2),0))),0) -> 0 | M18: =IFERROR(VALUE(INDEX(Sheet1!$B$3:$B$8,MATCH($A18,OFFSET(Sheet1!$C$3:$C$3,0,Feuil1!M$5-1,COUNTA(Sheet1!$A:$A)-2),0))),0) -> 0 | N18: =IFERROR(VALUE(INDEX(Sheet1!$B$3:$B$8,MATCH($A18,OFFSET(Sheet1!$C$3:$C$3,0,Feuil1!N$5-1,COUNTA(Sheet1!$A:$A)-2),0))),0) -> 0 | P18: =IFERROR(VALUE(INDEX(OFFSET(Sheet1!$B:$B,2,0,COUNTA(Sheet1!$B:$B)-2,1),ROW()-ROW(Feuil1!$6:$6))),0) -> 45 | Q18: =IFERROR(RANK($P18,OFFSET(Feuil1!$P$7,0,0,COUNTIF(Feuil1!$P$7:$P$24,">0")),1),"") -> 11 | R18: =IF($Q18="","",R17+1) -> 12 | S18: =INDEX($P$7:$P$24,MATCH($R18,$Q$7:$Q$24,0)) -> #N/A | T18: Danse avec les loups | U18: Seven | V18: Contagion | W18: Basic instinct | X18: Missisipi burning
A19: Santa et cie | B19: =E19*6+F19*4+G19*3+H19*2+I19 -> 4 | C19: =INDEX($E$4:$I$4,1,MATCH(1,$E19:$I19,0)) -> 4 | D19: =MAX($J19:$N19) -> 0 | E19: =COUNTIF(OFFSET(Sheet1!$C$3:$C$3,0,Feuil1!E$5-1,COUNTA(Sheet1!$A:$A)-2),Feuil1!$A19) -> 0 | F19: =COUNTIF(OFFSET(Sheet1!$C$3:$C$3,0,Feuil1!F$5-1,COUNTA(Sheet1!$A:$A)-2),Feuil1!$A19) -> 1 | G19: =COUNTIF(OFFSET(Sheet1!$C$3:$C$3,0,Feuil1!G$5-1,COUNTA(Sheet1!$A:$A)-2),Feuil1!$A19) -> 0 | H19: =COUNTIF(OFFSET(Sheet1!$C$3:$C$3,0,Feuil1!H$5-1,COUNTA(Sheet1!$A:$A)-2),Feuil1!$A19) -> 0 | I19: =COUNTIF(OFFSET(Sheet1!$C$3:$C$3,0,Feuil1!I$5-1,COUNTA(Sheet1!$A:$A)-2),Feuil1!$A19) -> 0 | J19: =IFERROR(VALUE(INDEX(Sheet1!$B$3:$B$8,MATCH($A19,OFFSET(Sheet1!$C$3:$C$3,0,Feuil1!J$5-1,COUNTA(Sheet1!$A:$A)-2),0))),0) -> 0 | K19: =IFERROR(VALUE(INDEX(Sheet1!$B$3:$B$8,MATCH($A19,OFFSET(Sheet1!$C$3:$C$3,0,Feuil1!K$5-1,COUNTA(Sheet1!$A:$A)-2),0))),0) -> 0 | L19: =IFERROR(VALUE(INDEX(Sheet1!$B$3:$B$8,MATCH($A19,OFFSET(Sheet1!$C$3:$C$3,0,Feuil1!L$5-1,COUNTA(Sheet1!$A:$A)-2),0))),0) -> 0 | M19: =IFERROR(VALUE(INDEX(Sheet1!$B$3:$B$8,MATCH($A19,OFFSET(Sheet1!$C$3:$C$3,0,Feuil1!M$5-1,COUNTA(Sheet1!$A:$A)-2),0))),0) -> 0 | N19: =IFERROR(VALUE(INDEX(Sheet1!$B$3:$B$8,MATCH($A19,OFFSET(Sheet1!$C$3:$C$3,0,Feuil1!N$5-1,COUNTA(Sheet1!$A:$A)-2),0))),0) -> 0 | P19: =IFERROR(VALUE(INDEX(OFFSET(Sheet1!$B:$B,2,0,COUNTA(Sheet1!$B:$B)-2,1),ROW()-ROW(Feuil1!$6:$6))),0) -> 45 | Q19: =IFERROR(RANK($P19,OFFSET(Feuil1!$P$7,0,0,COUNTIF(Feuil1!$P$7:$P$24,">0")),1),"") -> 11 | R19: =IF($Q19="","",R18+1) -> 13 | S19: =INDEX($P$7:$P$24,MATCH($R19,$Q$7:$Q$24,0)) -> #N/A | T19: le grand bleu | U19: titanic | V19: l homme qui murmurait à l oreille des chevaux | W19: les petits mouchoirs | X19: pretty woman
A20: Les affranchis | B20: =E20*6+F20*4+G20*3+H20*2+I20 -> 4 | C20: =INDEX($E$4:$I$4,1,MATCH(1,$E20:$I20,0)) -> 4 | D20: =MAX($J20:$N20) -> 0 | E20: =COUNTIF(OFFSET(Sheet1!$C$3:$C$3,0,Feuil1!E$5-1,COUNTA(Sheet1!$A:$A)-2),Feuil1!$A20) -> 0 | F20: =COUNTIF(OFFSET(Sheet1!$C$3:$C$3,0,Feuil1!F$5-1,COUNTA(Sheet1!$A:$A)-2),Feuil1!$A20) -> 1 | G20: =COUNTIF(OFFSET(Sheet1!$C$3:$C$3,0,Feuil1!G$5-1,COUNTA(Sheet1!$A:$A)-2),Feuil1!$A20) -> 0 | H20: =COUNTIF(OFFSET(Sheet1!$C$3:$C$3,0,Feuil1!H$5-1,COUNTA(Sheet1!$A:$A)-2),Feuil1!$A20) -> 0 | I20: =COUNTIF(OFFSET(Sheet1!$C$3:$C$3,0,Feuil1!I$5-1,COUNTA(Sheet1!$A:$A)-2),Feuil1!$A20) -> 0 | J20: =IFERROR(VALUE(INDEX(Sheet1!$B$3:$B$8,MATCH($A20,OFFSET(Sheet1!$C$3:$C$3,0,Feuil1!J$5-1,COUNTA(Sheet1!$A:$A)-2),0))),0) -> 0 | K20: =IFERROR(VALUE(INDEX(Sheet1!$B$3:$B$8,MATCH($A20,OFFSET(Sheet1!$C$3:$C$3,0,Feuil1!K$5-1,COUNTA(Sheet1!$A:$A)-2),0))),0) -> 0 | L20: =IFERROR(VALUE(INDEX(Sheet1!$B$3:$B$8,MATCH($A20,OFFSET(Sheet1!$C$3:$C$3,0,Feuil1!L$5-1,COUNTA(Sheet1!$A:$A)-2),0))),0) -> 0 | M20: =IFERROR(VALUE(INDEX(Sheet1!$B$3:$B$8,MATCH($A20,OFFSET(Sheet1!$C$3:$C$3,0,Feuil1!M$5-1,COUNTA(Sheet1!$A:$A)-2),0))),0) -> 0 | N20: =IFERROR(VALUE(INDEX(Sheet1!$B$3:$B$8,MATCH($A20,OFFSET(Sheet1!$C$3:$C$3,0,Feuil1!N$5-1,COUNTA(Sheet1!$A:$A)-2),0))),0) -> 0 | P20: =IFERROR(VALUE(INDEX(OFFSET(Sheet1!$B:$B,2,0,COUNTA(Sheet1!$B:$B)-2,1),ROW()-ROW(Feuil1!$6:$6))),0) -> 45 | Q20: =IFERROR(RANK($P20,OFFSET(Feuil1!$P$7,0,0,COUNTIF(Feuil1!$P$7:$P$24,">0")),1),"") -> 11 | R20: =IF($Q20="","",R19+1) -> 14 | S20: =INDEX($P$7:$P$24,MATCH($R20,$Q$7:$Q$24,0)) -> 46 | T20: La vie est belle | U20: Thelma et Louise | V20: winter bones | W20: pulp fiction | X20: seven
A21: Pupille | B21: =E21*6+F21*4+G21*3+H21*2+I21 -> 4 | C21: =INDEX($E$4:$I$4,1,MATCH(1,$E21:$I21,0)) -> 4 | D21: =MAX($J21:$N21) -> 0 | E21: =COUNTIF(OFFSET(Sheet1!$C$3:$C$3,0,Feuil1!E$5-1,COUNTA(Sheet1!$A:$A)-2),Feuil1!$A21) -> 0 | F21: =COUNTIF(OFFSET(Sheet1!$C$3:$C$3,0,Feuil1!F$5-1,COUNTA(Sheet1!$A:$A)-2),Feuil1!$A21) -> 1 | G21: =COUNTIF(OFFSET(Sheet1!$C$3:$C$3,0,Feuil1!G$5-1,COUNTA(Sheet1!$A:$A)-2),Feuil1!$A21) -> 0 | H21: =COUNTIF(OFFSET(Sheet1!$C$3:$C$3,0,Feuil1!H$5-1,COUNTA(Sheet1!$A:$A)-2),Feuil1!$A21) -> 0 | I21: =COUNTIF(OFFSET(Sheet1!$C$3:$C$3,0,Feuil1!I$5-1,COUNTA(Sheet1!$A:$A)-2),Feuil1!$A21) -> 0 | J21: =IFERROR(VALUE(INDEX(Sheet1!$B$3:$B$8,MATCH($A21,OFFSET(Sheet1!$C$3:$C$3,0,Feuil1!J$5-1,COUNTA(Sheet1!$A:$A)-2),0))),0) -> 0 | K21: =IFERROR(VALUE(INDEX(Sheet1!$B$3:$B$8,MATCH($A21,OFFSET(Sheet1!$C$3:$C$3,0,Feuil1!K$5-1,COUNTA(Sheet1!$A:$A)-2),0))),0) -> 0 | L21: =IFERROR(VALUE(INDEX(Sheet1!$B$3:$B$8,MATCH($A21,OFFSET(Sheet1!$C$3:$C$3,0,Feuil1!L$5-1,COUNTA(Sheet1!$A:$A)-2),0))),0) -> 0 | M21: =IFERROR(VALUE(INDEX(Sheet1!$B$3:$B$8,MATCH($A21,OFFSET(Sheet1!$C$3:$C$3,0,Feuil1!M$5-1,COUNTA(Sheet1!$A:$A)-2),0))),0) -> 0 | N21: =IFERROR(VALUE(INDEX(Sheet1!$B$3:$B$8,MATCH($A21,OFFSET(Sheet1!$C$3:$C$3,0,Feuil1!N$5-1,COUNTA(Sheet1!$A:$A)-2),0))),0) -> 0 | P21: =IFERROR(VALUE(INDEX(OFFSET(Sheet1!$B:$B,2,0,COUNTA(Sheet1!$B:$B)-2,1),ROW()-ROW(Feuil1!$6:$6))),0) -> 10 | Q21: =IFERROR(RANK($P21,OFFSET(Feuil1!$P$7,0,0,COUNTIF(Feuil1!$P$7:$P$24,">0")),1),"") -> 1 | R21: =IF($Q21="","",R20+1) -> 15 | S21: =INDEX($P$7:$P$24,MATCH($R21,$Q$7:$Q$24,0)) -> 47 | T21: Darkest minds | U21: Santa et cie | V21: Harry potter 3 | W21: Harry potter 4 | X21: Scooby doo et le monstre du lac
A22: La belle verte | B22: =E22*6+F22*4+G22*3+H22*2+I22 -> 4 | C22: =INDEX($E$4:$I$4,1,MATCH(1,$E22:$I22,0)) -> 4 | D22: =MAX($J22:$N22) -> 0 | E22: =COUNTIF(OFFSET(Sheet1!$C$3:$C$3,0,Feuil1!E$5-1,COUNTA(Sheet1!$A:$A)-2),Feuil1!$A22) -> 0 | F22: =COUNTIF(OFFSET(Sheet1!$C$3:$C$3,0,Feuil1!F$5-1,COUNTA(Sheet1!$A:$A)-2),Feuil1!$A22) -> 1 | G22: =COUNTIF(OFFSET(Sheet1!$C$3:$C$3,0,Feuil1!G$5-1,COUNTA(Sheet1!$A:$A)-2),Feuil1!$A22) -> 0 | H22: =COUNTIF(OFFSET(Sheet1!$C$3:$C$3,0,Feuil1!H$5-1,COUNTA(Sheet1!$A:$A)-2),Feuil1!$A22) -> 0 | I22: =COUNTIF(OFFSET(Sheet1!$C$3:$C$3,0,Feuil1!I$5-1,COUNTA(Sheet1!$A:$A)-2),Feuil1!$A22) -> 0 | J22: =IFERROR(VALUE(INDEX(Sheet1!$B$3:$B$8,MATCH($A22,OFFSET(Sheet1!$C$3:$C$3,0,Feuil1!J$5-1,COUNTA(Sheet1!$A:$A)-2),0))),0) -> 0 | K22: =IFERROR(VALUE(INDEX(Sheet1!$B$3:$B$8,MATCH($A22,OFFSET(Sheet1!$C$3:$C$3,0,Feuil1!K$5-1,COUNTA(Sheet1!$A:$A)-2),0))),0) -> 0 | L22: =IFERROR(VALUE(INDEX(Sheet1!$B$3:$B$8,MATCH($A22,OFFSET(Sheet1!$C$3:$C$3,0,Feuil1!L$5-1,COUNTA(Sheet1!$A:$A)-2),0))),0) -> 0 | M22: =IFERROR(VALUE(INDEX(Sheet1!$B$3:$B$8,MATCH($A22,OFFSET(Sheet1!$C$3:$C$3,0,Feuil1!M$5-1,COUNTA(Sheet1!$A:$A)-2),0))),0) -> 0 | N22: =IFERROR(VALUE(INDEX(Sheet1!$B$3:$B$8,MATCH($A22,OFFSET(Sheet1!$C$3:$C$3,0,Feuil1!N$5-1,COUNTA(Sheet1!$A:$A)-2),0))),0) -> 0 | P22: =IFERROR(VALUE(INDEX(OFFSET(Sheet1!$B:$B,2,0,COUNTA(Sheet1!$B:$B)-2,1),ROW()-ROW(Feuil1!$6:$6))),0) -> 46 | Q22: =IFERROR(RANK($P22,OFFSET(Feuil1!$P$7,0,0,COUNTIF(Feuil1!$P$7:$P$24,">0")),1),"") -> 14 | R22: =IF($Q22="","",R21+1) -> 16 | S22: =INDEX($P$7:$P$24,MATCH($R22,$Q$7:$Q$24,0)) -> 50 | T22: Starwars IV | U22: Les affranchis | V22: Retour vers le futur | W22: La folie des grandeurs | X22: Si Versailles m’était conté
A23: In the mood for love 2000 | B23: =E23*6+F23*4+G23*3+H23*2+I23 -> 4 | C23: =INDEX($E$4:$I$4,1,MATCH(1,$E23:$I23,0)) -> 4 | D23: =MAX($J23:$N23) -> 0 | E23: =COUNTIF(OFFSET(Sheet1!$C$3:$C$3,0,Feuil1!E$5-1,COUNTA(Sheet1!$A:$A)-2),Feuil1!$A23) -> 0 | F23: =COUNTIF(OFFSET(Sheet1!$C$3:$C$3,0,Feuil1!F$5-1,COUNTA(Sheet1!$A:$A)-2),Feuil1!$A23) -> 1 | G23: =COUNTIF(OFFSET(Sheet1!$C$3:$C$3,0,Feuil1!G$5-1,COUNTA(Sheet1!$A:$A)-2),Feuil1!$A23) -> 0 | H23: =COUNTIF(OFFSET(Sheet1!$C$3:$C$3,0,Feuil1!H$5-1,COUNTA(Sheet1!$A:$A)-2),Feuil1!$A23) -> 0 | I23: =COUNTIF(OFFSET(Sheet1!$C$3:$C$3,0,Feuil1!I$5-1,COUNTA(Sheet1!$A:$A)-2),Feuil1!$A23) -> 0 | J23: =IFERROR(VALUE(INDEX(Sheet1!$B$3:$B$8,MATCH($A23,OFFSET(Sheet1!$C$3:$C$3,0,Feuil1!J$5-1,COUNTA(Sheet1!$A:$A)-2),0))),0) -> 0 | K23: =IFERROR(VALUE(INDEX(Sheet1!$B$3:$B$8,MATCH($A23,OFFSET(Sheet1!$C$3:$C$3,0,Feuil1!K$5-1,COUNTA(Sheet1!$A:$A)-2),0))),0) -> 0 | L23: =IFERROR(VALUE(INDEX(Sheet1!$B$3:$B$8,MATCH($A23,OFFSET(Sheet1!$C$3:$C$3,0,Feuil1!L$5-1,COUNTA(Sheet1!$A:$A)-2),0))),0) -> 0 | M23: =IFERROR(VALUE(INDEX(Sheet1!$B$3:$B$8,MATCH($A23,OFFSET(Sheet1!$C$3:$C$3,0,Feuil1!M$5-1,COUNTA(Sheet1!$A:$A)-2),0))),0) -> 0 | N23: =IFERROR(VALUE(INDEX(Sheet1!$B$3:$B$8,MATCH($A23,OFFSET(Sheet1!$C$3:$C$3,0,Feuil1!N$5-1,COUNTA(Sheet1!$A:$A)-2),0))),0) -> 0 | P23: =IFERROR(VALUE(INDEX(OFFSET(Sheet1!$B:$B,2,0,COUNTA(Sheet1!$B:$B)-2,1),ROW()-ROW(Feuil1!$6:$6))),0) -> 32 | Q23: =IFERROR(RANK($P23,OFFSET(Feuil1!$P$7,0,0,COUNTIF(Feuil1!$P$7:$P$24,">0")),1),"") -> 6 | R23: =IF($Q23="","",R22+1) -> 17 | S23: =INDEX($P$7:$P$24,MATCH($R23,$Q$7:$Q$24,0)) -> 61 | T23: Ne t’inquietes Pas je vais bien | U23: Pupille
A24: Edmond | B24: =E24*6+F24*4+G24*3+H24*2+I24 -> 4 | C24: =INDEX($E$4:$I$4,1,MATCH(1,$E24:$I24,0)) -> 4 | D24: =MAX($J24:$N24) -> 0 | E24: =COUNTIF(OFFSET(Sheet1!$C$3:$C$3,0,Feuil1!E$5-1,COUNTA(Sheet1!$A:$A)-2),Feuil1!$A24) -> 0 | F24: =COUNTIF(OFFSET(Sheet1!$C$3:$C$3,0,Feuil1!F$5-1,COUNTA(Sheet1!$A:$A)-2),Feuil1!$A24) -> 1 | G24: =COUNTIF(OFFSET(Sheet1!$C$3:$C$3,0,Feuil1!G$5-1,COUNTA(Sheet1!$A:$A)-2),Feuil1!$A24) -> 0 | H24: =COUNTIF(OFFSET(Sheet1!$C$3:$C$3,0,Feuil1!H$5-1,COUNTA(Sheet1!$A:$A)-2),Feuil1!$A24) -> 0 | I24: =COUNTIF(OFFSET(Sheet1!$C$3:$C$3,0,Feuil1!I$5-1,COUNTA(Sheet1!$A:$A)-2),Feuil1!$A24) -> 0 | J24: =IFERROR(VALUE(INDEX(Sheet1!$B$3:$B$8,MATCH($A24,OFFSET(Sheet1!$C$3:$C$3,0,Feuil1!J$5-1,COUNTA(Sheet1!$A:$A)-2),0))),0) -> 0 | K24: =IFERROR(VALUE(INDEX(Sheet1!$B$3:$B$8,MATCH($A24,OFFSET(Sheet1!$C$3:$C$3,0,Feuil1!K$5-1,COUNTA(Sheet1!$A:$A)-2),0))),0) -> 0 | L24: =IFERROR(VALUE(INDEX(Sheet1!$B$3:$B$8,MATCH($A24,OFFSET(Sheet1!$C$3:$C$3,0,Feuil1!L$5-1,COUNTA(Sheet1!$A:$A)-2),0))),0) -> 0 | M24: =IFERROR(VALUE(INDEX(Sheet1!$B$3:$B$8,MATCH($A24,OFFSET(Sheet1!$C$3:$C$3,0,Feuil1!M$5-1,COUNTA(Sheet1!$A:$A)-2),0))),0) -> 0 | N24: =IFERROR(VALUE(INDEX(Sheet1!$B$3:$B$8,MATCH($A24,OFFSET(Sheet1!$C$3:$C$3,0,Feuil1!N$5-1,COUNTA(Sheet1!$A:$A)-2),0))),0) -> 0 | P24: =IFERROR(VALUE(INDEX(OFFSET(Sheet1!$B:$B,2,0,COUNTA(Sheet1!$B:$B)-2,1),ROW()-ROW(Feuil1!$6:$6))),0) -> 38 | Q24: =IFERROR(RANK($P24,OFFSET(Feuil1!$P$7,0,0,COUNTIF(Feuil1!$P$7:$P$24,">0")),1),"") -> 8 | R24: =IF($Q24="","",R23+1) -> 18 | S24: =INDEX($P$7:$P$24,MATCH($R24,$Q$7:$Q$24,0)) -> 65 | T24: Empire records | U24: La belle verte | V24: Le grand bleu | W24: La vie est un long fleuve tranquille | X24: Amélie Poulain
A25: S’est sidéré Story | B25: =E25*6+F25*4+G25*3+H25*2+I25 -> 4 | C25: =INDEX($E$4:$I$4,1,MATCH(1,$E25:$I25,0)) -> 4 | D25: =MAX($J25:$N25) -> 0 | E25: =COUNTIF(OFFSET(Sheet1!$C$3:$C$3,0,Feuil1!E$5-1,COUNTA(Sheet1!$A:$A)-2),Feuil1!$A25) -> 0 | F25: =COUNTIF(OFFSET(Sheet1!$C$3:$C$3,0,Feuil1!F$5-1,COUNTA(Sheet1!$A:$A)-2),Feuil1!$A25) -> 1 | G25: =COUNTIF(OFFSET(Sheet1!$C$3:$C$3,0,Feuil1!G$5-1,COUNTA(Sheet1!$A:$A)-2),Feuil1!$A25) -> 0 | H25: =COUNTIF(OFFSET(Sheet1!$C$3:$C$3,0,Feuil1!H$5-1,COUNTA(Sheet1!$A:$A)-2),Feuil1!$A25) -> 0 | I25: =COUNTIF(OFFSET(Sheet1!$C$3:$C$3,0,Feuil1!I$5-1,COUNTA(Sheet1!$A:$A)-2),Feuil1!$A25) -> 0 | J25: =IFERROR(VALUE(INDEX(Sheet1!$B$3:$B$8,MATCH($A25,OFFSET(Sheet1!$C$3:$C$3,0,Feuil1!J$5-1,COUNTA(Sheet1!$A:$A)-2),0))),0) -> 0 | K25: =IFERROR(VALUE(INDEX(Sheet1!$B$3:$B$8,MATCH($A25,OFFSET(Sheet1!$C$3:$C$3,0,Feuil1!K$5-1,COUNTA(Sheet1!$A:$A)-2),0))),0) -> 0 | L25: =IFERROR(VALUE(INDEX(Sheet1!$B$3:$B$8,MATCH($A25,OFFSET(Sheet1!$C$3:$C$3,0,Feuil1!L$5-1,COUNTA(Sheet1!$A:$A)-2),0))),0) -> 0 | M25: =IFERROR(VALUE(INDEX(Sheet1!$B$3:$B$8,MATCH($A25,OFFSET(Sheet1!$C$3:$C$3,0,Feuil1!M$5-1,COUNTA(Sheet1!$A:$A)-2),0))),0) -> 0 | N25: =IFERROR(VALUE(INDEX(Sheet1!$B$3:$B$8,MATCH($A25,OFFSET(Sheet1!$C$3:$C$3,0,Feuil1!N$5-1,COUNTA(Sheet1!$A:$A)-2),0))),0) -> 0 | P25: =IFERROR(VALUE(INDEX(OFFSET(Sheet1!$B:$B,2,0,COUNTA(Sheet1!$B:$B)-2,1),ROW()-ROW(Feuil1!$6:$6))),0) -> 61 | Q25: =IFERROR(RANK($P25,OFFSET(Feuil1!$P$7,0,0,COUNTIF(Feuil1!$P$7:$P$24,">0")),1),"") -> 17 | R25: =IF($Q25="","",R24+1) -> 19 | S25: =INDEX($P$7:$P$24,MATCH($R25,$Q$7:$Q$24,0)) -> #N/A | T25: Les délices de tokyo | U25: Mommy | V25: Le retour de mary poppins | W25: La saveur des ramens | X25: Mirai ma petite soeur
A26: Love actually 2 | B26: =E26*6+F26*4+G26*3+H26*2+I26 -> 4 | C26: =INDEX($E$4:$I$4,1,MATCH(1,$E26:$I26,0)) -> 4 | D26: =MAX($J26:$N26) -> 0 | E26: =COUNTIF(OFFSET(Sheet1!$C$3:$C$3,0,Feuil1!E$5-1,COUNTA(Sheet1!$A:$A)-2),Feuil1!$A26) -> 0 | F26: =COUNTIF(OFFSET(Sheet1!$C$3:$C$3,0,Feuil1!F$5-1,COUNTA(Sheet1!$A:$A)-2),Feuil1!$A26) -> 1 | G26: =COUNTIF(OFFSET(Sheet1!$C$3:$C$3,0,Feuil1!G$5-1,COUNTA(Sheet1!$A:$A)-2),Feuil1!$A26) -> 0 | H26: =COUNTIF(OFFSET(Sheet1!$C$3:$C$3,0,Feuil1!H$5-1,COUNTA(Sheet1!$A:$A)-2),Feuil1!$A26) -> 0 | I26: =COUNTIF(OFFSET(Sheet1!$C$3:$C$3,0,Feuil1!I$5-1,COUNTA(Sheet1!$A:$A)-2),Feuil1!$A26) -> 0 | J26: =IFERROR(VALUE(INDEX(Sheet1!$B$3:$B$8,MATCH($A26,OFFSET(Sheet1!$C$3:$C$3,0,Feuil1!J$5-1,COUNTA(Sheet1!$A:$A)-2),0))),0) -> 0 | K26: =IFERROR(VALUE(INDEX(Sheet1!$B$3:$B$8,MATCH($A26,OFFSET(Sheet1!$C$3:$C$3,0,Feuil1!K$5-1,COUNTA(Sheet1!$A:$A)-2),0))),0) -> 0 | L26: =IFERROR(VALUE(INDEX(Sheet1!$B$3:$B$8,MATCH($A26,OFFSET(Sheet1!$C$3:$C$3,0,Feuil1!L$5-1,COUNTA(Sheet1!$A:$A)-2),0))),0) -> 0 | M26: =IFERROR(VALUE(INDEX(Sheet1!$B$3:$B$8,MATCH($A26,OFFSET(Sheet1!$C$3:$C$3,0,Feuil1!M$5-1,COUNTA(Sheet1!$A:$A)-2),0))),0) -> 0 | N26: =IFERROR(VALUE(INDEX(Sheet1!$B$3:$B$8,MATCH($A26,OFFSET(Sheet1!$C$3:$C$3,0,Feuil1!N$5-1,COUNTA(Sheet1!$A:$A)-2),0))),0) -> 0 | P26: =IFERROR(VALUE(INDEX(OFFSET(Sheet1!$B:$B,2,0,COUNTA(Sheet1!$B:$B)-2,1),ROW()-ROW(Feuil1!$6:$6))),0) -> 64 | Q26: =IFERROR(RANK($P26,OFFSET(Feuil1!$P$7,0,0,COUNTIF(Feuil1!$P$7:$P$24,">0")),1),"") | R26: =IF($Q26="","",R25+1) | S26: =INDEX($P$7:$P$24,MATCH($R26,$Q$7:$Q$24,0)) -> #N/A | T26: Il Postino ( Le facteur avec Philippe Noiret ) 1994 | U26: In the mood for love 2000 | V26: Bombon el perro 2005 | W26: Blancanieves 2012 | X26: Speedy 1928 de Harold Lloyd
A27: Incendies | B27: =E27*6+F27*4+G27*3+H27*2+I27 -> 4 | C27: =INDEX($E$4:$I$4,1,MATCH(1,$E27:$I27,0)) -> 4 | D27: =MAX($J27:$N27) -> 0 | E27: =COUNTIF(OFFSET(Sheet1!$C$3:$C$3,0,Feuil1!E$5-1,COUNTA(Sheet1!$A:$A)-2),Feuil1!$A27) -> 0 | F27: =COUNTIF(OFFSET(Sheet1!$C$3:$C$3,0,Feuil1!F$5-1,COUNTA(Sheet1!$A:$A)-2),Feuil1!$A27) -> 1 | G27: =COUNTIF(OFFSET(Sheet1!$C$3:$C$3,0,Feuil1!G$5-1,COUNTA(Sheet1!$A:$A)-2),Feuil1!$A27) -> 0 | H27: =COUNTIF(OFFSET(Sheet1!$C$3:$C$3,0,Feuil1!H$5-1,COUNTA(Sheet1!$A:$A)-2),Feuil1!$A27) -> 0 | I27: =COUNTIF(OFFSET(Sheet1!$C$3:$C$3,0,Feuil1!I$5-1,COUNTA(Sheet1!$A:$A)-2),Feuil1!$A27) -> 0 | J27: =IFERROR(VALUE(INDEX(Sheet1!$B$3:$B$8,MATCH($A27,OFFSET(Sheet1!$C$3:$C$3,0,Feuil1!J$5-1,COUNTA(Sheet1!$A:$A)-2),0))),0) -> 0 | K27: =IFERROR(VALUE(INDEX(Sheet1!$B$3:$B$8,MATCH($A27,OFFSET(Sheet1!$C$3:$C$3,0,Feuil1!K$5-1,COUNTA(Sheet1!$A:$A)-2),0))),0) -> 0 | L27: =IFERROR(VALUE(INDEX(Sheet1!$B$3:$B$8,MATCH($A27,OFFSET(Sheet1!$C$3:$C$3,0,Feuil1!L$5-1,COUNTA(Sheet1!$A:$A)-2),0))),0) -> 0 | M27: =IFERROR(VALUE(INDEX(Sheet1!$B$3:$B$8,MATCH($A27,OFFSET(Sheet1!$C$3:$C$3,0,Feuil1!M$5-1,COUNTA(Sheet1!$A:$A)-2),0))),0) -> 0 | N27: =IFERROR(VALUE(INDEX(Sheet1!$B$3:$B$8,MATCH($A27,OFFSET(Sheet1!$C$3:$C$3,0,Feuil1!N$5-1,COUNTA(Sheet1!$A:$A)-2),0))),0) -> 0 | P27: =IFERROR(VALUE(INDEX(OFFSET(Sheet1!$B:$B,2,0,COUNTA(Sheet1!$B:$B)-2,1),ROW()-ROW(Feuil1!$6:$6))),0) -> 74 | Q27: =IFERROR(RANK($P27,OFFSET(Feuil1!$P$7,0,0,COUNTIF(Feuil1!$P$7:$P$24,">0")),1),"") | R27: =IF($Q27="","",R26+1) | S27: =INDEX($P$7:$P$24,MATCH($R27,$Q$7:$Q$24,0)) -> #N/A | T27: amanda | U27: Edmond | V27: les invisibles | W27: facteur cheval
A28: Le brio | B28: =E28*6+F28*4+G28*3+H28*2+I28 -> 4 | C28: =INDEX($E$4:$I$4,1,MATCH(1,$E28:$I28,0)) -> 4 | D28: =MAX($J28:$N28) -> 0 | E28: =COUNTIF(OFFSET(Sheet1!$C$3:$C$3,0,Feuil1!E$5-1,COUNTA(Sheet1!$A:$A)-2),Feuil1!$A28) -> 0 | F28: =COUNTIF(OFFSET(Sheet1!$C$3:$C$3,0,Feuil1!F$5-1,COUNTA(Sheet1!$A:$A)-2),Feuil1!$A28) -> 1 | G28: =COUNTIF(OFFSET(Sheet1!$C$3:$C$3,0,Feuil1!G$5-1,COUNTA(Sheet1!$A:$A)-2),Feuil1!$A28) -> 0 | H28: =COUNTIF(OFFSET(Sheet1!$C$3:$C$3,0,Feuil1!H$5-1,COUNTA(Sheet1!$A:$A)-2),Feuil1!$A28) -> 0 | I28: =COUNTIF(OFFSET(Sheet1!$C$3:$C$3,0,Feuil1!I$5-1,COUNTA(Sheet1!$A:$A)-2),Feuil1!$A28) -> 0 | J28: =IFERROR(VALUE(INDEX(Sheet1!$B$3:$B$8,MATCH($A28,OFFSET(Sheet1!$C$3:$C$3,0,Feuil1!J$5-1,COUNTA(Sheet1!$A:$A)-2),0))),0) -> 0 | K28: =IFERROR(VALUE(INDEX(Sheet1!$B$3:$B$8,MATCH($A28,OFFSET(Sheet1!$C$3:$C$3,0,Feuil1!K$5-1,COUNTA(Sheet1!$A:$A)-2),0))),0) -> 0 | L28: =IFERROR(VALUE(INDEX(Sheet1!$B$3:$B$8,MATCH($A28,OFFSET(Sheet1!$C$3:$C$3,0,Feuil1!L$5-1,COUNTA(Sheet1!$A:$A)-2),0))),0) -> 0 | M28: =IFERROR(VALUE(INDEX(Sheet1!$B$3:$B$8,MATCH($A28,OFFSET(Sheet1!$C$3:$C$3,0,Feuil1!M$5-1,COUNTA(Sheet1!$A:$A)-2),0))),0) -> 0 | N28: =IFERROR(VALUE(INDEX(Sheet1!$B$3:$B$8,MATCH($A28,OFFSET(Sheet1!$C$3:$C$3,0,Feuil1!N$5-1,COUNTA(Sheet1!$A:$A)-2),0))),0) -> 0 | P28: =IFERROR(VALUE(INDEX(OFFSET(Sheet1!$B:$B,2,0,COUNTA(Sheet1!$B:$B)-2,1),ROW()-ROW(Feuil1!$6:$6))),0) -> 79 | Q28: =IFERROR(RANK($P28,OFFSET(Feuil1!$P$7,0,0,COUNTIF(Feuil1!$P$7:$P$24,">0")),1),"") | R28: =IF($Q28="","",R27+1) | S28: =INDEX($P$7:$P$24,MATCH($R28,$Q$7:$Q$24,0)) -> #N/A | T28: Docteur Jivago | U28: S’est sidéré Story | V28: Oit offre Africa | W28: La couleur des sentiments | X28: Bienvenue chez les tchi
A29: Le cercle des poètes disparus | B29: =E29*6+F29*4+G29*3+H29*2+I29 -> 8 | C29: =INDEX($E$4:$I$4,1,MATCH(1,$E29:$I29,0)) -> #N/A | D29: =MAX($J29:$N29) -> 0 | E29: =COUNTIF(OFFSET(Sheet1!$C$3:$C$3,0,Feuil1!E$5-1,COUNTA(Sheet1!$A:$A)-2),Feuil1!$A29) -> 0 | F29: =COUNTIF(OFFSET(Sheet1!$C$3:$C$3,0,Feuil1!F$5-1,COUNTA(Sheet1!$A:$A)-2),Feuil1!$A29) -> 2 | G29: =COUNTIF(OFFSET(Sheet1!$C$3:$C$3,0,Feuil1!G$5-1,COUNTA(Sheet1!$A:$A)-2),Feuil1!$A29) -> 0 | H29: =COUNTIF(OFFSET(Sheet1!$C$3:$C$3,0,Feuil1!H$5-1,COUNTA(Sheet1!$A:$A)-2),Feuil1!$A29) -> 0 | I29: =COUNTIF(OFFSET(Sheet1!$C$3:$C$3,0,Feuil1!I$5-1,COUNTA(Sheet1!$A:$A)-2),Feuil1!$A29) -> 0 | J29: =IFERROR(VALUE(INDEX(Sheet1!$B$3:$B$8,MATCH($A29,OFFSET(Sheet1!$C$3:$C$3,0,Feuil1!J$5-1,COUNTA(Sheet1!$A:$A)-2),0))),0) -> 0 | K29: =IFERROR(VALUE(INDEX(Sheet1!$B$3:$B$8,MATCH($A29,OFFSET(Sheet1!$C$3:$C$3,0,Feuil1!K$5-1,COUNTA(Sheet1!$A:$A)-2),0))),0) -> 0 | L29: =IFERROR(VALUE(INDEX(Sheet1!$B$3:$B$8,MATCH($A29,OFFSET(Sheet1!$C$3:$C$3,0,Feuil1!L$5-1,COUNTA(Sheet1!$A:$A)-2),0))),0) -> 0 | M29: =IFERROR(VALUE(INDEX(Sheet1!$B$3:$B$8,MATCH($A29,OFFSET(Sheet1!$C$3:$C$3,0,Feuil1!M$5-1,COUNTA(Sheet1!$A:$A)-2),0))),0) -> 0 | N29: =IFERROR(VALUE(INDEX(Sheet1!$B$3:$B$8,MATCH($A29,OFFSET(Sheet1!$C$3:$C$3,0,Feuil1!N$5-1,COUNTA(Sheet1!$A:$A)-2),0))),0) -> 0 | P29: =IFERROR(VALUE(INDEX(OFFSET(Sheet1!$B:$B,2,0,COUNTA(Sheet1!$B:$B)-2,1),ROW()-ROW(Feuil1!$6:$6))),0) -> 54 | Q29: =IFERROR(RANK($P29,OFFSET(Feuil1!$P$7,0,0,COUNTIF(Feuil1!$P$7:$P$24,">0")),1),"") | R29: =IF($Q29="","",R28+1) | S29: =INDEX($P$7:$P$24,MATCH($R29,$Q$7:$Q$24,0)) -> #N/A | T29: Le patient anglais | U29: Mommy | V29: A star is born | W29: Partir | X29: Greystoke la légende de Tarzan
A30: La liste de schindler | B30: =E30*6+F30*4+G30*3+H30*2+I30 -> 4 | C30: =INDEX($E$4:$I$4,1,MATCH(1,$E30:$I30,0)) -> 4 | D30: =MAX($J30:$N30) -> 0 | E30: =COUNTIF(OFFSET(Sheet1!$C$3:$C$3,0,Feuil1!E$5-1,COUNTA(Sheet1!$A:$A)-2),Feuil1!$A30) -> 0 | F30: =COUNTIF(OFFSET(Sheet1!$C$3:$C$3,0,Feuil1!F$5-1,COUNTA(Sheet1!$A:$A)-2),Feuil1!$A30) -> 1 | G30: =COUNTIF(OFFSET(Sheet1!$C$3:$C$3,0,Feuil1!G$5-1,COUNTA(Sheet1!$A:$A)-2),Feuil1!$A30) -> 0 | H30: =COUNTIF(OFFSET(Sheet1!$C$3:$C$3,0,Feuil1!H$5-1,COUNTA(Sheet1!$A:$A)-2),Feuil1!$A30) -> 0 | I30: =COUNTIF(OFFSET(Sheet1!$C$3:$C$3,0,Feuil1!I$5-1,COUNTA(Sheet1!$A:$A)-2),Feuil1!$A30) -> 0 | J30: =IFERROR(VALUE(INDEX(Sheet1!$B$3:$B$8,MATCH($A30,OFFSET(Sheet1!$C$3:$C$3,0,Feuil1!J$5-1,COUNTA(Sheet1!$A:$A)-2),0))),0) -> 0 | K30: =IFERROR(VALUE(INDEX(Sheet1!$B$3:$B$8,MATCH($A30,OFFSET(Sheet1!$C$3:$C$3,0,Feuil1!K$5-1,COUNTA(Sheet1!$A:$A)-2),0))),0) -> 0 | L30: =IFERROR(VALUE(INDEX(Sheet1!$B$3:$B$8,MATCH($A30,OFFSET(Sheet1!$C$3:$C$3,0,Feuil1!L$5-1,COUNTA(Sheet1!$A:$A)-2),0))),0) -> 0 | M30: =IFERROR(VALUE(INDEX(Sheet1!$B$3:$B$8,MATCH($A30,OFFSET(Sheet1!$C$3:$C$3,0,Feuil1!M$5-1,COUNTA(Sheet1!$A:$A)-2),0))),0) -> 0 | N30: =IFERROR(VALUE(INDEX(Sheet1!$B$3:$B$8,MATCH($A30,OFFSET(Sheet1!$C$3:$C$3,0,Feuil1!N$5-1,COUNTA(Sheet1!$A:$A)-2),0))),0) -> 0 | P30: =IFERROR(VALUE(INDEX(OFFSET(Sheet1!$B:$B,2,0,COUNTA(Sheet1!$B:$B)-2,1),ROW()-ROW(Feuil1!$6:$6))),0) -> 49 | Q30: =IFERROR(RANK($P30,OFFSET(Feuil1!$P$7,0,0,COUNTIF(Feuil1!$P$7:$P$24,">0")),1),"") | R30: =IF($Q30="","",R29+1) | S30: =INDEX($P$7:$P$24,MATCH($R30,$Q$7:$Q$24,0)) -> #N/A | T30: Bohemian rapsody | U30: Love actually 2 | V30: The hate u give | W30: Lestontons flingueurs | X30: Le grand bleu
A31: harry potter | B31: =E31*6+F31*4+G31*3+H31*2+I31 -> 4 | C31: =INDEX($E$4:$I$4,1,MATCH(1,$E31:$I31,0)) -> 4 | D31: =MAX($J31:$N31) -> 0 | E31: =COUNTIF(OFFSET(Sheet1!$C$3:$C$3,0,Feuil1!E$5-1,COUNTA(Sheet1!$A:$A)-2),Feuil1!$A31) -> 0 | F31: =COUNTIF(OFFSET(Sheet1!$C$3:$C$3,0,Feuil1!F$5-1,COUNTA(Sheet1!$A:$A)-2),Feuil1!$A31) -> 1 | G31: =COUNTIF(OFFSET(Sheet1!$C$3:$C$3,0,Feuil1!G$5-1,COUNTA(Sheet1!$A:$A)-2),Feuil1!$A31) -> 0 | H31: =COUNTIF(OFFSET(Sheet1!$C$3:$C$3,0,Feuil1!H$5-1,COUNTA(Sheet1!$A:$A)-2),Feuil1!$A31) -> 0 | I31: =COUNTIF(OFFSET(Sheet1!$C$3:$C$3,0,Feuil1!I$5-1,COUNTA(Sheet1!$A:$A)-2),Feuil1!$A31) -> 0 | J31: =IFERROR(VALUE(INDEX(Sheet1!$B$3:$B$8,MATCH($A31,OFFSET(Sheet1!$C$3:$C$3,0,Feuil1!J$5-1,COUNTA(Sheet1!$A:$A)-2),0))),0) -> 0 | K31: =IFERROR(VALUE(INDEX(Sheet1!$B$3:$B$8,MATCH($A31,OFFSET(Sheet1!$C$3:$C$3,0,Feuil1!K$5-1,COUNTA(Sheet1!$A:$A)-2),0))),0) -> 0 | L31: =IFERROR(VALUE(INDEX(Sheet1!$B$3:$B$8,MATCH($A31,OFFSET(Sheet1!$C$3:$C$3,0,Feuil1!L$5-1,COUNTA(Sheet1!$A:$A)-2),0))),0) -> 0 | M31: =IFERROR(VALUE(INDEX(Sheet1!$B$3:$B$8,MATCH($A31,OFFSET(Sheet1!$C$3:$C$3,0,Feuil1!M$5-1,COUNTA(Sheet1!$A:$A)-2),0))),0) -> 0 | N31: =IFERROR(VALUE(INDEX(Sheet1!$B$3:$B$8,MATCH($A31,OFFSET(Sheet1!$C$3:$C$3,0,Feuil1!N$5-1,COUNTA(Sheet1!$A:$A)-2),0))),0) -> 0 | P31: =IFERROR(VALUE(INDEX(OFFSET(Sheet1!$B:$B,2,0,COUNTA(Sheet1!$B:$B)-2,1),ROW()-ROW(Feuil1!$6:$6))),0) -> 61 | Q31: =IFERROR(RANK($P31,OFFSET(Feuil1!$P$7,0,0,COUNTIF(Feuil1!$P$7:$P$24,">0")),1),"") -> 17 | R31: =IF($Q31="","",R30+1) -> #VALUE! | S31: =INDEX($P$7:$P$24,MATCH($R31,$Q$7:$Q$24,0)) -> #VALUE! | T31: Hellzapoppin | U31: Incendies | V31: Il y a longtemps que je t'aime | W31: West side story | X31: Amadeus
A32: Dersou Ousala | B32: =E32*6+F32*4+G32*3+H32*2+I32 -> 4 | C32: =INDEX($E$4:$I$4,1,MATCH(1,$E32:$I32,0)) -> 4 | D32: =MAX($J32:$N32) -> 0 | E32: =COUNTIF(OFFSET(Sheet1!$C$3:$C$3,0,Feuil1!E$5-1,COUNTA(Sheet1!$A:$A)-2),Feuil1!$A32) -> 0 | F32: =COUNTIF(OFFSET(Sheet1!$C$3:$C$3,0,Feuil1!F$5-1,COUNTA(Sheet1!$A:$A)-2),Feuil1!$A32) -> 1 | G32: =COUNTIF(OFFSET(Sheet1!$C$3:$C$3,0,Feuil1!G$5-1,COUNTA(Sheet1!$A:$A)-2),Feuil1!$A32) -> 0 | H32: =COUNTIF(OFFSET(Sheet1!$C$3:$C$3,0,Feuil1!H$5-1,COUNTA(Sheet1!$A:$A)-2),Feuil1!$A32) -> 0 | I32: =COUNTIF(OFFSET(Sheet1!$C$3:$C$3,0,Feuil1!I$5-1,COUNTA(Sheet1!$A:$A)-2),Feuil1!$A32) -> 0 | J32: =IFERROR(VALUE(INDEX(Sheet1!$B$3:$B$8,MATCH($A32,OFFSET(Sheet1!$C$3:$C$3,0,Feuil1!J$5-1,COUNTA(Sheet1!$A:$A)-2),0))),0) -> 0 | K32: =IFERROR(VALUE(INDEX(Sheet1!$B$3:$B$8,MATCH($A32,OFFSET(Sheet1!$C$3:$C$3,0,Feuil1!K$5-1,COUNTA(Sheet1!$A:$A)-2),0))),0) -> 0 | L32: =IFERROR(VALUE(INDEX(Sheet1!$B$3:$B$8,MATCH($A32,OFFSET(Sheet1!$C$3:$C$3,0,Feuil1!L$5-1,COUNTA(Sheet1!$A:$A)-2),0))),0) -> 0 | M32: =IFERROR(VALUE(INDEX(Sheet1!$B$3:$B$8,MATCH($A32,OFFSET(Sheet1!$C$3:$C$3,0,Feuil1!M$5-1,COUNTA(Sheet1!$A:$A)-2),0))),0) -> 0 | N32: =IFERROR(VALUE(INDEX(Sheet1!$B$3:$B$8,MATCH($A32,OFFSET(Sheet1!$C$3:$C$3,0,Feuil1!N$5-1,COUNTA(Sheet1!$A:$A)-2),0))),0) -> 0 | P32: =IFERROR(VALUE(INDEX(OFFSET(Sheet1!$B:$B,2,0,COUNTA(Sheet1!$B:$B)-2,1),ROW()-ROW(Feuil1!$6:$6))),0) -> 40 | Q32: =IFERROR(RANK($P32,OFFSET(Feuil1!$P$7,0,0,COUNTIF(Feuil1!$P$7:$P$24,">0")),1),"") | R32: =IF($Q32="","",R31+1) | S32: =INDEX($P$7:$P$24,MATCH($R32,$Q$7:$Q$24,0)) -> #N/A | T32: Dirty dancing | U32: Le brio | V32: Pretty woman | W32: Working girl | X32: 3 billboards
A33: La route de madison | B33: =E33*6+F33*4+G33*3+H33*2+I33 -> 4 | C33: =INDEX($E$4:$I$4,1,MATCH(1,$E33:$I33,0)) -> 4 | D33: =MAX($J33:$N33) -> 0 | E33: =COUNTIF(OFFSET(Sheet1!$C$3:$C$3,0,Feuil1!E$5-1,COUNTA(Sheet1!$A:$A)-2),Feuil1!$A33) -> 0 | F33: =COUNTIF(OFFSET(Sheet1!$C$3:$C$3,0,Feuil1!F$5-1,COUNTA(Sheet1!$A:$A)-2),Feuil1!$A33) -> 1 | G33: =COUNTIF(OFFSET(Sheet1!$C$3:$C$3,0,Feuil1!G$5-1,COUNTA(Sheet1!$A:$A)-2),Feuil1!$A33) -> 0 | H33: =COUNTIF(OFFSET(Sheet1!$C$3:$C$3,0,Feuil1!H$5-1,COUNTA(Sheet1!$A:$A)-2),Feuil1!$A33) -> 0 | I33: =COUNTIF(OFFSET(Sheet1!$C$3:$C$3,0,Feuil1!I$5-1,COUNTA(Sheet1!$A:$A)-2),Feuil1!$A33) -> 0 | J33: =IFERROR(VALUE(INDEX(Sheet1!$B$3:$B$8,MATCH($A33,OFFSET(Sheet1!$C$3:$C$3,0,Feuil1!J$5-1,COUNTA(Sheet1!$A:$A)-2),0))),0) -> 0 | K33: =IFERROR(VALUE(INDEX(Sheet1!$B$3:$B$8,MATCH($A33,OFFSET(Sheet1!$C$3:$C$3,0,Feuil1!K$5-1,COUNTA(Sheet1!$A:$A)-2),0))),0) -> 0 | L33: =IFERROR(VALUE(INDEX(Sheet1!$B$3:$B$8,MATCH($A33,OFFSET(Sheet1!$C$3:$C$3,0,Feuil1!L$5-1,COUNTA(Sheet1!$A:$A)-2),0))),0) -> 0 | M33: =IFERROR(VALUE(INDEX(Sheet1!$B$3:$B$8,MATCH($A33,OFFSET(Sheet1!$C$3:$C$3,0,Feuil1!M$5-1,COUNTA(Sheet1!$A:$A)-2),0))),0) -> 0 | N33: =IFERROR(VALUE(INDEX(Sheet1!$B$3:$B$8,MATCH($A33,OFFSET(Sheet1!$C$3:$C$3,0,Feuil1!N$5-1,COUNTA(Sheet1!$A:$A)-2),0))),0) -> 0 | P33: =IFERROR(VALUE(INDEX(OFFSET(Sheet1!$B:$B,2,0,COUNTA(Sheet1!$B:$B)-2,1),ROW()-ROW(Feuil1!$6:$6))),0) -> 44 | Q33: =IFERROR(RANK($P33,OFFSET(Feuil1!$P$7,0,0,COUNTIF(Feuil1!$P$7:$P$24,">0")),1),"") -> 10 | R33: =IF($Q33="","",R32+1) -> #VALUE! | S33: =INDEX($P$7:$P$24,MATCH($R33,$Q$7:$Q$24,0)) -> #VALUE! | T33: Vol au dessus d'un nid de coucou | U33: Le cercle des poètes disparus | V33: Le grand bleu | W33: Kill bill | X33: Seven
A34: Intouchable | B34: =E34*6+F34*4+G34*3+H34*2+I34 -> 4 | C34: =INDEX($E$4:$I$4,1,MATCH(1,$E34:$I34,0)) -> 4 | D34: =MAX($J34:$N34) -> 0 | E34: =COUNTIF(OFFSET(Sheet1!$C$3:$C$3,0,Feuil1!E$5-1,COUNTA(Sheet1!$A:$A)-2),Feuil1!$A34) -> 0 | F34: =COUNTIF(OFFSET(Sheet1!$C$3:$C$3,0,Feuil1!F$5-1,COUNTA(Sheet1!$A:$A)-2),Feuil1!$A34) -> 1 | G34: =COUNTIF(OFFSET(Sheet1!$C$3:$C$3,0,Feuil1!G$5-1,COUNTA(Sheet1!$A:$A)-2),Feuil1!$A34) -> 0 | H34: =COUNTIF(OFFSET(Sheet1!$C$3:$C$3,0,Feuil1!H$5-1,COUNTA(Sheet1!$A:$A)-2),Feuil1!$A34) -> 0 | I34: =COUNTIF(OFFSET(Sheet1!$C$3:$C$3,0,Feuil1!I$5-1,COUNTA(Sheet1!$A:$A)-2),Feuil1!$A34) -> 0 | J34: =IFERROR(VALUE(INDEX(Sheet1!$B$3:$B$8,MATCH($A34,OFFSET(Sheet1!$C$3:$C$3,0,Feuil1!J$5-1,COUNTA(Sheet1!$A:$A)-2),0))),0) -> 0 | K34: =IFERROR(VALUE(INDEX(Sheet1!$B$3:$B$8,MATCH($A34,OFFSET(Sheet1!$C$3:$C$3,0,Feuil1!K$5-1,COUNTA(Sheet1!$A:$A)-2),0))),0) -> 0 | L34: =IFERROR(VALUE(INDEX(Sheet1!$B$3:$B$8,MATCH($A34,OFFSET(Sheet1!$C$3:$C$3,0,Feuil1!L$5-1,COUNTA(Sheet1!$A:$A)-2),0))),0) -> 0 | M34: =IFERROR(VALUE(INDEX(Sheet1!$B$3:$B$8,MATCH($A34,OFFSET(Sheet1!$C$3:$C$3,0,Feuil1!M$5-1,COUNTA(Sheet1!$A:$A)-2),0))),0) -> 0 | N34: =IFERROR(VALUE(INDEX(Sheet1!$B$3:$B$8,MATCH($A34,OFFSET(Sheet1!$C$3:$C$3,0,Feuil1!N$5-1,COUNTA(Sheet1!$A:$A)-2),0))),0) -> 0 | P34: =IFERROR(VALUE(INDEX(OFFSET(Sheet1!$B:$B,2,0,COUNTA(Sheet1!$B:$B)-2,1),ROW()-ROW(Feuil1!$6:$6))),0) -> 38 | Q34: =IFERROR(RANK($P34,OFFSET(Feuil1!$P$7,0,0,COUNTIF(Feuil1!$P$7:$P$24,">0")),1),"") -> 8 | R34: =IF($Q34="","",R33+1) -> #VALUE! | S34: =INDEX($P$7:$P$24,MATCH($R34,$Q$7:$Q$24,0)) -> #VALUE! | T34: Titanic | U34: La liste de schindler | V34: Adieu ma concubine | W34: Dirty dancing | X34: Forest Gump
A35: Gladiator | B35: =E35*6+F35*4+G35*3+H35*2+I35 -> 7 | C35: =INDEX($E$4:$I$4,1,MATCH(1,$E35:$I35,0)) -> 4 | D35: =MAX($J35:$N35) -> 0 | E35: =COUNTIF(OFFSET(Sheet1!$C$3:$C$3,0,Feuil1!E$5-1,COUNTA(Sheet1!$A:$A)-2),Feuil1!$A35) -> 0 | F35: =COUNTIF(OFFSET(Sheet1!$C$3:$C$3,0,Feuil1!F$5-1,COUNTA(Sheet1!$A:$A)-2),Feuil1!$A35) -> 1 | G35: =COUNTIF(OFFSET(Sheet1!$C$3:$C$3,0,Feuil1!G$5-1,COUNTA(Sheet1!$A:$A)-2),Feuil1!$A35) -> 0 | H35: =COUNTIF(OFFSET(Sheet1!$C$3:$C$3,0,Feuil1!H$5-1,COUNTA(Sheet1!$A:$A)-2),Feuil1!$A35) -> 1 | I35: =COUNTIF(OFFSET(Sheet1!$C$3:$C$3,0,Feuil1!I$5-1,COUNTA(Sheet1!$A:$A)-2),Feuil1!$A35) -> 1 | J35: =IFERROR(VALUE(INDEX(Sheet1!$B$3:$B$8,MATCH($A35,OFFSET(Sheet1!$C$3:$C$3,0,Feuil1!J$5-1,COUNTA(Sheet1!$A:$A)-2),0))),0) -> 0 | K35: =IFERROR(VALUE(INDEX(Sheet1!$B$3:$B$8,MATCH($A35,OFFSET(Sheet1!$C$3:$C$3,0,Feuil1!K$5-1,COUNTA(Sheet1!$A:$A)-2),0))),0) -> 0 | L35: =IFERROR(VALUE(INDEX(Sheet1!$B$3:$B$8,MATCH($A35,OFFSET(Sheet1!$C$3:$C$3,0,Feuil1!L$5-1,COUNTA(Sheet1!$A:$A)-2),0))),0) -> 0 | M35: =IFERROR(VALUE(INDEX(Sheet1!$B$3:$B$8,MATCH($A35,OFFSET(Sheet1!$C$3:$C$3,0,Feuil1!M$5-1,COUNTA(Sheet1!$A:$A)-2),0))),0) -> 0 | N35: =IFERROR(VALUE(INDEX(Sheet1!$B$3:$B$8,MATCH($A35,OFFSET(Sheet1!$C$3:$C$3,0,Feuil1!N$5-1,COUNTA(Sheet1!$A:$A)-2),0))),0) -> 0 | P35: =IFERROR(VALUE(INDEX(OFFSET(Sheet1!$B:$B,2,0,COUNTA(Sheet1!$B:$B)-2,1),ROW()-ROW(Feuil1!$6:$6))),0) -> 32 | Q35: =IFERROR(RANK($P35,OFFSET(Feuil1!$P$7,0,0,COUNTIF(Feuil1!$P$7:$P$24,">0")),1),"") -> 6 | R35: =IF($Q35="","",R34+1) -> #VALUE! | S35: =INDEX($P$7:$P$24,MATCH($R35,$Q$7:$Q$24,0)) -> #VALUE! | T35: le seigneur des anneaux | U35: harry potter | V35: 7 vies | W35: gladiator | X35: 60s chrono
A36: La nuit nous appartient | B36: =E36*6+F36*4+G36*3+H36*2+I36 -> 8 | C36: =INDEX($E$4:$I$4,1,MATCH(1,$E36:$I36,0)) -> #N/A | D36: =MAX($J36:$N36) -> 0 | E36: =COUNTIF(OFFSET(Sheet1!$C$3:$C$3,0,Feuil1!E$5-1,COUNTA(Sheet1!$A:$A)-2),Feuil1!$A36) -> 0 | F36: =COUNTIF(OFFSET(Sheet1!$C$3:$C$3,0,Feuil1!F$5-1,COUNTA(Sheet1!$A:$A)-2),Feuil1!$A36) -> 2 | G36: =COUNTIF(OFFSET(Sheet1!$C$3:$C$3,0,Feuil1!G$5-1,COUNTA(Sheet1!$A:$A)-2),Feuil1!$A36) -> 0 | H36: =COUNTIF(OFFSET(Sheet1!$C$3:$C$3,0,Feuil1!H$5-1,COUNTA(Sheet1!$A:$A)-2),Feuil1!$A36) -> 0 | I36: =COUNTIF(OFFSET(Sheet1!$C$3:$C$3,0,Feuil1!I$5-1,COUNTA(Sheet1!$A:$A)-2),Feuil1!$A36) -> 0 | J36: =IFERROR(VALUE(INDEX(Sheet1!$B$3:$B$8,MATCH($A36,OFFSET(Sheet1!$C$3:$C$3,0,Feuil1!J$5-1,COUNTA(Sheet1!$A:$A)-2),0))),0) -> 0 | K36: =IFERROR(VALUE(INDEX(Sheet1!$B$3:$B$8,MATCH($A36,OFFSET(Sheet1!$C$3:$C$3,0,Feuil1!K$5-1,COUNTA(Sheet1!$A:$A)-2),0))),0) -> 0 | L36: =IFERROR(VALUE(INDEX(Sheet1!$B$3:$B$8,MATCH($A36,OFFSET(Sheet1!$C$3:$C$3,0,Feuil1!L$5-1,COUNTA(Sheet1!$A:$A)-2),0))),0) -> 0 | M36: =IFERROR(VALUE(INDEX(Sheet1!$B$3:$B$8,MATCH($A36,OFFSET(Sheet1!$C$3:$C$3,0,Feuil1!M$5-1,COUNTA(Sheet1!$A:$A)-2),0))),0) -> 0 | N36: =IFERROR(VALUE(INDEX(Sheet1!$B$3:$B$8,MATCH($A36,OFFSET(Sheet1!$C$3:$C$3,0,Feuil1!N$5-1,COUNTA(Sheet1!$A:$A)-2),0))),0) -> 0 | P36: =IFERROR(VALUE(INDEX(OFFSET(Sheet1!$B:$B,2,0,COUNTA(Sheet1!$B:$B)-2,1),ROW()-ROW(Feuil1!$6:$6))),0) -> 64 | Q36: =IFERROR(RANK($P36,OFFSET(Feuil1!$P$7,0,0,COUNTIF(Feuil1!$P$7:$P$24,">0")),1),"") | R36: =IF($Q36="","",R35+1) | S36: =INDEX($P$7:$P$24,MATCH($R36,$Q$7:$Q$24,0)) -> #N/A | T36: Docteur Givago | U36: Dersou Ousala | V36: Laurence d’Arabie | W36: Les femmes du 4eme etage | X36: Le crabe tambour
A37: Harry Potter 7 partie 2 | B37: =E37*6+F37*4+G37*3+H37*2+I37 -> 4 | C37: =INDEX($E$4:$I$4,1,MATCH(1,$E37:$I37,0)) -> 4 | E37: =COUNTIF(OFFSET(Sheet1!$C$3:$C$3,0,Feuil1!E$5-1,COUNTA(Sheet1!$A:$A)-2),Feuil1!$A37) -> 0 | F37: =COUNTIF(OFFSET(Sheet1!$C$3:$C$3,0,Feuil1!F$5-1,COUNTA(Sheet1!$A:$A)-2),Feuil1!$A37) -> 1 | G37: =COUNTIF(OFFSET(Sheet1!$C$3:$C$3,0,Feuil1!G$5-1,COUNTA(Sheet1!$A:$A)-2),Feuil1!$A37) -> 0 | H37: =COUNTIF(OFFSET(Sheet1!$C$3:$C$3,0,Feuil1!H$5-1,COUNTA(Sheet1!$A:$A)-2),Feuil1!$A37) -> 0 | I37: =COUNTIF(OFFSET(Sheet1!$C$3:$C$3,0,Feuil1!I$5-1,COUNTA(Sheet1!$A:$A)-2),Feuil1!$A37) -> 0 | J37: =IFERROR(VALUE(INDEX(Sheet1!$B$3:$B$8,MATCH($A37,OFFSET(Sheet1!$C$3:$C$3,0,Feuil1!J$5-1,COUNTA(Sheet1!$A:$A)-2),0))),0) -> 0 | K37: =IFERROR(VALUE(INDEX(Sheet1!$B$3:$B$8,MATCH($A37,OFFSET(Sheet1!$C$3:$C$3,0,Feuil1!K$5-1,COUNTA(Sheet1!$A:$A)-2),0))),0) -> 0 | L37: =IFERROR(VALUE(INDEX(Sheet1!$B$3:$B$8,MATCH($A37,OFFSET(Sheet1!$C$3:$C$3,0,Feuil1!L$5-1,COUNTA(Sheet1!$A:$A)-2),0))),0) -> 0 | M37: =IFERROR(VALUE(INDEX(Sheet1!$B$3:$B$8,MATCH($A37,OFFSET(Sheet1!$C$3:$C$3,0,Feuil1!M$5-1,COUNTA(Sheet1!$A:$A)-2),0))),0) -> 0 | N37: =IFERROR(VALUE(INDEX(Sheet1!$B$3:$B$8,MATCH($A37,OFFSET(Sheet1!$C$3:$C$3,0,Feuil1!N$5-1,COUNTA(Sheet1!$A:$A)-2),0))),0) -> 0 | P37: =IFERROR(VALUE(INDEX(OFFSET(Sheet1!$B:$B,2,0,COUNTA(Sheet1!$B:$B)-2,1),ROW()-ROW(Feuil1!$6:$6))),0) -> 62 | Q37: =IFERROR(RANK($P37,OFFSET(Feuil1!$P$7,0,0,COUNTIF(Feuil1!$P$7:$P$24,">0")),1),"") | R37: =IF($Q37="","",R36+1) | S37: =INDEX($P$7:$P$24,MATCH($R37,$Q$7:$Q$24,0)) -> #N/A | T37: Out off africa | U37: La route de madison | V37: La femme du sixième etage | W37: Indochine
