Workbook
Name Animateur: '[1]semaine (2)'!#REF!
Name Animateur: #REF!
Name Animateur: #REF!
Name Animateurs: '[2]Feuil1 (2)'!$J$2:$J$7

Sheet Semaine 1 
A1: Date | B1: activités | C1: date
A2: =IF(Tableau2[[#This Row],[activités]]="",Tableau2[[#This Row],[date]],A1) -> 44123 | C2: 44123 | E2: Colonne1 | F2: Animateur 1 | G2: Animateur 2 | H2: Animateur 3 | I2: Animateur 4 | J2: date | K2: activités | L2: Colonne12
A3: =IF(Tableau2[[#This Row],[activités]]="",Tableau2[[#This Row],[date]],A2) -> 44123 | B3: A1 | C3: Accueil du matin | D3: 1 | E3: =IFERROR( L3 & " _ "&COUNTIF(L3:L33,L3),"") -> 19/10 - Accueil Matin _ 1 | F3: Benjamin | J3: =A3 -> 44123 | K3: =B3 -> A1 | L3: =TEXT(repartition_anim[[#This Row],[date]],"JJ/MM")&" - "&(VLOOKUP(K3,données[],2,FALSE)) -> 19/10 - Accueil Matin | M3: =VLOOKUP(K3,données[],2,FALSE) -> Accueil Matin
A4: =IF(Tableau2[[#This Row],[activités]]="",Tableau2[[#This Row],[date]],A3) -> 44123 | B4: B3 | C4: Salle de jeux parcours de billes / Kapla / jeux / dessin | D4: 3 | E4: =IFERROR( L4 & " _ "&COUNTIF(L4:L34,L4),"") -> 19/10 - activité matin _ 1 | F4: Benjamin | G4: Clara | H4: guillaume | J4: =A4 -> 44123 | K4: =B4 -> B3 | L4: =TEXT(repartition_anim[[#This Row],[date]],"JJ/MM")&" - "&(VLOOKUP(K4,données[],2,FALSE)) -> 19/10 - activité matin | M4: =VLOOKUP(K4,données[],2,FALSE) -> activité matin
A5: =IF(Tableau2[[#This Row],[activités]]="",Tableau2[[#This Row],[date]],A4) -> 44123 | B5: A2 | C5: Repas | D5: 2 | E5: =IFERROR( L5 & " _ "&COUNTIF(L5:L35,L5),"") -> 19/10 - repas _ 1 | F5: laëtitia | G5: Clara | J5: =A5 -> 44123 | K5: =B5 -> A2 | L5: =TEXT(repartition_anim[[#This Row],[date]],"JJ/MM")&" - "&(VLOOKUP(K5,données[],2,FALSE)) -> 19/10 - repas | M5: =VLOOKUP(K5,données[],2,FALSE) -> repas
A6: =IF(Tableau2[[#This Row],[activités]]="",Tableau2[[#This Row],[date]],A5) -> 44123 | B6: C2 | C6: Activité Manuelle Création de magnets en perles Hama ! | D6: 1 | E6: =IFERROR( L6 & " _ "&COUNTIF(L6:L36,L6),"") -> 19/10 - activité après midi _ 2 | F6: Benjamin | G6: Clara | J6: =A6 -> 44123 | K6: =B6 -> C2 | L6: =TEXT(repartition_anim[[#This Row],[date]],"JJ/MM")&" - "&(VLOOKUP(K6,données[],2,FALSE)) -> 19/10 - activité après midi | M6: =VLOOKUP(K6,données[],2,FALSE) -> activité après midi
A7: =IF(Tableau2[[#This Row],[activités]]="",Tableau2[[#This Row],[date]],A6) -> 44123 | B7: C3 | C7: jeux collectifs Jeux de cour de récréation (dauphin dauphine / accroche décroche, loup, balle américaine…) | D7: 1 | E7: =IFERROR( L7 & " _ "&COUNTIF(L7:L37,L7),"") -> 19/10 - activité après midi _ 1 | F7: guillaume | J7: =A7 -> 44123 | K7: =B7 -> C3 | L7: =TEXT(repartition_anim[[#This Row],[date]],"JJ/MM")&" - "&(VLOOKUP(K7,données[],2,FALSE)) -> 19/10 - activité après midi | M7: =VLOOKUP(K7,données[],2,FALSE) -> activité après midi
A8: =IF(Tableau2[[#This Row],[activités]]="",Tableau2[[#This Row],[date]],A7) -> 44123 | B8: A3 | C8: Accueil du Soir | D8: 1 | E8: =IFERROR( L8 & " _ "&COUNTIF(L8:L38,L8),"") -> 19/10 - Accueil Soir _ 1 | F8: Clara | J8: =A8 -> 44123 | K8: =B8 -> A3 | L8: =TEXT(repartition_anim[[#This Row],[date]],"JJ/MM")&" - "&(VLOOKUP(K8,données[],2,FALSE)) -> 19/10 - Accueil Soir | M8: =VLOOKUP(K8,données[],2,FALSE) -> Accueil Soir
A9: =IF(Tableau2[[#This Row],[activités]]="",Tableau2[[#This Row],[date]],A8) -> 44124 | C9: 44124 | E9: =IFERROR( L9 & " _ "&COUNTIF(L9:L39,L9),"") | J9: =A9 -> 44124 | K9: =B9 -> 0 | L9: =TEXT(repartition_anim[[#This Row],[date]],"JJ/MM")&" - "&(VLOOKUP(K9,données[],2,FALSE)) -> #N/A | M9: =VLOOKUP(K9,données[],2,FALSE) -> #N/A
A10: =IF(Tableau2[[#This Row],[activités]]="",Tableau2[[#This Row],[date]],A9) -> 44124 | B10: A1 | C10: Accueil du matin | D10: 1 | E10: =IFERROR( L10 & " _ "&COUNTIF(L10:L40,L10),"") -> 20/10 - Accueil Matin _ 1 | F10: guillaume | J10: =A10 -> 44124 | K10: =B10 -> A1 | L10: =TEXT(repartition_anim[[#This Row],[date]],"JJ/MM")&" - "&(VLOOKUP(K10,données[],2,FALSE)) -> 20/10 - Accueil Matin | M10: =VLOOKUP(K10,données[],2,FALSE) -> Accueil Matin
A11: =IF(Tableau2[[#This Row],[activités]]="",Tableau2[[#This Row],[date]],A10) -> 44124 | B11: D2 | C11: Sortie Maison de la rivière à Sizun : Découverte du lieu & pêche à pied. Prévoir des bottes / pique nique | D11: 4 | E11: =IFERROR( L11 & " _ "&COUNTIF(L11:L41,L11),"") -> 20/10 - journée _ 1 | F11: guillaume | G11: Benjamin | H11: laëtitia | J11: =A11 -> 44124 | K11: =B11 -> D2 | L11: =TEXT(repartition_anim[[#This Row],[date]],"JJ/MM")&" - "&(VLOOKUP(K11,données[],2,FALSE)) -> 20/10 - journée | M11: =VLOOKUP(K11,données[],2,FALSE) -> journée
A12: =IF(Tableau2[[#This Row],[activités]]="",Tableau2[[#This Row],[date]],A11) -> 44124 | B12: G2 | C12: journée girly | D12: 0 | E12: =IFERROR( L12 & " _ "&COUNTIF(L12:L42,L12),"") -> _ 0 | J12: =A12 -> 44124 | K12: =B12 -> G2 | M12: =VLOOKUP(K12,données[],2,FALSE) -> journée
A13: =IF(Tableau2[[#This Row],[activités]]="",Tableau2[[#This Row],[date]],A12) -> 44124 | B13: A3 | C13: Accueil du Soir | D13: 1 | E13: =IFERROR( L13 & " _ "&COUNTIF(L13:L43,L13),"") -> 20/10 - Accueil Soir _ 1 | F13: laëtitia | J13: =A13 -> 44124 | K13: =B13 -> A3 | L13: =TEXT(repartition_anim[[#This Row],[date]],"JJ/MM")&" - "&(VLOOKUP(K13,données[],2,FALSE)) -> 20/10 - Accueil Soir | M13: =VLOOKUP(K13,données[],2,FALSE) -> Accueil Soir
A14: =IF(Tableau2[[#This Row],[activités]]="",Tableau2[[#This Row],[date]],A13) -> 44124 | E14: =IFERROR( L14 & " _ "&COUNTIF(L14:L44,L14),"") | J14: =A14 -> 44124 | K14: =B14 | L14: =TEXT(repartition_anim[[#This Row],[date]],"JJ/MM")&" - "&(VLOOKUP(K14,données[],2,FALSE)) -> #N/A | M14: =VLOOKUP(K14,données[],2,FALSE) -> #N/A
A15: =IF(Tableau2[[#This Row],[activités]]="",Tableau2[[#This Row],[date]],A14) -> 44125 | C15: 44125 | E15: =IFERROR( L15 & " _ "&COUNTIF(L15:L45,L15),"") | J15: =A15 -> 44125 | K15: =B15 -> 0 | L15: =TEXT(repartition_anim[[#This Row],[date]],"JJ/MM")&" - "&(VLOOKUP(K15,données[],2,FALSE)) -> #N/A | M15: =VLOOKUP(K15,données[],2,FALSE) -> #N/A
A16: =IF(Tableau2[[#This Row],[activités]]="",Tableau2[[#This Row],[date]],A15) -> 44125 | B16: A1 | C16: Accueil du matin | D16: 1 | E16: =IFERROR( L16 & " _ "&COUNTIF(L16:L46,L16),"") -> 21/10 - Accueil Matin _ 1 | F16: Clara | J16: =A16 -> 44125 | K16: =B16 -> A1 | L16: =TEXT(repartition_anim[[#This Row],[date]],"JJ/MM")&" - "&(VLOOKUP(K16,données[],2,FALSE)) -> 21/10 - Accueil Matin | M16: =VLOOKUP(K16,données[],2,FALSE) -> Accueil Matin
A17: =IF(Tableau2[[#This Row],[activités]]="",Tableau2[[#This Row],[date]],A16) -> 44125 | B17: E3 - M | C17: Découverte et pratique de l’escalade avec les danseurs du Roc (12 places) Nous recherchons une voiture pour covoiturage | D17: 1 | E17: =IFERROR( L17 & " _ "&COUNTIF(L17:L47,L17),"") -> 21/10 - activité matin _ 3 | F17: Benjamin | J17: =A17 -> 44125 | K17: =B17 -> E3 - M | L17: =TEXT(repartition_anim[[#This Row],[date]],"JJ/MM")&" - "&(VLOOKUP(K17,données[],2,FALSE)) -> 21/10 - activité matin | M17: =VLOOKUP(K17,données[],2,FALSE) -> activité matin
A18: =IF(Tableau2[[#This Row],[activités]]="",Tableau2[[#This Row],[date]],A17) -> 44125 | B18: B4 | C18: Cuisine : Confection de Barres de céréales maison ! | D18: 2 | E18: =IFERROR( L18 & " _ "&COUNTIF(L18:L48,L18),"") -> 21/10 - activité matin _ 2 | F18: guillaume | G18: laëtitia | J18: =A18 -> 44125 | K18: =B18 -> B4 | L18: =TEXT(repartition_anim[[#This Row],[date]],"JJ/MM")&" - "&(VLOOKUP(K18,données[],2,FALSE)) -> 21/10 - activité matin | M18: =VLOOKUP(K18,données[],2,FALSE) -> activité matin
A19: =IF(Tableau2[[#This Row],[activités]]="",Tableau2[[#This Row],[date]],A18) -> 44125 | B19: B2 | C19: Bricolages : Création de mini parachutes : | D19: 1 | E19: =IFERROR( L19 & " _ "&COUNTIF(L19:L49,L19),"") -> 21/10 - activité matin _ 1 | F19: clara | J19: =A19 -> 44125 | K19: =B19 -> B2 | L19: =TEXT(repartition_anim[[#This Row],[date]],"JJ/MM")&" - "&(VLOOKUP(K19,données[],2,FALSE)) -> 21/10 - activité matin | M19: =VLOOKUP(K19,données[],2,FALSE) -> activité matin
A20: =IF(Tableau2[[#This Row],[activités]]="",Tableau2[[#This Row],[date]],A19) -> 44125 | B20: A2 | C20: Repas | E20: =IFERROR( L20 & " _ "&COUNTIF(L20:L50,L20),"") -> 21/10 - repas _ 1 | F20: guillaume | G20: Benjamin | J20: =A20 -> 44125 | K20: =B20 -> A2 | L20: =TEXT(repartition_anim[[#This Row],[date]],"JJ/MM")&" - "&(VLOOKUP(K20,données[],2,FALSE)) -> 21/10 - repas | M20: =VLOOKUP(K20,données[],2,FALSE) -> repas
A21: =IF(Tableau2[[#This Row],[activités]]="",Tableau2[[#This Row],[date]],A20) -> 44125 | B21: C3 | C21: Grand jeu Zagamore à la sauce halloween | D21: 2 | E21: =IFERROR( L21 & " _ "&COUNTIF(L21:L51,L21),"") -> 21/10 - activité après midi _ 2 | F21: Benjamin | G21: clara | J21: =A21 -> 44125 | K21: =B21 -> C3 | L21: =TEXT(repartition_anim[[#This Row],[date]],"JJ/MM")&" - "&(VLOOKUP(K21,données[],2,FALSE)) -> 21/10 - activité après midi | M21: =VLOOKUP(K21,données[],2,FALSE) -> activité après midi
A22: =IF(Tableau2[[#This Row],[activités]]="",Tableau2[[#This Row],[date]],A21) -> 44125 | B22: E4 - AM | C22: Sport Découverte et pratique du tennis avec Pierre Jestin du Tennis club des 2 baies | D22: 1 | E22: =IFERROR( L22 & " _ "&COUNTIF(L22:L52,L22),"") -> 21/10 - activité après midi _ 1 | F22: laëtitia | J22: =A22 -> 44125 | K22: =B22 -> E4 - AM | L22: =TEXT(repartition_anim[[#This Row],[date]],"JJ/MM")&" - "&(VLOOKUP(K22,données[],2,FALSE)) -> 21/10 - activité après midi | M22: =VLOOKUP(K22,données[],2,FALSE) -> activité après midi
A23: =IF(Tableau2[[#This Row],[activités]]="",Tableau2[[#This Row],[date]],A22) -> 44125 | B23: A3 | C23: Accueil du Soir | E23: =IFERROR( L23 & " _ "&COUNTIF(L23:L53,L23),"") -> 21/10 - Accueil Soir _ 1 | F23: Benjamin | J23: =A23 -> 44125 | K23: =B23 -> A3 | L23: =TEXT(repartition_anim[[#This Row],[date]],"JJ/MM")&" - "&(VLOOKUP(K23,données[],2,FALSE)) -> 21/10 - Accueil Soir | M23: =VLOOKUP(K23,données[],2,FALSE) -> Accueil Soir
A24: =IF(Tableau2[[#This Row],[activités]]="",Tableau2[[#This Row],[date]],A23) -> 44125 | B24: F1 | C24: Soirée Jeux de piste : Le secret du manoir de Kergroas Le dessert a disparu. | D24: 2 | E24: =IFERROR( L24 & " _ "&COUNTIF(L24:L54,L24),"") -> 21/10 - Soirée _ 1 | F24: guillaume | G24: Benjamin | H24: Clara | J24: =A24 -> 44125 | K24: =B24 -> F1 | L24: =TEXT(repartition_anim[[#This Row],[date]],"JJ/MM")&" - "&(VLOOKUP(K24,données[],2,FALSE)) -> 21/10 - Soirée | M24: =VLOOKUP(K24,données[],2,FALSE) -> Soirée
A25: =IF(Tableau2[[#This Row],[activités]]="",Tableau2[[#This Row],[date]],A24) -> 44126 | C25: 44126 | E25: =IFERROR( L25 & " _ "&COUNTIF(L25:L55,L25),"") | J25: =A25 -> 44126 | K25: =B25 -> 0 | L25: =TEXT(repartition_anim[[#This Row],[date]],"JJ/MM")&" - "&(VLOOKUP(K25,données[],2,FALSE)) -> #N/A | M25: =VLOOKUP(K25,données[],2,FALSE) -> #N/A
A26: =IF(Tableau2[[#This Row],[activités]]="",Tableau2[[#This Row],[date]],A25) -> 44126 | B26: A1 | C26: Accueil du matin | D26: 1 | E26: =IFERROR( L26 & " _ "&COUNTIF(L26:L56,L26),"") -> 22/10 - Accueil Matin _ 1 | F26: Laëtitia | J26: =A26 -> 44126 | K26: =B26 -> A1 | L26: =TEXT(repartition_anim[[#This Row],[date]],"JJ/MM")&" - "&(VLOOKUP(K26,données[],2,FALSE)) -> 22/10 - Accueil Matin | M26: =VLOOKUP(K26,données[],2,FALSE) -> Accueil Matin
A27: =IF(Tableau2[[#This Row],[activités]]="",Tableau2[[#This Row],[date]],A26) -> 44126 | B27: G2 | C27: journée nature, c'est l'automne : (avec un pique-nique fourni) | D27: 3 | E27: =IFERROR( L27 & " _ "&COUNTIF(L27:L57,L27),"") -> 22/10 - journée _ 1 | J27: =A27 -> 44126 | K27: =B27 -> G2 | L27: =TEXT(repartition_anim[[#This Row],[date]],"JJ/MM")&" - "&(VLOOKUP(K27,données[],2,FALSE)) -> 22/10 - journée | M27: =VLOOKUP(K27,données[],2,FALSE) -> journée
A28: =IF(Tableau2[[#This Row],[activités]]="",Tableau2[[#This Row],[date]],A27) -> 44126 | B28: B3 | C28: Le matin : Création de radeau / dessin nature | E28: =IFERROR( L28 & " _ "&COUNTIF(L28:L58,L28),"") -> 22/10 - activité matin _ 1 | F28: Clara | G28: Guillaume | H28: laëtitia | J28: =A28 -> 44126 | K28: =B28 -> B3 | L28: =TEXT(repartition_anim[[#This Row],[date]],"JJ/MM")&" - "&(VLOOKUP(K28,données[],2,FALSE)) -> 22/10 - activité matin | M28: =VLOOKUP(K28,données[],2,FALSE) -> activité matin
A29: =IF(Tableau2[[#This Row],[activités]]="",Tableau2[[#This Row],[date]],A28) -> 44126 | B29: C3 | C29: L’après-midi : Jeu de l'oie géant : sur le thème des énigmes / nature | E29: =IFERROR( L29 & " _ "&COUNTIF(L29:L59,L29),"") -> 22/10 - activité après midi _ 1 | F29: Clara | G29: Guillaume | H29: laëtitia | J29: =A29 -> 44126 | K29: =B29 -> C3 | L29: =TEXT(repartition_anim[[#This Row],[date]],"JJ/MM")&" - "&(VLOOKUP(K29,données[],2,FALSE)) -> 22/10 - activité après midi
A30: =IF(Tableau2[[#This Row],[activités]]="",Tableau2[[#This Row],[date]],A29) -> 44126 | B30: A3 | C30: Accueil du Soir | D30: 1 | E30: =IFERROR( L30 & " _ "&COUNTIF(L30:L60,L30),"") -> 22/10 - Accueil Soir _ 1 | F30: Guillaume | J30: =A30 -> 44126 | K30: =B30 -> A3 | L30: =TEXT(repartition_anim[[#This Row],[date]],"JJ/MM")&" - "&(VLOOKUP(K30,données[],2,FALSE)) -> 22/10 - Accueil Soir
A31: =IF(Tableau2[[#This Row],[activités]]="",Tableau2[[#This Row],[date]],A30) -> 44127 | C31: 44127 | E31: =IFERROR( L31 & " _ "&COUNTIF(L31:L61,L31),"") | J31: =A31 -> 44127 | K31: =B31 -> 0 | L31: =TEXT(repartition_anim[[#This Row],[date]],"JJ/MM")&" - "&(VLOOKUP(K31,données[],2,FALSE)) -> #N/A
A32: =IF(Tableau2[[#This Row],[activités]]="",Tableau2[[#This Row],[date]],A31) -> 44127 | B32: A1 | C32: Accueil du matin | D32: 1 | E32: =IFERROR( L32 & " _ "&COUNTIF(L32:L62,L32),"") -> 23/10 - Accueil Matin _ 1 | F32: laëtitia | J32: =A32 -> 44127 | K32: =B32 -> A1 | L32: =TEXT(repartition_anim[[#This Row],[date]],"JJ/MM")&" - "&(VLOOKUP(K32,données[],2,FALSE)) -> 23/10 - Accueil Matin
A33: =IF(Tableau2[[#This Row],[activités]]="",Tableau2[[#This Row],[date]],A32) -> 44127 | B33: B1 | C33: Sport : Basket en mode 3 vs 3 Final NBA : Lakers / Heats | D33: 1 | E33: =IFERROR( L33 & " _ "&COUNTIF(L33:L63,L33),"") -> 23/10 - activité matin _ 2 | F33: Clara | J33: =A33 -> 44127 | K33: =B33 -> B1 | L33: =TEXT(repartition_anim[[#This Row],[date]],"JJ/MM")&" - "&(VLOOKUP(K33,données[],2,FALSE)) -> 23/10 - activité matin
A34: =IF(Tableau2[[#This Row],[activités]]="",Tableau2[[#This Row],[date]],A33) -> 44127 | B34: B4 | C34: Cinéma : Away (ailleurs) -film d’animation/aventure | D34: 1 | E34: =IFERROR( L34 & " _ "&COUNTIF(L34:L64,L34),"") -> 23/10 - activité matin _ 1 | F34: Guillaume | G34: laëtitia | J34: =A34 -> 44127 | K34: =B34 -> B4 | L34: =TEXT(repartition_anim[[#This Row],[date]],"JJ/MM")&" - "&(VLOOKUP(K34,données[],2,FALSE)) -> 23/10 - activité matin
A35: =IF(Tableau2[[#This Row],[activités]]="",Tableau2[[#This Row],[date]],A34) -> 44127 | B35: A2 | C35: Repas | D35: 1 | E35: =IFERROR( L35 & " _ "&COUNTIF(L35:L65,L35),"") -> 23/10 - repas _ 1 | F35: Benjamin | G35: laëtitia | J35: =A35 -> 44127 | K35: =B35 -> A2 | L35: =TEXT(repartition_anim[[#This Row],[date]],"JJ/MM")&" - "&(VLOOKUP(K35,données[],2,FALSE)) -> 23/10 - repas
A36: =IF(Tableau2[[#This Row],[activités]]="",Tableau2[[#This Row],[date]],A35) -> 44127 | B36: D2 | C36: Accrobranche à Penzé Prévoir une tenue adaptée, des gants et un gouter | D36: 4 | E36: =IFERROR( L36 & " _ "&COUNTIF(L36:L66,L36),"") -> 23/10 - journée _ 1 | F36: Benjamin | G36: Clara | H36: guillaume | I36: laëtitia | J36: =A36 -> 44127 | K36: =B36 -> D2 | L36: =TEXT(repartition_anim[[#This Row],[date]],"JJ/MM")&" - "&(VLOOKUP(K36,données[],2,FALSE)) -> 23/10 - journée
A37: =IF(Tableau2[[#This Row],[activités]]="",Tableau2[[#This Row],[date]],A36) -> 44127 | B37: A3 | C37: Accueil du Soir | D37: 1 | E37: =IFERROR( L37 & " _ "&COUNTIF(L37:L67,L37),"") -> 23/10 - Accueil Soir _ 1 | F37: Clara | J37: =A37 -> 44127 | K37: =B37 -> A3 | L37: =TEXT(repartition_anim[[#This Row],[date]],"JJ/MM")&" - "&(VLOOKUP(K37,données[],2,FALSE)) -> 23/10 - Accueil Soir
L38: =TEXT(repartition_anim[[#This Row],[date]],"JJ/MM")&" - "&(VLOOKUP(K38,données[],2,FALSE)) -> #VALUE!

Sheet Planning 1
A1: Colonne1 | B1: Heures | C1: Soit | D1: 44123 | E1: =D1+1 -> 44124 | F1: =E1+1 -> 44125 | G1: =F1+1 -> 44126 | H1: =G1+1 -> 44127 | M1: 44123
A2: Accueil Matin | B2: 7h30 - 9h30 | C2: 0.083333333 | D2: =Tableau5[[#This Row],[19/10/2020]] -> Benjamin | E2: =Tableau5[[#This Row],[20/10/2020]] -> guillaume | F2: =Tableau5[[#This Row],[21/10/2020]] -> Clara | G2: =Tableau5[[#This Row],[22/10/2020]] -> Laëtitia | H2: =Tableau5[[#This Row],[23/10/2020]] -> laëtitia | J2: Benjamin | K2: =SUMIF(D$2:D$41,J2,C$2:C$41)+SUMIF(E$2:E$41,J2,C$2:C$41)+SUMIF(F$2:F$41,J2,C$2:C$41)+SUMIF(G$2:G$41,J2,C$2:C$41)+SUMIF(H$2:H$41,J2,C$2:C$41) -> 0.3125 | M2: =TEXT(M1,"j/m") -> 19/10
A3: activité matin | B3: 9h30 - 12h15 | C3: 0.11458333 | E3: =VLOOKUP((TEXT(E$1,"j/m")&" - "&$A3),repartition_anim[],2,FALSE) -> #N/A | G3: =VLOOKUP((TEXT(G$1,"j/m")&" - "&$A3),repartition_anim[],2,FALSE) -> #N/A | H3: =VLOOKUP((TEXT(H$1,"j/m")&" - "&$A3),repartition_anim[],2,FALSE) -> #N/A | J3: Clara | K3: =SUMIF(D$2:D$41,J3,C$2:C$41)+SUMIF(E$2:E$41,J3,C$2:C$41)+SUMIF(F$2:F$41,J3,C$2:C$41)+SUMIF(G$2:G$41,J3,C$2:C$41)+SUMIF(H$2:H$41,J3,C$2:C$41) -> 0.4375
A4: activité matin | B4: 9h30 - 12h15 | C4: 0.11458333 | D4: ='Planning 1 (2)'!E4 -> Clara | E4: =VLOOKUP((TEXT(E$1,"j/m")&" - "&$A4),repartition_anim[],2,FALSE) -> #N/A | G4: =VLOOKUP((TEXT(G$1,"j/m")&" - "&$A4),repartition_anim[],2,FALSE) -> #N/A | H4: =VLOOKUP((TEXT(H$1,"j/m")&" - "&$A4),repartition_anim[],2,FALSE) -> #N/A | J4: Guillaume | K4: =SUMIF(D$2:D$41,J4,C$2:C$41)+SUMIF(E$2:E$41,J4,C$2:C$41)+SUMIF(F$2:F$41,J4,C$2:C$41)+SUMIF(G$2:G$41,J4,C$2:C$41)+SUMIF(H$2:H$41,J4,C$2:C$41) -> 0.375
A5: activité matin | B5: 9h30 - 12h15 | C5: 0.11458333 | D5: ='Planning 1 (2)'!E5 -> guillaume | E5: =VLOOKUP((TEXT(E$1,"j/m")&" - "&$A5),repartition_anim[],2,FALSE) -> #N/A | G5: =VLOOKUP((TEXT(G$1,"j/m")&" - "&$A5),repartition_anim[],2,FALSE) -> #N/A | H5: =VLOOKUP((TEXT(H$1,"j/m")&" - "&$A5),repartition_anim[],2,FALSE) -> #N/A | J5: Laëtitia | K5: =SUMIF(D$2:D$41,J5,C$2:C$41)+SUMIF(E$2:E$41,J5,C$2:C$41)+SUMIF(F$2:F$41,J5,C$2:C$41)+SUMIF(G$2:G$41,J5,C$2:C$41)+SUMIF(H$2:H$41,J5,C$2:C$41) -> 0.39583333
A6: activité matin | B6: 9h30 - 12h15 | C6: 0.11458333 | D6: ='Planning 1 (2)'!E6 -> 0 | E6: =VLOOKUP((TEXT(E$1,"j/m")&" - "&$A6),repartition_anim[],2,FALSE) -> #N/A | G6: =VLOOKUP((TEXT(G$1,"j/m")&" - "&$A6),repartition_anim[],2,FALSE) -> #N/A | H6: =VLOOKUP((TEXT(H$1,"j/m")&" - "&$A6),repartition_anim[],2,FALSE) -> #N/A | K6: =SUMIF(D$4:D$41,J6,C$4:C$41)+SUMIF(E$4:E$41,J6,C$4:C$41)+SUMIF(F$4:F$41,J6,C$4:C$41)+SUMIF(G$4:G$41,J6,C$4:C$41)+SUMIF(H$4:H$41,J6,C$4:C$41) -> 1.15625
A7: activité matin | B7: 9h30 - 12h15 | C7: 0.11458333 | D7: ='Planning 1 (2)'!E7 | E7: =VLOOKUP((TEXT(E$1,"j/m")&" - "&$A7),repartition_anim[],2,FALSE) -> #N/A | G7: =VLOOKUP((TEXT(G$1,"j/m")&" - "&$A7),repartition_anim[],2,FALSE) -> #N/A | H7: =VLOOKUP((TEXT(H$1,"j/m")&" - "&$A7),repartition_anim[],2,FALSE) -> #N/A | K7: =SUMIF(D$4:D$41,J7,C$4:C$41)+SUMIF(E$4:E$41,J7,C$4:C$41)+SUMIF(F$4:F$41,J7,C$4:C$41)+SUMIF(G$4:G$41,J7,C$4:C$41)+SUMIF(H$4:H$41,J7,C$4:C$41) -> 1.15625
A8: activité matin | B8: 9h30 - 12h15 | C8: 0.11458333 | D8: ='Planning 1 (2)'!E8 | E8: =VLOOKUP((TEXT(E$1,"j/m")&" - "&$A8),repartition_anim[],2,FALSE) -> #N/A | G8: =VLOOKUP((TEXT(G$1,"j/m")&" - "&$A8),repartition_anim[],2,FALSE) -> #N/A | H8: =VLOOKUP((TEXT(H$1,"j/m")&" - "&$A8),repartition_anim[],2,FALSE) -> #N/A | K8: =SUMIF(D$4:D$41,J8,C$4:C$41)+SUMIF(E$4:E$41,J8,C$4:C$41)+SUMIF(F$4:F$41,J8,C$4:C$41)+SUMIF(G$4:G$41,J8,C$4:C$41)+SUMIF(H$4:H$41,J8,C$4:C$41) -> 1.15625
A9: prépa matin | B9: 9h30 - 12h15 | C9: 0.083333333
A10: prépa repas (le 1er nom) | B10: 11h30 - 13h30 | C10: 0.083333333 | D10: ='Planning 1 (2)'!E16 -> laëtitia | E10: ='Planning 1 (2)'!F16 | F10: ='Planning 1 (2)'!G16 -> guillaume | G10: ='Planning 1 (2)'!H16 | H10: ='Planning 1 (2)'!I16 -> Benjamin
A11: repas | B11: 12h15 - 13h30 | C11: 0.052083333 | D11: ='Planning 1 (2)'!E17 -> Clara | E11: ='Planning 1 (2)'!F17 | F11: ='Planning 1 (2)'!G17 -> Benjamin | G11: ='Planning 1 (2)'!H17 | H11: ='Planning 1 (2)'!I17 -> laëtitia
A12: repas | B12: 12h15 - 13h30 | C12: 0.052083333 | D12: ='Planning 1 (2)'!E18 -> 0 | E12: ='Planning 1 (2)'!F18 | F12: ='Planning 1 (2)'!G18 -> 0 | G12: ='Planning 1 (2)'!H18 | H12: ='Planning 1 (2)'!I18 -> 0
A13: repas | B13: 12h15 - 13h30 | C13: 0.052083333 | D13: ='Planning 1 (2)'!E19 -> 0 | E13: ='Planning 1 (2)'!F19 | F13: ='Planning 1 (2)'!G19 -> 0 | G13: ='Planning 1 (2)'!H19 | H13: ='Planning 1 (2)'!I19 -> 0
A14: repas | B14: 12h15 - 13h30 | C14: 0.052083333 | D14: ='Planning 1 (2)'!E20 -> 0 | E14: ='Planning 1 (2)'!F20 -> 0 | F14: ='Planning 1 (2)'!G20 -> 0 | G14: ='Planning 1 (2)'!H20 -> 0 | H14: ='Planning 1 (2)'!I20 -> 0
A15: activité après midi | B15: 13h30 - 16h15 | C15: 0.11458333 | D15: =VLOOKUP((TEXT(D$1,"j/m")&" - "&$A15),repartition_anim[],2,FALSE) -> #N/A | E15: =VLOOKUP((TEXT(E$1,"j/m")&" - "&$A15),repartition_anim[],2,FALSE) -> #N/A | F15: =VLOOKUP((TEXT(F$1,"j/m")&" - "&$A15),repartition_anim[],2,FALSE) -> #N/A | G15: =VLOOKUP((TEXT(G$1,"j/m")&" - "&$A15),repartition_anim[],2,FALSE) -> #N/A | H15: =VLOOKUP((TEXT(H$1,"j/m")&" - "&$A15),repartition_anim[],2,FALSE) -> #N/A
A16: activité après midi | B16: 13h30 - 16h15 | C16: 0.11458333 | D16: =VLOOKUP((TEXT(D$1,"j/m")&" - "&$A16),repartition_anim[],2,FALSE) -> #N/A | E16: =VLOOKUP((TEXT(E$1,"j/m")&" - "&$A16),repartition_anim[],2,FALSE) -> #N/A | F16: =VLOOKUP((TEXT(F$1,"j/m")&" - "&$A16),repartition_anim[],2,FALSE) -> #N/A | G16: =VLOOKUP((TEXT(G$1,"j/m")&" - "&$A16),repartition_anim[],2,FALSE) -> #N/A | H16: =VLOOKUP((TEXT(H$1,"j/m")&" - "&$A16),repartition_anim[],2,FALSE) -> #N/A
A17: activité après midi | B17: 13h30 - 16h15 | C17: 0.11458333 | D17: =VLOOKUP((TEXT(D$1,"j/m")&" - "&$A17),repartition_anim[],2,FALSE) -> #N/A | E17: =VLOOKUP((TEXT(E$1,"j/m")&" - "&$A17),repartition_anim[],2,FALSE) -> #N/A | F17: =VLOOKUP((TEXT(F$1,"j/m")&" - "&$A17),repartition_anim[],2,FALSE) -> #N/A | G17: =VLOOKUP((TEXT(G$1,"j/m")&" - "&$A17),repartition_anim[],2,FALSE) -> #N/A | H17: =VLOOKUP((TEXT(H$1,"j/m")&" - "&$A17),repartition_anim[],2,FALSE) -> #N/A
A18: activité après midi | B18: 13h30 - 16h15 | C18: 0.11458333 | D18: =VLOOKUP((TEXT(D$1,"j/m")&" - "&$A18),repartition_anim[],2,FALSE) -> #N/A | E18: =VLOOKUP((TEXT(E$1,"j/m")&" - "&$A18),repartition_anim[],2,FALSE) -> #N/A | F18: =VLOOKUP((TEXT(F$1,"j/m")&" - "&$A18),repartition_anim[],2,FALSE) -> #N/A | G18: =VLOOKUP((TEXT(G$1,"j/m")&" - "&$A18),repartition_anim[],2,FALSE) -> #N/A | H18: =VLOOKUP((TEXT(H$1,"j/m")&" - "&$A18),repartition_anim[],2,FALSE) -> #N/A
A19: activité après midi | B19: 13h30 - 16h15 | C19: 0.11458333 | D19: =VLOOKUP((TEXT(D$1,"j/m")&" - "&$A19),repartition_anim[],2,FALSE) -> #N/A | E19: =VLOOKUP((TEXT(E$1,"j/m")&" - "&$A19),repartition_anim[],2,FALSE) -> #N/A | F19: =VLOOKUP((TEXT(F$1,"j/m")&" - "&$A19),repartition_anim[],2,FALSE) -> #N/A | G19: =VLOOKUP((TEXT(G$1,"j/m")&" - "&$A19),repartition_anim[],2,FALSE) -> #N/A | H19: =VLOOKUP((TEXT(H$1,"j/m")&" - "&$A19),repartition_anim[],2,FALSE) -> #N/A
A20: activité après midi | B20: 13h30 - 16h16 | C20: 0.11458333 | D20: =VLOOKUP((TEXT(D$1,"j/m")&" - "&$A20),repartition_anim[],2,FALSE) -> #N/A | E20: =VLOOKUP((TEXT(E$1,"j/m")&" - "&$A20),repartition_anim[],2,FALSE) -> #N/A | F20: =VLOOKUP((TEXT(F$1,"j/m")&" - "&$A20),repartition_anim[],2,FALSE) -> #N/A | G20: =VLOOKUP((TEXT(G$1,"j/m")&" - "&$A20),repartition_anim[],2,FALSE) -> #N/A | H20: =VLOOKUP((TEXT(H$1,"j/m")&" - "&$A20),repartition_anim[],2,FALSE) -> #N/A
A21: Prépa apres midi | B21: 13h30 - 16h15 | C21: 0.083333333 | D21: =VLOOKUP((TEXT(D$1,"j/m")&" - "&$A21),repartition_anim[],2,FALSE) -> #N/A | E21: =VLOOKUP((TEXT(E$1,"j/m")&" - "&$A21),repartition_anim[],2,FALSE) -> #N/A | F21: =VLOOKUP((TEXT(F$1,"j/m")&" - "&$A21),repartition_anim[],2,FALSE) -> #N/A | G21: =VLOOKUP((TEXT(G$1,"j/m")&" - "&$A21),repartition_anim[],2,FALSE) -> #N/A | H21: =VLOOKUP((TEXT(H$1,"j/m")&" - "&$A21),repartition_anim[],2,FALSE) -> #N/A
A22: Accueil Soir | B22: 16h15 - 18h30 | C22: 0.09375 | D22: ='Planning 1 (2)'!E34 -> Clara | E22: ='Planning 1 (2)'!F34 -> laëtitia | F22: ='Planning 1 (2)'!G34 -> Benjamin | G22: ='Planning 1 (2)'!H34 -> Guillaume | H22: ='Planning 1 (2)'!I34 -> Clara
D23: =VLOOKUP((TEXT(D$1,"j/m")&" - "&$A23),repartition_anim[],2,FALSE) -> #N/A | E23: =VLOOKUP((TEXT(E$1,"j/m")&" - "&$A23),repartition_anim[],2,FALSE) -> #N/A | F23: =VLOOKUP((TEXT(F$1,"j/m")&" - "&$A23),repartition_anim[],2,FALSE) -> #N/A | G23: =VLOOKUP((TEXT(G$1,"j/m")&" - "&$A23),repartition_anim[],2,FALSE) -> #N/A | H23: =VLOOKUP((TEXT(H$1,"j/m")&" - "&$A23),repartition_anim[],2,FALSE) -> #N/A
A24: Soirée | B24: 20h - 22h15 | C24: 0.09375 | D24: ='Planning 1 (2)'!E30 | E24: ='Planning 1 (2)'!F30 | F24: ='Planning 1 (2)'!G30 | G24: ='Planning 1 (2)'!H30 | H24: ='Planning 1 (2)'!I30
A25: Soirée | B25: 20h - 22h15 | C25: 0.09375 | D25: ='Planning 1 (2)'!E31 | E25: ='Planning 1 (2)'!F31 | F25: ='Planning 1 (2)'!G31 | G25: ='Planning 1 (2)'!H31 | H25: ='Planning 1 (2)'!I31
A26: Soirée | B26: 20h - 22h15 | C26: 0.09375 | D26: ='Planning 1 (2)'!E32 | E26: ='Planning 1 (2)'!F32 | F26: ='Planning 1 (2)'!G32 | G26: ='Planning 1 (2)'!H32 | H26: ='Planning 1 (2)'!I32
A27: Soirée | B27: 20h - 22h15 | C27: 0.09375 | D27: ='Planning 1 (2)'!E33 -> 0 | E27: ='Planning 1 (2)'!F33 -> 0 | F27: ='Planning 1 (2)'!G33 -> 0 | G27: ='Planning 1 (2)'!H33 -> 0 | H27: ='Planning 1 (2)'!I33 -> 0
A28: Soirée | B28: 20h - 22h15 | C28: 0.09375 | D28: =VLOOKUP((TEXT(D$1,"j/m")&" - "&$A28),repartition_anim[],2,FALSE) -> #N/A | E28: =VLOOKUP((TEXT(E$1,"j/m")&" - "&$A28),repartition_anim[],2,FALSE) -> #N/A | F28: =VLOOKUP((TEXT(F$1,"j/m")&" - "&$A28),repartition_anim[],2,FALSE) -> #N/A | G28: =VLOOKUP((TEXT(G$1,"j/m")&" - "&$A28),repartition_anim[],2,FALSE) -> #N/A | H28: =VLOOKUP((TEXT(H$1,"j/m")&" - "&$A28),repartition_anim[],2,FALSE) -> #N/A
A29: Soirée | B29: 20h - 22h15 | C29: 0.09375 | D29: =VLOOKUP((TEXT(D$1,"j/m")&" - "&$A29),repartition_anim[],2,FALSE) -> #N/A | E29: =VLOOKUP((TEXT(E$1,"j/m")&" - "&$A29),repartition_anim[],2,FALSE) -> #N/A | F29: =VLOOKUP((TEXT(F$1,"j/m")&" - "&$A29),repartition_anim[],2,FALSE) -> #N/A | G29: =VLOOKUP((TEXT(G$1,"j/m")&" - "&$A29),repartition_anim[],2,FALSE) -> #N/A | H29: =VLOOKUP((TEXT(H$1,"j/m")&" - "&$A29),repartition_anim[],2,FALSE) -> #N/A
A30: Sortie demi journée | B30: 13h30 - 18h | C30: 0.1875 | D30: =VLOOKUP((TEXT(D$1,"j/m")&" - "&$A30),repartition_anim[],2,FALSE) -> #N/A | E30: =VLOOKUP((TEXT(E$1,"j/m")&" - "&$A30),repartition_anim[],2,FALSE) -> #N/A | F30: =VLOOKUP((TEXT(F$1,"j/m")&" - "&$A30),repartition_anim[],2,FALSE) -> #N/A | G30: =VLOOKUP((TEXT(G$1,"j/m")&" - "&$A30),repartition_anim[],2,FALSE) -> #N/A | H30: =VLOOKUP((TEXT(H$1,"j/m")&" - "&$A30),repartition_anim[],2,FALSE) -> #N/A
A31: Sortie demi journée | B31: 13h30 - 18h | C31: 0.1875 | D31: =VLOOKUP((TEXT(D$1,"j/m")&" - "&$A31),repartition_anim[],2,FALSE) -> #N/A | E31: =VLOOKUP((TEXT(E$1,"j/m")&" - "&$A31),repartition_anim[],2,FALSE) -> #N/A | F31: =VLOOKUP((TEXT(F$1,"j/m")&" - "&$A31),repartition_anim[],2,FALSE) -> #N/A | G31: =VLOOKUP((TEXT(G$1,"j/m")&" - "&$A31),repartition_anim[],2,FALSE) -> #N/A | H31: =VLOOKUP((TEXT(H$1,"j/m")&" - "&$A31),repartition_anim[],2,FALSE) -> #N/A
A32: Sortie demi journée | B32: 13h30 - 18h | C32: 0.1875 | D32: =VLOOKUP((TEXT(D$1,"j/m")&" - "&$A32),repartition_anim[],2,FALSE) -> #N/A | E32: =VLOOKUP((TEXT(E$1,"j/m")&" - "&$A32),repartition_anim[],2,FALSE) -> #N/A | F32: =VLOOKUP((TEXT(F$1,"j/m")&" - "&$A32),repartition_anim[],2,FALSE) -> #N/A | G32: =VLOOKUP((TEXT(G$1,"j/m")&" - "&$A32),repartition_anim[],2,FALSE) -> #N/A | H32: =VLOOKUP((TEXT(H$1,"j/m")&" - "&$A32),repartition_anim[],2,FALSE) -> #N/A
A33: Sortie demi journée | B33: 13h30 - 18h | C33: 0.1875 | D33: =VLOOKUP((TEXT(D$1,"j/m")&" - "&$A33),repartition_anim[],2,FALSE) -> #N/A | E33: =VLOOKUP((TEXT(E$1,"j/m")&" - "&$A33),repartition_anim[],2,FALSE) -> #N/A | F33: =VLOOKUP((TEXT(F$1,"j/m")&" - "&$A33),repartition_anim[],2,FALSE) -> #N/A | G33: =VLOOKUP((TEXT(G$1,"j/m")&" - "&$A33),repartition_anim[],2,FALSE) -> #N/A | H33: =VLOOKUP((TEXT(H$1,"j/m")&" - "&$A33),repartition_anim[],2,FALSE) -> #N/A
A34: journée | B34: 9h30 - 18h30 | C34: 0.375 | D34: =VLOOKUP((TEXT(D$1,"j/m")&" - "&$A34),repartition_anim[],2,FALSE) -> #N/A | E34: =VLOOKUP((TEXT(E$1,"j/m")&" - "&$A34),repartition_anim[],2,FALSE) -> #N/A | F34: =VLOOKUP((TEXT(F$1,"j/m")&" - "&$A34),repartition_anim[],2,FALSE) -> #N/A | G34: =VLOOKUP((TEXT(G$1,"j/m")&" - "&$A34),repartition_anim[],2,FALSE) -> #N/A | H34: =VLOOKUP((TEXT(H$1,"j/m")&" - "&$A34),repartition_anim[],2,FALSE) -> #N/A
A35: journée | B35: 9h30 - 18h30 | C35: 0.375 | D35: =VLOOKUP((TEXT(D$1,"j/m")&" - "&$A35),repartition_anim[],2,FALSE) -> #N/A | E35: =VLOOKUP((TEXT(E$1,"j/m")&" - "&$A35),repartition_anim[],2,FALSE) -> #N/A | F35: =VLOOKUP((TEXT(F$1,"j/m")&" - "&$A35),repartition_anim[],2,FALSE) -> #N/A | G35: =VLOOKUP((TEXT(G$1,"j/m")&" - "&$A35),repartition_anim[],2,FALSE) -> #N/A | H35: =VLOOKUP((TEXT(H$1,"j/m")&" - "&$A35),repartition_anim[],2,FALSE) -> #N/A
A36: journée | B36: 9h30 - 18h30 | C36: 0.375 | D36: =VLOOKUP((TEXT(D$1,"j/m")&" - "&$A36),repartition_anim[],2,FALSE) -> #N/A | E36: =VLOOKUP((TEXT(E$1,"j/m")&" - "&$A36),repartition_anim[],2,FALSE) -> #N/A | F36: =VLOOKUP((TEXT(F$1,"j/m")&" - "&$A36),repartition_anim[],2,FALSE) -> #N/A | G36: =VLOOKUP((TEXT(G$1,"j/m")&" - "&$A36),repartition_anim[],2,FALSE) -> #N/A | H36: =VLOOKUP((TEXT(H$1,"j/m")&" - "&$A36),repartition_anim[],2,FALSE) -> #N/A
A37: journée | B37: 9h30 - 18h30 | C37: 0.375 | D37: =VLOOKUP((TEXT(D$1,"j/m")&" - "&$A37),repartition_anim[],2,FALSE) -> #N/A | E37: =VLOOKUP((TEXT(E$1,"j/m")&" - "&$A37),repartition_anim[],2,FALSE) -> #N/A | F37: =VLOOKUP((TEXT(F$1,"j/m")&" - "&$A37),repartition_anim[],2,FALSE) -> #N/A | G37: =VLOOKUP((TEXT(G$1,"j/m")&" - "&$A37),repartition_anim[],2,FALSE) -> #N/A | H37: =VLOOKUP((TEXT(H$1,"j/m")&" - "&$A37),repartition_anim[],2,FALSE) -> #N/A
A38: journée | B38: 9h30 - 18h30 | C38: 0.375 | D38: =VLOOKUP((TEXT(D$1,"j/m")&" - "&$A38),repartition_anim[],2,FALSE) -> #N/A | E38: =VLOOKUP((TEXT(E$1,"j/m")&" - "&$A38),repartition_anim[],2,FALSE) -> #N/A | F38: =VLOOKUP((TEXT(F$1,"j/m")&" - "&$A38),repartition_anim[],2,FALSE) -> #N/A | G38: =VLOOKUP((TEXT(G$1,"j/m")&" - "&$A38),repartition_anim[],2,FALSE) -> #N/A | H38: =VLOOKUP((TEXT(H$1,"j/m")&" - "&$A38),repartition_anim[],2,FALSE) -> #N/A
A39: journée | B39: 9h30 - 18h30 | C39: 0.375 | D39: =VLOOKUP((TEXT(D$1,"j/m")&" - "&$A39),repartition_anim[],2,FALSE) -> #N/A | E39: =VLOOKUP((TEXT(E$1,"j/m")&" - "&$A39),repartition_anim[],2,FALSE) -> #N/A | F39: =VLOOKUP((TEXT(F$1,"j/m")&" - "&$A39),repartition_anim[],2,FALSE) -> #N/A | G39: =VLOOKUP((TEXT(G$1,"j/m")&" - "&$A39),repartition_anim[],2,FALSE) -> #N/A | H39: =VLOOKUP((TEXT(H$1,"j/m")&" - "&$A39),repartition_anim[],2,FALSE) -> #N/A
A40: Ados matin | C40: 0.375 | D40: =VLOOKUP((TEXT(D$1,"j/m")&" - "&$A40),repartition_anim[],2,FALSE) -> #N/A | E40: =VLOOKUP((TEXT(E$1,"j/m")&" - "&$A40),repartition_anim[],2,FALSE) -> #N/A | F40: =VLOOKUP((TEXT(F$1,"j/m")&" - "&$A40),repartition_anim[],2,FALSE) -> #N/A | G40: =VLOOKUP((TEXT(G$1,"j/m")&" - "&$A40),repartition_anim[],2,FALSE) -> #N/A | H40: =VLOOKUP((TEXT(H$1,"j/m")&" - "&$A40),repartition_anim[],2,FALSE) -> #N/A
...

Sheet Planning 1 (2)
A1: Colonne1 | B1: Colonne2 | C1: Heures | D1: Soit | E1: 19/10/2020 | F1: 20/10/2020 | G1: 21/10/2020 | H1: 22/10/2020 | I1: 23/10/2020 | J1: Colonne3 | N1: 44123
A2: Accueil Matin | B2: 1 | C2: 7h30 - 9h30 | D2: 0.083333333 | E2: =IFERROR(VLOOKUP((TEXT(E$1,"j/m")&" - "&$A2&" _ "&$B2),repartition_anim[],2,FALSE),"") -> Benjamin | F2: =IFERROR(VLOOKUP((TEXT(F$1,"j/m")&" - "&$A2&" _ "&$B2),repartition_anim[],2,FALSE),"") -> guillaume | G2: =IFERROR(VLOOKUP((TEXT(G$1,"j/m")&" - "&$A2&" _ "&$B2),repartition_anim[],2,FALSE),"") -> Clara | H2: =IFERROR(VLOOKUP((TEXT(H$1,"j/m")&" - "&$A2&" _ "&$B2),repartition_anim[],2,FALSE),"") -> Laëtitia | I2: =IFERROR(VLOOKUP((TEXT(I$1,"j/m")&" - "&$A2&" _ "&$B2),repartition_anim[],2,FALSE),"") -> laëtitia | J2: =TEXT(E$1,"j/m")&" - "&$A2&" _ "&$B2 -> 19/10 - Accueil Matin _ 1 | K2: Benjamin | L2: =SUMIF(E$2:E$53,K2,D$2:D$53)+SUMIF(F$2:F$53,K2,D$2:D$53)+SUMIF(G$2:G$53,K2,D$2:D$53)+SUMIF(H$2:H$53,K2,D$2:D$53)+SUMIF(I$2:I$53,K2,D$2:D$53) -> 1.3854167 | N2: =TEXT(N1,"j/m") -> 19/10
A3: activité matin | B3: 1 | C3: 9h30 - 12h15 | D3: 0.11458333 | E3: =IFERROR(VLOOKUP((TEXT(E$1,"j/m")&" - "&$A3&" _ "&$B3),repartition_anim[],2,FALSE),"") -> Benjamin | F3: =IFERROR(VLOOKUP((TEXT(F$1,"j/m")&" - "&$A3&" _ "&$B3),repartition_anim[],2,FALSE),"") | G3: =IFERROR(VLOOKUP((TEXT(G$1,"j/m")&" - "&$A3&" _ "&$B3),repartition_anim[],2,FALSE),"") -> clara | H3: =IFERROR(VLOOKUP((TEXT(H$1,"j/m")&" - "&$A3&" _ "&$B3),repartition_anim[],2,FALSE),"") -> Clara | I3: =IFERROR(VLOOKUP((TEXT(I$1,"j/m")&" - "&$A3&" _ "&$B3),repartition_anim[],2,FALSE),"") -> Guillaume | K3: Clara | L3: =SUMIF(E$2:E$53,K3,D$2:D$53)+SUMIF(F$2:F$53,K3,D$2:D$53)+SUMIF(G$2:G$53,K3,D$2:D$53)+SUMIF(H$2:H$53,K3,D$2:D$53)+SUMIF(I$2:I$53,K3,D$2:D$53) -> 1.25
A4: activité matin | B4: 1 | C4: 9h30 - 12h15 | D4: 0.11458333 | E4: =IFERROR(VLOOKUP((TEXT(E$1,"j/m")&" - "&$A4&" _ "&$B4),repartition_anim[],3,FALSE),"") -> Clara | F4: =IFERROR(VLOOKUP((TEXT(F$1,"j/m")&" - "&$A4&" _ "&$B4),repartition_anim[],3,FALSE),"") | G4: =IFERROR(VLOOKUP((TEXT(G$1,"j/m")&" - "&$A4&" _ "&$B4),repartition_anim[],3,FALSE),"") -> 0 | H4: =IFERROR(VLOOKUP((TEXT(H$1,"j/m")&" - "&$A4&" _ "&$B4),repartition_anim[],3,FALSE),"") -> Guillaume | I4: =IFERROR(VLOOKUP((TEXT(I$1,"j/m")&" - "&$A4&" _ "&$B4),repartition_anim[],3,FALSE),"") -> laëtitia | K4: Guillaume | L4: =SUMIF(E$2:E$53,K4,D$2:D$53)+SUMIF(F$2:F$53,K4,D$2:D$53)+SUMIF(G$2:G$53,K4,D$2:D$53)+SUMIF(H$2:H$53,K4,D$2:D$53)+SUMIF(I$2:I$53,K4,D$2:D$53) -> 1.5625
A5: activité matin | B5: 1 | C5: 9h30 - 12h15 | D5: 0.11458333 | E5: =IFERROR(VLOOKUP((TEXT(E$1,"j/m")&" - "&$A5&" _ "&$B5),repartition_anim[],4,FALSE),"") -> guillaume | F5: =IFERROR(VLOOKUP((TEXT(F$1,"j/m")&" - "&$A5&" _ "&$B5),repartition_anim[],4,FALSE),"") | G5: =IFERROR(VLOOKUP((TEXT(G$1,"j/m")&" - "&$A5&" _ "&$B5),repartition_anim[],4,FALSE),"") -> 0 | H5: =IFERROR(VLOOKUP((TEXT(H$1,"j/m")&" - "&$A5&" _ "&$B5),repartition_anim[],4,FALSE),"") -> laëtitia | I5: =IFERROR(VLOOKUP((TEXT(I$1,"j/m")&" - "&$A5&" _ "&$B5),repartition_anim[],4,FALSE),"") -> 0 | K5: Laëtitia | L5: =SUMIF(E$2:E$53,K5,D$2:D$53)+SUMIF(F$2:F$53,K5,D$2:D$53)+SUMIF(G$2:G$53,K5,D$2:D$53)+SUMIF(H$2:H$53,K5,D$2:D$53)+SUMIF(I$2:I$53,K5,D$2:D$53) -> 1.4895833
A6: activité matin | B6: 1 | C6: 9h30 - 12h15 | D6: 0.11458333 | E6: =IFERROR(VLOOKUP((TEXT(E$1,"j/m")&" - "&$A6&" _ "&$B6),repartition_anim[],5,FALSE)," ") -> 0 | F6: =IFERROR(VLOOKUP((TEXT(F$1,"j/m")&" - "&$A6&" _ "&$B6),repartition_anim[],5,FALSE)," ") | G6: =IFERROR(VLOOKUP((TEXT(G$1,"j/m")&" - "&$A6&" _ "&$B6),repartition_anim[],5,FALSE)," ") -> 0 | H6: =IFERROR(VLOOKUP((TEXT(H$1,"j/m")&" - "&$A6&" _ "&$B6),repartition_anim[],5,FALSE)," ") -> 0 | I6: =IFERROR(VLOOKUP((TEXT(I$1,"j/m")&" - "&$A6&" _ "&$B6),repartition_anim[],5,FALSE)," ") -> 0 | L6: =SUMIF(E$4:E$53,K6,D$10:D$53)+SUMIF(F$4:F$53,K6,D$10:D$53)+SUMIF(G$4:G$53,K6,D$10:D$53)+SUMIF(H$4:H$53,K6,D$10:D$53)+SUMIF(I$4:I$53,K6,D$10:D$53) -> 2.75
A7: activité matin | B7: 2 | C7: 9h30 - 12h15 | D7: 0.11458333 | E7: =IFERROR(VLOOKUP((TEXT(E$1,"j/m")&" - "&$A7&" _ "&$B7),repartition_anim[],2,FALSE),"") | F7: =IFERROR(VLOOKUP((TEXT(F$1,"j/m")&" - "&$A7&" _ "&$B7),repartition_anim[],2,FALSE),"") | G7: =IFERROR(VLOOKUP((TEXT(G$1,"j/m")&" - "&$A7&" _ "&$B7),repartition_anim[],2,FALSE),"") -> guillaume | H7: =IFERROR(VLOOKUP((TEXT(H$1,"j/m")&" - "&$A7&" _ "&$B7),repartition_anim[],2,FALSE),"") | I7: =IFERROR(VLOOKUP((TEXT(I$1,"j/m")&" - "&$A7&" _ "&$B7),repartition_anim[],2,FALSE),"") -> Clara | L7: =SUMIF(E$4:E$53,K7,D$10:D$53)+SUMIF(F$4:F$53,K7,D$10:D$53)+SUMIF(G$4:G$53,K7,D$10:D$53)+SUMIF(H$4:H$53,K7,D$10:D$53)+SUMIF(I$4:I$53,K7,D$10:D$53) -> 2.75
A8: activité matin | B8: 2 | C8: 9h30 - 12h15 | D8: 0.11458333 | E8: =IFERROR(VLOOKUP((TEXT(E$1,"j/m")&" - "&$A8&" _ "&$B8),repartition_anim[],3,FALSE),"") | F8: =IFERROR(VLOOKUP((TEXT(F$1,"j/m")&" - "&$A8&" _ "&$B8),repartition_anim[],3,FALSE),"") | G8: =IFERROR(VLOOKUP((TEXT(G$1,"j/m")&" - "&$A8&" _ "&$B8),repartition_anim[],3,FALSE),"") -> laëtitia | H8: =IFERROR(VLOOKUP((TEXT(H$1,"j/m")&" - "&$A8&" _ "&$B8),repartition_anim[],3,FALSE),"") | I8: =IFERROR(VLOOKUP((TEXT(I$1,"j/m")&" - "&$A8&" _ "&$B8),repartition_anim[],3,FALSE),"") -> 0 | L8: =SUMIF(E$4:E$53,K8,D$10:D$53)+SUMIF(F$4:F$53,K8,D$10:D$53)+SUMIF(G$4:G$53,K8,D$10:D$53)+SUMIF(H$4:H$53,K8,D$10:D$53)+SUMIF(I$4:I$53,K8,D$10:D$53) -> 2.75
A9: activité matin | B9: 2 | C9: 9h30 - 12h15 | D9: 0.11458333 | E9: =IFERROR(VLOOKUP((TEXT(E$1,"j/m")&" - "&$A9&" _ "&$B9),repartition_anim[],4,FALSE),"") | F9: =IFERROR(VLOOKUP((TEXT(F$1,"j/m")&" - "&$A9&" _ "&$B9),repartition_anim[],4,FALSE),"") | G9: =IFERROR(VLOOKUP((TEXT(G$1,"j/m")&" - "&$A9&" _ "&$B9),repartition_anim[],4,FALSE),"") -> 0 | H9: =IFERROR(VLOOKUP((TEXT(H$1,"j/m")&" - "&$A9&" _ "&$B9),repartition_anim[],4,FALSE),"") | I9: =IFERROR(VLOOKUP((TEXT(I$1,"j/m")&" - "&$A9&" _ "&$B9),repartition_anim[],4,FALSE),"") -> 0
A10: activité matin | B10: 2 | C10: 9h30 - 12h15 | D10: 0.11458333 | E10: =IFERROR(VLOOKUP((TEXT(E$1,"j/m")&" - "&$A10&" _ "&$B10),repartition_anim[],5,FALSE)," ") | F10: =IFERROR(VLOOKUP((TEXT(F$1,"j/m")&" - "&$A10&" _ "&$B10),repartition_anim[],5,FALSE)," ") | G10: =IFERROR(VLOOKUP((TEXT(G$1,"j/m")&" - "&$A10&" _ "&$B10),repartition_anim[],5,FALSE)," ") -> 0 | H10: =IFERROR(VLOOKUP((TEXT(H$1,"j/m")&" - "&$A10&" _ "&$B10),repartition_anim[],5,FALSE)," ") | I10: =IFERROR(VLOOKUP((TEXT(I$1,"j/m")&" - "&$A10&" _ "&$B10),repartition_anim[],5,FALSE)," ") -> 0
A11: activité matin | B11: 3 | C11: 9h30 - 12h15 | D11: 0.11458333 | E11: =IFERROR(VLOOKUP((TEXT(E$1,"j/m")&" - "&$A11&" _ "&$B11),repartition_anim[],2,FALSE),"") | F11: =IFERROR(VLOOKUP((TEXT(F$1,"j/m")&" - "&$A11&" _ "&$B11),repartition_anim[],2,FALSE),"") | G11: =IFERROR(VLOOKUP((TEXT(G$1,"j/m")&" - "&$A11&" _ "&$B11),repartition_anim[],2,FALSE),"") -> Benjamin | H11: =IFERROR(VLOOKUP((TEXT(H$1,"j/m")&" - "&$A11&" _ "&$B11),repartition_anim[],2,FALSE),"") | I11: =IFERROR(VLOOKUP((TEXT(I$1,"j/m")&" - "&$A11&" _ "&$B11),repartition_anim[],2,FALSE),"")
A12: activité matin | B12: 3 | C12: 9h30 - 12h15 | D12: 0.11458333 | E12: =IFERROR(VLOOKUP((TEXT(E$1,"j/m")&" - "&$A12&" _ "&$B12),repartition_anim[],3,FALSE),"") | F12: =IFERROR(VLOOKUP((TEXT(F$1,"j/m")&" - "&$A12&" _ "&$B12),repartition_anim[],3,FALSE),"") | G12: =IFERROR(VLOOKUP((TEXT(G$1,"j/m")&" - "&$A12&" _ "&$B12),repartition_anim[],3,FALSE),"") -> 0 | H12: =IFERROR(VLOOKUP((TEXT(H$1,"j/m")&" - "&$A12&" _ "&$B12),repartition_anim[],3,FALSE),"") | I12: =IFERROR(VLOOKUP((TEXT(I$1,"j/m")&" - "&$A12&" _ "&$B12),repartition_anim[],3,FALSE),"")
A13: activité matin | B13: 3 | C13: 9h30 - 12h15 | D13: 0.11458333 | E13: =IFERROR(VLOOKUP((TEXT(E$1,"j/m")&" - "&$A13&" _ "&$B13),repartition_anim[],4,FALSE),"") | F13: =IFERROR(VLOOKUP((TEXT(F$1,"j/m")&" - "&$A13&" _ "&$B13),repartition_anim[],4,FALSE),"") | G13: =IFERROR(VLOOKUP((TEXT(G$1,"j/m")&" - "&$A13&" _ "&$B13),repartition_anim[],4,FALSE),"") -> 0 | H13: =IFERROR(VLOOKUP((TEXT(H$1,"j/m")&" - "&$A13&" _ "&$B13),repartition_anim[],4,FALSE),"") | I13: =IFERROR(VLOOKUP((TEXT(I$1,"j/m")&" - "&$A13&" _ "&$B13),repartition_anim[],4,FALSE),"")
A14: activité matin | B14: 3 | C14: 9h30 - 12h15 | D14: 0.11458333 | E14: =IFERROR(VLOOKUP((TEXT(E$1,"j/m")&" - "&$A14&" _ "&$B14),repartition_anim[],5,FALSE)," ") | F14: =IFERROR(VLOOKUP((TEXT(F$1,"j/m")&" - "&$A14&" _ "&$B14),repartition_anim[],5,FALSE)," ") | G14: =IFERROR(VLOOKUP((TEXT(G$1,"j/m")&" - "&$A14&" _ "&$B14),repartition_anim[],5,FALSE)," ") -> 0 | H14: =IFERROR(VLOOKUP((TEXT(H$1,"j/m")&" - "&$A14&" _ "&$B14),repartition_anim[],5,FALSE)," ") | I14: =IFERROR(VLOOKUP((TEXT(I$1,"j/m")&" - "&$A14&" _ "&$B14),repartition_anim[],5,FALSE)," ")
A15: prépa matin | B15: 1 | C15: 9h30 - 12h15 | D15: 0.083333333 | E15: =IFERROR(VLOOKUP((TEXT(E$1,"j/m")&" - "&$A15&" _ "&B15),repartition_anim[],2,FALSE),"") | F15: =IFERROR(VLOOKUP((TEXT(F$1,"j/m")&" - "&$A15&" _ "&C15),repartition_anim[],2,FALSE),"") | G15: =IFERROR(VLOOKUP((TEXT(G$1,"j/m")&" - "&$A15&" _ "&D15),repartition_anim[],2,FALSE),"") | H15: =IFERROR(VLOOKUP((TEXT(H$1,"j/m")&" - "&$A15&" _ "&E15),repartition_anim[],2,FALSE),"") | I15: =IFERROR(VLOOKUP((TEXT(I$1,"j/m")&" - "&$A15&" _ "&F15),repartition_anim[],2,FALSE),"")
A16: repas | B16: 1 | C16: 11h30 - 13h30 | D16: 0.083333333 | E16: =IFERROR(VLOOKUP((TEXT(E$1,"j/m")&" - "&$A16&" _ "&$B16),repartition_anim[],2,FALSE),"") -> laëtitia | F16: =IFERROR(VLOOKUP((TEXT(F$1,"j/m")&" - "&$A16&" _ "&$B16),repartition_anim[],2,FALSE),"") | G16: =IFERROR(VLOOKUP((TEXT(G$1,"j/m")&" - "&$A16&" _ "&$B16),repartition_anim[],2,FALSE),"") -> guillaume | H16: =IFERROR(VLOOKUP((TEXT(H$1,"j/m")&" - "&$A16&" _ "&$B16),repartition_anim[],2,FALSE),"") | I16: =IFERROR(VLOOKUP((TEXT(I$1,"j/m")&" - "&$A16&" _ "&$B16),repartition_anim[],2,FALSE),"") -> Benjamin
A17: repas | B17: 1 | C17: 12h15 - 13h30 | D17: 0.052083333 | E17: =IFERROR(VLOOKUP((TEXT(E$1,"j/m")&" - "&$A17&" _ "&$B17),repartition_anim[],3,FALSE),"") -> Clara | F17: =IFERROR(VLOOKUP((TEXT(F$1,"j/m")&" - "&$A17&" _ "&$B17),repartition_anim[],3,FALSE),"") | G17: =IFERROR(VLOOKUP((TEXT(G$1,"j/m")&" - "&$A17&" _ "&$B17),repartition_anim[],3,FALSE),"") -> Benjamin | H17: =IFERROR(VLOOKUP((TEXT(H$1,"j/m")&" - "&$A17&" _ "&$B17),repartition_anim[],3,FALSE),"") | I17: =IFERROR(VLOOKUP((TEXT(I$1,"j/m")&" - "&$A17&" _ "&$B17),repartition_anim[],3,FALSE),"") -> laëtitia
A18: repas | B18: 1 | C18: 12h15 - 13h30 | D18: 0.052083333 | E18: =IFERROR(VLOOKUP((TEXT(E$1,"j/m")&" - "&$A18&" _ "&$B18),repartition_anim[],4,FALSE),"") -> 0 | F18: =IFERROR(VLOOKUP((TEXT(F$1,"j/m")&" - "&$A18&" _ "&$B18),repartition_anim[],4,FALSE),"") | G18: =IFERROR(VLOOKUP((TEXT(G$1,"j/m")&" - "&$A18&" _ "&$B18),repartition_anim[],4,FALSE),"") -> 0 | H18: =IFERROR(VLOOKUP((TEXT(H$1,"j/m")&" - "&$A18&" _ "&$B18),repartition_anim[],4,FALSE),"") | I18: =IFERROR(VLOOKUP((TEXT(I$1,"j/m")&" - "&$A18&" _ "&$B18),repartition_anim[],4,FALSE),"") -> 0
A19: repas | B19: 1 | C19: 12h15 - 13h30 | D19: 0.052083333 | E19: =IFERROR(VLOOKUP((TEXT(E$1,"j/m")&" - "&$A19&" _ "&$B19),repartition_anim[],5,FALSE)," ") -> 0 | F19: =IFERROR(VLOOKUP((TEXT(F$1,"j/m")&" - "&$A19&" _ "&$B19),repartition_anim[],5,FALSE)," ") | G19: =IFERROR(VLOOKUP((TEXT(G$1,"j/m")&" - "&$A19&" _ "&$B19),repartition_anim[],5,FALSE)," ") -> 0 | H19: =IFERROR(VLOOKUP((TEXT(H$1,"j/m")&" - "&$A19&" _ "&$B19),repartition_anim[],5,FALSE)," ") | I19: =IFERROR(VLOOKUP((TEXT(I$1,"j/m")&" - "&$A19&" _ "&$B19),repartition_anim[],5,FALSE)," ") -> 0
A20: repas | B20: 1 | C20: 12h15 - 13h30 | D20: 0.052083333
A21: activité après midi | B21: 1 | C21: 13h30 - 16h15 | E21: =IFERROR(VLOOKUP((TEXT(E$1,"j/m")&" - "&$A21&" _ "&$B21),repartition_anim[],2,FALSE),"") -> guillaume | F21: =IFERROR(VLOOKUP((TEXT(F$1,"j/m")&" - "&$A21&" _ "&$B21),repartition_anim[],2,FALSE),"") | G21: =IFERROR(VLOOKUP((TEXT(G$1,"j/m")&" - "&$A21&" _ "&$B21),repartition_anim[],2,FALSE),"") -> laëtitia | H21: =IFERROR(VLOOKUP((TEXT(H$1,"j/m")&" - "&$A21&" _ "&$B21),repartition_anim[],2,FALSE),"") -> Clara | I21: =IFERROR(VLOOKUP((TEXT(I$1,"j/m")&" - "&$A21&" _ "&$B21),repartition_anim[],2,FALSE),"")
A22: activité après midi | B22: 1 | C22: 13h30 - 16h15 | E22: =IFERROR(VLOOKUP((TEXT(E$1,"j/m")&" - "&$A22&" _ "&$B22),repartition_anim[],3,FALSE),"") -> 0 | F22: =IFERROR(VLOOKUP((TEXT(F$1,"j/m")&" - "&$A22&" _ "&$B22),repartition_anim[],3,FALSE),"") | G22: =IFERROR(VLOOKUP((TEXT(G$1,"j/m")&" - "&$A22&" _ "&$B22),repartition_anim[],3,FALSE),"") -> 0 | H22: =IFERROR(VLOOKUP((TEXT(H$1,"j/m")&" - "&$A22&" _ "&$B22),repartition_anim[],3,FALSE),"") -> Guillaume | I22: =IFERROR(VLOOKUP((TEXT(I$1,"j/m")&" - "&$A22&" _ "&$B22),repartition_anim[],3,FALSE),"")
A23: activité après midi | B23: 1 | C23: 13h30 - 16h15 | E23: =IFERROR(VLOOKUP((TEXT(E$1,"j/m")&" - "&$A23&" _ "&$B23),repartition_anim[],4,FALSE),"") -> 0 | F23: =IFERROR(VLOOKUP((TEXT(F$1,"j/m")&" - "&$A23&" _ "&$B23),repartition_anim[],4,FALSE),"") | G23: =IFERROR(VLOOKUP((TEXT(G$1,"j/m")&" - "&$A23&" _ "&$B23),repartition_anim[],4,FALSE),"") -> 0 | H23: =IFERROR(VLOOKUP((TEXT(H$1,"j/m")&" - "&$A23&" _ "&$B23),repartition_anim[],4,FALSE),"") -> laëtitia | I23: =IFERROR(VLOOKUP((TEXT(I$1,"j/m")&" - "&$A23&" _ "&$B23),repartition_anim[],4,FALSE),"")
A24: activité après midi | B24: 1 | C24: 13h30 - 16h12 | E24: =IFERROR(VLOOKUP((TEXT(E$1,"j/m")&" - "&$A24&" _ "&$B24),repartition_anim[],5,FALSE)," ") -> 0 | F24: =IFERROR(VLOOKUP((TEXT(F$1,"j/m")&" - "&$A24&" _ "&$B24),repartition_anim[],5,FALSE)," ") | G24: =IFERROR(VLOOKUP((TEXT(G$1,"j/m")&" - "&$A24&" _ "&$B24),repartition_anim[],5,FALSE)," ") -> 0 | H24: =IFERROR(VLOOKUP((TEXT(H$1,"j/m")&" - "&$A24&" _ "&$B24),repartition_anim[],5,FALSE)," ") -> 0 | I24: =IFERROR(VLOOKUP((TEXT(I$1,"j/m")&" - "&$A24&" _ "&$B24),repartition_anim[],5,FALSE)," ")
A25: activité après midi | B25: 2 | C25: 13h30 - 16h13 | E25: =IFERROR(VLOOKUP((TEXT(E$1,"j/m")&" - "&$A25&" _ "&$B25),repartition_anim[],2,FALSE),"") -> Benjamin | F25: =IFERROR(VLOOKUP((TEXT(F$1,"j/m")&" - "&$A25&" _ "&$B25),repartition_anim[],2,FALSE),"") | G25: =IFERROR(VLOOKUP((TEXT(G$1,"j/m")&" - "&$A25&" _ "&$B25),repartition_anim[],2,FALSE),"") -> Benjamin | H25: =IFERROR(VLOOKUP((TEXT(H$1,"j/m")&" - "&$A25&" _ "&$B25),repartition_anim[],2,FALSE),"") | I25: =IFERROR(VLOOKUP((TEXT(I$1,"j/m")&" - "&$A25&" _ "&$B25),repartition_anim[],2,FALSE),"")
A26: activité après midi | B26: 2 | C26: 13h30 - 16h14 | E26: =IFERROR(VLOOKUP((TEXT(E$1,"j/m")&" - "&$A26&" _ "&$B26),repartition_anim[],3,FALSE),"") -> Clara | F26: =IFERROR(VLOOKUP((TEXT(F$1,"j/m")&" - "&$A26&" _ "&$B26),repartition_anim[],3,FALSE),"") | G26: =IFERROR(VLOOKUP((TEXT(G$1,"j/m")&" - "&$A26&" _ "&$B26),repartition_anim[],3,FALSE),"") -> clara | H26: =IFERROR(VLOOKUP((TEXT(H$1,"j/m")&" - "&$A26&" _ "&$B26),repartition_anim[],3,FALSE),"") | I26: =IFERROR(VLOOKUP((TEXT(I$1,"j/m")&" - "&$A26&" _ "&$B26),repartition_anim[],3,FALSE),"")
A27: activité après midi | B27: 2 | C27: 13h30 - 16h15 | D27: 0.11458333 | E27: =IFERROR(VLOOKUP((TEXT(E$1,"j/m")&" - "&$A27&" _ "&$B27),repartition_anim[],4,FALSE),"") -> 0 | F27: =IFERROR(VLOOKUP((TEXT(F$1,"j/m")&" - "&$A27&" _ "&$B27),repartition_anim[],4,FALSE),"") | G27: =IFERROR(VLOOKUP((TEXT(G$1,"j/m")&" - "&$A27&" _ "&$B27),repartition_anim[],4,FALSE),"") -> 0 | H27: =IFERROR(VLOOKUP((TEXT(H$1,"j/m")&" - "&$A27&" _ "&$B27),repartition_anim[],4,FALSE),"") | I27: =IFERROR(VLOOKUP((TEXT(I$1,"j/m")&" - "&$A27&" _ "&$B27),repartition_anim[],4,FALSE),"")
A28: activité après midi | B28: 2 | C28: 13h30 - 16h15 | D28: 0.11458333 | E28: =IFERROR(VLOOKUP((TEXT(E$1,"j/m")&" - "&$A28&" _ "&$B28),repartition_anim[],5,FALSE)," ") -> 0 | F28: =IFERROR(VLOOKUP((TEXT(F$1,"j/m")&" - "&$A28&" _ "&$B28),repartition_anim[],5,FALSE)," ") | G28: =IFERROR(VLOOKUP((TEXT(G$1,"j/m")&" - "&$A28&" _ "&$B28),repartition_anim[],5,FALSE)," ") -> 0 | H28: =IFERROR(VLOOKUP((TEXT(H$1,"j/m")&" - "&$A28&" _ "&$B28),repartition_anim[],5,FALSE)," ") | I28: =IFERROR(VLOOKUP((TEXT(I$1,"j/m")&" - "&$A28&" _ "&$B28),repartition_anim[],5,FALSE)," ")
A29: activité après midi | B29: 3 | C29: 13h30 - 16h15 | D29: 0.11458333 | E29: =IFERROR(VLOOKUP((TEXT(E$1,"j/m")&" - "&$A29&" _ "&$B29),repartition_anim[],2,FALSE),"") | F29: =IFERROR(VLOOKUP((TEXT(F$1,"j/m")&" - "&$A29&" _ "&$B29),repartition_anim[],2,FALSE),"") | G29: =IFERROR(VLOOKUP((TEXT(G$1,"j/m")&" - "&$A29&" _ "&$B29),repartition_anim[],2,FALSE),"") | H29: =IFERROR(VLOOKUP((TEXT(H$1,"j/m")&" - "&$A29&" _ "&$B29),repartition_anim[],2,FALSE),"") | I29: =IFERROR(VLOOKUP((TEXT(I$1,"j/m")&" - "&$A29&" _ "&$B29),repartition_anim[],2,FALSE),"")
A30: activité après midi | B30: 3 | C30: 13h30 - 16h15 | D30: 0.11458333 | E30: =IFERROR(VLOOKUP((TEXT(E$1,"j/m")&" - "&$A30&" _ "&$B30),repartition_anim[],3,FALSE),"") | F30: =IFERROR(VLOOKUP((TEXT(F$1,"j/m")&" - "&$A30&" _ "&$B30),repartition_anim[],3,FALSE),"") | G30: =IFERROR(VLOOKUP((TEXT(G$1,"j/m")&" - "&$A30&" _ "&$B30),repartition_anim[],3,FALSE),"") | H30: =IFERROR(VLOOKUP((TEXT(H$1,"j/m")&" - "&$A30&" _ "&$B30),repartition_anim[],3,FALSE),"") | I30: =IFERROR(VLOOKUP((TEXT(I$1,"j/m")&" - "&$A30&" _ "&$B30),repartition_anim[],3,FALSE),"")
A31: activité après midi | B31: 3 | C31: 13h30 - 16h15 | D31: 0.11458333 | E31: =IFERROR(VLOOKUP((TEXT(E$1,"j/m")&" - "&$A31&" _ "&$B31),repartition_anim[],4,FALSE),"") | F31: =IFERROR(VLOOKUP((TEXT(F$1,"j/m")&" - "&$A31&" _ "&$B31),repartition_anim[],4,FALSE),"") | G31: =IFERROR(VLOOKUP((TEXT(G$1,"j/m")&" - "&$A31&" _ "&$B31),repartition_anim[],4,FALSE),"") | H31: =IFERROR(VLOOKUP((TEXT(H$1,"j/m")&" - "&$A31&" _ "&$B31),repartition_anim[],4,FALSE),"") | I31: =IFERROR(VLOOKUP((TEXT(I$1,"j/m")&" - "&$A31&" _ "&$B31),repartition_anim[],4,FALSE),"")
A32: activité après midi | B32: 3 | D32: 0.11458333 | E32: =IFERROR(VLOOKUP((TEXT(E$1,"j/m")&" - "&$A32&" _ "&$B32),repartition_anim[],5,FALSE)," ") | F32: =IFERROR(VLOOKUP((TEXT(F$1,"j/m")&" - "&$A32&" _ "&$B32),repartition_anim[],5,FALSE)," ") | G32: =IFERROR(VLOOKUP((TEXT(G$1,"j/m")&" - "&$A32&" _ "&$B32),repartition_anim[],5,FALSE)," ") | H32: =IFERROR(VLOOKUP((TEXT(H$1,"j/m")&" - "&$A32&" _ "&$B32),repartition_anim[],5,FALSE)," ") | I32: =IFERROR(VLOOKUP((TEXT(I$1,"j/m")&" - "&$A32&" _ "&$B32),repartition_anim[],5,FALSE)," ")
A33: Prépa apres midi | B33: 1 | C33: 13h30 - 16h15 | D33: 0.083333333
A34: Accueil Soir | B34: 1 | C34: 16h15 - 18h30 | D34: 0.09375 | E34: =IFERROR(VLOOKUP((TEXT(E$1,"j/m")&" - "&$A34&" _ "&$B34),repartition_anim[],2,FALSE),"") -> Clara | F34: =IFERROR(VLOOKUP((TEXT(F$1,"j/m")&" - "&$A34&" _ "&$B34),repartition_anim[],2,FALSE),"") -> laëtitia | G34: =IFERROR(VLOOKUP((TEXT(G$1,"j/m")&" - "&$A34&" _ "&$B34),repartition_anim[],2,FALSE),"") -> Benjamin | H34: =IFERROR(VLOOKUP((TEXT(H$1,"j/m")&" - "&$A34&" _ "&$B34),repartition_anim[],2,FALSE),"") -> Guillaume | I34: =IFERROR(VLOOKUP((TEXT(I$1,"j/m")&" - "&$A34&" _ "&$B34),repartition_anim[],2,FALSE),"") -> Clara
A36: Soirée | B36: 1 | C36: 20h - 22h15 | D36: 0.09375 | E36: =IFERROR(VLOOKUP((TEXT(E$1,"j/m")&" - "&$A36&" _ "&$B36),repartition_anim[],2,FALSE),"") | F36: =IFERROR(VLOOKUP((TEXT(F$1,"j/m")&" - "&$A36&" _ "&$B36),repartition_anim[],2,FALSE),"") | G36: =IFERROR(VLOOKUP((TEXT(G$1,"j/m")&" - "&$A36&" _ "&$B36),repartition_anim[],2,FALSE),"") -> guillaume | H36: =IFERROR(VLOOKUP((TEXT(H$1,"j/m")&" - "&$A36&" _ "&$B36),repartition_anim[],2,FALSE),"") | I36: =IFERROR(VLOOKUP((TEXT(I$1,"j/m")&" - "&$A36&" _ "&$B36),repartition_anim[],2,FALSE),"")
A37: Soirée | B37: 1 | C37: 20h - 22h15 | D37: 0.09375 | E37: =IFERROR(VLOOKUP((TEXT(E$1,"j/m")&" - "&$A37&" _ "&$B37),repartition_anim[],3,FALSE),"") | F37: =IFERROR(VLOOKUP((TEXT(F$1,"j/m")&" - "&$A37&" _ "&$B37),repartition_anim[],3,FALSE),"") | G37: =IFERROR(VLOOKUP((TEXT(G$1,"j/m")&" - "&$A37&" _ "&$B37),repartition_anim[],3,FALSE),"") -> Benjamin | H37: =IFERROR(VLOOKUP((TEXT(H$1,"j/m")&" - "&$A37&" _ "&$B37),repartition_anim[],3,FALSE),"") | I37: =IFERROR(VLOOKUP((TEXT(I$1,"j/m")&" - "&$A37&" _ "&$B37),repartition_anim[],3,FALSE),"")
A38: Soirée | B38: 1 | C38: 20h - 22h15 | D38: 0.09375 | E38: =IFERROR(VLOOKUP((TEXT(E$1,"j/m")&" - "&$A38&" _ "&$B38),repartition_anim[],4,FALSE),"") | F38: =IFERROR(VLOOKUP((TEXT(F$1,"j/m")&" - "&$A38&" _ "&$B38),repartition_anim[],4,FALSE),"") | G38: =IFERROR(VLOOKUP((TEXT(G$1,"j/m")&" - "&$A38&" _ "&$B38),repartition_anim[],4,FALSE),"") -> Clara | H38: =IFERROR(VLOOKUP((TEXT(H$1,"j/m")&" - "&$A38&" _ "&$B38),repartition_anim[],4,FALSE),"") | I38: =IFERROR(VLOOKUP((TEXT(I$1,"j/m")&" - "&$A38&" _ "&$B38),repartition_anim[],4,FALSE),"")
A39: Soirée | B39: 1 | C39: 20h - 22h15 | D39: 0.09375 | E39: =IFERROR(VLOOKUP((TEXT(E$1,"j/m")&" - "&$A39&" _ "&$B39),repartition_anim[],5,FALSE)," ") | F39: =IFERROR(VLOOKUP((TEXT(F$1,"j/m")&" - "&$A39&" _ "&$B39),repartition_anim[],5,FALSE)," ") | G39: =IFERROR(VLOOKUP((TEXT(G$1,"j/m")&" - "&$A39&" _ "&$B39),repartition_anim[],5,FALSE)," ") -> 0 | H39: =IFERROR(VLOOKUP((TEXT(H$1,"j/m")&" - "&$A39&" _ "&$B39),repartition_anim[],5,FALSE)," ") | I39: =IFERROR(VLOOKUP((TEXT(I$1,"j/m")&" - "&$A39&" _ "&$B39),repartition_anim[],5,FALSE)," ")
A40: Soirée | B40: 1 | C40: 20h - 22h15 | D40: 0.09375
A41: Soirée | B41: 1 | C41: 20h - 22h15 | D41: 0.09375
...

Sheet Donnée
A1: Activité | B1: quand | C1: Colonne1 | D1: début | E1: fin | F1: total
A2: B1 | B2: activité matin | C2: Matin | D2: 0.39583333 | E2: 0.51041667 | F2: =E2-D2 -> 0.11458333
A3: B2 | B3: activité matin | C3: Matin | D3: 0.39583333 | E3: 0.51041667 | F3: =E3-D3 -> 0.11458333
A4: B3 | B4: activité matin | C4: Matin | D4: 0.39583333 | E4: 0.51041667 | F4: =E4-D4 -> 0.11458333
A5: B4 | B5: activité matin | C5: Matin | D5: 0.39583333 | E5: 0.51041667 | F5: =E5-D5 -> 0.11458333
A6: B5 | B6: activité matin | C6: Matin | D6: 0.39583333 | E6: 0.51041667 | F6: =E6-D6 -> 0.11458333
A7: E1 - M | B7: activité matin | C7: Matin | D7: 0.39583333 | E7: 0.51041667 | F7: =E7-D7 -> 0.11458333
A8: E2 - M | B8: activité matin | C8: Matin | D8: 0.39583333 | E8: 0.51041667 | F8: =E8-D8 -> 0.11458333
A9: E3 - M | B9: activité matin | C9: Matin | D9: 0.39583333 | E9: 0.51041667 | F9: =E9-D9 -> 0.11458333
A10: E4 - M | B10: activité matin | C10: Matin | D10: 0.39583333 | E10: 0.51041667 | F10: =E10-D10 -> 0.11458333
A11: E5 - M | B11: activité matin | C11: Matin | D11: 0.39583333 | E11: 0.51041667 | F11: =E11-D11 -> 0.11458333
A12: B10 | B12: prépa matin | C12: Prépa matin | D12: 0.41666667 | E12: 0.5 | F12: =E12-D12 -> 0.083333333
A13: C1 | B13: activité après midi | C13: Apres midi | D13: 0.5625 | E13: 0.67708333 | F13: =E13-D13 -> 0.11458333
... A22: F1 | B22: Soirée | C22: Veillé | D22: 0.82291667 | E22: 0.92708333 | F22: =E22-D22 -> 0.10416667
A23: F2 | B23: Soirée | C23: Veillé | D23: 0.72916667 | E23: 0.5 | F23: 0.41666667
A24: F3 | B24: Soirée | C24: Veillé | D24: 0.79166667 | E24: 0.9375 | F24: =E24-D24 -> 0.14583333
A25: G1 | B25: journée | F25: =E25-D25 -> 0
A26: G2 | B26: journée | F26: =E26-D26 -> 0
A27: G3 | B27: journée | C27: journée | D27: 0.39583333 | E27: 0.67708333 | F27: =E27-D27 -> 0.28125
A28: D2 | B28: journée | C28: journée | D28: 0.375 | E28: 0.75 | F28: =E28-D28 -> 0.375
A29: D3 | B29: journée | C29: journée | D29: 0.375 | E29: 0.75 | F29: =E29-D29 -> 0.375
A30: D4 | B30: journée | C30: journée | D30: 0.375 | E30: 0.75 | F30: =E30-D30 -> 0.375
A31: D1 | B31: Sortie demi journée | C31: 1/2 journée | D31: 0.55208333 | E31: 0.77083333 | F31: =E31-D31 -> 0.21875
A32: A1 | B32: Accueil Matin | C32: Matin | D32: 0.33333333 | E32: 0.39583333 | F32: =E32-D32 -> 0.0625
A33: A10 | B33: prépa repas | C33: Prépa repas | D33: 0.47916667 | E33: 0.5625 | F33: =E33-D33 -> 0.083333333
A34: A2 | B34: repas | C34: Repas | D34: 0.51041667 | E34: 0.5625 | F34: =E34-D34 -> 0.052083333
A35: A3 | B35: Accueil Soir | C35: Accueil Soir | D35: 0.6875 | E35: 0.77083333 | F35: =E35-D35 -> 0.083333333

Sheet Feuil1
