Workbook

Sheet Calcul théorique deadline
B1: OUTIL CAPA / CHARGE
F4: CALCUL THEORIQUE POUR MISSION AVEC DATE DE FIN SOUHAITEE
B6: N° de mission | C6: Client | D6: Référence de la pièce | E6: Quantité de pièces à contrôler | F6: Cadence / heure / personne estimée | G6: Nombre d'heures de tri estimées pour 1 personne | H6: Date de fin souhaitée | I6: Date de démarrage estimée | J6: Nombre de jours de tri | K6: Nombre d'heures de tri maximum | L6: Nombre de personnes par équipe nécessaires
B7: 1 | D7: AHV Multiref | G7: =E7/F7 -> #DIV/0! | J7: =NETWORKDAYS(I7,H7) -> 0 | K7: =J7*14 -> 0 | L7: =ROUNDUP(G7/K7,0) -> #DIV/0!
B8: 2 | D8: Plaques | G8: =E8/F8 -> #DIV/0! | J8: =NETWORKDAYS(I8,H8) -> 0 | K8: =J8*14 -> 0 | L8: =ROUNDUP(G8/K8,0) -> #DIV/0!
B9: 3 | D9: WT BDA 1074 | E9: 28500 | F9: 950 | G9: =E9/F9 -> 30 | I9: 43157.719 | J9: =NETWORKDAYS(I9,H9) -> -30826 | K9: =J9*14 -> -431564 | L9: =ROUNDUP(G9/K9,0) -> -1
B10: 4 | D10: BRU 0459 | E10: 69930 | F10: 630 | G10: =E10/F10 -> 111 | J10: =NETWORKDAYS(I10,H10) -> 0 | K10: =J10*14 -> 0 | L10: =ROUNDUP(G10/K10,0) -> #DIV/0!
B11: 5 | D11: ARB 1330 | E11: 90000 | F11: 384 | G11: =E11/F11 -> 234.375 | I11: 43150.583 | J11: =NETWORKDAYS(I11,H11) -> -30821 | K11: =J11*14 -> -431494 | L11: =ROUNDUP(G11/K11,0) -> -1
B12: 6 | D12: BDA 1129 | E12: 63000 | F12: 500 | G12: =E12/F12 -> 126 | I12: 43153.75 | J12: =NETWORKDAYS(I12,H12) -> -30824 | K12: =J12*14 -> -431536 | L12: =ROUNDUP(G12/K12,0) -> -1
G13: =E13/F13 -> #DIV/0! | J13: =NETWORKDAYS(I13,H13) -> 0 | K13: =J13*14 -> 0 | L13: =ROUNDUP(G13/K13,0) -> #DIV/0!
G14: =E14/F14 -> #DIV/0! | J14: =NETWORKDAYS(I14,H14) -> 0 | K14: =J14*14 -> 0 | L14: =ROUNDUP(G14/K14,0) -> #DIV/0!
G15: =E15/F15 -> #DIV/0! | J15: =NETWORKDAYS(I15,H15) -> 0 | K15: =J15*14 -> 0 | L15: =ROUNDUP(G15/K15,0) -> #DIV/0!
G16: =E16/F16 -> #DIV/0! | J16: =NETWORKDAYS(I16,H16) -> 0 | K16: =J16*14 -> 0 | L16: =ROUNDUP(G16/K16,0) -> #DIV/0!
G17: =E17/F17 -> #DIV/0! | J17: =NETWORKDAYS(I17,H17) -> 0 | K17: =J17*14 -> 0 | L17: =ROUNDUP(G17/K17,0) -> #DIV/0!
G18: =E18/F18 -> #DIV/0! | J18: =NETWORKDAYS(I18,H18) -> 0 | K18: =J18*14 -> 0 | L18: =ROUNDUP(G18/K18,0) -> #DIV/0!
G19: =E19/F19 -> #DIV/0! | J19: =NETWORKDAYS(I19,H19) -> 0 | K19: =J19*14 -> 0 | L19: =ROUNDUP(G19/K19,0) -> #DIV/0!
G20: =E20/F20 -> #DIV/0! | J20: =NETWORKDAYS(I20,H20) -> 0 | K20: =J20*14 -> 0 | L20: =ROUNDUP(G20/K20,0) -> #DIV/0!
G21: =E21/F21 -> #DIV/0! | J21: =NETWORKDAYS(I21,H21) -> 0 | K21: =J21*14 -> 0 | L21: =ROUNDUP(G21/K21,0) -> #DIV/0!
G22: =E22/F22 -> #DIV/0! | J22: =NETWORKDAYS(I22,H22) -> 0 | K22: =J22*14 -> 0 | L22: =ROUNDUP(G22/K22,0) -> #DIV/0!
G23: =E23/F23 -> #DIV/0! | J23: =NETWORKDAYS(I23,H23) -> 0 | K23: =J23*14 -> 0 | L23: =ROUNDUP(G23/K23,0) -> #DIV/0!

Sheet Etat réel 
B1: OUTIL CAPA / CHARGE
F4: ETAT REEL DE LA MISSION
B6: N° de mission | C6: Client | D6: Référence de la pièce | E6: Quantité de pièces à contrôler | F6: Date de démarrage | G6: Quantité réel restante à contrôler | H6: Date et heure de cette quantité restante | I6: Cadence de la mission | J6: Nombre d'heures de travail restant | K6: Nombre de jours restants | L6: Date de fin prévue | M6: Poste(s) de travail utilisé(s)
B7: ='Calcul théorique deadline'!B7 -> 1 | C7: ='Calcul théorique deadline'!C7 -> 0 | D7: ='Calcul théorique deadline'!D7 -> AHV Multiref | E7: ='Calcul théorique deadline'!E7 -> 0 | I7: ='Calcul théorique deadline'!F7 -> 0 | J7: =G7/(I7*'Calcul théorique deadline'!L7) -> #DIV/0! | K7: =ROUNDUP(J7/14,0) -> #DIV/0! | L7: =H7+K7 -> #DIV/0! | M7: Poste 4
B8: ='Calcul théorique deadline'!B8 -> 2 | C8: ='Calcul théorique deadline'!C8 -> 0 | D8: ='Calcul théorique deadline'!D8 -> Plaques | E8: ='Calcul théorique deadline'!E8 -> 0 | I8: ='Calcul théorique deadline'!F8 -> 0 | J8: =G8/(I8*'Calcul théorique deadline'!L8) -> #DIV/0! | K8: =ROUNDUP(J8/14,0) -> #DIV/0! | L8: =H8+K8 -> #DIV/0! | M8: Poste 8
B9: ='Calcul théorique deadline'!B9 -> 3 | C9: ='Calcul théorique deadline'!C9 -> 0 | D9: ='Calcul théorique deadline'!D9 -> WT BDA 1074 | E9: ='Calcul théorique deadline'!E9 -> 28500 | F9: 43157.719 | G9: 24700 | H9: 43157.875 | I9: ='Calcul théorique deadline'!F9 -> 950 | J9: =G9/(I9*'Calcul théorique deadline'!L9) -> -26 | K9: =ROUNDUP(J9/14,0) -> -2 | L9: =H9+K9 -> 43155.875 | M9: Poste 1
B10: ='Calcul théorique deadline'!B10 -> 4 | C10: ='Calcul théorique deadline'!C10 -> 0 | D10: ='Calcul théorique deadline'!D10 -> BRU 0459 | E10: ='Calcul théorique deadline'!D10 -> BRU 0459 | I10: ='Calcul théorique deadline'!F10 -> 630 | J10: =G10/(I10*'Calcul théorique deadline'!L10) -> #DIV/0! | K10: =ROUNDUP(J10/14,0) -> #DIV/0! | L10: =H10+K10 -> #DIV/0! | M10: Poste 2
B11: ='Calcul théorique deadline'!B11 -> 5 | C11: ='Calcul théorique deadline'!C11 -> 0 | D11: ='Calcul théorique deadline'!D11 -> ARB 1330 | E11: ='Calcul théorique deadline'!E11 -> 90000 | F11: 43150.583 | G11: 41128 | H11: 43157.875 | I11: ='Calcul théorique deadline'!F11 -> 384 | J11: =G11/(I11*'Calcul théorique deadline'!L11) -> -107.10417 | K11: =ROUNDUP(J11/14,0) -> -8 | L11: =H11+K11 -> 43149.875 | M11: Poste 6
B12: ='Calcul théorique deadline'!B12 -> 6 | C12: ='Calcul théorique deadline'!C12 -> 0 | D12: ='Calcul théorique deadline'!D12 -> BDA 1129 | E12: ='Calcul théorique deadline'!E12 -> 63000 | F12: 43153.75 | G12: 53100 | H12: 43157.875 | I12: ='Calcul théorique deadline'!F12 -> 500 | J12: =G12/(I12*'Calcul théorique deadline'!L12) -> -106.2 | K12: =ROUNDUP(J12/14,0) -> -8 | L12: =H12+K12 -> 43149.875 | M12: Poste 3
B13: ='Calcul théorique deadline'!B13 -> 0 | C13: ='Calcul théorique deadline'!C13 -> 0 | D13: ='Calcul théorique deadline'!D13 -> 0 | E13: ='Calcul théorique deadline'!E13 -> 0 | I13: ='Calcul théorique deadline'!F13 -> 0 | J13: =G13/(I13*'Calcul théorique deadline'!L13) -> #DIV/0! | K13: =ROUNDUP(J13/14,0) -> #DIV/0! | L13: =H13+K13 -> #DIV/0!
B14: ='Calcul théorique deadline'!B14 -> 0 | C14: ='Calcul théorique deadline'!C14 -> 0 | D14: ='Calcul théorique deadline'!D14 -> 0 | E14: ='Calcul théorique deadline'!E14 -> 0 | I14: ='Calcul théorique deadline'!F14 -> 0 | J14: =G14/(I14*'Calcul théorique deadline'!L14) -> #DIV/0! | K14: =ROUNDUP(J14/14,0) -> #DIV/0! | L14: =H14+K14 -> #DIV/0!
B15: ='Calcul théorique deadline'!B15 -> 0 | C15: ='Calcul théorique deadline'!C15 -> 0 | D15: ='Calcul théorique deadline'!D15 -> 0 | E15: ='Calcul théorique deadline'!E15 -> 0 | I15: ='Calcul théorique deadline'!F15 -> 0 | J15: =G15/(I15*'Calcul théorique deadline'!L15) -> #DIV/0! | K15: =ROUNDUP(J15/14,0) -> #DIV/0! | L15: =H15+K15 -> #DIV/0!
B16: ='Calcul théorique deadline'!B16 -> 0 | C16: ='Calcul théorique deadline'!C16 -> 0 | D16: ='Calcul théorique deadline'!D16 -> 0 | E16: ='Calcul théorique deadline'!E16 -> 0 | I16: ='Calcul théorique deadline'!F16 -> 0 | J16: =G16/(I16*'Calcul théorique deadline'!L16) -> #DIV/0! | K16: =ROUNDUP(J16/14,0) -> #DIV/0! | L16: =H16+K16 -> #DIV/0!
B17: ='Calcul théorique deadline'!B17 -> 0 | C17: ='Calcul théorique deadline'!C17 -> 0 | D17: ='Calcul théorique deadline'!D17 -> 0 | E17: ='Calcul théorique deadline'!E17 -> 0 | I17: ='Calcul théorique deadline'!F17 -> 0 | J17: =G17/(I17*'Calcul théorique deadline'!L17) -> #DIV/0! | K17: =ROUNDUP(J17/14,0) -> #DIV/0! | L17: =H17+K17 -> #DIV/0!
B18: ='Calcul théorique deadline'!B18 -> 0 | C18: ='Calcul théorique deadline'!C18 -> 0 | D18: ='Calcul théorique deadline'!D18 -> 0 | E18: ='Calcul théorique deadline'!E18 -> 0 | I18: ='Calcul théorique deadline'!F18 -> 0 | J18: =G18/(I18*'Calcul théorique deadline'!L18) -> #DIV/0! | K18: =ROUNDUP(J18/14,0) -> #DIV/0! | L18: =H18+K18 -> #DIV/0!
B19: ='Calcul théorique deadline'!B19 -> 0 | C19: ='Calcul théorique deadline'!C19 -> 0 | D19: ='Calcul théorique deadline'!D19 -> 0 | E19: ='Calcul théorique deadline'!E19 -> 0 | I19: ='Calcul théorique deadline'!F19 -> 0 | J19: =G19/(I19*'Calcul théorique deadline'!L19) -> #DIV/0! | K19: =ROUNDUP(J19/14,0) -> #DIV/0! | L19: =H19+K19 -> #DIV/0!
B20: ='Calcul théorique deadline'!B20 -> 0 | C20: ='Calcul théorique deadline'!C20 -> 0 | D20: ='Calcul théorique deadline'!D20 -> 0 | E20: ='Calcul théorique deadline'!E20 -> 0 | I20: ='Calcul théorique deadline'!F20 -> 0 | J20: =G20/(I20*'Calcul théorique deadline'!L20) -> #DIV/0! | K20: =ROUNDUP(J20/14,0) -> #DIV/0! | L20: =H20+K20 -> #DIV/0!
B21: ='Calcul théorique deadline'!B21 -> 0 | C21: ='Calcul théorique deadline'!C21 -> 0 | D21: ='Calcul théorique deadline'!D21 -> 0 | E21: ='Calcul théorique deadline'!E21 -> 0 | I21: ='Calcul théorique deadline'!F21 -> 0 | J21: =G21/(I21*'Calcul théorique deadline'!L21) -> #DIV/0! | K21: =ROUNDUP(J21/14,0) -> #DIV/0! | L21: =H21+K21 -> #DIV/0!
B22: ='Calcul théorique deadline'!B22 -> 0 | C22: ='Calcul théorique deadline'!C22 -> 0 | D22: ='Calcul théorique deadline'!D22 -> 0 | E22: ='Calcul théorique deadline'!E22 -> 0 | I22: ='Calcul théorique deadline'!F22 -> 0 | J22: =G22/(I22*'Calcul théorique deadline'!L22) -> #DIV/0! | K22: =ROUNDUP(J22/14,0) -> #DIV/0! | L22: =H22+K22 -> #DIV/0!
B23: ='Calcul théorique deadline'!B23 -> 0 | C23: ='Calcul théorique deadline'!C23 -> 0 | D23: ='Calcul théorique deadline'!D23 -> 0 | E23: ='Calcul théorique deadline'!E23 -> 0 | I23: ='Calcul théorique deadline'!F23 -> 0 | J23: =G23/(I23*'Calcul théorique deadline'!L23) -> #DIV/0! | K23: =ROUNDUP(J23/14,0) -> #DIV/0! | L23: =H23+K23 -> #DIV/0!
B32: Poste 1 | C32: Poste 2 | D32: Poste 3 | E32: Poste 4 | F32: Poste 5 | G32: Poste 6 | L32: Poste 7 | M32: Poste 8
F39: N° de Poste | G39: Nbre de personnes max sur le poste
F40: Poste 1 | G40: 2
F41: Poste 2 | G41: 1
F42: Poste 3 | G42: 2
F43: Poste 4 | G43: 1
F44: Poste 5 | G44: 1
F45: Poste 6 | G45: 2
F46: Poste 7 | G46: 1
F47: Poste 8 | G47: 2
