Workbook

Sheet VIERGE
I1: JOUR | J1: MOIS | K1: =+#REF! -> #REF! | W1: TOTAL DU JOUR
A2: CHAUFFEUR | B2: A | C2: B | D2: C | E2: D | F2: E | G2: F | H2: G | I2: H | J2: I | K2: J | L2: K | M2: L | N2: M | O2: N | P2: O | Q2: PATRICK | R2: P | S2: Q | T2: R | U2: S | V2: T
A4: Points en WC (relais inclus) | W4: =+SUM(B4:V4) -> 0
A5: Points OK | W5: =+SUM(B5:V5) -> 0
A6: Points Neighbour | W6: =+SUM(B6:V6) -> 0
A7: Points refusés | W7: =+SUM(B7:V7) -> 0
A8: Nombre de points relais | W8: =+SUM(B8:V8) -> 0
A9: Points avisés CC | W9: =+SUM(B9:V9) -> 0
A10: Points en retour | W10: =+SUM(B10:V10) -> 0
A11: Collectes tentées | W11: =+SUM(B11:V11) -> 0
A12: Collectes OK | W12: =+SUM(B12:V12) -> 0
A13: Collectes en echec | W13: =+SUM(B13:V13) -> 0
A14: Points livrés en agence | W14: =+SUM(B14:V14) -> 0
A15: Pénalités générées | W15: =+SUM(B15:V15) -> 0
A16: COHERENCE CHIFFRES | B16: =+IF(B4+B11=B5+B6+B7+B8+B9+B10+B12+B13,"OK","ERREUR") -> OK | C16: =+IF(C4+C11=C5+C6+C7+C8+C9+C10+C12+C13,"OK","ERREUR") -> OK | D16: =+IF(D4+D11=D5+D6+D7+D8+D9+D10+D12+D13,"OK","ERREUR") -> OK | E16: =+IF(E4+E11=E5+E6+E7+E8+E9+E10+E12+E13,"OK","ERREUR") -> OK | F16: =+IF(F4+F11=F5+F6+F7+F8+F9+F10+F12+F13,"OK","ERREUR") -> OK | G16: =+IF(G4+G11=G5+G6+G7+G8+G9+G10+G12+G13,"OK","ERREUR") -> OK | H16: =+IF(H4+H11=H5+H6+H7+H8+H9+H10+H12+H13,"OK","ERREUR") -> OK | I16: =+IF(I4+I11=I5+I6+I7+I8+I9+I10+I12+I13,"OK","ERREUR") -> OK | ... W16: =+IF(W4+W11=W5+W6+W7+W8+W9+W10+W12+W13,"OK","ERREUR") -> OK
A17: CA DHL du jour
A18: Taux de réussite

Sheet 01
I1: 1 | J1: MARS | K1: =+#REF! -> #REF! | W1: TOTAL DU JOUR
A2: CHAUFFEUR | B2: A | C2: B | D2: C | E2: D | F2: E | G2: F | H2: G | I2: H | J2: I | K2: J | L2: K | M2: L | N2: M | O2: N | P2: O | Q2: PATRICK | R2: P | S2: Q | T2: R | U2: S | V2: T
A4: Points en WC (relais inclus) | B4: 4 | C4: 5 | W4: =+SUM(B4:V4) -> 9
A5: Points OK | B5: 4 | C5: 4 | W5: =+SUM(B5:V5) -> 8
A6: Points Neighbour | C6: 1 | W6: =+SUM(B6:V6) -> 1
A7: Points refusés | W7: =+SUM(B7:V7) -> 0
A8: Nombre de points relais | W8: =+SUM(B8:V8) -> 0
A9: Points avisés CC | W9: =+SUM(B9:V9) -> 0
A10: Points en retour | W10: =+SUM(B10:V10) -> 0
A11: Collectes tentées | W11: =+SUM(B11:V11) -> 0
A12: Collectes OK | W12: =+SUM(B12:V12) -> 0
A13: Collectes en echec | W13: =+SUM(B13:V13) -> 0
A14: Points livrés en agence | W14: =+SUM(B14:V14) -> 0
A15: Pénalités générées | W15: =+SUM(B15:V15) -> 0
A16: COHERENCE CHIFFRES | B16: =+IF(B4+B11=B5+B6+B7+B8+B9+B10+B12+B13,"OK","ERREUR") -> OK | C16: =+IF(C4+C11=C5+C6+C7+C8+C9+C10+C12+C13,"OK","ERREUR") -> OK | D16: =+IF(D4+D11=D5+D6+D7+D8+D9+D10+D12+D13,"OK","ERREUR") -> OK | E16: =+IF(E4+E11=E5+E6+E7+E8+E9+E10+E12+E13,"OK","ERREUR") -> OK | F16: =+IF(F4+F11=F5+F6+F7+F8+F9+F10+F12+F13,"OK","ERREUR") -> OK | G16: =+IF(G4+G11=G5+G6+G7+G8+G9+G10+G12+G13,"OK","ERREUR") -> OK | H16: =+IF(H4+H11=H5+H6+H7+H8+H9+H10+H12+H13,"OK","ERREUR") -> OK | I16: =+IF(I4+I11=I5+I6+I7+I8+I9+I10+I12+I13,"OK","ERREUR") -> OK | ... W16: =+IF(W4+W11=W5+W6+W7+W8+W9+W10+W12+W13,"OK","ERREUR") -> OK
A17: CA DHL du jour
A18: Taux de réussite

Sheet 02
I1: 2 | J1: =+'01'!$J$1 -> MARS | K1: =+#REF! -> #REF! | W1: TOTAL DU JOUR | X1: REPORT PRECEDENT | Y1: TOTAL CUMULE
A2: CHAUFFEUR | B2: A | C2: B | D2: C | E2: D | F2: E | G2: F | H2: G | I2: H | J2: I | K2: J | L2: K | M2: L | N2: M | O2: N | P2: O | Q2: PATRICK | R2: P | S2: Q | T2: R | U2: S | V2: T
A4: Points en WC (relais inclus) | B4: 3 | C4: 6 | W4: =+SUM(B4:V4) -> 9 | X4: =+'01'!W4 -> 9 | Y4: =+W4+X4 -> 18
A5: Points OK | B5: 3 | C5: 5 | W5: =+SUM(B5:V5) -> 8 | X5: =+'01'!W5 -> 8 | Y5: =+W5+X5 -> 16
A6: Points Neighbour | C6: 1 | W6: =+SUM(B6:V6) -> 1 | X6: =+'01'!W6 -> 1 | Y6: =+W6+X6 -> 2
A7: Points refusés | W7: =+SUM(B7:V7) -> 0 | X7: =+'01'!W7 -> 0 | Y7: =+W7+X7 -> 0
A8: Nombre de points relais | W8: =+SUM(B8:V8) -> 0 | X8: =+'01'!W8 -> 0 | Y8: =+W8+X8 -> 0
A9: Points avisés CC | W9: =+SUM(B9:V9) -> 0 | X9: =+'01'!W9 -> 0 | Y9: =+W9+X9 -> 0
A10: Points en retour | W10: =+SUM(B10:V10) -> 0 | X10: =+'01'!W10 -> 0 | Y10: =+W10+X10 -> 0
A11: Collectes tentées | W11: =+SUM(B11:V11) -> 0 | X11: =+'01'!W11 -> 0 | Y11: =+W11+X11 -> 0
A12: Collectes OK | W12: =+SUM(B12:V12) -> 0 | X12: =+'01'!W12 -> 0 | Y12: =+W12+X12 -> 0
A13: Collectes en echec | W13: =+SUM(B13:V13) -> 0 | X13: =+'01'!W13 -> 0 | Y13: =+W13+X13 -> 0
A14: Points livrés en agence | W14: =+SUM(B14:V14) -> 0 | X14: =+'01'!W14 -> 0 | Y14: =+W14+X14 -> 0
A15: Pénalités générées | W15: =+SUM(B15:V15) -> 0 | X15: =+'01'!W15 -> 0 | Y15: =+W15+X15 -> 0
A16: COHERENCE CHIFFRES | B16: =+IF(B4+B11=B5+B6+B7+B8+B9+B10+B12+B13,"OK","ERREUR") -> OK | C16: =+IF(C4+C11=C5+C6+C7+C8+C9+C10+C12+C13,"OK","ERREUR") -> OK | D16: =+IF(D4+D11=D5+D6+D7+D8+D9+D10+D12+D13,"OK","ERREUR") -> OK | E16: =+IF(E4+E11=E5+E6+E7+E8+E9+E10+E12+E13,"OK","ERREUR") -> OK | F16: =+IF(F4+F11=F5+F6+F7+F8+F9+F10+F12+F13,"OK","ERREUR") -> OK | G16: =+IF(G4+G11=G5+G6+G7+G8+G9+G10+G12+G13,"OK","ERREUR") -> OK | H16: =+IF(H4+H11=H5+H6+H7+H8+H9+H10+H12+H13,"OK","ERREUR") -> OK | I16: =+IF(I4+I11=I5+I6+I7+I8+I9+I10+I12+I13,"OK","ERREUR") -> OK | ... Y16: =+IF(Y4+Y11=Y5+Y6+Y7+Y8+Y9+Y10+Y12+Y13,"OK","ERREUR") -> OK
A17: CA DHL du jour | X17: =((X4-X9-X10+X11-X13+X14)*#REF!)-X15 -> #REF! | Y17: =((Y4-Y9-Y10+Y11-Y13+Y14)*#REF!)-Y15 -> #REF!
A18: Taux de réussite | X18: =+IF(X4+X11=0,0%,100%-(X9+X10+X13)/(X4+X11)) -> 1 | Y18: =+IF(Y4+Y11=0,0%,100%-(Y9+Y10+Y13)/(Y4+Y11)) -> 1

Sheet 03
I1: 3 | J1: =+'01'!$J$1 -> MARS | K1: =+#REF! -> #REF! | W1: TOTAL DU JOUR | X1: REPORT PRECEDENT | Y1: TOTAL CUMULE
A2: CHAUFFEUR | B2: A | C2: B | D2: C | E2: D | F2: E | G2: F | H2: G | I2: H | J2: I | K2: J | L2: K | M2: L | N2: M | O2: N | P2: O | Q2: PATRICK | R2: P | S2: Q | T2: R | U2: S | V2: T
A4: Points en WC (relais inclus) | W4: =+SUM(B4:V4) -> 0 | X4: =+'02'!W4 -> 9 | Y4: =+W4+X4 -> 9
A5: Points OK | W5: =+SUM(B5:V5) -> 0 | X5: =+'02'!W5 -> 8 | Y5: =+W5+X5 -> 8
A6: Points Neighbour | W6: =+SUM(B6:V6) -> 0 | X6: =+'02'!W6 -> 1 | Y6: =+W6+X6 -> 1
A7: Points refusés | W7: =+SUM(B7:V7) -> 0 | X7: =+'02'!W7 -> 0 | Y7: =+W7+X7 -> 0
A8: Nombre de points relais | W8: =+SUM(B8:V8) -> 0 | X8: =+'02'!W8 -> 0 | Y8: =+W8+X8 -> 0
A9: Points avisés CC | W9: =+SUM(B9:V9) -> 0 | X9: =+'02'!W9 -> 0 | Y9: =+W9+X9 -> 0
A10: Points en retour | W10: =+SUM(B10:V10) -> 0 | X10: =+'02'!W10 -> 0 | Y10: =+W10+X10 -> 0
A11: Collectes tentées | W11: =+SUM(B11:V11) -> 0 | X11: =+'02'!W11 -> 0 | Y11: =+W11+X11 -> 0
A12: Collectes OK | W12: =+SUM(B12:V12) -> 0 | X12: =+'02'!W12 -> 0 | Y12: =+W12+X12 -> 0
A13: Collectes en echec | W13: =+SUM(B13:V13) -> 0 | X13: =+'02'!W13 -> 0 | Y13: =+W13+X13 -> 0
A14: Points livrés en agence | W14: =+SUM(B14:V14) -> 0 | X14: =+'02'!W14 -> 0 | Y14: =+W14+X14 -> 0
A15: Pénalités générées | W15: =+SUM(B15:V15) -> 0 | X15: =+'02'!W15 -> 0 | Y15: =+W15+X15 -> 0
A16: COHERENCE CHIFFRES | B16: =+IF(B4+B11=B5+B6+B7+B8+B9+B10+B12+B13,"OK","ERREUR") -> OK | C16: =+IF(C4+C11=C5+C6+C7+C8+C9+C10+C12+C13,"OK","ERREUR") -> OK | D16: =+IF(D4+D11=D5+D6+D7+D8+D9+D10+D12+D13,"OK","ERREUR") -> OK | E16: =+IF(E4+E11=E5+E6+E7+E8+E9+E10+E12+E13,"OK","ERREUR") -> OK | F16: =+IF(F4+F11=F5+F6+F7+F8+F9+F10+F12+F13,"OK","ERREUR") -> OK | G16: =+IF(G4+G11=G5+G6+G7+G8+G9+G10+G12+G13,"OK","ERREUR") -> OK | H16: =+IF(H4+H11=H5+H6+H7+H8+H9+H10+H12+H13,"OK","ERREUR") -> OK | I16: =+IF(I4+I11=I5+I6+I7+I8+I9+I10+I12+I13,"OK","ERREUR") -> OK | ... Y16: =+IF(Y4+Y11=Y5+Y6+Y7+Y8+Y9+Y10+Y12+Y13,"OK","ERREUR") -> OK
A17: CA DHL du jour | X17: =((X4-X9-X10+X11-X13+X14)*#REF!)-X15 -> #REF! | Y17: =((Y4-Y9-Y10+Y11-Y13+Y14)*#REF!)-Y15 -> #REF!
A18: Taux de réussite | X18: =+IF(X4+X11=0,0%,100%-(X9+X10+X13)/(X4+X11)) -> 1 | Y18: =+IF(Y4+Y11=0,0%,100%-(Y9+Y10+Y13)/(Y4+Y11)) -> 1

Sheet 04
I1: 4 | J1: =+'01'!$J$1 -> MARS | K1: =+#REF! -> #REF! | W1: TOTAL DU JOUR | X1: REPORT PRECEDENT | Y1: TOTAL CUMULE
A2: CHAUFFEUR | B2: A | C2: B | D2: C | E2: D | F2: E | G2: F | H2: G | I2: H | J2: I | K2: J | L2: K | M2: L | N2: M | O2: N | P2: O | Q2: PATRICK | R2: P | S2: Q | T2: R | U2: S | V2: T
A4: Points en WC (relais inclus) | W4: =+SUM(B4:V4) -> 0 | X4: =+'03'!W4 -> 0 | Y4: =+W4+X4 -> 0
A5: Points OK | W5: =+SUM(B5:V5) -> 0 | X5: =+'03'!W5 -> 0 | Y5: =+W5+X5 -> 0
A6: Points Neighbour | W6: =+SUM(B6:V6) -> 0 | X6: =+'03'!W6 -> 0 | Y6: =+W6+X6 -> 0
A7: Points refusés | W7: =+SUM(B7:V7) -> 0 | X7: =+'03'!W7 -> 0 | Y7: =+W7+X7 -> 0
A8: Nombre de points relais | W8: =+SUM(B8:V8) -> 0 | X8: =+'03'!W8 -> 0 | Y8: =+W8+X8 -> 0
A9: Points avisés CC | W9: =+SUM(B9:V9) -> 0 | X9: =+'03'!W9 -> 0 | Y9: =+W9+X9 -> 0
A10: Points en retour | W10: =+SUM(B10:V10) -> 0 | X10: =+'03'!W10 -> 0 | Y10: =+W10+X10 -> 0
A11: Collectes tentées | W11: =+SUM(B11:V11) -> 0 | X11: =+'03'!W11 -> 0 | Y11: =+W11+X11 -> 0
A12: Collectes OK | W12: =+SUM(B12:V12) -> 0 | X12: =+'03'!W12 -> 0 | Y12: =+W12+X12 -> 0
A13: Collectes en echec | W13: =+SUM(B13:V13) -> 0 | X13: =+'03'!W13 -> 0 | Y13: =+W13+X13 -> 0
A14: Points livrés en agence | W14: =+SUM(B14:V14) -> 0 | X14: =+'03'!W14 -> 0 | Y14: =+W14+X14 -> 0
A15: Pénalités générées | W15: =+SUM(B15:V15) -> 0 | X15: =+'03'!W15 -> 0 | Y15: =+W15+X15 -> 0
A16: COHERENCE CHIFFRES | B16: =+IF(B4+B11=B5+B6+B7+B8+B9+B10+B12+B13,"OK","ERREUR") -> OK | C16: =+IF(C4+C11=C5+C6+C7+C8+C9+C10+C12+C13,"OK","ERREUR") -> OK | D16: =+IF(D4+D11=D5+D6+D7+D8+D9+D10+D12+D13,"OK","ERREUR") -> OK | E16: =+IF(E4+E11=E5+E6+E7+E8+E9+E10+E12+E13,"OK","ERREUR") -> OK | F16: =+IF(F4+F11=F5+F6+F7+F8+F9+F10+F12+F13,"OK","ERREUR") -> OK | G16: =+IF(G4+G11=G5+G6+G7+G8+G9+G10+G12+G13,"OK","ERREUR") -> OK | H16: =+IF(H4+H11=H5+H6+H7+H8+H9+H10+H12+H13,"OK","ERREUR") -> OK | I16: =+IF(I4+I11=I5+I6+I7+I8+I9+I10+I12+I13,"OK","ERREUR") -> OK | ... Y16: =+IF(Y4+Y11=Y5+Y6+Y7+Y8+Y9+Y10+Y12+Y13,"OK","ERREUR") -> OK
A17: CA DHL du jour | X17: =((X4-X9-X10+X11-X13+X14)*#REF!)-X15 -> #REF! | Y17: =((Y4-Y9-Y10+Y11-Y13+Y14)*#REF!)-Y15 -> #REF!
A18: Taux de réussite | X18: =+IF(X4+X11=0,0%,100%-(X9+X10+X13)/(X4+X11)) -> 0 | Y18: =+IF(Y4+Y11=0,0%,100%-(Y9+Y10+Y13)/(Y4+Y11)) -> 0

Sheet 05
I1: 5 | J1: =+'01'!$J$1 -> MARS | K1: =+#REF! -> #REF! | W1: TOTAL DU JOUR | X1: REPORT PRECEDENT | Y1: TOTAL CUMULE
A2: CHAUFFEUR | B2: A | C2: B | D2: C | E2: D | F2: E | G2: F | H2: G | I2: H | J2: I | K2: J | L2: K | M2: L | N2: M | O2: N | P2: O | Q2: PATRICK | R2: P | S2: Q | T2: R | U2: S | V2: T
A4: Points en WC (relais inclus) | W4: =+SUM(B4:V4) -> 0 | X4: =+'04'!W4 -> 0 | Y4: =+W4+X4 -> 0
A5: Points OK | W5: =+SUM(B5:V5) -> 0 | X5: =+'04'!W5 -> 0 | Y5: =+W5+X5 -> 0
A6: Points Neighbour | W6: =+SUM(B6:V6) -> 0 | X6: =+'04'!W6 -> 0 | Y6: =+W6+X6 -> 0
A7: Points refusés | W7: =+SUM(B7:V7) -> 0 | X7: =+'04'!W7 -> 0 | Y7: =+W7+X7 -> 0
A8: Nombre de points relais | W8: =+SUM(B8:V8) -> 0 | X8: =+'04'!W8 -> 0 | Y8: =+W8+X8 -> 0
A9: Points avisés CC | W9: =+SUM(B9:V9) -> 0 | X9: =+'04'!W9 -> 0 | Y9: =+W9+X9 -> 0
A10: Points en retour | W10: =+SUM(B10:V10) -> 0 | X10: =+'04'!W10 -> 0 | Y10: =+W10+X10 -> 0
A11: Collectes tentées | W11: =+SUM(B11:V11) -> 0 | X11: =+'04'!W11 -> 0 | Y11: =+W11+X11 -> 0
A12: Collectes OK | W12: =+SUM(B12:V12) -> 0 | X12: =+'04'!W12 -> 0 | Y12: =+W12+X12 -> 0
A13: Collectes en echec | W13: =+SUM(B13:V13) -> 0 | X13: =+'04'!W13 -> 0 | Y13: =+W13+X13 -> 0
A14: Points livrés en agence | W14: =+SUM(B14:V14) -> 0 | X14: =+'04'!W14 -> 0 | Y14: =+W14+X14 -> 0
A15: Pénalités générées | W15: =+SUM(B15:V15) -> 0 | X15: =+'04'!W15 -> 0 | Y15: =+W15+X15 -> 0
A16: COHERENCE CHIFFRES | B16: =+IF(B4+B11=B5+B6+B7+B8+B9+B10+B12+B13,"OK","ERREUR") -> OK | C16: =+IF(C4+C11=C5+C6+C7+C8+C9+C10+C12+C13,"OK","ERREUR") -> OK | D16: =+IF(D4+D11=D5+D6+D7+D8+D9+D10+D12+D13,"OK","ERREUR") -> OK | E16: =+IF(E4+E11=E5+E6+E7+E8+E9+E10+E12+E13,"OK","ERREUR") -> OK | F16: =+IF(F4+F11=F5+F6+F7+F8+F9+F10+F12+F13,"OK","ERREUR") -> OK | G16: =+IF(G4+G11=G5+G6+G7+G8+G9+G10+G12+G13,"OK","ERREUR") -> OK | H16: =+IF(H4+H11=H5+H6+H7+H8+H9+H10+H12+H13,"OK","ERREUR") -> OK | I16: =+IF(I4+I11=I5+I6+I7+I8+I9+I10+I12+I13,"OK","ERREUR") -> OK | ... Y16: =+IF(Y4+Y11=Y5+Y6+Y7+Y8+Y9+Y10+Y12+Y13,"OK","ERREUR") -> OK
A17: CA DHL du jour | X17: =((X4-X9-X10+X11-X13+X14)*#REF!)-X15 -> #REF! | Y17: =((Y4-Y9-Y10+Y11-Y13+Y14)*#REF!)-Y15 -> #REF!
A18: Taux de réussite | X18: =+IF(X4+X11=0,0%,100%-(X9+X10+X13)/(X4+X11)) -> 0 | Y18: =+IF(Y4+Y11=0,0%,100%-(Y9+Y10+Y13)/(Y4+Y11)) -> 0

Sheet 06
I1: 6 | J1: =+'01'!$J$1 -> MARS | K1: =+#REF! -> #REF! | W1: TOTAL DU JOUR | X1: REPORT PRECEDENT | Y1: TOTAL CUMULE
A2: CHAUFFEUR | B2: A | C2: B | D2: C | E2: D | F2: E | G2: F | H2: G | I2: H | J2: I | K2: J | L2: K | M2: L | N2: M | O2: N | P2: O | Q2: PATRICK | R2: P | S2: Q | T2: R | U2: S | V2: T
A4: Points en WC (relais inclus) | W4: =+SUM(B4:V4) -> 0 | X4: =+'05'!W4 -> 0 | Y4: =+W4+X4 -> 0
A5: Points OK | W5: =+SUM(B5:V5) -> 0 | X5: =+'05'!W5 -> 0 | Y5: =+W5+X5 -> 0
A6: Points Neighbour | W6: =+SUM(B6:V6) -> 0 | X6: =+'05'!W6 -> 0 | Y6: =+W6+X6 -> 0
A7: Points refusés | W7: =+SUM(B7:V7) -> 0 | X7: =+'05'!W7 -> 0 | Y7: =+W7+X7 -> 0
A8: Nombre de points relais | W8: =+SUM(B8:V8) -> 0 | X8: =+'05'!W8 -> 0 | Y8: =+W8+X8 -> 0
A9: Points avisés CC | W9: =+SUM(B9:V9) -> 0 | X9: =+'05'!W9 -> 0 | Y9: =+W9+X9 -> 0
A10: Points en retour | W10: =+SUM(B10:V10) -> 0 | X10: =+'05'!W10 -> 0 | Y10: =+W10+X10 -> 0
A11: Collectes tentées | W11: =+SUM(B11:V11) -> 0 | X11: =+'05'!W11 -> 0 | Y11: =+W11+X11 -> 0
A12: Collectes OK | W12: =+SUM(B12:V12) -> 0 | X12: =+'05'!W12 -> 0 | Y12: =+W12+X12 -> 0
A13: Collectes en echec | W13: =+SUM(B13:V13) -> 0 | X13: =+'05'!W13 -> 0 | Y13: =+W13+X13 -> 0
A14: Points livrés en agence | W14: =+SUM(B14:V14) -> 0 | X14: =+'05'!W14 -> 0 | Y14: =+W14+X14 -> 0
A15: Pénalités générées | W15: =+SUM(B15:V15) -> 0 | X15: =+'05'!W15 -> 0 | Y15: =+W15+X15 -> 0
A16: COHERENCE CHIFFRES | B16: =+IF(B4+B11=B5+B6+B7+B8+B9+B10+B12+B13,"OK","ERREUR") -> OK | C16: =+IF(C4+C11=C5+C6+C7+C8+C9+C10+C12+C13,"OK","ERREUR") -> OK | D16: =+IF(D4+D11=D5+D6+D7+D8+D9+D10+D12+D13,"OK","ERREUR") -> OK | E16: =+IF(E4+E11=E5+E6+E7+E8+E9+E10+E12+E13,"OK","ERREUR") -> OK | F16: =+IF(F4+F11=F5+F6+F7+F8+F9+F10+F12+F13,"OK","ERREUR") -> OK | G16: =+IF(G4+G11=G5+G6+G7+G8+G9+G10+G12+G13,"OK","ERREUR") -> OK | H16: =+IF(H4+H11=H5+H6+H7+H8+H9+H10+H12+H13,"OK","ERREUR") -> OK | I16: =+IF(I4+I11=I5+I6+I7+I8+I9+I10+I12+I13,"OK","ERREUR") -> OK | ... Y16: =+IF(Y4+Y11=Y5+Y6+Y7+Y8+Y9+Y10+Y12+Y13,"OK","ERREUR") -> OK
A17: CA DHL du jour | X17: =((X4-X9-X10+X11-X13+X14)*#REF!)-X15 -> #REF! | Y17: =((Y4-Y9-Y10+Y11-Y13+Y14)*#REF!)-Y15 -> #REF!
A18: Taux de réussite | X18: =+IF(X4+X11=0,0%,100%-(X9+X10+X13)/(X4+X11)) -> 0 | Y18: =+IF(Y4+Y11=0,0%,100%-(Y9+Y10+Y13)/(Y4+Y11)) -> 0

Sheet 07
I1: 7 | J1: =+'01'!$J$1 -> MARS | K1: =+#REF! -> #REF! | W1: TOTAL DU JOUR | X1: REPORT PRECEDENT | Y1: TOTAL CUMULE
A2: CHAUFFEUR | B2: A | C2: B | D2: C | E2: D | F2: E | G2: F | H2: G | I2: H | J2: I | K2: J | L2: K | M2: L | N2: M | O2: N | P2: O | Q2: PATRICK | R2: P | S2: Q | T2: R | U2: S | V2: T
A4: Points en WC (relais inclus) | W4: =+SUM(B4:V4) -> 0 | X4: =+'06'!W4 -> 0 | Y4: =+W4+X4 -> 0
A5: Points OK | W5: =+SUM(B5:V5) -> 0 | X5: =+'06'!W5 -> 0 | Y5: =+W5+X5 -> 0
A6: Points Neighbour | W6: =+SUM(B6:V6) -> 0 | X6: =+'06'!W6 -> 0 | Y6: =+W6+X6 -> 0
A7: Points refusés | W7: =+SUM(B7:V7) -> 0 | X7: =+'06'!W7 -> 0 | Y7: =+W7+X7 -> 0
A8: Nombre de points relais | W8: =+SUM(B8:V8) -> 0 | X8: =+'06'!W8 -> 0 | Y8: =+W8+X8 -> 0
A9: Points avisés CC | W9: =+SUM(B9:V9) -> 0 | X9: =+'06'!W9 -> 0 | Y9: =+W9+X9 -> 0
A10: Points en retour | W10: =+SUM(B10:V10) -> 0 | X10: =+'06'!W10 -> 0 | Y10: =+W10+X10 -> 0
A11: Collectes tentées | W11: =+SUM(B11:V11) -> 0 | X11: =+'06'!W11 -> 0 | Y11: =+W11+X11 -> 0
A12: Collectes OK | W12: =+SUM(B12:V12) -> 0 | X12: =+'06'!W12 -> 0 | Y12: =+W12+X12 -> 0
A13: Collectes en echec | W13: =+SUM(B13:V13) -> 0 | X13: =+'06'!W13 -> 0 | Y13: =+W13+X13 -> 0
A14: Points livrés en agence | W14: =+SUM(B14:V14) -> 0 | X14: =+'06'!W14 -> 0 | Y14: =+W14+X14 -> 0
A15: Pénalités générées | W15: =+SUM(B15:V15) -> 0 | X15: =+'06'!W15 -> 0 | Y15: =+W15+X15 -> 0
A16: COHERENCE CHIFFRES | B16: =+IF(B4+B11=B5+B6+B7+B8+B9+B10+B12+B13,"OK","ERREUR") -> OK | C16: =+IF(C4+C11=C5+C6+C7+C8+C9+C10+C12+C13,"OK","ERREUR") -> OK | D16: =+IF(D4+D11=D5+D6+D7+D8+D9+D10+D12+D13,"OK","ERREUR") -> OK | E16: =+IF(E4+E11=E5+E6+E7+E8+E9+E10+E12+E13,"OK","ERREUR") -> OK | F16: =+IF(F4+F11=F5+F6+F7+F8+F9+F10+F12+F13,"OK","ERREUR") -> OK | G16: =+IF(G4+G11=G5+G6+G7+G8+G9+G10+G12+G13,"OK","ERREUR") -> OK | H16: =+IF(H4+H11=H5+H6+H7+H8+H9+H10+H12+H13,"OK","ERREUR") -> OK | I16: =+IF(I4+I11=I5+I6+I7+I8+I9+I10+I12+I13,"OK","ERREUR") -> OK | ... Y16: =+IF(Y4+Y11=Y5+Y6+Y7+Y8+Y9+Y10+Y12+Y13,"OK","ERREUR") -> OK
A17: CA DHL du jour | X17: =((X4-X9-X10+X11-X13+X14)*#REF!)-X15 -> #REF! | Y17: =((Y4-Y9-Y10+Y11-Y13+Y14)*#REF!)-Y15 -> #REF!
A18: Taux de réussite | X18: =+IF(X4+X11=0,0%,100%-(X9+X10+X13)/(X4+X11)) -> 0 | Y18: =+IF(Y4+Y11=0,0%,100%-(Y9+Y10+Y13)/(Y4+Y11)) -> 0

Sheet 08
I1: 8 | J1: =+'01'!$J$1 -> MARS | K1: =+#REF! -> #REF! | W1: TOTAL DU JOUR | X1: REPORT PRECEDENT | Y1: TOTAL CUMULE
A2: CHAUFFEUR | B2: A | C2: B | D2: C | E2: D | F2: E | G2: F | H2: G | I2: H | J2: I | K2: J | L2: K | M2: L | N2: M | O2: N | P2: O | Q2: PATRICK | R2: P | S2: Q | T2: R | U2: S | V2: T
A4: Points en WC (relais inclus) | W4: =+SUM(B4:V4) -> 0 | X4: =+'07'!W4 -> 0 | Y4: =+W4+X4 -> 0
A5: Points OK | W5: =+SUM(B5:V5) -> 0 | X5: =+'07'!W5 -> 0 | Y5: =+W5+X5 -> 0
A6: Points Neighbour | W6: =+SUM(B6:V6) -> 0 | X6: =+'07'!W6 -> 0 | Y6: =+W6+X6 -> 0
A7: Points refusés | W7: =+SUM(B7:V7) -> 0 | X7: =+'07'!W7 -> 0 | Y7: =+W7+X7 -> 0
A8: Nombre de points relais | W8: =+SUM(B8:V8) -> 0 | X8: =+'07'!W8 -> 0 | Y8: =+W8+X8 -> 0
A9: Points avisés CC | W9: =+SUM(B9:V9) -> 0 | X9: =+'07'!W9 -> 0 | Y9: =+W9+X9 -> 0
A10: Points en retour | W10: =+SUM(B10:V10) -> 0 | X10: =+'07'!W10 -> 0 | Y10: =+W10+X10 -> 0
A11: Collectes tentées | W11: =+SUM(B11:V11) -> 0 | X11: =+'07'!W11 -> 0 | Y11: =+W11+X11 -> 0
A12: Collectes OK | W12: =+SUM(B12:V12) -> 0 | X12: =+'07'!W12 -> 0 | Y12: =+W12+X12 -> 0
A13: Collectes en echec | W13: =+SUM(B13:V13) -> 0 | X13: =+'07'!W13 -> 0 | Y13: =+W13+X13 -> 0
A14: Points livrés en agence | W14: =+SUM(B14:V14) -> 0 | X14: =+'07'!W14 -> 0 | Y14: =+W14+X14 -> 0
A15: Pénalités générées | W15: =+SUM(B15:V15) -> 0 | X15: =+'07'!W15 -> 0 | Y15: =+W15+X15 -> 0
A16: COHERENCE CHIFFRES | B16: =+IF(B4+B11=B5+B6+B7+B8+B9+B10+B12+B13,"OK","ERREUR") -> OK | C16: =+IF(C4+C11=C5+C6+C7+C8+C9+C10+C12+C13,"OK","ERREUR") -> OK | D16: =+IF(D4+D11=D5+D6+D7+D8+D9+D10+D12+D13,"OK","ERREUR") -> OK | E16: =+IF(E4+E11=E5+E6+E7+E8+E9+E10+E12+E13,"OK","ERREUR") -> OK | F16: =+IF(F4+F11=F5+F6+F7+F8+F9+F10+F12+F13,"OK","ERREUR") -> OK | G16: =+IF(G4+G11=G5+G6+G7+G8+G9+G10+G12+G13,"OK","ERREUR") -> OK | H16: =+IF(H4+H11=H5+H6+H7+H8+H9+H10+H12+H13,"OK","ERREUR") -> OK | I16: =+IF(I4+I11=I5+I6+I7+I8+I9+I10+I12+I13,"OK","ERREUR") -> OK | ... Y16: =+IF(Y4+Y11=Y5+Y6+Y7+Y8+Y9+Y10+Y12+Y13,"OK","ERREUR") -> OK
A17: CA DHL du jour | X17: =((X4-X9-X10+X11-X13+X14)*#REF!)-X15 -> #REF! | Y17: =((Y4-Y9-Y10+Y11-Y13+Y14)*#REF!)-Y15 -> #REF!
A18: Taux de réussite | X18: =+IF(X4+X11=0,0%,100%-(X9+X10+X13)/(X4+X11)) -> 0 | Y18: =+IF(Y4+Y11=0,0%,100%-(Y9+Y10+Y13)/(Y4+Y11)) -> 0

Sheet 09
I1: 9 | J1: =+'01'!$J$1 -> MARS | K1: =+#REF! -> #REF! | W1: TOTAL DU JOUR | X1: REPORT PRECEDENT | Y1: TOTAL CUMULE
A2: CHAUFFEUR | B2: A | C2: B | D2: C | E2: D | F2: E | G2: F | H2: G | I2: H | J2: I | K2: J | L2: K | M2: L | N2: M | O2: N | P2: O | Q2: PATRICK | R2: P | S2: Q | T2: R | U2: S | V2: T
A4: Points en WC (relais inclus) | W4: =+SUM(B4:V4) -> 0 | X4: =+'08'!W4 -> 0 | Y4: =+W4+X4 -> 0
A5: Points OK | W5: =+SUM(B5:V5) -> 0 | X5: =+'08'!W5 -> 0 | Y5: =+W5+X5 -> 0
A6: Points Neighbour | W6: =+SUM(B6:V6) -> 0 | X6: =+'08'!W6 -> 0 | Y6: =+W6+X6 -> 0
A7: Points refusés | W7: =+SUM(B7:V7) -> 0 | X7: =+'08'!W7 -> 0 | Y7: =+W7+X7 -> 0
A8: Nombre de points relais | W8: =+SUM(B8:V8) -> 0 | X8: =+'08'!W8 -> 0 | Y8: =+W8+X8 -> 0
A9: Points avisés CC | W9: =+SUM(B9:V9) -> 0 | X9: =+'08'!W9 -> 0 | Y9: =+W9+X9 -> 0
A10: Points en retour | W10: =+SUM(B10:V10) -> 0 | X10: =+'08'!W10 -> 0 | Y10: =+W10+X10 -> 0
A11: Collectes tentées | W11: =+SUM(B11:V11) -> 0 | X11: =+'08'!W11 -> 0 | Y11: =+W11+X11 -> 0
A12: Collectes OK | W12: =+SUM(B12:V12) -> 0 | X12: =+'08'!W12 -> 0 | Y12: =+W12+X12 -> 0
A13: Collectes en echec | W13: =+SUM(B13:V13) -> 0 | X13: =+'08'!W13 -> 0 | Y13: =+W13+X13 -> 0
A14: Points livrés en agence | W14: =+SUM(B14:V14) -> 0 | X14: =+'08'!W14 -> 0 | Y14: =+W14+X14 -> 0
A15: Pénalités générées | W15: =+SUM(B15:V15) -> 0 | X15: =+'08'!W15 -> 0 | Y15: =+W15+X15 -> 0
A16: COHERENCE CHIFFRES | B16: =+IF(B4+B11=B5+B6+B7+B8+B9+B10+B12+B13,"OK","ERREUR") -> OK | C16: =+IF(C4+C11=C5+C6+C7+C8+C9+C10+C12+C13,"OK","ERREUR") -> OK | D16: =+IF(D4+D11=D5+D6+D7+D8+D9+D10+D12+D13,"OK","ERREUR") -> OK | E16: =+IF(E4+E11=E5+E6+E7+E8+E9+E10+E12+E13,"OK","ERREUR") -> OK | F16: =+IF(F4+F11=F5+F6+F7+F8+F9+F10+F12+F13,"OK","ERREUR") -> OK | G16: =+IF(G4+G11=G5+G6+G7+G8+G9+G10+G12+G13,"OK","ERREUR") -> OK | H16: =+IF(H4+H11=H5+H6+H7+H8+H9+H10+H12+H13,"OK","ERREUR") -> OK | I16: =+IF(I4+I11=I5+I6+I7+I8+I9+I10+I12+I13,"OK","ERREUR") -> OK | ... Y16: =+IF(Y4+Y11=Y5+Y6+Y7+Y8+Y9+Y10+Y12+Y13,"OK","ERREUR") -> OK
A17: CA DHL du jour | X17: =((X4-X9-X10+X11-X13+X14)*#REF!)-X15 -> #REF! | Y17: =((Y4-Y9-Y10+Y11-Y13+Y14)*#REF!)-Y15 -> #REF!
A18: Taux de réussite | X18: =+IF(X4+X11=0,0%,100%-(X9+X10+X13)/(X4+X11)) -> 0 | Y18: =+IF(Y4+Y11=0,0%,100%-(Y9+Y10+Y13)/(Y4+Y11)) -> 0

Sheet 10
I1: 10 | J1: =+'01'!$J$1 -> MARS | K1: =+#REF! -> #REF! | W1: TOTAL DU JOUR | X1: REPORT PRECEDENT | Y1: TOTAL CUMULE
A2: CHAUFFEUR | B2: A | C2: B | D2: C | E2: D | F2: E | G2: F | H2: G | I2: H | J2: I | K2: J | L2: K | M2: L | N2: M | O2: N | P2: O | Q2: PATRICK | R2: P | S2: Q | T2: R | U2: S | V2: T
A4: Points en WC (relais inclus) | W4: =+SUM(B4:V4) -> 0 | X4: =+SUM('09'!X4) -> 0 | Y4: =+W4+X4 -> 0
A5: Points OK | W5: =+SUM(B5:V5) -> 0 | X5: =+SUM('09'!X5) -> 0 | Y5: =+W5+X5 -> 0
A6: Points Neighbour | W6: =+SUM(B6:V6) -> 0 | X6: =+SUM('09'!X6) -> 0 | Y6: =+W6+X6 -> 0
A7: Points refusés | W7: =+SUM(B7:V7) -> 0 | X7: =+SUM('09'!X7) -> 0 | Y7: =+W7+X7 -> 0
A8: Nombre de points relais | W8: =+SUM(B8:V8) -> 0 | X8: =+SUM('09'!X8) -> 0 | Y8: =+W8+X8 -> 0
A9: Points avisés CC | W9: =+SUM(B9:V9) -> 0 | X9: =+SUM('09'!X9) -> 0 | Y9: =+W9+X9 -> 0
A10: Points en retour | W10: =+SUM(B10:V10) -> 0 | X10: =+SUM('09'!X10) -> 0 | Y10: =+W10+X10 -> 0
A11: Collectes tentées | W11: =+SUM(B11:V11) -> 0 | X11: =+SUM('09'!X11) -> 0 | Y11: =+W11+X11 -> 0
A12: Collectes OK | W12: =+SUM(B12:V12) -> 0 | X12: =+SUM('09'!X12) -> 0 | Y12: =+W12+X12 -> 0
A13: Collectes en echec | W13: =+SUM(B13:V13) -> 0 | X13: =+SUM('09'!X13) -> 0 | Y13: =+W13+X13 -> 0
A14: Points livrés en agence | W14: =+SUM(B14:V14) -> 0 | X14: =+SUM('09'!X14) -> 0 | Y14: =+W14+X14 -> 0
A15: Pénalités générées | W15: =+SUM(B15:V15) -> 0 | X15: =+SUM('09'!X15) -> 0 | Y15: =+W15+X15 -> 0
A16: COHERENCE CHIFFRES | B16: =+IF(B4+B11=B5+B6+B7+B8+B9+B10+B12+B13,"OK","ERREUR") -> OK | C16: =+IF(C4+C11=C5+C6+C7+C8+C9+C10+C12+C13,"OK","ERREUR") -> OK | D16: =+IF(D4+D11=D5+D6+D7+D8+D9+D10+D12+D13,"OK","ERREUR") -> OK | E16: =+IF(E4+E11=E5+E6+E7+E8+E9+E10+E12+E13,"OK","ERREUR") -> OK | F16: =+IF(F4+F11=F5+F6+F7+F8+F9+F10+F12+F13,"OK","ERREUR") -> OK | G16: =+IF(G4+G11=G5+G6+G7+G8+G9+G10+G12+G13,"OK","ERREUR") -> OK | H16: =+IF(H4+H11=H5+H6+H7+H8+H9+H10+H12+H13,"OK","ERREUR") -> OK | I16: =+IF(I4+I11=I5+I6+I7+I8+I9+I10+I12+I13,"OK","ERREUR") -> OK | ... Y16: =+IF(Y4+Y11=Y5+Y6+Y7+Y8+Y9+Y10+Y12+Y13,"OK","ERREUR") -> OK
A17: CA DHL du jour | X17: =((X4-X9-X10+X11-X13+X14)*#REF!)-X15 -> #REF! | Y17: =((Y4-Y9-Y10+Y11-Y13+Y14)*#REF!)-Y15 -> #REF!
A18: Taux de réussite | X18: =+IF(X4+X11=0,0%,100%-(X9+X10+X13)/(X4+X11)) -> 0 | Y18: =+IF(Y4+Y11=0,0%,100%-(Y9+Y10+Y13)/(Y4+Y11)) -> 0

Sheet 11
I1: 11 | J1: =+'01'!$J$1 -> MARS | K1: =+#REF! -> #REF! | W1: TOTAL DU JOUR | X1: REPORT PRECEDENT | Y1: TOTAL CUMULE
A2: CHAUFFEUR | B2: A | C2: B | D2: C | E2: D | F2: E | G2: F | H2: G | I2: H | J2: I | K2: J | L2: K | M2: L | N2: M | O2: N | P2: O | Q2: PATRICK | R2: P | S2: Q | T2: R | U2: S | V2: T
A4: Points en WC (relais inclus) | W4: =+SUM(B4:V4) -> 0 | X4: =+SUM('10'!X4) -> 0 | Y4: =+W4+X4 -> 0
A5: Points OK | W5: =+SUM(B5:V5) -> 0 | X5: =+SUM('10'!X5) -> 0 | Y5: =+W5+X5 -> 0
A6: Points Neighbour | W6: =+SUM(B6:V6) -> 0 | X6: =+SUM('10'!X6) -> 0 | Y6: =+W6+X6 -> 0
A7: Points refusés | W7: =+SUM(B7:V7) -> 0 | X7: =+SUM('10'!X7) -> 0 | Y7: =+W7+X7 -> 0
A8: Nombre de points relais | W8: =+SUM(B8:V8) -> 0 | X8: =+SUM('10'!X8) -> 0 | Y8: =+W8+X8 -> 0
A9: Points avisés CC | W9: =+SUM(B9:V9) -> 0 | X9: =+SUM('10'!X9) -> 0 | Y9: =+W9+X9 -> 0
A10: Points en retour | W10: =+SUM(B10:V10) -> 0 | X10: =+SUM('10'!X10) -> 0 | Y10: =+W10+X10 -> 0
A11: Collectes tentées | W11: =+SUM(B11:V11) -> 0 | X11: =+SUM('10'!X11) -> 0 | Y11: =+W11+X11 -> 0
A12: Collectes OK | W12: =+SUM(B12:V12) -> 0 | X12: =+SUM('10'!X12) -> 0 | Y12: =+W12+X12 -> 0
A13: Collectes en echec | W13: =+SUM(B13:V13) -> 0 | X13: =+SUM('10'!X13) -> 0 | Y13: =+W13+X13 -> 0
A14: Points livrés en agence | W14: =+SUM(B14:V14) -> 0 | X14: =+SUM('10'!X14) -> 0 | Y14: =+W14+X14 -> 0
A15: Pénalités générées | W15: =+SUM(B15:V15) -> 0 | X15: =+SUM('10'!X15) -> 0 | Y15: =+W15+X15 -> 0
A16: COHERENCE CHIFFRES | B16: =+IF(B4+B11=B5+B6+B7+B8+B9+B10+B12+B13,"OK","ERREUR") -> OK | C16: =+IF(C4+C11=C5+C6+C7+C8+C9+C10+C12+C13,"OK","ERREUR") -> OK | D16: =+IF(D4+D11=D5+D6+D7+D8+D9+D10+D12+D13,"OK","ERREUR") -> OK | E16: =+IF(E4+E11=E5+E6+E7+E8+E9+E10+E12+E13,"OK","ERREUR") -> OK | F16: =+IF(F4+F11=F5+F6+F7+F8+F9+F10+F12+F13,"OK","ERREUR") -> OK | G16: =+IF(G4+G11=G5+G6+G7+G8+G9+G10+G12+G13,"OK","ERREUR") -> OK | H16: =+IF(H4+H11=H5+H6+H7+H8+H9+H10+H12+H13,"OK","ERREUR") -> OK | I16: =+IF(I4+I11=I5+I6+I7+I8+I9+I10+I12+I13,"OK","ERREUR") -> OK | ... Y16: =+IF(Y4+Y11=Y5+Y6+Y7+Y8+Y9+Y10+Y12+Y13,"OK","ERREUR") -> OK
A17: CA DHL du jour | X17: =((X4-X9-X10+X11-X13+X14)*#REF!)-X15 -> #REF! | Y17: =((Y4-Y9-Y10+Y11-Y13+Y14)*#REF!)-Y15 -> #REF!
A18: Taux de réussite | X18: =+IF(X4+X11=0,0%,100%-(X9+X10+X13)/(X4+X11)) -> 0 | Y18: =+IF(Y4+Y11=0,0%,100%-(Y9+Y10+Y13)/(Y4+Y11)) -> 0

Sheet 12
I1: 12 | J1: =+'01'!$J$1 -> MARS | K1: =+#REF! -> #REF! | W1: TOTAL DU JOUR | X1: REPORT PRECEDENT | Y1: TOTAL CUMULE
A2: CHAUFFEUR | B2: A | C2: B | D2: C | E2: D | F2: E | G2: F | H2: G | I2: H | J2: I | K2: J | L2: K | M2: L | N2: M | O2: N | P2: O | Q2: PATRICK | R2: P | S2: Q | T2: R | U2: S | V2: T
A4: Points en WC (relais inclus) | W4: =+SUM(B4:V4) -> 0 | X4: =+SUM('11'!X4) -> 0 | Y4: =+W4+X4 -> 0
A5: Points OK | W5: =+SUM(B5:V5) -> 0 | X5: =+SUM('11'!X5) -> 0 | Y5: =+W5+X5 -> 0
A6: Points Neighbour | W6: =+SUM(B6:V6) -> 0 | X6: =+SUM('11'!X6) -> 0 | Y6: =+W6+X6 -> 0
A7: Points refusés | W7: =+SUM(B7:V7) -> 0 | X7: =+SUM('11'!X7) -> 0 | Y7: =+W7+X7 -> 0
A8: Nombre de points relais | W8: =+SUM(B8:V8) -> 0 | X8: =+SUM('11'!X8) -> 0 | Y8: =+W8+X8 -> 0
A9: Points avisés CC | W9: =+SUM(B9:V9) -> 0 | X9: =+SUM('11'!X9) -> 0 | Y9: =+W9+X9 -> 0
A10: Points en retour | W10: =+SUM(B10:V10) -> 0 | X10: =+SUM('11'!X10) -> 0 | Y10: =+W10+X10 -> 0
A11: Collectes tentées | W11: =+SUM(B11:V11) -> 0 | X11: =+SUM('11'!X11) -> 0 | Y11: =+W11+X11 -> 0
A12: Collectes OK | W12: =+SUM(B12:V12) -> 0 | X12: =+SUM('11'!X12) -> 0 | Y12: =+W12+X12 -> 0
A13: Collectes en echec | W13: =+SUM(B13:V13) -> 0 | X13: =+SUM('11'!X13) -> 0 | Y13: =+W13+X13 -> 0
A14: Points livrés en agence | W14: =+SUM(B14:V14) -> 0 | X14: =+SUM('11'!X14) -> 0 | Y14: =+W14+X14 -> 0
A15: Pénalités générées | W15: =+SUM(B15:V15) -> 0 | X15: =+SUM('11'!X15) -> 0 | Y15: =+W15+X15 -> 0
A16: COHERENCE CHIFFRES | B16: =+IF(B4+B11=B5+B6+B7+B8+B9+B10+B12+B13,"OK","ERREUR") -> OK | C16: =+IF(C4+C11=C5+C6+C7+C8+C9+C10+C12+C13,"OK","ERREUR") -> OK | D16: =+IF(D4+D11=D5+D6+D7+D8+D9+D10+D12+D13,"OK","ERREUR") -> OK | E16: =+IF(E4+E11=E5+E6+E7+E8+E9+E10+E12+E13,"OK","ERREUR") -> OK | F16: =+IF(F4+F11=F5+F6+F7+F8+F9+F10+F12+F13,"OK","ERREUR") -> OK | G16: =+IF(G4+G11=G5+G6+G7+G8+G9+G10+G12+G13,"OK","ERREUR") -> OK | H16: =+IF(H4+H11=H5+H6+H7+H8+H9+H10+H12+H13,"OK","ERREUR") -> OK | I16: =+IF(I4+I11=I5+I6+I7+I8+I9+I10+I12+I13,"OK","ERREUR") -> OK | ... Y16: =+IF(Y4+Y11=Y5+Y6+Y7+Y8+Y9+Y10+Y12+Y13,"OK","ERREUR") -> OK
A17: CA DHL du jour | X17: =((X4-X9-X10+X11-X13+X14)*#REF!)-X15 -> #REF! | Y17: =((Y4-Y9-Y10+Y11-Y13+Y14)*#REF!)-Y15 -> #REF!
A18: Taux de réussite | X18: =+IF(X4+X11=0,0%,100%-(X9+X10+X13)/(X4+X11)) -> 0 | Y18: =+IF(Y4+Y11=0,0%,100%-(Y9+Y10+Y13)/(Y4+Y11)) -> 0

Sheet 13
I1: 13 | J1: =+'01'!$J$1 -> MARS | K1: =+#REF! -> #REF! | W1: TOTAL DU JOUR | X1: REPORT PRECEDENT | Y1: TOTAL CUMULE
A2: CHAUFFEUR | B2: A | C2: B | D2: C | E2: D | F2: E | G2: F | H2: G | I2: H | J2: I | K2: J | L2: K | M2: L | N2: M | O2: N | P2: O | Q2: PATRICK | R2: P | S2: Q | T2: R | U2: S | V2: T
A4: Points en WC (relais inclus) | W4: =+SUM(B4:V4) -> 0 | X4: =+SUM('12'!X4) -> 0 | Y4: =+W4+X4 -> 0
A5: Points OK | W5: =+SUM(B5:V5) -> 0 | X5: =+SUM('12'!X5) -> 0 | Y5: =+W5+X5 -> 0
A6: Points Neighbour | W6: =+SUM(B6:V6) -> 0 | X6: =+SUM('12'!X6) -> 0 | Y6: =+W6+X6 -> 0
A7: Points refusés | W7: =+SUM(B7:V7) -> 0 | X7: =+SUM('12'!X7) -> 0 | Y7: =+W7+X7 -> 0
A8: Nombre de points relais | W8: =+SUM(B8:V8) -> 0 | X8: =+SUM('12'!X8) -> 0 | Y8: =+W8+X8 -> 0
A9: Points avisés CC | W9: =+SUM(B9:V9) -> 0 | X9: =+SUM('12'!X9) -> 0 | Y9: =+W9+X9 -> 0
A10: Points en retour | W10: =+SUM(B10:V10) -> 0 | X10: =+SUM('12'!X10) -> 0 | Y10: =+W10+X10 -> 0
A11: Collectes tentées | W11: =+SUM(B11:V11) -> 0 | X11: =+SUM('12'!X11) -> 0 | Y11: =+W11+X11 -> 0
A12: Collectes OK | W12: =+SUM(B12:V12) -> 0 | X12: =+SUM('12'!X12) -> 0 | Y12: =+W12+X12 -> 0
A13: Collectes en echec | W13: =+SUM(B13:V13) -> 0 | X13: =+SUM('12'!X13) -> 0 | Y13: =+W13+X13 -> 0
A14: Points livrés en agence | W14: =+SUM(B14:V14) -> 0 | X14: =+SUM('12'!X14) -> 0 | Y14: =+W14+X14 -> 0
A15: Pénalités générées | W15: =+SUM(B15:V15) -> 0 | X15: =+SUM('12'!X15) -> 0 | Y15: =+W15+X15 -> 0
A16: COHERENCE CHIFFRES | B16: =+IF(B4+B11=B5+B6+B7+B8+B9+B10+B12+B13,"OK","ERREUR") -> OK | C16: =+IF(C4+C11=C5+C6+C7+C8+C9+C10+C12+C13,"OK","ERREUR") -> OK | D16: =+IF(D4+D11=D5+D6+D7+D8+D9+D10+D12+D13,"OK","ERREUR") -> OK | E16: =+IF(E4+E11=E5+E6+E7+E8+E9+E10+E12+E13,"OK","ERREUR") -> OK | F16: =+IF(F4+F11=F5+F6+F7+F8+F9+F10+F12+F13,"OK","ERREUR") -> OK | G16: =+IF(G4+G11=G5+G6+G7+G8+G9+G10+G12+G13,"OK","ERREUR") -> OK | H16: =+IF(H4+H11=H5+H6+H7+H8+H9+H10+H12+H13,"OK","ERREUR") -> OK | I16: =+IF(I4+I11=I5+I6+I7+I8+I9+I10+I12+I13,"OK","ERREUR") -> OK | ... Y16: =+IF(Y4+Y11=Y5+Y6+Y7+Y8+Y9+Y10+Y12+Y13,"OK","ERREUR") -> OK
A17: CA DHL du jour | X17: =((X4-X9-X10+X11-X13+X14)*#REF!)-X15 -> #REF! | Y17: =((Y4-Y9-Y10+Y11-Y13+Y14)*#REF!)-Y15 -> #REF!
A18: Taux de réussite | X18: =+IF(X4+X11=0,0%,100%-(X9+X10+X13)/(X4+X11)) -> 0 | Y18: =+IF(Y4+Y11=0,0%,100%-(Y9+Y10+Y13)/(Y4+Y11)) -> 0

Sheet 14
I1: 14 | J1: =+'01'!$J$1 -> MARS | K1: =+#REF! -> #REF! | W1: TOTAL DU JOUR | X1: REPORT PRECEDENT | Y1: TOTAL CUMULE
A2: CHAUFFEUR | B2: A | C2: B | D2: C | E2: D | F2: E | G2: F | H2: G | I2: H | J2: I | K2: J | L2: K | M2: L | N2: M | O2: N | P2: O | Q2: PATRICK | R2: P | S2: Q | T2: R | U2: S | V2: T
A4: Points en WC (relais inclus) | W4: =+SUM(B4:V4) -> 0 | X4: =+SUM('13'!X4) -> 0 | Y4: =+W4+X4 -> 0
A5: Points OK | W5: =+SUM(B5:V5) -> 0 | X5: =+SUM('13'!X5) -> 0 | Y5: =+W5+X5 -> 0
A6: Points Neighbour | W6: =+SUM(B6:V6) -> 0 | X6: =+SUM('13'!X6) -> 0 | Y6: =+W6+X6 -> 0
A7: Points refusés | W7: =+SUM(B7:V7) -> 0 | X7: =+SUM('13'!X7) -> 0 | Y7: =+W7+X7 -> 0
A8: Nombre de points relais | W8: =+SUM(B8:V8) -> 0 | X8: =+SUM('13'!X8) -> 0 | Y8: =+W8+X8 -> 0
A9: Points avisés CC | W9: =+SUM(B9:V9) -> 0 | X9: =+SUM('13'!X9) -> 0 | Y9: =+W9+X9 -> 0
A10: Points en retour | W10: =+SUM(B10:V10) -> 0 | X10: =+SUM('13'!X10) -> 0 | Y10: =+W10+X10 -> 0
A11: Collectes tentées | W11: =+SUM(B11:V11) -> 0 | X11: =+SUM('13'!X11) -> 0 | Y11: =+W11+X11 -> 0
A12: Collectes OK | W12: =+SUM(B12:V12) -> 0 | X12: =+SUM('13'!X12) -> 0 | Y12: =+W12+X12 -> 0
A13: Collectes en echec | W13: =+SUM(B13:V13) -> 0 | X13: =+SUM('13'!X13) -> 0 | Y13: =+W13+X13 -> 0
A14: Points livrés en agence | W14: =+SUM(B14:V14) -> 0 | X14: =+SUM('13'!X14) -> 0 | Y14: =+W14+X14 -> 0
A15: Pénalités générées | W15: =+SUM(B15:V15) -> 0 | X15: =+SUM('13'!X15) -> 0 | Y15: =+W15+X15 -> 0
A16: COHERENCE CHIFFRES | B16: =+IF(B4+B11=B5+B6+B7+B8+B9+B10+B12+B13,"OK","ERREUR") -> OK | C16: =+IF(C4+C11=C5+C6+C7+C8+C9+C10+C12+C13,"OK","ERREUR") -> OK | D16: =+IF(D4+D11=D5+D6+D7+D8+D9+D10+D12+D13,"OK","ERREUR") -> OK | E16: =+IF(E4+E11=E5+E6+E7+E8+E9+E10+E12+E13,"OK","ERREUR") -> OK | F16: =+IF(F4+F11=F5+F6+F7+F8+F9+F10+F12+F13,"OK","ERREUR") -> OK | G16: =+IF(G4+G11=G5+G6+G7+G8+G9+G10+G12+G13,"OK","ERREUR") -> OK | H16: =+IF(H4+H11=H5+H6+H7+H8+H9+H10+H12+H13,"OK","ERREUR") -> OK | I16: =+IF(I4+I11=I5+I6+I7+I8+I9+I10+I12+I13,"OK","ERREUR") -> OK | ... Y16: =+IF(Y4+Y11=Y5+Y6+Y7+Y8+Y9+Y10+Y12+Y13,"OK","ERREUR") -> OK
A17: CA DHL du jour | X17: =((X4-X9-X10+X11-X13+X14)*#REF!)-X15 -> #REF! | Y17: =((Y4-Y9-Y10+Y11-Y13+Y14)*#REF!)-Y15 -> #REF!
A18: Taux de réussite | X18: =+IF(X4+X11=0,0%,100%-(X9+X10+X13)/(X4+X11)) -> 0 | Y18: =+IF(Y4+Y11=0,0%,100%-(Y9+Y10+Y13)/(Y4+Y11)) -> 0

Sheet 15
I1: 15 | J1: =+'01'!$J$1 -> MARS | K1: =+#REF! -> #REF! | W1: TOTAL DU JOUR | X1: REPORT PRECEDENT | Y1: TOTAL CUMULE
A2: CHAUFFEUR | B2: A | C2: B | D2: C | E2: D | F2: E | G2: F | H2: G | I2: H | J2: I | K2: J | L2: K | M2: L | N2: M | O2: N | P2: O | Q2: PATRICK | R2: P | S2: Q | T2: R | U2: S | V2: T
A4: Points en WC (relais inclus) | W4: =+SUM(B4:V4) -> 0 | X4: =+SUM('14'!X4) -> 0 | Y4: =+W4+X4 -> 0
A5: Points OK | W5: =+SUM(B5:V5) -> 0 | X5: =+SUM('14'!X5) -> 0 | Y5: =+W5+X5 -> 0
A6: Points Neighbour | W6: =+SUM(B6:V6) -> 0 | X6: =+SUM('14'!X6) -> 0 | Y6: =+W6+X6 -> 0
A7: Points refusés | W7: =+SUM(B7:V7) -> 0 | X7: =+SUM('14'!X7) -> 0 | Y7: =+W7+X7 -> 0
A8: Nombre de points relais | W8: =+SUM(B8:V8) -> 0 | X8: =+SUM('14'!X8) -> 0 | Y8: =+W8+X8 -> 0
A9: Points avisés CC | W9: =+SUM(B9:V9) -> 0 | X9: =+SUM('14'!X9) -> 0 | Y9: =+W9+X9 -> 0
A10: Points en retour | W10: =+SUM(B10:V10) -> 0 | X10: =+SUM('14'!X10) -> 0 | Y10: =+W10+X10 -> 0
A11: Collectes tentées | W11: =+SUM(B11:V11) -> 0 | X11: =+SUM('14'!X11) -> 0 | Y11: =+W11+X11 -> 0
A12: Collectes OK | W12: =+SUM(B12:V12) -> 0 | X12: =+SUM('14'!X12) -> 0 | Y12: =+W12+X12 -> 0
A13: Collectes en echec | W13: =+SUM(B13:V13) -> 0 | X13: =+SUM('14'!X13) -> 0 | Y13: =+W13+X13 -> 0
A14: Points livrés en agence | W14: =+SUM(B14:V14) -> 0 | X14: =+SUM('14'!X14) -> 0 | Y14: =+W14+X14 -> 0
A15: Pénalités générées | W15: =+SUM(B15:V15) -> 0 | X15: =+SUM('14'!X15) -> 0 | Y15: =+W15+X15 -> 0
A16: COHERENCE CHIFFRES | B16: =+IF(B4+B11=B5+B6+B7+B8+B9+B10+B12+B13,"OK","ERREUR") -> OK | C16: =+IF(C4+C11=C5+C6+C7+C8+C9+C10+C12+C13,"OK","ERREUR") -> OK | D16: =+IF(D4+D11=D5+D6+D7+D8+D9+D10+D12+D13,"OK","ERREUR") -> OK | E16: =+IF(E4+E11=E5+E6+E7+E8+E9+E10+E12+E13,"OK","ERREUR") -> OK | F16: =+IF(F4+F11=F5+F6+F7+F8+F9+F10+F12+F13,"OK","ERREUR") -> OK | G16: =+IF(G4+G11=G5+G6+G7+G8+G9+G10+G12+G13,"OK","ERREUR") -> OK | H16: =+IF(H4+H11=H5+H6+H7+H8+H9+H10+H12+H13,"OK","ERREUR") -> OK | I16: =+IF(I4+I11=I5+I6+I7+I8+I9+I10+I12+I13,"OK","ERREUR") -> OK | ... Y16: =+IF(Y4+Y11=Y5+Y6+Y7+Y8+Y9+Y10+Y12+Y13,"OK","ERREUR") -> OK
A17: CA DHL du jour | X17: =((X4-X9-X10+X11-X13+X14)*#REF!)-X15 -> #REF! | Y17: =((Y4-Y9-Y10+Y11-Y13+Y14)*#REF!)-Y15 -> #REF!
A18: Taux de réussite | X18: =+IF(X4+X11=0,0%,100%-(X9+X10+X13)/(X4+X11)) -> 0 | Y18: =+IF(Y4+Y11=0,0%,100%-(Y9+Y10+Y13)/(Y4+Y11)) -> 0

Sheet 16
I1: 16 | J1: =+'01'!$J$1 -> MARS | K1: =+#REF! -> #REF! | W1: TOTAL DU JOUR | X1: REPORT PRECEDENT | Y1: TOTAL CUMULE
A2: CHAUFFEUR | B2: A | C2: B | D2: C | E2: D | F2: E | G2: F | H2: G | I2: H | J2: I | K2: J | L2: K | M2: L | N2: M | O2: N | P2: O | Q2: PATRICK | R2: P | S2: Q | T2: R | U2: S | V2: T
A4: Points en WC (relais inclus) | W4: =+SUM(B4:V4) -> 0 | X4: =+SUM('15'!X4) -> 0 | Y4: =+W4+X4 -> 0
A5: Points OK | W5: =+SUM(B5:V5) -> 0 | X5: =+SUM('15'!X5) -> 0 | Y5: =+W5+X5 -> 0
A6: Points Neighbour | W6: =+SUM(B6:V6) -> 0 | X6: =+SUM('15'!X6) -> 0 | Y6: =+W6+X6 -> 0
A7: Points refusés | W7: =+SUM(B7:V7) -> 0 | X7: =+SUM('15'!X7) -> 0 | Y7: =+W7+X7 -> 0
A8: Nombre de points relais | W8: =+SUM(B8:V8) -> 0 | X8: =+SUM('15'!X8) -> 0 | Y8: =+W8+X8 -> 0
A9: Points avisés CC | W9: =+SUM(B9:V9) -> 0 | X9: =+SUM('15'!X9) -> 0 | Y9: =+W9+X9 -> 0
A10: Points en retour | W10: =+SUM(B10:V10) -> 0 | X10: =+SUM('15'!X10) -> 0 | Y10: =+W10+X10 -> 0
A11: Collectes tentées | W11: =+SUM(B11:V11) -> 0 | X11: =+SUM('15'!X11) -> 0 | Y11: =+W11+X11 -> 0
A12: Collectes OK | W12: =+SUM(B12:V12) -> 0 | X12: =+SUM('15'!X12) -> 0 | Y12: =+W12+X12 -> 0
A13: Collectes en echec | W13: =+SUM(B13:V13) -> 0 | X13: =+SUM('15'!X13) -> 0 | Y13: =+W13+X13 -> 0
A14: Points livrés en agence | W14: =+SUM(B14:V14) -> 0 | X14: =+SUM('15'!X14) -> 0 | Y14: =+W14+X14 -> 0
A15: Pénalités générées | W15: =+SUM(B15:V15) -> 0 | X15: =+SUM('15'!X15) -> 0 | Y15: =+W15+X15 -> 0
A16: COHERENCE CHIFFRES | B16: =+IF(B4+B11=B5+B6+B7+B8+B9+B10+B12+B13,"OK","ERREUR") -> OK | C16: =+IF(C4+C11=C5+C6+C7+C8+C9+C10+C12+C13,"OK","ERREUR") -> OK | D16: =+IF(D4+D11=D5+D6+D7+D8+D9+D10+D12+D13,"OK","ERREUR") -> OK | E16: =+IF(E4+E11=E5+E6+E7+E8+E9+E10+E12+E13,"OK","ERREUR") -> OK | F16: =+IF(F4+F11=F5+F6+F7+F8+F9+F10+F12+F13,"OK","ERREUR") -> OK | G16: =+IF(G4+G11=G5+G6+G7+G8+G9+G10+G12+G13,"OK","ERREUR") -> OK | H16: =+IF(H4+H11=H5+H6+H7+H8+H9+H10+H12+H13,"OK","ERREUR") -> OK | I16: =+IF(I4+I11=I5+I6+I7+I8+I9+I10+I12+I13,"OK","ERREUR") -> OK | ... Y16: =+IF(Y4+Y11=Y5+Y6+Y7+Y8+Y9+Y10+Y12+Y13,"OK","ERREUR") -> OK
A17: CA DHL du jour | X17: =((X4-X9-X10+X11-X13+X14)*#REF!)-X15 -> #REF! | Y17: =((Y4-Y9-Y10+Y11-Y13+Y14)*#REF!)-Y15 -> #REF!
A18: Taux de réussite | X18: =+IF(X4+X11=0,0%,100%-(X9+X10+X13)/(X4+X11)) -> 0 | Y18: =+IF(Y4+Y11=0,0%,100%-(Y9+Y10+Y13)/(Y4+Y11)) -> 0

Sheet 17
I1: 17 | J1: =+'01'!$J$1 -> MARS | K1: =+#REF! -> #REF! | W1: TOTAL DU JOUR | X1: REPORT PRECEDENT | Y1: TOTAL CUMULE
A2: CHAUFFEUR | B2: A | C2: B | D2: C | E2: D | F2: E | G2: F | H2: G | I2: H | J2: I | K2: J | L2: K | M2: L | N2: M | O2: N | P2: O | Q2: PATRICK | R2: P | S2: Q | T2: R | U2: S | V2: T
A4: Points en WC (relais inclus) | W4: =+SUM(B4:V4) -> 0 | X4: =+SUM('16'!X4) -> 0 | Y4: =+W4+X4 -> 0
A5: Points OK | W5: =+SUM(B5:V5) -> 0 | X5: =+SUM('16'!X5) -> 0 | Y5: =+W5+X5 -> 0
A6: Points Neighbour | W6: =+SUM(B6:V6) -> 0 | X6: =+SUM('16'!X6) -> 0 | Y6: =+W6+X6 -> 0
A7: Points refusés | W7: =+SUM(B7:V7) -> 0 | X7: =+SUM('16'!X7) -> 0 | Y7: =+W7+X7 -> 0
A8: Nombre de points relais | W8: =+SUM(B8:V8) -> 0 | X8: =+SUM('16'!X8) -> 0 | Y8: =+W8+X8 -> 0
A9: Points avisés CC | W9: =+SUM(B9:V9) -> 0 | X9: =+SUM('16'!X9) -> 0 | Y9: =+W9+X9 -> 0
A10: Points en retour | W10: =+SUM(B10:V10) -> 0 | X10: =+SUM('16'!X10) -> 0 | Y10: =+W10+X10 -> 0
A11: Collectes tentées | W11: =+SUM(B11:V11) -> 0 | X11: =+SUM('16'!X11) -> 0 | Y11: =+W11+X11 -> 0
A12: Collectes OK | W12: =+SUM(B12:V12) -> 0 | X12: =+SUM('16'!X12) -> 0 | Y12: =+W12+X12 -> 0
A13: Collectes en echec | W13: =+SUM(B13:V13) -> 0 | X13: =+SUM('16'!X13) -> 0 | Y13: =+W13+X13 -> 0
A14: Points livrés en agence | W14: =+SUM(B14:V14) -> 0 | X14: =+SUM('16'!X14) -> 0 | Y14: =+W14+X14 -> 0
A15: Pénalités générées | W15: =+SUM(B15:V15) -> 0 | X15: =+SUM('16'!X15) -> 0 | Y15: =+W15+X15 -> 0
A16: COHERENCE CHIFFRES | B16: =+IF(B4+B11=B5+B6+B7+B8+B9+B10+B12+B13,"OK","ERREUR") -> OK | C16: =+IF(C4+C11=C5+C6+C7+C8+C9+C10+C12+C13,"OK","ERREUR") -> OK | D16: =+IF(D4+D11=D5+D6+D7+D8+D9+D10+D12+D13,"OK","ERREUR") -> OK | E16: =+IF(E4+E11=E5+E6+E7+E8+E9+E10+E12+E13,"OK","ERREUR") -> OK | F16: =+IF(F4+F11=F5+F6+F7+F8+F9+F10+F12+F13,"OK","ERREUR") -> OK | G16: =+IF(G4+G11=G5+G6+G7+G8+G9+G10+G12+G13,"OK","ERREUR") -> OK | H16: =+IF(H4+H11=H5+H6+H7+H8+H9+H10+H12+H13,"OK","ERREUR") -> OK | I16: =+IF(I4+I11=I5+I6+I7+I8+I9+I10+I12+I13,"OK","ERREUR") -> OK | ... Y16: =+IF(Y4+Y11=Y5+Y6+Y7+Y8+Y9+Y10+Y12+Y13,"OK","ERREUR") -> OK
A17: CA DHL du jour | X17: =((X4-X9-X10+X11-X13+X14)*#REF!)-X15 -> #REF! | Y17: =((Y4-Y9-Y10+Y11-Y13+Y14)*#REF!)-Y15 -> #REF!
A18: Taux de réussite | X18: =+IF(X4+X11=0,0%,100%-(X9+X10+X13)/(X4+X11)) -> 0 | Y18: =+IF(Y4+Y11=0,0%,100%-(Y9+Y10+Y13)/(Y4+Y11)) -> 0

Sheet 18
I1: 18 | J1: =+'01'!$J$1 -> MARS | K1: =+#REF! -> #REF! | W1: TOTAL DU JOUR | X1: REPORT PRECEDENT | Y1: TOTAL CUMULE
A2: CHAUFFEUR | B2: A | C2: B | D2: C | E2: D | F2: E | G2: F | H2: G | I2: H | J2: I | K2: J | L2: K | M2: L | N2: M | O2: N | P2: O | Q2: PATRICK | R2: P | S2: Q | T2: R | U2: S | V2: T
A4: Points en WC (relais inclus) | W4: =+SUM(B4:V4) -> 0 | X4: =+SUM('17'!X4) -> 0 | Y4: =+W4+X4 -> 0
A5: Points OK | W5: =+SUM(B5:V5) -> 0 | X5: =+SUM('17'!X5) -> 0 | Y5: =+W5+X5 -> 0
A6: Points Neighbour | W6: =+SUM(B6:V6) -> 0 | X6: =+SUM('17'!X6) -> 0 | Y6: =+W6+X6 -> 0
A7: Points refusés | W7: =+SUM(B7:V7) -> 0 | X7: =+SUM('17'!X7) -> 0 | Y7: =+W7+X7 -> 0
A8: Nombre de points relais | W8: =+SUM(B8:V8) -> 0 | X8: =+SUM('17'!X8) -> 0 | Y8: =+W8+X8 -> 0
A9: Points avisés CC | W9: =+SUM(B9:V9) -> 0 | X9: =+SUM('17'!X9) -> 0 | Y9: =+W9+X9 -> 0
A10: Points en retour | W10: =+SUM(B10:V10) -> 0 | X10: =+SUM('17'!X10) -> 0 | Y10: =+W10+X10 -> 0
A11: Collectes tentées | W11: =+SUM(B11:V11) -> 0 | X11: =+SUM('17'!X11) -> 0 | Y11: =+W11+X11 -> 0
A12: Collectes OK | W12: =+SUM(B12:V12) -> 0 | X12: =+SUM('17'!X12) -> 0 | Y12: =+W12+X12 -> 0
A13: Collectes en echec | W13: =+SUM(B13:V13) -> 0 | X13: =+SUM('17'!X13) -> 0 | Y13: =+W13+X13 -> 0
A14: Points livrés en agence | W14: =+SUM(B14:V14) -> 0 | X14: =+SUM('17'!X14) -> 0 | Y14: =+W14+X14 -> 0
A15: Pénalités générées | W15: =+SUM(B15:V15) -> 0 | X15: =+SUM('17'!X15) -> 0 | Y15: =+W15+X15 -> 0
A16: COHERENCE CHIFFRES | B16: =+IF(B4+B11=B5+B6+B7+B8+B9+B10+B12+B13,"OK","ERREUR") -> OK | C16: =+IF(C4+C11=C5+C6+C7+C8+C9+C10+C12+C13,"OK","ERREUR") -> OK | D16: =+IF(D4+D11=D5+D6+D7+D8+D9+D10+D12+D13,"OK","ERREUR") -> OK | E16: =+IF(E4+E11=E5+E6+E7+E8+E9+E10+E12+E13,"OK","ERREUR") -> OK | F16: =+IF(F4+F11=F5+F6+F7+F8+F9+F10+F12+F13,"OK","ERREUR") -> OK | G16: =+IF(G4+G11=G5+G6+G7+G8+G9+G10+G12+G13,"OK","ERREUR") -> OK | H16: =+IF(H4+H11=H5+H6+H7+H8+H9+H10+H12+H13,"OK","ERREUR") -> OK | I16: =+IF(I4+I11=I5+I6+I7+I8+I9+I10+I12+I13,"OK","ERREUR") -> OK | ... Y16: =+IF(Y4+Y11=Y5+Y6+Y7+Y8+Y9+Y10+Y12+Y13,"OK","ERREUR") -> OK
A17: CA DHL du jour | X17: =((X4-X9-X10+X11-X13+X14)*#REF!)-X15 -> #REF! | Y17: =((Y4-Y9-Y10+Y11-Y13+Y14)*#REF!)-Y15 -> #REF!
A18: Taux de réussite | X18: =+IF(X4+X11=0,0%,100%-(X9+X10+X13)/(X4+X11)) -> 0 | Y18: =+IF(Y4+Y11=0,0%,100%-(Y9+Y10+Y13)/(Y4+Y11)) -> 0

Sheet 19
I1: 19 | J1: =+'01'!$J$1 -> MARS | K1: =+#REF! -> #REF! | W1: TOTAL DU JOUR | X1: REPORT PRECEDENT | Y1: TOTAL CUMULE
A2: CHAUFFEUR | B2: A | C2: B | D2: C | E2: D | F2: E | G2: F | H2: G | I2: H | J2: I | K2: J | L2: K | M2: L | N2: M | O2: N | P2: O | Q2: PATRICK | R2: P | S2: Q | T2: R | U2: S | V2: T
A4: Points en WC (relais inclus) | W4: =+SUM(B4:V4) -> 0 | X4: =+SUM('18'!X4) -> 0 | Y4: =+W4+X4 -> 0
A5: Points OK | W5: =+SUM(B5:V5) -> 0 | X5: =+SUM('18'!X5) -> 0 | Y5: =+W5+X5 -> 0
A6: Points Neighbour | W6: =+SUM(B6:V6) -> 0 | X6: =+SUM('18'!X6) -> 0 | Y6: =+W6+X6 -> 0
A7: Points refusés | W7: =+SUM(B7:V7) -> 0 | X7: =+SUM('18'!X7) -> 0 | Y7: =+W7+X7 -> 0
A8: Nombre de points relais | W8: =+SUM(B8:V8) -> 0 | X8: =+SUM('18'!X8) -> 0 | Y8: =+W8+X8 -> 0
A9: Points avisés CC | W9: =+SUM(B9:V9) -> 0 | X9: =+SUM('18'!X9) -> 0 | Y9: =+W9+X9 -> 0
A10: Points en retour | W10: =+SUM(B10:V10) -> 0 | X10: =+SUM('18'!X10) -> 0 | Y10: =+W10+X10 -> 0
A11: Collectes tentées | W11: =+SUM(B11:V11) -> 0 | X11: =+SUM('18'!X11) -> 0 | Y11: =+W11+X11 -> 0
A12: Collectes OK | W12: =+SUM(B12:V12) -> 0 | X12: =+SUM('18'!X12) -> 0 | Y12: =+W12+X12 -> 0
A13: Collectes en echec | W13: =+SUM(B13:V13) -> 0 | X13: =+SUM('18'!X13) -> 0 | Y13: =+W13+X13 -> 0
A14: Points livrés en agence | W14: =+SUM(B14:V14) -> 0 | X14: =+SUM('18'!X14) -> 0 | Y14: =+W14+X14 -> 0
A15: Pénalités générées | W15: =+SUM(B15:V15) -> 0 | X15: =+SUM('18'!X15) -> 0 | Y15: =+W15+X15 -> 0
A16: COHERENCE CHIFFRES | B16: =+IF(B4+B11=B5+B6+B7+B8+B9+B10+B12+B13,"OK","ERREUR") -> OK | C16: =+IF(C4+C11=C5+C6+C7+C8+C9+C10+C12+C13,"OK","ERREUR") -> OK | D16: =+IF(D4+D11=D5+D6+D7+D8+D9+D10+D12+D13,"OK","ERREUR") -> OK | E16: =+IF(E4+E11=E5+E6+E7+E8+E9+E10+E12+E13,"OK","ERREUR") -> OK | F16: =+IF(F4+F11=F5+F6+F7+F8+F9+F10+F12+F13,"OK","ERREUR") -> OK | G16: =+IF(G4+G11=G5+G6+G7+G8+G9+G10+G12+G13,"OK","ERREUR") -> OK | H16: =+IF(H4+H11=H5+H6+H7+H8+H9+H10+H12+H13,"OK","ERREUR") -> OK | I16: =+IF(I4+I11=I5+I6+I7+I8+I9+I10+I12+I13,"OK","ERREUR") -> OK | ... Y16: =+IF(Y4+Y11=Y5+Y6+Y7+Y8+Y9+Y10+Y12+Y13,"OK","ERREUR") -> OK
A17: CA DHL du jour | X17: =((X4-X9-X10+X11-X13+X14)*#REF!)-X15 -> #REF! | Y17: =((Y4-Y9-Y10+Y11-Y13+Y14)*#REF!)-Y15 -> #REF!
A18: Taux de réussite | X18: =+IF(X4+X11=0,0%,100%-(X9+X10+X13)/(X4+X11)) -> 0 | Y18: =+IF(Y4+Y11=0,0%,100%-(Y9+Y10+Y13)/(Y4+Y11)) -> 0

Sheet 20
I1: 20 | J1: =+'01'!$J$1 -> MARS | K1: =+#REF! -> #REF! | W1: TOTAL DU JOUR | X1: REPORT PRECEDENT | Y1: TOTAL CUMULE
A2: CHAUFFEUR | B2: A | C2: B | D2: C | E2: D | F2: E | G2: F | H2: G | I2: H | J2: I | K2: J | L2: K | M2: L | N2: M | O2: N | P2: O | Q2: PATRICK | R2: P | S2: Q | T2: R | U2: S | V2: T
A4: Points en WC (relais inclus) | W4: =+SUM(B4:V4) -> 0 | X4: =+SUM('19'!X4) -> 0 | Y4: =+W4+X4 -> 0
A5: Points OK | W5: =+SUM(B5:V5) -> 0 | X5: =+SUM('19'!X5) -> 0 | Y5: =+W5+X5 -> 0
A6: Points Neighbour | W6: =+SUM(B6:V6) -> 0 | X6: =+SUM('19'!X6) -> 0 | Y6: =+W6+X6 -> 0
A7: Points refusés | W7: =+SUM(B7:V7) -> 0 | X7: =+SUM('19'!X7) -> 0 | Y7: =+W7+X7 -> 0
A8: Nombre de points relais | W8: =+SUM(B8:V8) -> 0 | X8: =+SUM('19'!X8) -> 0 | Y8: =+W8+X8 -> 0
A9: Points avisés CC | W9: =+SUM(B9:V9) -> 0 | X9: =+SUM('19'!X9) -> 0 | Y9: =+W9+X9 -> 0
A10: Points en retour | W10: =+SUM(B10:V10) -> 0 | X10: =+SUM('19'!X10) -> 0 | Y10: =+W10+X10 -> 0
A11: Collectes tentées | W11: =+SUM(B11:V11) -> 0 | X11: =+SUM('19'!X11) -> 0 | Y11: =+W11+X11 -> 0
A12: Collectes OK | W12: =+SUM(B12:V12) -> 0 | X12: =+SUM('19'!X12) -> 0 | Y12: =+W12+X12 -> 0
A13: Collectes en echec | W13: =+SUM(B13:V13) -> 0 | X13: =+SUM('19'!X13) -> 0 | Y13: =+W13+X13 -> 0
A14: Points livrés en agence | W14: =+SUM(B14:V14) -> 0 | X14: =+SUM('19'!X14) -> 0 | Y14: =+W14+X14 -> 0
A15: Pénalités générées | W15: =+SUM(B15:V15) -> 0 | X15: =+SUM('19'!X15) -> 0 | Y15: =+W15+X15 -> 0
A16: COHERENCE CHIFFRES | B16: =+IF(B4+B11=B5+B6+B7+B8+B9+B10+B12+B13,"OK","ERREUR") -> OK | C16: =+IF(C4+C11=C5+C6+C7+C8+C9+C10+C12+C13,"OK","ERREUR") -> OK | D16: =+IF(D4+D11=D5+D6+D7+D8+D9+D10+D12+D13,"OK","ERREUR") -> OK | E16: =+IF(E4+E11=E5+E6+E7+E8+E9+E10+E12+E13,"OK","ERREUR") -> OK | F16: =+IF(F4+F11=F5+F6+F7+F8+F9+F10+F12+F13,"OK","ERREUR") -> OK | G16: =+IF(G4+G11=G5+G6+G7+G8+G9+G10+G12+G13,"OK","ERREUR") -> OK | H16: =+IF(H4+H11=H5+H6+H7+H8+H9+H10+H12+H13,"OK","ERREUR") -> OK | I16: =+IF(I4+I11=I5+I6+I7+I8+I9+I10+I12+I13,"OK","ERREUR") -> OK | ... Y16: =+IF(Y4+Y11=Y5+Y6+Y7+Y8+Y9+Y10+Y12+Y13,"OK","ERREUR") -> OK
A17: CA DHL du jour | X17: =((X4-X9-X10+X11-X13+X14)*#REF!)-X15 -> #REF! | Y17: =((Y4-Y9-Y10+Y11-Y13+Y14)*#REF!)-Y15 -> #REF!
A18: Taux de réussite | X18: =+IF(X4+X11=0,0%,100%-(X9+X10+X13)/(X4+X11)) -> 0 | Y18: =+IF(Y4+Y11=0,0%,100%-(Y9+Y10+Y13)/(Y4+Y11)) -> 0

Sheet 21
I1: 21 | J1: =+'01'!$J$1 -> MARS | K1: =+#REF! -> #REF! | W1: TOTAL DU JOUR | X1: REPORT PRECEDENT | Y1: TOTAL CUMULE
A2: CHAUFFEUR | B2: A | C2: B | D2: C | E2: D | F2: E | G2: F | H2: G | I2: H | J2: I | K2: J | L2: K | M2: L | N2: M | O2: N | P2: O | Q2: PATRICK | R2: P | S2: Q | T2: R | U2: S | V2: T
A4: Points en WC (relais inclus) | W4: =+SUM(B4:V4) -> 0 | X4: =+SUM('20'!X4) -> 0 | Y4: =+W4+X4 -> 0
A5: Points OK | W5: =+SUM(B5:V5) -> 0 | X5: =+SUM('20'!X5) -> 0 | Y5: =+W5+X5 -> 0
A6: Points Neighbour | W6: =+SUM(B6:V6) -> 0 | X6: =+SUM('20'!X6) -> 0 | Y6: =+W6+X6 -> 0
A7: Points refusés | W7: =+SUM(B7:V7) -> 0 | X7: =+SUM('20'!X7) -> 0 | Y7: =+W7+X7 -> 0
A8: Nombre de points relais | W8: =+SUM(B8:V8) -> 0 | X8: =+SUM('20'!X8) -> 0 | Y8: =+W8+X8 -> 0
A9: Points avisés CC | W9: =+SUM(B9:V9) -> 0 | X9: =+SUM('20'!X9) -> 0 | Y9: =+W9+X9 -> 0
A10: Points en retour | W10: =+SUM(B10:V10) -> 0 | X10: =+SUM('20'!X10) -> 0 | Y10: =+W10+X10 -> 0
A11: Collectes tentées | W11: =+SUM(B11:V11) -> 0 | X11: =+SUM('20'!X11) -> 0 | Y11: =+W11+X11 -> 0
A12: Collectes OK | W12: =+SUM(B12:V12) -> 0 | X12: =+SUM('20'!X12) -> 0 | Y12: =+W12+X12 -> 0
A13: Collectes en echec | W13: =+SUM(B13:V13) -> 0 | X13: =+SUM('20'!X13) -> 0 | Y13: =+W13+X13 -> 0
A14: Points livrés en agence | W14: =+SUM(B14:V14) -> 0 | X14: =+SUM('20'!X14) -> 0 | Y14: =+W14+X14 -> 0
A15: Pénalités générées | W15: =+SUM(B15:V15) -> 0 | X15: =+SUM('20'!X15) -> 0 | Y15: =+W15+X15 -> 0
A16: COHERENCE CHIFFRES | B16: =+IF(B4+B11=B5+B6+B7+B8+B9+B10+B12+B13,"OK","ERREUR") -> OK | C16: =+IF(C4+C11=C5+C6+C7+C8+C9+C10+C12+C13,"OK","ERREUR") -> OK | D16: =+IF(D4+D11=D5+D6+D7+D8+D9+D10+D12+D13,"OK","ERREUR") -> OK | E16: =+IF(E4+E11=E5+E6+E7+E8+E9+E10+E12+E13,"OK","ERREUR") -> OK | F16: =+IF(F4+F11=F5+F6+F7+F8+F9+F10+F12+F13,"OK","ERREUR") -> OK | G16: =+IF(G4+G11=G5+G6+G7+G8+G9+G10+G12+G13,"OK","ERREUR") -> OK | H16: =+IF(H4+H11=H5+H6+H7+H8+H9+H10+H12+H13,"OK","ERREUR") -> OK | I16: =+IF(I4+I11=I5+I6+I7+I8+I9+I10+I12+I13,"OK","ERREUR") -> OK | ... Y16: =+IF(Y4+Y11=Y5+Y6+Y7+Y8+Y9+Y10+Y12+Y13,"OK","ERREUR") -> OK
A17: CA DHL du jour | X17: =((X4-X9-X10+X11-X13+X14)*#REF!)-X15 -> #REF! | Y17: =((Y4-Y9-Y10+Y11-Y13+Y14)*#REF!)-Y15 -> #REF!
A18: Taux de réussite | X18: =+IF(X4+X11=0,0%,100%-(X9+X10+X13)/(X4+X11)) -> 0 | Y18: =+IF(Y4+Y11=0,0%,100%-(Y9+Y10+Y13)/(Y4+Y11)) -> 0

Sheet 22
I1: 22 | J1: =+'01'!$J$1 -> MARS | K1: =+#REF! -> #REF! | W1: TOTAL DU JOUR | X1: REPORT PRECEDENT | Y1: TOTAL CUMULE
A2: CHAUFFEUR | B2: A | C2: B | D2: C | E2: D | F2: E | G2: F | H2: G | I2: H | J2: I | K2: J | L2: K | M2: L | N2: M | O2: N | P2: O | Q2: PATRICK | R2: P | S2: Q | T2: R | U2: S | V2: T
A4: Points en WC (relais inclus) | W4: =+SUM(B4:V4) -> 0 | X4: =+SUM('21'!X4) -> 0 | Y4: =+W4+X4 -> 0
A5: Points OK | W5: =+SUM(B5:V5) -> 0 | X5: =+SUM('21'!X5) -> 0 | Y5: =+W5+X5 -> 0
A6: Points Neighbour | W6: =+SUM(B6:V6) -> 0 | X6: =+SUM('21'!X6) -> 0 | Y6: =+W6+X6 -> 0
A7: Points refusés | W7: =+SUM(B7:V7) -> 0 | X7: =+SUM('21'!X7) -> 0 | Y7: =+W7+X7 -> 0
A8: Nombre de points relais | W8: =+SUM(B8:V8) -> 0 | X8: =+SUM('21'!X8) -> 0 | Y8: =+W8+X8 -> 0
A9: Points avisés CC | W9: =+SUM(B9:V9) -> 0 | X9: =+SUM('21'!X9) -> 0 | Y9: =+W9+X9 -> 0
A10: Points en retour | W10: =+SUM(B10:V10) -> 0 | X10: =+SUM('21'!X10) -> 0 | Y10: =+W10+X10 -> 0
A11: Collectes tentées | W11: =+SUM(B11:V11) -> 0 | X11: =+SUM('21'!X11) -> 0 | Y11: =+W11+X11 -> 0
A12: Collectes OK | W12: =+SUM(B12:V12) -> 0 | X12: =+SUM('21'!X12) -> 0 | Y12: =+W12+X12 -> 0
A13: Collectes en echec | W13: =+SUM(B13:V13) -> 0 | X13: =+SUM('21'!X13) -> 0 | Y13: =+W13+X13 -> 0
A14: Points livrés en agence | W14: =+SUM(B14:V14) -> 0 | X14: =+SUM('21'!X14) -> 0 | Y14: =+W14+X14 -> 0
A15: Pénalités générées | W15: =+SUM(B15:V15) -> 0 | X15: =+SUM('21'!X15) -> 0 | Y15: =+W15+X15 -> 0
A16: COHERENCE CHIFFRES | B16: =+IF(B4+B11=B5+B6+B7+B8+B9+B10+B12+B13,"OK","ERREUR") -> OK | C16: =+IF(C4+C11=C5+C6+C7+C8+C9+C10+C12+C13,"OK","ERREUR") -> OK | D16: =+IF(D4+D11=D5+D6+D7+D8+D9+D10+D12+D13,"OK","ERREUR") -> OK | E16: =+IF(E4+E11=E5+E6+E7+E8+E9+E10+E12+E13,"OK","ERREUR") -> OK | F16: =+IF(F4+F11=F5+F6+F7+F8+F9+F10+F12+F13,"OK","ERREUR") -> OK | G16: =+IF(G4+G11=G5+G6+G7+G8+G9+G10+G12+G13,"OK","ERREUR") -> OK | H16: =+IF(H4+H11=H5+H6+H7+H8+H9+H10+H12+H13,"OK","ERREUR") -> OK | I16: =+IF(I4+I11=I5+I6+I7+I8+I9+I10+I12+I13,"OK","ERREUR") -> OK | ... Y16: =+IF(Y4+Y11=Y5+Y6+Y7+Y8+Y9+Y10+Y12+Y13,"OK","ERREUR") -> OK
A17: CA DHL du jour | X17: =((X4-X9-X10+X11-X13+X14)*#REF!)-X15 -> #REF! | Y17: =((Y4-Y9-Y10+Y11-Y13+Y14)*#REF!)-Y15 -> #REF!
A18: Taux de réussite | X18: =+IF(X4+X11=0,0%,100%-(X9+X10+X13)/(X4+X11)) -> 0 | Y18: =+IF(Y4+Y11=0,0%,100%-(Y9+Y10+Y13)/(Y4+Y11)) -> 0

Sheet 23
I1: 23 | J1: =+'01'!$J$1 -> MARS | K1: =+#REF! -> #REF! | W1: TOTAL DU JOUR | X1: REPORT PRECEDENT | Y1: TOTAL CUMULE
A2: CHAUFFEUR | B2: A | C2: B | D2: C | E2: D | F2: E | G2: F | H2: G | I2: H | J2: I | K2: J | L2: K | M2: L | N2: M | O2: N | P2: O | Q2: PATRICK | R2: P | S2: Q | T2: R | U2: S | V2: T
A4: Points en WC (relais inclus) | W4: =+SUM(B4:V4) -> 0 | X4: =+SUM('22'!X4) -> 0 | Y4: =+W4+X4 -> 0
A5: Points OK | W5: =+SUM(B5:V5) -> 0 | X5: =+SUM('22'!X5) -> 0 | Y5: =+W5+X5 -> 0
A6: Points Neighbour | W6: =+SUM(B6:V6) -> 0 | X6: =+SUM('22'!X6) -> 0 | Y6: =+W6+X6 -> 0
A7: Points refusés | W7: =+SUM(B7:V7) -> 0 | X7: =+SUM('22'!X7) -> 0 | Y7: =+W7+X7 -> 0
A8: Nombre de points relais | W8: =+SUM(B8:V8) -> 0 | X8: =+SUM('22'!X8) -> 0 | Y8: =+W8+X8 -> 0
A9: Points avisés CC | W9: =+SUM(B9:V9) -> 0 | X9: =+SUM('22'!X9) -> 0 | Y9: =+W9+X9 -> 0
A10: Points en retour | W10: =+SUM(B10:V10) -> 0 | X10: =+SUM('22'!X10) -> 0 | Y10: =+W10+X10 -> 0
A11: Collectes tentées | W11: =+SUM(B11:V11) -> 0 | X11: =+SUM('22'!X11) -> 0 | Y11: =+W11+X11 -> 0
A12: Collectes OK | W12: =+SUM(B12:V12) -> 0 | X12: =+SUM('22'!X12) -> 0 | Y12: =+W12+X12 -> 0
A13: Collectes en echec | W13: =+SUM(B13:V13) -> 0 | X13: =+SUM('22'!X13) -> 0 | Y13: =+W13+X13 -> 0
A14: Points livrés en agence | W14: =+SUM(B14:V14) -> 0 | X14: =+SUM('22'!X14) -> 0 | Y14: =+W14+X14 -> 0
A15: Pénalités générées | W15: =+SUM(B15:V15) -> 0 | X15: =+SUM('22'!X15) -> 0 | Y15: =+W15+X15 -> 0
A16: COHERENCE CHIFFRES | B16: =+IF(B4+B11=B5+B6+B7+B8+B9+B10+B12+B13,"OK","ERREUR") -> OK | C16: =+IF(C4+C11=C5+C6+C7+C8+C9+C10+C12+C13,"OK","ERREUR") -> OK | D16: =+IF(D4+D11=D5+D6+D7+D8+D9+D10+D12+D13,"OK","ERREUR") -> OK | E16: =+IF(E4+E11=E5+E6+E7+E8+E9+E10+E12+E13,"OK","ERREUR") -> OK | F16: =+IF(F4+F11=F5+F6+F7+F8+F9+F10+F12+F13,"OK","ERREUR") -> OK | G16: =+IF(G4+G11=G5+G6+G7+G8+G9+G10+G12+G13,"OK","ERREUR") -> OK | H16: =+IF(H4+H11=H5+H6+H7+H8+H9+H10+H12+H13,"OK","ERREUR") -> OK | I16: =+IF(I4+I11=I5+I6+I7+I8+I9+I10+I12+I13,"OK","ERREUR") -> OK | ... Y16: =+IF(Y4+Y11=Y5+Y6+Y7+Y8+Y9+Y10+Y12+Y13,"OK","ERREUR") -> OK
A17: CA DHL du jour | X17: =((X4-X9-X10+X11-X13+X14)*#REF!)-X15 -> #REF! | Y17: =((Y4-Y9-Y10+Y11-Y13+Y14)*#REF!)-Y15 -> #REF!
A18: Taux de réussite | X18: =+IF(X4+X11=0,0%,100%-(X9+X10+X13)/(X4+X11)) -> 0 | Y18: =+IF(Y4+Y11=0,0%,100%-(Y9+Y10+Y13)/(Y4+Y11)) -> 0

Sheet 24
I1: 24 | J1: =+'01'!$J$1 -> MARS | K1: =+#REF! -> #REF! | W1: TOTAL DU JOUR | X1: REPORT PRECEDENT | Y1: TOTAL CUMULE
A2: CHAUFFEUR | B2: A | C2: B | D2: C | E2: D | F2: E | G2: F | H2: G | I2: H | J2: I | K2: J | L2: K | M2: L | N2: M | O2: N | P2: O | Q2: PATRICK | R2: P | S2: Q | T2: R | U2: S | V2: T
A4: Points en WC (relais inclus) | W4: =+SUM(B4:V4) -> 0 | X4: =+SUM('23'!X4) -> 0 | Y4: =+W4+X4 -> 0
A5: Points OK | W5: =+SUM(B5:V5) -> 0 | X5: =+SUM('23'!X5) -> 0 | Y5: =+W5+X5 -> 0
A6: Points Neighbour | W6: =+SUM(B6:V6) -> 0 | X6: =+SUM('23'!X6) -> 0 | Y6: =+W6+X6 -> 0
A7: Points refusés | W7: =+SUM(B7:V7) -> 0 | X7: =+SUM('23'!X7) -> 0 | Y7: =+W7+X7 -> 0
A8: Nombre de points relais | W8: =+SUM(B8:V8) -> 0 | X8: =+SUM('23'!X8) -> 0 | Y8: =+W8+X8 -> 0
A9: Points avisés CC | W9: =+SUM(B9:V9) -> 0 | X9: =+SUM('23'!X9) -> 0 | Y9: =+W9+X9 -> 0
A10: Points en retour | W10: =+SUM(B10:V10) -> 0 | X10: =+SUM('23'!X10) -> 0 | Y10: =+W10+X10 -> 0
A11: Collectes tentées | W11: =+SUM(B11:V11) -> 0 | X11: =+SUM('23'!X11) -> 0 | Y11: =+W11+X11 -> 0
A12: Collectes OK | W12: =+SUM(B12:V12) -> 0 | X12: =+SUM('23'!X12) -> 0 | Y12: =+W12+X12 -> 0
A13: Collectes en echec | W13: =+SUM(B13:V13) -> 0 | X13: =+SUM('23'!X13) -> 0 | Y13: =+W13+X13 -> 0
A14: Points livrés en agence | W14: =+SUM(B14:V14) -> 0 | X14: =+SUM('23'!X14) -> 0 | Y14: =+W14+X14 -> 0
A15: Pénalités générées | W15: =+SUM(B15:V15) -> 0 | X15: =+SUM('23'!X15) -> 0 | Y15: =+W15+X15 -> 0
A16: COHERENCE CHIFFRES | B16: =+IF(B4+B11=B5+B6+B7+B8+B9+B10+B12+B13,"OK","ERREUR") -> OK | C16: =+IF(C4+C11=C5+C6+C7+C8+C9+C10+C12+C13,"OK","ERREUR") -> OK | D16: =+IF(D4+D11=D5+D6+D7+D8+D9+D10+D12+D13,"OK","ERREUR") -> OK | E16: =+IF(E4+E11=E5+E6+E7+E8+E9+E10+E12+E13,"OK","ERREUR") -> OK | F16: =+IF(F4+F11=F5+F6+F7+F8+F9+F10+F12+F13,"OK","ERREUR") -> OK | G16: =+IF(G4+G11=G5+G6+G7+G8+G9+G10+G12+G13,"OK","ERREUR") -> OK | H16: =+IF(H4+H11=H5+H6+H7+H8+H9+H10+H12+H13,"OK","ERREUR") -> OK | I16: =+IF(I4+I11=I5+I6+I7+I8+I9+I10+I12+I13,"OK","ERREUR") -> OK | ... Y16: =+IF(Y4+Y11=Y5+Y6+Y7+Y8+Y9+Y10+Y12+Y13,"OK","ERREUR") -> OK
A17: CA DHL du jour | X17: =((X4-X9-X10+X11-X13+X14)*#REF!)-X15 -> #REF! | Y17: =((Y4-Y9-Y10+Y11-Y13+Y14)*#REF!)-Y15 -> #REF!
A18: Taux de réussite | X18: =+IF(X4+X11=0,0%,100%-(X9+X10+X13)/(X4+X11)) -> 0 | Y18: =+IF(Y4+Y11=0,0%,100%-(Y9+Y10+Y13)/(Y4+Y11)) -> 0

Sheet 25
I1: 25 | J1: =+'01'!$J$1 -> MARS | K1: =+#REF! -> #REF! | W1: TOTAL DU JOUR | X1: REPORT PRECEDENT | Y1: TOTAL CUMULE
A2: CHAUFFEUR | B2: A | C2: B | D2: C | E2: D | F2: E | G2: F | H2: G | I2: H | J2: I | K2: J | L2: K | M2: L | N2: M | O2: N | P2: O | Q2: PATRICK | R2: P | S2: Q | T2: R | U2: S | V2: T
A4: Points en WC (relais inclus) | W4: =+SUM(B4:V4) -> 0 | X4: =+SUM('24'!X4) -> 0 | Y4: =+W4+X4 -> 0
A5: Points OK | W5: =+SUM(B5:V5) -> 0 | X5: =+SUM('24'!X5) -> 0 | Y5: =+W5+X5 -> 0
A6: Points Neighbour | W6: =+SUM(B6:V6) -> 0 | X6: =+SUM('24'!X6) -> 0 | Y6: =+W6+X6 -> 0
A7: Points refusés | W7: =+SUM(B7:V7) -> 0 | X7: =+SUM('24'!X7) -> 0 | Y7: =+W7+X7 -> 0
A8: Nombre de points relais | W8: =+SUM(B8:V8) -> 0 | X8: =+SUM('24'!X8) -> 0 | Y8: =+W8+X8 -> 0
A9: Points avisés CC | W9: =+SUM(B9:V9) -> 0 | X9: =+SUM('24'!X9) -> 0 | Y9: =+W9+X9 -> 0
A10: Points en retour | W10: =+SUM(B10:V10) -> 0 | X10: =+SUM('24'!X10) -> 0 | Y10: =+W10+X10 -> 0
A11: Collectes tentées | W11: =+SUM(B11:V11) -> 0 | X11: =+SUM('24'!X11) -> 0 | Y11: =+W11+X11 -> 0
A12: Collectes OK | W12: =+SUM(B12:V12) -> 0 | X12: =+SUM('24'!X12) -> 0 | Y12: =+W12+X12 -> 0
A13: Collectes en echec | W13: =+SUM(B13:V13) -> 0 | X13: =+SUM('24'!X13) -> 0 | Y13: =+W13+X13 -> 0
A14: Points livrés en agence | W14: =+SUM(B14:V14) -> 0 | X14: =+SUM('24'!X14) -> 0 | Y14: =+W14+X14 -> 0
A15: Pénalités générées | W15: =+SUM(B15:V15) -> 0 | X15: =+SUM('24'!X15) -> 0 | Y15: =+W15+X15 -> 0
A16: COHERENCE CHIFFRES | B16: =+IF(B4+B11=B5+B6+B7+B8+B9+B10+B12+B13,"OK","ERREUR") -> OK | C16: =+IF(C4+C11=C5+C6+C7+C8+C9+C10+C12+C13,"OK","ERREUR") -> OK | D16: =+IF(D4+D11=D5+D6+D7+D8+D9+D10+D12+D13,"OK","ERREUR") -> OK | E16: =+IF(E4+E11=E5+E6+E7+E8+E9+E10+E12+E13,"OK","ERREUR") -> OK | F16: =+IF(F4+F11=F5+F6+F7+F8+F9+F10+F12+F13,"OK","ERREUR") -> OK | G16: =+IF(G4+G11=G5+G6+G7+G8+G9+G10+G12+G13,"OK","ERREUR") -> OK | H16: =+IF(H4+H11=H5+H6+H7+H8+H9+H10+H12+H13,"OK","ERREUR") -> OK | I16: =+IF(I4+I11=I5+I6+I7+I8+I9+I10+I12+I13,"OK","ERREUR") -> OK | ... Y16: =+IF(Y4+Y11=Y5+Y6+Y7+Y8+Y9+Y10+Y12+Y13,"OK","ERREUR") -> OK
A17: CA DHL du jour | X17: =((X4-X9-X10+X11-X13+X14)*#REF!)-X15 -> #REF! | Y17: =((Y4-Y9-Y10+Y11-Y13+Y14)*#REF!)-Y15 -> #REF!
A18: Taux de réussite | X18: =+IF(X4+X11=0,0%,100%-(X9+X10+X13)/(X4+X11)) -> 0 | Y18: =+IF(Y4+Y11=0,0%,100%-(Y9+Y10+Y13)/(Y4+Y11)) -> 0

Sheet 26
I1: 26 | J1: =+'01'!$J$1 -> MARS | K1: =+#REF! -> #REF! | W1: TOTAL DU JOUR | X1: REPORT PRECEDENT | Y1: TOTAL CUMULE
A2: CHAUFFEUR | B2: A | C2: B | D2: C | E2: D | F2: E | G2: F | H2: G | I2: H | J2: I | K2: J | L2: K | M2: L | N2: M | O2: N | P2: O | Q2: PATRICK | R2: P | S2: Q | T2: R | U2: S | V2: T
A4: Points en WC (relais inclus) | W4: =+SUM(B4:V4) -> 0 | X4: =+SUM('25'!X4) -> 0 | Y4: =+W4+X4 -> 0
A5: Points OK | W5: =+SUM(B5:V5) -> 0 | X5: =+SUM('25'!X5) -> 0 | Y5: =+W5+X5 -> 0
A6: Points Neighbour | W6: =+SUM(B6:V6) -> 0 | X6: =+SUM('25'!X6) -> 0 | Y6: =+W6+X6 -> 0
A7: Points refusés | W7: =+SUM(B7:V7) -> 0 | X7: =+SUM('25'!X7) -> 0 | Y7: =+W7+X7 -> 0
