Workbook

Sheet VIERGE
I1: JOUR | J1: MOIS | K1: =+#REF! -> #REF! | W1: TOTAL DU JOUR
A2: CHAUFFEUR | B2: A | C2: B | D2: C | E2: D | F2: E | G2: F | H2: G | I2: H | J2: I | K2: J | L2: K | M2: L | N2: M | O2: N | P2: O | Q2: PATRICK | R2: P | S2: Q | T2: R | U2: S | V2: T
A4: Points en WC (relais inclus) | W4: =+SUM(B4:V4) -> 0
A5: Points OK | W5: =+SUM(B5:V5) -> 0
A6: Points Neighbour | W6: =+SUM(B6:V6) -> 0
A7: Points refusés | W7: =+SUM(B7:V7) -> 0
A8: Nombre de points relais | W8: =+SUM(B8:V8) -> 0
A9: Points avisés CC | W9: =+SUM(B9:V9) -> 0
A10: Points en retour | W10: =+SUM(B10:V10) -> 0
A11: Collectes tentées | W11: =+SUM(B11:V11) -> 0
A12: Collectes OK | W12: =+SUM(B12:V12) -> 0
A13: Collectes en echec | W13: =+SUM(B13:V13) -> 0
A14: Points livrés en agence | W14: =+SUM(B14:V14) -> 0
A15: Pénalités générées | W15: =+SUM(B15:V15) -> 0
A16: COHERENCE CHIFFRES | B16: =+IF(B4+B11=B5+B6+B7+B8+B9+B10+B12+B13,"OK","ERREUR") -> OK | C16: =+IF(C4+C11=C5+C6+C7+C8+C9+C10+C12+C13,"OK","ERREUR") -> OK | D16: =+IF(D4+D11=D5+D6+D7+D8+D9+D10+D12+D13,"OK","ERREUR") -> OK | E16: =+IF(E4+E11=E5+E6+E7+E8+E9+E10+E12+E13,"OK","ERREUR") -> OK | F16: =+IF(F4+F11=F5+F6+F7+F8+F9+F10+F12+F13,"OK","ERREUR") -> OK | G16: =+IF(G4+G11=G5+G6+G7+G8+G9+G10+G12+G13,"OK","ERREUR") -> OK | H16: =+IF(H4+H11=H5+H6+H7+H8+H9+H10+H12+H13,"OK","ERREUR") -> OK | I16: =+IF(I4+I11=I5+I6+I7+I8+I9+I10+I12+I13,"OK","ERREUR") -> OK | ... W16: =+IF(W4+W11=W5+W6+W7+W8+W9+W10+W12+W13,"OK","ERREUR") -> OK
A17: CA DHL du jour
A18: Taux de réussite

Sheet 01
I1: 1 | J1: MARS | K1: =+#REF! -> #REF! | W1: TOTAL DU JOUR
A2: CHAUFFEUR | B2: A | C2: B | D2: C | E2: D | F2: E | G2: F | H2: G | I2: H | J2: I | K2: J | L2: K | M2: L | N2: M | O2: N | P2: O | Q2: PATRICK | R2: P | S2: Q | T2: R | U2: S | V2: T
A4: Points en WC (relais inclus) | B4: 4 | C4: 5 | W4: =+SUM(B4:V4) -> 9
A5: Points OK | B5: 4 | C5: 4 | W5: =+SUM(B5:V5) -> 8
A6: Points Neighbour | C6: 1 | W6: =+SUM(B6:V6) -> 1
A7: Points refusés | W7: =+SUM(B7:V7) -> 0
A8: Nombre de points relais | W8: =+SUM(B8:V8) -> 0
A9: Points avisés CC | W9: =+SUM(B9:V9) -> 0
A10: Points en retour | W10: =+SUM(B10:V10) -> 0
A11: Collectes tentées | W11: =+SUM(B11:V11) -> 0
A12: Collectes OK | W12: =+SUM(B12:V12) -> 0
A13: Collectes en echec | W13: =+SUM(B13:V13) -> 0
A14: Points livrés en agence | W14: =+SUM(B14:V14) -> 0
A15: Pénalités générées | W15: =+SUM(B15:V15) -> 0
A16: COHERENCE CHIFFRES | B16: =+IF(B4+B11=B5+B6+B7+B8+B9+B10+B12+B13,"OK","ERREUR") -> OK | C16: =+IF(C4+C11=C5+C6+C7+C8+C9+C10+C12+C13,"OK","ERREUR") -> OK | D16: =+IF(D4+D11=D5+D6+D7+D8+D9+D10+D12+D13,"OK","ERREUR") -> OK | E16: =+IF(E4+E11=E5+E6+E7+E8+E9+E10+E12+E13,"OK","ERREUR") -> OK | F16: =+IF(F4+F11=F5+F6+F7+F8+F9+F10+F12+F13,"OK","ERREUR") -> OK | G16: =+IF(G4+G11=G5+G6+G7+G8+G9+G10+G12+G13,"OK","ERREUR") -> OK | H16: =+IF(H4+H11=H5+H6+H7+H8+H9+H10+H12+H13,"OK","ERREUR") -> OK | I16: =+IF(I4+I11=I5+I6+I7+I8+I9+I10+I12+I13,"OK","ERREUR") -> OK | ... W16: =+IF(W4+W11=W5+W6+W7+W8+W9+W10+W12+W13,"OK","ERREUR") -> OK
A17: CA DHL du jour
A18: Taux de réussite

Sheet 02
I1: 2 | J1: =+'01'!$J$1 -> MARS | K1: =+#REF! -> #REF! | W1: TOTAL DU JOUR | X1: REPORT PRECEDENT | Y1: TOTAL CUMULE
A2: CHAUFFEUR | B2: A | C2: B | D2: C | E2: D | F2: E | G2: F | H2: G | I2: H | J2: I | K2: J | L2: K | M2: L | N2: M | O2: N | P2: O | Q2: PATRICK | R2: P | S2: Q | T2: R | U2: S | V2: T
A4: Points en WC (relais inclus) | B4: 3 | C4: 6 | W4: =+SUM(B4:V4) -> 9 | X4: =+'01'!W4 -> 9 | Y4: =+W4+X4 -> 18
A5: Points OK | B5: 3 | C5: 5 | W5: =+SUM(B5:V5) -> 8 | X5: =+'01'!W5 -> 8 | Y5: =+W5+X5 -> 16
A6: Points Neighbour | C6: 1 | W6: =+SUM(B6:V6) -> 1 | X6: =+'01'!W6 -> 1 | Y6: =+W6+X6 -> 2
A7: Points refusés | W7: =+SUM(B7:V7) -> 0 | X7: =+'01'!W7 -> 0 | Y7: =+W7+X7 -> 0
A8: Nombre de points relais | W8: =+SUM(B8:V8) -> 0 | X8: =+'01'!W8 -> 0 | Y8: =+W8+X8 -> 0
A9: Points avisés CC | W9: =+SUM(B9:V9) -> 0 | X9: =+'01'!W9 -> 0 | Y9: =+W9+X9 -> 0
A10: Points en retour | W10: =+SUM(B10:V10) -> 0 | X10: =+'01'!W10 -> 0 | Y10: =+W10+X10 -> 0
A11: Collectes tentées | W11: =+SUM(B11:V11) -> 0 | X11: =+'01'!W11 -> 0 | Y11: =+W11+X11 -> 0
A12: Collectes OK | W12: =+SUM(B12:V12) -> 0 | X12: =+'01'!W12 -> 0 | Y12: =+W12+X12 -> 0
A13: Collectes en echec | W13: =+SUM(B13:V13) -> 0 | X13: =+'01'!W13 -> 0 | Y13: =+W13+X13 -> 0
A14: Points livrés en agence | W14: =+SUM(B14:V14) -> 0 | X14: =+'01'!W14 -> 0 | Y14: =+W14+X14 -> 0
A15: Pénalités générées | W15: =+SUM(B15:V15) -> 0 | X15: =+'01'!W15 -> 0 | Y15: =+W15+X15 -> 0
A16: COHERENCE CHIFFRES | B16: =+IF(B4+B11=B5+B6+B7+B8+B9+B10+B12+B13,"OK","ERREUR") -> OK | C16: =+IF(C4+C11=C5+C6+C7+C8+C9+C10+C12+C13,"OK","ERREUR") -> OK | D16: =+IF(D4+D11=D5+D6+D7+D8+D9+D10+D12+D13,"OK","ERREUR") -> OK | E16: =+IF(E4+E11=E5+E6+E7+E8+E9+E10+E12+E13,"OK","ERREUR") -> OK | F16: =+IF(F4+F11=F5+F6+F7+F8+F9+F10+F12+F13,"OK","ERREUR") -> OK | G16: =+IF(G4+G11=G5+G6+G7+G8+G9+G10+G12+G13,"OK","ERREUR") -> OK | H16: =+IF(H4+H11=H5+H6+H7+H8+H9+H10+H12+H13,"OK","ERREUR") -> OK | I16: =+IF(I4+I11=I5+I6+I7+I8+I9+I10+I12+I13,"OK","ERREUR") -> OK | ... Y16: =+IF(Y4+Y11=Y5+Y6+Y7+Y8+Y9+Y10+Y12+Y13,"OK","ERREUR") -> OK
A17: CA DHL du jour | X17: =((X4-X9-X10+X11-X13+X14)*#REF!)-X15 -> #REF! | Y17: =((Y4-Y9-Y10+Y11-Y13+Y14)*#REF!)-Y15 -> #REF!
A18: Taux de réussite | X18: =+IF(X4+X11=0,0%,100%-(X9+X10+X13)/(X4+X11)) -> 1 | Y18: =+IF(Y4+Y11=0,0%,100%-(Y9+Y10+Y13)/(Y4+Y11)) -> 1

Sheet 03
I1: 3 | J1: =+'01'!$J$1 -> MARS | K1: =+#REF! -> #REF! | W1: TOTAL DU JOUR | X1: REPORT PRECEDENT | Y1: TOTAL CUMULE
A2: CHAUFFEUR | B2: A | C2: B | D2: C | E2: D | F2: E | G2: F | H2: G | I2: H | J2: I | K2: J | L2: K | M2: L | N2: M | O2: N | P2: O | Q2: PATRICK | R2: P | S2: Q | T2: R | U2: S | V2: T
A4: Points en WC (relais inclus) | W4: =+SUM(B4:V4) -> 0 | X4: =+'02'!W4 -> 9 | Y4: =+W4+X4 -> 9
A5: Points OK | W5: =+SUM(B5:V5) -> 0 | X5: =+'02'!W5 -> 8 | Y5: =+W5+X5 -> 8
A6: Points Neighbour | W6: =+SUM(B6:V6) -> 0 | X6: =+'02'!W6 -> 1 | Y6: =+W6+X6 -> 1
A7: Points refusés | W7: =+SUM(B7:V7) -> 0 | X7: =+'02'!W7 -> 0 | Y7: =+W7+X7 -> 0
A8: Nombre de points relais | W8: =+SUM(B8:V8) -> 0 | X8: =+'02'!W8 -> 0 | Y8: =+W8+X8 -> 0
A9: Points avisés CC | W9: =+SUM(B9:V9) -> 0 | X9: =+'02'!W9 -> 0 | Y9: =+W9+X9 -> 0
A10: Points en retour | W10: =+SUM(B10:V10) -> 0 | X10: =+'02'!W10 -> 0 | Y10: =+W10+X10 -> 0
A11: Collectes tentées | W11: =+SUM(B11:V11) -> 0 | X11: =+'02'!W11 -> 0 | Y11: =+W11+X11 -> 0
A12: Collectes OK | W12: =+SUM(B12:V12) -> 0 | X12: =+'02'!W12 -> 0 | Y12: =+W12+X12 -> 0
A13: Collectes en echec | W13: =+SUM(B13:V13) -> 0 | X13: =+'02'!W13 -> 0 | Y13: =+W13+X13 -> 0
A14: Points livrés en agence | W14: =+SUM(B14:V14) -> 0 | X14: =+'02'!W14 -> 0 | Y14: =+W14+X14 -> 0
A15: Pénalités générées | W15: =+SUM(B15:V15) -> 0 | X15: =+'02'!W15 -> 0 | Y15: =+W15+X15 -> 0
A16: COHERENCE CHIFFRES | B16: =+IF(B4+B11=B5+B6+B7+B8+B9+B10+B12+B13,"OK","ERREUR") -> OK | C16: =+IF(C4+C11=C5+C6+C7+C8+C9+C10+C12+C13,"OK","ERREUR") -> OK | D16: =+IF(D4+D11=D5+D6+D7+D8+D9+D10+D12+D13,"OK","ERREUR") -> OK | E16: =+IF(E4+E11=E5+E6+E7+E8+E9+E10+E12+E13,"OK","ERREUR") -> OK | F16: =+IF(F4+F11=F5+F6+F7+F8+F9+F10+F12+F13,"OK","ERREUR") -> OK | G16: =+IF(G4+G11=G5+G6+G7+G8+G9+G10+G12+G13,"OK","ERREUR") -> OK | H16: =+IF(H4+H11=H5+H6+H7+H8+H9+H10+H12+H13,"OK","ERREUR") -> OK | I16: =+IF(I4+I11=I5+I6+I7+I8+I9+I10+I12+I13,"OK","ERREUR") -> OK | ... Y16: =+IF(Y4+Y11=Y5+Y6+Y7+Y8+Y9+Y10+Y12+Y13,"OK","ERREUR") -> OK
A17: CA DHL du jour | X17: =((X4-X9-X10+X11-X13+X14)*#REF!)-X15 -> #REF! | Y17: =((Y4-Y9-Y10+Y11-Y13+Y14)*#REF!)-Y15 -> #REF!
A18: Taux de réussite | X18: =+IF(X4+X11=0,0%,100%-(X9+X10+X13)/(X4+X11)) -> 1 | Y18: =+IF(Y4+Y11=0,0%,100%-(Y9+Y10+Y13)/(Y4+Y11)) -> 1

Sheet 04
I1: 4 | J1: =+'01'!$J$1 -> MARS | K1: =+#REF! -> #REF! | W1: TOTAL DU JOUR | X1: REPORT PRECEDENT | Y1: TOTAL CUMULE
A2: CHAUFFEUR | B2: A | C2: B | D2: C | E2: D | F2: E | G2: F | H2: G | I2: H | J2: I | K2: J | L2: K | M2: L | N2: M | O2: N | P2: O | Q2: PATRICK | R2: P | S2: Q | T2: R | U2: S | V2: T
A4: Points en WC (relais inclus) | W4: =+SUM(B4:V4) -> 0 | X4: =+'03'!W4 -> 0 | Y4: =+W4+X4 -> 0
A5: Points OK | W5: =+SUM(B5:V5) -> 0 | X5: =+'03'!W5 -> 0 | Y5: =+W5+X5 -> 0
A6: Points Neighbour | W6: =+SUM(B6:V6) -> 0 | X6: =+'03'!W6 -> 0 | Y6: =+W6+X6 -> 0
A7: Points refusés | W7: =+SUM(B7:V7) -> 0 | X7: =+'03'!W7 -> 0 | Y7: =+W7+X7 -> 0
A8: Nombre de points relais | W8: =+SUM(B8:V8) -> 0 | X8: =+'03'!W8 -> 0 | Y8: =+W8+X8 -> 0
A9: Points avisés CC | W9: =+SUM(B9:V9) -> 0 | X9: =+'03'!W9 -> 0 | Y9: =+W9+X9 -> 0
A10: Points en retour | W10: =+SUM(B10:V10) -> 0 | X10: =+'03'!W10 -> 0 | Y10: =+W10+X10 -> 0
A11: Collectes tentées | W11: =+SUM(B11:V11) -> 0 | X11: =+'03'!W11 -> 0 | Y11: =+W11+X11 -> 0
A12: Collectes OK | W12: =+SUM(B12:V12) -> 0 | X12: =+'03'!W12 -> 0 | Y12: =+W12+X12 -> 0
A13: Collectes en echec | W13: =+SUM(B13:V13) -> 0 | X13: =+'03'!W13 -> 0 | Y13: =+W13+X13 -> 0
A14: Points livrés en agence | W14: =+SUM(B14:V14) -> 0 | X14: =+'03'!W14 -> 0 | Y14: =+W14+X14 -> 0
A15: Pénalités générées | W15: =+SUM(B15:V15) -> 0 | X15: =+'03'!W15 -> 0 | Y15: =+W15+X15 -> 0
A16: COHERENCE CHIFFRES | B16: =+IF(B4+B11=B5+B6+B7+B8+B9+B10+B12+B13,"OK","ERREUR") -> OK | C16: =+IF(C4+C11=C5+C6+C7+C8+C9+C10+C12+C13,"OK","ERREUR") -> OK | D16: =+IF(D4+D11=D5+D6+D7+D8+D9+D10+D12+D13,"OK","ERREUR") -> OK | E16: =+IF(E4+E11=E5+E6+E7+E8+E9+E10+E12+E13,"OK","ERREUR") -> OK | F16: =+IF(F4+F11=F5+F6+F7+F8+F9+F10+F12+F13,"OK","ERREUR") -> OK | G16: =+IF(G4+G11=G5+G6+G7+G8+G9+G10+G12+G13,"OK","ERREUR") -> OK | H16: =+IF(H4+H11=H5+H6+H7+H8+H9+H10+H12+H13,"OK","ERREUR") -> OK | I16: =+IF(I4+I11=I5+I6+I7+I8+I9+I10+I12+I13,"OK","ERREUR") -> OK | ... Y16: =+IF(Y4+Y11=Y5+Y6+Y7+Y8+Y9+Y10+Y12+Y13,"OK","ERREUR") -> OK
A17: CA DHL du jour | X17: =((X4-X9-X10+X11-X13+X14)*#REF!)-X15 -> #REF! | Y17: =((Y4-Y9-Y10+Y11-Y13+Y14)*#REF!)-Y15 -> #REF!
A18: Taux de réussite | X18: =+IF(X4+X11=0,0%,100%-(X9+X10+X13)/(X4+X11)) -> 0 | Y18: =+IF(Y4+Y11=0,0%,100%-(Y9+Y10+Y13)/(Y4+Y11)) -> 0

Sheet 05
I1: 5 | J1: =+'01'!$J$1 -> MARS | K1: =+#REF! -> #REF! | W1: TOTAL DU JOUR | X1: REPORT PRECEDENT | Y1: TOTAL CUMULE
A2: CHAUFFEUR | B2: A | C2: B | D2: C | E2: D | F2: E | G2: F | H2: G | I2: H | J2: I | K2: J | L2: K | M2: L | N2: M | O2: N | P2: O | Q2: PATRICK | R2: P | S2: Q | T2: R | U2: S | V2: T
A4: Points en WC (relais inclus) | W4: =+SUM(B4:V4) -> 0 | X4: =+'04'!W4 -> 0 | Y4: =+W4+X4 -> 0
A5: Points OK | W5: =+SUM(B5:V5) -> 0 | X5: =+'04'!W5 -> 0 | Y5: =+W5+X5 -> 0
A6: Points Neighbour | W6: =+SUM(B6:V6) -> 0 | X6: =+'04'!W6 -> 0 | Y6: =+W6+X6 -> 0
A7: Points refusés | W7: =+SUM(B7:V7) -> 0 | X7: =+'04'!W7 -> 0 | Y7: =+W7+X7 -> 0
A8: Nombre de points relais | W8: =+SUM(B8:V8) -> 0 | X8: =+'04'!W8 -> 0 | Y8: =+W8+X8 -> 0
A9: Points avisés CC | W9: =+SUM(B9:V9) -> 0 | X9: =+'04'!W9 -> 0 | Y9: =+W9+X9 -> 0
A10: Points en retour | W10: =+SUM(B10:V10) -> 0 | X10: =+'04'!W10 -> 0 | Y10: =+W10+X10 -> 0
A11: Collectes tentées | W11: =+SUM(B11:V11) -> 0 | X11: =+'04'!W11 -> 0 | Y11: =+W11+X11 -> 0
A12: Collectes OK | W12: =+SUM(B12:V12) -> 0 | X12: =+'04'!W12 -> 0 | Y12: =+W12+X12 -> 0
A13: Collectes en echec | W13: =+SUM(B13:V13) -> 0 | X13: =+'04'!W13 -> 0 | Y13: =+W13+X13 -> 0
A14: Points livrés en agence | W14: =+SUM(B14:V14) -> 0 | X14: =+'04'!W14 -> 0 | Y14: =+W14+X14 -> 0
A15: Pénalités générées | W15: =+SUM(B15:V15) -> 0 | X15: =+'04'!W15 -> 0 | Y15: =+W15+X15 -> 0
A16: COHERENCE CHIFFRES | B16: =+IF(B4+B11=B5+B6+B7+B8+B9+B10+B12+B13,"OK","ERREUR") -> OK | C16: =+IF(C4+C11=C5+C6+C7+C8+C9+C10+C12+C13,"OK","ERREUR") -> OK | D16: =+IF(D4+D11=D5+D6+D7+D8+D9+D10+D12+D13,"OK","ERREUR") -> OK | E16: =+IF(E4+E11=E5+E6+E7+E8+E9+E10+E12+E13,"OK","ERREUR") -> OK | F16: =+IF(F4+F11=F5+F6+F7+F8+F9+F10+F12+F13,"OK","ERREUR") -> OK | G16: =+IF(G4+G11=G5+G6+G7+G8+G9+G10+G12+G13,"OK","ERREUR") -> OK | H16: =+IF(H4+H11=H5+H6+H7+H8+H9+H10+H12+H13,"OK","ERREUR") -> OK | I16: =+IF(I4+I11=I5+I6+I7+I8+I9+I10+I12+I13,"OK","ERREUR") -> OK | ... Y16: =+IF(Y4+Y11=Y5+Y6+Y7+Y8+Y9+Y10+Y12+Y13,"OK","ERREUR") -> OK
A17: CA DHL du jour | X17: =((X4-X9-X10+X11-X13+X14)*#REF!)-X15 -> #REF! | Y17: =((Y4-Y9-Y10+Y11-Y13+Y14)*#REF!)-Y15 -> #REF!
A18: Taux de réussite | X18: =+IF(X4+X11=0,0%,100%-(X9+X10+X13)/(X4+X11)) -> 0 | Y18: =+IF(Y4+Y11=0,0%,100%-(Y9+Y10+Y13)/(Y4+Y11)) -> 0

Sheet 06
I1: 6 | J1: =+'01'!$J$1 -> MARS | K1: =+#REF! -> #REF! | W1: TOTAL DU JOUR | X1: REPORT PRECEDENT | Y1: TOTAL CUMULE
A2: CHAUFFEUR | B2: A | C2: B | D2: C | E2: D | F2: E | G2: F | H2: G | I2: H | J2: I | K2: J | L2: K | M2: L | N2: M | O2: N | P2: O | Q2: PATRICK | R2: P | S2: Q | T2: R | U2: S | V2: T
A4: Points en WC (relais inclus) | W4: =+SUM(B4:V4) -> 0 | X4: =+'05'!W4 -> 0 | Y4: =+W4+X4 -> 0
A5: Points OK | W5: =+SUM(B5:V5) -> 0 | X5: =+'05'!W5 -> 0 | Y5: =+W5+X5 -> 0
A6: Points Neighbour | W6: =+SUM(B6:V6) -> 0 | X6: =+'05'!W6 -> 0 | Y6: =+W6+X6 -> 0
A7: Points refusés | W7: =+SUM(B7:V7) -> 0 | X7: =+'05'!W7 -> 0 | Y7: =+W7+X7 -> 0
A8: Nombre de points relais | W8: =+SUM(B8:V8) -> 0 | X8: =+'05'!W8 -> 0 | Y8: =+W8+X8 -> 0
A9: Points avisés CC | W9: =+SUM(B9:V9) -> 0 | X9: =+'05'!W9 -> 0 | Y9: =+W9+X9 -> 0
A10: Points en retour | W10: =+SUM(B10:V10) -> 0 | X10: =+'05'!W10 -> 0 | Y10: =+W10+X10 -> 0
A11: Collectes tentées | W11: =+SUM(B11:V11) -> 0 | X11: =+'05'!W11 -> 0 | Y11: =+W11+X11 -> 0
A12: Collectes OK | W12: =+SUM(B12:V12) -> 0 | X12: =+'05'!W12 -> 0 | Y12: =+W12+X12 -> 0
A13: Collectes en echec | W13: =+SUM(B13:V13) -> 0 | X13: =+'05'!W13 -> 0 | Y13: =+W13+X13 -> 0
A14: Points livrés en agence | W14: =+SUM(B14:V14) -> 0 | X14: =+'05'!W14 -> 0 | Y14: =+W14+X14 -> 0
A15: Pénalités générées | W15: =+SUM(B15:V15) -> 0 | X15: =+'05'!W15 -> 0 | Y15: =+W15+X15 -> 0
A16: COHERENCE CHIFFRES | B16: =+IF(B4+B11=B5+B6+B7+B8+B9+B10+B12+B13,"OK","ERREUR") -> OK | C16: =+IF(C4+C11=C5+C6+C7+C8+C9+C10+C12+C13,"OK","ERREUR") -> OK | D16: =+IF(D4+D11=D5+D6+D7+D8+D9+D10+D12+D13,"OK","ERREUR") -> OK | E16: =+IF(E4+E11=E5+E6+E7+E8+E9+E10+E12+E13,"OK","ERREUR") -> OK | F16: =+IF(F4+F11=F5+F6+F7+F8+F9+F10+F12+F13,"OK","ERREUR") -> OK | G16: =+IF(G4+G11=G5+G6+G7+G8+G9+G10+G12+G13,"OK","ERREUR") -> OK | H16: =+IF(H4+H11=H5+H6+H7+H8+H9+H10+H12+H13,"OK","ERREUR") -> OK | I16: =+IF(I4+I11=I5+I6+I7+I8+I9+I10+I12+I13,"OK","ERREUR") -> OK | ... Y16: =+IF(Y4+Y11=Y5+Y6+Y7+Y8+Y9+Y10+Y12+Y13,"OK","ERREUR") -> OK
A17: CA DHL du jour | X17: =((X4-X9-X10+X11-X13+X14)*#REF!)-X15 -> #REF! | Y17: =((Y4-Y9-Y10+Y11-Y13+Y14)*#REF!)-Y15 -> #REF!
A18: Taux de réussite | X18: =+IF(X4+X11=0,0%,100%-(X9+X10+X13)/(X4+X11)) -> 0 | Y18: =+IF(Y4+Y11=0,0%,100%-(Y9+Y10+Y13)/(Y4+Y11)) -> 0

Sheet 07
I1: 7 | J1: =+'01'!$J$1 -> MARS | K1: =+#REF! -> #REF! | W1: TOTAL DU JOUR | X1: REPORT PRECEDENT | Y1: TOTAL CUMULE
A2: CHAUFFEUR | B2: A | C2: B | D2: C | E2: D | F2: E | G2: F | H2: G | I2: H | J2: I | K2: J | L2: K | M2: L | N2: M | O2: N | P2: O | Q2: PATRICK | R2: P | S2: Q | T2: R | U2: S | V2: T
A4: Points en WC (relais inclus) | W4: =+SUM(B4:V4) -> 0 | X4: =+'06'!W4 -> 0 | Y4: =+W4+X4 -> 0
A5: Points OK | W5: =+SUM(B5:V5) -> 0 | X5: =+'06'!W5 -> 0 | Y5: =+W5+X5 -> 0
A6: Points Neighbour | W6: =+SUM(B6:V6) -> 0 | X6: =+'06'!W6 -> 0 | Y6: =+W6+X6 -> 0
A7: Points refusés | W7: =+SUM(B7:V7) -> 0 | X7: =+'06'!W7 -> 0 | Y7: =+W7+X7 -> 0
A8: Nombre de points relais | W8: =+SUM(B8:V8) -> 0 | X8: =+'06'!W8 -> 0 | Y8: =+W8+X8 -> 0
A9: Points avisés CC | W9: =+SUM(B9:V9) -> 0 | X9: =+'06'!W9 -> 0 | Y9: =+W9+X9 -> 0
A10: Points en retour | W10: =+SUM(B10:V10) -> 0 | X10: =+'06'!W10 -> 0 | Y10: =+W10+X10 -> 0
A11: Collectes tentées | W11: =+SUM(B11:V11) -> 0 | X11: =+'06'!W11 -> 0 | Y11: =+W11+X11 -> 0
A12: Collectes OK | W12: =+SUM(B12:V12) -> 0 | X12: =+'06'!W12 -> 0 | Y12: =+W12+X12 -> 0
A13: Collectes en echec | W13: =+SUM(B13:V13) -> 0 | X13: =+'06'!W13 -> 0 | Y13: =+W13+X13 -> 0
A14: Points livrés en agence | W14: =+SUM(B14:V14) -> 0 | X14: =+'06'!W14 -> 0 | Y14: =+W14+X14 -> 0
A15: Pénalités générées | W15: =+SUM(B15:V15) -> 0 | X15: =+'06'!W15 -> 0 | Y15: =+W15+X15 -> 0
A16: COHERENCE CHIFFRES | B16: =+IF(B4+B11=B5+B6+B7+B8+B9+B10+B12+B13,"OK","ERREUR") -> OK | C16: =+IF(C4+C11=C5+C6+C7+C8+C9+C10+C12+C13,"OK","ERREUR") -> OK | D16: =+IF(D4+D11=D5+D6+D7+D8+D9+D10+D12+D13,"OK","ERREUR") -> OK | E16: =+IF(E4+E11=E5+E6+E7+E8+E9+E10+E12+E13,"OK","ERREUR") -> OK | F16: =+IF(F4+F11=F5+F6+F7+F8+F9+F10+F12+F13,"OK","ERREUR") -> OK | G16: =+IF(G4+G11=G5+G6+G7+G8+G9+G10+G12+G13,"OK","ERREUR") -> OK | H16: =+IF(H4+H11=H5+H6+H7+H8+H9+H10+H12+H13,"OK","ERREUR") -> OK | I16: =+IF(I4+I11=I5+I6+I7+I8+I9+I10+I12+I13,"OK","ERREUR") -> OK | ... Y16: =+IF(Y4+Y11=Y5+Y6+Y7+Y8+Y9+Y10+Y12+Y13,"OK","ERREUR") -> OK
A17: CA DHL du jour | X17: =((X4-X9-X10+X11-X13+X14)*#REF!)-X15 -> #REF! | Y17: =((Y4-Y9-Y10+Y11-Y13+Y14)*#REF!)-Y15 -> #REF!
A18: Taux de réussite | X18: =+IF(X4+X11=0,0%,100%-(X9+X10+X13)/(X4+X11)) -> 0 | Y18: =+IF(Y4+Y11=0,0%,100%-(Y9+Y10+Y13)/(Y4+Y11)) -> 0

Sheet 08
I1: 8 | J1: =+'01'!$J$1 -> MARS | K1: =+#REF! -> #REF! | W1: TOTAL DU JOUR | X1: REPORT PRECEDENT | Y1: TOTAL CUMULE
A2: CHAUFFEUR | B2: A | C2: B | D2: C | E2: D | F2: E | G2: F | H2: G | I2: H | J2: I | K2: J | L2: K | M2: L | N2: M | O2: N | P2: O | Q2: PATRICK | R2: P | S2: Q | T2: R | U2: S | V2: T
A4: Points en WC (relais inclus) | W4: =+SUM(B4:V4) -> 0 | X4: =+'07'!W4 -> 0 | Y4: =+W4+X4 -> 0
A5: Points OK | W5: =+SUM(B5:V5) -> 0 | X5: =+'07'!W5 -> 0 | Y5: =+W5+X5 -> 0
A6: Points Neighbour | W6: =+SUM(B6:V6) -> 0 | X6: =+'07'!W6 -> 0 | Y6: =+W6+X6 -> 0
A7: Points refusés | W7: =+SUM(B7:V7) -> 0 | X7: =+'07'!W7 -> 0 | Y7: =+W7+X7 -> 0
A8: Nombre de points relais | W8: =+SUM(B8:V8) -> 0 | X8: =+'07'!W8 -> 0 | Y8: =+W8+X8 -> 0
A9: Points avisés CC | W9: =+SUM(B9:V9) -> 0 | X9: =+'07'!W9 -> 0 | Y9: =+W9+X9 -> 0
A10: Points en retour | W10: =+SUM(B10:V10) -> 0 | X10: =+'07'!W10 -> 0 | Y10: =+W10+X10 -> 0
A11: Collectes tentées | W11: =+SUM(B11:V11) -> 0 | X11: =+'07'!W11 -> 0 | Y11: =+W11+X11 -> 0
A12: Collectes OK | W12: =+SUM(B12:V12) -> 0 | X12: =+'07'!W12 -> 0 | Y12: =+W12+X12 -> 0
A13: Collectes en echec | W13: =+SUM(B13:V13) -> 0 | X13: =+'07'!W13 -> 0 | Y13: =+W13+X13 -> 0
A14: Points livrés en agence | W14: =+SUM(B14:V14) -> 0 | X14: =+'07'!W14 -> 0 | Y14: =+W14+X14 -> 0
A15: Pénalités générées | W15: =+SUM(B15:V15) -> 0 | X15: =+'07'!W15 -> 0 | Y15: =+W15+X15 -> 0
A16: COHERENCE CHIFFRES | B16: =+IF(B4+B11=B5+B6+B7+B8+B9+B10+B12+B13,"OK","ERREUR") -> OK | C16: =+IF(C4+C11=C5+C6+C7+C8+C9+C10+C12+C13,"OK","ERREUR") -> OK | D16: =+IF(D4+D11=D5+D6+D7+D8+D9+D10+D12+D13,"OK","ERREUR") -> OK | E16: =+IF(E4+E11=E5+E6+E7+E8+E9+E10+E12+E13,"OK","ERREUR") -> OK | F16: =+IF(F4+F11=F5+F6+F7+F8+F9+F10+F12+F13,"OK","ERREUR") -> OK | G16: =+IF(G4+G11=G5+G6+G7+G8+G9+G10+G12+G13,"OK","ERREUR") -> OK | H16: =+IF(H4+H11=H5+H6+H7+H8+H9+H10+H12+H13,"OK","ERREUR") -> OK | I16: =+IF(I4+I11=I5+I6+I7+I8+I9+I10+I12+I13,"OK","ERREUR") -> OK | ... Y16: =+IF(Y4+Y11=Y5+Y6+Y7+Y8+Y9+Y10+Y12+Y13,"OK","ERREUR") -> OK
A17: CA DHL du jour | X17: =((X4-X9-X10+X11-X13+X14)*#REF!)-X15 -> #REF! | Y17: =((Y4-Y9-Y10+Y11-Y13+Y14)*#REF!)-Y15 -> #REF!
A18: Taux de réussite | X18: =+IF(X4+X11=0,0%,100%-(X9+X10+X13)/(X4+X11)) -> 0 | Y18: =+IF(Y4+Y11=0,0%,100%-(Y9+Y10+Y13)/(Y4+Y11)) -> 0

Sheet 09
I1: 9 | J1: =+'01'!$J$1 -> MARS | K1: =+#REF! -> #REF! | W1: TOTAL DU JOUR | X1: REPORT PRECEDENT | Y1: TOTAL CUMULE
A2: CHAUFFEUR | B2: A | C2: B | D2: C | E2: D | F2: E | G2: F | H2: G | I2: H | J2: I | K2: J | L2: K | M2: L | N2: M | O2: N | P2: O | Q2: PATRICK | R2: P | S2: Q | T2: R | U2: S | V2: T
A4: Points en WC (relais inclus) | W4: =+SUM(B4:V4) -> 0 | X4: =+'08'!W4 -> 0 | Y4: =+W4+X4 -> 0
A5: Points OK | W5: =+SUM(B5:V5) -> 0 | X5: =+'08'!W5 -> 0 | Y5: =+W5+X5 -> 0
A6: Points Neighbour | W6: =+SUM(B6:V6) -> 0 | X6: =+'08'!W6 -> 0 | Y6: =+W6+X6 -> 0
A7: Points refusés | W7: =+SUM(B7:V7) -> 0 | X7: =+'08'!W7 -> 0 | Y7: =+W7+X7 -> 0
A8: Nombre de points relais | W8: =+SUM(B8:V8) -> 0 | X8: =+'08'!W8 -> 0 | Y8: =+W8+X8 -> 0
A9: Points avisés CC | W9: =+SUM(B9:V9) -> 0 | X9: =+'08'!W9 -> 0 | Y9: =+W9+X9 -> 0
A10: Points en retour | W10: =+SUM(B10:V10) -> 0 | X10: =+'08'!W10 -> 0 | Y10: =+W10+X10 -> 0
A11: Collectes tentées | W11: =+SUM(B11:V11) -> 0 | X11: =+'08'!W11 -> 0 | Y11: =+W11+X11 -> 0
A12: Collectes OK | W12: =+SUM(B12:V12) -> 0 | X12: =+'08'!W12 -> 0 | Y12: =+W12+X12 -> 0
A13: Collectes en echec | W13: =+SUM(B13:V13) -> 0 | X13: =+'08'!W13 -> 0 | Y13: =+W13+X13 -> 0
A14: Points livrés en agence | W14: =+SUM(B14:V14) -> 0 | X14: =+'08'!W14 -> 0 | Y14: =+W14+X14 -> 0
A15: Pénalités générées | W15: =+SUM(B15:V15) -> 0 | X15: =+'08'!W15 -> 0 | Y15: =+W15+X15 -> 0
A16: COHERENCE CHIFFRES | B16: =+IF(B4+B11=B5+B6+B7+B8+B9+B10+B12+B13,"OK","ERREUR") -> OK | C16: =+IF(C4+C11=C5+C6+C7+C8+C9+C10+C12+C13,"OK","ERREUR") -> OK | D16: =+IF(D4+D11=D5+D6+D7+D8+D9+D10+D12+D13,"OK","ERREUR") -> OK | E16: =+IF(E4+E11=E5+E6+E7+E8+E9+E10+E12+E13,"OK","ERREUR") -> OK | F16: =+IF(F4+F11=F5+F6+F7+F8+F9+F10+F12+F13,"OK","ERREUR") -> OK | G16: =+IF(G4+G11=G5+G6+G7+G8+G9+G10+G12+G13,"OK","ERREUR") -> OK | H16: =+IF(H4+H11=H5+H6+H7+H8+H9+H10+H12+H13,"OK","ERREUR") -> OK | I16: =+IF(I4+I11=I5+I6+I7+I8+I9+I10+I12+I13,"OK","ERREUR") -> OK | ... Y16: =+IF(Y4+Y11=Y5+Y6+Y7+Y8+Y9+Y10+Y12+Y13,"OK","ERREUR") -> OK
A17: CA DHL du jour | X17: =((X4-X9-X10+X11-X13+X14)*#REF!)-X15 -> #REF! | Y17: =((Y4-Y9-Y10+Y11-Y13+Y14)*#REF!)-Y15 -> #REF!
A18: Taux de réussite | X18: =+IF(X4+X11=0,0%,100%-(X9+X10+X13)/(X4+X11)) -> 0 | Y18: =+IF(Y4+Y11=0,0%,100%-(Y9+Y10+Y13)/(Y4+Y11)) -> 0

Sheet 10
I1: 10 | J1: =+'01'!$J$1 -> MARS | K1: =+#REF! -> #REF! | W1: TOTAL DU JOUR | X1: REPORT PRECEDENT | Y1: TOTAL CUMULE
A2: CHAUFFEUR | B2: A | C2: B | D2: C | E2: D | F2: E | G2: F | H2: G | I2: H | J2: I | K2: J | L2: K | M2: L | N2: M | O2: N | P2: O | Q2: PATRICK | R2: P | S2: Q | T2: R | U2: S | V2: T
A4: Points en WC (relais inclus) | W4: =+SUM(B4:V4) -> 0 | X4: =+SUM('09'!X4) -> 0 | Y4: =+W4+X4 -> 0
A5: Points OK | W5: =+SUM(B5:V5) -> 0 | X5: =+SUM('09'!X5) -> 0 | Y5: =+W5+X5 -> 0
A6: Points Neighbour | W6: =+SUM(B6:V6) -> 0 | X6: =+SUM('09'!X6) -> 0 | Y6: =+W6+X6 -> 0
A7: Points refusés | W7: =+SUM(B7:V7) -> 0 | X7: =+SUM('09'!X7) -> 0 | Y7: =+W7+X7 -> 0
A8: Nombre de points relais | W8: =+SUM(B8:V8) -> 0 | X8: =+SUM('09'!X8) -> 0 | Y8: =+W8+X8 -> 0
A9: Points avisés CC | W9: =+SUM(B9:V9) -> 0 | X9: =+SUM('09'!X9) -> 0 | Y9: =+W9+X9 -> 0
A10: Points en retour | W10: =+SUM(B10:V10) -> 0 | X10: =+SUM('09'!X10) -> 0 | Y10: =+W10+X10 -> 0
A11: Collectes tentées | W11: =+SUM(B11:V11) -> 0 | X11: =+SUM('09'!X11) -> 0 | Y11: =+W11+X11 -> 0
A12: Collectes OK | W12: =+SUM(B12:V12) -> 0 | X12: =+SUM('09'!X12) -> 0 | Y12: =+W12+X12 -> 0
A13: Collectes en echec | W13: =+SUM(B13:V13) -> 0 | X13: =+SUM('09'!X13) -> 0 | Y13: =+W13+X13 -> 0
A14: Points livrés en agence | W14: =+SUM(B14:V14) -> 0 | X14: =+SUM('09'!X14) -> 0 | Y14: =+W14+X14 -> 0
A15: Pénalités générées | W15: =+SUM(B15:V15) -> 0 | X15: =+SUM('09'!X15) -> 0 | Y15: =+W15+X15 -> 0
A16: COHERENCE CHIFFRES | B16: =+IF(B4+B11=B5+B6+B7+B8+B9+B10+B12+B13,"OK","ERREUR") -> OK | C16: =+IF(C4+C11=C5+C6+C7+C8+C9+C10+C12+C13,"OK","ERREUR") -> OK | D16: =+IF(D4+D11=D5+D6+D7+D8+D9+D10+D12+D13,"OK","ERREUR") -> OK | E16: =+IF(E4+E11=E5+E6+E7+E8+E9+E10+E12+E13,"OK","ERREUR") -> OK | F16: =+IF(F4+F11=F5+F6+F7+F8+F9+F10+F12+F13,"OK","ERREUR") -> OK | G16: =+IF(G4+G11=G5+G6+G7+G8+G9+G10+G12+G13,"OK","ERREUR") -> OK | H16: =+IF(H4+H11=H5+H6+H7+H8+H9+H10+H12+H13,"OK","ERREUR") -> OK | I16: =+IF(I4+I11=I5+I6+I7+I8+I9+I10+I12+I13,"OK","ERREUR") -> OK | ... Y16: =+IF(Y4+Y11=Y5+Y6+Y7+Y8+Y9+Y10+Y12+Y13,"OK","ERREUR") -> OK
A17: CA DHL du jour | X17: =((X4-X9-X10+X11-X13+X14)*#REF!)-X15 -> #REF! | Y17: =((Y4-Y9-Y10+Y11-Y13+Y14)*#REF!)-Y15 -> #REF!
A18: Taux de réussite | X18: =+IF(X4+X11=0,0%,100%-(X9+X10+X13)/(X4+X11)) -> 0 | Y18: =+IF(Y4+Y11=0,0%,100%-(Y9+Y10+Y13)/(Y4+Y11)) -> 0

Sheet 11
I1: 11 | J1: =+'01'!$J$1 -> MARS | K1: =+#REF! -> #REF! | W1: TOTAL DU JOUR | X1: REPORT PRECEDENT | Y1: TOTAL CUMULE
A2: CHAUFFEUR | B2: A | C2: B | D2: C | E2: D | F2: E | G2: F | H2: G | I2: H | J2: I | K2: J | L2: K | M2: L | N2: M | O2: N | P2: O | Q2: PATRICK | R2: P | S2: Q | T2: R | U2: S | V2: T
A4: Points en WC (relais inclus) | W4: =+SUM(B4:V4) -> 0 | X4: =+SUM('10'!X4) -> 0 | Y4: =+W4+X4 -> 0
A5: Points OK | W5: =+SUM(B5:V5) -> 0 | X5: =+SUM('10'!X5) -> 0 | Y5: =+W5+X5 -> 0
A6: Points Neighbour | W6: =+SUM(B6:V6) -> 0 | X6: =+SUM('10'!X6) -> 0 | Y6: =+W6+X6 -> 0
A7: Points refusés | W7: =+SUM(B7:V7) -> 0 | X7: =+SUM('10'!X7) -> 0 | Y7: =+W7+X7 -> 0
A8: Nombre de points relais | W8: =+SUM(B8:V8) -> 0 | X8: =+SUM('10'!X8) -> 0 | Y8: =+W8+X8 -> 0
A9: Points avisés CC | W9: =+SUM(B9:V9) -> 0 | X9: =+SUM('10'!X9) -> 0 | Y9: =+W9+X9 -> 0
A10: Points en retour | W10: =+SUM(B10:V10) -> 0 | X10: =+SUM('10'!X10) -> 0 | Y10: =+W10+X10 -> 0
A11: Collectes tentées | W11: =+SUM(B11:V11) -> 0 | X11: =+SUM('10'!X11) -> 0 | Y11: =+W11+X11 -> 0
A12: Collectes OK | W12: =+SUM(B12:V12) -> 0 | X12: =+SUM('10'!X12) -> 0 | Y12: =+W12+X12 -> 0
A13: Collectes en echec | W13: =+SUM(B13:V13) -> 0 | X13: =+SUM('10'!X13) -> 0 | Y13: =+W13+X13 -> 0
A14: Points livrés en agence | W14: =+SUM(B14:V14) -> 0 | X14: =+SUM('10'!X14) -> 0 | Y14: =+W14+X14 -> 0
A15: Pénalités générées | W15: =+SUM(B15:V15) -> 0 | X15: =+SUM('10'!X15) -> 0 | Y15: =+W15+X15 -> 0
A16: COHERENCE CHIFFRES | B16: =+IF(B4+B11=B5+B6+B7+B8+B9+B10+B12+B13,"OK","ERREUR") -> OK | C16: =+IF(C4+C11=C5+C6+C7+C8+C9+C10+C12+C13,"OK","ERREUR") -> OK | D16: =+IF(D4+D11=D5+D6+D7+D8+D9+D10+D12+D13,"OK","ERREUR") -> OK | E16: =+IF(E4+E11=E5+E6+E7+E8+E9+E10+E12+E13,"OK","ERREUR") -> OK | F16: =+IF(F4+F11=F5+F6+F7+F8+F9+F10+F12+F13,"OK","ERREUR") -> OK | G16: =+IF(G4+G11=G5+G6+G7+G8+G9+G10+G12+G13,"OK","ERREUR") -> OK | H16: =+IF(H4+H11=H5+H6+H7+H8+H9+H10+H12+H13,"OK","ERREUR") -> OK | I16: =+IF(I4+I11=I5+I6+I7+I8+I9+I10+I12+I13,"OK","ERREUR") -> OK | ... Y16: =+IF(Y4+Y11=Y5+Y6+Y7+Y8+Y9+Y10+Y12+Y13,"OK","ERREUR") -> OK
A17: CA DHL du jour | X17: =((X4-X9-X10+X11-X13+X14)*#REF!)-X15 -> #REF! | Y17: =((Y4-Y9-Y10+Y11-Y13+Y14)*#REF!)-Y15 -> #REF!
A18: Taux de réussite | X18: =+IF(X4+X11=0,0%,100%-(X9+X10+X13)/(X4+X11)) -> 0 | Y18: =+IF(Y4+Y11=0,0%,100%-(Y9+Y10+Y13)/(Y4+Y11)) -> 0

Sheet 12
I1: 12 | J1: =+'01'!$J$1 -> MARS | K1: =+#REF! -> #REF! | W1: TOTAL DU JOUR | X1: REPORT PRECEDENT | Y1: TOTAL CUMULE
A2: CHAUFFEUR | B2: A | C2: B | D2: C | E2: D | F2: E | G2: F | H2: G | I2: H | J2: I | K2: J | L2: K | M2: L | N2: M | O2: N | P2: O | Q2: PATRICK | R2: P | S2: Q | T2: R | U2: S | V2: T
A4: Points en WC (relais inclus) | W4: =+SUM(B4:V4) -> 0 | X4: =+SUM('11'!X4) -> 0 | Y4: =+W4+X4 -> 0
A5: Points OK | W5: =+SUM(B5:V5) -> 0 | X5: =+SUM('11'!X5) -> 0 | Y5: =+W5+X5 -> 0
A6: Points Neighbour | W6: =+SUM(B6:V6) -> 0 | X6: =+SUM('11'!X6) -> 0 | Y6: =+W6+X6 -> 0
A7: Points refusés | W7: =+SUM(B7:V7) -> 0 | X7: =+SUM('11'!X7) -> 0 | Y7: =+W7+X7 -> 0
A8: Nombre de points relais | W8: =+SUM(B8:V8) -> 0 | X8: =+SUM('11'!X8) -> 0 | Y8: =+W8+X8 -> 0
A9: Points avisés CC | W9: =+SUM(B9:V9) -> 0 | X9: =+SUM('11'!X9) -> 0 | Y9: =+W9+X9 -> 0
A10: Points en retour | W10: =+SUM(B10:V10) -> 0 | X10: =+SUM('11'!X10) -> 0 | Y10: =+W10+X10 -> 0
A11: Collectes tentées | W11: =+SUM(B11:V11) -> 0 | X11: =+SUM('11'!X11) -> 0 | Y11: =+W11+X11 -> 0
A12: Collectes OK | W12: =+SUM(B12:V12) -> 0 | X12: =+SUM('11'!X12) -> 0 | Y12: =+W12+X12 -> 0
A13: Collectes en echec | W13: =+SUM(B13:V13) -> 0 | X13: =+SUM('11'!X13) -> 0 | Y13: =+W13+X13 -> 0
A14: Points livrés en agence | W14: =+SUM(B14:V14) -> 0 | X14: =+SUM('11'!X14) -> 0 | Y14: =+W14+X14 -> 0
A15: Pénalités générées | W15: =+SUM(B15:V15) -> 0 | X15: =+SUM('11'!X15) -> 0 | Y15: =+W15+X15 -> 0
A16: COHERENCE CHIFFRES | B16: =+IF(B4+B11=B5+B6+B7+B8+B9+B10+B12+B13,"OK","ERREUR") -> OK | C16: =+IF(C4+C11=C5+C6+C7+C8+C9+C10+C12+C13,"OK","ERREUR") -> OK | D16: =+IF(D4+D11=D5+D6+D7+D8+D9+D10+D12+D13,"OK","ERREUR") -> OK | E16: =+IF(E4+E11=E5+E6+E7+E8+E9+E10+E12+E13,"OK","ERREUR") -> OK | F16: =+IF(F4+F11=F5+F6+F7+F8+F9+F10+F12+F13,"OK","ERREUR") -> OK | G16: =+IF(G4+G11=G5+G6+G7+G8+G9+G10+G12+G13,"OK","ERREUR") -> OK | H16: =+IF(H4+H11=H5+H6+H7+H8+H9+H10+H12+H13,"OK","ERREUR") -> OK | I16: =+IF(I4+I11=I5+I6+I7+I8+I9+I10+I12+I13,"OK","ERREUR") -> OK | ... Y16: =+IF(Y4+Y11=Y5+Y6+Y7+Y8+Y9+Y10+Y12+Y13,"OK","ERREUR") -> OK
A17: CA DHL du jour | X17: =((X4-X9-X10+X11-X13+X14)*#REF!)-X15 -> #REF! | Y17: =((Y4-Y9-Y10+Y11-Y13+Y14)*#REF!)-Y15 -> #REF!
A18: Taux de réussite | X18: =+IF(X4+X11=0,0%,100%-(X9+X10+X13)/(X4+X11)) -> 0 | Y18: =+IF(Y4+Y11=0,0%,100%-(Y9+Y10+Y13)/(Y4+Y11)) -> 0

Sheet 13
I1: 13 | J1: =+'01'!$J$1 -> MARS | K1: =+#REF! -> #REF! | W1: TOTAL DU JOUR | X1: REPORT PRECEDENT | Y1: TOTAL CUMULE
A2: CHAUFFEUR | B2: A | C2: B | D2: C | E2: D | F2: E | G2: F | H2: G | I2: H | J2: I | K2: J | L2: K | M2: L | N2: M | O2: N | P2: O | Q2: PATRICK | R2: P | S2: Q | T2: R | U2: S | V2: T
A4: Points en WC (relais inclus) | W4: =+SUM(B4:V4) -> 0 | X4: =+SUM('12'!X4) -> 0 | Y4: =+W4+X4 -> 0
A5: Points OK | W5: =+SUM(B5:V5) -> 0 | X5: =+SUM('12'!X5) -> 0 | Y5: =+W5+X5 -> 0
A6: Points Neighbour | W6: =+SUM(B6:V6) -> 0 | X6: =+SUM('12'!X6) -> 0 | Y6: =+W6+X6 -> 0
A7: Points refusés | W7: =+SUM(B7:V7) -> 0 | X7: =+SUM('12'!X7) -> 0 | Y7: =+W7+X7 -> 0
A8: Nombre de points relais | W8: =+SUM(B8:V8) -> 0 | X8: =+SUM('12'!X8) -> 0 | Y8: =+W8+X8 -> 0
A9: Points avisés CC | W9: =+SUM(B9:V9) -> 0 | X9: =+SUM('12'!X9) -> 0 | Y9: =+W9+X9 -> 0
A10: Points en retour | W10: =+SUM(B10:V10) -> 0 | X10: =+SUM('12'!X10) -> 0 | Y10: =+W10+X10 -> 0
A11: Collectes tentées | W11: =+SUM(B11:V11) -> 0 | X11: =+SUM('12'!X11) -> 0 | Y11: =+W11+X11 -> 0
A12: Collectes OK | W12: =+SUM(B12:V12) -> 0 | X12: =+SUM('12'!X12) -> 0 | Y12: =+W12+X12 -> 0
A13: Collectes en echec | W13: =+SUM(B13:V13) -> 0 | X13: =+SUM('12'!X13) -> 0 | Y13: =+W13+X13 -> 0
A14: Points livrés en agence | W14: =+SUM(B14:V14) -> 0 | X14: =+SUM('12'!X14) -> 0 | Y14: =+W14+X14 -> 0
A15: Pénalités générées | W15: =+SUM(B15:V15) -> 0 | X15: =+SUM('12'!X15) -> 0 | Y15: =+W15+X15 -> 0
A16: COHERENCE CHIFFRES | B16: =+IF(B4+B11=B5+B6+B7+B8+B9+B10+B12+B13,"OK","ERREUR") -> OK | C16: =+IF(C4+C11=C5+C6+C7+C8+C9+C10+C12+C13,"OK","ERREUR") -> OK | D16: =+IF(D4+D11=D5+D6+D7+D8+D9+D10+D12+D13,"OK","ERREUR") -> OK | E16: =+IF(E4+E11=E5+E6+E7+E8+E9+E10+E12+E13,"OK","ERREUR") -> OK | F16: =+IF(F4+F11=F5+F6+F7+F8+F9+F10+F12+F13,"OK","ERREUR") -> OK | G16: =+IF(G4+G11=G5+G6+G7+G8+G9+G10+G12+G13,"OK","ERREUR") -> OK | H16: =+IF(H4+H11=H5+H6+H7+H8+H9+H10+H12+H13,"OK","ERREUR") -> OK | I16: =+IF(I4+I11=I5+I6+I7+I8+I9+I10+I12+I13,"OK","ERREUR") -> OK | ... Y16: =+IF(Y4+Y11=Y5+Y6+Y7+Y8+Y9+Y10+Y12+Y13,"OK","ERREUR") -> OK
A17: CA DHL du jour | X17: =((X4-X9-X10+X11-X13+X14)*#REF!)-X15 -> #REF! | Y17: =((Y4-Y9-Y10+Y11-Y13+Y14)*#REF!)-Y15 -> #REF!
A18: Taux de réussite | X18: =+IF(X4+X11=0,0%,100%-(X9+X10+X13)/(X4+X11)) -> 0 | Y18: =+IF(Y4+Y11=0,0%,100%-(Y9+Y10+Y13)/(Y4+Y11)) -> 0

Sheet 14
I1: 14 | J1: =+'01'!$J$1 -> MARS | K1: =+#REF! -> #REF! | W1: TOTAL DU JOUR | X1: REPORT PRECEDENT | Y1: TOTAL CUMULE
A2: CHAUFFEUR | B2: A | C2: B | D2: C | E2: D | F2: E | G2: F | H2: G | I2: H | J2: I | K2: J | L2: K | M2: L | N2: M | O2: N | P2: O | Q2: PATRICK | R2: P | S2: Q | T2: R | U2: S | V2: T
A4: Points en WC (relais inclus) | W4: =+SUM(B4:V4) -> 0 | X4: =+SUM('13'!X4) -> 0 | Y4: =+W4+X4 -> 0
A5: Points OK | W5: =+SUM(B5:V5) -> 0 | X5: =+SUM('13'!X5) -> 0 | Y5: =+W5+X5 -> 0
A6: Points Neighbour | W6: =+SUM(B6:V6) -> 0 | X6: =+SUM('13'!X6) -> 0 | Y6: =+W6+X6 -> 0
A7: Points refusés | W7: =+SUM(B7:V7) -> 0 | X7: =+SUM('13'!X7) -> 0 | Y7: =+W7+X7 -> 0
A8: Nombre de points relais | W8: =+SUM(B8:V8) -> 0 | X8: =+SUM('13'!X8) -> 0 | Y8: =+W8+X8 -> 0
A9: Points avisés CC | W9: =+SUM(B9:V9) -> 0 | X9: =+SUM('13'!X9) -> 0 | Y9: =+W9+X9 -> 0
A10: Points en retour | W10: =+SUM(B10:V10) -> 0 | X10: =+SUM('13'!X10) -> 0 | Y10: =+W10+X10 -> 0
A11: Collectes tentées | W11: =+SUM(B11:V11) -> 0 | X11: =+SUM('13'!X11) -> 0 | Y11: =+W11+X11 -> 0
A12: Collectes OK | W12: =+SUM(B12:V12) -> 0 | X12: =+SUM('13'!X12) -> 0 | Y12: =+W12+X12 -> 0
A13: Collectes en echec | W13: =+SUM(B13:V13) -> 0 | X13: =+SUM('13'!X13) -> 0 | Y13: =+W13+X13 -> 0
A14: Points livrés en agence | W14: =+SUM(B14:V14) -> 0 | X14: =+SUM('13'!X14) -> 0 | Y14: =+W14+X14 -> 0
A15: Pénalités générées | W15: =+SUM(B15:V15) -> 0 | X15: =+SUM('13'!X15) -> 0 | Y15: =+W15+X15 -> 0
A16: COHERENCE CHIFFRES | B16: =+IF(B4+B11=B5+B6+B7+B8+B9+B10+B12+B13,"OK","ERREUR") -> OK | C16: =+IF(C4+C11=C5+C6+C7+C8+C9+C10+C12+C13,"OK","ERREUR") -> OK | D16: =+IF(D4+D11=D5+D6+D7+D8+D9+D10+D12+D13,"OK","ERREUR") -> OK | E16: =+IF(E4+E11=E5+E6+E7+E8+E9+E10+E12+E13,"OK","ERREUR") -> OK | F16: =+IF(F4+F11=F5+F6+F7+F8+F9+F10+F12+F13,"OK","ERREUR") -> OK | G16: =+IF(G4+G11=G5+G6+G7+G8+G9+G10+G12+G13,"OK","ERREUR") -> OK | H16: =+IF(H4+H11=H5+H6+H7+H8+H9+H10+H12+H13,"OK","ERREUR") -> OK | I16: =+IF(I4+I11=I5+I6+I7+I8+I9+I10+I12+I13,"OK","ERREUR") -> OK | ... Y16: =+IF(Y4+Y11=Y5+Y6+Y7+Y8+Y9+Y10+Y12+Y13,"OK","ERREUR") -> OK
A17: CA DHL du jour | X17: =((X4-X9-X10+X11-X13+X14)*#REF!)-X15 -> #REF! | Y17: =((Y4-Y9-Y10+Y11-Y13+Y14)*#REF!)-Y15 -> #REF!
A18: Taux de réussite | X18: =+IF(X4+X11=0,0%,100%-(X9+X10+X13)/(X4+X11)) -> 0 | Y18: =+IF(Y4+Y11=0,0%,100%-(Y9+Y10+Y13)/(Y4+Y11)) -> 0

Sheet 15
I1: 15 | J1: =+'01'!$J$1 -> MARS | K1: =+#REF! -> #REF! | W1: TOTAL DU JOUR | X1: REPORT PRECEDENT | Y1: TOTAL CUMULE
A2: CHAUFFEUR | B2: A | C2: B | D2: C | E2: D | F2: E | G2: F | H2: G | I2: H | J2: I | K2: J | L2: K | M2: L | N2: M | O2: N | P2: O | Q2: PATRICK | R2: P | S2: Q | T2: R | U2: S | V2: T
A4: Points en WC (relais inclus) | W4: =+SUM(B4:V4) -> 0 | X4: =+SUM('14'!X4) -> 0 | Y4: =+W4+X4 -> 0
A5: Points OK | W5: =+SUM(B5:V5) -> 0 | X5: =+SUM('14'!X5) -> 0 | Y5: =+W5+X5 -> 0
A6: Points Neighbour | W6: =+SUM(B6:V6) -> 0 | X6: =+SUM('14'!X6) -> 0 | Y6: =+W6+X6 -> 0
A7: Points refusés | W7: =+SUM(B7:V7) -> 0 | X7: =+SUM('14'!X7) -> 0 | Y7: =+W7+X7 -> 0
A8: Nombre de points relais | W8: =+SUM(B8:V8) -> 0 | X8: =+SUM('14'!X8) -> 0 | Y8: =+W8+X8 -> 0
A9: Points avisés CC | W9: =+SUM(B9:V9) -> 0 | X9: =+SUM('14'!X9) -> 0 | Y9: =+W9+X9 -> 0
A10: Points en retour | W10: =+SUM(B10:V10) -> 0 | X10: =+SUM('14'!X10) -> 0 | Y10: =+W10+X10 -> 0
A11: Collectes tentées | W11: =+SUM(B11:V11) -> 0 | X11: =+SUM('14'!X11) -> 0 | Y11: =+W11+X11 -> 0
A12: Collectes OK | W12: =+SUM(B12:V12) -> 0 | X12: =+SUM('14'!X12) -> 0 | Y12: =+W12+X12 -> 0
A13: Collectes en echec | W13: =+SUM(B13:V13) -> 0 | X13: =+SUM('14'!X13) -> 0 | Y13: =+W13+X13 -> 0
A14: Points livrés en agence | W14: =+SUM(B14:V14) -> 0 | X14: =+SUM('14'!X14) -> 0 | Y14: =+W14+X14 -> 0
A15: Pénalités générées | W15: =+SUM(B15:V15) -> 0 | X15: =+SUM('14'!X15) -> 0 | Y15: =+W15+X15 -> 0
A16: COHERENCE CHIFFRES | B16: =+IF(B4+B11=B5+B6+B7+B8+B9+B10+B12+B13,"OK","ERREUR") -> OK | C16: =+IF(C4+C11=C5+C6+C7+C8+C9+C10+C12+C13,"OK","ERREUR") -> OK | D16: =+IF(D4+D11=D5+D6+D7+D8+D9+D10+D12+D13,"OK","ERREUR") -> OK | E16: =+IF(E4+E11=E5+E6+E7+E8+E9+E10+E12+E13,"OK","ERREUR") -> OK | F16: =+IF(F4+F11=F5+F6+F7+F8+F9+F10+F12+F13,"OK","ERREUR") -> OK | G16: =+IF(G4+G11=G5+G6+G7+G8+G9+G10+G12+G13,"OK","ERREUR") -> OK | H16: =+IF(H4+H11=H5+H6+H7+H8+H9+H10+H12+H13,"OK","ERREUR") -> OK | I16: =+IF(I4+I11=I5+I6+I7+I8+I9+I10+I12+I13,"OK","ERREUR") -> OK | ... Y16: =+IF(Y4+Y11=Y5+Y6+Y7+Y8+Y9+Y10+Y12+Y13,"OK","ERREUR") -> OK
A17: CA DHL du jour | X17: =((X4-X9-X10+X11-X13+X14)*#REF!)-X15 -> #REF! | Y17: =((Y4-Y9-Y10+Y11-Y13+Y14)*#REF!)-Y15 -> #REF!
A18: Taux de réussite | X18: =+IF(X4+X11=0,0%,100%-(X9+X10+X13)/(X4+X11)) -> 0 | Y18: =+IF(Y4+Y11=0,0%,100%-(Y9+Y10+Y13)/(Y4+Y11)) -> 0

Sheet 16
I1: 16 | J1: =+'01'!$J$1 -> MARS | K1: =+#REF! -> #REF! | W1: TOTAL DU JOUR | X1: REPORT PRECEDENT | Y1: TOTAL CUMULE
A2: CHAUFFEUR | B2: A | C2: B | D2: C | E2: D | F2: E | G2: F | H2: G | I2: H | J2: I | K2: J | L2: K | M2: L | N2: M | O2: N | P2: O | Q2: PATRICK | R2: P | S2: Q | T2: R | U2: S | V2: T
A4: Points en WC (relais inclus) | W4: =+SUM(B4:V4) -> 0 | X4: =+SUM('15'!X4) -> 0 | Y4: =+W4+X4 -> 0
A5: Points OK | W5: =+SUM(B5:V5) -> 0 | X5: =+SUM('15'!X5) -> 0 | Y5: =+W5+X5 -> 0
A6: Points Neighbour | W6: =+SUM(B6:V6) -> 0 | X6: =+SUM('15'!X6) -> 0 | Y6: =+W6+X6 -> 0
A7: Points refusés | W7: =+SUM(B7:V7) -> 0 | X7: =+SUM('15'!X7) -> 0 | Y7: =+W7+X7 -> 0
A8: Nombre de points relais | W8: =+SUM(B8:V8) -> 0 | X8: =+SUM('15'!X8) -> 0 | Y8: =+W8+X8 -> 0
A9: Points avisés CC | W9: =+SUM(B9:V9) -> 0 | X9: =+SUM('15'!X9) -> 0 | Y9: =+W9+X9 -> 0
A10: Points en retour | W10: =+SUM(B10:V10) -> 0 | X10: =+SUM('15'!X10) -> 0 | Y10: =+W10+X10 -> 0
A11: Collectes tentées | W11: =+SUM(B11:V11) -> 0 | X11: =+SUM('15'!X11) -> 0 | Y11: =+W11+X11 -> 0
A12: Collectes OK | W12: =+SUM(B12:V12) -> 0 | X12: =+SUM('15'!X12) -> 0 | Y12: =+W12+X12 -> 0
A13: Collectes en echec | W13: =+SUM(B13:V13) -> 0 | X13: =+SUM('15'!X13) -> 0 | Y13: =+W13+X13 -> 0
A14: Points livrés en agence | W14: =+SUM(B14:V14) -> 0 | X14: =+SUM('15'!X14) -> 0 | Y14: =+W14+X14 -> 0
A15: Pénalités générées | W15: =+SUM(B15:V15) -> 0 | X15: =+SUM('15'!X15) -> 0 | Y15: =+W15+X15 -> 0
A16: COHERENCE CHIFFRES | B16: =+IF(B4+B11=B5+B6+B7+B8+B9+B10+B12+B13,"OK","ERREUR") -> OK | C16: =+IF(C4+C11=C5+C6+C7+C8+C9+C10+C12+C13,"OK","ERREUR") -> OK | D16: =+IF(D4+D11=D5+D6+D7+D8+D9+D10+D12+D13,"OK","ERREUR") -> OK | E16: =+IF(E4+E11=E5+E6+E7+E8+E9+E10+E12+E13,"OK","ERREUR") -> OK | F16: =+IF(F4+F11=F5+F6+F7+F8+F9+F10+F12+F13,"OK","ERREUR") -> OK | G16: =+IF(G4+G11=G5+G6+G7+G8+G9+G10+G12+G13,"OK","ERREUR") -> OK | H16: =+IF(H4+H11=H5+H6+H7+H8+H9+H10+H12+H13,"OK","ERREUR") -> OK | I16: =+IF(I4+I11=I5+I6+I7+I8+I9+I10+I12+I13,"OK","ERREUR") -> OK | ... Y16: =+IF(Y4+Y11=Y5+Y6+Y7+Y8+Y9+Y10+Y12+Y13,"OK","ERREUR") -> OK
A17: CA DHL du jour | X17: =((X4-X9-X10+X11-X13+X14)*#REF!)-X15 -> #REF! | Y17: =((Y4-Y9-Y10+Y11-Y13+Y14)*#REF!)-Y15 -> #REF!
A18: Taux de réussite | X18: =+IF(X4+X11=0,0%,100%-(X9+X10+X13)/(X4+X11)) -> 0 | Y18: =+IF(Y4+Y11=0,0%,100%-(Y9+Y10+Y13)/(Y4+Y11)) -> 0

Sheet 17
I1: 17 | J1: =+'01'!$J$1 -> MARS | K1: =+#REF! -> #REF! | W1: TOTAL DU JOUR | X1: REPORT PRECEDENT | Y1: TOTAL CUMULE
A2: CHAUFFEUR | B2: A | C2: B | D2: C | E2: D | F2: E | G2: F | H2: G | I2: H | J2: I | K2: J | L2: K | M2: L | N2: M | O2: N | P2: O | Q2: PATRICK | R2: P | S2: Q | T2: R | U2: S | V2: T
A4: Points en WC (relais inclus) | W4: =+SUM(B4:V4) -> 0 | X4: =+SUM('16'!X4) -> 0 | Y4: =+W4+X4 -> 0
A5: Points OK | W5: =+SUM(B5:V5) -> 0 | X5: =+SUM('16'!X5) -> 0 | Y5: =+W5+X5 -> 0
A6: Points Neighbour | W6: =+SUM(B6:V6) -> 0 | X6: =+SUM('16'!X6) -> 0 | Y6: =+W6+X6 -> 0
A7: Points refusés | W7: =+SUM(B7:V7) -> 0 | X7: =+SUM('16'!X7) -> 0 | Y7: =+W7+X7 -> 0
A8: Nombre de points relais | W8: =+SUM(B8:V8) -> 0 | X8: =+SUM('16'!X8) -> 0 | Y8: =+W8+X8 -> 0
A9: Points avisés CC | W9: =+SUM(B9:V9) -> 0 | X9: =+SUM('16'!X9) -> 0 | Y9: =+W9+X9 -> 0
A10: Points en retour | W10: =+SUM(B10:V10) -> 0 | X10: =+SUM('16'!X10) -> 0 | Y10: =+W10+X10 -> 0
A11: Collectes tentées | W11: =+SUM(B11:V11) -> 0 | X11: =+SUM('16'!X11) -> 0 | Y11: =+W11+X11 -> 0
A12: Collectes OK | W12: =+SUM(B12:V12) -> 0 | X12: =+SUM('16'!X12) -> 0 | Y12: =+W12+X12 -> 0
A13: Collectes en echec | W13: =+SUM(B13:V13) -> 0 | X13: =+SUM('16'!X13) -> 0 | Y13: =+W13+X13 -> 0
A14: Points livrés en agence | W14: =+SUM(B14:V14) -> 0 | X14: =+SUM('16'!X14) -> 0 | Y14: =+W14+X14 -> 0
A15: Pénalités générées | W15: =+SUM(B15:V15) -> 0 | X15: =+SUM('16'!X15) -> 0 | Y15: =+W15+X15 -> 0
A16: COHERENCE CHIFFRES | B16: =+IF(B4+B11=B5+B6+B7+B8+B9+B10+B12+B13,"OK","ERREUR") -> OK | C16: =+IF(C4+C11=C5+C6+C7+C8+C9+C10+C12+C13,"OK","ERREUR") -> OK | D16: =+IF(D4+D11=D5+D6+D7+D8+D9+D10+D12+D13,"OK","ERREUR") -> OK | E16: =+IF(E4+E11=E5+E6+E7+E8+E9+E10+E12+E13,"OK","ERREUR") -> OK | F16: =+IF(F4+F11=F5+F6+F7+F8+F9+F10+F12+F13,"OK","ERREUR") -> OK | G16: =+IF(G4+G11=G5+G6+G7+G8+G9+G10+G12+G13,"OK","ERREUR") -> OK | H16: =+IF(H4+H11=H5+H6+H7+H8+H9+H10+H12+H13,"OK","ERREUR") -> OK | I16: =+IF(I4+I11=I5+I6+I7+I8+I9+I10+I12+I13,"OK","ERREUR") -> OK | ... Y16: =+IF(Y4+Y11=Y5+Y6+Y7+Y8+Y9+Y10+Y12+Y13,"OK","ERREUR") -> OK
A17: CA DHL du jour | X17: =((X4-X9-X10+X11-X13+X14)*#REF!)-X15 -> #REF! | Y17: =((Y4-Y9-Y10+Y11-Y13+Y14)*#REF!)-Y15 -> #REF!
A18: Taux de réussite | X18: =+IF(X4+X11=0,0%,100%-(X9+X10+X13)/(X4+X11)) -> 0 | Y18: =+IF(Y4+Y11=0,0%,100%-(Y9+Y10+Y13)/(Y4+Y11)) -> 0

Sheet 18
I1: 18 | J1: =+'01'!$J$1 -> MARS | K1: =+#REF! -> #REF! | W1: TOTAL DU JOUR | X1: REPORT PRECEDENT | Y1: TOTAL CUMULE
A2: CHAUFFEUR | B2: A | C2: B | D2: C | E2: D | F2: E | G2: F | H2: G | I2: H | J2: I | K2: J | L2: K | M2: L | N2: M | O2: N | P2: O | Q2: PATRICK | R2: P | S2: Q | T2: R | U2: S | V2: T
A4: Points en WC (relais inclus) | W4: =+SUM(B4:V4) -> 0 | X4: =+SUM('17'!X4) -> 0 | Y4: =+W4+X4 -> 0
A5: Points OK | W5: =+SUM(B5:V5) -> 0 | X5: =+SUM('17'!X5) -> 0 | Y5: =+W5+X5 -> 0
A6: Points Neighbour | W6: =+SUM(B6:V6) -> 0 | X6: =+SUM('17'!X6) -> 0 | Y6: =+W6+X6 -> 0
A7: Points refusés | W7: =+SUM(B7:V7) -> 0 | X7: =+SUM('17'!X7) -> 0 | Y7: =+W7+X7 -> 0
A8: Nombre de points relais | W8: =+SUM(B8:V8) -> 0 | X8: =+SUM('17'!X8) -> 0 | Y8: =+W8+X8 -> 0
A9: Points avisés CC | W9: =+SUM(B9:V9) -> 0 | X9: =+SUM('17'!X9) -> 0 | Y9: =+W9+X9 -> 0
A10: Points en retour | W10: =+SUM(B10:V10) -> 0 | X10: =+SUM('17'!X10) -> 0 | Y10: =+W10+X10 -> 0
A11: Collectes tentées | W11: =+SUM(B11:V11) -> 0 | X11: =+SUM('17'!X11) -> 0 | Y11: =+W11+X11 -> 0
A12: Collectes OK | W12: =+SUM(B12:V12) -> 0 | X12: =+SUM('17'!X12) -> 0 | Y12: =+W12+X12 -> 0
A13: Collectes en echec | W13: =+SUM(B13:V13) -> 0 | X13: =+SUM('17'!X13) -> 0 | Y13: =+W13+X13 -> 0
A14: Points livrés en agence | W14: =+SUM(B14:V14) -> 0 | X14: =+SUM('17'!X14) -> 0 | Y14: =+W14+X14 -> 0
A15: Pénalités générées | W15: =+SUM(B15:V15) -> 0 | X15: =+SUM('17'!X15) -> 0 | Y15: =+W15+X15 -> 0
A16: COHERENCE CHIFFRES | B16: =+IF(B4+B11=B5+B6+B7+B8+B9+B10+B12+B13,"OK","ERREUR") -> OK | C16: =+IF(C4+C11=C5+C6+C7+C8+C9+C10+C12+C13,"OK","ERREUR") -> OK | D16: =+IF(D4+D11=D5+D6+D7+D8+D9+D10+D12+D13,"OK","ERREUR") -> OK | E16: =+IF(E4+E11=E5+E6+E7+E8+E9+E10+E12+E13,"OK","ERREUR") -> OK | F16: =+IF(F4+F11=F5+F6+F7+F8+F9+F10+F12+F13,"OK","ERREUR") -> OK | G16: =+IF(G4+G11=G5+G6+G7+G8+G9+G10+G12+G13,"OK","ERREUR") -> OK | H16: =+IF(H4+H11=H5+H6+H7+H8+H9+H10+H12+H13,"OK","ERREUR") -> OK | I16: =+IF(I4+I11=I5+I6+I7+I8+I9+I10+I12+I13,"OK","ERREUR") -> OK | ... Y16: =+IF(Y4+Y11=Y5+Y6+Y7+Y8+Y9+Y10+Y12+Y13,"OK","ERREUR") -> OK
A17: CA DHL du jour | X17: =((X4-X9-X10+X11-X13+X14)*#REF!)-X15 -> #REF! | Y17: =((Y4-Y9-Y10+Y11-Y13+Y14)*#REF!)-Y15 -> #REF!
A18: Taux de réussite | X18: =+IF(X4+X11=0,0%,100%-(X9+X10+X13)/(X4+X11)) -> 0 | Y18: =+IF(Y4+Y11=0,0%,100%-(Y9+Y10+Y13)/(Y4+Y11)) -> 0

Sheet 19
I1: 19 | J1: =+'01'!$J$1 -> MARS | K1: =+#REF! -> #REF! | W1: TOTAL DU JOUR | X1: REPORT PRECEDENT | Y1: TOTAL CUMULE
A2: CHAUFFEUR | B2: A | C2: B | D2: C | E2: D | F2: E | G2: F | H2: G | I2: H | J2: I | K2: J | L2: K | M2: L | N2: M | O2: N | P2: O | Q2: PATRICK | R2: P | S2: Q | T2: R | U2: S | V2: T
A4: Points en WC (relais inclus) | W4: =+SUM(B4:V4) -> 0 | X4: =+SUM('18'!X4) -> 0 | Y4: =+W4+X4 -> 0
A5: Points OK | W5: =+SUM(B5:V5) -> 0 | X5: =+SUM('18'!X5) -> 0 | Y5: =+W5+X5 -> 0
A6: Points Neighbour | W6: =+SUM(B6:V6) -> 0 | X6: =+SUM('18'!X6) -> 0 | Y6: =+W6+X6 -> 0
A7: Points refusés | W7: =+SUM(B7:V7) -> 0 | X7: =+SUM('18'!X7) -> 0 | Y7: =+W7+X7 -> 0
A8: Nombre de points relais | W8: =+SUM(B8:V8) -> 0 | X8: =+SUM('18'!X8) -> 0 | Y8: =+W8+X8 -> 0
A9: Points avisés CC | W9: =+SUM(B9:V9) -> 0 | X9: =+SUM('18'!X9) -> 0 | Y9: =+W9+X9 -> 0
A10: Points en retour | W10: =+SUM(B10:V10) -> 0 | X10: =+SUM('18'!X10) -> 0 | Y10: =+W10+X10 -> 0
A11: Collectes tentées | W11: =+SUM(B11:V11) -> 0 | X11: =+SUM('18'!X11) -> 0 | Y11: =+W11+X11 -> 0
A12: Collectes OK | W12: =+SUM(B12:V12) -> 0 | X12: =+SUM('18'!X12) -> 0 | Y12: =+W12+X12 -> 0
A13: Collectes en echec | W13: =+SUM(B13:V13) -> 0 | X13: =+SUM('18'!X13) -> 0 | Y13: =+W13+X13 -> 0
A14: Points livrés en agence | W14: =+SUM(B14:V14) -> 0 | X14: =+SUM('18'!X14) -> 0 | Y14: =+W14+X14 -> 0
A15: Pénalités générées | W15: =+SUM(B15:V15) -> 0 | X15: =+SUM('18'!X15) -> 0 | Y15: =+W15+X15 -> 0
A16: COHERENCE CHIFFRES | B16: =+IF(B4+B11=B5+B6+B7+B8+B9+B10+B12+B13,"OK","ERREUR") -> OK | C16: =+IF(C4+C11=C5+C6+C7+C8+C9+C10+C12+C13,"OK","ERREUR") -> OK | D16: =+IF(D4+D11=D5+D6+D7+D8+D9+D10+D12+D13,"OK","ERREUR") -> OK | E16: =+IF(E4+E11=E5+E6+E7+E8+E9+E10+E12+E13,"OK","ERREUR") -> OK | F16: =+IF(F4+F11=F5+F6+F7+F8+F9+F10+F12+F13,"OK","ERREUR") -> OK | G16: =+IF(G4+G11=G5+G6+G7+G8+G9+G10+G12+G13,"OK","ERREUR") -> OK | H16: =+IF(H4+H11=H5+H6+H7+H8+H9+H10+H12+H13,"OK","ERREUR") -> OK | I16: =+IF(I4+I11=I5+I6+I7+I8+I9+I10+I12+I13,"OK","ERREUR") -> OK | ... Y16: =+IF(Y4+Y11=Y5+Y6+Y7+Y8+Y9+Y10+Y12+Y13,"OK","ERREUR") -> OK
A17: CA DHL du jour | X17: =((X4-X9-X10+X11-X13+X14)*#REF!)-X15 -> #REF! | Y17: =((Y4-Y9-Y10+Y11-Y13+Y14)*#REF!)-Y15 -> #REF!
A18: Taux de réussite | X18: =+IF(X4+X11=0,0%,100%-(X9+X10+X13)/(X4+X11)) -> 0 | Y18: =+IF(Y4+Y11=0,0%,100%-(Y9+Y10+Y13)/(Y4+Y11)) -> 0

Sheet 20
I1: 20 | J1: =+'01'!$J$1 -> MARS | K1: =+#REF! -> #REF! | W1: TOTAL DU JOUR | X1: REPORT PRECEDENT | Y1: TOTAL CUMULE
A2: CHAUFFEUR | B2: A | C2: B | D2: C | E2: D | F2: E | G2: F | H2: G | I2: H | J2: I | K2: J | L2: K | M2: L | N2: M | O2: N | P2: O | Q2: PATRICK | R2: P | S2: Q | T2: R | U2: S | V2: T
A4: Points en WC (relais inclus) | W4: =+SUM(B4:V4) -> 0 | X4: =+SUM('19'!X4) -> 0 | Y4: =+W4+X4 -> 0
A5: Points OK | W5: =+SUM(B5:V5) -> 0 | X5: =+SUM('19'!X5) -> 0 | Y5: =+W5+X5 -> 0
A6: Points Neighbour | W6: =+SUM(B6:V6) -> 0 | X6: =+SUM('19'!X6) -> 0 | Y6: =+W6+X6 -> 0
A7: Points refusés | W7: =+SUM(B7:V7) -> 0 | X7: =+SUM('19'!X7) -> 0 | Y7: =+W7+X7 -> 0
A8: Nombre de points relais | W8: =+SUM(B8:V8) -> 0 | X8: =+SUM('19'!X8) -> 0 | Y8: =+W8+X8 -> 0
A9: Points avisés CC | W9: =+SUM(B9:V9) -> 0 | X9: =+SUM('19'!X9) -> 0 | Y9: =+W9+X9 -> 0
A10: Points en retour | W10: =+SUM(B10:V10) -> 0 | X10: =+SUM('19'!X10) -> 0 | Y10: =+W10+X10 -> 0
A11: Collectes tentées | W11: =+SUM(B11:V11) -> 0 | X11: =+SUM('19'!X11) -> 0 | Y11: =+W11+X11 -> 0
A12: Collectes OK | W12: =+SUM(B12:V12) -> 0 | X12: =+SUM('19'!X12) -> 0 | Y12: =+W12+X12 -> 0
A13: Collectes en echec | W13: =+SUM(B13:V13) -> 0 | X13: =+SUM('19'!X13) -> 0 | Y13: =+W13+X13 -> 0
A14: Points livrés en agence | W14: =+SUM(B14:V14) -> 0 | X14: =+SUM('19'!X14) -> 0 | Y14: =+W14+X14 -> 0
A15: Pénalités générées | W15: =+SUM(B15:V15) -> 0 | X15: =+SUM('19'!X15) -> 0 | Y15: =+W15+X15 -> 0
A16: COHERENCE CHIFFRES | B16: =+IF(B4+B11=B5+B6+B7+B8+B9+B10+B12+B13,"OK","ERREUR") -> OK | C16: =+IF(C4+C11=C5+C6+C7+C8+C9+C10+C12+C13,"OK","ERREUR") -> OK | D16: =+IF(D4+D11=D5+D6+D7+D8+D9+D10+D12+D13,"OK","ERREUR") -> OK | E16: =+IF(E4+E11=E5+E6+E7+E8+E9+E10+E12+E13,"OK","ERREUR") -> OK | F16: =+IF(F4+F11=F5+F6+F7+F8+F9+F10+F12+F13,"OK","ERREUR") -> OK | G16: =+IF(G4+G11=G5+G6+G7+G8+G9+G10+G12+G13,"OK","ERREUR") -> OK | H16: =+IF(H4+H11=H5+H6+H7+H8+H9+H10+H12+H13,"OK","ERREUR") -> OK | I16: =+IF(I4+I11=I5+I6+I7+I8+I9+I10+I12+I13,"OK","ERREUR") -> OK | ... Y16: =+IF(Y4+Y11=Y5+Y6+Y7+Y8+Y9+Y10+Y12+Y13,"OK","ERREUR") -> OK
A17: CA DHL du jour | X17: =((X4-X9-X10+X11-X13+X14)*#REF!)-X15 -> #REF! | Y17: =((Y4-Y9-Y10+Y11-Y13+Y14)*#REF!)-Y15 -> #REF!
A18: Taux de réussite | X18: =+IF(X4+X11=0,0%,100%-(X9+X10+X13)/(X4+X11)) -> 0 | Y18: =+IF(Y4+Y11=0,0%,100%-(Y9+Y10+Y13)/(Y4+Y11)) -> 0

Sheet 21
I1: 21 | J1: =+'01'!$J$1 -> MARS | K1: =+#REF! -> #REF! | W1: TOTAL DU JOUR | X1: REPORT PRECEDENT | Y1: TOTAL CUMULE
A2: CHAUFFEUR | B2: A | C2: B | D2: C | E2: D | F2: E | G2: F | H2: G | I2: H | J2: I | K2: J | L2: K | M2: L | N2: M | O2: N | P2: O | Q2: PATRICK | R2: P | S2: Q | T2: R | U2: S | V2: T
A4: Points en WC (relais inclus) | W4: =+SUM(B4:V4) -> 0 | X4: =+SUM('20'!X4) -> 0 | Y4: =+W4+X4 -> 0
A5: Points OK | W5: =+SUM(B5:V5) -> 0 | X5: =+SUM('20'!X5) -> 0 | Y5: =+W5+X5 -> 0
A6: Points Neighbour | W6: =+SUM(B6:V6) -> 0 | X6: =+SUM('20'!X6) -> 0 | Y6: =+W6+X6 -> 0
A7: Points refusés | W7: =+SUM(B7:V7) -> 0 | X7: =+SUM('20'!X7) -> 0 | Y7: =+W7+X7 -> 0
A8: Nombre de points relais | W8: =+SUM(B8:V8) -> 0 | X8: =+SUM('20'!X8) -> 0 | Y8: =+W8+X8 -> 0
A9: Points avisés CC | W9: =+SUM(B9:V9) -> 0 | X9: =+SUM('20'!X9) -> 0 | Y9: =+W9+X9 -> 0
A10: Points en retour | W10: =+SUM(B10:V10) -> 0 | X10: =+SUM('20'!X10) -> 0 | Y10: =+W10+X10 -> 0
A11: Collectes tentées | W11: =+SUM(B11:V11) -> 0 | X11: =+SUM('20'!X11) -> 0 | Y11: =+W11+X11 -> 0
A12: Collectes OK | W12: =+SUM(B12:V12) -> 0 | X12: =+SUM('20'!X12) -> 0 | Y12: =+W12+X12 -> 0
A13: Collectes en echec | W13: =+SUM(B13:V13) -> 0 | X13: =+SUM('20'!X13) -> 0 | Y13: =+W13+X13 -> 0
A14: Points livrés en agence | W14: =+SUM(B14:V14) -> 0 | X14: =+SUM('20'!X14) -> 0 | Y14: =+W14+X14 -> 0
A15: Pénalités générées | W15: =+SUM(B15:V15) -> 0 | X15: =+SUM('20'!X15) -> 0 | Y15: =+W15+X15 -> 0
A16: COHERENCE CHIFFRES | B16: =+IF(B4+B11=B5+B6+B7+B8+B9+B10+B12+B13,"OK","ERREUR") -> OK | C16: =+IF(C4+C11=C5+C6+C7+C8+C9+C10+C12+C13,"OK","ERREUR") -> OK | D16: =+IF(D4+D11=D5+D6+D7+D8+D9+D10+D12+D13,"OK","ERREUR") -> OK | E16: =+IF(E4+E11=E5+E6+E7+E8+E9+E10+E12+E13,"OK","ERREUR") -> OK | F16: =+IF(F4+F11=F5+F6+F7+F8+F9+F10+F12+F13,"OK","ERREUR") -> OK | G16: =+IF(G4+G11=G5+G6+G7+G8+G9+G10+G12+G13,"OK","ERREUR") -> OK | H16: =+IF(H4+H11=H5+H6+H7+H8+H9+H10+H12+H13,"OK","ERREUR") -> OK | I16: =+IF(I4+I11=I5+I6+I7+I8+I9+I10+I12+I13,"OK","ERREUR") -> OK | ... Y16: =+IF(Y4+Y11=Y5+Y6+Y7+Y8+Y9+Y10+Y12+Y13,"OK","ERREUR") -> OK
A17: CA DHL du jour | X17: =((X4-X9-X10+X11-X13+X14)*#REF!)-X15 -> #REF! | Y17: =((Y4-Y9-Y10+Y11-Y13+Y14)*#REF!)-Y15 -> #REF!
A18: Taux de réussite | X18: =+IF(X4+X11=0,0%,100%-(X9+X10+X13)/(X4+X11)) -> 0 | Y18: =+IF(Y4+Y11=0,0%,100%-(Y9+Y10+Y13)/(Y4+Y11)) -> 0

Sheet 22
I1: 22 | J1: =+'01'!$J$1 -> MARS | K1: =+#REF! -> #REF! | W1: TOTAL DU JOUR | X1: REPORT PRECEDENT | Y1: TOTAL CUMULE
A2: CHAUFFEUR | B2: A | C2: B | D2: C | E2: D | F2: E | G2: F | H2: G | I2: H | J2: I | K2: J | L2: K | M2: L | N2: M | O2: N | P2: O | Q2: PATRICK | R2: P | S2: Q | T2: R | U2: S | V2: T
A4: Points en WC (relais inclus) | W4: =+SUM(B4:V4) -> 0 | X4: =+SUM('21'!X4) -> 0 | Y4: =+W4+X4 -> 0
A5: Points OK | W5: =+SUM(B5:V5) -> 0 | X5: =+SUM('21'!X5) -> 0 | Y5: =+W5+X5 -> 0
A6: Points Neighbour | W6: =+SUM(B6:V6) -> 0 | X6: =+SUM('21'!X6) -> 0 | Y6: =+W6+X6 -> 0
A7: Points refusés | W7: =+SUM(B7:V7) -> 0 | X7: =+SUM('21'!X7) -> 0 | Y7: =+W7+X7 -> 0
A8: Nombre de points relais | W8: =+SUM(B8:V8) -> 0 | X8: =+SUM('21'!X8) -> 0 | Y8: =+W8+X8 -> 0
A9: Points avisés CC | W9: =+SUM(B9:V9) -> 0 | X9: =+SUM('21'!X9) -> 0 | Y9: =+W9+X9 -> 0
A10: Points en retour | W10: =+SUM(B10:V10) -> 0 | X10: =+SUM('21'!X10) -> 0 | Y10: =+W10+X10 -> 0
A11: Collectes tentées | W11: =+SUM(B11:V11) -> 0 | X11: =+SUM('21'!X11) -> 0 | Y11: =+W11+X11 -> 0
A12: Collectes OK | W12: =+SUM(B12:V12) -> 0 | X12: =+SUM('21'!X12) -> 0 | Y12: =+W12+X12 -> 0
A13: Collectes en echec | W13: =+SUM(B13:V13) -> 0 | X13: =+SUM('21'!X13) -> 0 | Y13: =+W13+X13 -> 0
A14: Points livrés en agence | W14: =+SUM(B14:V14) -> 0 | X14: =+SUM('21'!X14) -> 0 | Y14: =+W14+X14 -> 0
A15: Pénalités générées | W15: =+SUM(B15:V15) -> 0 | X15: =+SUM('21'!X15) -> 0 | Y15: =+W15+X15 -> 0
A16: COHERENCE CHIFFRES | B16: =+IF(B4+B11=B5+B6+B7+B8+B9+B10+B12+B13,"OK","ERREUR") -> OK | C16: =+IF(C4+C11=C5+C6+C7+C8+C9+C10+C12+C13,"OK","ERREUR") -> OK | D16: =+IF(D4+D11=D5+D6+D7+D8+D9+D10+D12+D13,"OK","ERREUR") -> OK | E16: =+IF(E4+E11=E5+E6+E7+E8+E9+E10+E12+E13,"OK","ERREUR") -> OK | F16: =+IF(F4+F11=F5+F6+F7+F8+F9+F10+F12+F13,"OK","ERREUR") -> OK | G16: =+IF(G4+G11=G5+G6+G7+G8+G9+G10+G12+G13,"OK","ERREUR") -> OK | H16: =+IF(H4+H11=H5+H6+H7+H8+H9+H10+H12+H13,"OK","ERREUR") -> OK | I16: =+IF(I4+I11=I5+I6+I7+I8+I9+I10+I12+I13,"OK","ERREUR") -> OK | ... Y16: =+IF(Y4+Y11=Y5+Y6+Y7+Y8+Y9+Y10+Y12+Y13,"OK","ERREUR") -> OK
A17: CA DHL du jour | X17: =((X4-X9-X10+X11-X13+X14)*#REF!)-X15 -> #REF! | Y17: =((Y4-Y9-Y10+Y11-Y13+Y14)*#REF!)-Y15 -> #REF!
A18: Taux de réussite | X18: =+IF(X4+X11=0,0%,100%-(X9+X10+X13)/(X4+X11)) -> 0 | Y18: =+IF(Y4+Y11=0,0%,100%-(Y9+Y10+Y13)/(Y4+Y11)) -> 0

Sheet 23
I1: 23 | J1: =+'01'!$J$1 -> MARS | K1: =+#REF! -> #REF! | W1: TOTAL DU JOUR | X1: REPORT PRECEDENT | Y1: TOTAL CUMULE
A2: CHAUFFEUR | B2: A | C2: B | D2: C | E2: D | F2: E | G2: F | H2: G | I2: H | J2: I | K2: J | L2: K | M2: L | N2: M | O2: N | P2: O | Q2: PATRICK | R2: P | S2: Q | T2: R | U2: S | V2: T
A4: Points en WC (relais inclus) | W4: =+SUM(B4:V4) -> 0 | X4: =+SUM('22'!X4) -> 0 | Y4: =+W4+X4 -> 0
A5: Points OK | W5: =+SUM(B5:V5) -> 0 | X5: =+SUM('22'!X5) -> 0 | Y5: =+W5+X5 -> 0
A6: Points Neighbour | W6: =+SUM(B6:V6) -> 0 | X6: =+SUM('22'!X6) -> 0 | Y6: =+W6+X6 -> 0
A7: Points refusés | W7: =+SUM(B7:V7) -> 0 | X7: =+SUM('22'!X7) -> 0 | Y7: =+W7+X7 -> 0
A8: Nombre de points relais | W8: =+SUM(B8:V8) -> 0 | X8: =+SUM('22'!X8) -> 0 | Y8: =+W8+X8 -> 0
A9: Points avisés CC | W9: =+SUM(B9:V9) -> 0 | X9: =+SUM('22'!X9) -> 0 | Y9: =+W9+X9 -> 0
A10: Points en retour | W10: =+SUM(B10:V10) -> 0 | X10: =+SUM('22'!X10) -> 0 | Y10: =+W10+X10 -> 0
A11: Collectes tentées | W11: =+SUM(B11:V11) -> 0 | X11: =+SUM('22'!X11) -> 0 | Y11: =+W11+X11 -> 0
A12: Collectes OK | W12: =+SUM(B12:V12) -> 0 | X12: =+SUM('22'!X12) -> 0 | Y12: =+W12+X12 -> 0
A13: Collectes en echec | W13: =+SUM(B13:V13) -> 0 | X13: =+SUM('22'!X13) -> 0 | Y13: =+W13+X13 -> 0
A14: Points livrés en agence | W14: =+SUM(B14:V14) -> 0 | X14: =+SUM('22'!X14) -> 0 | Y14: =+W14+X14 -> 0
A15: Pénalités générées | W15: =+SUM(B15:V15) -> 0 | X15: =+SUM('22'!X15) -> 0 | Y15: =+W15+X15 -> 0
A16: COHERENCE CHIFFRES | B16: =+IF(B4+B11=B5+B6+B7+B8+B9+B10+B12+B13,"OK","ERREUR") -> OK | C16: =+IF(C4+C11=C5+C6+C7+C8+C9+C10+C12+C13,"OK","ERREUR") -> OK | D16: =+IF(D4+D11=D5+D6+D7+D8+D9+D10+D12+D13,"OK","ERREUR") -> OK | E16: =+IF(E4+E11=E5+E6+E7+E8+E9+E10+E12+E13,"OK","ERREUR") -> OK | F16: =+IF(F4+F11=F5+F6+F7+F8+F9+F10+F12+F13,"OK","ERREUR") -> OK | G16: =+IF(G4+G11=G5+G6+G7+G8+G9+G10+G12+G13,"OK","ERREUR") -> OK | H16: =+IF(H4+H11=H5+H6+H7+H8+H9+H10+H12+H13,"OK","ERREUR") -> OK | I16: =+IF(I4+I11=I5+I6+I7+I8+I9+I10+I12+I13,"OK","ERREUR") -> OK | ... Y16: =+IF(Y4+Y11=Y5+Y6+Y7+Y8+Y9+Y10+Y12+Y13,"OK","ERREUR") -> OK
A17: CA DHL du jour | X17: =((X4-X9-X10+X11-X13+X14)*#REF!)-X15 -> #REF! | Y17: =((Y4-Y9-Y10+Y11-Y13+Y14)*#REF!)-Y15 -> #REF!
A18: Taux de réussite | X18: =+IF(X4+X11=0,0%,100%-(X9+X10+X13)/(X4+X11)) -> 0 | Y18: =+IF(Y4+Y11=0,0%,100%-(Y9+Y10+Y13)/(Y4+Y11)) -> 0

Sheet 24
I1: 24 | J1: =+'01'!$J$1 -> MARS | K1: =+#REF! -> #REF! | W1: TOTAL DU JOUR | X1: REPORT PRECEDENT | Y1: TOTAL CUMULE
A2: CHAUFFEUR | B2: A | C2: B | D2: C | E2: D | F2: E | G2: F | H2: G | I2: H | J2: I | K2: J | L2: K | M2: L | N2: M | O2: N | P2: O | Q2: PATRICK | R2: P | S2: Q | T2: R | U2: S | V2: T
A4: Points en WC (relais inclus) | W4: =+SUM(B4:V4) -> 0 | X4: =+SUM('23'!X4) -> 0 | Y4: =+W4+X4 -> 0
A5: Points OK | W5: =+SUM(B5:V5) -> 0 | X5: =+SUM('23'!X5) -> 0 | Y5: =+W5+X5 -> 0
A6: Points Neighbour | W6: =+SUM(B6:V6) -> 0 | X6: =+SUM('23'!X6) -> 0 | Y6: =+W6+X6 -> 0
A7: Points refusés | W7: =+SUM(B7:V7) -> 0 | X7: =+SUM('23'!X7) -> 0 | Y7: =+W7+X7 -> 0
A8: Nombre de points relais | W8: =+SUM(B8:V8) -> 0 | X8: =+SUM('23'!X8) -> 0 | Y8: =+W8+X8 -> 0
A9: Points avisés CC | W9: =+SUM(B9:V9) -> 0 | X9: =+SUM('23'!X9) -> 0 | Y9: =+W9+X9 -> 0
A10: Points en retour | W10: =+SUM(B10:V10) -> 0 | X10: =+SUM('23'!X10) -> 0 | Y10: =+W10+X10 -> 0
A11: Collectes tentées | W11: =+SUM(B11:V11) -> 0 | X11: =+SUM('23'!X11) -> 0 | Y11: =+W11+X11 -> 0
A12: Collectes OK | W12: =+SUM(B12:V12) -> 0 | X12: =+SUM('23'!X12) -> 0 | Y12: =+W12+X12 -> 0
A13: Collectes en echec | W13: =+SUM(B13:V13) -> 0 | X13: =+SUM('23'!X13) -> 0 | Y13: =+W13+X13 -> 0
A14: Points livrés en agence | W14: =+SUM(B14:V14) -> 0 | X14: =+SUM('23'!X14) -> 0 | Y14: =+W14+X14 -> 0
A15: Pénalités générées | W15: =+SUM(B15:V15) -> 0 | X15: =+SUM('23'!X15) -> 0 | Y15: =+W15+X15 -> 0
A16: COHERENCE CHIFFRES | B16: =+IF(B4+B11=B5+B6+B7+B8+B9+B10+B12+B13,"OK","ERREUR") -> OK | C16: =+IF(C4+C11=C5+C6+C7+C8+C9+C10+C12+C13,"OK","ERREUR") -> OK | D16: =+IF(D4+D11=D5+D6+D7+D8+D9+D10+D12+D13,"OK","ERREUR") -> OK | E16: =+IF(E4+E11=E5+E6+E7+E8+E9+E10+E12+E13,"OK","ERREUR") -> OK | F16: =+IF(F4+F11=F5+F6+F7+F8+F9+F10+F12+F13,"OK","ERREUR") -> OK | G16: =+IF(G4+G11=G5+G6+G7+G8+G9+G10+G12+G13,"OK","ERREUR") -> OK | H16: =+IF(H4+H11=H5+H6+H7+H8+H9+H10+H12+H13,"OK","ERREUR") -> OK | I16: =+IF(I4+I11=I5+I6+I7+I8+I9+I10+I12+I13,"OK","ERREUR") -> OK | ... Y16: =+IF(Y4+Y11=Y5+Y6+Y7+Y8+Y9+Y10+Y12+Y13,"OK","ERREUR") -> OK
A17: CA DHL du jour | X17: =((X4-X9-X10+X11-X13+X14)*#REF!)-X15 -> #REF! | Y17: =((Y4-Y9-Y10+Y11-Y13+Y14)*#REF!)-Y15 -> #REF!
A18: Taux de réussite | X18: =+IF(X4+X11=0,0%,100%-(X9+X10+X13)/(X4+X11)) -> 0 | Y18: =+IF(Y4+Y11=0,0%,100%-(Y9+Y10+Y13)/(Y4+Y11)) -> 0

Sheet 25
I1: 25 | J1: =+'01'!$J$1 -> MARS | K1: =+#REF! -> #REF! | W1: TOTAL DU JOUR | X1: REPORT PRECEDENT | Y1: TOTAL CUMULE
A2: CHAUFFEUR | B2: A | C2: B | D2: C | E2: D | F2: E | G2: F | H2: G | I2: H | J2: I | K2: J | L2: K | M2: L | N2: M | O2: N | P2: O | Q2: PATRICK | R2: P | S2: Q | T2: R | U2: S | V2: T
A4: Points en WC (relais inclus) | W4: =+SUM(B4:V4) -> 0 | X4: =+SUM('24'!X4) -> 0 | Y4: =+W4+X4 -> 0
A5: Points OK | W5: =+SUM(B5:V5) -> 0 | X5: =+SUM('24'!X5) -> 0 | Y5: =+W5+X5 -> 0
A6: Points Neighbour | W6: =+SUM(B6:V6) -> 0 | X6: =+SUM('24'!X6) -> 0 | Y6: =+W6+X6 -> 0
A7: Points refusés | W7: =+SUM(B7:V7) -> 0 | X7: =+SUM('24'!X7) -> 0 | Y7: =+W7+X7 -> 0
A8: Nombre de points relais | W8: =+SUM(B8:V8) -> 0 | X8: =+SUM('24'!X8) -> 0 | Y8: =+W8+X8 -> 0
A9: Points avisés CC | W9: =+SUM(B9:V9) -> 0 | X9: =+SUM('24'!X9) -> 0 | Y9: =+W9+X9 -> 0
A10: Points en retour | W10: =+SUM(B10:V10) -> 0 | X10: =+SUM('24'!X10) -> 0 | Y10: =+W10+X10 -> 0
A11: Collectes tentées | W11: =+SUM(B11:V11) -> 0 | X11: =+SUM('24'!X11) -> 0 | Y11: =+W11+X11 -> 0
A12: Collectes OK | W12: =+SUM(B12:V12) -> 0 | X12: =+SUM('24'!X12) -> 0 | Y12: =+W12+X12 -> 0
A13: Collectes en echec | W13: =+SUM(B13:V13) -> 0 | X13: =+SUM('24'!X13) -> 0 | Y13: =+W13+X13 -> 0
A14: Points livrés en agence | W14: =+SUM(B14:V14) -> 0 | X14: =+SUM('24'!X14) -> 0 | Y14: =+W14+X14 -> 0
A15: Pénalités générées | W15: =+SUM(B15:V15) -> 0 | X15: =+SUM('24'!X15) -> 0 | Y15: =+W15+X15 -> 0
A16: COHERENCE CHIFFRES | B16: =+IF(B4+B11=B5+B6+B7+B8+B9+B10+B12+B13,"OK","ERREUR") -> OK | C16: =+IF(C4+C11=C5+C6+C7+C8+C9+C10+C12+C13,"OK","ERREUR") -> OK | D16: =+IF(D4+D11=D5+D6+D7+D8+D9+D10+D12+D13,"OK","ERREUR") -> OK | E16: =+IF(E4+E11=E5+E6+E7+E8+E9+E10+E12+E13,"OK","ERREUR") -> OK | F16: =+IF(F4+F11=F5+F6+F7+F8+F9+F10+F12+F13,"OK","ERREUR") -> OK | G16: =+IF(G4+G11=G5+G6+G7+G8+G9+G10+G12+G13,"OK","ERREUR") -> OK | H16: =+IF(H4+H11=H5+H6+H7+H8+H9+H10+H12+H13,"OK","ERREUR") -> OK | I16: =+IF(I4+I11=I5+I6+I7+I8+I9+I10+I12+I13,"OK","ERREUR") -> OK | ... Y16: =+IF(Y4+Y11=Y5+Y6+Y7+Y8+Y9+Y10+Y12+Y13,"OK","ERREUR") -> OK
A17: CA DHL du jour | X17: =((X4-X9-X10+X11-X13+X14)*#REF!)-X15 -> #REF! | Y17: =((Y4-Y9-Y10+Y11-Y13+Y14)*#REF!)-Y15 -> #REF!
A18: Taux de réussite | X18: =+IF(X4+X11=0,0%,100%-(X9+X10+X13)/(X4+X11)) -> 0 | Y18: =+IF(Y4+Y11=0,0%,100%-(Y9+Y10+Y13)/(Y4+Y11)) -> 0

Sheet 26
I1: 26 | J1: =+'01'!$J$1 -> MARS | K1: =+#REF! -> #REF! | W1: TOTAL DU JOUR | X1: REPORT PRECEDENT | Y1: TOTAL CUMULE
A2: CHAUFFEUR | B2: A | C2: B | D2: C | E2: D | F2: E | G2: F | H2: G | I2: H | J2: I | K2: J | L2: K | M2: L | N2: M | O2: N | P2: O | Q2: PATRICK | R2: P | S2: Q | T2: R | U2: S | V2: T
A4: Points en WC (relais inclus) | W4: =+SUM(B4:V4) -> 0 | X4: =+SUM('25'!X4) -> 0 | Y4: =+W4+X4 -> 0
A5: Points OK | W5: =+SUM(B5:V5) -> 0 | X5: =+SUM('25'!X5) -> 0 | Y5: =+W5+X5 -> 0
A6: Points Neighbour | W6: =+SUM(B6:V6) -> 0 | X6: =+SUM('25'!X6) -> 0 | Y6: =+W6+X6 -> 0
A7: Points refusés | W7: =+SUM(B7:V7) -> 0 | X7: =+SUM('25'!X7) -> 0 | Y7: =+W7+X7 -> 0
A8: Nombre de points relais | W8: =+SUM(B8:V8) -> 0 | X8: =+SUM('25'!X8) -> 0 | Y8: =+W8+X8 -> 0
A9: Points avisés CC | W9: =+SUM(B9:V9) -> 0 | X9: =+SUM('25'!X9) -> 0 | Y9: =+W9+X9 -> 0
A10: Points en retour | W10: =+SUM(B10:V10) -> 0 | X10: =+SUM('25'!X10) -> 0 | Y10: =+W10+X10 -> 0
A11: Collectes tentées | W11: =+SUM(B11:V11) -> 0 | X11: =+SUM('25'!X11) -> 0 | Y11: =+W11+X11 -> 0
A12: Collectes OK | W12: =+SUM(B12:V12) -> 0 | X12: =+SUM('25'!X12) -> 0 | Y12: =+W12+X12 -> 0
A13: Collectes en echec | W13: =+SUM(B13:V13) -> 0 | X13: =+SUM('25'!X13) -> 0 | Y13: =+W13+X13 -> 0
A14: Points livrés en agence | W14: =+SUM(B14:V14) -> 0 | X14: =+SUM('25'!X14) -> 0 | Y14: =+W14+X14 -> 0
A15: Pénalités générées | W15: =+SUM(B15:V15) -> 0 | X15: =+SUM('25'!X15) -> 0 | Y15: =+W15+X15 -> 0
A16: COHERENCE CHIFFRES | B16: =+IF(B4+B11=B5+B6+B7+B8+B9+B10+B12+B13,"OK","ERREUR") -> OK | C16: =+IF(C4+C11=C5+C6+C7+C8+C9+C10+C12+C13,"OK","ERREUR") -> OK | D16: =+IF(D4+D11=D5+D6+D7+D8+D9+D10+D12+D13,"OK","ERREUR") -> OK | E16: =+IF(E4+E11=E5+E6+E7+E8+E9+E10+E12+E13,"OK","ERREUR") -> OK | F16: =+IF(F4+F11=F5+F6+F7+F8+F9+F10+F12+F13,"OK","ERREUR") -> OK | G16: =+IF(G4+G11=G5+G6+G7+G8+G9+G10+G12+G13,"OK","ERREUR") -> OK | H16: =+IF(H4+H11=H5+H6+H7+H8+H9+H10+H12+H13,"OK","ERREUR") -> OK | I16: =+IF(I4+I11=I5+I6+I7+I8+I9+I10+I12+I13,"OK","ERREUR") -> OK | ... Y16: =+IF(Y4+Y11=Y5+Y6+Y7+Y8+Y9+Y10+Y12+Y13,"OK","ERREUR") -> OK
A17: CA DHL du jour | X17: =((X4-X9-X10+X11-X13+X14)*#REF!)-X15 -> #REF! | Y17: =((Y4-Y9-Y10+Y11-Y13+Y14)*#REF!)-Y15 -> #REF!
A18: Taux de réussite | X18: =+IF(X4+X11=0,0%,100%-(X9+X10+X13)/(X4+X11)) -> 0 | Y18: =+IF(Y4+Y11=0,0%,100%-(Y9+Y10+Y13)/(Y4+Y11)) -> 0

Sheet 27
I1: 27 | J1: =+'01'!$J$1 -> MARS | K1: =+#REF! -> #REF! | W1: TOTAL DU JOUR | X1: REPORT PRECEDENT | Y1: TOTAL CUMULE
A2: CHAUFFEUR | B2: A | C2: B | D2: C | E2: D | F2: E | G2: F | H2: G | I2: H | J2: I | K2: J | L2: K | M2: L | N2: M | O2: N | P2: O | Q2: PATRICK | R2: P | S2: Q | T2: R | U2: S | V2: T
A4: Points en WC (relais inclus) | W4: =+SUM(B4:V4) -> 0 | X4: =+SUM('26'!X4) -> 0 | Y4: =+W4+X4 -> 0
A5: Points OK | W5: =+SUM(B5:V5) -> 0 | X5: =+SUM('26'!X5) -> 0 | Y5: =+W5+X5 -> 0
A6: Points Neighbour | W6: =+SUM(B6:V6) -> 0 | X6: =+SUM('26'!X6) -> 0 | Y6: =+W6+X6 -> 0
A7: Points refusés | W7: =+SUM(B7:V7) -> 0 | X7: =+SUM('26'!X7) -> 0 | Y7: =+W7+X7 -> 0
A8: Nombre de points relais | W8: =+SUM(B8:V8) -> 0 | X8: =+SUM('26'!X8) -> 0 | Y8: =+W8+X8 -> 0
A9: Points avisés CC | W9: =+SUM(B9:V9) -> 0 | X9: =+SUM('26'!X9) -> 0 | Y9: =+W9+X9 -> 0
A10: Points en retour | W10: =+SUM(B10:V10) -> 0 | X10: =+SUM('26'!X10) -> 0 | Y10: =+W10+X10 -> 0
A11: Collectes tentées | W11: =+SUM(B11:V11) -> 0 | X11: =+SUM('26'!X11) -> 0 | Y11: =+W11+X11 -> 0
A12: Collectes OK | W12: =+SUM(B12:V12) -> 0 | X12: =+SUM('26'!X12) -> 0 | Y12: =+W12+X12 -> 0
A13: Collectes en echec | W13: =+SUM(B13:V13) -> 0 | X13: =+SUM('26'!X13) -> 0 | Y13: =+W13+X13 -> 0
A14: Points livrés en agence | W14: =+SUM(B14:V14) -> 0 | X14: =+SUM('26'!X14) -> 0 | Y14: =+W14+X14 -> 0
A15: Pénalités générées | W15: =+SUM(B15:V15) -> 0 | X15: =+SUM('26'!X15) -> 0 | Y15: =+W15+X15 -> 0
A16: COHERENCE CHIFFRES | B16: =+IF(B4+B11=B5+B6+B7+B8+B9+B10+B12+B13,"OK","ERREUR") -> OK | C16: =+IF(C4+C11=C5+C6+C7+C8+C9+C10+C12+C13,"OK","ERREUR") -> OK | D16: =+IF(D4+D11=D5+D6+D7+D8+D9+D10+D12+D13,"OK","ERREUR") -> OK | E16: =+IF(E4+E11=E5+E6+E7+E8+E9+E10+E12+E13,"OK","ERREUR") -> OK | F16: =+IF(F4+F11=F5+F6+F7+F8+F9+F10+F12+F13,"OK","ERREUR") -> OK | G16: =+IF(G4+G11=G5+G6+G7+G8+G9+G10+G12+G13,"OK","ERREUR") -> OK | H16: =+IF(H4+H11=H5+H6+H7+H8+H9+H10+H12+H13,"OK","ERREUR") -> OK | I16: =+IF(I4+I11=I5+I6+I7+I8+I9+I10+I12+I13,"OK","ERREUR") -> OK | ... Y16: =+IF(Y4+Y11=Y5+Y6+Y7+Y8+Y9+Y10+Y12+Y13,"OK","ERREUR") -> OK
A17: CA DHL du jour | X17: =((X4-X9-X10+X11-X13+X14)*#REF!)-X15 -> #REF! | Y17: =((Y4-Y9-Y10+Y11-Y13+Y14)*#REF!)-Y15 -> #REF!
A18: Taux de réussite | X18: =+IF(X4+X11=0,0%,100%-(X9+X10+X13)/(X4+X11)) -> 0 | Y18: =+IF(Y4+Y11=0,0%,100%-(Y9+Y10+Y13)/(Y4+Y11)) -> 0

Sheet 28
I1: 28 | J1: =+'01'!$J$1 -> MARS | K1: =+#REF! -> #REF! | W1: TOTAL DU JOUR | X1: REPORT PRECEDENT | Y1: TOTAL CUMULE
A2: CHAUFFEUR | B2: A | C2: B | D2: C | E2: D | F2: E | G2: F | H2: G | I2: H | J2: I | K2: J | L2: K | M2: L | N2: M | O2: N | P2: O | Q2: PATRICK | R2: P | S2: Q | T2: R | U2: S | V2: T
A4: Points en WC (relais inclus) | W4: =+SUM(B4:V4) -> 0 | X4: =+SUM('27'!X4) -> 0 | Y4: =+W4+X4 -> 0
A5: Points OK | W5: =+SUM(B5:V5) -> 0 | X5: =+SUM('27'!X5) -> 0 | Y5: =+W5+X5 -> 0
A6: Points Neighbour | W6: =+SUM(B6:V6) -> 0 | X6: =+SUM('27'!X6) -> 0 | Y6: =+W6+X6 -> 0
A7: Points refusés | W7: =+SUM(B7:V7) -> 0 | X7: =+SUM('27'!X7) -> 0 | Y7: =+W7+X7 -> 0
A8: Nombre de points relais | W8: =+SUM(B8:V8) -> 0 | X8: =+SUM('27'!X8) -> 0 | Y8: =+W8+X8 -> 0
A9: Points avisés CC | W9: =+SUM(B9:V9) -> 0 | X9: =+SUM('27'!X9) -> 0 | Y9: =+W9+X9 -> 0
A10: Points en retour | W10: =+SUM(B10:V10) -> 0 | X10: =+SUM('27'!X10) -> 0 | Y10: =+W10+X10 -> 0
A11: Collectes tentées | W11: =+SUM(B11:V11) -> 0 | X11: =+SUM('27'!X11) -> 0 | Y11: =+W11+X11 -> 0
A12: Collectes OK | W12: =+SUM(B12:V12) -> 0 | X12: =+SUM('27'!X12) -> 0 | Y12: =+W12+X12 -> 0
A13: Collectes en echec | W13: =+SUM(B13:V13) -> 0 | X13: =+SUM('27'!X13) -> 0 | Y13: =+W13+X13 -> 0
A14: Points livrés en agence | W14: =+SUM(B14:V14) -> 0 | X14: =+SUM('27'!X14) -> 0 | Y14: =+W14+X14 -> 0
A15: Pénalités générées | W15: =+SUM(B15:V15) -> 0 | X15: =+SUM('27'!X15) -> 0 | Y15: =+W15+X15 -> 0
A16: COHERENCE CHIFFRES | B16: =+IF(B4+B11=B5+B6+B7+B8+B9+B10+B12+B13,"OK","ERREUR") -> OK | C16: =+IF(C4+C11=C5+C6+C7+C8+C9+C10+C12+C13,"OK","ERREUR") -> OK | D16: =+IF(D4+D11=D5+D6+D7+D8+D9+D10+D12+D13,"OK","ERREUR") -> OK | E16: =+IF(E4+E11=E5+E6+E7+E8+E9+E10+E12+E13,"OK","ERREUR") -> OK | F16: =+IF(F4+F11=F5+F6+F7+F8+F9+F10+F12+F13,"OK","ERREUR") -> OK | G16: =+IF(G4+G11=G5+G6+G7+G8+G9+G10+G12+G13,"OK","ERREUR") -> OK | H16: =+IF(H4+H11=H5+H6+H7+H8+H9+H10+H12+H13,"OK","ERREUR") -> OK | I16: =+IF(I4+I11=I5+I6+I7+I8+I9+I10+I12+I13,"OK","ERREUR") -> OK | ... Y16: =+IF(Y4+Y11=Y5+Y6+Y7+Y8+Y9+Y10+Y12+Y13,"OK","ERREUR") -> OK
A17: CA DHL du jour | X17: =((X4-X9-X10+X11-X13+X14)*#REF!)-X15 -> #REF! | Y17: =((Y4-Y9-Y10+Y11-Y13+Y14)*#REF!)-Y15 -> #REF!
A18: Taux de réussite | X18: =+IF(X4+X11=0,0%,100%-(X9+X10+X13)/(X4+X11)) -> 0 | Y18: =+IF(Y4+Y11=0,0%,100%-(Y9+Y10+Y13)/(Y4+Y11)) -> 0

Sheet 29
I1: 29 | J1: =+'01'!$J$1 -> MARS | K1: =+#REF! -> #REF! | W1: TOTAL DU JOUR | X1: REPORT PRECEDENT | Y1: TOTAL CUMULE
A2: CHAUFFEUR | B2: A | C2: B | D2: C | E2: D | F2: E | G2: F | H2: G | I2: H | J2: I | K2: J | L2: K | M2: L | N2: M | O2: N | P2: O | Q2: PATRICK | R2: P | S2: Q | T2: R | U2: S | V2: T
A4: Points en WC (relais inclus) | W4: =+SUM(B4:V4) -> 0 | X4: =+SUM('28'!X4) -> 0 | Y4: =+W4+X4 -> 0
A5: Points OK | W5: =+SUM(B5:V5) -> 0 | X5: =+SUM('28'!X5) -> 0 | Y5: =+W5+X5 -> 0
A6: Points Neighbour | W6: =+SUM(B6:V6) -> 0 | X6: =+SUM('28'!X6) -> 0 | Y6: =+W6+X6 -> 0
A7: Points refusés | W7: =+SUM(B7:V7) -> 0 | X7: =+SUM('28'!X7) -> 0 | Y7: =+W7+X7 -> 0
A8: Nombre de points relais | W8: =+SUM(B8:V8) -> 0 | X8: =+SUM('28'!X8) -> 0 | Y8: =+W8+X8 -> 0
A9: Points avisés CC | W9: =+SUM(B9:V9) -> 0 | X9: =+SUM('28'!X9) -> 0 | Y9: =+W9+X9 -> 0
A10: Points en retour | W10: =+SUM(B10:V10) -> 0 | X10: =+SUM('28'!X10) -> 0 | Y10: =+W10+X10 -> 0
A11: Collectes tentées | W11: =+SUM(B11:V11) -> 0 | X11: =+SUM('28'!X11) -> 0 | Y11: =+W11+X11 -> 0
A12: Collectes OK | W12: =+SUM(B12:V12) -> 0 | X12: =+SUM('28'!X12) -> 0 | Y12: =+W12+X12 -> 0
A13: Collectes en echec | W13: =+SUM(B13:V13) -> 0 | X13: =+SUM('28'!X13) -> 0 | Y13: =+W13+X13 -> 0
A14: Points livrés en agence | W14: =+SUM(B14:V14) -> 0 | X14: =+SUM('28'!X14) -> 0 | Y14: =+W14+X14 -> 0
A15: Pénalités générées | W15: =+SUM(B15:V15) -> 0 | X15: =+SUM('28'!X15) -> 0 | Y15: =+W15+X15 -> 0
A16: COHERENCE CHIFFRES | B16: =+IF(B4+B11=B5+B6+B7+B8+B9+B10+B12+B13,"OK","ERREUR") -> OK | C16: =+IF(C4+C11=C5+C6+C7+C8+C9+C10+C12+C13,"OK","ERREUR") -> OK | D16: =+IF(D4+D11=D5+D6+D7+D8+D9+D10+D12+D13,"OK","ERREUR") -> OK | E16: =+IF(E4+E11=E5+E6+E7+E8+E9+E10+E12+E13,"OK","ERREUR") -> OK | F16: =+IF(F4+F11=F5+F6+F7+F8+F9+F10+F12+F13,"OK","ERREUR") -> OK | G16: =+IF(G4+G11=G5+G6+G7+G8+G9+G10+G12+G13,"OK","ERREUR") -> OK | H16: =+IF(H4+H11=H5+H6+H7+H8+H9+H10+H12+H13,"OK","ERREUR") -> OK | I16: =+IF(I4+I11=I5+I6+I7+I8+I9+I10+I12+I13,"OK","ERREUR") -> OK | ... Y16: =+IF(Y4+Y11=Y5+Y6+Y7+Y8+Y9+Y10+Y12+Y13,"OK","ERREUR") -> OK
A17: CA DHL du jour | X17: =((X4-X9-X10+X11-X13+X14)*#REF!)-X15 -> #REF! | Y17: =((Y4-Y9-Y10+Y11-Y13+Y14)*#REF!)-Y15 -> #REF!
A18: Taux de réussite | X18: =+IF(X4+X11=0,0%,100%-(X9+X10+X13)/(X4+X11)) -> 0 | Y18: =+IF(Y4+Y11=0,0%,100%-(Y9+Y10+Y13)/(Y4+Y11)) -> 0

Sheet 30
I1: 30 | J1: =+'01'!$J$1 -> MARS | K1: =+#REF! -> #REF! | W1: TOTAL DU JOUR | X1: REPORT PRECEDENT | Y1: TOTAL CUMULE
A2: CHAUFFEUR | B2: A | C2: B | D2: C | E2: D | F2: E | G2: F | H2: G | I2: H | J2: I | K2: J | L2: K | M2: L | N2: M | O2: N | P2: O | Q2: PATRICK | R2: P | S2: Q | T2: R | U2: S | V2: T
A4: Points en WC (relais inclus) | W4: =+SUM(B4:V4) -> 0 | X4: =+SUM('29'!X4) -> 0 | Y4: =+W4+X4 -> 0
A5: Points OK | W5: =+SUM(B5:V5) -> 0 | X5: =+SUM('29'!X5) -> 0 | Y5: =+W5+X5 -> 0
A6: Points Neighbour | W6: =+SUM(B6:V6) -> 0 | X6: =+SUM('29'!X6) -> 0 | Y6: =+W6+X6 -> 0
A7: Points refusés | W7: =+SUM(B7:V7) -> 0 | X7: =+SUM('29'!X7) -> 0 | Y7: =+W7+X7 -> 0
A8: Nombre de points relais | W8: =+SUM(B8:V8) -> 0 | X8: =+SUM('29'!X8) -> 0 | Y8: =+W8+X8 -> 0
A9: Points avisés CC | W9: =+SUM(B9:V9) -> 0 | X9: =+SUM('29'!X9) -> 0 | Y9: =+W9+X9 -> 0
A10: Points en retour | W10: =+SUM(B10:V10) -> 0 | X10: =+SUM('29'!X10) -> 0 | Y10: =+W10+X10 -> 0
A11: Collectes tentées | W11: =+SUM(B11:V11) -> 0 | X11: =+SUM('29'!X11) -> 0 | Y11: =+W11+X11 -> 0
A12: Collectes OK | W12: =+SUM(B12:V12) -> 0 | X12: =+SUM('29'!X12) -> 0 | Y12: =+W12+X12 -> 0
A13: Collectes en echec | W13: =+SUM(B13:V13) -> 0 | X13: =+SUM('29'!X13) -> 0 | Y13: =+W13+X13 -> 0
A14: Points livrés en agence | W14: =+SUM(B14:V14) -> 0 | X14: =+SUM('29'!X14) -> 0 | Y14: =+W14+X14 -> 0
A15: Pénalités générées | W15: =+SUM(B15:V15) -> 0 | X15: =+SUM('29'!X15) -> 0 | Y15: =+W15+X15 -> 0
A16: COHERENCE CHIFFRES | B16: =+IF(B4+B11=B5+B6+B7+B8+B9+B10+B12+B13,"OK","ERREUR") -> OK | C16: =+IF(C4+C11=C5+C6+C7+C8+C9+C10+C12+C13,"OK","ERREUR") -> OK | D16: =+IF(D4+D11=D5+D6+D7+D8+D9+D10+D12+D13,"OK","ERREUR") -> OK | E16: =+IF(E4+E11=E5+E6+E7+E8+E9+E10+E12+E13,"OK","ERREUR") -> OK | F16: =+IF(F4+F11=F5+F6+F7+F8+F9+F10+F12+F13,"OK","ERREUR") -> OK | G16: =+IF(G4+G11=G5+G6+G7+G8+G9+G10+G12+G13,"OK","ERREUR") -> OK | H16: =+IF(H4+H11=H5+H6+H7+H8+H9+H10+H12+H13,"OK","ERREUR") -> OK | I16: =+IF(I4+I11=I5+I6+I7+I8+I9+I10+I12+I13,"OK","ERREUR") -> OK | ... Y16: =+IF(Y4+Y11=Y5+Y6+Y7+Y8+Y9+Y10+Y12+Y13,"OK","ERREUR") -> OK
A17: CA DHL du jour | X17: =((X4-X9-X10+X11-X13+X14)*#REF!)-X15 -> #REF! | Y17: =((Y4-Y9-Y10+Y11-Y13+Y14)*#REF!)-Y15 -> #REF!
A18: Taux de réussite | X18: =+IF(X4+X11=0,0%,100%-(X9+X10+X13)/(X4+X11)) -> 0 | Y18: =+IF(Y4+Y11=0,0%,100%-(Y9+Y10+Y13)/(Y4+Y11)) -> 0

Sheet 31
I1: 31 | J1: =+'01'!$J$1 -> MARS | K1: =+#REF! -> #REF! | W1: TOTAL DU JOUR | X1: REPORT PRECEDENT | Y1: TOTAL CUMULE
A2: CHAUFFEUR | B2: A | C2: B | D2: C | E2: D | F2: E | G2: F | H2: G | I2: H | J2: I | K2: J | L2: K | M2: L | N2: M | O2: N | P2: O | Q2: PATRICK | R2: P | S2: Q | T2: R | U2: S | V2: T
A4: Points en WC (relais inclus) | W4: =+SUM(B4:V4) -> 0 | X4: =+SUM('30'!X4) -> 0 | Y4: =+W4+X4 -> 0
A5: Points OK | W5: =+SUM(B5:V5) -> 0 | X5: =+SUM('30'!X5) -> 0 | Y5: =+W5+X5 -> 0
A6: Points Neighbour | W6: =+SUM(B6:V6) -> 0 | X6: =+SUM('30'!X6) -> 0 | Y6: =+W6+X6 -> 0
A7: Points refusés | W7: =+SUM(B7:V7) -> 0 | X7: =+SUM('30'!X7) -> 0 | Y7: =+W7+X7 -> 0
A8: Nombre de points relais | W8: =+SUM(B8:V8) -> 0 | X8: =+SUM('30'!X8) -> 0 | Y8: =+W8+X8 -> 0
A9: Points avisés CC | W9: =+SUM(B9:V9) -> 0 | X9: =+SUM('30'!X9) -> 0 | Y9: =+W9+X9 -> 0
A10: Points en retour | W10: =+SUM(B10:V10) -> 0 | X10: =+SUM('30'!X10) -> 0 | Y10: =+W10+X10 -> 0
A11: Collectes tentées | W11: =+SUM(B11:V11) -> 0 | X11: =+SUM('30'!X11) -> 0 | Y11: =+W11+X11 -> 0
A12: Collectes OK | W12: =+SUM(B12:V12) -> 0 | X12: =+SUM('30'!X12) -> 0 | Y12: =+W12+X12 -> 0
A13: Collectes en echec | W13: =+SUM(B13:V13) -> 0 | X13: =+SUM('30'!X13) -> 0 | Y13: =+W13+X13 -> 0
A14: Points livrés en agence | W14: =+SUM(B14:V14) -> 0 | X14: =+SUM('30'!X14) -> 0 | Y14: =+W14+X14 -> 0
A15: Pénalités générées | W15: =+SUM(B15:V15) -> 0 | X15: =+SUM('30'!X15) -> 0 | Y15: =+W15+X15 -> 0
A16: COHERENCE CHIFFRES | B16: =+IF(B4+B11=B5+B6+B7+B8+B9+B10+B12+B13,"OK","ERREUR") -> OK | C16: =+IF(C4+C11=C5+C6+C7+C8+C9+C10+C12+C13,"OK","ERREUR") -> OK | D16: =+IF(D4+D11=D5+D6+D7+D8+D9+D10+D12+D13,"OK","ERREUR") -> OK | E16: =+IF(E4+E11=E5+E6+E7+E8+E9+E10+E12+E13,"OK","ERREUR") -> OK | F16: =+IF(F4+F11=F5+F6+F7+F8+F9+F10+F12+F13,"OK","ERREUR") -> OK | G16: =+IF(G4+G11=G5+G6+G7+G8+G9+G10+G12+G13,"OK","ERREUR") -> OK | H16: =+IF(H4+H11=H5+H6+H7+H8+H9+H10+H12+H13,"OK","ERREUR") -> OK | I16: =+IF(I4+I11=I5+I6+I7+I8+I9+I10+I12+I13,"OK","ERREUR") -> OK | ... Y16: =+IF(Y4+Y11=Y5+Y6+Y7+Y8+Y9+Y10+Y12+Y13,"OK","ERREUR") -> OK
A17: CA DHL du jour | X17: =((X4-X9-X10+X11-X13+X14)*#REF!)-X15 -> #REF! | Y17: =((Y4-Y9-Y10+Y11-Y13+Y14)*#REF!)-Y15 -> #REF!
A18: Taux de réussite | X18: =+IF(X4+X11=0,0%,100%-(X9+X10+X13)/(X4+X11)) -> 0 | Y18: =+IF(Y4+Y11=0,0%,100%-(Y9+Y10+Y13)/(Y4+Y11)) -> 0

Sheet RECAP MENSUEL
A1: PERIODE | B1: =+'01'!J1 -> MARS | P1: =+'01'!K1 -> #REF! | AG1: TOTAL DU MOIS | AH1: REPORT PRECEDENT | AI1: TOTAL CUMULE
A2: JOUR | B2: 1 | C2: 2 | D2: 3 | E2: 4 | F2: 5 | G2: 6 | H2: 7 | I2: 8 | J2: 9 | K2: 10 | L2: 11 | M2: 12 | N2: 13 | O2: 14 | P2: 15 | Q2: 16 | R2: 17 | S2: 18 | T2: 19 | U2: 20 | V2: 21 | W2: 22 | X2: 23 | Y2: 24 | Z2: 25 | AA2: 26 | AB2: 27 | AC2: 28 | AD2: 29 | AE2: 30 | AF2: 31
A4: CHAUFFEUR | P4: A
A5: DHL
A6: Points en WC (relais inclus) | B6: =+SUMIF('01'!$B$2:$V$2,$P$4,'01'!B4:V4) -> 4 | C6: =+SUMIF('01'!$B$2:$V$2,$P$4,'02'!B4:V4) -> 3 | AG6: =+SUM(B6:AF6) -> 7 | AH6: =+'02'!W4 -> 9 | AI6: =+AG6+AH6 -> 16
A7: Points OK | B7: =+SUMIF('01'!$B$2:$V$2,$P$4,'01'!B5:V5) -> 4 | C7: =+SUMIF('01'!$B$2:$V$2,$P$4,'02'!B5:V5) -> 3 | AG7: =+SUM(B7:AF7) -> 7 | AH7: =+'02'!W5 -> 8 | AI7: =+AG7+AH7 -> 15
A8: Points Neighbour | B8: =+SUMIF('01'!$B$2:$V$2,$P$4,'01'!B6:V6) -> 0 | C8: =+SUMIF('01'!$B$2:$V$2,$P$4,'02'!B6:V6) -> 0 | AG8: =+SUM(B8:AF8) -> 0 | AH8: =+'02'!W6 -> 1 | AI8: =+AG8+AH8 -> 1
A9: Points refusés | B9: =+SUMIF('01'!$B$2:$V$2,$P$4,'01'!B7:V7) -> 0 | C9: =+SUMIF('01'!$B$2:$V$2,$P$4,'02'!B7:V7) -> 0 | AG9: =+SUM(B9:AF9) -> 0 | AH9: =+'02'!W7 -> 0 | AI9: =+AG9+AH9 -> 0
A10: Nombre de points relais | B10: =+SUMIF('01'!$B$2:$V$2,$P$4,'01'!B8:V8) -> 0 | C10: =+SUMIF('01'!$B$2:$V$2,$P$4,'02'!B8:V8) -> 0 | AG10: =+SUM(B10:AF10) -> 0 | AH10: =+'02'!W8 -> 0 | AI10: =+AG10+AH10 -> 0
A11: Points avisés CC | B11: =+SUMIF('01'!$B$2:$V$2,$P$4,'01'!B9:V9) -> 0 | C11: =+SUMIF('01'!$B$2:$V$2,$P$4,'02'!B9:V9) -> 0 | AG11: =+SUM(B11:AF11) -> 0 | AH11: =+'02'!W9 -> 0 | AI11: =+AG11+AH11 -> 0
A12: Points en retour | B12: =+SUMIF('01'!$B$2:$V$2,$P$4,'01'!B10:V10) -> 0 | C12: =+SUMIF('01'!$B$2:$V$2,$P$4,'02'!B10:V10) -> 0 | AG12: =+SUM(B12:AF12) -> 0 | AH12: =+'02'!W10 -> 0 | AI12: =+AG12+AH12 -> 0
A13: Collectes tentées | B13: =+SUMIF('01'!$B$2:$V$2,$P$4,'01'!B11:V11) -> 0 | C13: =+SUMIF('01'!$B$2:$V$2,$P$4,'02'!B11:V11) -> 0 | AG13: =+SUM(B13:AF13) -> 0 | AH13: =+'02'!W11 -> 0 | AI13: =+AG13+AH13 -> 0
A14: Collectes OK | B14: =+SUMIF('01'!$B$2:$V$2,$P$4,'01'!B12:V12) -> 0 | C14: =+SUMIF('01'!$B$2:$V$2,$P$4,'02'!B12:V12) -> 0 | AG14: =+SUM(B14:AF14) -> 0 | AH14: =+'02'!W12 -> 0 | AI14: =+AG14+AH14 -> 0
A15: Collectes en echec | B15: =+SUMIF('01'!$B$2:$V$2,$P$4,'01'!B13:V13) -> 0 | C15: =+SUMIF('01'!$B$2:$V$2,$P$4,'02'!B13:V13) -> 0 | AG15: =+SUM(B15:AF15) -> 0 | AH15: =+'02'!W13 -> 0 | AI15: =+AG15+AH15 -> 0
A16: Points livrés en agence | B16: =+SUMIF('01'!$B$2:$V$2,$P$4,'01'!B14:V14) -> 0 | C16: =+SUMIF('01'!$B$2:$V$2,$P$4,'02'!B14:V14) -> 0 | AG16: =+SUM(B16:AF16) -> 0 | AH16: =+'02'!W14 -> 0 | AI16: =+AG16+AH16 -> 0
A17: Pénalités générées | B17: =+SUMIF('01'!$B$2:$V$2,$P$4,'01'!B15:V15) -> 0 | C17: =+SUMIF('01'!$B$2:$V$2,$P$4,'02'!B15:V15) -> 0 | AG17: =+SUM(B17:AF17) -> 0 | AH17: =+'02'!W15 -> 0 | AI17: =+AG17+AH17 -> 0
A18: COHERENCE CHIFFRES | B18: =+IF(B6+B13=B7+B8+B9+B10+B11+B12+B14+B15,"OK","ERREUR") -> OK | C18: =+IF(C6+C13=C7+C8+C9+C10+C11+C12+C14+C15,"OK","ERREUR") -> OK | D18: =+IF(D6+D13=D7+D8+D9+D10+D11+D12+D14+D15,"OK","ERREUR") -> OK | E18: =+IF(E6+E13=E7+E8+E9+E10+E11+E12+E14+E15,"OK","ERREUR") -> OK | F18: =+IF(F6+F13=F7+F8+F9+F10+F11+F12+F14+F15,"OK","ERREUR") -> OK | G18: =+IF(G6+G13=G7+G8+G9+G10+G11+G12+G14+G15,"OK","ERREUR") -> OK | H18: =+IF(H6+H13=H7+H8+H9+H10+H11+H12+H14+H15,"OK","ERREUR") -> OK | I18: =+IF(I6+I13=I7+I8+I9+I10+I11+I12+I14+I15,"OK","ERREUR") -> OK | ... AI18: =+IF(AI6+AI13=AI7+AI8+AI9+AI10+AI11+AI12+AI14+AI15,"OK","ERREUR") -> OK
A19: CA DHL du jour
A20: Taux de réussite
A22: CHAUFFEUR | P22: B
A23: Points en WC (relais inclus) | B23: =+SUMIF('01'!$B$2:$V$2,$P$22,'01'!B4:V4) -> 5 | C23: =+SUMIF('01'!$B$2:$V$2,$P$22,'02'!B4:V4) -> 6 | AG23: =+SUM(B23:AF23) -> 11 | AH23: =+'02'!W21 -> 0 | AI23: =+AG23+AH23 -> 11
A24: Points OK | B24: =+SUMIF('01'!$B$2:$V$2,$P$22,'01'!B5:V5) -> 4 | C24: =+SUMIF('01'!$B$2:$V$2,$P$22,'02'!B5:V5) -> 5 | AG24: =+SUM(B24:AF24) -> 9 | AH24: =+'02'!W22 -> 0 | AI24: =+AG24+AH24 -> 9
A25: Points Neighbour | B25: =+SUMIF('01'!$B$2:$V$2,$P$22,'01'!B6:V6) -> 1 | C25: =+SUMIF('01'!$B$2:$V$2,$P$22,'02'!B6:V6) -> 1 | AG25: =+SUM(B25:AF25) -> 2 | AH25: =+'02'!W23 -> 0 | AI25: =+AG25+AH25 -> 2
A26: Points refusés | B26: =+SUMIF('01'!$B$2:$V$2,$P$22,'01'!B7:V7) -> 0 | C26: =+SUMIF('01'!$B$2:$V$2,$P$22,'02'!B7:V7) -> 0 | AG26: =+SUM(B26:AF26) -> 0 | AH26: =+'02'!W24 -> 0 | AI26: =+AG26+AH26 -> 0
A27: Nombre de points relais | B27: =+SUMIF('01'!$B$2:$V$2,$P$22,'01'!B8:V8) -> 0 | C27: =+SUMIF('01'!$B$2:$V$2,$P$22,'02'!B8:V8) -> 0 | AG27: =+SUM(B27:AF27) -> 0 | AH27: =+'02'!W25 -> 0 | AI27: =+AG27+AH27 -> 0
A28: Points avisés CC | B28: =+SUMIF('01'!$B$2:$V$2,$P$22,'01'!B9:V9) -> 0 | C28: =+SUMIF('01'!$B$2:$V$2,$P$22,'02'!B9:V9) -> 0 | AG28: =+SUM(B28:AF28) -> 0 | AH28: =+'02'!W26 -> 0 | AI28: =+AG28+AH28 -> 0
A29: Points en retour | B29: =+SUMIF('01'!$B$2:$V$2,$P$22,'01'!B10:V10) -> 0 | C29: =+SUMIF('01'!$B$2:$V$2,$P$22,'02'!B10:V10) -> 0 | AG29: =+SUM(B29:AF29) -> 0 | AH29: =+'02'!W27 -> 0 | AI29: =+AG29+AH29 -> 0
A30: Collectes tentées | B30: =+SUMIF('01'!$B$2:$V$2,$P$22,'01'!B11:V11) -> 0 | C30: =+SUMIF('01'!$B$2:$V$2,$P$22,'02'!B11:V11) -> 0 | AG30: =+SUM(B30:AF30) -> 0 | AH30: =+'02'!W28 -> 0 | AI30: =+AG30+AH30 -> 0
A31: Collectes OK | B31: =+SUMIF('01'!$B$2:$V$2,$P$22,'01'!B12:V12) -> 0 | C31: =+SUMIF('01'!$B$2:$V$2,$P$22,'02'!B12:V12) -> 0 | AG31: =+SUM(B31:AF31) -> 0 | AH31: =+'02'!W29 -> 0 | AI31: =+AG31+AH31 -> 0
A32: Collectes en echec | B32: =+SUMIF('01'!$B$2:$V$2,$P$22,'01'!B13:V13) -> 0 | C32: =+SUMIF('01'!$B$2:$V$2,$P$22,'02'!B13:V13) -> 0 | AG32: =+SUM(B32:AF32) -> 0 | AH32: =+'02'!W30 -> 0 | AI32: =+AG32+AH32 -> 0
A33: Points livrés en agence | B33: =+SUMIF('01'!$B$2:$V$2,$P$22,'01'!B14:V14) -> 0 | C33: =+SUMIF('01'!$B$2:$V$2,$P$22,'02'!B14:V14) -> 0 | AG33: =+SUM(B33:AF33) -> 0 | AH33: =+'02'!W31 -> 0 | AI33: =+AG33+AH33 -> 0
A34: Pénalités générées | B34: =+SUMIF('01'!$B$2:$V$2,$P$22,'01'!B15:V15) -> 0 | C34: =+SUMIF('01'!$B$2:$V$2,$P$22,'02'!B15:V15) -> 0 | AG34: =+SUM(B34:AF34) -> 0 | AH34: =+'02'!W32 -> 0 | AI34: =+AG34+AH34 -> 0
A35: COHERENCE CHIFFRES | B35: =+IF(B23+B30=B24+B25+B26+B27+B28+B29+B31+B32,"OK","ERREUR") -> OK | C35: =+IF(C23+C30=C24+C25+C26+C27+C28+C29+C31+C32,"OK","ERREUR") -> OK | D35: =+IF(D23+D30=D24+D25+D26+D27+D28+D29+D31+D32,"OK","ERREUR") -> OK | E35: =+IF(E23+E30=E24+E25+E26+E27+E28+E29+E31+E32,"OK","ERREUR") -> OK | F35: =+IF(F23+F30=F24+F25+F26+F27+F28+F29+F31+F32,"OK","ERREUR") -> OK | G35: =+IF(G23+G30=G24+G25+G26+G27+G28+G29+G31+G32,"OK","ERREUR") -> OK | H35: =+IF(H23+H30=H24+H25+H26+H27+H28+H29+H31+H32,"OK","ERREUR") -> OK | I35: =+IF(I23+I30=I24+I25+I26+I27+I28+I29+I31+I32,"OK","ERREUR") -> OK | ... AI35: =+IF(AI23+AI30=AI24+AI25+AI26+AI27+AI28+AI29+AI31+AI32,"OK","ERREUR") -> OK
A36: CA DHL du jour
A37: Taux de réussite
