Workbook

Sheet VIERGE
I1: JOUR | J1: MOIS | K1: =+#REF! -> #REF! | M1: TOTAL DU JOUR
A2: CHAUFFEUR | B2: A | C2: B | D2: C | E2: D | F2: E | G2: F | H2: G | I2: H | J2: I | K2: J | L2: T
A4: Points en WC (relais inclus) | M4: =+SUM(B4:L4) -> 0
A5: Points OK | M5: =+SUM(B5:L5) -> 0
A6: Points Neighbour | M6: =+SUM(B6:L6) -> 0
A7: Points refusés | M7: =+SUM(B7:L7) -> 0
A8: Nombre de points relais | M8: =+SUM(B8:L8) -> 0
A9: Points avisés CC | M9: =+SUM(B9:L9) -> 0
A10: Points en retour | M10: =+SUM(B10:L10) -> 0
A11: Collectes tentées | M11: =+SUM(B11:L11) -> 0
A12: Collectes OK | M12: =+SUM(B12:L12) -> 0
A13: Collectes en echec | M13: =+SUM(B13:L13) -> 0
A14: Points livrés en agence | M14: =+SUM(B14:L14) -> 0
A15: Pénalités générées | M15: =+SUM(B15:L15) -> 0
A16: COHERENCE CHIFFRES | B16: =+IF(B4+B11=B5+B6+B7+B8+B9+B10+B12+B13,"OK","ERREUR") -> OK | C16: =+IF(C4+C11=C5+C6+C7+C8+C9+C10+C12+C13,"OK","ERREUR") -> OK | D16: =+IF(D4+D11=D5+D6+D7+D8+D9+D10+D12+D13,"OK","ERREUR") -> OK | E16: =+IF(E4+E11=E5+E6+E7+E8+E9+E10+E12+E13,"OK","ERREUR") -> OK | F16: =+IF(F4+F11=F5+F6+F7+F8+F9+F10+F12+F13,"OK","ERREUR") -> OK | G16: =+IF(G4+G11=G5+G6+G7+G8+G9+G10+G12+G13,"OK","ERREUR") -> OK | H16: =+IF(H4+H11=H5+H6+H7+H8+H9+H10+H12+H13,"OK","ERREUR") -> OK | I16: =+IF(I4+I11=I5+I6+I7+I8+I9+I10+I12+I13,"OK","ERREUR") -> OK | ... M16: =+IF(M4+M11=M5+M6+M7+M8+M9+M10+M12+M13,"OK","ERREUR") -> OK
A17: CA DHL du jour
A18: Taux de réussite

Sheet 01
I1: 1 | J1: MARS | K1: =+#REF! -> #REF! | M1: TOTAL DU JOUR
A2: CHAUFFEUR | B2: A | C2: B | D2: C | E2: D | F2: E | G2: F | H2: G | I2: H | J2: I | K2: J | L2: T
A4: Points en WC (relais inclus) | B4: 4 | C4: 5 | M4: =+SUM(B4:L4) -> 9
A5: Points OK | B5: 2 | C5: 2 | M5: =+SUM(B5:L5) -> 4
A6: Points Neighbour | B6: 2 | C6: 3 | M6: =+SUM(B6:L6) -> 5
A7: Points refusés | M7: =+SUM(B7:L7) -> 0
A8: Nombre de points relais | M8: =+SUM(B8:L8) -> 0
A9: Points avisés CC | M9: =+SUM(B9:L9) -> 0
A10: Points en retour | M10: =+SUM(B10:L10) -> 0
A11: Collectes tentées | M11: =+SUM(B11:L11) -> 0
A12: Collectes OK | M12: =+SUM(B12:L12) -> 0
A13: Collectes en echec | M13: =+SUM(B13:L13) -> 0
A14: Points livrés en agence | M14: =+SUM(B14:L14) -> 0
A15: Pénalités générées | M15: =+SUM(B15:L15) -> 0
A16: COHERENCE CHIFFRES | B16: =+IF(B4+B11=B5+B6+B7+B8+B9+B10+B12+B13,"OK","ERREUR") -> OK | C16: =+IF(C4+C11=C5+C6+C7+C8+C9+C10+C12+C13,"OK","ERREUR") -> OK | D16: =+IF(D4+D11=D5+D6+D7+D8+D9+D10+D12+D13,"OK","ERREUR") -> OK | E16: =+IF(E4+E11=E5+E6+E7+E8+E9+E10+E12+E13,"OK","ERREUR") -> OK | F16: =+IF(F4+F11=F5+F6+F7+F8+F9+F10+F12+F13,"OK","ERREUR") -> OK | G16: =+IF(G4+G11=G5+G6+G7+G8+G9+G10+G12+G13,"OK","ERREUR") -> OK | H16: =+IF(H4+H11=H5+H6+H7+H8+H9+H10+H12+H13,"OK","ERREUR") -> OK | I16: =+IF(I4+I11=I5+I6+I7+I8+I9+I10+I12+I13,"OK","ERREUR") -> OK | ... M16: =+IF(M4+M11=M5+M6+M7+M8+M9+M10+M12+M13,"OK","ERREUR") -> OK
A17: CA DHL du jour
A18: Taux de réussite

Sheet 02
I1: 2 | J1: =+'01'!$J$1 -> MARS | K1: =+#REF! -> #REF! | M1: TOTAL DU JOUR | N1: REPORT PRECEDENT | O1: TOTAL CUMULE
A2: CHAUFFEUR | B2: A | C2: B | D2: C | E2: D | F2: E | G2: F | H2: G | I2: H | J2: I | K2: J | L2: T
A4: Points en WC (relais inclus) | M4: =+SUM(B4:L4) -> 0 | N4: =+'01'!M4 -> 9 | O4: =+M4+N4 -> 9
A5: Points OK | M5: =+SUM(B5:L5) -> 0 | N5: =+'01'!M5 -> 4 | O5: =+M5+N5 -> 4
A6: Points Neighbour | M6: =+SUM(B6:L6) -> 0 | N6: =+'01'!M6 -> 5 | O6: =+M6+N6 -> 5
A7: Points refusés | M7: =+SUM(B7:L7) -> 0 | N7: =+'01'!M7 -> 0 | O7: =+M7+N7 -> 0
A8: Nombre de points relais | M8: =+SUM(B8:L8) -> 0 | N8: =+'01'!M8 -> 0 | O8: =+M8+N8 -> 0
A9: Points avisés CC | M9: =+SUM(B9:L9) -> 0 | N9: =+'01'!M9 -> 0 | O9: =+M9+N9 -> 0
A10: Points en retour | M10: =+SUM(B10:L10) -> 0 | N10: =+'01'!M10 -> 0 | O10: =+M10+N10 -> 0
A11: Collectes tentées | M11: =+SUM(B11:L11) -> 0 | N11: =+'01'!M11 -> 0 | O11: =+M11+N11 -> 0
A12: Collectes OK | M12: =+SUM(B12:L12) -> 0 | N12: =+'01'!M12 -> 0 | O12: =+M12+N12 -> 0
A13: Collectes en echec | M13: =+SUM(B13:L13) -> 0 | N13: =+'01'!M13 -> 0 | O13: =+M13+N13 -> 0
A14: Points livrés en agence | M14: =+SUM(B14:L14) -> 0 | N14: =+'01'!M14 -> 0 | O14: =+M14+N14 -> 0
A15: Pénalités générées | M15: =+SUM(B15:L15) -> 0 | N15: =+'01'!M15 -> 0 | O15: =+M15+N15 -> 0
A16: COHERENCE CHIFFRES | B16: =+IF(B4+B11=B5+B6+B7+B8+B9+B10+B12+B13,"OK","ERREUR") -> OK | C16: =+IF(C4+C11=C5+C6+C7+C8+C9+C10+C12+C13,"OK","ERREUR") -> OK | D16: =+IF(D4+D11=D5+D6+D7+D8+D9+D10+D12+D13,"OK","ERREUR") -> OK | E16: =+IF(E4+E11=E5+E6+E7+E8+E9+E10+E12+E13,"OK","ERREUR") -> OK | F16: =+IF(F4+F11=F5+F6+F7+F8+F9+F10+F12+F13,"OK","ERREUR") -> OK | G16: =+IF(G4+G11=G5+G6+G7+G8+G9+G10+G12+G13,"OK","ERREUR") -> OK | H16: =+IF(H4+H11=H5+H6+H7+H8+H9+H10+H12+H13,"OK","ERREUR") -> OK | I16: =+IF(I4+I11=I5+I6+I7+I8+I9+I10+I12+I13,"OK","ERREUR") -> OK | ... O16: =+IF(O4+O11=O5+O6+O7+O8+O9+O10+O12+O13,"OK","ERREUR") -> OK
A17: CA DHL du jour
A18: Taux de réussite

Sheet 03
I1: 3 | J1: =+'01'!$J$1 -> MARS | K1: =+#REF! -> #REF! | M1: TOTAL DU JOUR | N1: REPORT PRECEDENT | O1: TOTAL CUMULE
A2: CHAUFFEUR | B2: A | C2: B | D2: C | E2: D | F2: E | G2: F | H2: G | I2: H | J2: I | K2: J | L2: T
A4: Points en WC (relais inclus) | M4: =+SUM(B4:L4) -> 0 | N4: =+'02'!M4 -> 0 | O4: =+M4+N4 -> 0
A5: Points OK | M5: =+SUM(B5:L5) -> 0 | N5: =+'02'!M5 -> 0 | O5: =+M5+N5 -> 0
A6: Points Neighbour | M6: =+SUM(B6:L6) -> 0 | N6: =+'02'!M6 -> 0 | O6: =+M6+N6 -> 0
A7: Points refusés | M7: =+SUM(B7:L7) -> 0 | N7: =+'02'!M7 -> 0 | O7: =+M7+N7 -> 0
A8: Nombre de points relais | M8: =+SUM(B8:L8) -> 0 | N8: =+'02'!M8 -> 0 | O8: =+M8+N8 -> 0
A9: Points avisés CC | M9: =+SUM(B9:L9) -> 0 | N9: =+'02'!M9 -> 0 | O9: =+M9+N9 -> 0
A10: Points en retour | M10: =+SUM(B10:L10) -> 0 | N10: =+'02'!M10 -> 0 | O10: =+M10+N10 -> 0
A11: Collectes tentées | M11: =+SUM(B11:L11) -> 0 | N11: =+'02'!M11 -> 0 | O11: =+M11+N11 -> 0
A12: Collectes OK | M12: =+SUM(B12:L12) -> 0 | N12: =+'02'!M12 -> 0 | O12: =+M12+N12 -> 0
A13: Collectes en echec | M13: =+SUM(B13:L13) -> 0 | N13: =+'02'!M13 -> 0 | O13: =+M13+N13 -> 0
A14: Points livrés en agence | M14: =+SUM(B14:L14) -> 0 | N14: =+'02'!M14 -> 0 | O14: =+M14+N14 -> 0
A15: Pénalités générées | M15: =+SUM(B15:L15) -> 0 | N15: =+'02'!M15 -> 0 | O15: =+M15+N15 -> 0
A16: COHERENCE CHIFFRES | B16: =+IF(B4+B11=B5+B6+B7+B8+B9+B10+B12+B13,"OK","ERREUR") -> OK | C16: =+IF(C4+C11=C5+C6+C7+C8+C9+C10+C12+C13,"OK","ERREUR") -> OK | D16: =+IF(D4+D11=D5+D6+D7+D8+D9+D10+D12+D13,"OK","ERREUR") -> OK | E16: =+IF(E4+E11=E5+E6+E7+E8+E9+E10+E12+E13,"OK","ERREUR") -> OK | F16: =+IF(F4+F11=F5+F6+F7+F8+F9+F10+F12+F13,"OK","ERREUR") -> OK | G16: =+IF(G4+G11=G5+G6+G7+G8+G9+G10+G12+G13,"OK","ERREUR") -> OK | H16: =+IF(H4+H11=H5+H6+H7+H8+H9+H10+H12+H13,"OK","ERREUR") -> OK | I16: =+IF(I4+I11=I5+I6+I7+I8+I9+I10+I12+I13,"OK","ERREUR") -> OK | ... O16: =+IF(O4+O11=O5+O6+O7+O8+O9+O10+O12+O13,"OK","ERREUR") -> OK
A17: CA DHL du jour
A18: Taux de réussite

Sheet 04
I1: 4 | J1: =+'01'!$J$1 -> MARS | K1: =+#REF! -> #REF! | M1: TOTAL DU JOUR | N1: REPORT PRECEDENT | O1: TOTAL CUMULE
A2: CHAUFFEUR | B2: A | C2: B | D2: C | E2: D | F2: E | G2: F | H2: G | I2: H | J2: I | K2: J | L2: T
A4: Points en WC (relais inclus) | M4: =+SUM(B4:L4) -> 0 | N4: =+'03'!M4 -> 0 | O4: =+M4+N4 -> 0
A5: Points OK | M5: =+SUM(B5:L5) -> 0 | N5: =+'03'!M5 -> 0 | O5: =+M5+N5 -> 0
A6: Points Neighbour | M6: =+SUM(B6:L6) -> 0 | N6: =+'03'!M6 -> 0 | O6: =+M6+N6 -> 0
A7: Points refusés | M7: =+SUM(B7:L7) -> 0 | N7: =+'03'!M7 -> 0 | O7: =+M7+N7 -> 0
A8: Nombre de points relais | M8: =+SUM(B8:L8) -> 0 | N8: =+'03'!M8 -> 0 | O8: =+M8+N8 -> 0
A9: Points avisés CC | M9: =+SUM(B9:L9) -> 0 | N9: =+'03'!M9 -> 0 | O9: =+M9+N9 -> 0
A10: Points en retour | M10: =+SUM(B10:L10) -> 0 | N10: =+'03'!M10 -> 0 | O10: =+M10+N10 -> 0
A11: Collectes tentées | M11: =+SUM(B11:L11) -> 0 | N11: =+'03'!M11 -> 0 | O11: =+M11+N11 -> 0
A12: Collectes OK | M12: =+SUM(B12:L12) -> 0 | N12: =+'03'!M12 -> 0 | O12: =+M12+N12 -> 0
A13: Collectes en echec | M13: =+SUM(B13:L13) -> 0 | N13: =+'03'!M13 -> 0 | O13: =+M13+N13 -> 0
A14: Points livrés en agence | M14: =+SUM(B14:L14) -> 0 | N14: =+'03'!M14 -> 0 | O14: =+M14+N14 -> 0
A15: Pénalités générées | M15: =+SUM(B15:L15) -> 0 | N15: =+'03'!M15 -> 0 | O15: =+M15+N15 -> 0
A16: COHERENCE CHIFFRES | B16: =+IF(B4+B11=B5+B6+B7+B8+B9+B10+B12+B13,"OK","ERREUR") -> OK | C16: =+IF(C4+C11=C5+C6+C7+C8+C9+C10+C12+C13,"OK","ERREUR") -> OK | D16: =+IF(D4+D11=D5+D6+D7+D8+D9+D10+D12+D13,"OK","ERREUR") -> OK | E16: =+IF(E4+E11=E5+E6+E7+E8+E9+E10+E12+E13,"OK","ERREUR") -> OK | F16: =+IF(F4+F11=F5+F6+F7+F8+F9+F10+F12+F13,"OK","ERREUR") -> OK | G16: =+IF(G4+G11=G5+G6+G7+G8+G9+G10+G12+G13,"OK","ERREUR") -> OK | H16: =+IF(H4+H11=H5+H6+H7+H8+H9+H10+H12+H13,"OK","ERREUR") -> OK | I16: =+IF(I4+I11=I5+I6+I7+I8+I9+I10+I12+I13,"OK","ERREUR") -> OK | ... O16: =+IF(O4+O11=O5+O6+O7+O8+O9+O10+O12+O13,"OK","ERREUR") -> OK
A17: CA DHL du jour
A18: Taux de réussite

Sheet 05
I1: 5 | J1: =+'01'!$J$1 -> MARS | K1: =+#REF! -> #REF! | M1: TOTAL DU JOUR | N1: REPORT PRECEDENT | O1: TOTAL CUMULE
A2: CHAUFFEUR | B2: A | C2: B | D2: C | E2: D | F2: E | G2: F | H2: G | I2: H | J2: I | K2: J | L2: T
A4: Points en WC (relais inclus) | M4: =+SUM(B4:L4) -> 0 | N4: =+'04'!M4 -> 0 | O4: =+M4+N4 -> 0
A5: Points OK | M5: =+SUM(B5:L5) -> 0 | N5: =+'04'!M5 -> 0 | O5: =+M5+N5 -> 0
A6: Points Neighbour | M6: =+SUM(B6:L6) -> 0 | N6: =+'04'!M6 -> 0 | O6: =+M6+N6 -> 0
A7: Points refusés | M7: =+SUM(B7:L7) -> 0 | N7: =+'04'!M7 -> 0 | O7: =+M7+N7 -> 0
A8: Nombre de points relais | M8: =+SUM(B8:L8) -> 0 | N8: =+'04'!M8 -> 0 | O8: =+M8+N8 -> 0
A9: Points avisés CC | M9: =+SUM(B9:L9) -> 0 | N9: =+'04'!M9 -> 0 | O9: =+M9+N9 -> 0
A10: Points en retour | M10: =+SUM(B10:L10) -> 0 | N10: =+'04'!M10 -> 0 | O10: =+M10+N10 -> 0
A11: Collectes tentées | M11: =+SUM(B11:L11) -> 0 | N11: =+'04'!M11 -> 0 | O11: =+M11+N11 -> 0
A12: Collectes OK | M12: =+SUM(B12:L12) -> 0 | N12: =+'04'!M12 -> 0 | O12: =+M12+N12 -> 0
A13: Collectes en echec | M13: =+SUM(B13:L13) -> 0 | N13: =+'04'!M13 -> 0 | O13: =+M13+N13 -> 0
A14: Points livrés en agence | M14: =+SUM(B14:L14) -> 0 | N14: =+'04'!M14 -> 0 | O14: =+M14+N14 -> 0
A15: Pénalités générées | M15: =+SUM(B15:L15) -> 0 | N15: =+'04'!M15 -> 0 | O15: =+M15+N15 -> 0
A16: COHERENCE CHIFFRES | B16: =+IF(B4+B11=B5+B6+B7+B8+B9+B10+B12+B13,"OK","ERREUR") -> OK | C16: =+IF(C4+C11=C5+C6+C7+C8+C9+C10+C12+C13,"OK","ERREUR") -> OK | D16: =+IF(D4+D11=D5+D6+D7+D8+D9+D10+D12+D13,"OK","ERREUR") -> OK | E16: =+IF(E4+E11=E5+E6+E7+E8+E9+E10+E12+E13,"OK","ERREUR") -> OK | F16: =+IF(F4+F11=F5+F6+F7+F8+F9+F10+F12+F13,"OK","ERREUR") -> OK | G16: =+IF(G4+G11=G5+G6+G7+G8+G9+G10+G12+G13,"OK","ERREUR") -> OK | H16: =+IF(H4+H11=H5+H6+H7+H8+H9+H10+H12+H13,"OK","ERREUR") -> OK | I16: =+IF(I4+I11=I5+I6+I7+I8+I9+I10+I12+I13,"OK","ERREUR") -> OK | ... O16: =+IF(O4+O11=O5+O6+O7+O8+O9+O10+O12+O13,"OK","ERREUR") -> OK
A17: CA DHL du jour
A18: Taux de réussite

Sheet 06
I1: 6 | J1: =+'01'!$J$1 -> MARS | K1: =+#REF! -> #REF! | M1: TOTAL DU JOUR | N1: REPORT PRECEDENT | O1: TOTAL CUMULE
A2: CHAUFFEUR | B2: A | C2: B | D2: C | E2: D | F2: E | G2: F | H2: G | I2: H | J2: I | K2: J | L2: T
A4: Points en WC (relais inclus) | M4: =+SUM(B4:L4) -> 0 | N4: =+'05'!M4 -> 0 | O4: =+M4+N4 -> 0
A5: Points OK | M5: =+SUM(B5:L5) -> 0 | N5: =+'05'!M5 -> 0 | O5: =+M5+N5 -> 0
A6: Points Neighbour | M6: =+SUM(B6:L6) -> 0 | N6: =+'05'!M6 -> 0 | O6: =+M6+N6 -> 0
A7: Points refusés | M7: =+SUM(B7:L7) -> 0 | N7: =+'05'!M7 -> 0 | O7: =+M7+N7 -> 0
A8: Nombre de points relais | M8: =+SUM(B8:L8) -> 0 | N8: =+'05'!M8 -> 0 | O8: =+M8+N8 -> 0
A9: Points avisés CC | M9: =+SUM(B9:L9) -> 0 | N9: =+'05'!M9 -> 0 | O9: =+M9+N9 -> 0
A10: Points en retour | M10: =+SUM(B10:L10) -> 0 | N10: =+'05'!M10 -> 0 | O10: =+M10+N10 -> 0
A11: Collectes tentées | M11: =+SUM(B11:L11) -> 0 | N11: =+'05'!M11 -> 0 | O11: =+M11+N11 -> 0
A12: Collectes OK | M12: =+SUM(B12:L12) -> 0 | N12: =+'05'!M12 -> 0 | O12: =+M12+N12 -> 0
A13: Collectes en echec | M13: =+SUM(B13:L13) -> 0 | N13: =+'05'!M13 -> 0 | O13: =+M13+N13 -> 0
A14: Points livrés en agence | M14: =+SUM(B14:L14) -> 0 | N14: =+'05'!M14 -> 0 | O14: =+M14+N14 -> 0
A15: Pénalités générées | M15: =+SUM(B15:L15) -> 0 | N15: =+'05'!M15 -> 0 | O15: =+M15+N15 -> 0
A16: COHERENCE CHIFFRES | B16: =+IF(B4+B11=B5+B6+B7+B8+B9+B10+B12+B13,"OK","ERREUR") -> OK | C16: =+IF(C4+C11=C5+C6+C7+C8+C9+C10+C12+C13,"OK","ERREUR") -> OK | D16: =+IF(D4+D11=D5+D6+D7+D8+D9+D10+D12+D13,"OK","ERREUR") -> OK | E16: =+IF(E4+E11=E5+E6+E7+E8+E9+E10+E12+E13,"OK","ERREUR") -> OK | F16: =+IF(F4+F11=F5+F6+F7+F8+F9+F10+F12+F13,"OK","ERREUR") -> OK | G16: =+IF(G4+G11=G5+G6+G7+G8+G9+G10+G12+G13,"OK","ERREUR") -> OK | H16: =+IF(H4+H11=H5+H6+H7+H8+H9+H10+H12+H13,"OK","ERREUR") -> OK | I16: =+IF(I4+I11=I5+I6+I7+I8+I9+I10+I12+I13,"OK","ERREUR") -> OK | ... O16: =+IF(O4+O11=O5+O6+O7+O8+O9+O10+O12+O13,"OK","ERREUR") -> OK
A17: CA DHL du jour
A18: Taux de réussite

Sheet 07
I1: 7 | J1: =+'01'!$J$1 -> MARS | K1: =+#REF! -> #REF! | M1: TOTAL DU JOUR | N1: REPORT PRECEDENT | O1: TOTAL CUMULE
A2: CHAUFFEUR | B2: A | C2: B | D2: C | E2: D | F2: E | G2: F | H2: G | I2: H | J2: I | K2: J | L2: T
A4: Points en WC (relais inclus) | M4: =+SUM(B4:L4) -> 0 | N4: =+'06'!M4 -> 0 | O4: =+M4+N4 -> 0
A5: Points OK | M5: =+SUM(B5:L5) -> 0 | N5: =+'06'!M5 -> 0 | O5: =+M5+N5 -> 0
A6: Points Neighbour | M6: =+SUM(B6:L6) -> 0 | N6: =+'06'!M6 -> 0 | O6: =+M6+N6 -> 0
A7: Points refusés | M7: =+SUM(B7:L7) -> 0 | N7: =+'06'!M7 -> 0 | O7: =+M7+N7 -> 0
A8: Nombre de points relais | M8: =+SUM(B8:L8) -> 0 | N8: =+'06'!M8 -> 0 | O8: =+M8+N8 -> 0
A9: Points avisés CC | M9: =+SUM(B9:L9) -> 0 | N9: =+'06'!M9 -> 0 | O9: =+M9+N9 -> 0
A10: Points en retour | M10: =+SUM(B10:L10) -> 0 | N10: =+'06'!M10 -> 0 | O10: =+M10+N10 -> 0
A11: Collectes tentées | M11: =+SUM(B11:L11) -> 0 | N11: =+'06'!M11 -> 0 | O11: =+M11+N11 -> 0
A12: Collectes OK | M12: =+SUM(B12:L12) -> 0 | N12: =+'06'!M12 -> 0 | O12: =+M12+N12 -> 0
A13: Collectes en echec | M13: =+SUM(B13:L13) -> 0 | N13: =+'06'!M13 -> 0 | O13: =+M13+N13 -> 0
A14: Points livrés en agence | M14: =+SUM(B14:L14) -> 0 | N14: =+'06'!M14 -> 0 | O14: =+M14+N14 -> 0
A15: Pénalités générées | M15: =+SUM(B15:L15) -> 0 | N15: =+'06'!M15 -> 0 | O15: =+M15+N15 -> 0
A16: COHERENCE CHIFFRES | B16: =+IF(B4+B11=B5+B6+B7+B8+B9+B10+B12+B13,"OK","ERREUR") -> OK | C16: =+IF(C4+C11=C5+C6+C7+C8+C9+C10+C12+C13,"OK","ERREUR") -> OK | D16: =+IF(D4+D11=D5+D6+D7+D8+D9+D10+D12+D13,"OK","ERREUR") -> OK | E16: =+IF(E4+E11=E5+E6+E7+E8+E9+E10+E12+E13,"OK","ERREUR") -> OK | F16: =+IF(F4+F11=F5+F6+F7+F8+F9+F10+F12+F13,"OK","ERREUR") -> OK | G16: =+IF(G4+G11=G5+G6+G7+G8+G9+G10+G12+G13,"OK","ERREUR") -> OK | H16: =+IF(H4+H11=H5+H6+H7+H8+H9+H10+H12+H13,"OK","ERREUR") -> OK | I16: =+IF(I4+I11=I5+I6+I7+I8+I9+I10+I12+I13,"OK","ERREUR") -> OK | ... O16: =+IF(O4+O11=O5+O6+O7+O8+O9+O10+O12+O13,"OK","ERREUR") -> OK
A17: CA DHL du jour
A18: Taux de réussite

Sheet 08
I1: 8 | J1: =+'01'!$J$1 -> MARS | K1: =+#REF! -> #REF! | M1: TOTAL DU JOUR | N1: REPORT PRECEDENT | O1: TOTAL CUMULE
A2: CHAUFFEUR | B2: A | C2: B | D2: C | E2: D | F2: E | G2: F | H2: G | I2: H | J2: I | K2: J | L2: T
A4: Points en WC (relais inclus) | M4: =+SUM(B4:L4) -> 0 | N4: =+'07'!M4 -> 0 | O4: =+M4+N4 -> 0
A5: Points OK | M5: =+SUM(B5:L5) -> 0 | N5: =+'07'!M5 -> 0 | O5: =+M5+N5 -> 0
A6: Points Neighbour | M6: =+SUM(B6:L6) -> 0 | N6: =+'07'!M6 -> 0 | O6: =+M6+N6 -> 0
A7: Points refusés | M7: =+SUM(B7:L7) -> 0 | N7: =+'07'!M7 -> 0 | O7: =+M7+N7 -> 0
A8: Nombre de points relais | M8: =+SUM(B8:L8) -> 0 | N8: =+'07'!M8 -> 0 | O8: =+M8+N8 -> 0
A9: Points avisés CC | M9: =+SUM(B9:L9) -> 0 | N9: =+'07'!M9 -> 0 | O9: =+M9+N9 -> 0
A10: Points en retour | M10: =+SUM(B10:L10) -> 0 | N10: =+'07'!M10 -> 0 | O10: =+M10+N10 -> 0
A11: Collectes tentées | M11: =+SUM(B11:L11) -> 0 | N11: =+'07'!M11 -> 0 | O11: =+M11+N11 -> 0
A12: Collectes OK | M12: =+SUM(B12:L12) -> 0 | N12: =+'07'!M12 -> 0 | O12: =+M12+N12 -> 0
A13: Collectes en echec | M13: =+SUM(B13:L13) -> 0 | N13: =+'07'!M13 -> 0 | O13: =+M13+N13 -> 0
A14: Points livrés en agence | M14: =+SUM(B14:L14) -> 0 | N14: =+'07'!M14 -> 0 | O14: =+M14+N14 -> 0
A15: Pénalités générées | M15: =+SUM(B15:L15) -> 0 | N15: =+'07'!M15 -> 0 | O15: =+M15+N15 -> 0
A16: COHERENCE CHIFFRES | B16: =+IF(B4+B11=B5+B6+B7+B8+B9+B10+B12+B13,"OK","ERREUR") -> OK | C16: =+IF(C4+C11=C5+C6+C7+C8+C9+C10+C12+C13,"OK","ERREUR") -> OK | D16: =+IF(D4+D11=D5+D6+D7+D8+D9+D10+D12+D13,"OK","ERREUR") -> OK | E16: =+IF(E4+E11=E5+E6+E7+E8+E9+E10+E12+E13,"OK","ERREUR") -> OK | F16: =+IF(F4+F11=F5+F6+F7+F8+F9+F10+F12+F13,"OK","ERREUR") -> OK | G16: =+IF(G4+G11=G5+G6+G7+G8+G9+G10+G12+G13,"OK","ERREUR") -> OK | H16: =+IF(H4+H11=H5+H6+H7+H8+H9+H10+H12+H13,"OK","ERREUR") -> OK | I16: =+IF(I4+I11=I5+I6+I7+I8+I9+I10+I12+I13,"OK","ERREUR") -> OK | ... O16: =+IF(O4+O11=O5+O6+O7+O8+O9+O10+O12+O13,"OK","ERREUR") -> OK
A17: CA DHL du jour
A18: Taux de réussite

Sheet 09
I1: 9 | J1: =+'01'!$J$1 -> MARS | K1: =+#REF! -> #REF! | M1: TOTAL DU JOUR | N1: REPORT PRECEDENT | O1: TOTAL CUMULE
A2: CHAUFFEUR | B2: A | C2: B | D2: C | E2: D | F2: E | G2: F | H2: G | I2: H | J2: I | K2: J | L2: T
A4: Points en WC (relais inclus) | M4: =+SUM(B4:L4) -> 0 | N4: =+'08'!M4 -> 0 | O4: =+M4+N4 -> 0
A5: Points OK | M5: =+SUM(B5:L5) -> 0 | N5: =+'08'!M5 -> 0 | O5: =+M5+N5 -> 0
A6: Points Neighbour | M6: =+SUM(B6:L6) -> 0 | N6: =+'08'!M6 -> 0 | O6: =+M6+N6 -> 0
A7: Points refusés | M7: =+SUM(B7:L7) -> 0 | N7: =+'08'!M7 -> 0 | O7: =+M7+N7 -> 0
A8: Nombre de points relais | M8: =+SUM(B8:L8) -> 0 | N8: =+'08'!M8 -> 0 | O8: =+M8+N8 -> 0
A9: Points avisés CC | M9: =+SUM(B9:L9) -> 0 | N9: =+'08'!M9 -> 0 | O9: =+M9+N9 -> 0
A10: Points en retour | M10: =+SUM(B10:L10) -> 0 | N10: =+'08'!M10 -> 0 | O10: =+M10+N10 -> 0
A11: Collectes tentées | M11: =+SUM(B11:L11) -> 0 | N11: =+'08'!M11 -> 0 | O11: =+M11+N11 -> 0
A12: Collectes OK | M12: =+SUM(B12:L12) -> 0 | N12: =+'08'!M12 -> 0 | O12: =+M12+N12 -> 0
A13: Collectes en echec | M13: =+SUM(B13:L13) -> 0 | N13: =+'08'!M13 -> 0 | O13: =+M13+N13 -> 0
A14: Points livrés en agence | M14: =+SUM(B14:L14) -> 0 | N14: =+'08'!M14 -> 0 | O14: =+M14+N14 -> 0
A15: Pénalités générées | M15: =+SUM(B15:L15) -> 0 | N15: =+'08'!M15 -> 0 | O15: =+M15+N15 -> 0
A16: COHERENCE CHIFFRES | B16: =+IF(B4+B11=B5+B6+B7+B8+B9+B10+B12+B13,"OK","ERREUR") -> OK | C16: =+IF(C4+C11=C5+C6+C7+C8+C9+C10+C12+C13,"OK","ERREUR") -> OK | D16: =+IF(D4+D11=D5+D6+D7+D8+D9+D10+D12+D13,"OK","ERREUR") -> OK | E16: =+IF(E4+E11=E5+E6+E7+E8+E9+E10+E12+E13,"OK","ERREUR") -> OK | F16: =+IF(F4+F11=F5+F6+F7+F8+F9+F10+F12+F13,"OK","ERREUR") -> OK | G16: =+IF(G4+G11=G5+G6+G7+G8+G9+G10+G12+G13,"OK","ERREUR") -> OK | H16: =+IF(H4+H11=H5+H6+H7+H8+H9+H10+H12+H13,"OK","ERREUR") -> OK | I16: =+IF(I4+I11=I5+I6+I7+I8+I9+I10+I12+I13,"OK","ERREUR") -> OK | ... O16: =+IF(O4+O11=O5+O6+O7+O8+O9+O10+O12+O13,"OK","ERREUR") -> OK
A17: CA DHL du jour
A18: Taux de réussite

Sheet 10
I1: 10 | J1: =+'01'!$J$1 -> MARS | K1: =+#REF! -> #REF! | M1: TOTAL DU JOUR | N1: REPORT PRECEDENT | O1: TOTAL CUMULE
A2: CHAUFFEUR | B2: A | C2: B | D2: C | E2: D | F2: E | G2: F | H2: G | I2: H | J2: I | K2: J | L2: T
A4: Points en WC (relais inclus) | M4: =+SUM(B4:L4) -> 0 | N4: =+SUM('09'!N4) -> 0 | O4: =+M4+N4 -> 0
A5: Points OK | M5: =+SUM(B5:L5) -> 0 | N5: =+SUM('09'!N5) -> 0 | O5: =+M5+N5 -> 0
A6: Points Neighbour | M6: =+SUM(B6:L6) -> 0 | N6: =+SUM('09'!N6) -> 0 | O6: =+M6+N6 -> 0
A7: Points refusés | M7: =+SUM(B7:L7) -> 0 | N7: =+SUM('09'!N7) -> 0 | O7: =+M7+N7 -> 0
A8: Nombre de points relais | M8: =+SUM(B8:L8) -> 0 | N8: =+SUM('09'!N8) -> 0 | O8: =+M8+N8 -> 0
A9: Points avisés CC | M9: =+SUM(B9:L9) -> 0 | N9: =+SUM('09'!N9) -> 0 | O9: =+M9+N9 -> 0
A10: Points en retour | M10: =+SUM(B10:L10) -> 0 | N10: =+SUM('09'!N10) -> 0 | O10: =+M10+N10 -> 0
A11: Collectes tentées | M11: =+SUM(B11:L11) -> 0 | N11: =+SUM('09'!N11) -> 0 | O11: =+M11+N11 -> 0
A12: Collectes OK | M12: =+SUM(B12:L12) -> 0 | N12: =+SUM('09'!N12) -> 0 | O12: =+M12+N12 -> 0
A13: Collectes en echec | M13: =+SUM(B13:L13) -> 0 | N13: =+SUM('09'!N13) -> 0 | O13: =+M13+N13 -> 0
A14: Points livrés en agence | M14: =+SUM(B14:L14) -> 0 | N14: =+SUM('09'!N14) -> 0 | O14: =+M14+N14 -> 0
A15: Pénalités générées | M15: =+SUM(B15:L15) -> 0 | N15: =+SUM('09'!N15) -> 0 | O15: =+M15+N15 -> 0
A16: COHERENCE CHIFFRES | B16: =+IF(B4+B11=B5+B6+B7+B8+B9+B10+B12+B13,"OK","ERREUR") -> OK | C16: =+IF(C4+C11=C5+C6+C7+C8+C9+C10+C12+C13,"OK","ERREUR") -> OK | D16: =+IF(D4+D11=D5+D6+D7+D8+D9+D10+D12+D13,"OK","ERREUR") -> OK | E16: =+IF(E4+E11=E5+E6+E7+E8+E9+E10+E12+E13,"OK","ERREUR") -> OK | F16: =+IF(F4+F11=F5+F6+F7+F8+F9+F10+F12+F13,"OK","ERREUR") -> OK | G16: =+IF(G4+G11=G5+G6+G7+G8+G9+G10+G12+G13,"OK","ERREUR") -> OK | H16: =+IF(H4+H11=H5+H6+H7+H8+H9+H10+H12+H13,"OK","ERREUR") -> OK | I16: =+IF(I4+I11=I5+I6+I7+I8+I9+I10+I12+I13,"OK","ERREUR") -> OK | ... O16: =+IF(O4+O11=O5+O6+O7+O8+O9+O10+O12+O13,"OK","ERREUR") -> OK
A17: CA DHL du jour
A18: Taux de réussite

Sheet 11
I1: 11 | J1: =+'01'!$J$1 -> MARS | K1: =+#REF! -> #REF! | M1: TOTAL DU JOUR | N1: REPORT PRECEDENT | O1: TOTAL CUMULE
A2: CHAUFFEUR | B2: A | C2: B | D2: C | E2: D | F2: E | G2: F | H2: G | I2: H | J2: I | K2: J | L2: T
A4: Points en WC (relais inclus) | M4: =+SUM(B4:L4) -> 0 | N4: =+SUM('10'!N4) -> 0 | O4: =+M4+N4 -> 0
A5: Points OK | M5: =+SUM(B5:L5) -> 0 | N5: =+SUM('10'!N5) -> 0 | O5: =+M5+N5 -> 0
A6: Points Neighbour | M6: =+SUM(B6:L6) -> 0 | N6: =+SUM('10'!N6) -> 0 | O6: =+M6+N6 -> 0
A7: Points refusés | M7: =+SUM(B7:L7) -> 0 | N7: =+SUM('10'!N7) -> 0 | O7: =+M7+N7 -> 0
A8: Nombre de points relais | M8: =+SUM(B8:L8) -> 0 | N8: =+SUM('10'!N8) -> 0 | O8: =+M8+N8 -> 0
A9: Points avisés CC | M9: =+SUM(B9:L9) -> 0 | N9: =+SUM('10'!N9) -> 0 | O9: =+M9+N9 -> 0
A10: Points en retour | M10: =+SUM(B10:L10) -> 0 | N10: =+SUM('10'!N10) -> 0 | O10: =+M10+N10 -> 0
A11: Collectes tentées | M11: =+SUM(B11:L11) -> 0 | N11: =+SUM('10'!N11) -> 0 | O11: =+M11+N11 -> 0
A12: Collectes OK | M12: =+SUM(B12:L12) -> 0 | N12: =+SUM('10'!N12) -> 0 | O12: =+M12+N12 -> 0
A13: Collectes en echec | M13: =+SUM(B13:L13) -> 0 | N13: =+SUM('10'!N13) -> 0 | O13: =+M13+N13 -> 0
A14: Points livrés en agence | M14: =+SUM(B14:L14) -> 0 | N14: =+SUM('10'!N14) -> 0 | O14: =+M14+N14 -> 0
A15: Pénalités générées | M15: =+SUM(B15:L15) -> 0 | N15: =+SUM('10'!N15) -> 0 | O15: =+M15+N15 -> 0
A16: COHERENCE CHIFFRES | B16: =+IF(B4+B11=B5+B6+B7+B8+B9+B10+B12+B13,"OK","ERREUR") -> OK | C16: =+IF(C4+C11=C5+C6+C7+C8+C9+C10+C12+C13,"OK","ERREUR") -> OK | D16: =+IF(D4+D11=D5+D6+D7+D8+D9+D10+D12+D13,"OK","ERREUR") -> OK | E16: =+IF(E4+E11=E5+E6+E7+E8+E9+E10+E12+E13,"OK","ERREUR") -> OK | F16: =+IF(F4+F11=F5+F6+F7+F8+F9+F10+F12+F13,"OK","ERREUR") -> OK | G16: =+IF(G4+G11=G5+G6+G7+G8+G9+G10+G12+G13,"OK","ERREUR") -> OK | H16: =+IF(H4+H11=H5+H6+H7+H8+H9+H10+H12+H13,"OK","ERREUR") -> OK | I16: =+IF(I4+I11=I5+I6+I7+I8+I9+I10+I12+I13,"OK","ERREUR") -> OK | ... O16: =+IF(O4+O11=O5+O6+O7+O8+O9+O10+O12+O13,"OK","ERREUR") -> OK
A17: CA DHL du jour
A18: Taux de réussite

Sheet 12
I1: 12 | J1: =+'01'!$J$1 -> MARS | K1: =+#REF! -> #REF! | M1: TOTAL DU JOUR | N1: REPORT PRECEDENT | O1: TOTAL CUMULE
A2: CHAUFFEUR | B2: A | C2: B | D2: C | E2: D | F2: E | G2: F | H2: G | I2: H | J2: I | K2: J | L2: T
A4: Points en WC (relais inclus) | M4: =+SUM(B4:L4) -> 0 | N4: =+SUM('11'!N4) -> 0 | O4: =+M4+N4 -> 0
A5: Points OK | M5: =+SUM(B5:L5) -> 0 | N5: =+SUM('11'!N5) -> 0 | O5: =+M5+N5 -> 0
A6: Points Neighbour | M6: =+SUM(B6:L6) -> 0 | N6: =+SUM('11'!N6) -> 0 | O6: =+M6+N6 -> 0
A7: Points refusés | M7: =+SUM(B7:L7) -> 0 | N7: =+SUM('11'!N7) -> 0 | O7: =+M7+N7 -> 0
A8: Nombre de points relais | M8: =+SUM(B8:L8) -> 0 | N8: =+SUM('11'!N8) -> 0 | O8: =+M8+N8 -> 0
A9: Points avisés CC | M9: =+SUM(B9:L9) -> 0 | N9: =+SUM('11'!N9) -> 0 | O9: =+M9+N9 -> 0
A10: Points en retour | M10: =+SUM(B10:L10) -> 0 | N10: =+SUM('11'!N10) -> 0 | O10: =+M10+N10 -> 0
A11: Collectes tentées | M11: =+SUM(B11:L11) -> 0 | N11: =+SUM('11'!N11) -> 0 | O11: =+M11+N11 -> 0
A12: Collectes OK | M12: =+SUM(B12:L12) -> 0 | N12: =+SUM('11'!N12) -> 0 | O12: =+M12+N12 -> 0
A13: Collectes en echec | M13: =+SUM(B13:L13) -> 0 | N13: =+SUM('11'!N13) -> 0 | O13: =+M13+N13 -> 0
A14: Points livrés en agence | M14: =+SUM(B14:L14) -> 0 | N14: =+SUM('11'!N14) -> 0 | O14: =+M14+N14 -> 0
A15: Pénalités générées | M15: =+SUM(B15:L15) -> 0 | N15: =+SUM('11'!N15) -> 0 | O15: =+M15+N15 -> 0
A16: COHERENCE CHIFFRES | B16: =+IF(B4+B11=B5+B6+B7+B8+B9+B10+B12+B13,"OK","ERREUR") -> OK | C16: =+IF(C4+C11=C5+C6+C7+C8+C9+C10+C12+C13,"OK","ERREUR") -> OK | D16: =+IF(D4+D11=D5+D6+D7+D8+D9+D10+D12+D13,"OK","ERREUR") -> OK | E16: =+IF(E4+E11=E5+E6+E7+E8+E9+E10+E12+E13,"OK","ERREUR") -> OK | F16: =+IF(F4+F11=F5+F6+F7+F8+F9+F10+F12+F13,"OK","ERREUR") -> OK | G16: =+IF(G4+G11=G5+G6+G7+G8+G9+G10+G12+G13,"OK","ERREUR") -> OK | H16: =+IF(H4+H11=H5+H6+H7+H8+H9+H10+H12+H13,"OK","ERREUR") -> OK | I16: =+IF(I4+I11=I5+I6+I7+I8+I9+I10+I12+I13,"OK","ERREUR") -> OK | ... O16: =+IF(O4+O11=O5+O6+O7+O8+O9+O10+O12+O13,"OK","ERREUR") -> OK
A17: CA DHL du jour
A18: Taux de réussite

Sheet 13
I1: 13 | J1: =+'01'!$J$1 -> MARS | K1: =+#REF! -> #REF! | M1: TOTAL DU JOUR | N1: REPORT PRECEDENT | O1: TOTAL CUMULE
A2: CHAUFFEUR | B2: A | C2: B | D2: C | E2: D | F2: E | G2: F | H2: G | I2: H | J2: I | K2: J | L2: T
A4: Points en WC (relais inclus) | M4: =+SUM(B4:L4) -> 0 | N4: =+SUM('12'!N4) -> 0 | O4: =+M4+N4 -> 0
A5: Points OK | M5: =+SUM(B5:L5) -> 0 | N5: =+SUM('12'!N5) -> 0 | O5: =+M5+N5 -> 0
A6: Points Neighbour | M6: =+SUM(B6:L6) -> 0 | N6: =+SUM('12'!N6) -> 0 | O6: =+M6+N6 -> 0
A7: Points refusés | M7: =+SUM(B7:L7) -> 0 | N7: =+SUM('12'!N7) -> 0 | O7: =+M7+N7 -> 0
A8: Nombre de points relais | M8: =+SUM(B8:L8) -> 0 | N8: =+SUM('12'!N8) -> 0 | O8: =+M8+N8 -> 0
A9: Points avisés CC | M9: =+SUM(B9:L9) -> 0 | N9: =+SUM('12'!N9) -> 0 | O9: =+M9+N9 -> 0
A10: Points en retour | M10: =+SUM(B10:L10) -> 0 | N10: =+SUM('12'!N10) -> 0 | O10: =+M10+N10 -> 0
A11: Collectes tentées | M11: =+SUM(B11:L11) -> 0 | N11: =+SUM('12'!N11) -> 0 | O11: =+M11+N11 -> 0
A12: Collectes OK | M12: =+SUM(B12:L12) -> 0 | N12: =+SUM('12'!N12) -> 0 | O12: =+M12+N12 -> 0
A13: Collectes en echec | M13: =+SUM(B13:L13) -> 0 | N13: =+SUM('12'!N13) -> 0 | O13: =+M13+N13 -> 0
A14: Points livrés en agence | M14: =+SUM(B14:L14) -> 0 | N14: =+SUM('12'!N14) -> 0 | O14: =+M14+N14 -> 0
A15: Pénalités générées | M15: =+SUM(B15:L15) -> 0 | N15: =+SUM('12'!N15) -> 0 | O15: =+M15+N15 -> 0
A16: COHERENCE CHIFFRES | B16: =+IF(B4+B11=B5+B6+B7+B8+B9+B10+B12+B13,"OK","ERREUR") -> OK | C16: =+IF(C4+C11=C5+C6+C7+C8+C9+C10+C12+C13,"OK","ERREUR") -> OK | D16: =+IF(D4+D11=D5+D6+D7+D8+D9+D10+D12+D13,"OK","ERREUR") -> OK | E16: =+IF(E4+E11=E5+E6+E7+E8+E9+E10+E12+E13,"OK","ERREUR") -> OK | F16: =+IF(F4+F11=F5+F6+F7+F8+F9+F10+F12+F13,"OK","ERREUR") -> OK | G16: =+IF(G4+G11=G5+G6+G7+G8+G9+G10+G12+G13,"OK","ERREUR") -> OK | H16: =+IF(H4+H11=H5+H6+H7+H8+H9+H10+H12+H13,"OK","ERREUR") -> OK | I16: =+IF(I4+I11=I5+I6+I7+I8+I9+I10+I12+I13,"OK","ERREUR") -> OK | ... O16: =+IF(O4+O11=O5+O6+O7+O8+O9+O10+O12+O13,"OK","ERREUR") -> OK
A17: CA DHL du jour
A18: Taux de réussite

Sheet 14
I1: 14 | J1: =+'01'!$J$1 -> MARS | K1: =+#REF! -> #REF! | M1: TOTAL DU JOUR | N1: REPORT PRECEDENT | O1: TOTAL CUMULE
A2: CHAUFFEUR | B2: A | C2: B | D2: C | E2: D | F2: E | G2: F | H2: G | I2: H | J2: I | K2: J | L2: T
A4: Points en WC (relais inclus) | M4: =+SUM(B4:L4) -> 0 | N4: =+SUM('13'!N4) -> 0 | O4: =+M4+N4 -> 0
A5: Points OK | M5: =+SUM(B5:L5) -> 0 | N5: =+SUM('13'!N5) -> 0 | O5: =+M5+N5 -> 0
A6: Points Neighbour | M6: =+SUM(B6:L6) -> 0 | N6: =+SUM('13'!N6) -> 0 | O6: =+M6+N6 -> 0
A7: Points refusés | M7: =+SUM(B7:L7) -> 0 | N7: =+SUM('13'!N7) -> 0 | O7: =+M7+N7 -> 0
A8: Nombre de points relais | M8: =+SUM(B8:L8) -> 0 | N8: =+SUM('13'!N8) -> 0 | O8: =+M8+N8 -> 0
A9: Points avisés CC | M9: =+SUM(B9:L9) -> 0 | N9: =+SUM('13'!N9) -> 0 | O9: =+M9+N9 -> 0
A10: Points en retour | M10: =+SUM(B10:L10) -> 0 | N10: =+SUM('13'!N10) -> 0 | O10: =+M10+N10 -> 0
A11: Collectes tentées | M11: =+SUM(B11:L11) -> 0 | N11: =+SUM('13'!N11) -> 0 | O11: =+M11+N11 -> 0
A12: Collectes OK | M12: =+SUM(B12:L12) -> 0 | N12: =+SUM('13'!N12) -> 0 | O12: =+M12+N12 -> 0
A13: Collectes en echec | M13: =+SUM(B13:L13) -> 0 | N13: =+SUM('13'!N13) -> 0 | O13: =+M13+N13 -> 0
A14: Points livrés en agence | M14: =+SUM(B14:L14) -> 0 | N14: =+SUM('13'!N14) -> 0 | O14: =+M14+N14 -> 0
A15: Pénalités générées | M15: =+SUM(B15:L15) -> 0 | N15: =+SUM('13'!N15) -> 0 | O15: =+M15+N15 -> 0
A16: COHERENCE CHIFFRES | B16: =+IF(B4+B11=B5+B6+B7+B8+B9+B10+B12+B13,"OK","ERREUR") -> OK | C16: =+IF(C4+C11=C5+C6+C7+C8+C9+C10+C12+C13,"OK","ERREUR") -> OK | D16: =+IF(D4+D11=D5+D6+D7+D8+D9+D10+D12+D13,"OK","ERREUR") -> OK | E16: =+IF(E4+E11=E5+E6+E7+E8+E9+E10+E12+E13,"OK","ERREUR") -> OK | F16: =+IF(F4+F11=F5+F6+F7+F8+F9+F10+F12+F13,"OK","ERREUR") -> OK | G16: =+IF(G4+G11=G5+G6+G7+G8+G9+G10+G12+G13,"OK","ERREUR") -> OK | H16: =+IF(H4+H11=H5+H6+H7+H8+H9+H10+H12+H13,"OK","ERREUR") -> OK | I16: =+IF(I4+I11=I5+I6+I7+I8+I9+I10+I12+I13,"OK","ERREUR") -> OK | ... O16: =+IF(O4+O11=O5+O6+O7+O8+O9+O10+O12+O13,"OK","ERREUR") -> OK
A17: CA DHL du jour
A18: Taux de réussite

Sheet 15
I1: 15 | J1: =+'01'!$J$1 -> MARS | K1: =+#REF! -> #REF! | M1: TOTAL DU JOUR | N1: REPORT PRECEDENT | O1: TOTAL CUMULE
A2: CHAUFFEUR | B2: A | C2: B | D2: C | E2: D | F2: E | G2: F | H2: G | I2: H | J2: I | K2: J | L2: T
A4: Points en WC (relais inclus) | M4: =+SUM(B4:L4) -> 0 | N4: =+SUM('14'!N4) -> 0 | O4: =+M4+N4 -> 0
A5: Points OK | M5: =+SUM(B5:L5) -> 0 | N5: =+SUM('14'!N5) -> 0 | O5: =+M5+N5 -> 0
A6: Points Neighbour | M6: =+SUM(B6:L6) -> 0 | N6: =+SUM('14'!N6) -> 0 | O6: =+M6+N6 -> 0
A7: Points refusés | M7: =+SUM(B7:L7) -> 0 | N7: =+SUM('14'!N7) -> 0 | O7: =+M7+N7 -> 0
A8: Nombre de points relais | M8: =+SUM(B8:L8) -> 0 | N8: =+SUM('14'!N8) -> 0 | O8: =+M8+N8 -> 0
A9: Points avisés CC | M9: =+SUM(B9:L9) -> 0 | N9: =+SUM('14'!N9) -> 0 | O9: =+M9+N9 -> 0
A10: Points en retour | M10: =+SUM(B10:L10) -> 0 | N10: =+SUM('14'!N10) -> 0 | O10: =+M10+N10 -> 0
A11: Collectes tentées | M11: =+SUM(B11:L11) -> 0 | N11: =+SUM('14'!N11) -> 0 | O11: =+M11+N11 -> 0
A12: Collectes OK | M12: =+SUM(B12:L12) -> 0 | N12: =+SUM('14'!N12) -> 0 | O12: =+M12+N12 -> 0
A13: Collectes en echec | M13: =+SUM(B13:L13) -> 0 | N13: =+SUM('14'!N13) -> 0 | O13: =+M13+N13 -> 0
A14: Points livrés en agence | M14: =+SUM(B14:L14) -> 0 | N14: =+SUM('14'!N14) -> 0 | O14: =+M14+N14 -> 0
A15: Pénalités générées | M15: =+SUM(B15:L15) -> 0 | N15: =+SUM('14'!N15) -> 0 | O15: =+M15+N15 -> 0
A16: COHERENCE CHIFFRES | B16: =+IF(B4+B11=B5+B6+B7+B8+B9+B10+B12+B13,"OK","ERREUR") -> OK | C16: =+IF(C4+C11=C5+C6+C7+C8+C9+C10+C12+C13,"OK","ERREUR") -> OK | D16: =+IF(D4+D11=D5+D6+D7+D8+D9+D10+D12+D13,"OK","ERREUR") -> OK | E16: =+IF(E4+E11=E5+E6+E7+E8+E9+E10+E12+E13,"OK","ERREUR") -> OK | F16: =+IF(F4+F11=F5+F6+F7+F8+F9+F10+F12+F13,"OK","ERREUR") -> OK | G16: =+IF(G4+G11=G5+G6+G7+G8+G9+G10+G12+G13,"OK","ERREUR") -> OK | H16: =+IF(H4+H11=H5+H6+H7+H8+H9+H10+H12+H13,"OK","ERREUR") -> OK | I16: =+IF(I4+I11=I5+I6+I7+I8+I9+I10+I12+I13,"OK","ERREUR") -> OK | ... O16: =+IF(O4+O11=O5+O6+O7+O8+O9+O10+O12+O13,"OK","ERREUR") -> OK
A17: CA DHL du jour
A18: Taux de réussite

Sheet 16
I1: 16 | J1: =+'01'!$J$1 -> MARS | K1: =+#REF! -> #REF! | M1: TOTAL DU JOUR | N1: REPORT PRECEDENT | O1: TOTAL CUMULE
A2: CHAUFFEUR | B2: A | C2: B | D2: C | E2: D | F2: E | G2: F | H2: G | I2: H | J2: I | K2: J | L2: T
A4: Points en WC (relais inclus) | M4: =+SUM(B4:L4) -> 0 | N4: =+SUM('15'!N4) -> 0 | O4: =+M4+N4 -> 0
A5: Points OK | M5: =+SUM(B5:L5) -> 0 | N5: =+SUM('15'!N5) -> 0 | O5: =+M5+N5 -> 0
A6: Points Neighbour | M6: =+SUM(B6:L6) -> 0 | N6: =+SUM('15'!N6) -> 0 | O6: =+M6+N6 -> 0
A7: Points refusés | M7: =+SUM(B7:L7) -> 0 | N7: =+SUM('15'!N7) -> 0 | O7: =+M7+N7 -> 0
A8: Nombre de points relais | M8: =+SUM(B8:L8) -> 0 | N8: =+SUM('15'!N8) -> 0 | O8: =+M8+N8 -> 0
A9: Points avisés CC | M9: =+SUM(B9:L9) -> 0 | N9: =+SUM('15'!N9) -> 0 | O9: =+M9+N9 -> 0
A10: Points en retour | M10: =+SUM(B10:L10) -> 0 | N10: =+SUM('15'!N10) -> 0 | O10: =+M10+N10 -> 0
A11: Collectes tentées | M11: =+SUM(B11:L11) -> 0 | N11: =+SUM('15'!N11) -> 0 | O11: =+M11+N11 -> 0
A12: Collectes OK | M12: =+SUM(B12:L12) -> 0 | N12: =+SUM('15'!N12) -> 0 | O12: =+M12+N12 -> 0
A13: Collectes en echec | M13: =+SUM(B13:L13) -> 0 | N13: =+SUM('15'!N13) -> 0 | O13: =+M13+N13 -> 0
A14: Points livrés en agence | M14: =+SUM(B14:L14) -> 0 | N14: =+SUM('15'!N14) -> 0 | O14: =+M14+N14 -> 0
A15: Pénalités générées | M15: =+SUM(B15:L15) -> 0 | N15: =+SUM('15'!N15) -> 0 | O15: =+M15+N15 -> 0
A16: COHERENCE CHIFFRES | B16: =+IF(B4+B11=B5+B6+B7+B8+B9+B10+B12+B13,"OK","ERREUR") -> OK | C16: =+IF(C4+C11=C5+C6+C7+C8+C9+C10+C12+C13,"OK","ERREUR") -> OK | D16: =+IF(D4+D11=D5+D6+D7+D8+D9+D10+D12+D13,"OK","ERREUR") -> OK | E16: =+IF(E4+E11=E5+E6+E7+E8+E9+E10+E12+E13,"OK","ERREUR") -> OK | F16: =+IF(F4+F11=F5+F6+F7+F8+F9+F10+F12+F13,"OK","ERREUR") -> OK | G16: =+IF(G4+G11=G5+G6+G7+G8+G9+G10+G12+G13,"OK","ERREUR") -> OK | H16: =+IF(H4+H11=H5+H6+H7+H8+H9+H10+H12+H13,"OK","ERREUR") -> OK | I16: =+IF(I4+I11=I5+I6+I7+I8+I9+I10+I12+I13,"OK","ERREUR") -> OK | ... O16: =+IF(O4+O11=O5+O6+O7+O8+O9+O10+O12+O13,"OK","ERREUR") -> OK
A17: CA DHL du jour
A18: Taux de réussite

Sheet 17
I1: 17 | J1: =+'01'!$J$1 -> MARS | K1: =+#REF! -> #REF! | M1: TOTAL DU JOUR | N1: REPORT PRECEDENT | O1: TOTAL CUMULE
A2: CHAUFFEUR | B2: A | C2: B | D2: C | E2: D | F2: E | G2: F | H2: G | I2: H | J2: I | K2: J | L2: T
A4: Points en WC (relais inclus) | M4: =+SUM(B4:L4) -> 0 | N4: =+SUM('16'!N4) -> 0 | O4: =+M4+N4 -> 0
A5: Points OK | M5: =+SUM(B5:L5) -> 0 | N5: =+SUM('16'!N5) -> 0 | O5: =+M5+N5 -> 0
A6: Points Neighbour | M6: =+SUM(B6:L6) -> 0 | N6: =+SUM('16'!N6) -> 0 | O6: =+M6+N6 -> 0
A7: Points refusés | M7: =+SUM(B7:L7) -> 0 | N7: =+SUM('16'!N7) -> 0 | O7: =+M7+N7 -> 0
A8: Nombre de points relais | M8: =+SUM(B8:L8) -> 0 | N8: =+SUM('16'!N8) -> 0 | O8: =+M8+N8 -> 0
A9: Points avisés CC | M9: =+SUM(B9:L9) -> 0 | N9: =+SUM('16'!N9) -> 0 | O9: =+M9+N9 -> 0
A10: Points en retour | M10: =+SUM(B10:L10) -> 0 | N10: =+SUM('16'!N10) -> 0 | O10: =+M10+N10 -> 0
A11: Collectes tentées | M11: =+SUM(B11:L11) -> 0 | N11: =+SUM('16'!N11) -> 0 | O11: =+M11+N11 -> 0
A12: Collectes OK | M12: =+SUM(B12:L12) -> 0 | N12: =+SUM('16'!N12) -> 0 | O12: =+M12+N12 -> 0
A13: Collectes en echec | M13: =+SUM(B13:L13) -> 0 | N13: =+SUM('16'!N13) -> 0 | O13: =+M13+N13 -> 0
A14: Points livrés en agence | M14: =+SUM(B14:L14) -> 0 | N14: =+SUM('16'!N14) -> 0 | O14: =+M14+N14 -> 0
A15: Pénalités générées | M15: =+SUM(B15:L15) -> 0 | N15: =+SUM('16'!N15) -> 0 | O15: =+M15+N15 -> 0
A16: COHERENCE CHIFFRES | B16: =+IF(B4+B11=B5+B6+B7+B8+B9+B10+B12+B13,"OK","ERREUR") -> OK | C16: =+IF(C4+C11=C5+C6+C7+C8+C9+C10+C12+C13,"OK","ERREUR") -> OK | D16: =+IF(D4+D11=D5+D6+D7+D8+D9+D10+D12+D13,"OK","ERREUR") -> OK | E16: =+IF(E4+E11=E5+E6+E7+E8+E9+E10+E12+E13,"OK","ERREUR") -> OK | F16: =+IF(F4+F11=F5+F6+F7+F8+F9+F10+F12+F13,"OK","ERREUR") -> OK | G16: =+IF(G4+G11=G5+G6+G7+G8+G9+G10+G12+G13,"OK","ERREUR") -> OK | H16: =+IF(H4+H11=H5+H6+H7+H8+H9+H10+H12+H13,"OK","ERREUR") -> OK | I16: =+IF(I4+I11=I5+I6+I7+I8+I9+I10+I12+I13,"OK","ERREUR") -> OK | ... O16: =+IF(O4+O11=O5+O6+O7+O8+O9+O10+O12+O13,"OK","ERREUR") -> OK
A17: CA DHL du jour
A18: Taux de réussite

Sheet 18
I1: 18 | J1: =+'01'!$J$1 -> MARS | K1: =+#REF! -> #REF! | M1: TOTAL DU JOUR | N1: REPORT PRECEDENT | O1: TOTAL CUMULE
A2: CHAUFFEUR | B2: A | C2: B | D2: C | E2: D | F2: E | G2: F | H2: G | I2: H | J2: I | K2: J | L2: T
A4: Points en WC (relais inclus) | M4: =+SUM(B4:L4) -> 0 | N4: =+SUM('17'!N4) -> 0 | O4: =+M4+N4 -> 0
A5: Points OK | M5: =+SUM(B5:L5) -> 0 | N5: =+SUM('17'!N5) -> 0 | O5: =+M5+N5 -> 0
A6: Points Neighbour | M6: =+SUM(B6:L6) -> 0 | N6: =+SUM('17'!N6) -> 0 | O6: =+M6+N6 -> 0
A7: Points refusés | M7: =+SUM(B7:L7) -> 0 | N7: =+SUM('17'!N7) -> 0 | O7: =+M7+N7 -> 0
A8: Nombre de points relais | M8: =+SUM(B8:L8) -> 0 | N8: =+SUM('17'!N8) -> 0 | O8: =+M8+N8 -> 0
A9: Points avisés CC | M9: =+SUM(B9:L9) -> 0 | N9: =+SUM('17'!N9) -> 0 | O9: =+M9+N9 -> 0
A10: Points en retour | M10: =+SUM(B10:L10) -> 0 | N10: =+SUM('17'!N10) -> 0 | O10: =+M10+N10 -> 0
A11: Collectes tentées | M11: =+SUM(B11:L11) -> 0 | N11: =+SUM('17'!N11) -> 0 | O11: =+M11+N11 -> 0
A12: Collectes OK | M12: =+SUM(B12:L12) -> 0 | N12: =+SUM('17'!N12) -> 0 | O12: =+M12+N12 -> 0
A13: Collectes en echec | M13: =+SUM(B13:L13) -> 0 | N13: =+SUM('17'!N13) -> 0 | O13: =+M13+N13 -> 0
A14: Points livrés en agence | M14: =+SUM(B14:L14) -> 0 | N14: =+SUM('17'!N14) -> 0 | O14: =+M14+N14 -> 0
A15: Pénalités générées | M15: =+SUM(B15:L15) -> 0 | N15: =+SUM('17'!N15) -> 0 | O15: =+M15+N15 -> 0
A16: COHERENCE CHIFFRES | B16: =+IF(B4+B11=B5+B6+B7+B8+B9+B10+B12+B13,"OK","ERREUR") -> OK | C16: =+IF(C4+C11=C5+C6+C7+C8+C9+C10+C12+C13,"OK","ERREUR") -> OK | D16: =+IF(D4+D11=D5+D6+D7+D8+D9+D10+D12+D13,"OK","ERREUR") -> OK | E16: =+IF(E4+E11=E5+E6+E7+E8+E9+E10+E12+E13,"OK","ERREUR") -> OK | F16: =+IF(F4+F11=F5+F6+F7+F8+F9+F10+F12+F13,"OK","ERREUR") -> OK | G16: =+IF(G4+G11=G5+G6+G7+G8+G9+G10+G12+G13,"OK","ERREUR") -> OK | H16: =+IF(H4+H11=H5+H6+H7+H8+H9+H10+H12+H13,"OK","ERREUR") -> OK | I16: =+IF(I4+I11=I5+I6+I7+I8+I9+I10+I12+I13,"OK","ERREUR") -> OK | ... O16: =+IF(O4+O11=O5+O6+O7+O8+O9+O10+O12+O13,"OK","ERREUR") -> OK
A17: CA DHL du jour
A18: Taux de réussite

Sheet 19
I1: 19 | J1: =+'01'!$J$1 -> MARS | K1: =+#REF! -> #REF! | M1: TOTAL DU JOUR | N1: REPORT PRECEDENT | O1: TOTAL CUMULE
A2: CHAUFFEUR | B2: A | C2: B | D2: C | E2: D | F2: E | G2: F | H2: G | I2: H | J2: I | K2: J | L2: T
A4: Points en WC (relais inclus) | M4: =+SUM(B4:L4) -> 0 | N4: =+SUM('18'!N4) -> 0 | O4: =+M4+N4 -> 0
A5: Points OK | M5: =+SUM(B5:L5) -> 0 | N5: =+SUM('18'!N5) -> 0 | O5: =+M5+N5 -> 0
A6: Points Neighbour | M6: =+SUM(B6:L6) -> 0 | N6: =+SUM('18'!N6) -> 0 | O6: =+M6+N6 -> 0
A7: Points refusés | M7: =+SUM(B7:L7) -> 0 | N7: =+SUM('18'!N7) -> 0 | O7: =+M7+N7 -> 0
A8: Nombre de points relais | M8: =+SUM(B8:L8) -> 0 | N8: =+SUM('18'!N8) -> 0 | O8: =+M8+N8 -> 0
A9: Points avisés CC | M9: =+SUM(B9:L9) -> 0 | N9: =+SUM('18'!N9) -> 0 | O9: =+M9+N9 -> 0
A10: Points en retour | M10: =+SUM(B10:L10) -> 0 | N10: =+SUM('18'!N10) -> 0 | O10: =+M10+N10 -> 0
A11: Collectes tentées | M11: =+SUM(B11:L11) -> 0 | N11: =+SUM('18'!N11) -> 0 | O11: =+M11+N11 -> 0
A12: Collectes OK | M12: =+SUM(B12:L12) -> 0 | N12: =+SUM('18'!N12) -> 0 | O12: =+M12+N12 -> 0
A13: Collectes en echec | M13: =+SUM(B13:L13) -> 0 | N13: =+SUM('18'!N13) -> 0 | O13: =+M13+N13 -> 0
A14: Points livrés en agence | M14: =+SUM(B14:L14) -> 0 | N14: =+SUM('18'!N14) -> 0 | O14: =+M14+N14 -> 0
A15: Pénalités générées | M15: =+SUM(B15:L15) -> 0 | N15: =+SUM('18'!N15) -> 0 | O15: =+M15+N15 -> 0
A16: COHERENCE CHIFFRES | B16: =+IF(B4+B11=B5+B6+B7+B8+B9+B10+B12+B13,"OK","ERREUR") -> OK | C16: =+IF(C4+C11=C5+C6+C7+C8+C9+C10+C12+C13,"OK","ERREUR") -> OK | D16: =+IF(D4+D11=D5+D6+D7+D8+D9+D10+D12+D13,"OK","ERREUR") -> OK | E16: =+IF(E4+E11=E5+E6+E7+E8+E9+E10+E12+E13,"OK","ERREUR") -> OK | F16: =+IF(F4+F11=F5+F6+F7+F8+F9+F10+F12+F13,"OK","ERREUR") -> OK | G16: =+IF(G4+G11=G5+G6+G7+G8+G9+G10+G12+G13,"OK","ERREUR") -> OK | H16: =+IF(H4+H11=H5+H6+H7+H8+H9+H10+H12+H13,"OK","ERREUR") -> OK | I16: =+IF(I4+I11=I5+I6+I7+I8+I9+I10+I12+I13,"OK","ERREUR") -> OK | ... O16: =+IF(O4+O11=O5+O6+O7+O8+O9+O10+O12+O13,"OK","ERREUR") -> OK
A17: CA DHL du jour
A18: Taux de réussite

Sheet 20
I1: 20 | J1: =+'01'!$J$1 -> MARS | K1: =+#REF! -> #REF! | M1: TOTAL DU JOUR | N1: REPORT PRECEDENT | O1: TOTAL CUMULE
A2: CHAUFFEUR | B2: A | C2: B | D2: C | E2: D | F2: E | G2: F | H2: G | I2: H | J2: I | K2: J | L2: T
A4: Points en WC (relais inclus) | M4: =+SUM(B4:L4) -> 0 | N4: =+SUM('19'!N4) -> 0 | O4: =+M4+N4 -> 0
A5: Points OK | M5: =+SUM(B5:L5) -> 0 | N5: =+SUM('19'!N5) -> 0 | O5: =+M5+N5 -> 0
A6: Points Neighbour | M6: =+SUM(B6:L6) -> 0 | N6: =+SUM('19'!N6) -> 0 | O6: =+M6+N6 -> 0
A7: Points refusés | M7: =+SUM(B7:L7) -> 0 | N7: =+SUM('19'!N7) -> 0 | O7: =+M7+N7 -> 0
A8: Nombre de points relais | M8: =+SUM(B8:L8) -> 0 | N8: =+SUM('19'!N8) -> 0 | O8: =+M8+N8 -> 0
A9: Points avisés CC | M9: =+SUM(B9:L9) -> 0 | N9: =+SUM('19'!N9) -> 0 | O9: =+M9+N9 -> 0
A10: Points en retour | M10: =+SUM(B10:L10) -> 0 | N10: =+SUM('19'!N10) -> 0 | O10: =+M10+N10 -> 0
A11: Collectes tentées | M11: =+SUM(B11:L11) -> 0 | N11: =+SUM('19'!N11) -> 0 | O11: =+M11+N11 -> 0
A12: Collectes OK | M12: =+SUM(B12:L12) -> 0 | N12: =+SUM('19'!N12) -> 0 | O12: =+M12+N12 -> 0
A13: Collectes en echec | M13: =+SUM(B13:L13) -> 0 | N13: =+SUM('19'!N13) -> 0 | O13: =+M13+N13 -> 0
A14: Points livrés en agence | M14: =+SUM(B14:L14) -> 0 | N14: =+SUM('19'!N14) -> 0 | O14: =+M14+N14 -> 0
A15: Pénalités générées | M15: =+SUM(B15:L15) -> 0 | N15: =+SUM('19'!N15) -> 0 | O15: =+M15+N15 -> 0
A16: COHERENCE CHIFFRES | B16: =+IF(B4+B11=B5+B6+B7+B8+B9+B10+B12+B13,"OK","ERREUR") -> OK | C16: =+IF(C4+C11=C5+C6+C7+C8+C9+C10+C12+C13,"OK","ERREUR") -> OK | D16: =+IF(D4+D11=D5+D6+D7+D8+D9+D10+D12+D13,"OK","ERREUR") -> OK | E16: =+IF(E4+E11=E5+E6+E7+E8+E9+E10+E12+E13,"OK","ERREUR") -> OK | F16: =+IF(F4+F11=F5+F6+F7+F8+F9+F10+F12+F13,"OK","ERREUR") -> OK | G16: =+IF(G4+G11=G5+G6+G7+G8+G9+G10+G12+G13,"OK","ERREUR") -> OK | H16: =+IF(H4+H11=H5+H6+H7+H8+H9+H10+H12+H13,"OK","ERREUR") -> OK | I16: =+IF(I4+I11=I5+I6+I7+I8+I9+I10+I12+I13,"OK","ERREUR") -> OK | ... O16: =+IF(O4+O11=O5+O6+O7+O8+O9+O10+O12+O13,"OK","ERREUR") -> OK
A17: CA DHL du jour
A18: Taux de réussite

Sheet 21
I1: 21 | J1: =+'01'!$J$1 -> MARS | K1: =+#REF! -> #REF! | M1: TOTAL DU JOUR | N1: REPORT PRECEDENT | O1: TOTAL CUMULE
A2: CHAUFFEUR | B2: A | C2: B | D2: C | E2: D | F2: E | G2: F | H2: G | I2: H | J2: I | K2: J | L2: T
A4: Points en WC (relais inclus) | M4: =+SUM(B4:L4) -> 0 | N4: =+SUM('20'!N4) -> 0 | O4: =+M4+N4 -> 0
A5: Points OK | M5: =+SUM(B5:L5) -> 0 | N5: =+SUM('20'!N5) -> 0 | O5: =+M5+N5 -> 0
A6: Points Neighbour | M6: =+SUM(B6:L6) -> 0 | N6: =+SUM('20'!N6) -> 0 | O6: =+M6+N6 -> 0
A7: Points refusés | M7: =+SUM(B7:L7) -> 0 | N7: =+SUM('20'!N7) -> 0 | O7: =+M7+N7 -> 0
A8: Nombre de points relais | M8: =+SUM(B8:L8) -> 0 | N8: =+SUM('20'!N8) -> 0 | O8: =+M8+N8 -> 0
A9: Points avisés CC | M9: =+SUM(B9:L9) -> 0 | N9: =+SUM('20'!N9) -> 0 | O9: =+M9+N9 -> 0
A10: Points en retour | M10: =+SUM(B10:L10) -> 0 | N10: =+SUM('20'!N10) -> 0 | O10: =+M10+N10 -> 0
A11: Collectes tentées | M11: =+SUM(B11:L11) -> 0 | N11: =+SUM('20'!N11) -> 0 | O11: =+M11+N11 -> 0
A12: Collectes OK | M12: =+SUM(B12:L12) -> 0 | N12: =+SUM('20'!N12) -> 0 | O12: =+M12+N12 -> 0
A13: Collectes en echec | M13: =+SUM(B13:L13) -> 0 | N13: =+SUM('20'!N13) -> 0 | O13: =+M13+N13 -> 0
A14: Points livrés en agence | M14: =+SUM(B14:L14) -> 0 | N14: =+SUM('20'!N14) -> 0 | O14: =+M14+N14 -> 0
A15: Pénalités générées | M15: =+SUM(B15:L15) -> 0 | N15: =+SUM('20'!N15) -> 0 | O15: =+M15+N15 -> 0
A16: COHERENCE CHIFFRES | B16: =+IF(B4+B11=B5+B6+B7+B8+B9+B10+B12+B13,"OK","ERREUR") -> OK | C16: =+IF(C4+C11=C5+C6+C7+C8+C9+C10+C12+C13,"OK","ERREUR") -> OK | D16: =+IF(D4+D11=D5+D6+D7+D8+D9+D10+D12+D13,"OK","ERREUR") -> OK | E16: =+IF(E4+E11=E5+E6+E7+E8+E9+E10+E12+E13,"OK","ERREUR") -> OK | F16: =+IF(F4+F11=F5+F6+F7+F8+F9+F10+F12+F13,"OK","ERREUR") -> OK | G16: =+IF(G4+G11=G5+G6+G7+G8+G9+G10+G12+G13,"OK","ERREUR") -> OK | H16: =+IF(H4+H11=H5+H6+H7+H8+H9+H10+H12+H13,"OK","ERREUR") -> OK | I16: =+IF(I4+I11=I5+I6+I7+I8+I9+I10+I12+I13,"OK","ERREUR") -> OK | ... O16: =+IF(O4+O11=O5+O6+O7+O8+O9+O10+O12+O13,"OK","ERREUR") -> OK
A17: CA DHL du jour
A18: Taux de réussite

Sheet 22
I1: 22 | J1: =+'01'!$J$1 -> MARS | K1: =+#REF! -> #REF! | M1: TOTAL DU JOUR | N1: REPORT PRECEDENT | O1: TOTAL CUMULE
A2: CHAUFFEUR | B2: A | C2: B | D2: C | E2: D | F2: E | G2: F | H2: G | I2: H | J2: I | K2: J | L2: T
A4: Points en WC (relais inclus) | M4: =+SUM(B4:L4) -> 0 | N4: =+SUM('21'!N4) -> 0 | O4: =+M4+N4 -> 0
A5: Points OK | M5: =+SUM(B5:L5) -> 0 | N5: =+SUM('21'!N5) -> 0 | O5: =+M5+N5 -> 0
A6: Points Neighbour | M6: =+SUM(B6:L6) -> 0 | N6: =+SUM('21'!N6) -> 0 | O6: =+M6+N6 -> 0
A7: Points refusés | M7: =+SUM(B7:L7) -> 0 | N7: =+SUM('21'!N7) -> 0 | O7: =+M7+N7 -> 0
A8: Nombre de points relais | M8: =+SUM(B8:L8) -> 0 | N8: =+SUM('21'!N8) -> 0 | O8: =+M8+N8 -> 0
A9: Points avisés CC | M9: =+SUM(B9:L9) -> 0 | N9: =+SUM('21'!N9) -> 0 | O9: =+M9+N9 -> 0
A10: Points en retour | M10: =+SUM(B10:L10) -> 0 | N10: =+SUM('21'!N10) -> 0 | O10: =+M10+N10 -> 0
A11: Collectes tentées | M11: =+SUM(B11:L11) -> 0 | N11: =+SUM('21'!N11) -> 0 | O11: =+M11+N11 -> 0
A12: Collectes OK | M12: =+SUM(B12:L12) -> 0 | N12: =+SUM('21'!N12) -> 0 | O12: =+M12+N12 -> 0
A13: Collectes en echec | M13: =+SUM(B13:L13) -> 0 | N13: =+SUM('21'!N13) -> 0 | O13: =+M13+N13 -> 0
A14: Points livrés en agence | M14: =+SUM(B14:L14) -> 0 | N14: =+SUM('21'!N14) -> 0 | O14: =+M14+N14 -> 0
A15: Pénalités générées | M15: =+SUM(B15:L15) -> 0 | N15: =+SUM('21'!N15) -> 0 | O15: =+M15+N15 -> 0
A16: COHERENCE CHIFFRES | B16: =+IF(B4+B11=B5+B6+B7+B8+B9+B10+B12+B13,"OK","ERREUR") -> OK | C16: =+IF(C4+C11=C5+C6+C7+C8+C9+C10+C12+C13,"OK","ERREUR") -> OK | D16: =+IF(D4+D11=D5+D6+D7+D8+D9+D10+D12+D13,"OK","ERREUR") -> OK | E16: =+IF(E4+E11=E5+E6+E7+E8+E9+E10+E12+E13,"OK","ERREUR") -> OK | F16: =+IF(F4+F11=F5+F6+F7+F8+F9+F10+F12+F13,"OK","ERREUR") -> OK | G16: =+IF(G4+G11=G5+G6+G7+G8+G9+G10+G12+G13,"OK","ERREUR") -> OK | H16: =+IF(H4+H11=H5+H6+H7+H8+H9+H10+H12+H13,"OK","ERREUR") -> OK | I16: =+IF(I4+I11=I5+I6+I7+I8+I9+I10+I12+I13,"OK","ERREUR") -> OK | ... O16: =+IF(O4+O11=O5+O6+O7+O8+O9+O10+O12+O13,"OK","ERREUR") -> OK
A17: CA DHL du jour
A18: Taux de réussite

Sheet 23
I1: 23 | J1: =+'01'!$J$1 -> MARS | K1: =+#REF! -> #REF! | M1: TOTAL DU JOUR | N1: REPORT PRECEDENT | O1: TOTAL CUMULE
A2: CHAUFFEUR | B2: A | C2: B | D2: C | E2: D | F2: E | G2: F | H2: G | I2: H | J2: I | K2: J | L2: T
A4: Points en WC (relais inclus) | M4: =+SUM(B4:L4) -> 0 | N4: =+SUM('22'!N4) -> 0 | O4: =+M4+N4 -> 0
A5: Points OK | M5: =+SUM(B5:L5) -> 0 | N5: =+SUM('22'!N5) -> 0 | O5: =+M5+N5 -> 0
A6: Points Neighbour | M6: =+SUM(B6:L6) -> 0 | N6: =+SUM('22'!N6) -> 0 | O6: =+M6+N6 -> 0
A7: Points refusés | M7: =+SUM(B7:L7) -> 0 | N7: =+SUM('22'!N7) -> 0 | O7: =+M7+N7 -> 0
A8: Nombre de points relais | M8: =+SUM(B8:L8) -> 0 | N8: =+SUM('22'!N8) -> 0 | O8: =+M8+N8 -> 0
A9: Points avisés CC | M9: =+SUM(B9:L9) -> 0 | N9: =+SUM('22'!N9) -> 0 | O9: =+M9+N9 -> 0
A10: Points en retour | M10: =+SUM(B10:L10) -> 0 | N10: =+SUM('22'!N10) -> 0 | O10: =+M10+N10 -> 0
A11: Collectes tentées | M11: =+SUM(B11:L11) -> 0 | N11: =+SUM('22'!N11) -> 0 | O11: =+M11+N11 -> 0
A12: Collectes OK | M12: =+SUM(B12:L12) -> 0 | N12: =+SUM('22'!N12) -> 0 | O12: =+M12+N12 -> 0
A13: Collectes en echec | M13: =+SUM(B13:L13) -> 0 | N13: =+SUM('22'!N13) -> 0 | O13: =+M13+N13 -> 0
A14: Points livrés en agence | M14: =+SUM(B14:L14) -> 0 | N14: =+SUM('22'!N14) -> 0 | O14: =+M14+N14 -> 0
A15: Pénalités générées | M15: =+SUM(B15:L15) -> 0 | N15: =+SUM('22'!N15) -> 0 | O15: =+M15+N15 -> 0
A16: COHERENCE CHIFFRES | B16: =+IF(B4+B11=B5+B6+B7+B8+B9+B10+B12+B13,"OK","ERREUR") -> OK | C16: =+IF(C4+C11=C5+C6+C7+C8+C9+C10+C12+C13,"OK","ERREUR") -> OK | D16: =+IF(D4+D11=D5+D6+D7+D8+D9+D10+D12+D13,"OK","ERREUR") -> OK | E16: =+IF(E4+E11=E5+E6+E7+E8+E9+E10+E12+E13,"OK","ERREUR") -> OK | F16: =+IF(F4+F11=F5+F6+F7+F8+F9+F10+F12+F13,"OK","ERREUR") -> OK | G16: =+IF(G4+G11=G5+G6+G7+G8+G9+G10+G12+G13,"OK","ERREUR") -> OK | H16: =+IF(H4+H11=H5+H6+H7+H8+H9+H10+H12+H13,"OK","ERREUR") -> OK | I16: =+IF(I4+I11=I5+I6+I7+I8+I9+I10+I12+I13,"OK","ERREUR") -> OK | ... O16: =+IF(O4+O11=O5+O6+O7+O8+O9+O10+O12+O13,"OK","ERREUR") -> OK
A17: CA DHL du jour
A18: Taux de réussite

Sheet 24
I1: 24 | J1: =+'01'!$J$1 -> MARS | K1: =+#REF! -> #REF! | M1: TOTAL DU JOUR | N1: REPORT PRECEDENT | O1: TOTAL CUMULE
A2: CHAUFFEUR | B2: A | C2: B | D2: C | E2: D | F2: E | G2: F | H2: G | I2: H | J2: I | K2: J | L2: T
A4: Points en WC (relais inclus) | M4: =+SUM(B4:L4) -> 0 | N4: =+SUM('23'!N4) -> 0 | O4: =+M4+N4 -> 0
A5: Points OK | M5: =+SUM(B5:L5) -> 0 | N5: =+SUM('23'!N5) -> 0 | O5: =+M5+N5 -> 0
A6: Points Neighbour | M6: =+SUM(B6:L6) -> 0 | N6: =+SUM('23'!N6) -> 0 | O6: =+M6+N6 -> 0
A7: Points refusés | M7: =+SUM(B7:L7) -> 0 | N7: =+SUM('23'!N7) -> 0 | O7: =+M7+N7 -> 0
A8: Nombre de points relais | M8: =+SUM(B8:L8) -> 0 | N8: =+SUM('23'!N8) -> 0 | O8: =+M8+N8 -> 0
A9: Points avisés CC | M9: =+SUM(B9:L9) -> 0 | N9: =+SUM('23'!N9) -> 0 | O9: =+M9+N9 -> 0
A10: Points en retour | M10: =+SUM(B10:L10) -> 0 | N10: =+SUM('23'!N10) -> 0 | O10: =+M10+N10 -> 0
A11: Collectes tentées | M11: =+SUM(B11:L11) -> 0 | N11: =+SUM('23'!N11) -> 0 | O11: =+M11+N11 -> 0
A12: Collectes OK | M12: =+SUM(B12:L12) -> 0 | N12: =+SUM('23'!N12) -> 0 | O12: =+M12+N12 -> 0
A13: Collectes en echec | M13: =+SUM(B13:L13) -> 0 | N13: =+SUM('23'!N13) -> 0 | O13: =+M13+N13 -> 0
A14: Points livrés en agence | M14: =+SUM(B14:L14) -> 0 | N14: =+SUM('23'!N14) -> 0 | O14: =+M14+N14 -> 0
A15: Pénalités générées | M15: =+SUM(B15:L15) -> 0 | N15: =+SUM('23'!N15) -> 0 | O15: =+M15+N15 -> 0
A16: COHERENCE CHIFFRES | B16: =+IF(B4+B11=B5+B6+B7+B8+B9+B10+B12+B13,"OK","ERREUR") -> OK | C16: =+IF(C4+C11=C5+C6+C7+C8+C9+C10+C12+C13,"OK","ERREUR") -> OK | D16: =+IF(D4+D11=D5+D6+D7+D8+D9+D10+D12+D13,"OK","ERREUR") -> OK | E16: =+IF(E4+E11=E5+E6+E7+E8+E9+E10+E12+E13,"OK","ERREUR") -> OK | F16: =+IF(F4+F11=F5+F6+F7+F8+F9+F10+F12+F13,"OK","ERREUR") -> OK | G16: =+IF(G4+G11=G5+G6+G7+G8+G9+G10+G12+G13,"OK","ERREUR") -> OK | H16: =+IF(H4+H11=H5+H6+H7+H8+H9+H10+H12+H13,"OK","ERREUR") -> OK | I16: =+IF(I4+I11=I5+I6+I7+I8+I9+I10+I12+I13,"OK","ERREUR") -> OK | ... O16: =+IF(O4+O11=O5+O6+O7+O8+O9+O10+O12+O13,"OK","ERREUR") -> OK
A17: CA DHL du jour
A18: Taux de réussite

Sheet 25
I1: 25 | J1: =+'01'!$J$1 -> MARS | K1: =+#REF! -> #REF! | M1: TOTAL DU JOUR | N1: REPORT PRECEDENT | O1: TOTAL CUMULE
A2: CHAUFFEUR | B2: A | C2: B | D2: C | E2: D | F2: E | G2: F | H2: G | I2: H | J2: I | K2: J | L2: T
A4: Points en WC (relais inclus) | M4: =+SUM(B4:L4) -> 0 | N4: =+SUM('24'!N4) -> 0 | O4: =+M4+N4 -> 0
A5: Points OK | M5: =+SUM(B5:L5) -> 0 | N5: =+SUM('24'!N5) -> 0 | O5: =+M5+N5 -> 0
A6: Points Neighbour | M6: =+SUM(B6:L6) -> 0 | N6: =+SUM('24'!N6) -> 0 | O6: =+M6+N6 -> 0
A7: Points refusés | M7: =+SUM(B7:L7) -> 0 | N7: =+SUM('24'!N7) -> 0 | O7: =+M7+N7 -> 0
A8: Nombre de points relais | M8: =+SUM(B8:L8) -> 0 | N8: =+SUM('24'!N8) -> 0 | O8: =+M8+N8 -> 0
A9: Points avisés CC | M9: =+SUM(B9:L9) -> 0 | N9: =+SUM('24'!N9) -> 0 | O9: =+M9+N9 -> 0
A10: Points en retour | M10: =+SUM(B10:L10) -> 0 | N10: =+SUM('24'!N10) -> 0 | O10: =+M10+N10 -> 0
A11: Collectes tentées | M11: =+SUM(B11:L11) -> 0 | N11: =+SUM('24'!N11) -> 0 | O11: =+M11+N11 -> 0
A12: Collectes OK | M12: =+SUM(B12:L12) -> 0 | N12: =+SUM('24'!N12) -> 0 | O12: =+M12+N12 -> 0
A13: Collectes en echec | M13: =+SUM(B13:L13) -> 0 | N13: =+SUM('24'!N13) -> 0 | O13: =+M13+N13 -> 0
A14: Points livrés en agence | M14: =+SUM(B14:L14) -> 0 | N14: =+SUM('24'!N14) -> 0 | O14: =+M14+N14 -> 0
A15: Pénalités générées | M15: =+SUM(B15:L15) -> 0 | N15: =+SUM('24'!N15) -> 0 | O15: =+M15+N15 -> 0
A16: COHERENCE CHIFFRES | B16: =+IF(B4+B11=B5+B6+B7+B8+B9+B10+B12+B13,"OK","ERREUR") -> OK | C16: =+IF(C4+C11=C5+C6+C7+C8+C9+C10+C12+C13,"OK","ERREUR") -> OK | D16: =+IF(D4+D11=D5+D6+D7+D8+D9+D10+D12+D13,"OK","ERREUR") -> OK | E16: =+IF(E4+E11=E5+E6+E7+E8+E9+E10+E12+E13,"OK","ERREUR") -> OK | F16: =+IF(F4+F11=F5+F6+F7+F8+F9+F10+F12+F13,"OK","ERREUR") -> OK | G16: =+IF(G4+G11=G5+G6+G7+G8+G9+G10+G12+G13,"OK","ERREUR") -> OK | H16: =+IF(H4+H11=H5+H6+H7+H8+H9+H10+H12+H13,"OK","ERREUR") -> OK | I16: =+IF(I4+I11=I5+I6+I7+I8+I9+I10+I12+I13,"OK","ERREUR") -> OK | ... O16: =+IF(O4+O11=O5+O6+O7+O8+O9+O10+O12+O13,"OK","ERREUR") -> OK
A17: CA DHL du jour
A18: Taux de réussite

Sheet 26
I1: 26 | J1: =+'01'!$J$1 -> MARS | K1: =+#REF! -> #REF! | M1: TOTAL DU JOUR | N1: REPORT PRECEDENT | O1: TOTAL CUMULE
A2: CHAUFFEUR | B2: A | C2: B | D2: C | E2: D | F2: E | G2: F | H2: G | I2: H | J2: I | K2: J | L2: T
A4: Points en WC (relais inclus) | M4: =+SUM(B4:L4) -> 0 | N4: =+SUM('25'!N4) -> 0 | O4: =+M4+N4 -> 0
A5: Points OK | M5: =+SUM(B5:L5) -> 0 | N5: =+SUM('25'!N5) -> 0 | O5: =+M5+N5 -> 0
A6: Points Neighbour | M6: =+SUM(B6:L6) -> 0 | N6: =+SUM('25'!N6) -> 0 | O6: =+M6+N6 -> 0
A7: Points refusés | M7: =+SUM(B7:L7) -> 0 | N7: =+SUM('25'!N7) -> 0 | O7: =+M7+N7 -> 0
A8: Nombre de points relais | M8: =+SUM(B8:L8) -> 0 | N8: =+SUM('25'!N8) -> 0 | O8: =+M8+N8 -> 0
A9: Points avisés CC | M9: =+SUM(B9:L9) -> 0 | N9: =+SUM('25'!N9) -> 0 | O9: =+M9+N9 -> 0
A10: Points en retour | M10: =+SUM(B10:L10) -> 0 | N10: =+SUM('25'!N10) -> 0 | O10: =+M10+N10 -> 0
A11: Collectes tentées | M11: =+SUM(B11:L11) -> 0 | N11: =+SUM('25'!N11) -> 0 | O11: =+M11+N11 -> 0
A12: Collectes OK | M12: =+SUM(B12:L12) -> 0 | N12: =+SUM('25'!N12) -> 0 | O12: =+M12+N12 -> 0
A13: Collectes en echec | M13: =+SUM(B13:L13) -> 0 | N13: =+SUM('25'!N13) -> 0 | O13: =+M13+N13 -> 0
A14: Points livrés en agence | M14: =+SUM(B14:L14) -> 0 | N14: =+SUM('25'!N14) -> 0 | O14: =+M14+N14 -> 0
A15: Pénalités générées | M15: =+SUM(B15:L15) -> 0 | N15: =+SUM('25'!N15) -> 0 | O15: =+M15+N15 -> 0
A16: COHERENCE CHIFFRES | B16: =+IF(B4+B11=B5+B6+B7+B8+B9+B10+B12+B13,"OK","ERREUR") -> OK | C16: =+IF(C4+C11=C5+C6+C7+C8+C9+C10+C12+C13,"OK","ERREUR") -> OK | D16: =+IF(D4+D11=D5+D6+D7+D8+D9+D10+D12+D13,"OK","ERREUR") -> OK | E16: =+IF(E4+E11=E5+E6+E7+E8+E9+E10+E12+E13,"OK","ERREUR") -> OK | F16: =+IF(F4+F11=F5+F6+F7+F8+F9+F10+F12+F13,"OK","ERREUR") -> OK | G16: =+IF(G4+G11=G5+G6+G7+G8+G9+G10+G12+G13,"OK","ERREUR") -> OK | H16: =+IF(H4+H11=H5+H6+H7+H8+H9+H10+H12+H13,"OK","ERREUR") -> OK | I16: =+IF(I4+I11=I5+I6+I7+I8+I9+I10+I12+I13,"OK","ERREUR") -> OK | ... O16: =+IF(O4+O11=O5+O6+O7+O8+O9+O10+O12+O13,"OK","ERREUR") -> OK
A17: CA DHL du jour
A18: Taux de réussite

Sheet 27
I1: 27 | J1: =+'01'!$J$1 -> MARS | K1: =+#REF! -> #REF! | M1: TOTAL DU JOUR | N1: REPORT PRECEDENT | O1: TOTAL CUMULE
A2: CHAUFFEUR | B2: A | C2: B | D2: C | E2: D | F2: E | G2: F | H2: G | I2: H | J2: I | K2: J | L2: T
A4: Points en WC (relais inclus) | M4: =+SUM(B4:L4) -> 0 | N4: =+SUM('26'!N4) -> 0 | O4: =+M4+N4 -> 0
A5: Points OK | M5: =+SUM(B5:L5) -> 0 | N5: =+SUM('26'!N5) -> 0 | O5: =+M5+N5 -> 0
A6: Points Neighbour | M6: =+SUM(B6:L6) -> 0 | N6: =+SUM('26'!N6) -> 0 | O6: =+M6+N6 -> 0
A7: Points refusés | M7: =+SUM(B7:L7) -> 0 | N7: =+SUM('26'!N7) -> 0 | O7: =+M7+N7 -> 0
A8: Nombre de points relais | M8: =+SUM(B8:L8) -> 0 | N8: =+SUM('26'!N8) -> 0 | O8: =+M8+N8 -> 0
A9: Points avisés CC | M9: =+SUM(B9:L9) -> 0 | N9: =+SUM('26'!N9) -> 0 | O9: =+M9+N9 -> 0
A10: Points en retour | M10: =+SUM(B10:L10) -> 0 | N10: =+SUM('26'!N10) -> 0 | O10: =+M10+N10 -> 0
A11: Collectes tentées | M11: =+SUM(B11:L11) -> 0 | N11: =+SUM('26'!N11) -> 0 | O11: =+M11+N11 -> 0
A12: Collectes OK | M12: =+SUM(B12:L12) -> 0 | N12: =+SUM('26'!N12) -> 0 | O12: =+M12+N12 -> 0
A13: Collectes en echec | M13: =+SUM(B13:L13) -> 0 | N13: =+SUM('26'!N13) -> 0 | O13: =+M13+N13 -> 0
A14: Points livrés en agence | M14: =+SUM(B14:L14) -> 0 | N14: =+SUM('26'!N14) -> 0 | O14: =+M14+N14 -> 0
A15: Pénalités générées | M15: =+SUM(B15:L15) -> 0 | N15: =+SUM('26'!N15) -> 0 | O15: =+M15+N15 -> 0
A16: COHERENCE CHIFFRES | B16: =+IF(B4+B11=B5+B6+B7+B8+B9+B10+B12+B13,"OK","ERREUR") -> OK | C16: =+IF(C4+C11=C5+C6+C7+C8+C9+C10+C12+C13,"OK","ERREUR") -> OK | D16: =+IF(D4+D11=D5+D6+D7+D8+D9+D10+D12+D13,"OK","ERREUR") -> OK | E16: =+IF(E4+E11=E5+E6+E7+E8+E9+E10+E12+E13,"OK","ERREUR") -> OK | F16: =+IF(F4+F11=F5+F6+F7+F8+F9+F10+F12+F13,"OK","ERREUR") -> OK | G16: =+IF(G4+G11=G5+G6+G7+G8+G9+G10+G12+G13,"OK","ERREUR") -> OK | H16: =+IF(H4+H11=H5+H6+H7+H8+H9+H10+H12+H13,"OK","ERREUR") -> OK | I16: =+IF(I4+I11=I5+I6+I7+I8+I9+I10+I12+I13,"OK","ERREUR") -> OK | ... O16: =+IF(O4+O11=O5+O6+O7+O8+O9+O10+O12+O13,"OK","ERREUR") -> OK
A17: CA DHL du jour
A18: Taux de réussite

Sheet 28
I1: 28 | J1: =+'01'!$J$1 -> MARS | K1: =+#REF! -> #REF! | M1: TOTAL DU JOUR | N1: REPORT PRECEDENT | O1: TOTAL CUMULE
A2: CHAUFFEUR | B2: A | C2: B | D2: C | E2: D | F2: E | G2: F | H2: G | I2: H | J2: I | K2: J | L2: T
A4: Points en WC (relais inclus) | M4: =+SUM(B4:L4) -> 0 | N4: =+SUM('27'!N4) -> 0 | O4: =+M4+N4 -> 0
A5: Points OK | M5: =+SUM(B5:L5) -> 0 | N5: =+SUM('27'!N5) -> 0 | O5: =+M5+N5 -> 0
A6: Points Neighbour | M6: =+SUM(B6:L6) -> 0 | N6: =+SUM('27'!N6) -> 0 | O6: =+M6+N6 -> 0
A7: Points refusés | M7: =+SUM(B7:L7) -> 0 | N7: =+SUM('27'!N7) -> 0 | O7: =+M7+N7 -> 0
A8: Nombre de points relais | M8: =+SUM(B8:L8) -> 0 | N8: =+SUM('27'!N8) -> 0 | O8: =+M8+N8 -> 0
A9: Points avisés CC | M9: =+SUM(B9:L9) -> 0 | N9: =+SUM('27'!N9) -> 0 | O9: =+M9+N9 -> 0
A10: Points en retour | M10: =+SUM(B10:L10) -> 0 | N10: =+SUM('27'!N10) -> 0 | O10: =+M10+N10 -> 0
A11: Collectes tentées | M11: =+SUM(B11:L11) -> 0 | N11: =+SUM('27'!N11) -> 0 | O11: =+M11+N11 -> 0
A12: Collectes OK | M12: =+SUM(B12:L12) -> 0 | N12: =+SUM('27'!N12) -> 0 | O12: =+M12+N12 -> 0
A13: Collectes en echec | M13: =+SUM(B13:L13) -> 0 | N13: =+SUM('27'!N13) -> 0 | O13: =+M13+N13 -> 0
A14: Points livrés en agence | M14: =+SUM(B14:L14) -> 0 | N14: =+SUM('27'!N14) -> 0 | O14: =+M14+N14 -> 0
A15: Pénalités générées | M15: =+SUM(B15:L15) -> 0 | N15: =+SUM('27'!N15) -> 0 | O15: =+M15+N15 -> 0
A16: COHERENCE CHIFFRES | B16: =+IF(B4+B11=B5+B6+B7+B8+B9+B10+B12+B13,"OK","ERREUR") -> OK | C16: =+IF(C4+C11=C5+C6+C7+C8+C9+C10+C12+C13,"OK","ERREUR") -> OK | D16: =+IF(D4+D11=D5+D6+D7+D8+D9+D10+D12+D13,"OK","ERREUR") -> OK | E16: =+IF(E4+E11=E5+E6+E7+E8+E9+E10+E12+E13,"OK","ERREUR") -> OK | F16: =+IF(F4+F11=F5+F6+F7+F8+F9+F10+F12+F13,"OK","ERREUR") -> OK | G16: =+IF(G4+G11=G5+G6+G7+G8+G9+G10+G12+G13,"OK","ERREUR") -> OK | H16: =+IF(H4+H11=H5+H6+H7+H8+H9+H10+H12+H13,"OK","ERREUR") -> OK | I16: =+IF(I4+I11=I5+I6+I7+I8+I9+I10+I12+I13,"OK","ERREUR") -> OK | ... O16: =+IF(O4+O11=O5+O6+O7+O8+O9+O10+O12+O13,"OK","ERREUR") -> OK
A17: CA DHL du jour
A18: Taux de réussite

Sheet 29
I1: 29 | J1: =+'01'!$J$1 -> MARS | K1: =+#REF! -> #REF! | M1: TOTAL DU JOUR | N1: REPORT PRECEDENT | O1: TOTAL CUMULE
A2: CHAUFFEUR | B2: A | C2: B | D2: C | E2: D | F2: E | G2: F | H2: G | I2: H | J2: I | K2: J | L2: T
A4: Points en WC (relais inclus) | M4: =+SUM(B4:L4) -> 0 | N4: =+SUM('28'!N4) -> 0 | O4: =+M4+N4 -> 0
A5: Points OK | M5: =+SUM(B5:L5) -> 0 | N5: =+SUM('28'!N5) -> 0 | O5: =+M5+N5 -> 0
A6: Points Neighbour | M6: =+SUM(B6:L6) -> 0 | N6: =+SUM('28'!N6) -> 0 | O6: =+M6+N6 -> 0
A7: Points refusés | M7: =+SUM(B7:L7) -> 0 | N7: =+SUM('28'!N7) -> 0 | O7: =+M7+N7 -> 0
A8: Nombre de points relais | M8: =+SUM(B8:L8) -> 0 | N8: =+SUM('28'!N8) -> 0 | O8: =+M8+N8 -> 0
A9: Points avisés CC | M9: =+SUM(B9:L9) -> 0 | N9: =+SUM('28'!N9) -> 0 | O9: =+M9+N9 -> 0
A10: Points en retour | M10: =+SUM(B10:L10) -> 0 | N10: =+SUM('28'!N10) -> 0 | O10: =+M10+N10 -> 0
A11: Collectes tentées | M11: =+SUM(B11:L11) -> 0 | N11: =+SUM('28'!N11) -> 0 | O11: =+M11+N11 -> 0
A12: Collectes OK | M12: =+SUM(B12:L12) -> 0 | N12: =+SUM('28'!N12) -> 0 | O12: =+M12+N12 -> 0
A13: Collectes en echec | M13: =+SUM(B13:L13) -> 0 | N13: =+SUM('28'!N13) -> 0 | O13: =+M13+N13 -> 0
A14: Points livrés en agence | M14: =+SUM(B14:L14) -> 0 | N14: =+SUM('28'!N14) -> 0 | O14: =+M14+N14 -> 0
A15: Pénalités générées | M15: =+SUM(B15:L15) -> 0 | N15: =+SUM('28'!N15) -> 0 | O15: =+M15+N15 -> 0
A16: COHERENCE CHIFFRES | B16: =+IF(B4+B11=B5+B6+B7+B8+B9+B10+B12+B13,"OK","ERREUR") -> OK | C16: =+IF(C4+C11=C5+C6+C7+C8+C9+C10+C12+C13,"OK","ERREUR") -> OK | D16: =+IF(D4+D11=D5+D6+D7+D8+D9+D10+D12+D13,"OK","ERREUR") -> OK | E16: =+IF(E4+E11=E5+E6+E7+E8+E9+E10+E12+E13,"OK","ERREUR") -> OK | F16: =+IF(F4+F11=F5+F6+F7+F8+F9+F10+F12+F13,"OK","ERREUR") -> OK | G16: =+IF(G4+G11=G5+G6+G7+G8+G9+G10+G12+G13,"OK","ERREUR") -> OK | H16: =+IF(H4+H11=H5+H6+H7+H8+H9+H10+H12+H13,"OK","ERREUR") -> OK | I16: =+IF(I4+I11=I5+I6+I7+I8+I9+I10+I12+I13,"OK","ERREUR") -> OK | ... O16: =+IF(O4+O11=O5+O6+O7+O8+O9+O10+O12+O13,"OK","ERREUR") -> OK
A17: CA DHL du jour
A18: Taux de réussite

Sheet 30
