Workbook
Name Aucun: Produits!$D$10:$D$1000
Name AvecMargelles: Produits!$F$10:$F$1000
Name CALLELONGUE: CARRO!$D$34:$D$38
Name CARRO: CARRO!$E$34:$E$38
Name Horsmargelles: Produits!$E$10:$E$1000
Name MargellesCARRO: CARRO!$B$14:$B$18
Name Modèles: Produits!$A$10:$A$1000
Name MoyenRèglement: #REF!
Name PreteaplongerHT: Produits!$G$10:$G$1000

Sheet Produits
A1: Base produits
A5: Produits et services
A7: Modèles | B7: Dimensions intérieures | C7: Profondeur | D7: Nul | E7: Fournitures | G7: PRETE A PLONGER | H7: Marque | I7: Détail Kit
E9: HORS MARGELLES | F9: AVEC MARGELLES | G9: Hors terrassement
A10: AURON | B10: 5.70 X 2.95 | C10: 150 | D10: 0 | E10: 8865 | F10: 9493 | G10: 11166.67 | H10: GENERATION PISCINE
A11: BANDOL | B11: 7.50 x 3.85 | C11: 110 à 175 | D11: 0 | E11: 11069 | F11: 12058 | G11: 14476.67 | H11: GENERATION PISCINE
A12: BENDOR | B12: 10.30 x 4.30 | C12: 155 | D12: 0 | E12: 14903 | F12: 15752 | G12: 16162.53 | H12: GENERATION PISCINE
A13: CALLELONGUE | B13: 7.10 X 3.40 | C13: 150 | D13: 0 | E13: 10269 | F13: 10949 | G13: 11978 | H13: GENERATION PISCINE | I13: =[1]A13!$G$3 -> #REF!
A14: CARRO | B14: 4.00 X 2.00 | C14: 120 | D14: 0 | E14: 6885 | F14: 7361 | G14: 7910 | H14: GENERATION PISCINE | I14: =[1]A13!$G$3 -> #REF!
A15: CASSIS | B15: 10.30 x 4.30 | C15: 155 | D15: 0 | E15: 14677 | F15: 15526 | G15: 16020.83 | H15: GENERATION PISCINE
A16: CORNICHE | B16: 3.40 x 3.80 | C16: 150 | D16: 0 | E16: 8442 | F16: 8966 | G16: 10636 | H16: GENERATION PISCINE
A17: COULOIR DE NAGE | B17: 11.00 x 2.95 | C17: 150 | D17: 0 | E17: 13926 | F17: 14773 | G17: 15625 | H17: GENERATION PISCINE
A18: DEVENSON | B18: 6.30 X 3.20 | C18: 145 | D18: 0 | E18: 8992 | F18: 9615 | G18: 11558.33 | H18: GENERATION PISCINE
A19: ELEGANCE | B19: 8.50 x 3.80 | C19: 100 à 170 | D19: 0 | E19: 11272 | F19: 12014 | G19: 15560 | H19: GENERATION PISCINE
A20: ELEGANCE XL | B20: 10.00 x 4.15 | C20: 115 à 175 | D20: 0 | G20: 17016.67 | H20: GENERATION PISCINE
A21: FIGUEROLLE | B21: 7.90 x 3.80 | C21: 150 | D21: 0 | E21: 11294 | F21: 11996 | G21: 13566.67 | H21: GENERATION PISCINE
A22: FIGUEROLLE Secure | B22: 7.90 x 3.80 | C22: 150 | D22: 0 | E22: 18868 | F22: 19618 | G22: 23250 | H22: GENERATION PISCINE
A23: FREJUS | B23: 8.00 x 4.00 | C23: 140 ou 150 | D23: 0 | E23: 11632 | F23: 12667 | G23: 13875 | H23: GENERATION PISCINE
A24: GIENS | B24: 4.30 X 2.30 | C24: 110 | D24: 0 | E24: 6784 | F24: 7294 | G24: 8163.33 | H24: GENERATION PISCINE
A25: MEJEAN | B25: 5.00 X 2.50 | C25: 135 | D25: 0 | E25: 7461 | F25: 8005 | G25: 8750 | H25: GENERATION PISCINE
A26: MINI | B26: 4.20 X 2.30 | C26: 150 | D26: 0 | E26: 6778 | F26: 7288 | G26: 8458.33 | H26: GENERATION PISCINE
A27: MORGIOU | B27: 8.30 x 3.85 | C27: 110 à 180 | D27: 0 | E27: 11971 | F27: 13029 | G27: 14365 | H27: GENERATION PISCINE
A28: NIOLON | B28: 6.50 X 3.00 | C28: 145 | D28: 0 | E28: 8653 | F28: 9458 | G28: 11458.33 | H28: GENERATION PISCINE
A29: PIANA | B29: 5.00 x 4.30 | C29: 130 | D29: 0 | E29: 9217 | F29: 10089 | G29: 11541.67 | H29: GENERATION PISCINE
A30: PLANIER | B30: 9.00 x 4.30 | C30: 155 | D30: 0 | E30: 13955 | F30: 14725 | G30: 16583.33 | H30: GENERATION PISCINE
A31: POMAREGUE | B31: 10.50 x 4.20 | C31: 120 à 210 | D31: 0 | E31: 15579 | F31: 16798 | G31: 18375 | H31: GENERATION PISCINE
A32: PORT PIN 65 | B32: 6.50 x 3.50 | C32: 150 | D32: 0 | E32: 12886 | F32: 13691 | G32: 16166.67 | H32: GENERATION PISCINE
A33: PORT PIN 75 | B33: 7.50 x 3.50 | C33: 150 | D33: 0 | E33: 13663 | F33: 14513 | G33: 15750 | H33: GENERATION PISCINE
A34: PORT PIN 105 | B34: 10.50 x 4.20 | C34: 150 | D34: 0 | E34: 17069.33 | F34: 18100 | G34: 19083.33 | H34: GENERATION PISCINE
A35: PORQUEROLLE | B35: 8.50 x 4.30 | C35: 150 | D35: 0 | E35: 11431.33 | F35: 12597 | G35: 14483.33 | H35: GENERATION PISCINE
A36: PORT CROS | B36: 10.00 x 4.30 | C36: 150 | D36: 0 | E36: 14790 | F36: 16021 | G36: 16983.33 | H36: GENERATION PISCINE
A37: PRADO PLAGE | B37: 8.10 x 4.00 | C37: 150 | D37: 0 | E37: 12433 | F37: 13252 | G37: 14166.67 | H37: GENERATION PISCINE
A38: RIOU | B38: 9.00 x 4.20 | C38: 120 à 190 | D38: 0 | E38: 13436 | F38: 14529 | G38: 15125 | H38: GENERATION PISCINE
A39: SICIE | B39: 8.00 X 4.00 | C39: 145 | D39: 0 | E39: 10094 | F39: 11822 | G39: 13583.33 | H39: GENERATION PISCINE
A40: SORMIOU | B40: 7.50 X 3.50 | C40: 145 | D40: 0 | E40: 10167 | F40: 11076 | G40: 12062.5 | H40: GENERATION PISCINE
A41: SUGITON | B41: 8.50 x 4.30 | C41: 155 | D41: 0 | E41: 13211 | F41: 13981 | G41: 14458.33 | H41: GENERATION PISCINE
A42: PARIS | B42: 3 X 3 | C42: 156 | D42: 0 | E42: 7366 | F42: 8678 | G42: 9927.64 | H42: POOLBOX | I42: 1139 kg
A43: PERPIGNAN | B43: 4 X 2,5 | C43: 156 | D43: 0 | E43: 7789 | F43: 9101 | G43: 10351.15 | H43: POOLBOX | I43: 1245 kg
A44: NIMES | B44: 4 X 4 | C44: 156 | D44: 0 | E44: 9564 | F44: 10941 | G44: 12191.28 | H44: POOLBOX | I44: 1707 kg
A45: BORDEAUX | B45: 5 X 2,5 | C45: 156 | D45: 0 | E45: 8720 | F45: 10032 | G45: 11282.25 | H45: POOLBOX | I45: 1482 kg
...

Sheet DEVIS
G2: Numéro du devis : | J2: D00001 | M2: =IF(HLOOKUP($J$2,'[2]Base devis'!$C$5:$ALN$61,2,0)=0,"",HLOOKUP($J$2,'[2]Base devis'!$C$5:$ALN$61,2,0)) -> C00001
I6: DEVIS
I7: Date :
C10: Nom entreprise | G10: A :
G11: Adresse :
M19: ='[2]Vos données'!B17 -> 0.055 | N19: ='[2]Vos données'!B18 -> 0.1 | O19: ='[2]Vos données'!B19 -> 0.2
C20: Votre choix : | G20: PU HT | H20: Quantité | I20: Montant HT | J20: Montant TTC | M20: Montant TVA taux 1 | N20: Montant TVA taux 2 | O20: Montant TVA taux 3 | P20: Total TVA | Q20: Ordre | R20: Somme | S20: Référence | T20: Quantité | U20: Taux de TVA | V20: Rang | W20: Rang 2
C22: Fournitures : | D22: CARRO | G22: =VLOOKUP(D22,Produits!A10:G1000,F38) -> 6885 | H22: 1 | I22: =G22*H22 -> 6885 | J22: =I22*1.2 -> 8262 | M22: =IF($J22=M$19,$J22*$I22,0) -> 0 | N22: =IF($J22=N$19,$J22*$I22,0) -> 0 | O22: =IF($J22=O$19,$J22*$I22,0) -> 0 | P22: =IF(ISERROR(I22*J22),0,I22*J22) -> 56883870 | Q22: =IF(T22>0,1,"") -> 1 | R22: =Q22 -> 1 | S22: ='[2]Base produits'!A8 -> P0001 | T22: =HLOOKUP($J$2,'[2]Base devis'!$C$5:$ALN$161,V22,0) -> 5 | U22: ='[2]Base produits'!D8 -> 0.055 | V22: 8 | W22: 1
D23: ="Bassin : "&VLOOKUP(D22,Produits!A10:H1000,8) -> Bassin : GENERATION PISCINE
D24: ="Description"&" : "&VLOOKUP(D22,Produits!A10:B1000,2)&" m " -> Description : 4.00 X 2.00 m | M24: =IF($J24=M$19,$J24*$I24,0) -> 0 | N24: =IF($J24=N$19,$J24*$I24,0) -> 0 | O24: =IF($J24=O$19,$J24*$I24,0) -> 0 | P24: =IF(ISERROR(I24*J24),0,I24*J24) -> 0 | Q24: =IF(T24>0,1,"") -> 1 | R24: =SUM($Q$22:Q24) -> 2 | S24: ='[2]Base produits'!A9 -> P0002 | T24: =HLOOKUP($J$2,'[2]Base devis'!$C$5:$ALN$161,V24,0) -> 5 | U24: ='[2]Base produits'!D9 -> 0.055 | V24: 9 | W24: 2
D25: ="Profondeur : "&VLOOKUP(D22,Produits!A11:C1000,3,3)&" cm" -> Profondeur : 120 cm | M25: =IF($J25=M$19,$J25*$I25,0) -> 0 | N25: =IF($J25=N$19,$J25*$I25,0) -> 0 | O25: =IF($J25=O$19,$J25*$I25,0) -> 0 | P25: =IF(ISERROR(I25*J25),0,I25*J25) -> 0 | Q25: =IF(T25>0,1,"") -> 1 | R25: =SUM($Q$22:Q25) -> 3 | S25: ='[2]Base produits'!A10 -> P0003 | T25: =HLOOKUP($J$2,'[2]Base devis'!$C$5:$ALN$161,V25,0) -> 5 | U25: ='[2]Base produits'!D10 -> 0.055 | V25: 10 | W25: 3
D26: =[3]D22!$G$3 -> #REF!
D38: HorsMargelles | F38: =IF(D38="Aucun",4,"0")&IF(D38="HorsMargelles",5,"")&IF(D38="AvecMargelles",6,"")&IF(D38="PreteaplongerHT",7,"") -> 05
D39: MARGELLE PLATE EVASION 50X25X3 CARRO | G39: =VLOOKUP(D39,CARRO!B14:E18,4) -> 476 | H39: 1 | I39: =H39*G39 -> 476 | J39: =I39*1.2 -> 571.2 | M39: =IF($J39=M$19,$J39*$I39,0) -> 0 | N39: =IF($J39=N$19,$J39*$I39,0) -> 0 | O39: =IF($J39=O$19,$J39*$I39,0) -> 0 | P39: =IF(ISERROR(I39*J39),0,I39*J39) -> 271891.2 | Q39: =IF(T39>0,1,"") | R39: =SUM($Q$22:Q39) -> 3 | S39: ='[2]Base produits'!A11 -> P0004 | T39: =HLOOKUP($J$2,'[2]Base devis'!$C$5:$ALN$161,V39,0) -> 0 | U39: ='[2]Base produits'!D11 -> 0.055 | V39: 11 | W39: 4
H40: SOUS TOTAL TTC : | J40: =SUM(J22:J39) -> 8833.2
M41: =IF(#REF!=M$19,#REF!*#REF!,0) -> #REF! | N41: =IF(#REF!=N$19,#REF!*#REF!,0) -> #REF! | O41: =IF(#REF!=O$19,#REF!*#REF!,0) -> #REF! | P41: =IF(ISERROR(#REF!*#REF!),0,#REF!*#REF!) -> 0 | Q41: =IF(T41>0,1,"") | R41: =SUM($Q$22:Q41) -> 3 | S41: ='[2]Base produits'!A12 -> P0005 | T41: =HLOOKUP($J$2,'[2]Base devis'!$C$5:$ALN$161,V41,0) -> 0 | U41: ='[2]Base produits'!D12 -> 0.055 | V41: 12 | W41: 5
C42: Pose : | E42: Compris | G42: 500 | H42: 1 | I42: =IF(ISERROR(G42*H42),"",G42*H42) -> 500 | J42: =I42*1.2 -> 600 | M42: =IF($J42=M$19,$J42*$I42,0) -> 0 | N42: =IF($J42=N$19,$J42*$I42,0) -> 0 | O42: =IF($J42=O$19,$J42*$I42,0) -> 0 | P42: =IF(ISERROR(I42*J42),0,I42*J42) -> 300000 | Q42: =IF(T42>0,1,"") | R42: =SUM($Q$22:Q42) -> 3 | S42: ='[2]Base produits'!A13 -> P0006 | T42: =HLOOKUP($J$2,'[2]Base devis'!$C$5:$ALN$161,V42,0) -> 0 | U42: ='[2]Base produits'!D13 -> 0.055 | V42: 13 | W42: 6
G49: =IF(ISERROR(VLOOKUP(C49,'[4]Base produits'!$A$8:$H$158,3,0)),"",VLOOKUP(C49,'[4]Base produits'!$A$8:$H$158,3,0)) | H49: =IF(ISERROR(VLOOKUP($W49,$R$22:$V$197,3,0)),"",VLOOKUP($W49,$R$22:$V$197,3,0)) | I49: =IF(ISERROR(G49*H49),"",G49*H49) | M49: =IF($J49=M$19,$J49*$I49,0) -> 0 | N49: =IF($J49=N$19,$J49*$I49,0) -> 0 | O49: =IF($J49=O$19,$J49*$I49,0) -> 0 | P49: =IF(ISERROR(I49*J49),0,I49*J49) -> 0 | Q49: =IF(T49>0,1,"") | R49: =SUM($Q$22:Q49) -> 3 | S49: ='[2]Base produits'!A14 -> P0007 | T49: =HLOOKUP($J$2,'[2]Base devis'!$C$5:$ALN$161,V49,0) -> 0 | U49: ='[2]Base produits'!D14 -> 0.055 | V49: 14 | W49: 7
G50: =IF(ISERROR(VLOOKUP(C50,'[4]Base produits'!$A$8:$H$158,3,0)),"",VLOOKUP(C50,'[4]Base produits'!$A$8:$H$158,3,0)) | H50: =IF(ISERROR(VLOOKUP($W50,$R$22:$V$197,3,0)),"",VLOOKUP($W50,$R$22:$V$197,3,0)) | I50: =IF(ISERROR(G50*H50),"",G50*H50) | M50: =IF($J50=M$19,$J50*$I50,0) -> 0 | N50: =IF($J50=N$19,$J50*$I50,0) -> 0 | O50: =IF($J50=O$19,$J50*$I50,0) -> 0 | P50: =IF(ISERROR(I50*J50),0,I50*J50) -> 0 | Q50: =IF(T50>0,1,"") | R50: =SUM($Q$22:Q50) -> 3 | S50: ='[2]Base produits'!A15 -> P0008 | T50: =HLOOKUP($J$2,'[2]Base devis'!$C$5:$ALN$161,V50,0) -> 0 | U50: ='[2]Base produits'!D15 -> 0.055 | V50: 15 | W50: 8
H53: SOUS TOTAL TTC : | J53: =SUM(J42:J52) -> 600
C55: Options :
D57: =IF(ISERROR(VLOOKUP(C69,'[4]Base produits'!$A$8:$H$158,2,0)),"",VLOOKUP(C69,'[4]Base produits'!$A$8:$H$158,2,0)) | G57: =IF(ISERROR(VLOOKUP(C69,'[4]Base produits'!$A$8:$H$158,3,0)),"",VLOOKUP(C69,'[4]Base produits'!$A$8:$H$158,3,0)) | H57: =IF(ISERROR(VLOOKUP($W57,$R$22:$V$197,3,0)),"",VLOOKUP($W57,$R$22:$V$197,3,0)) | I57: =IF(ISERROR(G57*H57),"",G57*H57) | M57: =IF($J57=M$19,$J57*$I57,0) -> 0 | N57: =IF($J57=N$19,$J57*$I57,0) -> 0 | O57: =IF($J57=O$19,$J57*$I57,0) -> 0 | P57: =IF(ISERROR(I57*J57),0,I57*J57) -> 0 | Q57: =IF(T57>0,1,"") | R57: =SUM($Q$22:Q57) -> 3 | S57: ='[2]Base produits'!A34 -> P0027 | T57: =HLOOKUP($J$2,'[2]Base devis'!$C$5:$ALN$161,V57,0) -> 0 | U57: ='[2]Base produits'!D34 -> 0 | V57: 34 | W57: 27
D58: =IF(ISERROR(VLOOKUP(C58,'[4]Base produits'!$A$8:$H$158,2,0)),"",VLOOKUP(C58,'[4]Base produits'!$A$8:$H$158,2,0)) | G58: =IF(ISERROR(VLOOKUP(C58,'[4]Base produits'!$A$8:$H$158,3,0)),"",VLOOKUP(C58,'[4]Base produits'!$A$8:$H$158,3,0)) | H58: =IF(ISERROR(VLOOKUP($W58,$R$22:$V$197,3,0)),"",VLOOKUP($W58,$R$22:$V$197,3,0)) | I58: =IF(ISERROR(G58*H58),"",G58*H58) | M58: =IF($J58=M$19,$J58*$I58,0) -> 0 | N58: =IF($J58=N$19,$J58*$I58,0) -> 0 | O58: =IF($J58=O$19,$J58*$I58,0) -> 0 | P58: =IF(ISERROR(I58*J58),0,I58*J58) -> 0 | Q58: =IF(T58>0,1,"") | R58: =SUM($Q$22:Q58) -> 3 | S58: ='[2]Base produits'!A35 -> P0028 | T58: =HLOOKUP($J$2,'[2]Base devis'!$C$5:$ALN$161,V58,0) -> 0 | U58: ='[2]Base produits'!D35 -> 0 | V58: 35 | W58: 28
H59: =IF(ISERROR(VLOOKUP($W59,$R$22:$V$197,3,0)),"",VLOOKUP($W59,$R$22:$V$197,3,0)) | I59: =IF(ISERROR(G59*H59),"",G59*H59) | M59: =IF($J59=M$19,$J59*$I59,0) -> 0 | N59: =IF($J59=N$19,$J59*$I59,0) -> 0 | O59: =IF($J59=O$19,$J59*$I59,0) -> 0 | P59: =IF(ISERROR(I59*J59),0,I59*J59) -> 0 | Q59: =IF(T59>0,1,"") | R59: =SUM($Q$22:Q59) -> 3 | S59: ='[2]Base produits'!A36 -> P0029 | T59: =HLOOKUP($J$2,'[2]Base devis'!$C$5:$ALN$161,V59,0) -> 0 | U59: ='[2]Base produits'!D36 -> 0 | V59: 36 | W59: 29
D60: =IF(ISERROR(VLOOKUP(C60,'[4]Base produits'!$A$8:$H$158,2,0)),"",VLOOKUP(C60,'[4]Base produits'!$A$8:$H$158,2,0)) | G60: =IF(ISERROR(VLOOKUP(C60,'[4]Base produits'!$A$8:$H$158,3,0)),"",VLOOKUP(C60,'[4]Base produits'!$A$8:$H$158,3,0)) | H60: =IF(ISERROR(VLOOKUP($W60,$R$22:$V$197,3,0)),"",VLOOKUP($W60,$R$22:$V$197,3,0)) | I60: =IF(ISERROR(G60*H60),"",G60*H60) | M60: =IF($J60=M$19,$J60*$I60,0) -> 0 | N60: =IF($J60=N$19,$J60*$I60,0) -> 0 | O60: =IF($J60=O$19,$J60*$I60,0) -> 0 | P60: =IF(ISERROR(I60*J60),0,I60*J60) -> 0 | Q60: =IF(T60>0,1,"") | R60: =SUM($Q$22:Q60) -> 3 | S60: ='[2]Base produits'!A38 -> P0031 | T60: =HLOOKUP($J$2,'[2]Base devis'!$C$5:$ALN$161,V60,0) -> 0 | U60: ='[2]Base produits'!D38 -> 0 | V60: 38 | W60: 31
H67: SOUS TOTAL TTC : | J67: =SUM(J55:J66) -> 0
C69: Garanties :
C76: Conditions :
Q81: =IF(T81>0,1,"") | R81: =SUM($Q$22:Q81) -> 3 | S81: ='[2]Base produits'!A40 -> P0033 | T81: =HLOOKUP($J$2,'[2]Base devis'!$C$5:$ALN$161,V81,0) -> 0 | U81: ='[2]Base produits'!D40 -> 0 | V81: 40 | W81: 33
I82: € HT | J82: =(J67+J53+J40)/1.2 -> 7861 | Q82: =IF(T82>0,1,"") | R82: =SUM($Q$22:Q82) -> 3 | S82: ='[2]Base produits'!A41 -> P0034 | T82: =HLOOKUP($J$2,'[2]Base devis'!$C$5:$ALN$161,V82,0) -> 0 | U82: ='[2]Base produits'!D41 -> 0 | V82: 41 | W82: 34
C83: Règlement : | D83: Carte bancaire | I83: =IF(ISBLANK(HLOOKUP($J$2,'[2]Base devis'!$C$5:$ALN$61,7,0)),"","Remise :") -> Remise : | J83: 0.4 | Q83: =IF(T83>0,1,"") | R83: =SUM($Q$22:Q83) -> 3 | S83: ='[2]Base produits'!A42 -> P0035 | T83: =HLOOKUP($J$2,'[2]Base devis'!$C$5:$ALN$161,V83,0) -> 0 | U83: ='[2]Base produits'!D42 -> 0 | V83: 42 | W83: 35
H84: TOTAL € | I84: HT | J84: =J82*(1-J83) -> 4716.6 | Q84: =IF(T84>0,1,"") | R84: =SUM($Q$22:Q84) -> 3 | S84: ='[2]Base produits'!A43 -> P0036 | T84: =HLOOKUP($J$2,'[2]Base devis'!$C$5:$ALN$161,V84,0) -> 0 | U84: ='[2]Base produits'!D43 -> 0 | V84: 43 | W84: 36
I85: TTC | J85: =J84*1.2 -> 5659.92 | Q85: =IF(T85>0,1,"") | R85: =SUM($Q$22:Q85) -> 3 | S85: ='[2]Base produits'!A44 -> P0037 | T85: =HLOOKUP($J$2,'[2]Base devis'!$C$5:$ALN$161,V85,0) -> 0 | U85: ='[2]Base produits'!D44 -> 0 | V85: 44 | W85: 37
Q86: =IF(T86>0,1,"") | R86: =SUM($Q$22:Q86) -> 3 | S86: ='[2]Base produits'!A45 -> P0038 | T86: =HLOOKUP($J$2,'[2]Base devis'!$C$5:$ALN$161,V86,0) -> 0 | U86: ='[2]Base produits'!D45 -> 0 | V86: 45 | W86: 38
C87: Merci de nous retourner ce devis signé avec la mention "bon pour accord" | Q87: =IF(T87>0,1,"") | R87: =SUM($Q$22:Q87) -> 3 | S87: ='[2]Base produits'!A46 -> P0039 | T87: =HLOOKUP($J$2,'[2]Base devis'!$C$5:$ALN$161,V87,0) -> 0 | U87: ='[2]Base produits'!D46 -> 0 | V87: 46 | W87: 39
G88: =IF('[2]Vos données'!A22="oui","Exonéré de TVA, article 293-B du CGI","") | Q88: =IF(T88>0,1,"") | R88: =SUM($Q$22:Q88) -> 3 | S88: ='[2]Base produits'!A47 -> P0040 | T88: =HLOOKUP($J$2,'[2]Base devis'!$C$5:$ALN$161,V88,0) -> 0 | U88: ='[2]Base produits'!D47 -> 0 | V88: 47 | W88: 40
Q89: =IF(T89>0,1,"") | R89: =SUM($Q$22:Q89) -> 3 | S89: ='[2]Base produits'!A49 -> P0042 | T89: =HLOOKUP($J$2,'[2]Base devis'!$C$5:$ALN$161,V89,0) -> 0 | U89: ='[2]Base produits'!D49 -> 0 | V89: 49 | W89: 42
Q90: =IF(T90>0,1,"") | R90: =SUM($Q$22:Q90) -> 3 | S90: ='[2]Base produits'!A50 -> P0043 | T90: =HLOOKUP($J$2,'[2]Base devis'!$C$5:$ALN$161,V90,0) -> 0 | U90: ='[2]Base produits'!D50 -> 0 | V90: 50 | W90: 43
Q91: =IF(T91>0,1,"") | R91: =SUM($Q$22:Q91) -> 3 | S91: ='[2]Base produits'!A51 -> P0044 | T91: =HLOOKUP($J$2,'[2]Base devis'!$C$5:$ALN$161,V91,0) -> 0 | U91: ='[2]Base produits'!D51 -> 0 | V91: 51 | W91: 44
Q92: =IF(T92>0,1,"") | R92: =SUM($Q$22:Q92) -> 3 | S92: ='[2]Base produits'!A52 -> P0045 | T92: =HLOOKUP($J$2,'[2]Base devis'!$C$5:$ALN$161,V92,0) -> 0 | U92: ='[2]Base produits'!D52 -> 0 | V92: 52 | W92: 45
...

Sheet CALLELONGUE
A1: CALLELONGUE
A3: REFERENCE GP | B3: TRAITEMENT DE L'EAU | C3: FOURNISSEUR | D3: REFERENCE FOURNISSEUR | E3: PRIX HT | G3: Le kit complet CALLELONGUE comprend • la coque polyester • 1 projecteur LED • Le matériel de filtration : - 1 pompe 0,5 CV - 1 skimmer - 2 Buses de refoulement - 1 prise balai - 1 bonde de fond + 1 Bonde de sécurité • Le matériel d'entretien : - 1 brosse à paroi et une épuisette - 1 balai aspirateur et 1 tuyau flottant - 1 manche télescopique - 1 trousse d'analyse
A4: BROMCHLO | B4: doseur brome/ chhlore | C4: ASTRAL | D4: 46549 | E4: 45
A5: zelia 30 | B5: EMECTRPMUSEUR POUR LT 30 M3 Thermorégulation, contact volet | C5: CCEI | D5: PF10I060 | E5: 512
A6: REGULPH+ | B6: POMPE DOSEUSE PH PHILEO LT | C6: CCEI | D6: PF10J001 | E6: 300
A7: REGULPH++ | B7: POMPE DOSEUSE PH PHILEO AVEC AFFICHAGE DIGITAL | C7: CCEI | D7: PF10J008 | E7: 450
A9: REFERENCE GP | B9: POMPE A CHALEUR | C9: FOURNISSEUR | D9: REFERENCE FOURNISSEUR | E9: PRIX HT
A10: PAC5 | B10: POMPE A CHALEUR PAC 5,8 KW - 15-35 M3 | C10: POLYTROPIC | D10: POOLPAC 06 | E10: 900
A11: PAC6+ | B11: POMPE A CHALEUR 6KW EASY TEMP | C11: hayward | D11: ECP06 | E11: 850
A13: REFERENCE GP | B13: MARGELLES | C13: FOURNISSEUR | D13: REFERENCE FOURNISSEUR | E13: PRIX HT
A14: MARGEVCAR | B14: A | C14: ARTEMAT | D14: - | E14: 500
A15: MARGTRCAR | B15: B | C15: RHONE PIERRE | D15: - | E15: 500
A16: MARGDCAR | B16: C | C16: DECOREMI | D16: - | E16: 550
A17: MARGTRCAR5 | B17: D | C17: RHONE PIERRE | D17: - | E17: 600
A18: MARGFCAR | B18: E | C18: ARTEMAT | D18: FONTVIEILLE | E18: 800
A20: REFERENCE GP | B20: BACHES ET ACCESSOIRES | C20: FOURNISSEUR | D20: REFERENCE FOURNISSEUR | E20: PRIX HT
A21: BETECAR | B21: BACHE ÉTÉ BULLE BORDE 4C - CARRO BU4004C/BB | C21: JM BACHE | D21: BU4004C/BB | E21: 100
A22: BHIVCAR | B22: BACHE HIVER SECURITE - CARRO | C22: JM BACHE | D22: Sécuritis - rectangulaire | E22: 200
A23: jmBSECCAR | B23: BACHE A BARRES CLASSIC - CARRO | C23: JM BACHE | D23: Bâche à barres Classic BACLA | E23: 350
A24: jmBSECCARM | B24: BACHE A BARRES BASIC - CARRO | C24: JM BACHE | D24: Bâche à barres Basic BABAS | E24: 600
A26: REFERENCE GP | B26: VOLET ROULANT | C26: FOURNISSEUR | D26: REFERENCE FOURNISSEUR | E26: PRIX HT
A27: VRHSCAR | B27: VOLET ROULANT HS CARRO | C27: AQUALIFE | D27: non homologué | E27: 2580
A28: VRICAR | B28: VOLET ROULANT IMMERGE DANS CAISSON CARRO | C28: AQUALIFE | D28: non homologué | E28: 10000
A29: VRACAR | B29: VOLET ROULANT EN ATTENTE DANS CAISSON CARRO | C29: GP | D29: non homologué | E29: 6000

Sheet CARRO
A1: CARRO : | B1: CARRO
A3: REFERENCE GP | B3: TRAITEMENT DE L'EAU | C3: FOURNISSEUR | D3: REFERENCE FOURNISSEUR | E3: PRIX HT | G3: Le kit complet CARRO comprend • la coque polyester • 1 projecteur LED • Le matériel de filtration : - 1 pompe 0,5 CV - 1 skimmer - 2 Buses de refoulement - 1 prise balai - 1 bonde de fond + 1 Bonde de sécurité • Le matériel d'entretien : - 1 brosse à paroi et une épuisette - 1 balai aspirateur et 1 tuyau flottant - 1 manche télescopique - 1 trousse d'analyse
A4: BROMCHLO | B4: doseur brome/ chhlore | C4: ASTRAL | D4: 46549 | E4: 87
A5: zelia 30 | B5: EMECTRPMUSEUR POUR LT 30 M3 Thermorégulation, contact volet | C5: CCEI | D5: PF10I060 | E5: 401
A6: REGULPH+ | B6: POMPE DOSEUSE PH PHILEO LT | C6: CCEI | D6: PF10J001 | E6: 266
A7: REGULPH++ | B7: POMPE DOSEUSE PH PHILEO AVEC AFFICHAGE DIGITAL | C7: CCEI | D7: PF10J008 | E7: 433
A9: REFERENCE GP | B9: POMPE A CHALEUR | C9: FOURNISSEUR | D9: REFERENCE FOURNISSEUR | E9: PRIX HT
A10: PAC5 | B10: POMPE A CHALEUR PAC 5,8 KW - 15-35 M3 | C10: POLYTROPIC | D10: POOLPAC 06 | E10: 875
A11: PAC6+ | B11: POMPE A CHALEUR 6KW EASY TEMP | C11: hayward | D11: ECP06 | E11: 972
A13: REFERENCE GP | B13: MARGELLES | C13: FOURNISSEUR | D13: REFERENCE FOURNISSEUR | E13: PRIX HT
A14: MARGEVCAR | B14: MARGELLE PLATE EVASION 50X25X3 CARRO | C14: ARTEMAT | D14: - | E14: 476
A15: MARGTRCAR | B15: MARGELLE PLATE TRAVERTIN DEMI ROND EP3, 60X40,6 CARRO (24) | C15: RHONE PIERRE | D15: - | E15: 424
A16: MARGDCAR | B16: MARGELLE STANDARD CARRO | C16: DECOREMI | D16: - | E16: 598
A17: MARGTRCAR5 | B17: MARGELLE BASSIN TRAVERTIN BORDS DROITS EPS 61*33 CARRO (24) | C17: RHONE PIERRE | D17: - | E17: 554
A18: MARGFCAR | B18: MARGELLE GALBEE ARTEMAT FONTVIEILLE CARRO | C18: ARTEMAT | D18: FONTVIEILLE | E18: 690
A20: REFERENCE GP | B20: BACHES ET ACCESSOIRES | C20: FOURNISSEUR | D20: REFERENCE FOURNISSEUR | E20: PRIX HT
A21: BETECAR | B21: BACHE ÉTÉ BULLE BORDE 4C - CARRO BU4004C/BB | C21: JM BACHE | D21: BU4004C/BB | E21: 97
A22: BHIVCAR | B22: BACHE HIVER SECURITE - CARRO | C22: JM BACHE | D22: Sécuritis - rectangulaire | E22: 175
A23: jmBSECCAR | B23: BACHE A BARRES CLASSIC - CARRO | C23: JM BACHE | D23: Bâche à barres Classic BACLA | E23: 525
A24: jmBSECCARM | B24: BACHE A BARRES BASIC - CARRO | C24: JM BACHE | D24: Bâche à barres Basic BABAS | E24: 482
A26: REFERENCE GP | B26: VOLET ROULANT | C26: FOURNISSEUR | D26: REFERENCE FOURNISSEUR | E26: PRIX HT
A27: VRHSCAR | B27: VOLET ROULANT HS CARRO | C27: AQUALIFE | D27: non homologué | E27: 2370
A28: VRICAR | B28: VOLET ROULANT IMMERGE DANS CAISSON CARRO | C28: AQUALIFE | D28: non homologué | E28: 9216
A29: VRACAR | B29: VOLET ROULANT EN ATTENTE DANS CAISSON CARRO | C29: GP | D29: non homologué | E29: 5448
