Workbook
Name FRBOARD: #REF!
Name HEBERGEURS: '2013'!#REF!
Name HEBERGEURS: '2014'!#REF!
Name HEBERGEURS: '2015'!#REF!
Name HEBERGEURS: '2016'!#REF!
Name HEBERGEURS: '2017'!#REF!
Name HEBERGEURS: '2018'!#REF!
Name HEBERGEURS: '2019'!#REF!
Name HEBERGEURS: '2020'!#REF!
Name HEBERGEURS: FUN!#REF!
Name HEBERGEURS: NRJ!#REF!
Name HEBERGEURS: SKYROCK!#REF!
Name UZ: NRJ!#REF!
Name UZ: #REF!

Sheet 2013
A1: =IF(B1="","",RIGHT(CELL("nomfichier",A1),LEN(CELL("nomfichier",A1))-FIND("]",CELL("nomfichier",A1)))) -> 2013 | B1: Direction Zouk
A2: =IF(B2="","",RIGHT(CELL("nomfichier",A2),LEN(CELL("nomfichier",A2))-FIND("]",CELL("nomfichier",A2)))) -> 2013 | B2: Erogen Kompa, Vol 2
A3: =IF(B3="","",RIGHT(CELL("nomfichier",A3),LEN(CELL("nomfichier",A3))-FIND("]",CELL("nomfichier",A3)))) -> 2013 | B3: Viens Zouker 4: Nostalgie
A4: =IF(B4="","",RIGHT(CELL("nomfichier",A4),LEN(CELL("nomfichier",A4))-FIND("]",CELL("nomfichier",A4)))) -> 2013 | B4: Zouk Atomique
A5: =IF(B5="","",RIGHT(CELL("nomfichier",A5),LEN(CELL("nomfichier",A5))-FIND("]",CELL("nomfichier",A5)))) -> 2013 | B5: Zumba Fitness Dance Party Summer 2013
A6: =IF(B6="","",RIGHT(CELL("nomfichier",A6),LEN(CELL("nomfichier",A6))-FIND("]",CELL("nomfichier",A6))))
A7: =IF(B7="","",RIGHT(CELL("nomfichier",A7),LEN(CELL("nomfichier",A7))-FIND("]",CELL("nomfichier",A7))))
A8: =IF(B8="","",RIGHT(CELL("nomfichier",A8),LEN(CELL("nomfichier",A8))-FIND("]",CELL("nomfichier",A8))))
A9: =IF(B9="","",RIGHT(CELL("nomfichier",A9),LEN(CELL("nomfichier",A9))-FIND("]",CELL("nomfichier",A9))))
A10: =IF(B10="","",RIGHT(CELL("nomfichier",A10),LEN(CELL("nomfichier",A10))-FIND("]",CELL("nomfichier",A10))))
A11: =IF(B11="","",RIGHT(CELL("nomfichier",A11),LEN(CELL("nomfichier",A11))-FIND("]",CELL("nomfichier",A11))))
A12: =IF(B12="","",RIGHT(CELL("nomfichier",A12),LEN(CELL("nomfichier",A12))-FIND("]",CELL("nomfichier",A12))))
A13: =IF(B13="","",RIGHT(CELL("nomfichier",A13),LEN(CELL("nomfichier",A13))-FIND("]",CELL("nomfichier",A13))))
A14: =IF(B14="","",RIGHT(CELL("nomfichier",A14),LEN(CELL("nomfichier",A14))-FIND("]",CELL("nomfichier",A14))))
A15: =IF(B15="","",RIGHT(CELL("nomfichier",A15),LEN(CELL("nomfichier",A15))-FIND("]",CELL("nomfichier",A15))))
A16: =IF(B16="","",RIGHT(CELL("nomfichier",A16),LEN(CELL("nomfichier",A16))-FIND("]",CELL("nomfichier",A16))))
A17: =IF(B17="","",RIGHT(CELL("nomfichier",A17),LEN(CELL("nomfichier",A17))-FIND("]",CELL("nomfichier",A17))))
... A50: =IF(B50="","",RIGHT(CELL("nomfichier",A50),LEN(CELL("nomfichier",A50))-FIND("]",CELL("nomfichier",A50))))

Sheet 2014
A1: =IF(B1="","",RIGHT(CELL("nomfichier",A1),LEN(CELL("nomfichier",A1))-FIND("]",CELL("nomfichier",A1)))) -> 2014 | B1: La Compile femmes fatales
A2: =IF(B2="","",RIGHT(CELL("nomfichier",A2),LEN(CELL("nomfichier",A2))-FIND("]",CELL("nomfichier",A2)))) -> 2014 | B2: Zouk Session 2014
A3: =IF(B3="","",RIGHT(CELL("nomfichier",A3),LEN(CELL("nomfichier",A3))-FIND("]",CELL("nomfichier",A3)))) -> 2014 | B3: Zouk Session 2015
A4: =IF(B4="","",RIGHT(CELL("nomfichier",A4),LEN(CELL("nomfichier",A4))-FIND("]",CELL("nomfichier",A4))))
A5: =IF(B5="","",RIGHT(CELL("nomfichier",A5),LEN(CELL("nomfichier",A5))-FIND("]",CELL("nomfichier",A5))))
A6: =IF(B6="","",RIGHT(CELL("nomfichier",A6),LEN(CELL("nomfichier",A6))-FIND("]",CELL("nomfichier",A6))))
A7: =IF(B7="","",RIGHT(CELL("nomfichier",A7),LEN(CELL("nomfichier",A7))-FIND("]",CELL("nomfichier",A7))))
A8: =IF(B8="","",RIGHT(CELL("nomfichier",A8),LEN(CELL("nomfichier",A8))-FIND("]",CELL("nomfichier",A8))))
A9: =IF(B9="","",RIGHT(CELL("nomfichier",A9),LEN(CELL("nomfichier",A9))-FIND("]",CELL("nomfichier",A9))))
A10: =IF(B10="","",RIGHT(CELL("nomfichier",A10),LEN(CELL("nomfichier",A10))-FIND("]",CELL("nomfichier",A10))))
A11: =IF(B11="","",RIGHT(CELL("nomfichier",A11),LEN(CELL("nomfichier",A11))-FIND("]",CELL("nomfichier",A11))))
A12: =IF(B12="","",RIGHT(CELL("nomfichier",A12),LEN(CELL("nomfichier",A12))-FIND("]",CELL("nomfichier",A12))))
A13: =IF(B13="","",RIGHT(CELL("nomfichier",A13),LEN(CELL("nomfichier",A13))-FIND("]",CELL("nomfichier",A13))))
A14: =IF(B14="","",RIGHT(CELL("nomfichier",A14),LEN(CELL("nomfichier",A14))-FIND("]",CELL("nomfichier",A14))))
A15: =IF(B15="","",RIGHT(CELL("nomfichier",A15),LEN(CELL("nomfichier",A15))-FIND("]",CELL("nomfichier",A15))))
... A50: =IF(B50="","",RIGHT(CELL("nomfichier",A50),LEN(CELL("nomfichier",A50))-FIND("]",CELL("nomfichier",A50))))

Sheet 2015
A1: =IF(B1="","",RIGHT(CELL("nomfichier",A1),LEN(CELL("nomfichier",A1))-FIND("]",CELL("nomfichier",A1)))) -> 2015 | B1: 60 Hits Summer 2015
A2: =IF(B2="","",RIGHT(CELL("nomfichier",A2),LEN(CELL("nomfichier",A2))-FIND("]",CELL("nomfichier",A2)))) -> 2015 | B2: Ça c'est vraiment nous
A3: =IF(B3="","",RIGHT(CELL("nomfichier",A3),LEN(CELL("nomfichier",A3))-FIND("]",CELL("nomfichier",A3)))) -> 2015 | B3: Dj Abdel & Dj Kost - Double Face 2015
A4: =IF(B4="","",RIGHT(CELL("nomfichier",A4),LEN(CELL("nomfichier",A4))-FIND("]",CELL("nomfichier",A4)))) -> 2015 | B4: Erogen Kompa, Vol 3
A5: =IF(B5="","",RIGHT(CELL("nomfichier",A5),LEN(CELL("nomfichier",A5))-FIND("]",CELL("nomfichier",A5)))) -> 2015 | B5: Givmeall Hit Stars
A6: =IF(B6="","",RIGHT(CELL("nomfichier",A6),LEN(CELL("nomfichier",A6))-FIND("]",CELL("nomfichier",A6)))) -> 2015 | B6: Kizomba Latina 2015
A7: =IF(B7="","",RIGHT(CELL("nomfichier",A7),LEN(CELL("nomfichier",A7))-FIND("]",CELL("nomfichier",A7)))) -> 2015 | B7: La Grosse Machine Kompa, Volume 6
A8: =IF(B8="","",RIGHT(CELL("nomfichier",A8),LEN(CELL("nomfichier",A8))-FIND("]",CELL("nomfichier",A8)))) -> 2015 | B8: L'année du zouk 2015
A9: =IF(B9="","",RIGHT(CELL("nomfichier",A9),LEN(CELL("nomfichier",A9))-FIND("]",CELL("nomfichier",A9)))) -> 2015 | B9: Les Stars font leur cinéma
A10: =IF(B10="","",RIGHT(CELL("nomfichier",A10),LEN(CELL("nomfichier",A10))-FIND("]",CELL("nomfichier",A10)))) -> 2015 | B10: Nikki Beach Summer 2015
A11: =IF(B11="","",RIGHT(CELL("nomfichier",A11),LEN(CELL("nomfichier",A11))-FIND("]",CELL("nomfichier",A11)))) -> 2015 | B11: RTL 2 Le Son Pop Rock
A12: =IF(B12="","",RIGHT(CELL("nomfichier",A12),LEN(CELL("nomfichier",A12))-FIND("]",CELL("nomfichier",A12)))) -> 2015 | B12: RTL 2 Le Son Pop Rock Rentrée 2015
... A17: =IF(B17="","",RIGHT(CELL("nomfichier",A17),LEN(CELL("nomfichier",A17))-FIND("]",CELL("nomfichier",A17)))) -> 2015 | B17: Zouk Sweety
A18: =IF(B18="","",RIGHT(CELL("nomfichier",A18),LEN(CELL("nomfichier",A18))-FIND("]",CELL("nomfichier",A18))))
A19: =IF(B19="","",RIGHT(CELL("nomfichier",A19),LEN(CELL("nomfichier",A19))-FIND("]",CELL("nomfichier",A19))))
A20: =IF(B20="","",RIGHT(CELL("nomfichier",A20),LEN(CELL("nomfichier",A20))-FIND("]",CELL("nomfichier",A20))))
A21: =IF(B21="","",RIGHT(CELL("nomfichier",A21),LEN(CELL("nomfichier",A21))-FIND("]",CELL("nomfichier",A21))))
A22: =IF(B22="","",RIGHT(CELL("nomfichier",A22),LEN(CELL("nomfichier",A22))-FIND("]",CELL("nomfichier",A22))))
A23: =IF(B23="","",RIGHT(CELL("nomfichier",A23),LEN(CELL("nomfichier",A23))-FIND("]",CELL("nomfichier",A23))))
A24: =IF(B24="","",RIGHT(CELL("nomfichier",A24),LEN(CELL("nomfichier",A24))-FIND("]",CELL("nomfichier",A24))))
A25: =IF(B25="","",RIGHT(CELL("nomfichier",A25),LEN(CELL("nomfichier",A25))-FIND("]",CELL("nomfichier",A25))))
A26: =IF(B26="","",RIGHT(CELL("nomfichier",A26),LEN(CELL("nomfichier",A26))-FIND("]",CELL("nomfichier",A26))))
A27: =IF(B27="","",RIGHT(CELL("nomfichier",A27),LEN(CELL("nomfichier",A27))-FIND("]",CELL("nomfichier",A27))))
A28: =IF(B28="","",RIGHT(CELL("nomfichier",A28),LEN(CELL("nomfichier",A28))-FIND("]",CELL("nomfichier",A28))))
A29: =IF(B29="","",RIGHT(CELL("nomfichier",A29),LEN(CELL("nomfichier",A29))-FIND("]",CELL("nomfichier",A29))))
... A50: =IF(B50="","",RIGHT(CELL("nomfichier",A50),LEN(CELL("nomfichier",A50))-FIND("]",CELL("nomfichier",A50))))

Sheet 2016
A1: =IF(B1="","",RIGHT(CELL("nomfichier",A1),LEN(CELL("nomfichier",A1))-FIND("]",CELL("nomfichier",A1)))) -> 2016 | B1: #Hits 2016
A2: =IF(B2="","",RIGHT(CELL("nomfichier",A2),LEN(CELL("nomfichier",A2))-FIND("]",CELL("nomfichier",A2)))) -> 2016 | B2: #Hits 2016 #2
A3: =IF(B3="","",RIGHT(CELL("nomfichier",A3),LEN(CELL("nomfichier",A3))-FIND("]",CELL("nomfichier",A3)))) -> 2016 | B3: #Hits 2017
A4: =IF(B4="","",RIGHT(CELL("nomfichier",A4),LEN(CELL("nomfichier",A4))-FIND("]",CELL("nomfichier",A4)))) -> 2016 | B4: #Hits été 2016
A5: =IF(B5="","",RIGHT(CELL("nomfichier",A5),LEN(CELL("nomfichier",A5))-FIND("]",CELL("nomfichier",A5)))) -> 2016 | B5: DJ Plaitnum-D feat. Bann'D & DJ Excel - 100% Kompa Gouyad (mixé par DJ Mario)
A6: =IF(B6="","",RIGHT(CELL("nomfichier",A6),LEN(CELL("nomfichier",A6))-FIND("]",CELL("nomfichier",A6)))) -> 2016 | B6: Fanatik Kompa, Volume 2
A7: =IF(B7="","",RIGHT(CELL("nomfichier",A7),LEN(CELL("nomfichier",A7))-FIND("]",CELL("nomfichier",A7)))) -> 2016 | B7: Fitness Latino Party 2016
A8: =IF(B8="","",RIGHT(CELL("nomfichier",A8),LEN(CELL("nomfichier",A8))-FIND("]",CELL("nomfichier",A8)))) -> 2016 | B8: Turbo Kompa, Volume 3 Mixé par DJ Douly
A9: =IF(B9="","",RIGHT(CELL("nomfichier",A9),LEN(CELL("nomfichier",A9))-FIND("]",CELL("nomfichier",A9)))) -> 2016 | B9: We Love Disney 3
A10: =IF(B10="","",RIGHT(CELL("nomfichier",A10),LEN(CELL("nomfichier",A10))-FIND("]",CELL("nomfichier",A10)))) -> 2016 | B10: Zouk Session 2017
A11: =IF(B11="","",RIGHT(CELL("nomfichier",A11),LEN(CELL("nomfichier",A11))-FIND("]",CELL("nomfichier",A11)))) -> 2016 | B11: Zouk Session Summer 2016
A12: =IF(B12="","",RIGHT(CELL("nomfichier",A12),LEN(CELL("nomfichier",A12))-FIND("]",CELL("nomfichier",A12))))
A13: =IF(B13="","",RIGHT(CELL("nomfichier",A13),LEN(CELL("nomfichier",A13))-FIND("]",CELL("nomfichier",A13))))
A14: =IF(B14="","",RIGHT(CELL("nomfichier",A14),LEN(CELL("nomfichier",A14))-FIND("]",CELL("nomfichier",A14))))
A15: =IF(B15="","",RIGHT(CELL("nomfichier",A15),LEN(CELL("nomfichier",A15))-FIND("]",CELL("nomfichier",A15))))
A16: =IF(B16="","",RIGHT(CELL("nomfichier",A16),LEN(CELL("nomfichier",A16))-FIND("]",CELL("nomfichier",A16))))
A17: =IF(B17="","",RIGHT(CELL("nomfichier",A17),LEN(CELL("nomfichier",A17))-FIND("]",CELL("nomfichier",A17))))
A18: =IF(B18="","",RIGHT(CELL("nomfichier",A18),LEN(CELL("nomfichier",A18))-FIND("]",CELL("nomfichier",A18))))
A19: =IF(B19="","",RIGHT(CELL("nomfichier",A19),LEN(CELL("nomfichier",A19))-FIND("]",CELL("nomfichier",A19))))
A20: =IF(B20="","",RIGHT(CELL("nomfichier",A20),LEN(CELL("nomfichier",A20))-FIND("]",CELL("nomfichier",A20))))
A21: =IF(B21="","",RIGHT(CELL("nomfichier",A21),LEN(CELL("nomfichier",A21))-FIND("]",CELL("nomfichier",A21))))
A22: =IF(B22="","",RIGHT(CELL("nomfichier",A22),LEN(CELL("nomfichier",A22))-FIND("]",CELL("nomfichier",A22))))
A23: =IF(B23="","",RIGHT(CELL("nomfichier",A23),LEN(CELL("nomfichier",A23))-FIND("]",CELL("nomfichier",A23))))
... A50: =IF(B50="","",RIGHT(CELL("nomfichier",A50),LEN(CELL("nomfichier",A50))-FIND("]",CELL("nomfichier",A50))))

Sheet 2017
A1: =IF(B1="","",RIGHT(CELL("nomfichier",A1),LEN(CELL("nomfichier",A1))-FIND("]",CELL("nomfichier",A1)))) -> 2017 | B1: #Hits 2017 #2
A2: =IF(B2="","",RIGHT(CELL("nomfichier",A2),LEN(CELL("nomfichier",A2))-FIND("]",CELL("nomfichier",A2)))) -> 2017 | B2: #Hits été 2017
A3: =IF(B3="","",RIGHT(CELL("nomfichier",A3),LEN(CELL("nomfichier",A3))-FIND("]",CELL("nomfichier",A3)))) -> 2017 | B3: #Hits Printemps-été #3 2017
A4: =IF(B4="","",RIGHT(CELL("nomfichier",A4),LEN(CELL("nomfichier",A4))-FIND("]",CELL("nomfichier",A4)))) -> 2017 | B4: #Konpa Hits
A5: =IF(B5="","",RIGHT(CELL("nomfichier",A5),LEN(CELL("nomfichier",A5))-FIND("]",CELL("nomfichier",A5)))) -> 2017 | B5: 40 Tubes Spring 2017
A6: =IF(B6="","",RIGHT(CELL("nomfichier",A6),LEN(CELL("nomfichier",A6))-FIND("]",CELL("nomfichier",A6)))) -> 2017 | B6: 44 Hits Spring 2017
A7: =IF(B7="","",RIGHT(CELL("nomfichier",A7),LEN(CELL("nomfichier",A7))-FIND("]",CELL("nomfichier",A7)))) -> 2017 | B7: 69 Hits Summer 2017, Vol. 2
A8: =IF(B8="","",RIGHT(CELL("nomfichier",A8),LEN(CELL("nomfichier",A8))-FIND("]",CELL("nomfichier",A8)))) -> 2017 | B8: Chante la vie chante (Love Michel Fugain)
A9: =IF(B9="","",RIGHT(CELL("nomfichier",A9),LEN(CELL("nomfichier",A9))-FIND("]",CELL("nomfichier",A9)))) -> 2017 | B9: Erogen Kompa, Vol. 4
A10: =IF(B10="","",RIGHT(CELL("nomfichier",A10),LEN(CELL("nomfichier",A10))-FIND("]",CELL("nomfichier",A10)))) -> 2017 | B10: Méditerranéenes
A11: =IF(B11="","",RIGHT(CELL("nomfichier",A11),LEN(CELL("nomfichier",A11))-FIND("]",CELL("nomfichier",A11)))) -> 2017 | B11: Passion Zouk (Sexy Edition)
A12: =IF(B12="","",RIGHT(CELL("nomfichier",A12),LEN(CELL("nomfichier",A12))-FIND("]",CELL("nomfichier",A12)))) -> 2017 | B12: Zouk Connections 3
A13: =IF(B13="","",RIGHT(CELL("nomfichier",A13),LEN(CELL("nomfichier",A13))-FIND("]",CELL("nomfichier",A13))))
A14: =IF(B14="","",RIGHT(CELL("nomfichier",A14),LEN(CELL("nomfichier",A14))-FIND("]",CELL("nomfichier",A14))))
A15: =IF(B15="","",RIGHT(CELL("nomfichier",A15),LEN(CELL("nomfichier",A15))-FIND("]",CELL("nomfichier",A15))))
A16: =IF(B16="","",RIGHT(CELL("nomfichier",A16),LEN(CELL("nomfichier",A16))-FIND("]",CELL("nomfichier",A16))))
A17: =IF(B17="","",RIGHT(CELL("nomfichier",A17),LEN(CELL("nomfichier",A17))-FIND("]",CELL("nomfichier",A17))))
A18: =IF(B18="","",RIGHT(CELL("nomfichier",A18),LEN(CELL("nomfichier",A18))-FIND("]",CELL("nomfichier",A18))))
A19: =IF(B19="","",RIGHT(CELL("nomfichier",A19),LEN(CELL("nomfichier",A19))-FIND("]",CELL("nomfichier",A19))))
A20: =IF(B20="","",RIGHT(CELL("nomfichier",A20),LEN(CELL("nomfichier",A20))-FIND("]",CELL("nomfichier",A20))))
A21: =IF(B21="","",RIGHT(CELL("nomfichier",A21),LEN(CELL("nomfichier",A21))-FIND("]",CELL("nomfichier",A21))))
A22: =IF(B22="","",RIGHT(CELL("nomfichier",A22),LEN(CELL("nomfichier",A22))-FIND("]",CELL("nomfichier",A22))))
A23: =IF(B23="","",RIGHT(CELL("nomfichier",A23),LEN(CELL("nomfichier",A23))-FIND("]",CELL("nomfichier",A23))))
A24: =IF(B24="","",RIGHT(CELL("nomfichier",A24),LEN(CELL("nomfichier",A24))-FIND("]",CELL("nomfichier",A24))))
... A50: =IF(B50="","",RIGHT(CELL("nomfichier",A50),LEN(CELL("nomfichier",A50))-FIND("]",CELL("nomfichier",A50))))

Sheet 2018
A1: =IF(B1="","",RIGHT(CELL("nomfichier",A1),LEN(CELL("nomfichier",A1))-FIND("]",CELL("nomfichier",A1)))) -> 2018 | B1: #Hits Été - Rentrée 2018
A2: =IF(B2="","",RIGHT(CELL("nomfichier",A2),LEN(CELL("nomfichier",A2))-FIND("]",CELL("nomfichier",A2)))) -> 2018 | B2: #Hits Printemps 2018
A3: =IF(B3="","",RIGHT(CELL("nomfichier",A3),LEN(CELL("nomfichier",A3))-FIND("]",CELL("nomfichier",A3)))) -> 2018 | B3: 93 Empire
A4: =IF(B4="","",RIGHT(CELL("nomfichier",A4),LEN(CELL("nomfichier",A4))-FIND("]",CELL("nomfichier",A4)))) -> 2018 | B4: Bum Bum Tam Tam Latino Party
A5: =IF(B5="","",RIGHT(CELL("nomfichier",A5),LEN(CELL("nomfichier",A5))-FIND("]",CELL("nomfichier",A5)))) -> 2018 | B5: FG. Feel Good Été,Summer 2018
A6: =IF(B6="","",RIGHT(CELL("nomfichier",A6),LEN(CELL("nomfichier",A6))-FIND("]",CELL("nomfichier",A6)))) -> 2018 | B6: Hot Konpa Party
A7: =IF(B7="","",RIGHT(CELL("nomfichier",A7),LEN(CELL("nomfichier",A7))-FIND("]",CELL("nomfichier",A7)))) -> 2018 | B7: Les Artistes RTL 2018
A8: =IF(B8="","",RIGHT(CELL("nomfichier",A8),LEN(CELL("nomfichier",A8))-FIND("]",CELL("nomfichier",A8)))) -> 2018 | B8: Souvenirs d'été
A9: =IF(B9="","",RIGHT(CELL("nomfichier",A9),LEN(CELL("nomfichier",A9))-FIND("]",CELL("nomfichier",A9)))) -> 2018 | B9: W9 Hits 2019
A10: =IF(B10="","",RIGHT(CELL("nomfichier",A10),LEN(CELL("nomfichier",A10))-FIND("]",CELL("nomfichier",A10))))
A11: =IF(B11="","",RIGHT(CELL("nomfichier",A11),LEN(CELL("nomfichier",A11))-FIND("]",CELL("nomfichier",A11))))
A12: =IF(B12="","",RIGHT(CELL("nomfichier",A12),LEN(CELL("nomfichier",A12))-FIND("]",CELL("nomfichier",A12))))
A13: =IF(B13="","",RIGHT(CELL("nomfichier",A13),LEN(CELL("nomfichier",A13))-FIND("]",CELL("nomfichier",A13))))
A14: =IF(B14="","",RIGHT(CELL("nomfichier",A14),LEN(CELL("nomfichier",A14))-FIND("]",CELL("nomfichier",A14))))
A15: =IF(B15="","",RIGHT(CELL("nomfichier",A15),LEN(CELL("nomfichier",A15))-FIND("]",CELL("nomfichier",A15))))
A16: =IF(B16="","",RIGHT(CELL("nomfichier",A16),LEN(CELL("nomfichier",A16))-FIND("]",CELL("nomfichier",A16))))
A17: =IF(B17="","",RIGHT(CELL("nomfichier",A17),LEN(CELL("nomfichier",A17))-FIND("]",CELL("nomfichier",A17))))
A18: =IF(B18="","",RIGHT(CELL("nomfichier",A18),LEN(CELL("nomfichier",A18))-FIND("]",CELL("nomfichier",A18))))
A19: =IF(B19="","",RIGHT(CELL("nomfichier",A19),LEN(CELL("nomfichier",A19))-FIND("]",CELL("nomfichier",A19))))
A20: =IF(B20="","",RIGHT(CELL("nomfichier",A20),LEN(CELL("nomfichier",A20))-FIND("]",CELL("nomfichier",A20))))
A21: =IF(B21="","",RIGHT(CELL("nomfichier",A21),LEN(CELL("nomfichier",A21))-FIND("]",CELL("nomfichier",A21))))
... A50: =IF(B50="","",RIGHT(CELL("nomfichier",A50),LEN(CELL("nomfichier",A50))-FIND("]",CELL("nomfichier",A50))))

Sheet 2019
A1: =IF(B1="","",RIGHT(CELL("nomfichier",A1),LEN(CELL("nomfichier",A1))-FIND("]",CELL("nomfichier",A1)))) -> 2019 | B1: #Hits 2019 #2
A2: =IF(B2="","",RIGHT(CELL("nomfichier",A2),LEN(CELL("nomfichier",A2))-FIND("]",CELL("nomfichier",A2)))) -> 2019 | B2: #Hits 2020
A3: =IF(B3="","",RIGHT(CELL("nomfichier",A3),LEN(CELL("nomfichier",A3))-FIND("]",CELL("nomfichier",A3)))) -> 2019 | B3: #Hits été-rentrée 2019
A4: =IF(B4="","",RIGHT(CELL("nomfichier",A4),LEN(CELL("nomfichier",A4))-FIND("]",CELL("nomfichier",A4)))) -> 2019 | B4: 40 Tubes 2020
A5: =IF(B5="","",RIGHT(CELL("nomfichier",A5),LEN(CELL("nomfichier",A5))-FIND("]",CELL("nomfichier",A5)))) -> 2019 | B5: Born in 90
A6: =IF(B6="","",RIGHT(CELL("nomfichier",A6),LEN(CELL("nomfichier",A6))-FIND("]",CELL("nomfichier",A6)))) -> 2019 | B6: Game Over 2
A7: =IF(B7="","",RIGHT(CELL("nomfichier",A7),LEN(CELL("nomfichier",A7))-FIND("]",CELL("nomfichier",A7)))) -> 2019 | B7: Hits rentrée 2019
A8: =IF(B8="","",RIGHT(CELL("nomfichier",A8),LEN(CELL("nomfichier",A8))-FIND("]",CELL("nomfichier",A8)))) -> 2019 | B8: Virgin Radio 2019, Vol. 2
A9: =IF(B9="","",RIGHT(CELL("nomfichier",A9),LEN(CELL("nomfichier",A9))-FIND("]",CELL("nomfichier",A9)))) -> 2019 | B9: French R'N'B Anthology
A10: =IF(B10="","",RIGHT(CELL("nomfichier",A10),LEN(CELL("nomfichier",A10))-FIND("]",CELL("nomfichier",A10))))
A11: =IF(B11="","",RIGHT(CELL("nomfichier",A11),LEN(CELL("nomfichier",A11))-FIND("]",CELL("nomfichier",A11))))
A12: =IF(B12="","",RIGHT(CELL("nomfichier",A12),LEN(CELL("nomfichier",A12))-FIND("]",CELL("nomfichier",A12))))
A13: =IF(B13="","",RIGHT(CELL("nomfichier",A13),LEN(CELL("nomfichier",A13))-FIND("]",CELL("nomfichier",A13))))
A14: =IF(B14="","",RIGHT(CELL("nomfichier",A14),LEN(CELL("nomfichier",A14))-FIND("]",CELL("nomfichier",A14))))
A15: =IF(B15="","",RIGHT(CELL("nomfichier",A15),LEN(CELL("nomfichier",A15))-FIND("]",CELL("nomfichier",A15))))
A16: =IF(B16="","",RIGHT(CELL("nomfichier",A16),LEN(CELL("nomfichier",A16))-FIND("]",CELL("nomfichier",A16))))
A17: =IF(B17="","",RIGHT(CELL("nomfichier",A17),LEN(CELL("nomfichier",A17))-FIND("]",CELL("nomfichier",A17))))
A18: =IF(B18="","",RIGHT(CELL("nomfichier",A18),LEN(CELL("nomfichier",A18))-FIND("]",CELL("nomfichier",A18))))
A19: =IF(B19="","",RIGHT(CELL("nomfichier",A19),LEN(CELL("nomfichier",A19))-FIND("]",CELL("nomfichier",A19))))
A20: =IF(B20="","",RIGHT(CELL("nomfichier",A20),LEN(CELL("nomfichier",A20))-FIND("]",CELL("nomfichier",A20))))
A21: =IF(B21="","",RIGHT(CELL("nomfichier",A21),LEN(CELL("nomfichier",A21))-FIND("]",CELL("nomfichier",A21))))
... A50: =IF(B50="","",RIGHT(CELL("nomfichier",A50),LEN(CELL("nomfichier",A50))-FIND("]",CELL("nomfichier",A50))))

Sheet 2020
A1: =IF(B1="","",RIGHT(CELL("nomfichier",A1),LEN(CELL("nomfichier",A1))-FIND("]",CELL("nomfichier",A1)))) -> 2020 | B1: 40 Tubes printemps 2020
A2: =IF(B2="","",RIGHT(CELL("nomfichier",A2),LEN(CELL("nomfichier",A2))-FIND("]",CELL("nomfichier",A2)))) -> 2020 | B2: 55 Hits 2020
A3: =IF(B3="","",RIGHT(CELL("nomfichier",A3),LEN(CELL("nomfichier",A3))-FIND("]",CELL("nomfichier",A3)))) -> 2020 | B3: Best of Trance, Vol. 6
A4: =IF(B4="","",RIGHT(CELL("nomfichier",A4),LEN(CELL("nomfichier",A4))-FIND("]",CELL("nomfichier",A4)))) -> 2020 | B4: Best Rock Ever
A5: =IF(B5="","",RIGHT(CELL("nomfichier",A5),LEN(CELL("nomfichier",A5))-FIND("]",CELL("nomfichier",A5)))) -> 2020 | B5: Jamaicat - Jamaican Sounds from Catalonia
A6: =IF(B6="","",RIGHT(CELL("nomfichier",A6),LEN(CELL("nomfichier",A6))-FIND("]",CELL("nomfichier",A6)))) -> 2020 | B6: Easter on the Catwalk
A7: =IF(B7="","",RIGHT(CELL("nomfichier",A7),LEN(CELL("nomfichier",A7))-FIND("]",CELL("nomfichier",A7)))) -> 2020 | B7: Feel the Ibiza (The Best Selection House Summer 2020)
A8: =IF(B8="","",RIGHT(CELL("nomfichier",A8),LEN(CELL("nomfichier",A8))-FIND("]",CELL("nomfichier",A8))))
A9: =IF(B9="","",RIGHT(CELL("nomfichier",A9),LEN(CELL("nomfichier",A9))-FIND("]",CELL("nomfichier",A9))))
A10: =IF(B10="","",RIGHT(CELL("nomfichier",A10),LEN(CELL("nomfichier",A10))-FIND("]",CELL("nomfichier",A10))))
A11: =IF(B11="","",RIGHT(CELL("nomfichier",A11),LEN(CELL("nomfichier",A11))-FIND("]",CELL("nomfichier",A11))))
A12: =IF(B12="","",RIGHT(CELL("nomfichier",A12),LEN(CELL("nomfichier",A12))-FIND("]",CELL("nomfichier",A12))))
A13: =IF(B13="","",RIGHT(CELL("nomfichier",A13),LEN(CELL("nomfichier",A13))-FIND("]",CELL("nomfichier",A13))))
A14: =IF(B14="","",RIGHT(CELL("nomfichier",A14),LEN(CELL("nomfichier",A14))-FIND("]",CELL("nomfichier",A14))))
A15: =IF(B15="","",RIGHT(CELL("nomfichier",A15),LEN(CELL("nomfichier",A15))-FIND("]",CELL("nomfichier",A15))))
A16: =IF(B16="","",RIGHT(CELL("nomfichier",A16),LEN(CELL("nomfichier",A16))-FIND("]",CELL("nomfichier",A16))))
A17: =IF(B17="","",RIGHT(CELL("nomfichier",A17),LEN(CELL("nomfichier",A17))-FIND("]",CELL("nomfichier",A17))))
A18: =IF(B18="","",RIGHT(CELL("nomfichier",A18),LEN(CELL("nomfichier",A18))-FIND("]",CELL("nomfichier",A18))))
A19: =IF(B19="","",RIGHT(CELL("nomfichier",A19),LEN(CELL("nomfichier",A19))-FIND("]",CELL("nomfichier",A19))))
... A50: =IF(B50="","",RIGHT(CELL("nomfichier",A50),LEN(CELL("nomfichier",A50))-FIND("]",CELL("nomfichier",A50))))

Sheet FUN
A1: Dance 2004
A2: Dance Machine
A3: Fun Club 2018
A4: Fun Club 2018, Vol. 2
A5: Fun Dance 2016
A6: Fun Dance 2017
A7: Ibiza Experience
A8: Le son Dancefloor 2015
A9: Party Fun 2014, Volume 2
A10: Party Fun 2016, Volume 2
A11: Party Fun 2020
A12: Party Mix
... A14: Summer Dance 2017

Sheet NRJ
A1: NRJ 12 L'été 2019
A2: NRJ 12 Snow Hits 2019
A3: NRJ 300% Hits 2017, Vol. 2
A4: NRJ 300% Hits 2018
A5: NRJ 300% Hits 2019, Vol 2
A6: NRJ Back to School 2018
A7: NRJ Beach Party 2017
A8: NRJ Beach Party 2019
A9: NRJ Dance Hits 2017
A10: NRJ DJ Awards 2017
A11: NRJ DJ Awards 2018
A12: NRJ Extravadance, Vol. 3
... A29: NRJ Winter Hits 2020

Sheet SKYROCK
A1: Planète Rap
A2: Planète Rap 2003
A3: Planète Rap 2004
A4: Planète Rap 2004, Volume 2
A5: Planète Rap 2005, Volume 1
A6: Planète Rap 2005, Volume 2
A7: Planète Rap 2007
A8: Planète Rap 2007, Volume 2
A9: Planète Rap 2007, Volume 3
A10: Planète Rap 2008
A11: Planète Rap 2008, Volume 2
A12: Planète Rap 2008, Volume 3
... A19: Skyrock 2017

Sheet CALCUL
A1: 2013 | B1: =COUNTA('2013'!B:B) -> 5
A2: 2014 | B2: =COUNTA('2014'!B:B) -> 3
A3: 2015 | B3: =COUNTA('2015'!B:B) -> 17
A4: 2016 | B4: =COUNTA('2016'!B:B) -> 11
A5: 2017 | B5: =COUNTA('2017'!B:B) -> 12
A6: 2018 | B6: =COUNTA('2018'!B:B) -> 9
A7: 2019 | B7: =COUNTA('2019'!B:B) -> 9
A8: 2020 | B8: =COUNTA('2020'!B:B) -> 7
A9: FUN RADIO | B9: =COUNTA(FUN!A:A) -> 14
A10: NRJ | B10: =COUNTA(NRJ!A:A) -> 29
A11: SKYROCK | B11: =COUNTA(SKYROCK!A:A) -> 19
B13: =SUM(B1:B12) -> 135
