Workbook

Sheet Feuil1
A1: Septembre | B1: 2019
A3: Noms Pays | B3: Turnover | D3: =VLOOKUP(E3,Feuil2!A:C,3,FALSE) -> 10 | E3: =VLOOKUP(E4,Feuil2!A:B,2,FALSE) -> Octobre | F3: =IF(D3>$D$14,$B$1-1,$B$1) -> 2018 | G3: =E3&" "&F3 -> Octobre 2018
A4: A | B4: 12 | D4: =VLOOKUP(E4,Feuil2!A:C,3,FALSE) -> 11 | E4: =VLOOKUP(E5,Feuil2!A:B,2,FALSE) -> Novembre | F4: =IF(D4>$D$14,$B$1-1,$B$1) -> 2018 | G4: =E4&" "&F4 -> Novembre 2018
A5: B | B5: 12 | D5: =VLOOKUP(E5,Feuil2!A:C,3,FALSE) -> 12 | E5: =VLOOKUP(E6,Feuil2!A:B,2,FALSE) -> Décembre | F5: =IF(D5>$D$14,$B$1-1,$B$1) -> 2018 | G5: =E5&" "&F5 -> Décembre 2018
A6: C | B6: 13 | D6: =VLOOKUP(E6,Feuil2!A:C,3,FALSE) -> 1 | E6: =VLOOKUP(E7,Feuil2!A:B,2,FALSE) -> Janvier | F6: =IF(D6>$D$14,$B$1-1,$B$1) -> 2019 | G6: =E6&" "&F6 -> Janvier 2019
A7: D | B7: 14 | D7: =VLOOKUP(E7,Feuil2!A:C,3,FALSE) -> 2 | E7: =VLOOKUP(E8,Feuil2!A:B,2,FALSE) -> Février | F7: =IF(D7>$D$14,$B$1-1,$B$1) -> 2019 | G7: =E7&" "&F7 -> Février 2019
A8: E | B8: 15 | D8: =VLOOKUP(E8,Feuil2!A:C,3,FALSE) -> 3 | E8: =VLOOKUP(E9,Feuil2!A:B,2,FALSE) -> Mars | F8: =IF(D8>$D$14,$B$1-1,$B$1) -> 2019 | G8: =E8&" "&F8 -> Mars 2019
A9: F | B9: 16 | D9: =VLOOKUP(E9,Feuil2!A:C,3,FALSE) -> 4 | E9: =VLOOKUP(E10,Feuil2!A:B,2,FALSE) -> Avril | F9: =IF(D9>$D$14,$B$1-1,$B$1) -> 2019 | G9: =E9&" "&F9 -> Avril 2019
A10: G | B10: 17 | D10: =VLOOKUP(E10,Feuil2!A:C,3,FALSE) -> 5 | E10: =VLOOKUP(E11,Feuil2!A:B,2,FALSE) -> Mai | F10: =IF(D10>$D$14,$B$1-1,$B$1) -> 2019 | G10: =E10&" "&F10 -> Mai 2019
A11: H | B11: 18 | D11: =VLOOKUP(E11,Feuil2!A:C,3,FALSE) -> 6 | E11: =VLOOKUP(E12,Feuil2!A:B,2,FALSE) -> Juin | F11: =IF(D11>$D$14,$B$1-1,$B$1) -> 2019 | G11: =E11&" "&F11 -> Juin 2019
A12: TOTAL | B12: =SUM(B4:B11) -> 117 | D12: =VLOOKUP(E12,Feuil2!A:C,3,FALSE) -> 7 | E12: =VLOOKUP(E13,Feuil2!A:B,2,FALSE) -> Juillet | F12: =IF(D12>$D$14,$B$1-1,$B$1) -> 2019 | G12: =E12&" "&F12 -> Juillet 2019
D13: =VLOOKUP(E13,Feuil2!A:C,3,FALSE) -> 8 | E13: =VLOOKUP(E14,Feuil2!A:B,2,FALSE) -> Août | F13: =IF(D13>$D$14,$B$1-1,$B$1) -> 2019 | G13: =E13&" "&F13 -> Août 2019
D14: =VLOOKUP(E14,Feuil2!A:C,3,FALSE) -> 9 | E14: =+A1 -> Septembre | F14: =IF(D14>$D$14,$B$1-1,$B$1) -> 2019 | G14: =E14&" "&F14 -> Septembre 2019 | H14: =+B12 -> 117

Sheet Feuil2
A2: Janvier | B2: Décembre | C2: 1
A3: Février | B3: Janvier | C3: 2
A4: Mars | B4: Février | C4: 3
A5: Avril | B5: Mars | C5: 4
A6: Mai | B6: Avril | C6: 5
A7: Juin | B7: Mai | C7: 6
A8: Juillet | B8: Juin | C8: 7
A9: Août | B9: Juillet | C9: 8
A10: Septembre | B10: Août | C10: 9
A11: Octobre | B11: Septembre | C11: 10
A12: Novembre | B12: Octobre | C12: 11
A13: Décembre | B13: Novembre | C13: 12
