Workbook

Sheet Feuil1
A1: Col_A | B1: Col_B | C1: Nombre | D1: TYPE
A2: 13 | B2: 5 | C2: 2 | D2: AA
A3: 5 | B3: A | C3: 3 | D3: AB
A4: 5 | B4: D | C4: 2 | D4: AC
A5: A | B5: B | C5: 1 | D5: AD
A6: 120 | B6: 11 | C6: 5 | D6: AE
A7: 12 | B7: A | C7: 2 | D7: AF
A8: B | B8: 120 | C8: 3 | D8: AA
A9: 5 | B9: D | C9: 2 | D9: AB
A10: 14 | B10: 7 | C10: 2 | D10: AC
A11: A | B11: 13 | C11: 3 | D11: AD
A12: 12 | B12: 5 | C12: 5 | D12: AA
A13: C | B13: 110 | C13: 6 | D13: AB
A14: 5 | B14: A | C14: 3 | D14: AE
A15: C | B15: 5 | C15: 8 | D15: AF
A16: 7 | B16: 5 | C16: 5 | D16: AD
A17: B | B17: A | C17: 1 | D17: AC
A18: 11 | B18: 14 | C18: 7 | D18: AA
A19: 14 | B19: 12 | C19: 2 | D19: AC
A20: D | B20: 5 | C20: 2 | D20: AC
A21: 12 | B21: 7 | C21: 6 | D21: AE
A22: 7 | B22: 7 | C22: 2 | D22: AD
A23: 14 | B23: 5 | C23: 3 | D23: AC

Sheet Résultat escompté
A1: Résultat escompté | B1: {=TRANSPOSE('Résultat escompté 2'!A1:A73)} -> aa | C1: ab | D1: ac | E1: ad | F1: ae | G1: af | H1: 0 | I1: 0 | J1: 0 | K1: 0 | L1: 0 | M1: 0 | N1: 0 | O1: 0 | P1: 0
A2: D | B2: =SUMIFS(Feuil1!$C:$C,Feuil1!$A:$A,'Résultat escompté'!$A2,Feuil1!$D:$D,'Résultat escompté'!B$1)+SUMIFS(Feuil1!$C:$C,Feuil1!$B:$B,'Résultat escompté'!$A2,Feuil1!$D:$D,'Résultat escompté'!B$1) -> 0 | C2: =SUMIFS(Feuil1!$C:$C,Feuil1!$A:$A,'Résultat escompté'!$A2,Feuil1!$D:$D,'Résultat escompté'!C$1)+SUMIFS(Feuil1!$C:$C,Feuil1!$B:$B,'Résultat escompté'!$A2,Feuil1!$D:$D,'Résultat escompté'!C$1) -> 2 | D2: =SUMIFS(Feuil1!$C:$C,Feuil1!$A:$A,'Résultat escompté'!$A2,Feuil1!$D:$D,'Résultat escompté'!D$1)+SUMIFS(Feuil1!$C:$C,Feuil1!$B:$B,'Résultat escompté'!$A2,Feuil1!$D:$D,'Résultat escompté'!D$1) -> 4 | E2: =SUMIFS(Feuil1!$C:$C,Feuil1!$A:$A,'Résultat escompté'!$A2,Feuil1!$D:$D,'Résultat escompté'!E$1)+SUMIFS(Feuil1!$C:$C,Feuil1!$B:$B,'Résultat escompté'!$A2,Feuil1!$D:$D,'Résultat escompté'!E$1) -> 0 | F2: =SUMIFS(Feuil1!$C:$C,Feuil1!$A:$A,'Résultat escompté'!$A2,Feuil1!$D:$D,'Résultat escompté'!F$1)+SUMIFS(Feuil1!$C:$C,Feuil1!$B:$B,'Résultat escompté'!$A2,Feuil1!$D:$D,'Résultat escompté'!F$1) -> 0 | G2: =SUMIFS(Feuil1!$C:$C,Feuil1!$A:$A,'Résultat escompté'!$A2,Feuil1!$D:$D,'Résultat escompté'!G$1)+SUMIFS(Feuil1!$C:$C,Feuil1!$B:$B,'Résultat escompté'!$A2,Feuil1!$D:$D,'Résultat escompté'!G$1) -> 0
A3: C | B3: =SUMIFS(Feuil1!$C:$C,Feuil1!$A:$A,'Résultat escompté'!$A3,Feuil1!$D:$D,'Résultat escompté'!B$1)+SUMIFS(Feuil1!$C:$C,Feuil1!$B:$B,'Résultat escompté'!$A3,Feuil1!$D:$D,'Résultat escompté'!B$1) -> 0 | C3: =SUMIFS(Feuil1!$C:$C,Feuil1!$A:$A,'Résultat escompté'!$A3,Feuil1!$D:$D,'Résultat escompté'!C$1)+SUMIFS(Feuil1!$C:$C,Feuil1!$B:$B,'Résultat escompté'!$A3,Feuil1!$D:$D,'Résultat escompté'!C$1) -> 6 | D3: =SUMIFS(Feuil1!$C:$C,Feuil1!$A:$A,'Résultat escompté'!$A3,Feuil1!$D:$D,'Résultat escompté'!D$1)+SUMIFS(Feuil1!$C:$C,Feuil1!$B:$B,'Résultat escompté'!$A3,Feuil1!$D:$D,'Résultat escompté'!D$1) -> 0 | E3: =SUMIFS(Feuil1!$C:$C,Feuil1!$A:$A,'Résultat escompté'!$A3,Feuil1!$D:$D,'Résultat escompté'!E$1)+SUMIFS(Feuil1!$C:$C,Feuil1!$B:$B,'Résultat escompté'!$A3,Feuil1!$D:$D,'Résultat escompté'!E$1) -> 0 | F3: =SUMIFS(Feuil1!$C:$C,Feuil1!$A:$A,'Résultat escompté'!$A3,Feuil1!$D:$D,'Résultat escompté'!F$1)+SUMIFS(Feuil1!$C:$C,Feuil1!$B:$B,'Résultat escompté'!$A3,Feuil1!$D:$D,'Résultat escompté'!F$1) -> 0 | G3: =SUMIFS(Feuil1!$C:$C,Feuil1!$A:$A,'Résultat escompté'!$A3,Feuil1!$D:$D,'Résultat escompté'!G$1)+SUMIFS(Feuil1!$C:$C,Feuil1!$B:$B,'Résultat escompté'!$A3,Feuil1!$D:$D,'Résultat escompté'!G$1) -> 8
A4: B | B4: =SUMIFS(Feuil1!$C:$C,Feuil1!$A:$A,'Résultat escompté'!$A4,Feuil1!$D:$D,'Résultat escompté'!B$1)+SUMIFS(Feuil1!$C:$C,Feuil1!$B:$B,'Résultat escompté'!$A4,Feuil1!$D:$D,'Résultat escompté'!B$1) -> 3 | C4: =SUMIFS(Feuil1!$C:$C,Feuil1!$A:$A,'Résultat escompté'!$A4,Feuil1!$D:$D,'Résultat escompté'!C$1)+SUMIFS(Feuil1!$C:$C,Feuil1!$B:$B,'Résultat escompté'!$A4,Feuil1!$D:$D,'Résultat escompté'!C$1) -> 0 | D4: =SUMIFS(Feuil1!$C:$C,Feuil1!$A:$A,'Résultat escompté'!$A4,Feuil1!$D:$D,'Résultat escompté'!D$1)+SUMIFS(Feuil1!$C:$C,Feuil1!$B:$B,'Résultat escompté'!$A4,Feuil1!$D:$D,'Résultat escompté'!D$1) -> 1 | E4: =SUMIFS(Feuil1!$C:$C,Feuil1!$A:$A,'Résultat escompté'!$A4,Feuil1!$D:$D,'Résultat escompté'!E$1)+SUMIFS(Feuil1!$C:$C,Feuil1!$B:$B,'Résultat escompté'!$A4,Feuil1!$D:$D,'Résultat escompté'!E$1) -> 1 | F4: =SUMIFS(Feuil1!$C:$C,Feuil1!$A:$A,'Résultat escompté'!$A4,Feuil1!$D:$D,'Résultat escompté'!F$1)+SUMIFS(Feuil1!$C:$C,Feuil1!$B:$B,'Résultat escompté'!$A4,Feuil1!$D:$D,'Résultat escompté'!F$1) -> 0 | G4: =SUMIFS(Feuil1!$C:$C,Feuil1!$A:$A,'Résultat escompté'!$A4,Feuil1!$D:$D,'Résultat escompté'!G$1)+SUMIFS(Feuil1!$C:$C,Feuil1!$B:$B,'Résultat escompté'!$A4,Feuil1!$D:$D,'Résultat escompté'!G$1) -> 0
A5: A | B5: =SUMIFS(Feuil1!$C:$C,Feuil1!$A:$A,'Résultat escompté'!$A5,Feuil1!$D:$D,'Résultat escompté'!B$1)+SUMIFS(Feuil1!$C:$C,Feuil1!$B:$B,'Résultat escompté'!$A5,Feuil1!$D:$D,'Résultat escompté'!B$1) -> 0 | C5: =SUMIFS(Feuil1!$C:$C,Feuil1!$A:$A,'Résultat escompté'!$A5,Feuil1!$D:$D,'Résultat escompté'!C$1)+SUMIFS(Feuil1!$C:$C,Feuil1!$B:$B,'Résultat escompté'!$A5,Feuil1!$D:$D,'Résultat escompté'!C$1) -> 3 | D5: =SUMIFS(Feuil1!$C:$C,Feuil1!$A:$A,'Résultat escompté'!$A5,Feuil1!$D:$D,'Résultat escompté'!D$1)+SUMIFS(Feuil1!$C:$C,Feuil1!$B:$B,'Résultat escompté'!$A5,Feuil1!$D:$D,'Résultat escompté'!D$1) -> 1 | E5: =SUMIFS(Feuil1!$C:$C,Feuil1!$A:$A,'Résultat escompté'!$A5,Feuil1!$D:$D,'Résultat escompté'!E$1)+SUMIFS(Feuil1!$C:$C,Feuil1!$B:$B,'Résultat escompté'!$A5,Feuil1!$D:$D,'Résultat escompté'!E$1) -> 4 | F5: =SUMIFS(Feuil1!$C:$C,Feuil1!$A:$A,'Résultat escompté'!$A5,Feuil1!$D:$D,'Résultat escompté'!F$1)+SUMIFS(Feuil1!$C:$C,Feuil1!$B:$B,'Résultat escompté'!$A5,Feuil1!$D:$D,'Résultat escompté'!F$1) -> 3 | G5: =SUMIFS(Feuil1!$C:$C,Feuil1!$A:$A,'Résultat escompté'!$A5,Feuil1!$D:$D,'Résultat escompté'!G$1)+SUMIFS(Feuil1!$C:$C,Feuil1!$B:$B,'Résultat escompté'!$A5,Feuil1!$D:$D,'Résultat escompté'!G$1) -> 2
A6: 120 | B6: =SUMIFS(Feuil1!$C:$C,Feuil1!$A:$A,'Résultat escompté'!$A6,Feuil1!$D:$D,'Résultat escompté'!B$1)+SUMIFS(Feuil1!$C:$C,Feuil1!$B:$B,'Résultat escompté'!$A6,Feuil1!$D:$D,'Résultat escompté'!B$1) -> 3 | C6: =SUMIFS(Feuil1!$C:$C,Feuil1!$A:$A,'Résultat escompté'!$A6,Feuil1!$D:$D,'Résultat escompté'!C$1)+SUMIFS(Feuil1!$C:$C,Feuil1!$B:$B,'Résultat escompté'!$A6,Feuil1!$D:$D,'Résultat escompté'!C$1) -> 0 | D6: =SUMIFS(Feuil1!$C:$C,Feuil1!$A:$A,'Résultat escompté'!$A6,Feuil1!$D:$D,'Résultat escompté'!D$1)+SUMIFS(Feuil1!$C:$C,Feuil1!$B:$B,'Résultat escompté'!$A6,Feuil1!$D:$D,'Résultat escompté'!D$1) -> 0 | E6: =SUMIFS(Feuil1!$C:$C,Feuil1!$A:$A,'Résultat escompté'!$A6,Feuil1!$D:$D,'Résultat escompté'!E$1)+SUMIFS(Feuil1!$C:$C,Feuil1!$B:$B,'Résultat escompté'!$A6,Feuil1!$D:$D,'Résultat escompté'!E$1) -> 0 | F6: =SUMIFS(Feuil1!$C:$C,Feuil1!$A:$A,'Résultat escompté'!$A6,Feuil1!$D:$D,'Résultat escompté'!F$1)+SUMIFS(Feuil1!$C:$C,Feuil1!$B:$B,'Résultat escompté'!$A6,Feuil1!$D:$D,'Résultat escompté'!F$1) -> 5 | G6: =SUMIFS(Feuil1!$C:$C,Feuil1!$A:$A,'Résultat escompté'!$A6,Feuil1!$D:$D,'Résultat escompté'!G$1)+SUMIFS(Feuil1!$C:$C,Feuil1!$B:$B,'Résultat escompté'!$A6,Feuil1!$D:$D,'Résultat escompté'!G$1) -> 0
A7: 110 | B7: =SUMIFS(Feuil1!$C:$C,Feuil1!$A:$A,'Résultat escompté'!$A7,Feuil1!$D:$D,'Résultat escompté'!B$1)+SUMIFS(Feuil1!$C:$C,Feuil1!$B:$B,'Résultat escompté'!$A7,Feuil1!$D:$D,'Résultat escompté'!B$1) -> 0 | C7: =SUMIFS(Feuil1!$C:$C,Feuil1!$A:$A,'Résultat escompté'!$A7,Feuil1!$D:$D,'Résultat escompté'!C$1)+SUMIFS(Feuil1!$C:$C,Feuil1!$B:$B,'Résultat escompté'!$A7,Feuil1!$D:$D,'Résultat escompté'!C$1) -> 6 | D7: =SUMIFS(Feuil1!$C:$C,Feuil1!$A:$A,'Résultat escompté'!$A7,Feuil1!$D:$D,'Résultat escompté'!D$1)+SUMIFS(Feuil1!$C:$C,Feuil1!$B:$B,'Résultat escompté'!$A7,Feuil1!$D:$D,'Résultat escompté'!D$1) -> 0 | E7: =SUMIFS(Feuil1!$C:$C,Feuil1!$A:$A,'Résultat escompté'!$A7,Feuil1!$D:$D,'Résultat escompté'!E$1)+SUMIFS(Feuil1!$C:$C,Feuil1!$B:$B,'Résultat escompté'!$A7,Feuil1!$D:$D,'Résultat escompté'!E$1) -> 0 | F7: =SUMIFS(Feuil1!$C:$C,Feuil1!$A:$A,'Résultat escompté'!$A7,Feuil1!$D:$D,'Résultat escompté'!F$1)+SUMIFS(Feuil1!$C:$C,Feuil1!$B:$B,'Résultat escompté'!$A7,Feuil1!$D:$D,'Résultat escompté'!F$1) -> 0 | G7: =SUMIFS(Feuil1!$C:$C,Feuil1!$A:$A,'Résultat escompté'!$A7,Feuil1!$D:$D,'Résultat escompté'!G$1)+SUMIFS(Feuil1!$C:$C,Feuil1!$B:$B,'Résultat escompté'!$A7,Feuil1!$D:$D,'Résultat escompté'!G$1) -> 0
A8: 14 | B8: =SUMIFS(Feuil1!$C:$C,Feuil1!$A:$A,'Résultat escompté'!$A8,Feuil1!$D:$D,'Résultat escompté'!B$1)+SUMIFS(Feuil1!$C:$C,Feuil1!$B:$B,'Résultat escompté'!$A8,Feuil1!$D:$D,'Résultat escompté'!B$1) -> 7 | C8: =SUMIFS(Feuil1!$C:$C,Feuil1!$A:$A,'Résultat escompté'!$A8,Feuil1!$D:$D,'Résultat escompté'!C$1)+SUMIFS(Feuil1!$C:$C,Feuil1!$B:$B,'Résultat escompté'!$A8,Feuil1!$D:$D,'Résultat escompté'!C$1) -> 0 | D8: =SUMIFS(Feuil1!$C:$C,Feuil1!$A:$A,'Résultat escompté'!$A8,Feuil1!$D:$D,'Résultat escompté'!D$1)+SUMIFS(Feuil1!$C:$C,Feuil1!$B:$B,'Résultat escompté'!$A8,Feuil1!$D:$D,'Résultat escompté'!D$1) -> 7 | E8: =SUMIFS(Feuil1!$C:$C,Feuil1!$A:$A,'Résultat escompté'!$A8,Feuil1!$D:$D,'Résultat escompté'!E$1)+SUMIFS(Feuil1!$C:$C,Feuil1!$B:$B,'Résultat escompté'!$A8,Feuil1!$D:$D,'Résultat escompté'!E$1) -> 0 | F8: =SUMIFS(Feuil1!$C:$C,Feuil1!$A:$A,'Résultat escompté'!$A8,Feuil1!$D:$D,'Résultat escompté'!F$1)+SUMIFS(Feuil1!$C:$C,Feuil1!$B:$B,'Résultat escompté'!$A8,Feuil1!$D:$D,'Résultat escompté'!F$1) -> 0 | G8: =SUMIFS(Feuil1!$C:$C,Feuil1!$A:$A,'Résultat escompté'!$A8,Feuil1!$D:$D,'Résultat escompté'!G$1)+SUMIFS(Feuil1!$C:$C,Feuil1!$B:$B,'Résultat escompté'!$A8,Feuil1!$D:$D,'Résultat escompté'!G$1) -> 0
A9: 13 | B9: =SUMIFS(Feuil1!$C:$C,Feuil1!$A:$A,'Résultat escompté'!$A9,Feuil1!$D:$D,'Résultat escompté'!B$1)+SUMIFS(Feuil1!$C:$C,Feuil1!$B:$B,'Résultat escompté'!$A9,Feuil1!$D:$D,'Résultat escompté'!B$1) -> 2 | C9: =SUMIFS(Feuil1!$C:$C,Feuil1!$A:$A,'Résultat escompté'!$A9,Feuil1!$D:$D,'Résultat escompté'!C$1)+SUMIFS(Feuil1!$C:$C,Feuil1!$B:$B,'Résultat escompté'!$A9,Feuil1!$D:$D,'Résultat escompté'!C$1) -> 0 | D9: =SUMIFS(Feuil1!$C:$C,Feuil1!$A:$A,'Résultat escompté'!$A9,Feuil1!$D:$D,'Résultat escompté'!D$1)+SUMIFS(Feuil1!$C:$C,Feuil1!$B:$B,'Résultat escompté'!$A9,Feuil1!$D:$D,'Résultat escompté'!D$1) -> 0 | E9: =SUMIFS(Feuil1!$C:$C,Feuil1!$A:$A,'Résultat escompté'!$A9,Feuil1!$D:$D,'Résultat escompté'!E$1)+SUMIFS(Feuil1!$C:$C,Feuil1!$B:$B,'Résultat escompté'!$A9,Feuil1!$D:$D,'Résultat escompté'!E$1) -> 3 | F9: =SUMIFS(Feuil1!$C:$C,Feuil1!$A:$A,'Résultat escompté'!$A9,Feuil1!$D:$D,'Résultat escompté'!F$1)+SUMIFS(Feuil1!$C:$C,Feuil1!$B:$B,'Résultat escompté'!$A9,Feuil1!$D:$D,'Résultat escompté'!F$1) -> 0 | G9: =SUMIFS(Feuil1!$C:$C,Feuil1!$A:$A,'Résultat escompté'!$A9,Feuil1!$D:$D,'Résultat escompté'!G$1)+SUMIFS(Feuil1!$C:$C,Feuil1!$B:$B,'Résultat escompté'!$A9,Feuil1!$D:$D,'Résultat escompté'!G$1) -> 0
A10: 12 | B10: =SUMIFS(Feuil1!$C:$C,Feuil1!$A:$A,'Résultat escompté'!$A10,Feuil1!$D:$D,'Résultat escompté'!B$1)+SUMIFS(Feuil1!$C:$C,Feuil1!$B:$B,'Résultat escompté'!$A10,Feuil1!$D:$D,'Résultat escompté'!B$1) -> 5 | C10: =SUMIFS(Feuil1!$C:$C,Feuil1!$A:$A,'Résultat escompté'!$A10,Feuil1!$D:$D,'Résultat escompté'!C$1)+SUMIFS(Feuil1!$C:$C,Feuil1!$B:$B,'Résultat escompté'!$A10,Feuil1!$D:$D,'Résultat escompté'!C$1) -> 0 | D10: =SUMIFS(Feuil1!$C:$C,Feuil1!$A:$A,'Résultat escompté'!$A10,Feuil1!$D:$D,'Résultat escompté'!D$1)+SUMIFS(Feuil1!$C:$C,Feuil1!$B:$B,'Résultat escompté'!$A10,Feuil1!$D:$D,'Résultat escompté'!D$1) -> 2 | E10: =SUMIFS(Feuil1!$C:$C,Feuil1!$A:$A,'Résultat escompté'!$A10,Feuil1!$D:$D,'Résultat escompté'!E$1)+SUMIFS(Feuil1!$C:$C,Feuil1!$B:$B,'Résultat escompté'!$A10,Feuil1!$D:$D,'Résultat escompté'!E$1) -> 0 | F10: =SUMIFS(Feuil1!$C:$C,Feuil1!$A:$A,'Résultat escompté'!$A10,Feuil1!$D:$D,'Résultat escompté'!F$1)+SUMIFS(Feuil1!$C:$C,Feuil1!$B:$B,'Résultat escompté'!$A10,Feuil1!$D:$D,'Résultat escompté'!F$1) -> 6 | G10: =SUMIFS(Feuil1!$C:$C,Feuil1!$A:$A,'Résultat escompté'!$A10,Feuil1!$D:$D,'Résultat escompté'!G$1)+SUMIFS(Feuil1!$C:$C,Feuil1!$B:$B,'Résultat escompté'!$A10,Feuil1!$D:$D,'Résultat escompté'!G$1) -> 2
A11: 11 | B11: =SUMIFS(Feuil1!$C:$C,Feuil1!$A:$A,'Résultat escompté'!$A11,Feuil1!$D:$D,'Résultat escompté'!B$1)+SUMIFS(Feuil1!$C:$C,Feuil1!$B:$B,'Résultat escompté'!$A11,Feuil1!$D:$D,'Résultat escompté'!B$1) -> 7 | C11: =SUMIFS(Feuil1!$C:$C,Feuil1!$A:$A,'Résultat escompté'!$A11,Feuil1!$D:$D,'Résultat escompté'!C$1)+SUMIFS(Feuil1!$C:$C,Feuil1!$B:$B,'Résultat escompté'!$A11,Feuil1!$D:$D,'Résultat escompté'!C$1) -> 0 | D11: =SUMIFS(Feuil1!$C:$C,Feuil1!$A:$A,'Résultat escompté'!$A11,Feuil1!$D:$D,'Résultat escompté'!D$1)+SUMIFS(Feuil1!$C:$C,Feuil1!$B:$B,'Résultat escompté'!$A11,Feuil1!$D:$D,'Résultat escompté'!D$1) -> 0 | E11: =SUMIFS(Feuil1!$C:$C,Feuil1!$A:$A,'Résultat escompté'!$A11,Feuil1!$D:$D,'Résultat escompté'!E$1)+SUMIFS(Feuil1!$C:$C,Feuil1!$B:$B,'Résultat escompté'!$A11,Feuil1!$D:$D,'Résultat escompté'!E$1) -> 0 | F11: =SUMIFS(Feuil1!$C:$C,Feuil1!$A:$A,'Résultat escompté'!$A11,Feuil1!$D:$D,'Résultat escompté'!F$1)+SUMIFS(Feuil1!$C:$C,Feuil1!$B:$B,'Résultat escompté'!$A11,Feuil1!$D:$D,'Résultat escompté'!F$1) -> 5 | G11: =SUMIFS(Feuil1!$C:$C,Feuil1!$A:$A,'Résultat escompté'!$A11,Feuil1!$D:$D,'Résultat escompté'!G$1)+SUMIFS(Feuil1!$C:$C,Feuil1!$B:$B,'Résultat escompté'!$A11,Feuil1!$D:$D,'Résultat escompté'!G$1) -> 0
A12: 7 | B12: =SUMIFS(Feuil1!$C:$C,Feuil1!$A:$A,'Résultat escompté'!$A12,Feuil1!$D:$D,'Résultat escompté'!B$1)+SUMIFS(Feuil1!$C:$C,Feuil1!$B:$B,'Résultat escompté'!$A12,Feuil1!$D:$D,'Résultat escompté'!B$1) -> 0 | C12: =SUMIFS(Feuil1!$C:$C,Feuil1!$A:$A,'Résultat escompté'!$A12,Feuil1!$D:$D,'Résultat escompté'!C$1)+SUMIFS(Feuil1!$C:$C,Feuil1!$B:$B,'Résultat escompté'!$A12,Feuil1!$D:$D,'Résultat escompté'!C$1) -> 0 | D12: =SUMIFS(Feuil1!$C:$C,Feuil1!$A:$A,'Résultat escompté'!$A12,Feuil1!$D:$D,'Résultat escompté'!D$1)+SUMIFS(Feuil1!$C:$C,Feuil1!$B:$B,'Résultat escompté'!$A12,Feuil1!$D:$D,'Résultat escompté'!D$1) -> 2 | E12: =SUMIFS(Feuil1!$C:$C,Feuil1!$A:$A,'Résultat escompté'!$A12,Feuil1!$D:$D,'Résultat escompté'!E$1)+SUMIFS(Feuil1!$C:$C,Feuil1!$B:$B,'Résultat escompté'!$A12,Feuil1!$D:$D,'Résultat escompté'!E$1) -> 9 | F12: =SUMIFS(Feuil1!$C:$C,Feuil1!$A:$A,'Résultat escompté'!$A12,Feuil1!$D:$D,'Résultat escompté'!F$1)+SUMIFS(Feuil1!$C:$C,Feuil1!$B:$B,'Résultat escompté'!$A12,Feuil1!$D:$D,'Résultat escompté'!F$1) -> 6 | G12: =SUMIFS(Feuil1!$C:$C,Feuil1!$A:$A,'Résultat escompté'!$A12,Feuil1!$D:$D,'Résultat escompté'!G$1)+SUMIFS(Feuil1!$C:$C,Feuil1!$B:$B,'Résultat escompté'!$A12,Feuil1!$D:$D,'Résultat escompté'!G$1) -> 0
A13: 5 | B13: =SUMIFS(Feuil1!$C:$C,Feuil1!$A:$A,'Résultat escompté'!$A13,Feuil1!$D:$D,'Résultat escompté'!B$1)+SUMIFS(Feuil1!$C:$C,Feuil1!$B:$B,'Résultat escompté'!$A13,Feuil1!$D:$D,'Résultat escompté'!B$1) -> 7 | C13: =SUMIFS(Feuil1!$C:$C,Feuil1!$A:$A,'Résultat escompté'!$A13,Feuil1!$D:$D,'Résultat escompté'!C$1)+SUMIFS(Feuil1!$C:$C,Feuil1!$B:$B,'Résultat escompté'!$A13,Feuil1!$D:$D,'Résultat escompté'!C$1) -> 5 | D13: =SUMIFS(Feuil1!$C:$C,Feuil1!$A:$A,'Résultat escompté'!$A13,Feuil1!$D:$D,'Résultat escompté'!D$1)+SUMIFS(Feuil1!$C:$C,Feuil1!$B:$B,'Résultat escompté'!$A13,Feuil1!$D:$D,'Résultat escompté'!D$1) -> 7 | E13: =SUMIFS(Feuil1!$C:$C,Feuil1!$A:$A,'Résultat escompté'!$A13,Feuil1!$D:$D,'Résultat escompté'!E$1)+SUMIFS(Feuil1!$C:$C,Feuil1!$B:$B,'Résultat escompté'!$A13,Feuil1!$D:$D,'Résultat escompté'!E$1) -> 5 | F13: =SUMIFS(Feuil1!$C:$C,Feuil1!$A:$A,'Résultat escompté'!$A13,Feuil1!$D:$D,'Résultat escompté'!F$1)+SUMIFS(Feuil1!$C:$C,Feuil1!$B:$B,'Résultat escompté'!$A13,Feuil1!$D:$D,'Résultat escompté'!F$1) -> 3 | G13: =SUMIFS(Feuil1!$C:$C,Feuil1!$A:$A,'Résultat escompté'!$A13,Feuil1!$D:$D,'Résultat escompté'!G$1)+SUMIFS(Feuil1!$C:$C,Feuil1!$B:$B,'Résultat escompté'!$A13,Feuil1!$D:$D,'Résultat escompté'!G$1) -> 8

Sheet Résultat escompté 2
A1: aa | B1: =SUMIF(Feuil1!D:D,'Résultat escompté 2'!A1,Feuil1!C:C) -> 17
A2: ab | B2: =SUMIF(Feuil1!D:D,'Résultat escompté 2'!A2,Feuil1!C:C) -> 11
A3: ac | B3: =SUMIF(Feuil1!D:D,'Résultat escompté 2'!A3,Feuil1!C:C) -> 12
A4: ad | B4: =SUMIF(Feuil1!D:D,'Résultat escompté 2'!A4,Feuil1!C:C) -> 11
A5: ae | B5: =SUMIF(Feuil1!D:D,'Résultat escompté 2'!A5,Feuil1!C:C) -> 14
A6: af | B6: =SUMIF(Feuil1!D:D,'Résultat escompté 2'!A6,Feuil1!C:C) -> 10
