Workbook

Sheet 1
A1: Quantité totale | B1: Unité de quantité | C1: Nº pièce référence
A2: 0 | B2: VAL | C2: 10000524
A3: 0 | B3: VAL | C3: 10001324
A4: 0 | B4: VAL | C4: 10007380
A5: 0 | B5: VAL | C5: 10007380 | H5: NOTA1 | J5: NOTA2
A6: 0 | B6: VAL | C6: 10010401
A7: 0 | B7: VAL | C7: 10011563 | F7: =VLOOKUP(C2,'2'!$C$2:$C$15,1,FALSE) -> 10000524 | H7: =MATCH(C2,'2'!$C$2:$C$15,FALSE) -> 3 | J7: =VLOOKUP(TEXT(C2,"##########"),'2'!$C$2:$C$15,1,0) -> 10000524
A8: 0 | B8: VAL | C8: 10017380 | F8: =VLOOKUP(C3,'2'!$C$2:$C$15,1,FALSE) -> 10001324 | H8: =MATCH(C3,'2'!$C$2:$C$15,FALSE) -> 1 | J8: =VLOOKUP(TEXT(C3,"##########"),'2'!$C$2:$C$15,1,0) -> 10001324
A9: 0 | B9: VAL | C9: 10017380 | F9: =VLOOKUP(C4,'2'!$C$2:$C$15,1,FALSE) -> #N/A | H9: =MATCH(C4,'2'!$C$2:$C$15,FALSE) -> #N/A | J9: =VLOOKUP(TEXT(C4,"##########"),'2'!$C$2:$C$15,1,0) -> #N/A
A10: 0 | B10: VAL | C10: 10017380 | F10: =VLOOKUP(C5,'2'!$C$2:$C$15,1,FALSE) -> #N/A | H10: =MATCH(C5,'2'!$C$2:$C$15,FALSE) -> #N/A | J10: =VLOOKUP(TEXT(C5,"##########"),'2'!$C$2:$C$15,1,0) -> #N/A
A11: 0 | B11: VAL | C11: 10020644 | F11: =VLOOKUP(C6,'2'!$C$2:$C$15,1,FALSE) -> #N/A | H11: =MATCH(C6,'2'!$C$2:$C$15,FALSE) -> #N/A | J11: =VLOOKUP(TEXT(C6,"##########"),'2'!$C$2:$C$15,1,0) -> #N/A
A12: 0 | B12: VAL | C12: 10021881 | F12: =VLOOKUP(C7,'2'!$C$2:$C$15,1,FALSE) -> 10011563 | H12: =MATCH(C7,'2'!$C$2:$C$15,FALSE) -> 2 | J12: =VLOOKUP(TEXT(C7,"##########"),'2'!$C$2:$C$15,1,0) -> 10011563
A13: 0 | B13: U | C13: 10026399 | F13: =VLOOKUP(C8,'2'!$C$2:$C$15,1,FALSE) -> #N/A | H13: =MATCH(C8,'2'!$C$2:$C$15,FALSE) -> #N/A | J13: =VLOOKUP(TEXT(C8,"##########"),'2'!$C$2:$C$15,1,0) -> #N/A
A14: 0 | B14: U | C14: 10026924 | F14: =VLOOKUP(C9,'2'!$C$2:$C$15,1,FALSE) -> #N/A | H14: =MATCH(C9,'2'!$C$2:$C$15,FALSE) -> #N/A | J14: =VLOOKUP(TEXT(C9,"##########"),'2'!$C$2:$C$15,1,0) -> #N/A
A15: 0 | B15: VAL | C15: 10027832 | F15: =VLOOKUP(C10,'2'!$C$2:$C$15,1,FALSE) -> #N/A | H15: =MATCH(C10,'2'!$C$2:$C$15,FALSE) -> #N/A | J15: =VLOOKUP(TEXT(C10,"##########"),'2'!$C$2:$C$15,1,0) -> #N/A
A16: 0 | B16: VAL | C16: 10027832 | F16: =VLOOKUP(C11,'2'!$C$2:$C$15,1,FALSE) -> #N/A | H16: =MATCH(C11,'2'!$C$2:$C$15,FALSE) -> #N/A | J16: =VLOOKUP(TEXT(C11,"##########"),'2'!$C$2:$C$15,1,0) -> #N/A
A17: 0 | B17: VAL | C17: 10027832 | F17: =VLOOKUP(C12,'2'!$C$2:$C$15,1,FALSE) -> #N/A | H17: =MATCH(C12,'2'!$C$2:$C$15,FALSE) -> #N/A | J17: =VLOOKUP(TEXT(C12,"##########"),'2'!$C$2:$C$15,1,0) -> #N/A
A18: 0 | B18: VAL | C18: 10033974 | F18: =VLOOKUP(C13,'2'!$C$2:$C$15,1,FALSE) -> #N/A | H18: =MATCH(C13,'2'!$C$2:$C$15,FALSE) -> #N/A | J18: =VLOOKUP(TEXT(C13,"##########"),'2'!$C$2:$C$15,1,0) -> #N/A
... A27: 5863 | B27: VAL | C27: 4500007100 | F27: =VLOOKUP(C22,'2'!$C$2:$C$15,1,FALSE) -> #N/A | H27: =MATCH(C22,'2'!$C$2:$C$15,FALSE) -> #N/A | J27: =VLOOKUP(TEXT(C22,"##########"),'2'!$C$2:$C$15,1,0) -> #N/A
A28: 0 | B28: VAL | C28: 4500011899
A29: 0 | B29: VAL | C29: 4500011899
A30: 0 | B30: VAL | C30: 4500011899
A31: 2665 | B31: VAL | C31: 4500012595
A32: 108000 | B32: VAL | C32: 4500016954
A33: 2633 | B33: VAL | C33: 4500016954
A34: 2633 | B34: VAL | C34: 4500016954
A35: 0 | B35: VAL | C35: 4500019598
A36: 108000 | B36: VAL | C36: 4500019966
A37: 2633 | B37: VAL | C37: 4500019966
A38: 2633 | B38: VAL | C38: 4500019966
A39: 34112 | B39: VAL | C39: 4500020455
... A59: 0 | B59: VAL | C59: T1242541

Sheet 2
A1: BO_NUMBER | B1: FOURNISSEUR | C1: DA | F1: =VLOOKUP([1]EngSAP!#REF!,$C$3:$C$16,1,0) -> #REF!
A2: s | B2: a | C2: 10001324 | F2: =VLOOKUP([1]EngSAP!$J1,$C$3:$C$16,1,0) -> #N/A
A3: a | B3: z | C3: 10011563 | F3: =VLOOKUP([1]EngSAP!$J2,$C$3:$C$16,1,0) -> 10000524
A4: e | B4: e | C4: 10000524 | F4: =VLOOKUP([1]EngSAP!$J3,$C$3:$C$16,1,0) -> #N/A
A5: t | B5: r | C5: 10020644 | F5: =VLOOKUP([1]EngSAP!$J4,$C$3:$C$16,1,0) -> #N/A
A6: h | B6: t | C6: 10034220 | F6: =VLOOKUP([1]EngSAP!$J5,$C$3:$C$16,1,0) -> #N/A
A7: f | B7: y | C7: 10007380 | F7: =VLOOKUP([1]EngSAP!$J6,$C$3:$C$16,1,0) -> #N/A
A8: s | B8: u | C8: 10010401 | F8: =VLOOKUP([1]EngSAP!$J7,$C$3:$C$16,1,0) -> 10011563
A9: g | B9: i | C9: 10017380 | F9: =VLOOKUP([1]EngSAP!$J8,$C$3:$C$16,1,0) -> #N/A
A10: m | B10: o | C10: 10021881 | F10: =VLOOKUP([1]EngSAP!$J9,$C$3:$C$16,1,0) -> #N/A
A11: p | B11: p | C11: 10027832 | F11: =VLOOKUP([1]EngSAP!$J10,$C$3:$C$16,1,0) -> #N/A
A12: j | B12: s | C12: 10033974 | F12: =VLOOKUP([1]EngSAP!$J11,$C$3:$C$16,1,0) -> #N/A
A13: hj | B13: d | C13: 10027832 | F13: =VLOOKUP([1]EngSAP!$J12,$C$3:$C$16,1,0) -> #N/A
A14: r | B14: f | C14: 10026924 | F14: =VLOOKUP([1]EngSAP!$J13,$C$3:$C$16,1,0) -> #N/A
A15: b | B15: g | C15: 10026399
