Workbook
Name Águeda: 'AVEIRO - Dados'!$B$2:$D$29
Name Águeda: #REF!
Name Arouca: 'AVEIRO - Dados'!$F$2:$H$19
Name Arouca: #REF!
Name Aveiro: 'AVEIRO - Dados'!$J$2:$L$37
Name Aveiro: #REF!
Name Espinho: 'AVEIRO - Dados'!$N$2:$P$22
Name Espinho: #REF!
Name Mealhada: 'AVEIRO - Dados'!$R$2:$T$24
Name Mealhada: #REF!
Name Ovar: 'AVEIRO - Dados'!$V$2:$X$32
Name Ovar: #REF!
Name Santa_Maria_da_Feira: 'AVEIRO - Dados'!$Z$2:$AB$35
Name Santa_Maria_da_Feira: #REF!
Name São_João_da_Madeira: 'AVEIRO - Dados'!$AD$2:$AF$28
Name São_João_da_Madeira: #REF!
Name SegmentaçãoDeDados_Região: #N/A

Sheet PQ - TCDs
B8: Tipo de Gasolina | C8: Min | D8: Média | E8: Max | G8: Número de localizações
B9: GASÓLEO | C9: 1.259 | D9: 1.2704 | E9: 1.289 | G9: 25
B10: GASÓLEO + | C10: 1.215 | D10: 1.2714 | E10: 1.319
B11: GASOLINA 95 + | C11: 1.514 | D11: 1.5215 | E11: 1.529
B12: GASOLINA 95 SIMPLES | C12: 1.425 | D12: 1.4504 | E12: 1.484
B13: GASOLINA 98 +
B14: GASOLINA 98 SIMPLES | C14: 1.509 | D14: 1.6106667 | E14: 1.719
B15: GASOLINA 98+ | C15: 1.619 | D15: 1.683 | E15: 1.734
B16: GPL AUTO

Sheet Introdução

Sheet AVEIRO - Dados
B2: Águeda | F2: Arouca | J2: Aveiro | N2: Espinho | R2: Mealhada | V2: Ovar | Z2: Santa Maria da Feira | AD2: São João da Madeira
B3: Tipo de Gasolina | C3: Localizações | D3: Preço/Litro | F3: Tipo de Gasolina | G3: Localizações | H3: Preço/Litro | J3: Tipo de Gasolina | K3: Localizações | L3: Preço/Litro | N3: Tipo de Gasolina | O3: Localizações | P3: Preço/Litro | R3: Tipo de Gasolina | S3: Localizações | T3: Preço/Litro | V3: Tipo de Gasolina | W3: Localizações | X3: Preço/Litro | Z3: Tipo de Gasolina | AA3: Localizações | AB3: Preço/Litro | AD3: Tipo de Gasolina | AE3: Localizações | AF3: Preço/Litro
B4: GASOLINA 95 SIMPLES | C4: Prio - Aguada de Baixo N/S | D4: 1.425 | F4: GASOLINA 95 SIMPLES | G4: Galp Alvarenga | H4: 1.479 | J4: GASOLINA 95 SIMPLES | K4: Jumbo Aveiro | L4: 1.339 | N4: GASOLINA 95 SIMPLES | O4: R Star Energy - Espinho | P4: 1.469 | R4: GASOLINA 95 SIMPLES | S4: Intermarché - Mealhada | T4: 1.398 | V4: GASOLINA 95 SIMPLES | W4: Intermarché Ovar | X4: 1.399 | Z4: GASOLINA 95 SIMPLES | AA4: Pingo Doce Lourosa | AB4: 1.414 | AD4: GASOLINA 95 SIMPLES | AE4: Intermarché - Arrifana | AF4: 1.149
C5: Prio - Aguada de Baixo S/N | D5: 1.425 | G5: Galp Santa Eulália | H5: 1.509 | K5: Bxpress Aveiro | L5: 1.404 | O5: Repsol - Espinho | P5: 1.539 | S5: Galp Mealhada N/S | T5: 1.514 | W5: Intermarche Esmoriz | X5: 1.439 | AA5: E.Leclerc Santa Maria da Feira | AB5: 1.419 | AE5: Petro Zona S. J. Madeira | AF5: 1.459
C6: Redil - Recardães | D6: 1.439 | G6: Galp Chão de Ave | H6: 1.539 | K6: Pingo Doce Aveiro | L6: 1.419 | O6: Galp Espinho | P6: 1.569 | S6: Galp - Luso | T6: 1.514 | W6: Galp - Valega | X6: 1.469 | AA6: Pingo Doce Arrifana | AB6: 1.419 | AE6: Repsol São João da Madeira | AF6: 1.479
C7: Repsol - Hospital Águeda | D7: 1.479 | G7: S. Brás Combustíveis -...S. Brás Combustíveis - Nespereira | H7: 1.559 | K7: Prio - Gafanha da Nazaré (Av. Central) | L7: 1.425 | O7: BP - Domingues e Gomes | P7: 1.559 | S7: Repsol - Mealhada B | T7: 1.529 | W7: Repsol - Valega A | X7: 1.469 | AA7: Intermarché - Santa Maria de Lamas | AB7: 1.429 | AE7: Galp São João da Madeira | AF7: 1.509
C8: Cepsa - Travassô | D8: 1.484 | F8: GASOLINA 95 + | G8: Galp Santa Eulália | H8: 1.559 | K8: Prio - Gafanha da Nazaré | L8: 1.445 | N8: GASOLINA 95 + | O8: Repsol - Espinho | P8: 1.529 | S8: BP Casal Comba | T8: 1.539 | W8: Repsol - Valega B | X8: 1.469 | AA8: R Star - São João de Ver | AB8: 1.469 | AE8: Galp Petroroque - S. João da Madeira | AF8: 1.509
B9: GASOLINA 95 + | C9: Cepsa - Travassô | D9: 1.514 | F9: GASOLINA 98 SIMPLES | G9: S. Brás Combustíveis -...SS | H9: 1.649 | J9: GASOLINA 95 + | K9: Prio - São Bernardo | L9: 1.455 | O9: Galp Espinho | P9: 1.529 | R9: GASOLINA 95 + | S9: Galp Mealhada N/S | T9: 1.534 | V9: GASOLINA 95 + | W9: Galp - Valega | X9: 1.489 | Z9: GASOLINA 95 + | AA9: Prio - Fiães | AB9: 1.445 | AD9: GASOLINA 95 + | AE9: Galp São João da Madeira | AF9: 1.529
C10: Galp - Mendes & Loureiro - Comb. e Lubs., Lda | D10: 1.529 | G10: Galp Chão de Ave | H10: 1.654 | K10: Cepsa Aveiro - Esgueira | L10: 1.479 | N10: GASOLINA 98 SIMPLES | O10: R Star Energy - Espinho | P10: 1.534 | S10: Galp - Luso | T10: 1.534 | W10: Repsol - Valega A | X10: 1.519 | AA10: Repsol - Lourosa | AB10: 1.519 | AE10: Galp Petroroque - S. João da Madeira | AF10: 1.529
B11: GASOLINA 98 SIMPLES | C11: Redil - Recardães | D11: 1.509 | F11: GASOLINA 98 + | G11: Galp Santa Eulália | H11: 1.624 | K11: Galp - Cacia | L11: 1.484 | N11: GASOLINA 98 + | O11: Galp Espinho | P11: 1.624 | R11: GASOLINA 98 SIMPLES | S11: Intermarché - Mealhada | T11: 1.488 | W11: Galp Ovar - Av. Sá Carneiro | X11: 1.529 | AA11: Galp - Fiães | AB11: 1.529 | AD11: GASOLINA 98 SIMPLES | AE11: Intermarché - Arrifana | AF11: 1.488
C12: Alves Bandeira - Travassô | D12: 1.604 | F12: GASÓLEO | G12: Galp Alvarenga | H12: 1.309 | K12: Repsol - Zona Industrial de Aveiro | L12: 1.499 | O12: Repsol - Espinho | P12: 1.629 | R12: GASOLINA 98 + | S12: Repsol - Mealhada B | T12: 1.679 | V12: GASOLINA 98 SIMPLES | W12: Intermarche Esmoriz | X12: 1.449 | AA12: Galp - Espargo | AB12: 1.529 | AE12: Petro Zona S. J. Madeira | AF12: 1.519
C13: BP - A.B.M. - Zona Industrial | D13: 1.719 | G13: Galp Santa Eulália | H13: 1.339 | K13: Repsol - Esgueira A | L13: 1.499 | O13: BP - Domingues e Gomes | P13: 1.719 | S13: BP Casal Comba | T13: 1.719 | W13: Intermarché Ovar | X13: 1.478 | AA13: Galp Arrifana | AB13: 1.529 | AD13: GASOLINA 98 + | AE13: Repsol São João da Madeira | AF13: 1.619
B14: GASOLINA 98+ | C14: Repsol - Hospital Águeda | D14: 1.619 | G14: Galp Chão de Ave | H14: 1.339 | J14: GASOLINA 98 SIMPLES | K14: Jumbo Aveiro | L14: 1.469 | N14: GASÓLEO | O14: R Star Energy - Espinho | P14: 1.238 | R14: GASÓLEO | S14: Intermarché - Mealhada | T14: 1.188 | W14: Almeida's - Torre | X14: 1.544 | Z14: GASOLINA 98 SIMPLES | AA14: E.Leclerc Santa Maria da Feira | AB14: 1.488 | AE14: Galp Petroroque - S. João da Madeira | AF14: 1.624
C15: Galp - Mendes & Loureiro - Comb. e Lubs., Lda | D15: 1.624 | G15: S. Brás Combustíveis - Nespereira | H15: 1.339 | K15: Pingo Doce Aveiro | L15: 1.488 | O15: Repsol - Espinho | P15: 1.284 | S15: Galp Mealhada N/S | T15: 1.319 | W15: Alves Bandeira Maceda | X15: 1.589 | AA15: Pingo Doce Lourosa | AB15: 1.488 | AE15: Repsol São João da Madeira | AF15: 1.679
C16: BP - Águeda | D16: 1.719 | F16: GASÓLEO + | G16: Galp Alvarenga | H16: 1.304 | K16: Alves Bandeira - Santa Joana | L16: 1.594 | O16: Galp Espinho | P16: 1.314 | S16: Galp - Luso | T16: 1.319 | W16: BP Esmoriz | X16: 1.729 | AA16: Pingo Doce Arrifana | AB16: 1.488 | AE16: BP São João da Madeira | AF16: 1.719
C17: BP - Águeda - EN1 | D17: 1.719 | G17: Galp Santa Eulália | H17: 1.334 | K17: Alves Bandeira - São Bernardo | L17: 1.594 | O17: BP - Domingues e Gomes | P17: 1.359 | S17: Repsol - Mealhada B | T17: 1.324 | V17: GASOLINA 98 + | W17: Intermarche Esmoriz | X17: 1.449 | AA17: Intermarché - Santa Maria de Lamas | AB17: 1.489 | AD17: GASÓLEO | AE17: Intermarché - Arrifana | AF17: 1.202
C18: BP - Aguada de Baixo Oeste | D18: 1.734 | G18: S. Brás Combustíveis - Nespereira | H18: 1.379 | J18: GASOLINA 98 + | K18: Galp - Cacia | L18: 1.584 | N18: GASÓLEO + | O18: R Star Energy - Espinho | P18: 1.268 | S18: BP Casal Comba | T18: 1.339 | W18: Intermarché Ovar | X18: 1.478 | AA18: R Star - São João de Ver | AB18: 1.564 | AE18: Petro Zona S. J. Madeira | AF18: 1.269
B19: GASÓLEO | C19: Redil - Recardães | D19: 1.259 | F19: GPL AUTO | G19: // | H19: // | K19: Repsol - Zona Industrial de Aveiro | L19: 1.599 | O19: Repsol - Espinho | P19: 1.329 | R19: GASÓLEO + | S19: Intermarché - Mealhada | T19: 1.218 | W19: Almeida's - Torre | X19: 1.544 | Z19: GASOLINA 98 + | AA19: Repsol - Lourosa | AB19: 1.617 | AE19: Repsol São João da Madeira | AF19: 1.274
C20: Prio - Aguada de Baixo N/S | D20: 1.265 | K20: Repsol - Esgueira A | L20: 1.599 | O20: Galp Espinho | P20: 1.334 | S20: Galp - Luso | T20: 1.339 | W20: Alves Bandeira Maceda | X20: 1.589 | AA20: Repsol Santa Maria da Feira | AB20: 1.617 | AE20: Galp São João da Madeira | AF20: 1.314
C21: Prio - Aguada de Baixo S/N | D21: 1.265 | K21: Repsol - Esgueira B | L21: 1.599 | O21: BP - Domingues e Gomes | P21: 1.459 | S21: Repsol - Mealhada B | T21: 1.379 | W21: BP Esmoriz | X21: 1.729 | AA21: Galp - Fiães | AB21: 1.624 | AE21: Galp Petroroque - S. João da Madeira | AF21: 1.314
C22: Repsol - Hospital Águeda | D22: 1.274 | K22: Repsol Aveiro - Av Universidade B | L22: 1.599 | N22: GPL AUTO | O22: R Star Energy - Espinho | P22: 0.66 | S22: Galp Mealhada N/S | T22: 1.389 | V22: GASÓLEO | W22: Intermarché Ovar | X22: 1.189 | AA22: BP Arrifana | AB22: 1.719 | AD22: GASÓLEO + | AE22: Petro Zona S. J. Madeira | AF22: 1.299
C23: Cepsa - Travassô | D23: 1.289 | J23: GASÓLEO | K23: Jumbo Aveiro | L23: 1.199 | S23: BP Casal Comba | T23: 1.459 | W23: Intermarche Esmoriz | X23: 1.214 | Z23: GASÓLEO | AA23: Pingo Doce Lourosa | AB23: 1.179 | AE23: Repsol São João da Madeira | AF23: 1.319
B24: GASÓLEO + | C24: Prio - Aguada de Baixo N/S | D24: 1.215 | K24: Pingo Doce Aveiro | L24: 1.202 | R24: GPL AUTO | S24: // | T24: // | W24: Repsol - Valega A | X24: 1.264 | AA24: Pingo Doce Arrifana | AB24: 1.179 | AE24: Galp São João da Madeira | AF24: 1.334
C25: Prio - Aguada de Baixo S/N | D25: 1.215 | K25: Bxpress Aveiro | L25: 1.212 | W25: Repsol - Valega B | X25: 1.264 | AA25: Intermarché - Santa Maria de Lamas | AB25: 1.199 | AE25: Galp Petroroque - S. João da Madeira | AF25: 1.334
C26: Redil - Recardães | D26: 1.289 | K26: Prio - Gafanha da Nazaré (Av. Central) | L26: 1.245 | W26: Galp - Valega | X26: 1.274 | AA26: E.Leclerc Santa Maria da Feira | AB26: 1.199 | AE26: Repsol São João da Madeira | AF26: 1.379
C27: Repsol - Hospital Águeda | D27: 1.319 | K27: Prio - Gafanha da Nazaré | L27: 1.245 | V27: GASÓLEO + | W27: Galp - Valega | X27: 1.294 | AA27: R Star - São João de Ver | AB27: 1.238 | AD27: GPL AUTO | AE27: Petro Zona S. J. Madeira | AF27: 0.629
C28: Cepsa - Travassô | D28: 1.319 | J28: GASÓLEO + | K28: Prio - Gafanha da Nazaré (Av. Central) | L28: 1.215 | W28: Sopor - Esmoriz | X28: 1.309 | Z28: GASÓLEO + | AA28: Prio - Fiães | AB28: 1.235 | AE28: Repsol São João da Madeira | AF28: 0.674
B29: GPL AUTO | C29: // | D29: // | K29: Prio - Gafanha da Nazaré | L29: 1.235 | W29: Cepsa - Ovar I | X29: 1.309 | AA29: Intermarché - Santa Maria de Lamas | AB29: 1.239
K30: Prio - São Bernardo | L30: 1.245 | W30: Repsol - Valega A | X30: 1.319 | AA30: R Star - São João de Ver | AB30: 1.268
K31: Galp - Cacia | L31: 1.289 | W31: Alves Bandeira Maceda | X31: 1.319 | AA31: Repsol - Lourosa | AB31: 1.319
K32: Cepsa Aveiro - Esgueira | L32: 1.289 | V32: GPL AUTO | W32: // | X32: // | AA32: Repsol Santa Maria da Feira | AB32: 1.319
J33: GPL AUTO | K33: Prio - Gafanha da Nazaré | L33: 0.589 | Z33: GPL AUTO | AA33: Galp - Espargo | AB33: 0.692
K34: Bxpress Aveiro | L34: 0.599 | AA34: Repsol Santa Maria da Feira | AB34: 0.704
K35: Galp A.S. Aveiro E/O | L35: 0.693 | AA35: Azoria Mozelos N/S | AB35: 0.75
K36: Galp A.S. Aveiro O/E | L36: 0.693
K37: BP Forca - Aveiro | L37: 0.694

Sheet Folha1
A1: Tipo de Gasolina | B1: Localizações | C1: Preço/Litro | D1: Região
A2: GASÓLEO | B2: Cepsa - Travassô | C2: 1.289 | D2: Agueda
A3: GASÓLEO | B3: Prio - Aguada de Baixo N/S | C3: 1.265 | D3: Agueda
A4: GASÓLEO | B4: Prio - Aguada de Baixo S/N | C4: 1.265 | D4: Agueda
A5: GASÓLEO | B5: Redil - Recardães | C5: 1.259 | D5: Agueda
A6: GASÓLEO | B6: Repsol - Hospital Águeda | C6: 1.274 | D6: Agueda
A7: GASÓLEO + | B7: Cepsa - Travassô | C7: 1.319 | D7: Agueda
A8: GASÓLEO + | B8: Prio - Aguada de Baixo N/S | C8: 1.215 | D8: Agueda
A9: GASÓLEO + | B9: Prio - Aguada de Baixo S/N | C9: 1.215 | D9: Agueda
A10: GASÓLEO + | B10: Redil - Recardães | C10: 1.289 | D10: Agueda
A11: GASÓLEO + | B11: Repsol - Hospital Águeda | C11: 1.319 | D11: Agueda
A12: GASOLINA 95 + | B12: Cepsa - Travassô | C12: 1.514 | D12: Agueda
A13: GASOLINA 95 + | B13: Galp - Mendes & Loureiro - Comb. e Lubs., Lda | C13: 1.529 | D13: Agueda
... A199: GPL AUTO | B199: Repsol São João da Madeira | C199: 0.674 | D199: Sao Joao da Madeira

Sheet Tabela de dados
C1: Rótulos de Linha | D1: Mínimo de Preço/Litro | E1: Média de Preço/Litro | F1: Máximo de Preço/Litro
C2: GASÓLEO | D2: 1.259 | E2: 1.2704 | F2: 1.289
C3: GASÓLEO + | D3: 1.215 | E3: 1.2714 | F3: 1.319
C4: GASOLINA 95 + | D4: 1.514 | E4: 1.5215 | F4: 1.529 | H4: Número de localizações
C5: GASOLINA 95 SIMPLES | D5: 1.425 | E5: 1.4504 | F5: 1.484 | H5: 25
C6: GASOLINA 98 SIMPLES | D6: 1.509 | E6: 1.6106667 | F6: 1.719
C7: GASOLINA 98+ | D7: 1.619 | E7: 1.683 | F7: 1.734

Sheet PQ - Table
A1: Referências | B1: Região | C1: Tipo de Gasolina | D1: Localizações | E1: Preço/Litro
A2: 1110 | B2: Agueda | C2: GASOLINA 95 SIMPLES | D2: Prio - Aguada de Baixo N/S | E2: 1.425
A3: 1111 | B3: Agueda | C3: GASOLINA 95 SIMPLES | D3: Prio - Aguada de Baixo S/N | E3: 1.425
A4: 1112 | B4: Agueda | C4: GASOLINA 95 SIMPLES | D4: Redil - Recardães | E4: 1.439
A5: 1113 | B5: Agueda | C5: GASOLINA 95 SIMPLES | D5: Repsol - Hospital Águeda | E5: 1.479
A6: 1114 | B6: Agueda | C6: GASOLINA 95 SIMPLES | D6: Cepsa - Travassô | E6: 1.484
A7: 1115 | B7: Agueda | C7: GASOLINA 95 + | D7: Cepsa - Travassô | E7: 1.514
A8: 1116 | B8: Agueda | C8: GASOLINA 95 + | D8: Galp - Mendes & Loureiro - Comb. e Lubs., Lda | E8: 1.529
A9: 1117 | B9: Agueda | C9: GASOLINA 98 SIMPLES | D9: Redil - Recardães | E9: 1.509
A10: 1118 | B10: Agueda | C10: GASOLINA 98 SIMPLES | D10: Alves Bandeira - Travassô | E10: 1.604
A11: 1119 | B11: Agueda | C11: GASOLINA 98 SIMPLES | D11: BP - A.B.M. - Zona Industrial | E11: 1.719
A12: 1120 | B12: Agueda | C12: GASOLINA 98+ | D12: Repsol - Hospital Águeda | E12: 1.619
A13: 1121 | B13: Agueda | C13: GASOLINA 98+ | D13: Galp - Mendes & Loureiro - Comb. e Lubs., Lda | E13: 1.624
... A199: 1307 | B199: Sao Joao da Madeira | C199: GPL AUTO | D199: Repsol São João da Madeira | E199: 0.674

Sheet Procurar a sua bomba
A2: Referência | B2: Bomba
A3: 1112 | B3: =VLOOKUP(A3,'PQ - Table'!A$2:B$199,2) -> Agueda | C3: =VLOOKUP(A3,T_PTs[[Referências]:[Localizações]],4) -> Redil - Recardães
A4: 1120 | B4: =VLOOKUP(A4,'PQ - Table'!A$2:B$199,2) -> Agueda | C4: =VLOOKUP(A4,T_PTs[[Referências]:[Localizações]],4) -> Repsol - Hospital Águeda
A5: 1290 | B5: =VLOOKUP(A5,'PQ - Table'!A$2:B$199,2) -> Sao Joao da Madeira | C5: =VLOOKUP(A5,T_PTs[[Referências]:[Localizações]],4) -> Intermarché - Arrifana
A6: 1304 | B6: =VLOOKUP(A6,'PQ - Table'!A$2:B$199,2) -> Sao Joao da Madeira | C6: =VLOOKUP(A6,T_PTs[[Referências]:[Localizações]],4) -> Galp Petroroque - S. João da Madeira
A7: 1111 | B7: =VLOOKUP(A7,'PQ - Table'!A$2:B$199,2) -> Agueda | C7: =VLOOKUP(A7,T_PTs[[Referências]:[Localizações]],4) -> Prio - Aguada de Baixo S/N
A8: 1114 | B8: =VLOOKUP(A8,'PQ - Table'!A$2:B$199,2) -> Agueda | C8: =VLOOKUP(A8,T_PTs[[Referências]:[Localizações]],4) -> Cepsa - Travassô
A9: 1127 | B9: =VLOOKUP(A9,'PQ - Table'!A$2:B$199,2) -> Agueda | C9: =VLOOKUP(A9,T_PTs[[Referências]:[Localizações]],4) -> Prio - Aguada de Baixo S/N
A10: 1114 | B10: =VLOOKUP(A10,'PQ - Table'!A$2:B$199,2) -> Agueda | C10: =VLOOKUP(A10,T_PTs[[Referências]:[Localizações]],4) -> Cepsa - Travassô
A11: 1114 | B11: =VLOOKUP(A11,'PQ - Table'!A$2:B$199,2) -> Agueda | C11: =VLOOKUP(A11,T_PTs[[Referências]:[Localizações]],4) -> Cepsa - Travassô
A12: 1284 | B12: =VLOOKUP(A12,'PQ - Table'!A$2:B$199,2) -> Sao Joao da Madeira | C12: =VLOOKUP(A12,T_PTs[[Referências]:[Localizações]],4) -> Petro Zona S. J. Madeira
A13: 1306 | B13: =VLOOKUP(A13,'PQ - Table'!A$2:B$199,2) -> Sao Joao da Madeira | C13: =VLOOKUP(A13,T_PTs[[Referências]:[Localizações]],4) -> Petro Zona S. J. Madeira
B14: =VLOOKUP(A14,'PQ - Table'!A$2:B$199,2) -> #N/A | C14: =VLOOKUP(A14,T_PTs[[Referências]:[Localizações]],4) -> #N/A
B15: =VLOOKUP(A15,'PQ - Table'!A$2:B$199,2) -> #N/A | C15: =VLOOKUP(A15,T_PTs[[Referências]:[Localizações]],4) -> #N/A
B16: =VLOOKUP(A16,'PQ - Table'!A$2:B$199,2) -> #N/A | C16: =VLOOKUP(A16,T_PTs[[Referências]:[Localizações]],4) -> #N/A
B17: =VLOOKUP(A17,'PQ - Table'!A$2:B$199,2) -> #N/A | C17: =VLOOKUP(A17,T_PTs[[Referências]:[Localizações]],4) -> #N/A
B18: =VLOOKUP(A18,'PQ - Table'!A$2:B$199,2) -> #N/A | C18: =VLOOKUP(A18,T_PTs[[Referências]:[Localizações]],4) -> #N/A
B19: =VLOOKUP(A19,'PQ - Table'!A$2:B$199,2) -> #N/A | C19: =VLOOKUP(A19,T_PTs[[Referências]:[Localizações]],4) -> #N/A
B20: =VLOOKUP(A20,'PQ - Table'!A$2:B$199,2) -> #N/A | C20: =VLOOKUP(A20,T_PTs[[Referências]:[Localizações]],4) -> #N/A
B21: =VLOOKUP(A21,'PQ - Table'!A$2:B$199,2) -> #N/A | C21: =VLOOKUP(A21,T_PTs[[Referências]:[Localizações]],4) -> #N/A
B22: =VLOOKUP(A22,'PQ - Table'!A$2:B$199,2) -> #N/A | C22: =VLOOKUP(A22,T_PTs[[Referências]:[Localizações]],4) -> #N/A
B23: =VLOOKUP(A23,'PQ - Table'!A$2:B$199,2) -> #N/A | C23: =VLOOKUP(A23,T_PTs[[Referências]:[Localizações]],4) -> #N/A
B24: =VLOOKUP(A24,'PQ - Table'!A$2:B$199,2) -> #N/A | C24: =VLOOKUP(A24,T_PTs[[Referências]:[Localizações]],4) -> #N/A
B25: =VLOOKUP(A25,'PQ - Table'!A$2:B$199,2) -> #N/A | C25: =VLOOKUP(A25,T_PTs[[Referências]:[Localizações]],4) -> #N/A
... B89: =VLOOKUP(A89,'PQ - Table'!A$2:B$199,2) -> #N/A | C89: =VLOOKUP(A89,T_PTs[[Referências]:[Localizações]],4) -> #N/A

Sheet Folha2
D1: Dados de consumo acerca dos carros
C2: Tipo de carros | D2: Ano | E2: Consumo L/100Km | F2: Capacidade em Litros | G2: Preço Carro
C3: =HYPERLINK("http://www.citroen.pt/veiculos/citroen/novo-c3.html","Citröen C3 1.6 Blue HDi 75cv") -> Citröen C3 1.6 Blue HDi 75cv | D3: 2017 | E3: 3,0L/100K | F3: 46 | G3: 17000
C4: =HYPERLINK("http://renaultretail.pt/novos/passageiros/novo-clio-sport-tourer/","Clio Sport Tourer Zen Energy TCe 90 Cv") -> Clio Sport Tourer Zen Energy TCe 90 Cv | D4: 2017 | E4: 3.2L/100K | F4: 45 | G4: 18200
C5: =HYPERLINK("https://www.bmw.pt/pt/index.html","BMW 125i 2.0 Active Flex") -> BMW 125i 2.0 Active Flex | D5: 2014 | E5: 8.3L/100K | F5: 52 | G5: 20000
C6: =HYPERLINK("https://m.mercedes-benz.pt/","Mercedes-Benz A45") -> Mercedes-Benz A45 | D6: 2016 | E6: 6.9L/100K | F6: 56 | G6: 50000
C7: =HYPERLINK("http://www.lisboa.ferraridealers.com/pt_pt/cars/488-spider","Ferrari 488 Spider") -> Ferrari 488 Spider | D7: 2015 | E7: 12L/100K | F7: 78 | G7: 240000
C9: Simulador de preços …
B10: Escolher Carro | C10: Tipo de Gasolina | D10: Preço médio | E10: Litros Desejado | F10: Preço Final
B11: Ferrari 488 Spider | C11: GASÓLEO + | D11: =VLOOKUP(C11,'[2]Tabela de dados'!C2:F7,3,FALSE) -> 1.3085405 | E11: 77 | F11: =ROUND(D11*E11,2) -> 100.76
C13: Simulação viágem
B14: Escolher Carro | C14: Ponto de Partida | D14: Destino Final | E14: Km até Destino | F14: Tipo Gasolina | G14: Preço final | H14: Enchimentos feitos
B15: Citröen C3 1.6 Blue HDi 75cv | C15: Portugal - Algarve | D15: Portugal - Algarve

Sheet Folha3
C6: X | D6: Portugal - Algarve | E6: Portugal - Porto | F6: Portugal - Aveiro | G6: França -Paris | H6: Espanha - Barcelona | I6: Itália - Roma | J6: Allemanha - Berlim
C7: Portugal - Algarve | D7: 0 | E7: 550 | F7: 490 | G7: 2000 | H7: 995 | I7: 2540 | J7: 2970
C8: Portugal - Porto | D8: 550 | E8: 0 | F8: 73 | G8: 1550 | H8: 1062 | I8: 2327 | J8: 2598
C9: Portugal - Aveiro | D9: 490 | E9: 73 | F9: 0 | G9: 1573 | H9: 1085 | I9: 2350 | J9: 2621
C10: França -Paris | D10: 2000 | E10: 1550 | F10: 1573 | G10: 0 | H10: 1032 | I10: 1421 | J10: 1049
C11: Espanha - Barcelona | D11: 995 | E11: 1062 | F11: 1085 | G11: 1032 | H11: 0 | I11: 1357 | J11: 1861
C12: Itália - Roma | D12: 2540 | E12: 2327 | F12: 2350 | G12: 1421 | H12: 1357 | I12: 0 | J12: 1505
C13: Allemanha - Berlim | D13: 2970 | E13: 2598 | F13: 2621 | G13: 1049 | H13: 1861 | I13: 1505 | J13: 0
