Workbook

Sheet SUIVI 2018
A1: N°* | B1: REF CLIENT* | C1: N°ORDRE* | D1: DP* | E1: DATE CHGT* | F1: EXPEDITEUR* | G1: PAYS DEP* | H1: CP DEP* | I1: VILLE DEP* | J1: DATE LIV* | K1: DESTINATAIRE* | L1: PAYS ARR* | M1: CP ARR | N1: VILLE ARR* | O1: Kms / Transit | P1: GES / Transit | Q1: Energie (MJ) | R1: NB PAL* | S1: NB PAL SOL | T1: FORMAT* | U1: POIDS (kgs)* | V1: VENTE H.T* | W1: N° Facture TOOL* | X1: ACHAT* | Y1: MARGE H.T | Z1: AFFRETE 1* | AA1: AFFRETE 2* | AB1: ANOMALIE (X) | AC1: OBSERVATIONS* | AD1: NB Transits
A2: 1 | E2: 43103 | H2: 76 | J2: 43108 | M2: 08 | R2: 19 | S2: =R2/2 -> 9.5 | T2: 80X120 | U2: 9484 | Y2: =IF(ISBLANK(X2)," ",V2-X2) | AD2: 1
A3: 1 | E3: 43103 | H3: 76 | J3: 43108 | M3: 08 | R3: 10 | S3: =R3/2 -> 5 | T3: 80X120 | U3: 4920 | Y3: =IF(ISBLANK(X3)," ",V3-X3) | AD3: =IF(A3=A2, 0,1+AD2) -> 0
A4: 1 | E4: 43103 | H4: 76 | J4: 43108 | M4: 08 | R4: 12 | S4: =R4/2 -> 6 | T4: 80X120 | U4: 5729 | Y4: =IF(ISBLANK(X4)," ",V4-X4) | AD4: =IF(A4=A3, 0,1+AD3) -> 0
A5: 2 | E5: 43103 | H5: 76 | J5: 43108 | M5: 08 | R5: 7 | S5: =R5/2 -> 3.5 | T5: 80X120 | U5: 3342 | Y5: =IF(ISBLANK(X5)," ",V5-X5) | AD5: =IF(A5=A4, 0,1) -> 1
A6: 2 | E6: 43104 | H6: 76 | J6: 43109 | M6: 08 | R6: 45 | S6: =R6/2 -> 22.5 | T6: 80X120 | U6: 21484 | Y6: =IF(ISBLANK(X6)," ",V6-X6) | AD6: =IF(A6=A5, 0,1) -> 0
A7: 3 | E7: 43108 | H7: 58 | J7: 43110 | M7: 76 | R7: 16 | S7: =R7/2 -> 8 | T7: 100X120 | U7: 6048 | Y7: =IF(ISBLANK(X7)," ",V7-X7) | AD7: =IF(A7=A6, 0,1) -> 1
A8: 4 | E8: 43102 | H8: 76 | J8: 43108 | M8: 08 | R8: 9 | S8: =R8/2 -> 4.5 | T8: 80X120 | U8: 3290 | Y8: =IF(ISBLANK(X8)," ",V8-X8) | AD8: =IF(A8=A7, 0,1) -> 1
A9: 4 | E9: 43103 | H9: 76 | J9: 43108 | M9: 08 | R9: 10 | S9: =R9/2 -> 5 | T9: 100X120 | U9: 3202 | Y9: =IF(ISBLANK(X9)," ",V9-X9) | AD9: =IF(A9=A8, 0,1) -> 0
A10: 4 | E10: 43103 | H10: 76 | J10: 43108 | M10: 08 | R10: 5 | S10: =R10/2 -> 2.5 | T10: 80X120 | U10: 2515 | Y10: =IF(ISBLANK(X10)," ",V10-X10) | AD10: =IF(A10=A9, 0,1) -> 0
A11: 5 | E11: 43105 | H11: 76 | J11: 43108 | M11: STOCK | R11: 52 | S11: =R11/2 -> 26 | T11: 80X120 | U11: 24826 | Y11: =IF(ISBLANK(X11)," ",V11-X11) | AD11: =IF(A11=A10, 0,1) -> 1
A12: 6 | E12: 43104 | H12: STOCK | J12: 43105 | M12: 08 | R12: 3 | S12: =R12/2 -> 1.5 | T12: 80X120 | U12: 693 | Y12: =IF(ISBLANK(X12)," ",V12-X12) | AD12: =IF(A12=A11, 0,1) -> 1
A13: 7 | E13: 43102 | H13: STOCK | J13: 43103 | M13: 08 | R13: 45 | S13: =R13/2 -> 22.5 | T13: 80x120 | U13: 11396 | Y13: =IF(ISBLANK(X13)," ",V13-X13) | AD13: =IF(A13=A12, 0,1) -> 1
A14: 8 | E14: 43102 | H14: STOCK | J14: 43103 | M14: 08 | R14: 6 | S14: =R14/2 -> 3 | T14: 80x120 | U14: 2213 | Y14: =IF(ISBLANK(X14)," ",V14-X14) | AD14: =IF(A14=A13, 0,1) -> 1
A15: 8 | E15: 43102 | H15: STOCK | J15: 43103 | M15: 08 | R15: 35 | S15: =R15/2 -> 17.5 | T15: 80x120 | U15: 7860 | Y15: =IF(ISBLANK(X15)," ",V15-X15) | AD15: =IF(A15=A14, 0,1) -> 0
A16: 9 | E16: 43103 | H16: 08 | J16: 43110 | M16: 76 | R16: 2 | S16: =R16/2 -> 1 | T16: 80X120 | U16: 400 | Y16: =IF(ISBLANK(X16)," ",V16-X16) | AD16: =IF(A16=A15, 0,1) -> 1
... A66: 38 | E66: 43115 | H66: STOCK | J66: 43116 | M66: 08 | R66: 15 | S66: =R66/2 -> 7.5 | T66: 80X120 | U66: 7376 | Y66: =IF(ISBLANK(X66)," ",V66-X66) | AD66: =IF(A66=A65, 0,1) -> 1
A67: 39 | E67: 43111 | H67: STOCK | J67: 43112 | M67: 08 | R67: 12 | S67: =R67/2 -> 6 | T67: 80X120 | Y67: =IF(ISBLANK(X67)," ",V67-X67) | AD67: =IF(A67=A66, 0,1) -> 1
A68: 40 | E68: 43118 | H68: 76 | J68: 43122 | M68: 13 | R68: 52 | S68: =R68/2 -> 26 | T68: 80X120 | U68: 24570 | Y68: =IF(ISBLANK(X68)," ",V68-X68) | AD68: =IF(A68=A67, 0,1) -> 1
A69: 41 | E69: 43115 | H69: 76 | J69: 43118 | M69: 08 | R69: 10 | S69: =R69/2 -> 5 | T69: 80X120 | U69: 4604 | Y69: =IF(ISBLANK(X69)," ",V69-X69) | AD69: =IF(A69=A68, 0,1) -> 1
A70: 42 | E70: 43112 | H70: 58 | J70: 43116 | M70: 76 | R70: 9 | S70: =R70/2 -> 4.5 | T70: 100X120 | U70: 3431 | Y70: =IF(ISBLANK(X70)," ",V70-X70) | AD70: =IF(A70=A69, 0,1) -> 1
A71: 43 | E71: 43112 | H71: 08 | J71: 43115 | M71: 45 | R71: 60 | S71: =R71/2 -> 30 | T71: 80X120 | U71: 19577 | Y71: =IF(ISBLANK(X71)," ",V71-X71) | AD71: =IF(A71=A70, 0,1) -> 1
A72: 44 | E72: 43117 | H72: 76 | J72: 43122 | M72: 08 | R72: 48 | S72: =R72/2 -> 24 | T72: 80X120 | U72: 24131 | Y72: =IF(ISBLANK(X72)," ",V72-X72) | AD72: =IF(A72=A71, 0,1) -> 1
A73: 45 | E73: 43116 | H73: 76 | J73: 43119 | M73: STOCK | R73: 47 | S73: =R73/2 -> 23.5 | T73: 80X120 | U73: 17508 | Y73: =IF(ISBLANK(X73)," ",V73-X73) | AD73: =IF(A73=A72, 0,1) -> 1
A74: 45 | E74: 43116 | H74: 76 | J74: 43119 | M74: 08 | R74: 13 | S74: =R74/2 -> 6.5 | T74: 80X120 | U74: 6559 | Y74: =IF(ISBLANK(X74)," ",V74-X74) | AD74: =IF(A74=A73, 0,1) -> 0
A75: 46 | E75: 43116 | H75: 76 | J75: 43118 | M75: 08 | R75: 6 | S75: =R75/2 -> 3 | T75: 80X120 | U75: 2339 | Y75: =IF(ISBLANK(X75)," ",V75-X75) | AD75: =IF(A75=A74, 0,1) -> 1
A76: 46 | E76: 43116 | H76: 76 | J76: 43118 | M76: 08 | R76: 2 | S76: =R76/2 -> 1 | T76: 80X120 | U76: 780 | Y76: =IF(ISBLANK(X76)," ",V76-X76) | AD76: =IF(A76=A75, 0,1) -> 0
A77: 46 | E77: 43116 | H77: 76 | J77: 43118 | M77: 08 | R77: 6 | S77: =R77/2 -> 3 | T77: 80X120 | U77: 2339 | Y77: =IF(ISBLANK(X77)," ",V77-X77) | AD77: =IF(A77=A76, 0,1) -> 0
A78: 46 | E78: 43116 | H78: 76 | J78: 43118 | M78: 08 | R78: 37 | S78: =R78/2 -> 18.5 | T78: 80X120 | U78: 17672 | Y78: =IF(ISBLANK(X78)," ",V78-X78) | AD78: =IF(A78=A77, 0,1) -> 0
A79: 47 | E79: 43118 | H79: 76 | J79: 43119 | M79: 08 | R79: 50 | S79: =R79/2 -> 25 | T79: 80X120 | U79: 23880 | Y79: =IF(ISBLANK(X79)," ",V79-X79) | AD79: =IF(A79=A78, 0,1) -> 1
... A117: 70 | E117: 43124 | H117: 08 | J117: 43131 | M117: 76 | R117: 3 | S117: =R117/2 -> 1.5 | T117: 80X120 | U117: 1620 | Y117: =IF(ISBLANK(X117)," ",V117-X117) | AD117: =IF(A117=A116, 0,1) -> 1
A118: 70 | S118: =R118/2 -> 0 | Y118: =IF(ISBLANK(X118)," ",V118-X118) | AD118: =IF(A118=A117, 0,1) -> 0
A119: 71 | E119: 43126 | H119: 58 | J119: 43129 | M119: 76 | R119: 18 | S119: =R119/2 -> 9 | T119: 80X120 | U119: 6811 | Y119: =IF(ISBLANK(X119)," ",V119-X119) | AD119: =IF(A119=A118, 0,1) -> 1
A120: 72 | E120: 43125 | H120: 76 | J120: 43129 | M120: 28 | R120: 11 | S120: =R120/2 -> 5.5 | T120: 80X120 | U120: 3037 | Y120: =IF(ISBLANK(X120)," ",V120-X120) | AD120: =IF(A120=A119, 0,1) -> 1
A121: 72 | E121: 43125 | H121: 76 | J121: 43129 | M121: 28 | R121: 25 | S121: =R121/2 -> 12.5 | T121: 80X120 | U121: 5321 | Y121: =IF(ISBLANK(X121)," ",V121-X121) | AD121: =IF(A121=A120, 0,1) -> 0
A122: 72 | E122: 43125 | H122: 76 | J122: 43129 | M122: 28 | R122: 5 | S122: =R122/2 -> 2.5 | T122: 80X120 | U122: 2326 | Y122: =IF(ISBLANK(X122)," ",V122-X122) | AD122: =IF(A122=A121, 0,1) -> 0
A123: 73 | E123: 43129 | H123: STOCK | J123: 43130 | M123: 08 | R123: 2 | S123: =R123/2 -> 1 | T123: 80X120 | U123: 688 | Y123: =IF(ISBLANK(X123)," ",V123-X123) | AD123: =IF(A123=A122, 0,1) -> 1
A124: 73 | E124: 43129 | H124: STOCK | J124: 43130 | M124: 08 | R124: 3 | S124: =R124/2 -> 1.5 | T124: 80X120 | U124: 1048 | Y124: =IF(ISBLANK(X124)," ",V124-X124) | AD124: =IF(A124=A123, 0,1) -> 0
A125: 73 | E125: 43129 | H125: STOCK | J125: 43130 | M125: 08 | R125: 16 | S125: =R125/2 -> 8 | T125: 80X120 | U125: 6077 | Y125: =IF(ISBLANK(X125)," ",V125-X125) | AD125: =IF(A125=A124, 0,1) -> 0
A126: 73 | E126: 43129 | H126: STOCK | J126: 43130 | M126: 08 | R126: 2 | S126: =R126/2 -> 1 | T126: 80X120 | U126: 321 | Y126: =IF(ISBLANK(X126)," ",V126-X126) | AD126: =IF(A126=A125, 0,1) -> 0
A127: 74 | E127: 43129 | H127: STOCK | J127: 43130 | M127: 08 | R127: 1 | S127: =R127/2 -> 0.5 | T127: 80X120 | U127: 407 | Y127: =IF(ISBLANK(X127)," ",V127-X127) | AD127: =IF(A127=A126, 0,1) -> 1
A128: 75 | E128: 43129 | H128: 76 | J128: 43132 | M128: 08 | R128: 23 | S128: =R128/2 -> 11.5 | T128: 80X120 | U128: 7492 | Y128: =IF(ISBLANK(X128)," ",V128-X128) | AD128: =IF(A128=A127, 0,1) -> 1
A129: 75 | E129: 43129 | H129: 76 | J129: 43132 | M129: 08 | R129: 17 | S129: =R129/2 -> 8.5 | T129: 80X120 | U129: 6445 | Y129: =IF(ISBLANK(X129)," ",V129-X129) | AD129: =IF(A129=A128, 0,1) -> 0
A130: 76 | E130: 43129 | H130: 76 | J130: 43132 | M130: 08 | R130: 30 | S130: =R130/2 -> 15 | T130: 80X120 | U130: 13837 | Y130: =IF(ISBLANK(X130)," ",V130-X130) | AD130: =IF(A130=A129, 0,1) -> 1
... A160: 98 | E160: 43139 | H160: STOCK | J160: 43143 | M160: 43 | R160: 12 | S160: =R160/2 -> 6 | T160: 80X120 | U160: 5691 | Y160: =IF(ISBLANK(X160)," ",V160-X160) | AD160: =IF(A160=A159, 0,1) -> 0
A161: 98 | S161: =R161/2 -> 0 | Y161: =IF(ISBLANK(X161)," ",V161-X161) | AD161: =IF(A161=A160, 0,1) -> 0
A162: 99 | E162: 43143 | H162: STOCK | J162: 43144 | M162: 08 | R162: 2 | S162: =R162/2 -> 1 | T162: 80X120 | U162: 436 | Y162: =IF(ISBLANK(X162)," ",V162-X162) | AD162: =IF(A162=A161, 0,1) -> 1
A163: 100 | E163: 43143 | H163: STOCK | J163: 43144 | M163: 08 | R163: 16 | S163: =R163/2 -> 8 | T163: 80X120 | U163: 4680 | Y163: =IF(ISBLANK(X163)," ",V163-X163) | AD163: =IF(A163=A162, 0,1) -> 1
A164: 100 | E164: 43143 | H164: STOCK | J164: 43144 | M164: 08 | R164: 19 | S164: =R164/2 -> 9.5 | T164: 80X120 | U164: 5557 | Y164: =IF(ISBLANK(X164)," ",V164-X164) | AD164: =IF(A164=A163, 0,1) -> 0
A165: 100 | E165: 43143 | H165: STOCK | J165: 43144 | M165: 08 | R165: 5 | S165: =R165/2 -> 2.5 | T165: 80X120 | U165: 1281 | Y165: =IF(ISBLANK(X165)," ",V165-X165) | AD165: =IF(A165=A164, 0,1) -> 0
A166: 100 | E166: 43143 | H166: STOCK | J166: 43144 | M166: 08 | R166: 16 | S166: =R166/2 -> 8 | T166: 80X120 | U166: 4099 | Y166: =IF(ISBLANK(X166)," ",V166-X166) | AD166: =IF(A166=A165, 0,1) -> 0
A167: 101 | E167: 43139 | H167: 76 | J167: 43143 | M167: 08 | R167: 5 | S167: =R167/2 -> 2.5 | T167: 80X120 | U167: 1462 | Y167: =IF(ISBLANK(X167)," ",V167-X167) | AD167: =IF(A167=A166, 0,1) -> 1
A168: 101 | E168: 43139 | H168: 76 | J168: 43143 | M168: 08 | R168: 2 | S168: =R168/2 -> 1 | T168: 80x120 | U168: 296 | Y168: =IF(ISBLANK(X168)," ",V168-X168) | AD168: =IF(A168=A167, 0,1) -> 0
A169: 102 | E169: 43140 | H169: 76 | J169: 43143 | M169: 28 | R169: 11 | S169: =R169/2 -> 5.5 | T169: 80X120 | U169: 2500 | Y169: =IF(ISBLANK(X169)," ",V169-X169) | AD169: =IF(A169=A168, 0,1) -> 1
A170: 103 | E170: 43140 | H170: STOCK | J170: 43145 | M170: 76 | R170: 4 | S170: =R170/2 -> 2 | T170: 80X120 | U170: 1027 | Y170: =IF(ISBLANK(X170)," ",V170-X170) | AD170: =IF(A170=A169, 0,1) -> 1
A171: 104 | E171: 43139 | H171: 76 | J171: 43144 | M171: 58 | R171: 3 | S171: =R171/2 -> 1.5 | T171: 100X120 | U171: 339 | Y171: =IF(ISBLANK(X171)," ",V171-X171) | AD171: =IF(A171=A170, 0,1) -> 1
A172: 105 | E172: 43140 | H172: 76 | J172: 43143 | M172: 08 | R172: 17 | S172: =R172/2 -> 8.5 | T172: 80X120 | U172: 4953 | Y172: =IF(ISBLANK(X172)," ",V172-X172) | AD172: =IF(A172=A171, 0,1) -> 1
A173: 106 | E173: 43140 | H173: 58 | J173: 43144 | M173: 76 | R173: 19 | S173: =R173/2 -> 9.5 | T173: 100X120 | U173: 6710 | Y173: =IF(ISBLANK(X173)," ",V173-X173) | AD173: =IF(A173=A172, 0,1) -> 1
... A213: 127 | E213: 43153 | H213: 76 | J213: 43158 | M213: 08 | R213: 6 | S213: =R213/2 -> 3 | T213: 80X120 | U213: 2643 | Y213: =IF(ISBLANK(X213)," ",V213-X213) | AD213: =IF(A213=A212, 0,1) -> 0
O214: =IF(ISBLANK(M214)," ",IF(A214=A213," ",SUMPRODUCT(('Taux de GES'!$A$2:$A$35='SUIVI 2018'!H214)*('Taux de GES'!$B$2:$B$35='SUIVI 2018'!M214)*('Taux de GES'!$C$2:$C$35)))) | P214: =IFERROR(O214*'Taux de GES'!$F$3," ") | Q214: =IFERROR(O214*'Taux de GES'!$F$2," ") | S214: =R214/2 -> 0 | Y214: =IF(ISBLANK(X214)," ",V214-X214) | AD214: =IF(A214=A213, 0,1) -> 1
O215: =IF(ISBLANK(M215)," ",IF(A215=A214," ",SUMPRODUCT(('Taux de GES'!$A$2:$A$35='SUIVI 2018'!H215)*('Taux de GES'!$B$2:$B$35='SUIVI 2018'!M215)*('Taux de GES'!$C$2:$C$35)))) | P215: =IFERROR(O215*'Taux de GES'!$F$3," ") | Q215: =IFERROR(O215*'Taux de GES'!$F$2," ") | S215: =R215/2 -> 0 | Y215: =IF(ISBLANK(X215)," ",V215-X215) | AD215: =IF(A215=A214, 0,1) -> 0
O216: =IF(ISBLANK(M216)," ",IF(A216=A215," ",SUMPRODUCT(('Taux de GES'!$A$2:$A$35='SUIVI 2018'!H216)*('Taux de GES'!$B$2:$B$35='SUIVI 2018'!M216)*('Taux de GES'!$C$2:$C$35)))) | P216: =IFERROR(O216*'Taux de GES'!$F$3," ") | Q216: =IFERROR(O216*'Taux de GES'!$F$2," ") | S216: =R216/2 -> 0 | Y216: =IF(ISBLANK(X216)," ",V216-X216) | AD216: =IF(A216=A215, 0,1) -> 0
O217: =IF(ISBLANK(M217)," ",IF(A217=A216," ",SUMPRODUCT(('Taux de GES'!$A$2:$A$35='SUIVI 2018'!H217)*('Taux de GES'!$B$2:$B$35='SUIVI 2018'!M217)*('Taux de GES'!$C$2:$C$35)))) | P217: =IFERROR(O217*'Taux de GES'!$F$3," ") | Q217: =IFERROR(O217*'Taux de GES'!$F$2," ") | S217: =R217/2 -> 0 | Y217: =IF(ISBLANK(X217)," ",V217-X217) | AD217: =IF(A217=A216, 0,1) -> 0
O218: =IF(ISBLANK(M218)," ",IF(A218=A217," ",SUMPRODUCT(('Taux de GES'!$A$2:$A$35='SUIVI 2018'!H218)*('Taux de GES'!$B$2:$B$35='SUIVI 2018'!M218)*('Taux de GES'!$C$2:$C$35)))) | P218: =IFERROR(O218*'Taux de GES'!$F$3," ") | Q218: =IFERROR(O218*'Taux de GES'!$F$2," ") | S218: =R218/2 -> 0 | Y218: =IF(ISBLANK(X218)," ",V218-X218) | AD218: =IF(A218=A217, 0,1) -> 0

Sheet Taux de GES
A1: CP DEP | B1: CP ARR | C1: KMs | F1: Camion
A2: 45 | B2: STOCK | C2: 890 | E2: Indice Energie | F2: 0.7326
A3: 45 | B3: 08 | C3: 908 | E3: Indice GES (kg eq Co²) | F3: 0.0584
A4: 45 | B4: 28 | C4: 1124
A5: 45 | B5: 43 | C5: 989
A6: 76 | B6: STOCK | C6: 1171
A7: 76 | B7: 08 | C7: 1189
A8: 76 | B8: 28 | C8: 1427
A9: 76 | B9: 43 | C9: 1270
A10: 76 | B10: 39 | C10: 1127
A11: 76 | B11: 58 | C11: 1212
A12: 76 | B12: 59 | C12: 1265
A13: 76 | B13: 49 | C13: 378
A14: 76 | B14: 13 | C14: 1538
A15: 76 | B15: 61 | C15: 1025
... A35: 13 | B35: 76 | C35: 1538

Sheet TRANSITS ANNUELS
A1: 2018 | B1: CP DEP | C1: CP ARR | D1: 43101 | E1: 43132 | F1: 43160 | G1: 43191 | H1: 43221 | I1: 43252 | J1: 43282 | K1: 43313 | L1: 43344 | M1: 43374 | N1: 43405 | O1: 43435 | P1: Nombre de transits | Q1: Share shipments | R1: CA/destination/an | S1: Share CA | T1: Achat | U1: Marge brute | V1: Km parcoururs
A2: TRANSITS SUIVANT LE LIEU DE DEPART/DESTINATION | B2: 45 | C2: STOCK | D2: =SUMPRODUCT('SUIVI 2018'!$H$2:$H$218='TRANSITS ANNUELS'!$B2)*('SUIVI 2018'!$M$2:$M$218='TRANSITS ANNUELS'!$C2)*(MONTH('SUIVI 2018'!$E$2:$E$218=MONTH('TRANSITS ANNUELS'!$D$1)*('SUIVI 2018'!$AD$2:$AD$218))) -> 0 | P2: =SUMIFS('SUIVI 2018'!$AD:$AD,'SUIVI 2018'!$H:$H,B2,'SUIVI 2018'!$M:$M,'TRANSITS ANNUELS'!C2) -> 0 | Q2: =IF(ISBLANK(P2)," ",P2/SUM($P$2:$P$35)) -> 0 | R2: =SUMIFS('SUIVI 2018'!$V:$V,'SUIVI 2018'!$H:$H,'TRANSITS ANNUELS'!B2,'SUIVI 2018'!$M:$M,'TRANSITS ANNUELS'!C2) -> 0 | S2: =IF(ISBLANK(R2)," ",R2/SUM($R$2:$R$35)) -> #DIV/0! | T2: =SUMIFS('SUIVI 2018'!$X:$X,'SUIVI 2018'!$H:$H,'TRANSITS ANNUELS'!B2,'SUIVI 2018'!$M:$M,'TRANSITS ANNUELS'!C2) -> 0 | U2: =R2-T2 -> 0 | V2: =P2*890 -> 0
B3: 45 | C3: 08 | P3: =SUMIFS('SUIVI 2018'!$AD:$AD,'SUIVI 2018'!$H:$H,B3,'SUIVI 2018'!$M:$M,'TRANSITS ANNUELS'!C3) -> 3 | Q3: =IF(ISBLANK(P3)," ",P3/SUM($P$2:$P$35)) -> 0.023622047 | R3: =SUMIFS('SUIVI 2018'!$V:$V,'SUIVI 2018'!$H:$H,'TRANSITS ANNUELS'!B3,'SUIVI 2018'!$M:$M,'TRANSITS ANNUELS'!C3) -> 0 | S3: =IF(ISBLANK(R3)," ",R3/SUM($R$2:$R$35)) -> #DIV/0! | T3: =SUMIFS('SUIVI 2018'!$X:$X,'SUIVI 2018'!$H:$H,'TRANSITS ANNUELS'!B3,'SUIVI 2018'!$M:$M,'TRANSITS ANNUELS'!C3) -> 0 | U3: =R3-T3 -> 0 | V3: =P3*908 -> 2724
B4: 45 | C4: 28 | P4: =SUMIFS('SUIVI 2018'!$AD:$AD,'SUIVI 2018'!$H:$H,B4,'SUIVI 2018'!$M:$M,'TRANSITS ANNUELS'!C4) -> 1 | Q4: =IF(ISBLANK(P4)," ",P4/SUM($P$2:$P$35)) -> 0.0078740157 | R4: =SUMIFS('SUIVI 2018'!$V:$V,'SUIVI 2018'!$H:$H,'TRANSITS ANNUELS'!B4,'SUIVI 2018'!$M:$M,'TRANSITS ANNUELS'!C4) -> 0 | S4: =IF(ISBLANK(R4)," ",R4/SUM($R$2:$R$35)) -> #DIV/0! | T4: =SUMIFS('SUIVI 2018'!$X:$X,'SUIVI 2018'!$H:$H,'TRANSITS ANNUELS'!B4,'SUIVI 2018'!$M:$M,'TRANSITS ANNUELS'!C4) -> 0 | U4: =R4-T4 -> 0 | V4: =P4*1124 -> 1124
B5: 45 | C5: 43 | P5: =SUMIFS('SUIVI 2018'!$AD:$AD,'SUIVI 2018'!$H:$H,B5,'SUIVI 2018'!$M:$M,'TRANSITS ANNUELS'!C5) -> 0 | Q5: =IF(ISBLANK(P5)," ",P5/SUM($P$2:$P$35)) -> 0 | R5: =SUMIFS('SUIVI 2018'!$V:$V,'SUIVI 2018'!$H:$H,'TRANSITS ANNUELS'!B5,'SUIVI 2018'!$M:$M,'TRANSITS ANNUELS'!C5) -> 0 | S5: =IF(ISBLANK(R5)," ",R5/SUM($R$2:$R$35)) -> #DIV/0! | T5: =SUMIFS('SUIVI 2018'!$X:$X,'SUIVI 2018'!$H:$H,'TRANSITS ANNUELS'!B5,'SUIVI 2018'!$M:$M,'TRANSITS ANNUELS'!C5) -> 0 | U5: =R5-T5 -> 0 | V5: =P5*989 -> 0
B6: 76 | C6: STOCK | P6: =SUMIFS('SUIVI 2018'!$AD:$AD,'SUIVI 2018'!$H:$H,B6,'SUIVI 2018'!$M:$M,'TRANSITS ANNUELS'!C6) -> 4 | Q6: =IF(ISBLANK(P6)," ",P6/SUM($P$2:$P$35)) -> 0.031496063 | R6: =SUMIFS('SUIVI 2018'!$V:$V,'SUIVI 2018'!$H:$H,'TRANSITS ANNUELS'!B6,'SUIVI 2018'!$M:$M,'TRANSITS ANNUELS'!C6) -> 0 | S6: =IF(ISBLANK(R6)," ",R6/SUM($R$2:$R$35)) -> #DIV/0! | T6: =SUMIFS('SUIVI 2018'!$X:$X,'SUIVI 2018'!$H:$H,'TRANSITS ANNUELS'!B6,'SUIVI 2018'!$M:$M,'TRANSITS ANNUELS'!C6) -> 0 | U6: =R6-T6 -> 0 | V6: =P6*1171 -> 4684
B7: 76 | C7: 08 | P7: =SUMIFS('SUIVI 2018'!$AD:$AD,'SUIVI 2018'!$H:$H,B7,'SUIVI 2018'!$M:$M,'TRANSITS ANNUELS'!C7) -> 30 | Q7: =IF(ISBLANK(P7)," ",P7/SUM($P$2:$P$35)) -> 0.23622047 | R7: =SUMIFS('SUIVI 2018'!$V:$V,'SUIVI 2018'!$H:$H,'TRANSITS ANNUELS'!B7,'SUIVI 2018'!$M:$M,'TRANSITS ANNUELS'!C7) -> 0 | S7: =IF(ISBLANK(R7)," ",R7/SUM($R$2:$R$35)) -> #DIV/0! | T7: =SUMIFS('SUIVI 2018'!$X:$X,'SUIVI 2018'!$H:$H,'TRANSITS ANNUELS'!B7,'SUIVI 2018'!$M:$M,'TRANSITS ANNUELS'!C7) -> 0 | U7: =R7-T7 -> 0 | V7: =P7*1189 -> 35670
B8: 76 | C8: 28 | P8: =SUMIFS('SUIVI 2018'!$AD:$AD,'SUIVI 2018'!$H:$H,B8,'SUIVI 2018'!$M:$M,'TRANSITS ANNUELS'!C8) -> 9 | Q8: =IF(ISBLANK(P8)," ",P8/SUM($P$2:$P$35)) -> 0.070866142 | R8: =SUMIFS('SUIVI 2018'!$V:$V,'SUIVI 2018'!$H:$H,'TRANSITS ANNUELS'!B8,'SUIVI 2018'!$M:$M,'TRANSITS ANNUELS'!C8) -> 0 | S8: =IF(ISBLANK(R8)," ",R8/SUM($R$2:$R$35)) -> #DIV/0! | T8: =SUMIFS('SUIVI 2018'!$X:$X,'SUIVI 2018'!$H:$H,'TRANSITS ANNUELS'!B8,'SUIVI 2018'!$M:$M,'TRANSITS ANNUELS'!C8) -> 0 | U8: =R8-T8 -> 0 | V8: =P8*1427 -> 12843
B9: 76 | C9: 43 | P9: =SUMIFS('SUIVI 2018'!$AD:$AD,'SUIVI 2018'!$H:$H,B9,'SUIVI 2018'!$M:$M,'TRANSITS ANNUELS'!C9) -> 3 | Q9: =IF(ISBLANK(P9)," ",P9/SUM($P$2:$P$35)) -> 0.023622047 | R9: =SUMIFS('SUIVI 2018'!$V:$V,'SUIVI 2018'!$H:$H,'TRANSITS ANNUELS'!B9,'SUIVI 2018'!$M:$M,'TRANSITS ANNUELS'!C9) -> 0 | S9: =IF(ISBLANK(R9)," ",R9/SUM($R$2:$R$35)) -> #DIV/0! | T9: =SUMIFS('SUIVI 2018'!$X:$X,'SUIVI 2018'!$H:$H,'TRANSITS ANNUELS'!B9,'SUIVI 2018'!$M:$M,'TRANSITS ANNUELS'!C9) -> 0 | U9: =R9-T9 -> 0 | V9: =P9*1270 -> 3810
B10: 76 | C10: 39 | P10: =SUMIFS('SUIVI 2018'!$AD:$AD,'SUIVI 2018'!$H:$H,B10,'SUIVI 2018'!$M:$M,'TRANSITS ANNUELS'!C10) -> 0 | Q10: =IF(ISBLANK(P10)," ",P10/SUM($P$2:$P$35)) -> 0 | R10: =SUMIFS('SUIVI 2018'!$V:$V,'SUIVI 2018'!$H:$H,'TRANSITS ANNUELS'!B10,'SUIVI 2018'!$M:$M,'TRANSITS ANNUELS'!C10) -> 0 | S10: =IF(ISBLANK(R10)," ",R10/SUM($R$2:$R$35)) -> #DIV/0! | T10: =SUMIFS('SUIVI 2018'!$X:$X,'SUIVI 2018'!$H:$H,'TRANSITS ANNUELS'!B10,'SUIVI 2018'!$M:$M,'TRANSITS ANNUELS'!C10) -> 0 | U10: =R10-T10 -> 0 | V10: =P10*1127 -> 0
B11: 76 | C11: 58 | P11: =SUMIFS('SUIVI 2018'!$AD:$AD,'SUIVI 2018'!$H:$H,B11,'SUIVI 2018'!$M:$M,'TRANSITS ANNUELS'!C11) -> 7 | Q11: =IF(ISBLANK(P11)," ",P11/SUM($P$2:$P$35)) -> 0.05511811 | R11: =SUMIFS('SUIVI 2018'!$V:$V,'SUIVI 2018'!$H:$H,'TRANSITS ANNUELS'!B11,'SUIVI 2018'!$M:$M,'TRANSITS ANNUELS'!C11) -> 0 | S11: =IF(ISBLANK(R11)," ",R11/SUM($R$2:$R$35)) -> #DIV/0! | T11: =SUMIFS('SUIVI 2018'!$X:$X,'SUIVI 2018'!$H:$H,'TRANSITS ANNUELS'!B11,'SUIVI 2018'!$M:$M,'TRANSITS ANNUELS'!C11) -> 0 | U11: =R11-T11 -> 0 | V11: =P11*1212 -> 8484
B12: 76 | C12: 59 | P12: =SUMIFS('SUIVI 2018'!$AD:$AD,'SUIVI 2018'!$H:$H,B12,'SUIVI 2018'!$M:$M,'TRANSITS ANNUELS'!C12) -> 0 | Q12: =IF(ISBLANK(P12)," ",P12/SUM($P$2:$P$35)) -> 0 | R12: =SUMIFS('SUIVI 2018'!$V:$V,'SUIVI 2018'!$H:$H,'TRANSITS ANNUELS'!B12,'SUIVI 2018'!$M:$M,'TRANSITS ANNUELS'!C12) -> 0 | S12: =IF(ISBLANK(R12)," ",R12/SUM($R$2:$R$35)) -> #DIV/0! | T12: =SUMIFS('SUIVI 2018'!$X:$X,'SUIVI 2018'!$H:$H,'TRANSITS ANNUELS'!B12,'SUIVI 2018'!$M:$M,'TRANSITS ANNUELS'!C12) -> 0 | U12: =R12-T12 -> 0 | V12: =P12*1265 -> 0
B13: 76 | C13: 49 | P13: =SUMIFS('SUIVI 2018'!$AD:$AD,'SUIVI 2018'!$H:$H,B13,'SUIVI 2018'!$M:$M,'TRANSITS ANNUELS'!C13) -> 0 | Q13: =IF(ISBLANK(P13)," ",P13/SUM($P$2:$P$35)) -> 0 | R13: =SUMIFS('SUIVI 2018'!$V:$V,'SUIVI 2018'!$H:$H,'TRANSITS ANNUELS'!B13,'SUIVI 2018'!$M:$M,'TRANSITS ANNUELS'!C13) -> 0 | S13: =IF(ISBLANK(R13)," ",R13/SUM($R$2:$R$35)) -> #DIV/0! | T13: =SUMIFS('SUIVI 2018'!$X:$X,'SUIVI 2018'!$H:$H,'TRANSITS ANNUELS'!B13,'SUIVI 2018'!$M:$M,'TRANSITS ANNUELS'!C13) -> 0 | U13: =R13-T13 -> 0 | V13: =P13*378 -> 0
B14: 76 | C14: 13 | P14: =SUMIFS('SUIVI 2018'!$AD:$AD,'SUIVI 2018'!$H:$H,B14,'SUIVI 2018'!$M:$M,'TRANSITS ANNUELS'!C14) -> 5 | Q14: =IF(ISBLANK(P14)," ",P14/SUM($P$2:$P$35)) -> 0.039370079 | R14: =SUMIFS('SUIVI 2018'!$V:$V,'SUIVI 2018'!$H:$H,'TRANSITS ANNUELS'!B14,'SUIVI 2018'!$M:$M,'TRANSITS ANNUELS'!C14) -> 0 | S14: =IF(ISBLANK(R14)," ",R14/SUM($R$2:$R$35)) -> #DIV/0! | T14: =SUMIFS('SUIVI 2018'!$X:$X,'SUIVI 2018'!$H:$H,'TRANSITS ANNUELS'!B14,'SUIVI 2018'!$M:$M,'TRANSITS ANNUELS'!C14) -> 0 | U14: =R14-T14 -> 0 | V14: =P14*1538 -> 7690
B15: 76 | C15: 61 | P15: =SUMIFS('SUIVI 2018'!$AD:$AD,'SUIVI 2018'!$H:$H,B15,'SUIVI 2018'!$M:$M,'TRANSITS ANNUELS'!C15) -> 0 | Q15: =IF(ISBLANK(P15)," ",P15/SUM($P$2:$P$35)) -> 0 | R15: =SUMIFS('SUIVI 2018'!$V:$V,'SUIVI 2018'!$H:$H,'TRANSITS ANNUELS'!B15,'SUIVI 2018'!$M:$M,'TRANSITS ANNUELS'!C15) -> 0 | S15: =IF(ISBLANK(R15)," ",R15/SUM($R$2:$R$35)) -> #DIV/0! | T15: =SUMIFS('SUIVI 2018'!$X:$X,'SUIVI 2018'!$H:$H,'TRANSITS ANNUELS'!B15,'SUIVI 2018'!$M:$M,'TRANSITS ANNUELS'!C15) -> 0 | U15: =R15-T15 -> 0 | V15: =P15*1025 -> 0
B16: 76 | C16: 69 | P16: =SUMIFS('SUIVI 2018'!$AD:$AD,'SUIVI 2018'!$H:$H,B16,'SUIVI 2018'!$M:$M,'TRANSITS ANNUELS'!C16) -> 2 | Q16: =IF(ISBLANK(P16)," ",P16/SUM($P$2:$P$35)) -> 0.015748031 | R16: =SUMIFS('SUIVI 2018'!$V:$V,'SUIVI 2018'!$H:$H,'TRANSITS ANNUELS'!B16,'SUIVI 2018'!$M:$M,'TRANSITS ANNUELS'!C16) -> 0 | S16: =IF(ISBLANK(R16)," ",R16/SUM($R$2:$R$35)) -> #DIV/0! | T16: =SUMIFS('SUIVI 2018'!$X:$X,'SUIVI 2018'!$H:$H,'TRANSITS ANNUELS'!B16,'SUIVI 2018'!$M:$M,'TRANSITS ANNUELS'!C16) -> 0 | U16: =R16-T16 -> 0 | V16: =P16*908 -> 1816
B17: 80 | C17: 08 | P17: =SUMIFS('SUIVI 2018'!$AD:$AD,'SUIVI 2018'!$H:$H,B17,'SUIVI 2018'!$M:$M,'TRANSITS ANNUELS'!C17) -> 0 | Q17: =IF(ISBLANK(P17)," ",P17/SUM($P$2:$P$35)) -> 0 | R17: =SUMIFS('SUIVI 2018'!$V:$V,'SUIVI 2018'!$H:$H,'TRANSITS ANNUELS'!B17,'SUIVI 2018'!$M:$M,'TRANSITS ANNUELS'!C17) -> 0 | S17: =IF(ISBLANK(R17)," ",R17/SUM($R$2:$R$35)) -> #DIV/0! | T17: =SUMIFS('SUIVI 2018'!$X:$X,'SUIVI 2018'!$H:$H,'TRANSITS ANNUELS'!B17,'SUIVI 2018'!$M:$M,'TRANSITS ANNUELS'!C17) -> 0 | U17: =R17-T17 -> 0 | V17: =P17*1228 -> 0
B18: 59 | C18: 61 | P18: =SUMIFS('SUIVI 2018'!$AD:$AD,'SUIVI 2018'!$H:$H,B18,'SUIVI 2018'!$M:$M,'TRANSITS ANNUELS'!C18) -> 0 | Q18: =IF(ISBLANK(P18)," ",P18/SUM($P$2:$P$35)) -> 0 | R18: =SUMIFS('SUIVI 2018'!$V:$V,'SUIVI 2018'!$H:$H,'TRANSITS ANNUELS'!B18,'SUIVI 2018'!$M:$M,'TRANSITS ANNUELS'!C18) -> 0 | S18: =IF(ISBLANK(R18)," ",R18/SUM($R$2:$R$35)) -> #DIV/0! | T18: =SUMIFS('SUIVI 2018'!$X:$X,'SUIVI 2018'!$H:$H,'TRANSITS ANNUELS'!B18,'SUIVI 2018'!$M:$M,'TRANSITS ANNUELS'!C18) -> 0 | U18: =R18-T18 -> 0 | V18: =P18*949 -> 0
B19: STOCK | C19: 08 | P19: =SUMIFS('SUIVI 2018'!$AD:$AD,'SUIVI 2018'!$H:$H,B19,'SUIVI 2018'!$M:$M,'TRANSITS ANNUELS'!C19) -> 25 | Q19: =IF(ISBLANK(P19)," ",P19/SUM($P$2:$P$35)) -> 0.19685039 | R19: =SUMIFS('SUIVI 2018'!$V:$V,'SUIVI 2018'!$H:$H,'TRANSITS ANNUELS'!B19,'SUIVI 2018'!$M:$M,'TRANSITS ANNUELS'!C19) -> 0 | S19: =IF(ISBLANK(R19)," ",R19/SUM($R$2:$R$35)) -> #DIV/0! | T19: =SUMIFS('SUIVI 2018'!$X:$X,'SUIVI 2018'!$H:$H,'TRANSITS ANNUELS'!B19,'SUIVI 2018'!$M:$M,'TRANSITS ANNUELS'!C19) -> 0 | U19: =R19-T19 -> 0 | V19: =P19*25.5 -> 637.5
B20: STOCK | C20: 28 | P20: =SUMIFS('SUIVI 2018'!$AD:$AD,'SUIVI 2018'!$H:$H,B20,'SUIVI 2018'!$M:$M,'TRANSITS ANNUELS'!C20) -> 2 | Q20: =IF(ISBLANK(P20)," ",P20/SUM($P$2:$P$35)) -> 0.015748031 | R20: =SUMIFS('SUIVI 2018'!$V:$V,'SUIVI 2018'!$H:$H,'TRANSITS ANNUELS'!B20,'SUIVI 2018'!$M:$M,'TRANSITS ANNUELS'!C20) -> 0 | S20: =IF(ISBLANK(R20)," ",R20/SUM($R$2:$R$35)) -> #DIV/0! | T20: =SUMIFS('SUIVI 2018'!$X:$X,'SUIVI 2018'!$H:$H,'TRANSITS ANNUELS'!B20,'SUIVI 2018'!$M:$M,'TRANSITS ANNUELS'!C20) -> 0 | U20: =R20-T20 -> 0 | V20: =P20*583 -> 1166
B21: STOCK | C21: 43 | P21: =SUMIFS('SUIVI 2018'!$AD:$AD,'SUIVI 2018'!$H:$H,B21,'SUIVI 2018'!$M:$M,'TRANSITS ANNUELS'!C21) -> 4 | Q21: =IF(ISBLANK(P21)," ",P21/SUM($P$2:$P$35)) -> 0.031496063 | R21: =SUMIFS('SUIVI 2018'!$V:$V,'SUIVI 2018'!$H:$H,'TRANSITS ANNUELS'!B21,'SUIVI 2018'!$M:$M,'TRANSITS ANNUELS'!C21) -> 0 | S21: =IF(ISBLANK(R21)," ",R21/SUM($R$2:$R$35)) -> #DIV/0! | T21: =SUMIFS('SUIVI 2018'!$X:$X,'SUIVI 2018'!$H:$H,'TRANSITS ANNUELS'!B21,'SUIVI 2018'!$M:$M,'TRANSITS ANNUELS'!C21) -> 0 | U21: =R21-T21 -> 0 | V21: =P21*65.5 -> 262
B22: STOCK | C22: 76 | P22: =SUMIFS('SUIVI 2018'!$AD:$AD,'SUIVI 2018'!$H:$H,B22,'SUIVI 2018'!$M:$M,'TRANSITS ANNUELS'!C22) -> 3 | Q22: =IF(ISBLANK(P22)," ",P22/SUM($P$2:$P$35)) -> 0.023622047 | R22: =SUMIFS('SUIVI 2018'!$V:$V,'SUIVI 2018'!$H:$H,'TRANSITS ANNUELS'!B22,'SUIVI 2018'!$M:$M,'TRANSITS ANNUELS'!C22) -> 0 | S22: =IF(ISBLANK(R22)," ",R22/SUM($R$2:$R$35)) -> #DIV/0! | T22: =SUMIFS('SUIVI 2018'!$X:$X,'SUIVI 2018'!$H:$H,'TRANSITS ANNUELS'!B22,'SUIVI 2018'!$M:$M,'TRANSITS ANNUELS'!C22) -> 0 | U22: =R22-T22 -> 0 | V22: =P22*1171 -> 3513
B23: 08 | C23: STOCK | P23: =SUMIFS('SUIVI 2018'!$AD:$AD,'SUIVI 2018'!$H:$H,B23,'SUIVI 2018'!$M:$M,'TRANSITS ANNUELS'!C23) -> 0 | Q23: =IF(ISBLANK(P23)," ",P23/SUM($P$2:$P$35)) -> 0 | R23: =SUMIFS('SUIVI 2018'!$V:$V,'SUIVI 2018'!$H:$H,'TRANSITS ANNUELS'!B23,'SUIVI 2018'!$M:$M,'TRANSITS ANNUELS'!C23) -> 0 | S23: =IF(ISBLANK(R23)," ",R23/SUM($R$2:$R$35)) -> #DIV/0! | T23: =SUMIFS('SUIVI 2018'!$X:$X,'SUIVI 2018'!$H:$H,'TRANSITS ANNUELS'!B23,'SUIVI 2018'!$M:$M,'TRANSITS ANNUELS'!C23) -> 0 | U23: =R23-T23 -> 0 | V23: =P23*24.7 -> 0
B24: 08 | C24: 02 | P24: =SUMIFS('SUIVI 2018'!$AD:$AD,'SUIVI 2018'!$H:$H,B24,'SUIVI 2018'!$M:$M,'TRANSITS ANNUELS'!C24) -> 0 | Q24: =IF(ISBLANK(P24)," ",P24/SUM($P$2:$P$35)) -> 0 | R24: =SUMIFS('SUIVI 2018'!$V:$V,'SUIVI 2018'!$H:$H,'TRANSITS ANNUELS'!B24,'SUIVI 2018'!$M:$M,'TRANSITS ANNUELS'!C24) -> 0 | S24: =IF(ISBLANK(R24)," ",R24/SUM($R$2:$R$35)) -> #DIV/0! | T24: =SUMIFS('SUIVI 2018'!$X:$X,'SUIVI 2018'!$H:$H,'TRANSITS ANNUELS'!B24,'SUIVI 2018'!$M:$M,'TRANSITS ANNUELS'!C24) -> 0 | U24: =R24-T24 -> 0 | V24: =P24*982 -> 0
B25: 08 | C25: 45 | P25: =SUMIFS('SUIVI 2018'!$AD:$AD,'SUIVI 2018'!$H:$H,B25,'SUIVI 2018'!$M:$M,'TRANSITS ANNUELS'!C25) -> 6 | Q25: =IF(ISBLANK(P25)," ",P25/SUM($P$2:$P$35)) -> 0.047244094 | R25: =SUMIFS('SUIVI 2018'!$V:$V,'SUIVI 2018'!$H:$H,'TRANSITS ANNUELS'!B25,'SUIVI 2018'!$M:$M,'TRANSITS ANNUELS'!C25) -> 0 | S25: =IF(ISBLANK(R25)," ",R25/SUM($R$2:$R$35)) -> #DIV/0! | T25: =SUMIFS('SUIVI 2018'!$X:$X,'SUIVI 2018'!$H:$H,'TRANSITS ANNUELS'!B25,'SUIVI 2018'!$M:$M,'TRANSITS ANNUELS'!C25) -> 0 | U25: =R25-T25 -> 0 | V25: =P25*907 -> 5442
B26: 08 | C26: 76 | P26: =SUMIFS('SUIVI 2018'!$AD:$AD,'SUIVI 2018'!$H:$H,B26,'SUIVI 2018'!$M:$M,'TRANSITS ANNUELS'!C26) -> 5 | Q26: =IF(ISBLANK(P26)," ",P26/SUM($P$2:$P$35)) -> 0.039370079 | R26: =SUMIFS('SUIVI 2018'!$V:$V,'SUIVI 2018'!$H:$H,'TRANSITS ANNUELS'!B26,'SUIVI 2018'!$M:$M,'TRANSITS ANNUELS'!C26) -> 0 | S26: =IF(ISBLANK(R26)," ",R26/SUM($R$2:$R$35)) -> #DIV/0! | T26: =SUMIFS('SUIVI 2018'!$X:$X,'SUIVI 2018'!$H:$H,'TRANSITS ANNUELS'!B26,'SUIVI 2018'!$M:$M,'TRANSITS ANNUELS'!C26) -> 0 | U26: =R26-T26 -> 0 | V26: =P26*1189 -> 5945
B27: 08 | C27: 80 | P27: =SUMIFS('SUIVI 2018'!$AD:$AD,'SUIVI 2018'!$H:$H,B27,'SUIVI 2018'!$M:$M,'TRANSITS ANNUELS'!C27) -> 0 | Q27: =IF(ISBLANK(P27)," ",P27/SUM($P$2:$P$35)) -> 0 | R27: =SUMIFS('SUIVI 2018'!$V:$V,'SUIVI 2018'!$H:$H,'TRANSITS ANNUELS'!B27,'SUIVI 2018'!$M:$M,'TRANSITS ANNUELS'!C27) -> 0 | S27: =IF(ISBLANK(R27)," ",R27/SUM($R$2:$R$35)) -> #DIV/0! | T27: =SUMIFS('SUIVI 2018'!$X:$X,'SUIVI 2018'!$H:$H,'TRANSITS ANNUELS'!B27,'SUIVI 2018'!$M:$M,'TRANSITS ANNUELS'!C27) -> 0 | U27: =R27-T27 -> 0 | V27: =P27*1238 -> 0
B28: 28 | C28: 76 | P28: =SUMIFS('SUIVI 2018'!$AD:$AD,'SUIVI 2018'!$H:$H,B28,'SUIVI 2018'!$M:$M,'TRANSITS ANNUELS'!C28) -> 1 | Q28: =IF(ISBLANK(P28)," ",P28/SUM($P$2:$P$35)) -> 0.0078740157 | R28: =SUMIFS('SUIVI 2018'!$V:$V,'SUIVI 2018'!$H:$H,'TRANSITS ANNUELS'!B28,'SUIVI 2018'!$M:$M,'TRANSITS ANNUELS'!C28) -> 0 | S28: =IF(ISBLANK(R28)," ",R28/SUM($R$2:$R$35)) -> #DIV/0! | T28: =SUMIFS('SUIVI 2018'!$X:$X,'SUIVI 2018'!$H:$H,'TRANSITS ANNUELS'!B28,'SUIVI 2018'!$M:$M,'TRANSITS ANNUELS'!C28) -> 0 | U28: =R28-T28 -> 0 | V28: =P28*1425 -> 1425
B29: 28 | C29: 80 | P29: =SUMIFS('SUIVI 2018'!$AD:$AD,'SUIVI 2018'!$H:$H,B29,'SUIVI 2018'!$M:$M,'TRANSITS ANNUELS'!C29) -> 1 | Q29: =IF(ISBLANK(P29)," ",P29/SUM($P$2:$P$35)) -> 0.0078740157 | R29: =SUMIFS('SUIVI 2018'!$V:$V,'SUIVI 2018'!$H:$H,'TRANSITS ANNUELS'!B29,'SUIVI 2018'!$M:$M,'TRANSITS ANNUELS'!C29) -> 0 | S29: =IF(ISBLANK(R29)," ",R29/SUM($R$2:$R$35)) -> #DIV/0! | T29: =SUMIFS('SUIVI 2018'!$X:$X,'SUIVI 2018'!$H:$H,'TRANSITS ANNUELS'!B29,'SUIVI 2018'!$M:$M,'TRANSITS ANNUELS'!C29) -> 0 | U29: =R29-T29 -> 0 | V29: =P29*1425 -> 1425
B30: 58 | C30: 76 | P30: =SUMIFS('SUIVI 2018'!$AD:$AD,'SUIVI 2018'!$H:$H,B30,'SUIVI 2018'!$M:$M,'TRANSITS ANNUELS'!C30) -> 15 | Q30: =IF(ISBLANK(P30)," ",P30/SUM($P$2:$P$35)) -> 0.11811024 | R30: =SUMIFS('SUIVI 2018'!$V:$V,'SUIVI 2018'!$H:$H,'TRANSITS ANNUELS'!B30,'SUIVI 2018'!$M:$M,'TRANSITS ANNUELS'!C30) -> 0 | S30: =IF(ISBLANK(R30)," ",R30/SUM($R$2:$R$35)) -> #DIV/0! | T30: =SUMIFS('SUIVI 2018'!$X:$X,'SUIVI 2018'!$H:$H,'TRANSITS ANNUELS'!B30,'SUIVI 2018'!$M:$M,'TRANSITS ANNUELS'!C30) -> 0 | U30: =R30-T30 -> 0 | V30: =P30*1538 -> 23070
B31: 59 | C31: 76 | P31: =SUMIFS('SUIVI 2018'!$AD:$AD,'SUIVI 2018'!$H:$H,B31,'SUIVI 2018'!$M:$M,'TRANSITS ANNUELS'!C31) -> 0 | Q31: =IF(ISBLANK(P31)," ",P31/SUM($P$2:$P$35)) -> 0 | R31: =SUMIFS('SUIVI 2018'!$V:$V,'SUIVI 2018'!$H:$H,'TRANSITS ANNUELS'!B31,'SUIVI 2018'!$M:$M,'TRANSITS ANNUELS'!C31) -> 0 | S31: =IF(ISBLANK(R31)," ",R31/SUM($R$2:$R$35)) -> #DIV/0! | T31: =SUMIFS('SUIVI 2018'!$X:$X,'SUIVI 2018'!$H:$H,'TRANSITS ANNUELS'!B31,'SUIVI 2018'!$M:$M,'TRANSITS ANNUELS'!C31) -> 0 | U31: =R31-T31 -> 0 | V31: =P31*1266 -> 0
B32: 49 | C32: 76 | P32: =SUMIFS('SUIVI 2018'!$AD:$AD,'SUIVI 2018'!$H:$H,B32,'SUIVI 2018'!$M:$M,'TRANSITS ANNUELS'!C32) -> 0 | Q32: =IF(ISBLANK(P32)," ",P32/SUM($P$2:$P$35)) -> 0 | R32: =SUMIFS('SUIVI 2018'!$V:$V,'SUIVI 2018'!$H:$H,'TRANSITS ANNUELS'!B32,'SUIVI 2018'!$M:$M,'TRANSITS ANNUELS'!C32) -> 0 | S32: =IF(ISBLANK(R32)," ",R32/SUM($R$2:$R$35)) -> #DIV/0! | T32: =SUMIFS('SUIVI 2018'!$X:$X,'SUIVI 2018'!$H:$H,'TRANSITS ANNUELS'!B32,'SUIVI 2018'!$M:$M,'TRANSITS ANNUELS'!C32) -> 0 | U32: =R32-T32 -> 0 | V32: =P32*377 -> 0
B33: 61 | C33: 76 | P33: =SUMIFS('SUIVI 2018'!$AD:$AD,'SUIVI 2018'!$H:$H,B33,'SUIVI 2018'!$M:$M,'TRANSITS ANNUELS'!C33) -> 0 | Q33: =IF(ISBLANK(P33)," ",P33/SUM($P$2:$P$35)) -> 0 | R33: =SUMIFS('SUIVI 2018'!$V:$V,'SUIVI 2018'!$H:$H,'TRANSITS ANNUELS'!B33,'SUIVI 2018'!$M:$M,'TRANSITS ANNUELS'!C33) -> 0 | S33: =IF(ISBLANK(R33)," ",R33/SUM($R$2:$R$35)) -> #DIV/0! | T33: =SUMIFS('SUIVI 2018'!$X:$X,'SUIVI 2018'!$H:$H,'TRANSITS ANNUELS'!B33,'SUIVI 2018'!$M:$M,'TRANSITS ANNUELS'!C33) -> 0 | U33: =R33-T33 -> 0 | V33: =P33*1025 -> 0
B34: 13 | C34: 45 | P34: =SUMIFS('SUIVI 2018'!$AD:$AD,'SUIVI 2018'!$H:$H,B34,'SUIVI 2018'!$M:$M,'TRANSITS ANNUELS'!C34) -> 0 | Q34: =IF(ISBLANK(P34)," ",P34/SUM($P$2:$P$35)) -> 0 | R34: =SUMIFS('SUIVI 2018'!$V:$V,'SUIVI 2018'!$H:$H,'TRANSITS ANNUELS'!B34,'SUIVI 2018'!$M:$M,'TRANSITS ANNUELS'!C34) -> 0 | S34: =IF(ISBLANK(R34)," ",R34/SUM($R$2:$R$35)) -> #DIV/0! | T34: =SUMIFS('SUIVI 2018'!$X:$X,'SUIVI 2018'!$H:$H,'TRANSITS ANNUELS'!B34,'SUIVI 2018'!$M:$M,'TRANSITS ANNUELS'!C34) -> 0 | U34: =R34-T34 -> 0 | V34: =P34*1720 -> 0
B35: 13 | C35: 76 | P35: =SUMIFS('SUIVI 2018'!$AD:$AD,'SUIVI 2018'!$H:$H,B35,'SUIVI 2018'!$M:$M,'TRANSITS ANNUELS'!C35) -> 1 | Q35: =IF(ISBLANK(P35)," ",P35/SUM($P$2:$P$35)) -> 0.0078740157 | R35: =SUMIFS('SUIVI 2018'!$V:$V,'SUIVI 2018'!$H:$H,'TRANSITS ANNUELS'!B35,'SUIVI 2018'!$M:$M,'TRANSITS ANNUELS'!C35) -> 0 | S35: =IF(ISBLANK(R35)," ",R35/SUM($R$2:$R$35)) -> #DIV/0! | T35: =SUMIFS('SUIVI 2018'!$X:$X,'SUIVI 2018'!$H:$H,'TRANSITS ANNUELS'!B35,'SUIVI 2018'!$M:$M,'TRANSITS ANNUELS'!C35) -> 0 | U35: =R35-T35 -> 0 | V35: =P35*1538 -> 1538
P36: =SUM(P2:P35) -> 127 | Q36: =SUM(Q2:Q35) -> 1 | R36: =SUM(R2:R35) -> 0 | S36: =SUM(S2:S35) -> #DIV/0! | T36: =SUM(T2:T35) -> 0 | U36: =SUM(U2:U35) -> 0 | V36: =SUM(V2:V35) -> 123268.5

Sheet PAL ANNUELLES
A1: 2018 | B1: CP DEP | C1: CP ARR | D1: 43101 | E1: 80/120 (% du total) | F1: 100/120 (% du total) | G1: Poids (en kgs) | H1: 43132 | I1: 80/120 (% du total) | J1: 100/120 (% du total) | K1: Poids (en kgs) | L1: 43160 | M1: 80/120 (% du total) | N1: 100/120 (% du total) | O1: Poids (en kgs) | P1: 43191 | Q1: 80/120 (% du total) | R1: 100/120 (% du total) | S1: Poids (en kgs) | T1: 43221 | U1: 80/120 (% du total) | V1: 100/120 (% du total) | W1: Poids (en kgs) | X1: 43252 | Y1: 80/120 (% du total) | Z1: 100/120 (% du total) | AA1: Poids (en kgs) | AB1: 43282 | AC1: 80/120 (% du total) | AD1: 100/120 (% du total) | AE1: Poids (en kgs) | AF1: 43313 | AG1: 80/120 (% du total) | AH1: 100/120 (% du total) | AI1: Poids (en kgs) | AJ1: 43344 | AK1: 80/120 (% du total) | AL1: 100/120 (% du total) | AM1: Poids (en kgs) | AN1: 43374 | AO1: 80/120 (% du total) | AP1: 100/120 (% du total) | AQ1: Poids (en kgs) | AR1: 43405 | AS1: 80/120 (% du total) | AT1: 100/120 (% du total) | AU1: Poids (en kgs) | AV1: 43435 | AW1: 80/120 (% du total) | AX1: 100/120 (% du total) | AY1: Poids (en kgs) | AZ1: Nombre de palettes | BA1: Share shipments | BB1: NB PAL 80/120 par destination | BC1: NB PAL 100/120 par destination | BD1: Poids total par destination
A2: PALETTES SUIVANT LE LIEU DE DEPART/DESTINATION | B2: 45 | C2: STOCK | D2: =SUMPRODUCT(('SUIVI 2018'!$H$2:$H$218='PAL ANNUELLES'!$B2)*('SUIVI 2018'!$M$2:$M$218='PAL ANNUELLES'!$C2)*(MONTH('SUIVI 2018'!$E$2:$E$218=MONTH(D$1)*('SUIVI 2018'!$R$2:$R$218)))) -> 0 | E2: =SUMPRODUCT(('SUIVI 2018'!$H$2:$H$218='PAL ANNUELLES'!B2)*('SUIVI 2018'!$M$2:$M$218='PAL ANNUELLES'!C2)*(MONTH('SUIVI 2018'!$E$2:$E$218=MONTH(D1)*('SUIVI 2018'!$T$2:$T$218="80x120")))) -> 0 | F2: =SUMPRODUCT(('SUIVI 2018'!$H$2:$H$218='PAL ANNUELLES'!B2)*('SUIVI 2018'!$M$2:$M$218='PAL ANNUELLES'!C2)*(MONTH('SUIVI 2018'!$E$2:$E$218=MONTH(D1)*('SUIVI 2018'!$T$2:$T$218="100x120")))) -> 0 | G2: =SUMPRODUCT(('SUIVI 2018'!$H$2:$H$218='PAL ANNUELLES'!B2)*('SUIVI 2018'!$M$2:$M$218='PAL ANNUELLES'!C2)*(MONTH('SUIVI 2018'!$E$2:$E$218=MONTH(D1)*('SUIVI 2018'!U2:U218)))) -> 0 | AZ2: =SUM(D2+H2+L2+P2+T2+X2+AB2+AF2+AJ2+AN2+AR2+AV2) -> 0 | BA2: =IF(ISBLANK(AZ2)," ",AZ2/SUM($AZ$2:$AZ$35)) -> #DIV/0! | BB2: =SUM(E2+I2+M2+Q2+U2+Y2+AC2+AG2+AK2+AO2+AS2+AW2) -> 0 | BC2: =SUM(F2+J2+N2+R2+V2+Z2+AD2+AH2+AL2+AP2+AT2+AX2) -> 0 | BD2: =SUM(G2+K2+O2+S2+W2+AA2+AE2+AI2+AM2+AQ2+AU2+AY2) -> 0
B3: 45 | C3: 08 | AZ3: =SUM(D3+H3+L3+P3+T3+X3+AB3+AF3+AJ3+AN3+AR3+AV3) -> 0 | BA3: =IF(ISBLANK(AZ3)," ",AZ3/SUM($AZ$2:$AZ$35)) -> #DIV/0! | BB3: =SUM(E3+I3+M3+Q3+U3+Y3+AC3+AG3+AK3+AO3+AS3+AW3) -> 0 | BC3: =SUM(F3+J3+N3+R3+V3+Z3+AD3+AH3+AL3+AP3+AT3+AX3) -> 0 | BD3: =SUM(G3+K3+O3+S3+W3+AA3+AE3+AI3+AM3+AQ3+AU3+AY3) -> 0
B4: 45 | C4: 28 | AZ4: =SUM(D4+H4+L4+P4+T4+X4+AB4+AF4+AJ4+AN4+AR4+AV4) -> 0 | BA4: =IF(ISBLANK(AZ4)," ",AZ4/SUM($AZ$2:$AZ$35)) -> #DIV/0! | BB4: =SUM(E4+I4+M4+Q4+U4+Y4+AC4+AG4+AK4+AO4+AS4+AW4) -> 0 | BC4: =SUM(F4+J4+N4+R4+V4+Z4+AD4+AH4+AL4+AP4+AT4+AX4) -> 0 | BD4: =SUM(G4+K4+O4+S4+W4+AA4+AE4+AI4+AM4+AQ4+AU4+AY4) -> 0
B5: 45 | C5: 43 | AZ5: =SUM(D5+H5+L5+P5+T5+X5+AB5+AF5+AJ5+AN5+AR5+AV5) -> 0 | BA5: =IF(ISBLANK(AZ5)," ",AZ5/SUM($AZ$2:$AZ$35)) -> #DIV/0! | BB5: =SUM(E5+I5+M5+Q5+U5+Y5+AC5+AG5+AK5+AO5+AS5+AW5) -> 0 | BC5: =SUM(F5+J5+N5+R5+V5+Z5+AD5+AH5+AL5+AP5+AT5+AX5) -> 0 | BD5: =SUM(G5+K5+O5+S5+W5+AA5+AE5+AI5+AM5+AQ5+AU5+AY5) -> 0
B6: 76 | C6: STOCK | AZ6: =SUM(D6+H6+L6+P6+T6+X6+AB6+AF6+AJ6+AN6+AR6+AV6) -> 0 | BA6: =IF(ISBLANK(AZ6)," ",AZ6/SUM($AZ$2:$AZ$35)) -> #DIV/0! | BB6: =SUM(E6+I6+M6+Q6+U6+Y6+AC6+AG6+AK6+AO6+AS6+AW6) -> 0 | BC6: =SUM(F6+J6+N6+R6+V6+Z6+AD6+AH6+AL6+AP6+AT6+AX6) -> 0 | BD6: =SUM(G6+K6+O6+S6+W6+AA6+AE6+AI6+AM6+AQ6+AU6+AY6) -> 0
B7: 76 | C7: 08 | AZ7: =SUM(D7+H7+L7+P7+T7+X7+AB7+AF7+AJ7+AN7+AR7+AV7) -> 0 | BA7: =IF(ISBLANK(AZ7)," ",AZ7/SUM($AZ$2:$AZ$35)) -> #DIV/0! | BB7: =SUM(E7+I7+M7+Q7+U7+Y7+AC7+AG7+AK7+AO7+AS7+AW7) -> 0 | BC7: =SUM(F7+J7+N7+R7+V7+Z7+AD7+AH7+AL7+AP7+AT7+AX7) -> 0 | BD7: =SUM(G7+K7+O7+S7+W7+AA7+AE7+AI7+AM7+AQ7+AU7+AY7) -> 0
B8: 76 | C8: 28 | AZ8: =SUM(D8+H8+L8+P8+T8+X8+AB8+AF8+AJ8+AN8+AR8+AV8) -> 0 | BA8: =IF(ISBLANK(AZ8)," ",AZ8/SUM($AZ$2:$AZ$35)) -> #DIV/0! | BB8: =SUM(E8+I8+M8+Q8+U8+Y8+AC8+AG8+AK8+AO8+AS8+AW8) -> 0 | BC8: =SUM(F8+J8+N8+R8+V8+Z8+AD8+AH8+AL8+AP8+AT8+AX8) -> 0 | BD8: =SUM(G8+K8+O8+S8+W8+AA8+AE8+AI8+AM8+AQ8+AU8+AY8) -> 0
B9: 76 | C9: 43 | AZ9: =SUM(D9+H9+L9+P9+T9+X9+AB9+AF9+AJ9+AN9+AR9+AV9) -> 0 | BA9: =IF(ISBLANK(AZ9)," ",AZ9/SUM($AZ$2:$AZ$35)) -> #DIV/0! | BB9: =SUM(E9+I9+M9+Q9+U9+Y9+AC9+AG9+AK9+AO9+AS9+AW9) -> 0 | BC9: =SUM(F9+J9+N9+R9+V9+Z9+AD9+AH9+AL9+AP9+AT9+AX9) -> 0 | BD9: =SUM(G9+K9+O9+S9+W9+AA9+AE9+AI9+AM9+AQ9+AU9+AY9) -> 0
B10: 76 | C10: 39 | AZ10: =SUM(D10+H10+L10+P10+T10+X10+AB10+AF10+AJ10+AN10+AR10+AV10) -> 0 | BA10: =IF(ISBLANK(AZ10)," ",AZ10/SUM($AZ$2:$AZ$35)) -> #DIV/0! | BB10: =SUM(E10+I10+M10+Q10+U10+Y10+AC10+AG10+AK10+AO10+AS10+AW10) -> 0 | BC10: =SUM(F10+J10+N10+R10+V10+Z10+AD10+AH10+AL10+AP10+AT10+AX10) -> 0 | BD10: =SUM(G10+K10+O10+S10+W10+AA10+AE10+AI10+AM10+AQ10+AU10+AY10) -> 0
B11: 76 | C11: 58 | AZ11: =SUM(D11+H11+L11+P11+T11+X11+AB11+AF11+AJ11+AN11+AR11+AV11) -> 0 | BA11: =IF(ISBLANK(AZ11)," ",AZ11/SUM($AZ$2:$AZ$35)) -> #DIV/0! | BB11: =SUM(E11+I11+M11+Q11+U11+Y11+AC11+AG11+AK11+AO11+AS11+AW11) -> 0 | BC11: =SUM(F11+J11+N11+R11+V11+Z11+AD11+AH11+AL11+AP11+AT11+AX11) -> 0 | BD11: =SUM(G11+K11+O11+S11+W11+AA11+AE11+AI11+AM11+AQ11+AU11+AY11) -> 0
B12: 76 | C12: 59 | AZ12: =SUM(D12+H12+L12+P12+T12+X12+AB12+AF12+AJ12+AN12+AR12+AV12) -> 0 | BA12: =IF(ISBLANK(AZ12)," ",AZ12/SUM($AZ$2:$AZ$35)) -> #DIV/0! | BB12: =SUM(E12+I12+M12+Q12+U12+Y12+AC12+AG12+AK12+AO12+AS12+AW12) -> 0 | BC12: =SUM(F12+J12+N12+R12+V12+Z12+AD12+AH12+AL12+AP12+AT12+AX12) -> 0 | BD12: =SUM(G12+K12+O12+S12+W12+AA12+AE12+AI12+AM12+AQ12+AU12+AY12) -> 0
B13: 76 | C13: 49 | AZ13: =SUM(D13+H13+L13+P13+T13+X13+AB13+AF13+AJ13+AN13+AR13+AV13) -> 0 | BA13: =IF(ISBLANK(AZ13)," ",AZ13/SUM($AZ$2:$AZ$35)) -> #DIV/0! | BB13: =SUM(E13+I13+M13+Q13+U13+Y13+AC13+AG13+AK13+AO13+AS13+AW13) -> 0 | BC13: =SUM(F13+J13+N13+R13+V13+Z13+AD13+AH13+AL13+AP13+AT13+AX13) -> 0 | BD13: =SUM(G13+K13+O13+S13+W13+AA13+AE13+AI13+AM13+AQ13+AU13+AY13) -> 0
B14: 76 | C14: 13 | AZ14: =SUM(D14+H14+L14+P14+T14+X14+AB14+AF14+AJ14+AN14+AR14+AV14) -> 0 | BA14: =IF(ISBLANK(AZ14)," ",AZ14/SUM($AZ$2:$AZ$35)) -> #DIV/0! | BB14: =SUM(E14+I14+M14+Q14+U14+Y14+AC14+AG14+AK14+AO14+AS14+AW14) -> 0 | BC14: =SUM(F14+J14+N14+R14+V14+Z14+AD14+AH14+AL14+AP14+AT14+AX14) -> 0 | BD14: =SUM(G14+K14+O14+S14+W14+AA14+AE14+AI14+AM14+AQ14+AU14+AY14) -> 0
... B35: 13 | C35: 76 | AZ35: =SUM(D35+H35+L35+P35+T35+X35+AB35+AF35+AJ35+AN35+AR35+AV35) -> 0 | BA35: =IF(ISBLANK(AZ35)," ",AZ35/SUM($AZ$2:$AZ$35)) -> #DIV/0! | BB35: =SUM(E35+I35+M35+Q35+U35+Y35+AC35+AG35+AK35+AO35+AS35+AW35) -> 0 | BC35: =SUM(F35+J35+N35+R35+V35+Z35+AD35+AH35+AL35+AP35+AT35+AX35) -> 0 | BD35: =SUM(G35+K35+O35+S35+W35+AA35+AE35+AI35+AM35+AQ35+AU35+AY35) -> 0
D36: =SUM(D2:D35) -> 0 | E36: =SUM(E2:E35)/$D$36 -> #DIV/0! | F36: =SUM(F2:F35)/$D$36 -> #DIV/0! | G36: =SUM(G2:G35) -> 0 | H36: =SUM(H2:H35) -> 0 | I36: =SUM(I2:I35)/$H$36 -> #DIV/0! | J36: =SUM(J2:J35)/$H$36 -> #DIV/0! | K36: =SUM(K2:K35) -> 0 | L36: =SUM(L2:L35) -> 0 | M36: =SUM(M2:M35)/$L$36 -> #DIV/0! | N36: =SUM(N2:N35)/$L$36 -> #DIV/0! | O36: =SUM(O2:O35) -> 0 | P36: =SUM(P2:P35) -> 0 | Q36: =SUM(Q2:Q35)/$P$36 -> #DIV/0! | R36: =SUM(R2:R35)/$P$36 -> #DIV/0! | S36: =SUM(S2:S35) -> 0 | T36: =SUM(T2:T35) -> 0 | U36: =SUM(U2:U35)/$T$36 -> #DIV/0! | V36: =SUM(V2:V35)/$T$36 -> #DIV/0! | W36: =SUM(W2:W35) -> 0 | X36: =SUM(X2:X35) -> 0 | Y36: =SUM(Y2:Y35)/$X$36 -> #DIV/0! | Z36: =SUM(Z2:Z35)/$X$36 -> #DIV/0! | AA36: =SUM(AA2:AA35) -> 0 | AB36: =SUM(AB2:AB35) -> 0 | AC36: =SUM(AC2:AC35)/$AB$36 -> #DIV/0! | AD36: =SUM(AD2:AD35)/$AB$36 -> #DIV/0! | AE36: =SUM(AE2:AE35) -> 0 | AF36: =SUM(AF2:AF35) -> 0 | AG36: =SUM(AG2:AG35)/$AF$36 -> #DIV/0! | AH36: =SUM(AH2:AH35)/$AF$36 -> #DIV/0! | AI36: =SUM(AI2:AI35) -> 0 | AJ36: =SUM(AJ2:AJ35) -> 0 | AK36: =SUM(AK2:AK35)/$AJ$36 -> #DIV/0! | AL36: =SUM(AL2:AL35)/$AJ$36 -> #DIV/0! | AM36: =SUM(AM2:AM35) -> 0 | AN36: =SUM(AN2:AN35) -> 0 | AO36: =SUM(AO2:AO35)/$AN$36 -> #DIV/0! | AP36: =SUM(AP2:AP35)/$AN$36 -> #DIV/0! | AQ36: =SUM(AQ2:AQ35) -> 0 | AR36: =SUM(AR2:AR35) -> 0 | AS36: =SUM(AS2:AS35)/$AR$36 -> #DIV/0! | AT36: =SUM(AT2:AT35)/$AR$36 -> #DIV/0! | AU36: =SUM(AU2:AU35) -> 0 | AV36: =SUM(AV2:AV35) -> 0 | AW36: =SUM(AW2:AW35)/$AV$36 -> #DIV/0! | AX36: =SUM(AX2:AX35)/$AV$36 -> #DIV/0! | AY36: =SUM(AY2:AY35) -> 0 | AZ36: =SUM(AZ2:AZ35) -> 0 | BA36: =SUM(BA2:BA35) -> #DIV/0! | BB36: =SUM(BB2:BB35) -> 0 | BC36: =SUM(BC2:BC35) -> 0 | BD36: =SUM(BD2:BD35) -> 0
