Workbook

Sheet 01
C2: JANVIER
A4: N° | B4: Mois | C4: Date | D4: N° Facture | E4: Client | F4: Montant HT | G4: Etat
A5: 1 | B5: 1 | C5: 43102 | D5: 18-01 | E5: Client | F5: 268.91 | G5: payé
A6: 2 | B6: 1 | C6: 43109 | D6: 18-02 | E6: Client | F6: 453.78 | G6: payé
A7: 3 | B7: 1 | C7: 43109 | D7: 18-03 | E7: Client | F7: 848.74 | G7: payé
A8: 4 | B8: 1 | C8: 43110 | D8: 18-04 | E8: Client | F8: 798.32 | G8: payé
A9: 5 | B9: 1 | C9: 43110 | D9: 18-05 | E9: Client | F9: 580.6715 | G9: 0
A10: 6 | B10: 1 | C10: 43110 | D10: 18-06 | E10: Client | F10: 317.65 | G10: payé
A11: 7 | B11: 1 | C11: 43110 | D11: 18-07 | E11: Client | F11: 647.06 | G11: 0
A12: 8 | B12: 1 | C12: 43110 | D12: 18-08 | E12: Client | F12: 40.34 | G12: 0
A13: 9 | B13: 1 | C13: 43113 | D13: 18-09 | E13: Client | F13: 159.66 | G13: payé
A14: 10 | B14: 1 | C14: 43115 | D14: 18-10 | E14: Client | F14: 268.91 | G14: payé
A15: 11 | B15: 1 | C15: 43115 | D15: 18-11 | E15: Client | F15: 201.68 | G15: payé
A16: 12 | B16: 1 | C16: 43115 | D16: 18-12 | E16: Client | F16: 882.35 | G16: payé
... A24: 20 | B24: 1 | C24: 43121 | D24: 18-20 | E24: Client | F24: 567.23 | G24: payé

Sheet 02
C2: FEVRIER
A4: N° | B4: Mois | C4: Date | D4: N° Facture | E4: Client | F4: Montant HT | G4: Etat
A5: 1 | B5: 2 | C5: 46785 | D5: 18-21 | E5: Client | F5: 983.19 | G5: payé
A6: 2 | B6: 2 | C6: 46792 | D6: 18-22 | E6: Client | F6: 882.35 | G6: 0
A7: 3 | B7: 2 | C7: 46792 | D7: 18-23 | E7: Client | F7: 848.74 | G7: 0
A8: 4 | B8: 2 | C8: 46793 | D8: 18-24 | E8: Client | F8: 840.34 | G8: payé
A9: 5 | B9: 2 | C9: 46793 | D9: 18-25 | E9: Client | F9: 798.32 | G9: payé
A10: 6 | B10: 2 | C10: 46793 | D10: 18-26 | E10: Client | F10: 647.06 | G10: payé
A11: 7 | B11: 2 | C11: 46793 | D11: 18-27 | E11: Client | F11: 605.04 | G11: payé
A12: 8 | B12: 2 | C12: 46793 | D12: 18-28 | E12: Client | F12: 580.6715 | G12: 0
A13: 9 | B13: 2 | C13: 46796 | D13: 18-29 | E13: Client | F13: 567.23 | G13: payé
A14: 10 | B14: 2 | C14: 46798 | D14: 18-30 | E14: Client | F14: 521.01 | G14: payé
A15: 11 | B15: 2 | C15: 46798 | D15: 18-31 | E15: Client | F15: 453.78 | G15: payé
A16: 12 | B16: 2 | C16: 46798 | D16: 18-32 | E16: Client | F16: 317.65 | G16: payé
... A24: 20 | B24: 2 | C24: 46804 | D24: 18-40 | E24: Client | F24: 108.4 | G24: payé

Sheet synthèse
A4: Mois | B4: N° Fact. | C4: Montant HT | D4: Etat | F4: Mois | G4: 1 | H4: 2 | I4: 3 | J4: 4 | K4: 5 | L4: 6 | M4: 7 | N4: 8 | O4: 9 | P4: 10 | Q4: 11 | R4: 12
A5: 1 | B5: 18-01 | C5: ='01'!F5 -> 268.91 | D5: =IF(INDEX(INDIRECT(CONCATENATE("'",0&A5,"'!","g5:g250")),MATCH($B5,INDIRECT(CONCATENATE("'",0&A5,"'!","d5:d250"),TRUE),0))="payé",INDEX(INDIRECT(CONCATENATE("'",0&A5,"'!","f5:f250")),MATCH($B5,INDIRECT(CONCATENATE("'",0&A5,"'!","d5:d250"),TRUE),0)),"pas payé") -> 268.91 | F5: Ch.Af. | G5: =IF(SUMIF($A5:$A999,G4,$C5:$C999)=0,"",SUMIF($A5:$A999,G4,$C5:$C999)) -> 8698.3215 | H5: =IF(SUMIF($A5:$A999,H4,$C5:$C999)=0,"",SUMIF($A5:$A999,H4,$C5:$C999)) -> 9598.3215 | I5: =IF(SUMIF($A5:$A999,I4,$C5:$C999)=0,"",SUMIF($A5:$A999,I4,$C5:$C999)) | J5: =IF(SUMIF($A5:$A999,J4,$C5:$C999)=0,"",SUMIF($A5:$A999,J4,$C5:$C999)) | K5: =IF(SUMIF($A5:$A999,K4,$C5:$C999)=0,"",SUMIF($A5:$A999,K4,$C5:$C999)) | L5: =IF(SUMIF($A5:$A999,L4,$C5:$C999)=0,"",SUMIF($A5:$A999,L4,$C5:$C999)) | M5: =IF(SUMIF($A5:$A999,M4,$C5:$C999)=0,"",SUMIF($A5:$A999,M4,$C5:$C999)) | N5: =IF(SUMIF($A5:$A999,N4,$C5:$C999)=0,"",SUMIF($A5:$A999,N4,$C5:$C999)) | ... R5: =IF(SUMIF($A5:$A999,R4,$C5:$C999)=0,"",SUMIF($A5:$A999,R4,$C5:$C999))
A6: 1 | B6: 18-02 | C6: ='01'!F6 -> 453.78 | D6: =IF(INDEX(INDIRECT(CONCATENATE("'",0&A6,"'!","g5:g250")),MATCH($B6,INDIRECT(CONCATENATE("'",0&A6,"'!","d5:d250"),TRUE),0))="payé",INDEX(INDIRECT(CONCATENATE("'",0&A6,"'!","f5:f250")),MATCH($B6,INDIRECT(CONCATENATE("'",0&A6,"'!","d5:d250"),TRUE),0)),"pas payé") -> 453.78 | F6: Payé | G6: =IF(SUMIF($A5:$A999,G4,$D5:$D999)=0,"",SUMIF($A5:$A999,G4,$D5:$D999)) -> 6321.85 | H6: =IF(SUMIF($A5:$A999,H4,$D5:$D999)=0,"",SUMIF($A5:$A999,H4,$D5:$D999)) -> 6547.06 | I6: =IF(SUMIF($A5:$A999,I4,$D5:$D999)=0,"",SUMIF($A5:$A999,I4,$D5:$D999)) | J6: =IF(SUMIF($A5:$A999,J4,$D5:$D999)=0,"",SUMIF($A5:$A999,J4,$D5:$D999)) | K6: =IF(SUMIF($A5:$A999,K4,$D5:$D999)=0,"",SUMIF($A5:$A999,K4,$D5:$D999)) | L6: =IF(SUMIF($A5:$A999,L4,$D5:$D999)=0,"",SUMIF($A5:$A999,L4,$D5:$D999)) | M6: =IF(SUMIF($A5:$A999,M4,$D5:$D999)=0,"",SUMIF($A5:$A999,M4,$D5:$D999)) | N6: =IF(SUMIF($A5:$A999,N4,$D5:$D999)=0,"",SUMIF($A5:$A999,N4,$D5:$D999)) | ... R6: =IF(SUMIF($A5:$A999,R4,$D5:$D999)=0,"",SUMIF($A5:$A999,R4,$D5:$D999))
A7: 1 | B7: 18-03 | C7: ='01'!F7 -> 848.74 | D7: =IF(INDEX(INDIRECT(CONCATENATE("'",0&A7,"'!","g5:g250")),MATCH($B7,INDIRECT(CONCATENATE("'",0&A7,"'!","d5:d250"),TRUE),0))="payé",INDEX(INDIRECT(CONCATENATE("'",0&A7,"'!","f5:f250")),MATCH($B7,INDIRECT(CONCATENATE("'",0&A7,"'!","d5:d250"),TRUE),0)),"pas payé") -> 848.74 | F7: Impayé | G7: =IF(SUMIFS($C$5:$C$999,$A$5:$A$999,G$4,$D$5:$D$999,"pas payé")=0,"",SUMIFS($C$5:$C$999,$A$5:$A$999,G$4,$D$5:$D$999,"pas payé")) -> 2376.4715 | H7: =IF(SUMIFS($C$5:$C$999,$A$5:$A$999,H$4,$D$5:$D$999,"pas payé")=0,"",SUMIFS($C$5:$C$999,$A$5:$A$999,H$4,$D$5:$D$999,"pas payé")) -> 3051.2615 | I7: =IF(SUMIFS($C$5:$C$999,$A$5:$A$999,I$4,$D$5:$D$999,"pas payé")=0,"",SUMIFS($C$5:$C$999,$A$5:$A$999,I$4,$D$5:$D$999,"pas payé")) | J7: =IF(SUMIFS($C$5:$C$999,$A$5:$A$999,J$4,$D$5:$D$999,"pas payé")=0,"",SUMIFS($C$5:$C$999,$A$5:$A$999,J$4,$D$5:$D$999,"pas payé")) | K7: =IF(SUMIFS($C$5:$C$999,$A$5:$A$999,K$4,$D$5:$D$999,"pas payé")=0,"",SUMIFS($C$5:$C$999,$A$5:$A$999,K$4,$D$5:$D$999,"pas payé")) | L7: =IF(SUMIFS($C$5:$C$999,$A$5:$A$999,L$4,$D$5:$D$999,"pas payé")=0,"",SUMIFS($C$5:$C$999,$A$5:$A$999,L$4,$D$5:$D$999,"pas payé")) | M7: =IF(SUMIFS($C$5:$C$999,$A$5:$A$999,M$4,$D$5:$D$999,"pas payé")=0,"",SUMIFS($C$5:$C$999,$A$5:$A$999,M$4,$D$5:$D$999,"pas payé")) | N7: =IF(SUMIFS($C$5:$C$999,$A$5:$A$999,N$4,$D$5:$D$999,"pas payé")=0,"",SUMIFS($C$5:$C$999,$A$5:$A$999,N$4,$D$5:$D$999,"pas payé")) | ... R7: =IF(SUMIFS($C$5:$C$999,$A$5:$A$999,R$4,$D$5:$D$999,"pas payé")=0,"",SUMIFS($C$5:$C$999,$A$5:$A$999,R$4,$D$5:$D$999,"pas payé"))
A8: 1 | B8: 18-04 | C8: ='01'!F8 -> 798.32 | D8: =IF(INDEX(INDIRECT(CONCATENATE("'",0&A8,"'!","g5:g250")),MATCH($B8,INDIRECT(CONCATENATE("'",0&A8,"'!","d5:d250"),TRUE),0))="payé",INDEX(INDIRECT(CONCATENATE("'",0&A8,"'!","f5:f250")),MATCH($B8,INDIRECT(CONCATENATE("'",0&A8,"'!","d5:d250"),TRUE),0)),"pas payé") -> 798.32
A9: 1 | B9: 18-05 | C9: ='01'!F9 -> 580.6715 | D9: =IF(INDEX(INDIRECT(CONCATENATE("'",0&A9,"'!","g5:g250")),MATCH($B9,INDIRECT(CONCATENATE("'",0&A9,"'!","d5:d250"),TRUE),0))="payé",INDEX(INDIRECT(CONCATENATE("'",0&A9,"'!","f5:f250")),MATCH($B9,INDIRECT(CONCATENATE("'",0&A9,"'!","d5:d250"),TRUE),0)),"pas payé") -> pas payé
A10: 1 | B10: 18-06 | C10: ='01'!F10 -> 317.65 | D10: =IF(INDEX(INDIRECT(CONCATENATE("'",0&A10,"'!","g5:g250")),MATCH($B10,INDIRECT(CONCATENATE("'",0&A10,"'!","d5:d250"),TRUE),0))="payé",INDEX(INDIRECT(CONCATENATE("'",0&A10,"'!","f5:f250")),MATCH($B10,INDIRECT(CONCATENATE("'",0&A10,"'!","d5:d250"),TRUE),0)),"pas payé") -> 317.65
A11: 1 | B11: 18-07 | C11: ='01'!F11 -> 647.06 | D11: =IF(INDEX(INDIRECT(CONCATENATE("'",0&A11,"'!","g5:g250")),MATCH($B11,INDIRECT(CONCATENATE("'",0&A11,"'!","d5:d250"),TRUE),0))="payé",INDEX(INDIRECT(CONCATENATE("'",0&A11,"'!","f5:f250")),MATCH($B11,INDIRECT(CONCATENATE("'",0&A11,"'!","d5:d250"),TRUE),0)),"pas payé") -> pas payé | F11: Ch.Af.cumulé | G11: =SUM(G5:R5) -> 18296.643
A12: 1 | B12: 18-08 | C12: ='01'!F12 -> 40.34 | D12: =IF(INDEX(INDIRECT(CONCATENATE("'",0&A12,"'!","g5:g250")),MATCH($B12,INDIRECT(CONCATENATE("'",0&A12,"'!","d5:d250"),TRUE),0))="payé",INDEX(INDIRECT(CONCATENATE("'",0&A12,"'!","f5:f250")),MATCH($B12,INDIRECT(CONCATENATE("'",0&A12,"'!","d5:d250"),TRUE),0)),"pas payé") -> pas payé | F12: Payé.cumulé | G12: =SUM(G6:R6) -> 12868.91
A13: 1 | B13: 18-09 | C13: ='01'!F13 -> 159.66 | D13: =IF(INDEX(INDIRECT(CONCATENATE("'",0&A13,"'!","g5:g250")),MATCH($B13,INDIRECT(CONCATENATE("'",0&A13,"'!","d5:d250"),TRUE),0))="payé",INDEX(INDIRECT(CONCATENATE("'",0&A13,"'!","f5:f250")),MATCH($B13,INDIRECT(CONCATENATE("'",0&A13,"'!","d5:d250"),TRUE),0)),"pas payé") -> 159.66 | F13: Impayé.cumulé | G13: =SUM(G7:R7) -> 5427.733
A14: 1 | B14: 18-10 | C14: ='01'!F14 -> 268.91 | D14: =IF(INDEX(INDIRECT(CONCATENATE("'",0&A14,"'!","g5:g250")),MATCH($B14,INDIRECT(CONCATENATE("'",0&A14,"'!","d5:d250"),TRUE),0))="payé",INDEX(INDIRECT(CONCATENATE("'",0&A14,"'!","f5:f250")),MATCH($B14,INDIRECT(CONCATENATE("'",0&A14,"'!","d5:d250"),TRUE),0)),"pas payé") -> 268.91
A15: 1 | B15: 18-11 | C15: ='01'!F15 -> 201.68 | D15: =IF(INDEX(INDIRECT(CONCATENATE("'",0&A15,"'!","g5:g250")),MATCH($B15,INDIRECT(CONCATENATE("'",0&A15,"'!","d5:d250"),TRUE),0))="payé",INDEX(INDIRECT(CONCATENATE("'",0&A15,"'!","f5:f250")),MATCH($B15,INDIRECT(CONCATENATE("'",0&A15,"'!","d5:d250"),TRUE),0)),"pas payé") -> 201.68
A16: 1 | B16: 18-12 | C16: ='01'!F16 -> 882.35 | D16: =IF(INDEX(INDIRECT(CONCATENATE("'",0&A16,"'!","g5:g250")),MATCH($B16,INDIRECT(CONCATENATE("'",0&A16,"'!","d5:d250"),TRUE),0))="payé",INDEX(INDIRECT(CONCATENATE("'",0&A16,"'!","f5:f250")),MATCH($B16,INDIRECT(CONCATENATE("'",0&A16,"'!","d5:d250"),TRUE),0)),"pas payé") -> 882.35
A17: 1 | B17: 18-13 | C17: ='01'!F17 -> 983.19 | D17: =IF(INDEX(INDIRECT(CONCATENATE("'",0&A17,"'!","g5:g250")),MATCH($B17,INDIRECT(CONCATENATE("'",0&A17,"'!","d5:d250"),TRUE),0))="payé",INDEX(INDIRECT(CONCATENATE("'",0&A17,"'!","f5:f250")),MATCH($B17,INDIRECT(CONCATENATE("'",0&A17,"'!","d5:d250"),TRUE),0)),"pas payé") -> pas payé
A18: 1 | B18: 18-14 | C18: ='01'!F18 -> 159.66 | D18: =IF(INDEX(INDIRECT(CONCATENATE("'",0&A18,"'!","g5:g250")),MATCH($B18,INDIRECT(CONCATENATE("'",0&A18,"'!","d5:d250"),TRUE),0))="payé",INDEX(INDIRECT(CONCATENATE("'",0&A18,"'!","f5:f250")),MATCH($B18,INDIRECT(CONCATENATE("'",0&A18,"'!","d5:d250"),TRUE),0)),"pas payé") -> 159.66
A19: 1 | B19: 18-15 | C19: ='01'!F19 -> 605.04 | D19: =IF(INDEX(INDIRECT(CONCATENATE("'",0&A19,"'!","g5:g250")),MATCH($B19,INDIRECT(CONCATENATE("'",0&A19,"'!","d5:d250"),TRUE),0))="payé",INDEX(INDIRECT(CONCATENATE("'",0&A19,"'!","f5:f250")),MATCH($B19,INDIRECT(CONCATENATE("'",0&A19,"'!","d5:d250"),TRUE),0)),"pas payé") -> 605.04
A20: 1 | B20: 18-16 | C20: ='01'!F20 -> 16.81 | D20: =IF(INDEX(INDIRECT(CONCATENATE("'",0&A20,"'!","g5:g250")),MATCH($B20,INDIRECT(CONCATENATE("'",0&A20,"'!","d5:d250"),TRUE),0))="payé",INDEX(INDIRECT(CONCATENATE("'",0&A20,"'!","f5:f250")),MATCH($B20,INDIRECT(CONCATENATE("'",0&A20,"'!","d5:d250"),TRUE),0)),"pas payé") -> pas payé
A21: 1 | B21: 18-17 | C21: ='01'!F21 -> 108.4 | D21: =IF(INDEX(INDIRECT(CONCATENATE("'",0&A21,"'!","g5:g250")),MATCH($B21,INDIRECT(CONCATENATE("'",0&A21,"'!","d5:d250"),TRUE),0))="payé",INDEX(INDIRECT(CONCATENATE("'",0&A21,"'!","f5:f250")),MATCH($B21,INDIRECT(CONCATENATE("'",0&A21,"'!","d5:d250"),TRUE),0)),"pas payé") -> pas payé
A22: 1 | B22: 18-18 | C22: ='01'!F22 -> 521.01 | D22: =IF(INDEX(INDIRECT(CONCATENATE("'",0&A22,"'!","g5:g250")),MATCH($B22,INDIRECT(CONCATENATE("'",0&A22,"'!","d5:d250"),TRUE),0))="payé",INDEX(INDIRECT(CONCATENATE("'",0&A22,"'!","f5:f250")),MATCH($B22,INDIRECT(CONCATENATE("'",0&A22,"'!","d5:d250"),TRUE),0)),"pas payé") -> 521.01
A23: 1 | B23: 18-19 | C23: ='01'!F23 -> 268.91 | D23: =IF(INDEX(INDIRECT(CONCATENATE("'",0&A23,"'!","g5:g250")),MATCH($B23,INDIRECT(CONCATENATE("'",0&A23,"'!","d5:d250"),TRUE),0))="payé",INDEX(INDIRECT(CONCATENATE("'",0&A23,"'!","f5:f250")),MATCH($B23,INDIRECT(CONCATENATE("'",0&A23,"'!","d5:d250"),TRUE),0)),"pas payé") -> 268.91
A24: 1 | B24: 18-20 | C24: ='01'!F24 -> 567.23 | D24: =IF(INDEX(INDIRECT(CONCATENATE("'",0&A24,"'!","g5:g250")),MATCH($B24,INDIRECT(CONCATENATE("'",0&A24,"'!","d5:d250"),TRUE),0))="payé",INDEX(INDIRECT(CONCATENATE("'",0&A24,"'!","f5:f250")),MATCH($B24,INDIRECT(CONCATENATE("'",0&A24,"'!","d5:d250"),TRUE),0)),"pas payé") -> 567.23
A25: 2 | B25: 18-21 | C25: ='02'!F5 -> 983.19 | D25: =IF(INDEX(INDIRECT(CONCATENATE("'",0&A25,"'!","g5:g250")),MATCH($B25,INDIRECT(CONCATENATE("'",0&A25,"'!","d5:d250"),TRUE),0))="payé",INDEX(INDIRECT(CONCATENATE("'",0&A25,"'!","f5:f250")),MATCH($B25,INDIRECT(CONCATENATE("'",0&A25,"'!","d5:d250"),TRUE),0)),"pas payé") -> 983.19
A26: 2 | B26: 18-22 | C26: ='02'!F6 -> 882.35 | D26: =IF(INDEX(INDIRECT(CONCATENATE("'",0&A26,"'!","g5:g250")),MATCH($B26,INDIRECT(CONCATENATE("'",0&A26,"'!","d5:d250"),TRUE),0))="payé",INDEX(INDIRECT(CONCATENATE("'",0&A26,"'!","f5:f250")),MATCH($B26,INDIRECT(CONCATENATE("'",0&A26,"'!","d5:d250"),TRUE),0)),"pas payé") -> pas payé
A27: 2 | B27: 18-23 | C27: ='02'!F7 -> 848.74 | D27: =IF(INDEX(INDIRECT(CONCATENATE("'",0&A27,"'!","g5:g250")),MATCH($B27,INDIRECT(CONCATENATE("'",0&A27,"'!","d5:d250"),TRUE),0))="payé",INDEX(INDIRECT(CONCATENATE("'",0&A27,"'!","f5:f250")),MATCH($B27,INDIRECT(CONCATENATE("'",0&A27,"'!","d5:d250"),TRUE),0)),"pas payé") -> pas payé
A28: 2 | B28: 18-24 | C28: ='02'!F8 -> 840.34 | D28: =IF(INDEX(INDIRECT(CONCATENATE("'",0&A28,"'!","g5:g250")),MATCH($B28,INDIRECT(CONCATENATE("'",0&A28,"'!","d5:d250"),TRUE),0))="payé",INDEX(INDIRECT(CONCATENATE("'",0&A28,"'!","f5:f250")),MATCH($B28,INDIRECT(CONCATENATE("'",0&A28,"'!","d5:d250"),TRUE),0)),"pas payé") -> 840.34
A29: 2 | B29: 18-25 | C29: ='02'!F9 -> 798.32 | D29: =IF(INDEX(INDIRECT(CONCATENATE("'",0&A29,"'!","g5:g250")),MATCH($B29,INDIRECT(CONCATENATE("'",0&A29,"'!","d5:d250"),TRUE),0))="payé",INDEX(INDIRECT(CONCATENATE("'",0&A29,"'!","f5:f250")),MATCH($B29,INDIRECT(CONCATENATE("'",0&A29,"'!","d5:d250"),TRUE),0)),"pas payé") -> 798.32
A30: 2 | B30: 18-26 | C30: ='02'!F10 -> 647.06 | D30: =IF(INDEX(INDIRECT(CONCATENATE("'",0&A30,"'!","g5:g250")),MATCH($B30,INDIRECT(CONCATENATE("'",0&A30,"'!","d5:d250"),TRUE),0))="payé",INDEX(INDIRECT(CONCATENATE("'",0&A30,"'!","f5:f250")),MATCH($B30,INDIRECT(CONCATENATE("'",0&A30,"'!","d5:d250"),TRUE),0)),"pas payé") -> 647.06
A31: 2 | B31: 18-27 | C31: ='02'!F11 -> 605.04 | D31: =IF(INDEX(INDIRECT(CONCATENATE("'",0&A31,"'!","g5:g250")),MATCH($B31,INDIRECT(CONCATENATE("'",0&A31,"'!","d5:d250"),TRUE),0))="payé",INDEX(INDIRECT(CONCATENATE("'",0&A31,"'!","f5:f250")),MATCH($B31,INDIRECT(CONCATENATE("'",0&A31,"'!","d5:d250"),TRUE),0)),"pas payé") -> 605.04
A32: 2 | B32: 18-28 | C32: ='02'!F12 -> 580.6715 | D32: =IF(INDEX(INDIRECT(CONCATENATE("'",0&A32,"'!","g5:g250")),MATCH($B32,INDIRECT(CONCATENATE("'",0&A32,"'!","d5:d250"),TRUE),0))="payé",INDEX(INDIRECT(CONCATENATE("'",0&A32,"'!","f5:f250")),MATCH($B32,INDIRECT(CONCATENATE("'",0&A32,"'!","d5:d250"),TRUE),0)),"pas payé") -> pas payé
A33: 2 | B33: 18-29 | C33: ='02'!F13 -> 567.23 | D33: =IF(INDEX(INDIRECT(CONCATENATE("'",0&A33,"'!","g5:g250")),MATCH($B33,INDIRECT(CONCATENATE("'",0&A33,"'!","d5:d250"),TRUE),0))="payé",INDEX(INDIRECT(CONCATENATE("'",0&A33,"'!","f5:f250")),MATCH($B33,INDIRECT(CONCATENATE("'",0&A33,"'!","d5:d250"),TRUE),0)),"pas payé") -> 567.23
A34: 2 | B34: 18-30 | C34: ='02'!F14 -> 521.01 | D34: =IF(INDEX(INDIRECT(CONCATENATE("'",0&A34,"'!","g5:g250")),MATCH($B34,INDIRECT(CONCATENATE("'",0&A34,"'!","d5:d250"),TRUE),0))="payé",INDEX(INDIRECT(CONCATENATE("'",0&A34,"'!","f5:f250")),MATCH($B34,INDIRECT(CONCATENATE("'",0&A34,"'!","d5:d250"),TRUE),0)),"pas payé") -> 521.01
A35: 2 | B35: 18-31 | C35: ='02'!F15 -> 453.78 | D35: =IF(INDEX(INDIRECT(CONCATENATE("'",0&A35,"'!","g5:g250")),MATCH($B35,INDIRECT(CONCATENATE("'",0&A35,"'!","d5:d250"),TRUE),0))="payé",INDEX(INDIRECT(CONCATENATE("'",0&A35,"'!","f5:f250")),MATCH($B35,INDIRECT(CONCATENATE("'",0&A35,"'!","d5:d250"),TRUE),0)),"pas payé") -> 453.78
A36: 2 | B36: 18-32 | C36: ='02'!F16 -> 317.65 | D36: =IF(INDEX(INDIRECT(CONCATENATE("'",0&A36,"'!","g5:g250")),MATCH($B36,INDIRECT(CONCATENATE("'",0&A36,"'!","d5:d250"),TRUE),0))="payé",INDEX(INDIRECT(CONCATENATE("'",0&A36,"'!","f5:f250")),MATCH($B36,INDIRECT(CONCATENATE("'",0&A36,"'!","d5:d250"),TRUE),0)),"pas payé") -> 317.65
... A44: 2 | B44: 18-40 | C44: ='02'!F24 -> 108.4 | D44: =IF(INDEX(INDIRECT(CONCATENATE("'",0&A44,"'!","g5:g250")),MATCH($B44,INDIRECT(CONCATENATE("'",0&A44,"'!","d5:d250"),TRUE),0))="payé",INDEX(INDIRECT(CONCATENATE("'",0&A44,"'!","f5:f250")),MATCH($B44,INDIRECT(CONCATENATE("'",0&A44,"'!","d5:d250"),TRUE),0)),"pas payé") -> 108.4
