Workbook

Sheet liste des resprésentants
A1: liste des représentants
A2: Num représentant | B2: Nom | C2: Prénom | D2: secteur
A3: 1 | B3: Laborde | C3: Tommy | D3: 1
A4: 2 | B4: Bossut | C4: Jean | D4: 1
A5: 3 | B5: Emprun | C5: Arthur | D5: 2
A6: 4 | B6: Barmou | C6: François | D6: 4
A7: 5 | B7: Praud | C7: Alicia | D7: 3
A8: 6 | B8: Dussueil | C8: Florence | D8: 2
A9: 7 | B9: Forest | C9: Sylvie | D9: 4
A10: 8 | B10: Balme | C10: Sophie | D10: 4
A11: 9 | B11: Blondeau | C11: Annie | D11: 4
A12: 10 | B12: Bourgoin | C12: Sarah | D12: 3
A13: 11 | B13: Carpentier | C13: Gaspard | D13: 2
A14: 12 | B14: Demeyère | C14: Martin | D14: 1
... A91: 89 | B91: VIARD | C91: Prescilla | D91: 4

Sheet ventes du premier trimestre
A1: Ventes du 1er trimestre 2019
A2: Numéro représentant | B2: Janvier | C2: Février | D2: Mars | F2: nom | G2: secteur
A3: 1 | B3: 45210 | C3: 15203 | D3: 25630 | F3: =VLOOKUP(A3,'liste des resprésentants'!$A$3:$D$91,2,FALSE) -> Laborde | G3: =VLOOKUP(A3,'liste des resprésentants'!$A$3:$D$91,4,FALSE) -> 1
A4: 2 | B4: 25630 | C4: 15632 | D4: 15203 | F4: =VLOOKUP(A4,'liste des resprésentants'!$A$3:$D$91,2,FALSE) -> Bossut | G4: =VLOOKUP(A4,'liste des resprésentants'!$A$3:$D$91,4,FALSE) -> 1
A5: 12 | B5: 25630 | C5: 45630 | D5: 15632 | F5: =VLOOKUP(A5,'liste des resprésentants'!$A$3:$D$91,2,FALSE) -> Demeyère | G5: =VLOOKUP(A5,'liste des resprésentants'!$A$3:$D$91,4,FALSE) -> 1
A6: 16 | B6: 15203 | C6: 12500 | D6: 45630 | F6: =VLOOKUP(A6,'liste des resprésentants'!$A$3:$D$91,2,FALSE) -> Bouchetou | G6: =VLOOKUP(A6,'liste des resprésentants'!$A$3:$D$91,4,FALSE) -> 1
A7: 19 | B7: 15632 | C7: 14520 | D7: 12500 | F7: =VLOOKUP(A7,'liste des resprésentants'!$A$3:$D$91,2,FALSE) -> AZAOUAGH | G7: =VLOOKUP(A7,'liste des resprésentants'!$A$3:$D$91,4,FALSE) -> 1
A8: 25 | B8: 45630 | C8: 23524 | D8: 14520 | F8: =VLOOKUP(A8,'liste des resprésentants'!$A$3:$D$91,2,FALSE) -> DESMARETZ | G8: =VLOOKUP(A8,'liste des resprésentants'!$A$3:$D$91,4,FALSE) -> 1
A9: 26 | B9: 12500 | C9: 26351 | D9: 25630 | F9: =VLOOKUP(A9,'liste des resprésentants'!$A$3:$D$91,2,FALSE) -> DESSAINT | G9: =VLOOKUP(A9,'liste des resprésentants'!$A$3:$D$91,4,FALSE) -> 1
A10: 27 | B10: 14520 | C10: 25630 | D10: 45632 | F10: =VLOOKUP(A10,'liste des resprésentants'!$A$3:$D$91,2,FALSE) -> DIOUANI | G10: =VLOOKUP(A10,'liste des resprésentants'!$A$3:$D$91,4,FALSE) -> 1
A11: 40 | B11: 25630 | C11: 32140 | D11: 25630 | F11: =VLOOKUP(A11,'liste des resprésentants'!$A$3:$D$91,2,FALSE) -> VERHAEGHE | G11: =VLOOKUP(A11,'liste des resprésentants'!$A$3:$D$91,4,FALSE) -> 1
A12: 43 | B12: 45632 | C12: 45630 | D12: 25630 | F12: =VLOOKUP(A12,'liste des resprésentants'!$A$3:$D$91,2,FALSE) -> BRASSART | G12: =VLOOKUP(A12,'liste des resprésentants'!$A$3:$D$91,4,FALSE) -> 1
A13: 47 | B13: 23510 | C13: 12500 | D13: 15203 | F13: =VLOOKUP(A13,'liste des resprésentants'!$A$3:$D$91,2,FALSE) -> DE SOUSSA MONTEREIRO | G13: =VLOOKUP(A13,'liste des resprésentants'!$A$3:$D$91,4,FALSE) -> 1
A14: 50 | B14: 23524 | C14: 14520 | D14: 15632 | F14: =VLOOKUP(A14,'liste des resprésentants'!$A$3:$D$91,2,FALSE) -> EL MARKAI | G14: =VLOOKUP(A14,'liste des resprésentants'!$A$3:$D$91,4,FALSE) -> 1
... A91: 89 | B91: 24153 | C91: 25631 | D91: 25634 | F91: =VLOOKUP(A91,'liste des resprésentants'!$A$3:$D$91,2,FALSE) -> VIARD | G91: =VLOOKUP(A91,'liste des resprésentants'!$A$3:$D$91,4,FALSE) -> 4
