Workbook

Sheet Feuil2
B1: Avec Base résumé > SI;Si;si… | H1: Sans Base résumé
B2: Paul | C2: A | D2: B | F2: OU | H2: Jacques | I2: A | J2: B
B3: Matin | C3: =IF($B$2="Jean",'Base résumé'!C3,IF($B$2="Pierre",'Base résumé'!C6,IF($B$2="Paul",'Base résumé'!C9,IF($B$2="Jacques",'Base résumé'!C12,IF($B$2="Henry",'Base résumé'!C15,"Erreur"))))) -> test1 | D3: =IF($B$2="Jean",'Base résumé'!D3,IF($B$2="Pierre",'Base résumé'!D6,IF($B$2="Paul",'Base résumé'!D9,IF($B$2="Jacques",'Base résumé'!D12,IF($B$2="Henry",'Base résumé'!D15,"Erreur"))))) -> 14 | H3: Matin | I3: =IF($H$2="Jean",Jean!C3,IF($H$2="Pierre",Pierre!C7,IF($H$2="Paul",Paul!C11,IF($H$2="Jacques",Jacques!C15,IF($H$2="Henry",Henry!C19,"Erreur"))))) -> 19 | J3: =IF($H$2="Jean",Jean!D3,IF($H$2="Pierre",Pierre!D7,IF($H$2="Paul",Paul!D11,IF($H$2="Jacques",Jacques!D15,IF($H$2="Henry",Henry!D19,"Erreur"))))) -> 20
B4: Midi | C4: =IF($B$2="Jean",'Base résumé'!C4,IF($B$2="Pierre",'Base résumé'!C7,IF($B$2="Paul",'Base résumé'!C10,IF($B$2="Jacques",'Base résumé'!C13,IF($B$2="Henry",'Base résumé'!C16,"Erreur"))))) -> 15 | D4: =IF($B$2="Jean",'Base résumé'!D4,IF($B$2="Pierre",'Base résumé'!D7,IF($B$2="Paul",'Base résumé'!D10,IF($B$2="Jacques",'Base résumé'!D13,IF($B$2="Henry",'Base résumé'!D16,"Erreur"))))) -> 16 | H4: Midi | I4: =IF($H$2="Jean",Jean!C4,IF($H$2="Pierre",Pierre!C8,IF($H$2="Paul",Paul!C12,IF($H$2="Jacques",Jacques!C16,IF($H$2="Henry",Henry!C20,"Erreur"))))) -> 21 | J4: =IF($H$2="Jean",Jean!D4,IF($H$2="Pierre",Pierre!D8,IF($H$2="Paul",Paul!D12,IF($H$2="Jacques",Jacques!D16,IF($H$2="Henry",Henry!D20,"Erreur"))))) -> test2
B5: Soir | C5: =IF($B$2="Jean",'Base résumé'!C5,IF($B$2="Pierre",'Base résumé'!C8,IF($B$2="Paul",'Base résumé'!C11,IF($B$2="Jacques",'Base résumé'!C14,IF($B$2="Henry",'Base résumé'!C17,"Erreur"))))) -> 17 | D5: =IF($B$2="Jean",'Base résumé'!D5,IF($B$2="Pierre",'Base résumé'!D8,IF($B$2="Paul",'Base résumé'!D11,IF($B$2="Jacques",'Base résumé'!D14,IF($B$2="Henry",'Base résumé'!D17,"Erreur"))))) -> 18 | H5: Soir | I5: =IF($H$2="Jean",Jean!C5,IF($H$2="Pierre",Pierre!C9,IF($H$2="Paul",Paul!C13,IF($H$2="Jacques",Jacques!C17,IF($H$2="Henry",Henry!C21,"Erreur"))))) -> 23 | J5: =IF($H$2="Jean",Jean!D5,IF($H$2="Pierre",Pierre!D9,IF($H$2="Paul",Paul!D13,IF($H$2="Jacques",Jacques!D17,IF($H$2="Henry",Henry!D21,"Erreur"))))) -> 24
B7: Avec Base résumé > RECHERCHEH
B8: Jacques | C8: A | D8: B
B9: Matin | C9: =HLOOKUP($B$8,'Base résumé'!$I$2:$N$11,3,0) -> 19 | D9: =HLOOKUP($B$8,'Base résumé'!$I$2:$N$11,4,0) -> 20
B10: Midi | C10: =HLOOKUP($B$8,'Base résumé'!$I$2:$N$11,6,0) -> 21 | D10: =HLOOKUP($B$8,'Base résumé'!$I$2:$N$11,7,0) -> test2
B11: Soir | C11: =HLOOKUP($B$8,'Base résumé'!$I$2:$N$11,9,0) -> 23 | D11: =HLOOKUP($B$8,'Base résumé'!$I$2:$N$11,10,0) -> 24
B19: J'ai mis deux type de paramétres (A, B ; Matin, Midi, Soir) qui n'ont pas de réel intérêt ici si ce n'est la representation d'au moins deux paramètres pour la création de l'outils
B27: Liste B2
B28: Jean
B29: Pierre
B30: Paul
B31: Jacques
B32: Henry

Sheet Base résumé
C2: A | D2: B | J2: Jean | K2: Pierre | L2: Paul | M2: Jacques | N2: Henry
A3: Jean | B3: Matin | C3: =Jean!C3 -> 1 | D3: =Jean!D3 -> 2 | J3: Matin | K3: Matin | L3: Matin | M3: Matin | N3: Matin
B4: Midi | C4: =Jean!C4 -> 3 | D4: =Jean!D4 -> 4 | I4: A | J4: =Jean!C3 -> 1 | K4: =Pierre!C7 -> 7 | L4: =Paul!C11 -> test1 | M4: =Jacques!C15 -> 19 | N4: =Henry!C19 -> 25
B5: Soir | C5: =Jean!C5 -> 5 | D5: =Jean!D5 -> 6 | I5: B | J5: =Jean!D3 -> 2 | K5: =Pierre!D7 -> 8 | L5: =Paul!D11 -> 14 | M5: =Jacques!D15 -> 20 | N5: =Henry!D19 -> 26
A6: Pierre | B6: Matin | C6: =Pierre!C7 -> 7 | D6: =Pierre!D7 -> 8 | J6: Midi | K6: Midi | L6: Midi | M6: Midi | N6: Midi
B7: Midi | C7: =Pierre!C8 -> 9 | D7: =Pierre!D8 -> 10 | I7: A | J7: =Jean!C4 -> 3 | K7: =Pierre!C8 -> 9 | L7: =Paul!C12 -> 15 | M7: =Jacques!C16 -> 21 | N7: =Henry!C20 -> 27
B8: Soir | C8: =Pierre!C9 -> 11 | D8: =Pierre!D9 -> 12 | I8: B | J8: =Jean!D4 -> 4 | K8: =Pierre!D8 -> 10 | L8: =Paul!D12 -> 16 | M8: =Jacques!D16 -> test2 | N8: =Henry!D20 -> 28
A9: Paul | B9: Matin | C9: =Paul!C11 -> test1 | D9: =Paul!D11 -> 14 | J9: Soir | K9: Soir | L9: Soir | M9: Soir | N9: Soir
B10: Midi | C10: =Paul!C12 -> 15 | D10: =Paul!D12 -> 16 | I10: A | J10: =Jean!C5 -> 5 | K10: =Pierre!C9 -> 11 | L10: =Paul!C13 -> 17 | M10: =Jacques!C17 -> 23 | N10: =Henry!C21 -> 29
B11: Soir | C11: =Paul!C13 -> 17 | D11: =Paul!D13 -> 18 | I11: B | J11: =Jean!D5 -> 6 | K11: =Pierre!D9 -> 12 | L11: =Paul!D13 -> 18 | M11: =Jacques!D17 -> 24 | N11: =Henry!D21 -> 30
A12: Jacques | B12: Matin | C12: =Jacques!C15 -> 19 | D12: =Jacques!D15 -> 20
B13: Midi | C13: =Jacques!C16 -> 21 | D13: =Jacques!D16 -> test2
B14: Soir | C14: =Jacques!C17 -> 23 | D14: =Jacques!D17 -> 24
A15: Henry | B15: Matin | C15: =Henry!C19 -> 25 | D15: =Henry!D19 -> 26
B16: Midi | C16: =Henry!C20 -> 27 | D16: =Henry!D20 -> 28
B17: Soir | C17: =Henry!C21 -> 29 | D17: =Henry!D21 -> 30

Sheet Jean
B2: 1 | C2: A | D2: B
B3: Matin | C3: 1 | D3: 2
B4: Midi | C4: 3 | D4: 4
B5: Soir | C5: 5 | D5: 6

Sheet Pierre
B6: 2 | C6: A | D6: B
B7: Matin | C7: 7 | D7: 8
B8: Midi | C8: 9 | D8: 10
B9: Soir | C9: 11 | D9: 12

Sheet Paul
B10: 3 | C10: A | D10: B
B11: Matin | C11: test1 | D11: 14
B12: Midi | C12: 15 | D12: 16
B13: Soir | C13: 17 | D13: 18

Sheet Jacques
B14: 4 | C14: A | D14: B
B15: Matin | C15: 19 | D15: 20
B16: Midi | C16: 21 | D16: test2
B17: Soir | C17: 23 | D17: 24

Sheet Henry
B18: 5 | C18: A | D18: B
B19: Matin | C19: 25 | D19: 26
B20: Midi | C20: 27 | D20: 28
B21: Soir | C21: 29 | D21: 30
