Workbook

Sheet tableau
B5: TABLEAU RECAPITULATIF RETARDS
B9: Date | D9: Total | M9: Secteur 1 | V9: Secteur 2 | AE9: Secteur 3 | AN9: Secteur 4
D10: =+M10 -> Tot | E10: =+N10 -> P | F10: =+O10 -> RP | G10: =+P10 -> S | H10: =+Q10 -> RS | I10: =+R10 -> B | J10: =+S10 -> RB | K10: =+T10 -> T | L10: =+U10 -> H | M10: Tot | N10: P | O10: RP | P10: S | Q10: RS | R10: B | S10: RB | T10: T | U10: H | V10: Tot | W10: P | X10: RP | Y10: S | Z10: RS | AA10: B | AB10: RB | AC10: T | AD10: H | AE10: Tot | AF10: P | AG10: RP | AH10: S | AI10: RS | AJ10: B | AK10: RB | AL10: T | AM10: H | AN10: Tot | AO10: P | AP10: RP | AQ10: S | AR10: RS | AS10: B | AT10: RB | AU10: T | AV10: H
B11: 43164 | C11: Retards | D11: =+M11+V11+AE11+AN11 -> 515 | E11: =+N11+W11+AF11+AO11 -> 188 | F11: =+O11+X11+AG11+AP11 -> 22 | G11: =+P11+Y11+AH11+AQ11 -> 124 | H11: =+Q11+Z11+AI11+AR11 -> 6 | I11: =+R11+AA11+AJ11+AS11 -> 15 | J11: =+S11+AB11+AK11+AT11 -> 17 | K11: =+T11+AC11+AL11+AU11 -> 68 | L11: =+U11+AD11+AM11+AV11 -> 75 | M11: =+SUM(N11:U11) -> 47 | N11: =GETPIVOTDATA("commandes",'pivot table'!$A$3,"Division","P","Secteur",1) -> 18 | O11: =GETPIVOTDATA("commandes",'pivot table'!$A$3,"Division","RP","Secteur",1) -> 6 | P11: =GETPIVOTDATA("commandes",'pivot table'!$A$3,"Division","S","Secteur",1) -> 2 | Q11: =GETPIVOTDATA("commandes",'pivot table'!$A$3,"Division","RS","Secteur",1) -> 2 | R11: =GETPIVOTDATA("commandes",'pivot table'!$A$3,"Division","B","Secteur",1) -> 0 | S11: =GETPIVOTDATA("commandes",'pivot table'!$A$3,"Division","RB","Secteur",1) -> 6 | T11: =GETPIVOTDATA("commandes",'pivot table'!$A$3,"Division","T","Secteur",1) -> 0 | U11: =GETPIVOTDATA("commandes",'pivot table'!$A$3,"Division","H","Secteur",1) -> 13 | V11: =+SUM(W11:AD11) -> 94 | W11: =GETPIVOTDATA("commandes",'pivot table'!$A$3,"Division","P","Secteur",2) -> 24 | X11: =GETPIVOTDATA("commandes",'pivot table'!$A$3,"Division","RP","Secteur",2) -> 6 | Y11: =GETPIVOTDATA("commandes",'pivot table'!$A$3,"Division","S","Secteur",2) -> 20 | Z11: =GETPIVOTDATA("commandes",'pivot table'!$A$3,"Division","RS","Secteur",2) -> 0 | AA11: =GETPIVOTDATA("commandes",'pivot table'!$A$3,"Division","B","Secteur",2) -> 0 | AB11: =GETPIVOTDATA("commandes",'pivot table'!$A$3,"Division","RB","Secteur",2) -> 1 | AC11: =GETPIVOTDATA("commandes",'pivot table'!$A$3,"Division","T","Secteur",2) -> 2 | AD11: =GETPIVOTDATA("commandes",'pivot table'!$A$3,"Division","H","Secteur",2) -> 41 | AE11: =+SUM(AF11:AM11) -> 310 | AF11: =GETPIVOTDATA("commandes",'pivot table'!$A$3,"Division","P","Secteur",3) -> 134 | AG11: =GETPIVOTDATA("commandes",'pivot table'!$A$3,"Division","RP","Secteur",3) -> 8 | AH11: =GETPIVOTDATA("commandes",'pivot table'!$A$3,"Division","S","Secteur",3) -> 98 | AI11: =GETPIVOTDATA("commandes",'pivot table'!$A$3,"Division","RS","Secteur",3) -> 4 | AJ11: =GETPIVOTDATA("commandes",'pivot table'!$A$3,"Division","B","Secteur",3) -> 6 | AK11: =GETPIVOTDATA("commandes",'pivot table'!$A$3,"Division","RB","Secteur",3) -> 2 | AL11: =GETPIVOTDATA("commandes",'pivot table'!$A$3,"Division","T","Secteur",3) -> 48 | AM11: =GETPIVOTDATA("commandes",'pivot table'!$A$3,"Division","H","Secteur",3) -> 10 | AN11: =+SUM(AO11:AV11) -> 64 | AO11: =GETPIVOTDATA("commandes",'pivot table'!$A$3,"Division","P","Secteur",4) -> 12 | AP11: =GETPIVOTDATA("commandes",'pivot table'!$A$3,"Division","RP","Secteur",4) -> 2 | AQ11: =GETPIVOTDATA("commandes",'pivot table'!$A$3,"Division","S","Secteur",4) -> 4 | AR11: =GETPIVOTDATA("commandes",'pivot table'!$A$3,"Division","RS","Secteur",4) -> 0 | AS11: =GETPIVOTDATA("commandes",'pivot table'!$A$3,"Division","B","Secteur",4) -> 9 | AT11: =GETPIVOTDATA("commandes",'pivot table'!$A$3,"Division","RB","Secteur",4) -> 8 | AU11: =GETPIVOTDATA("commandes",'pivot table'!$A$3,"Division","T","Secteur",4) -> 18 | AV11: =GETPIVOTDATA("commandes",'pivot table'!$A$3,"Division","H","Secteur",4) -> 11

Sheet pivot table
A3: Nombre de commandes | C3: Division
A4: Secteur | B4: Work Center | C4: P | D4: RP | E4: S | F4: RS | G4: B | H4: RB | I4: T | J4: H | K4: (vide) | L4: Total Retards
A5: 1 | B5: FRIT MON | C5: 6 | D5: 3 | H5: 4 | J5: 3 | L5: 16
B6: P ELECT | J6: 2 | L6: 2
B7: P ROBOTS | C7: 12 | D7: 3 | L7: 15
B8: PB L 400 | J8: 4 | L8: 4
B9: PS FHD | F9: 2 | L9: 2
B10: S EP 70 | H10: 2 | L10: 2
B11: S TPA 20 | E11: 2 | L11: 2
B12: S TPA 30 | J12: 3 | L12: 3
B13: S TPA 50 | J13: 1 | L13: 1
A14: Total Retards Secteur 1 | C14: 18 | D14: 6 | E14: 2 | F14: 2 | H14: 6 | J14: 13 | L14: 47
A15: 2 | B15: A CON FI | I15: 2 | L15: 2
B16: CON REDR | C16: 4 | J16: 6 | L16: 10
B17: CONT INT | C17: 2 | L17: 2
B18: CONT MET | C18: 8 | D18: 6 | E18: 20 | H18: 1 | J18: 15 | L18: 50
B19: FRIT DEB | C19: 8 | J19: 16 | L19: 24
B20: FRITTAGE | J20: 4 | L20: 4
B21: SABLAGE | C21: 2 | L21: 2
A22: Total Retards Secteur 2 | C22: 24 | D22: 6 | E22: 20 | H22: 1 | I22: 2 | J22: 41 | L22: 94
A23: 3 | B23: DA TRIAG | C23: 4 | E23: 2 | I23: 22 | L23: 28
B24: ENVOI KE | C24: 2 | D24: 2 | E24: 2 | L24: 6
B25: M EN STO | F25: 2 | L25: 2
B26: TS CAMLO | E26: 13 | L26: 13
B27: TS CONT | C27: 4 | E27: 10 | I27: 2 | L27: 16
B28: TS DA | I28: 4 | L28: 4
B29: TS FHD8 | G29: 2 | H29: 2 | I29: 2 | L29: 6
B30: TS GA MT | C30: 6 | E30: 3 | G30: 2 | I30: 6 | L30: 17
B31: TS GALVA | C31: 8 | E31: 4 | J31: 1 | L31: 13
B32: TS LVZ01 | C32: 2 | L32: 2
B33: TS LVZ23 | C33: 2 | E33: 2 | I33: 2 | L33: 6
B34: TS MINOR | C34: 2 | E34: 10 | L34: 12
B35: TS MPFT | I35: 4 | L35: 4
B36: TS SABLA | C36: 4 | D36: 2 | E36: 6 | J36: 5 | L36: 17
B37: TS TISOM | C37: 7 | E37: 6 | J37: 2 | L37: 15
B38: TS TO AC | G38: 2 | L38: 2
B39: TS TO MT | C39: 4 | D39: 2 | E39: 2 | L39: 8
B40: TS TONNE | C40: 2 | E40: 12 | F40: 2 | L40: 16
B41: TS TR MT | I41: 2 | L41: 2
B42: TS TRIAG | C42: 87 | D42: 2 | E42: 26 | I42: 4 | J42: 2 | L42: 121
...

Sheet Feuil1
B2: Work Center | C2: Secteur
B3: A CON FI | C3: 2
B4: CON REDR | C4: 2
B5: CONT INT | C5: 2
B6: CONT MET | C6: 2
B7: D REC MA | C7: 4
B8: DA TRIAG | C8: 3
B9: ENVOI KE | C9: 3
B10: F MAC BL | C10: 4
B11: FRIT DEB | C11: 2
B12: FRIT MON | C12: 1
B13: FRITTAGE | C13: 2
B14: H REC PL | C14: 4
... B43: U VIOTTO | C43: 4

Sheet commandes
A1: Colonne1 | B1: commandes | C1: Work Center | D1: Division | E1: Colonne2 | F1: Colonne3 | G1: Colonne4 | H1: Colonne5 | I1: Colonne6 | J1: Colonne7 | K1: Colonne8 | L1: Colonne9 | M1: Colonne10 | N1: Colonne11 | O1: Colonne12 | P1: Secteur
A2: 1 | B2: 9529785 | C2: ENVOI KE | D2: RP | E2: 43102 | F2: 12069554 | G2: 50973- 8.5X 3.7X2.6 TS90 KCR10 | H2: 10000 | J2: 43164 | K2: 0 | L2: 9.943 | M2: 9000 | N2: 6 | O2: 9.601 | P2: =VLOOKUP(C2,Tableau1[],2,FALSE) -> 3
A3: 1 | B3: 9577180 | C3: TS TO MT | D3: RP | E3: 43102 | F3: 11869098 | G3: 51960- 6.0X4.5X2.0 TS43 KCR05 | H3: 13000 | J3: 43158 | K3: 0 | L3: 10.511 | M3: 1600 | N3: 6 | O3: 11.157 | P3: =VLOOKUP(C3,Tableau1[],2,FALSE) -> 3
A4: 1 | B4: 9602697 | C4: CONT MET | D4: RP | E4: 43104 | F4: 11843393 | G4: 51964-10.5X5.5X3.0 TS43 KCR05 | H4: 5000 | J4: 43164 | K4: 0 | L4: 12.815 | M4: 0350 | N4: 6 | O4: 14.654 | P4: =VLOOKUP(C4,Tableau1[],2,FALSE) -> 2
A5: 1 | B5: 9505018 | C5: TS GA MT | D5: P | E5: 43111 | F5: 11523876 | G5: 51220 FALCON 35.0 TSN CTM17-BC | H5: 5000 | J5: 43160 | K5: 0 | L5: 189.284 | M5: 1900 | N5: 6 | O5: 177.23 | P5: =VLOOKUP(commandes!C5,Tableau1[],2,FALSE) -> 3
A6: 1 | B6: 9508013 | C6: ST GENER | D6: B | E6: 43112 | F6: 11733205 | G6: CTBA SI 2.31 GR TSN MG18 | H6: 500000 | J6: 43122 | K6: 0 | L6: 51.555 | M6: 1700 | N6: 6 | O6: 52.48 | P6: =VLOOKUP(commandes!C6,Tableau1[],2,FALSE) -> 4
A7: 1 | B7: 9480757 | C7: TS GA MT | D7: B | E7: 43117 | F7: 11733205 | G7: CTBA SI 2.31 GR TSN MG18 | H7: 525000 | J7: 43160 | K7: 7.4 | L7: 54.133 | M7: 1900 | N7: 6 | O7: 51.479 | P7: =VLOOKUP(commandes!C7,Tableau1[],2,FALSE) -> 3
A8: 1 | B8: 9508016 | C8: ST GENER | D8: B | F8: 11733205 | G8: CTBA SI 2.31 GR TSN MG18 | H8: 500000 | J8: 43119 | K8: 0 | L8: 51.555 | M8: 1700 | N8: 6 | O8: 60.488 | P8: =VLOOKUP(commandes!C8,Tableau1[],2,FALSE) -> 4
A9: 1 | B9: 9577088 | C9: CONT MET | D9: RP | E9: 43117 | F9: 11869019 | G9: 51960- 6.0X2.4X2.0 TS43 KCR05 | H9: 12000 | J9: 43161 | K9: 0 | L9: 5.166 | M9: 0500 | N9: 6 | O9: 6.318 | P9: =VLOOKUP(commandes!C9,Tableau1[],2,FALSE) -> 2
A10: 1 | B10: 9529726 | C10: TS GA MT | D10: T | E10: 43119 | F10: 11725675 | G10: CTBA ST 2.15 TO4 TSN19 CTS18D | H10: 1711445 | J10: 43150 | K10: 49.66 | L10: 136.573 | M10: 1900 | N10: 6 | O10: 136.573 | P10: =VLOOKUP(commandes!C10,Tableau1[],2,FALSE) -> 3
A11: 1 | B11: 9506462 | C11: TS LVZ23 | D11: S | E11: 43122 | F11: 12272351 | G11: WD 7150 PT KCR06 | H11: 4400 | J11: 43111 | K11: 9.06 | L11: 4.851 | M11: 3000 | N11: 6 | O11: 4.618 | P11: =VLOOKUP(commandes!C11,Tableau1[],2,FALSE) -> 3
A12: 1 | B12: 9501703 | C12: TS CONT | D12: S | E12: 43124 | F12: 12158830 | G12: WFC 7150 DPT GC32 | H12: 40000 | J12: 43164 | K12: 0 | L12: 85.89 | M12: 3300 | N12: 6 | O12: 77.772 | P12: =VLOOKUP(commandes!C12,Tableau1[],2,FALSE) -> 3
A13: 1 | B13: 9593962 | C13: M EN STO | D13: RS | E13: 43124 | F13: 6228641 | G13: DST R 0250-0195 TSX CTS20L | H13: 170000 | J13: 43164 | K13: 0 | L13: 26.24 | M13: 9000 | N13: 6 | O13: -1.265 | P13: =VLOOKUP(commandes!C13,Tableau1[],2,FALSE) -> 3
A14: 1 | B14: 9524408 | C14: TS FHD8 | D14: T | E14: 43129 | F14: 11725675 | G14: CTBA ST 2.15 TO4 TSN19 CTS18D | H14: 1788900 | J14: 43164 | K14: 0 | L14: 142.754 | M14: 2000 | N14: 6 | O14: 142.754 | P14: =VLOOKUP(commandes!C14,Tableau1[],2,FALSE) -> 3
A15: 1 | B15: 9594490 | C15: TS TRIAG | D15: RP | E15: 43129 | F15: 12287861 | G15: 51180-6.0 TSX GW14 Dcutmax Dia6.40-6.45 | H15: 500 | J15: 43161 | K15: 0 | L15: 0.442 | M15: 2100 | N15: 6 | O15: 0.479 | P15: =VLOOKUP(commandes!C15,Tableau1[],2,FALSE) -> 3
A16: 1 | B16: 9461466 | C16: ST GENER | D16: T | E16: 43130 | F16: 11915958 | G16: TERSAMESSER*1050-1055x10.6x2.3 CTOPP10 | H16: 982 | J16: 43129 | K16: 0 | L16: 235.68 | M16: 1230 | N16: 6 | O16: 243.439 | P16: =VLOOKUP(commandes!C16,Tableau1[],2,FALSE) -> 4
A17: 1 | B17: 9592564 | C17: PS FHD | D17: RS | E17: 43130 | F17: 12241103 | G17: DST R 0152-0412 (DET38-B) SB TSUS CTS20L | H17: 300000 | J17: 43154 | K17: 0 | L17: 36.54 | M17: 0300 | N17: 6 | O17: 38.01 | P17: =VLOOKUP(commandes!C17,Tableau1[],2,FALSE) -> 1
A18: 1 | B18: 9514292 | C18: S TPA 20 | D18: S | E18: 43133 | F18: 80359288 | G18: CTDT Ø08.0 LE TS8 MG18 CMT | H18: 1600 | J18: 43090 | K18: 0 | L18: 7.401 | M18: 0100 | N18: 6 | O18: -0.104 | P18: =VLOOKUP(commandes!C18,Tableau1[],2,FALSE) -> 1
A19: 1 | B19: 9461471 | C19: D REC MA | D19: T | E19: 43136 | F19: 11915958 | G19: TERSAMESSER*1050-1055x10.6x2.3 CTOPP10 | H19: 1000 | K19: 0 | L19: 252 | M19: 0010 | N19: 6 | O19: 0 | P19: =VLOOKUP(commandes!C19,Tableau1[],2,FALSE) -> 4
A20: 1 | B20: 9530001 | C20: TS LVZ23 | D20: P | F20: 12289746 | G20: WECV 7230 PT GC32 | H20: 3000 | J20: 43117 | K20: 6.34 | L20: 4.832 | M20: 3000 | N20: 6 | O20: 6.199 | P20: =VLOOKUP(commandes!C20,Tableau1[],2,FALSE) -> 3
A21: 1 | B21: 9550407 | C21: TS GALVA | D21: S | E21: 43136 | F21: 11738798 | G21: 51729-10.0 TSX CTF12-BC | H21: 15000 | J21: 43152 | K21: 0 | L21: 25.83 | M21: 1900 | N21: 6 | O21: 26.69 | P21: =VLOOKUP(commandes!C21,Tableau1[],2,FALSE) -> 3
A22: 1 | B22: 9591504 | C22: TS TONNE | D22: RS | E22: 43137 | F22: 6104039 | G22: DFR 4,80 x 4,13 mm KUD TSX CTF12E | H22: 10000 | J22: 43164 | K22: 0 | L22: 9.261 | M22: 1500 | N22: 6 | O22: -0.743 | P22: =VLOOKUP(commandes!C22,Tableau1[],2,FALSE) -> 3
A23: 1 | B23: 9535156 | C23: TS TRIAG | D23: P | E23: 43138 | F23: 11869099 | G23: 60088- 6.5X 6.5X2.0 TS43 KCR05 | H23: 10000 | J23: 43159 | K23: 0 | L23: 12.926 | M23: 2100 | N23: 6 | O23: 11.972 | P23: =VLOOKUP(commandes!C23,Tableau1[],2,FALSE) -> 3
A24: 1 | B24: 9505088 | C24: CONT MET | D24: P | E24: 43139 | F24: 6209844 | G24: §*073.689 E CTF08E | H24: 1500 | J24: 43164 | K24: 0 | L24: 3.882 | M24: 0500 | N24: 6 | O24: 5.04 | P24: =VLOOKUP(commandes!C24,Tableau1[],2,FALSE) -> 2
A25: 1 | B25: 9535113 | C25: TS TO MT | D25: P | F25: 11843391 | G25: 51962- 8.0X4.5X2.5 TS43 KCR05 | H25: 34000 | J25: 43160 | K25: 0 | L25: 42.84 | M25: 1600 | N25: 6 | O25: 42.496 | P25: =VLOOKUP(commandes!C25,Tableau1[],2,FALSE) -> 3
A26: 1 | B26: 9535144 | C26: TS TO MT | D26: P | F26: 11852509 | G26: 51962- 8.0X3.4X2.5 TS43 KCR05 | H26: 30000 | J26: 43161 | K26: 0 | L26: 29.295 | M26: 1600 | N26: 6 | O26: 28.522 | P26: =VLOOKUP(commandes!C26,Tableau1[],2,FALSE) -> 3
A27: 1 | B27: 9561609 | C27: TS SABLA | D27: S | E27: 43139 | F27: 11738790 | G27: 51729- 7.0 TSX CTF12-BC | H27: 12000 | J27: 43154 | K27: 0 | L27: 9.589 | M27: 1700 | N27: 6 | O27: 10.005 | P27: =VLOOKUP(commandes!C27,Tableau1[],2,FALSE) -> 3
A28: 1 | B28: 9527973 | C28: ST GENER | D28: T | E28: 43140 | F28: 12156749 | G28: CTK CP Ø3.0x33.5 KCR18+ | H28: 165 | J28: 43154 | K28: 0 | L28: 0.483 | M28: 0030 | N28: 6 | O28: 0.531 | P28: =VLOOKUP(commandes!C28,Tableau1[],2,FALSE) -> 4
A29: 1 | B29: 9550033 | C29: TS TRIAG | D29: P | F29: 80050671 | G29: CTDD Ø 8.0 LE HC35 | H29: 15000 | J29: 43160 | K29: 0 | L29: 33.894 | M29: 2100 | N29: 6 | O29: 17.042 | P29: =VLOOKUP(commandes!C29,Tableau1[],2,FALSE) -> 3
A30: 1 | B30: 9555062 | C30: TS GA MT | D30: T | E30: 43140 | F30: 11482059 | G30: CTBA ST 2.03 TO4 TSN19 CTS18D | H30: 1281660 | J30: 43161 | K30: 10.68 | L30: 86.128 | M30: 1900 | N30: 6 | O30: 86.128 | P30: =VLOOKUP(commandes!C30,Tableau1[],2,FALSE) -> 3
A31: 1 | B31: 9412254 | C31: P ROBOTS | D31: P | E31: 43143 | F31: 12124726 | G31: 60701-30.8x3.0x1.0 R37.5 TS8 KCR05+ | H31: 40000 | K31: 88 | L31: 58.59 | M31: 0100 | N31: 6 | O31: 0 | P31: =VLOOKUP(commandes!C31,Tableau1[],2,FALSE) -> 1
A32: 1 | B32: 9461472 | C32: D REC MA | D32: T | F32: 11915958 | G32: TERSAMESSER*1050-1055x10.6x2.3 CTOPP10 | H32: 476 | K32: 0 | L32: 120 | M32: 0010 | N32: 6 | O32: 0 | P32: =VLOOKUP(commandes!C32,Tableau1[],2,FALSE) -> 4
A33: 1 | B33: 9524424 | C33: ST GENER | D33: B | F33: 11733205 | G33: CTBA SI 2.31 GR TSN MG18 | H33: 500000 | J33: 43122 | K33: 0 | L33: 51.555 | M33: 1700 | N33: 6 | O33: 51.305 | P33: =VLOOKUP(commandes!C33,Tableau1[],2,FALSE) -> 4
A34: 1 | B34: 9525848 | C34: TS TRIAG | D34: P | F34: 11523894 | G34: 51220 FALCON 45.0 TSN CTM17-BC | H34: 1000 | J34: 43161 | K34: 0 | L34: 79.594 | M34: 2100 | N34: 6 | O34: 82.097 | P34: =VLOOKUP(commandes!C34,Tableau1[],2,FALSE) -> 3
A35: 1 | B35: 9550402 | C35: TS SABLA | D35: S | F35: 11738792 | G35: 51729- 8.0 TSX CTF12-BC | H35: 20000 | J35: 43154 | K35: 0 | L35: 21.819 | M35: 1700 | N35: 6 | O35: 22.673 | P35: =VLOOKUP(commandes!C35,Tableau1[],2,FALSE) -> 3
A36: 1 | B36: 9559969 | C36: TS SABLA | D36: P | F36: 12124726 | G36: 60701-30.8x3.0x1.0 R37.5 TS8 KCR05+ | H36: 26142 | J36: 43164 | K36: 0 | L36: 38.293 | M36: 1700 | N36: 6 | O36: 66.488 | P36: =VLOOKUP(commandes!C36,Tableau1[],2,FALSE) -> 3
A37: 1 | B37: 9561867 | C37: ENVOI KE | D37: S | E37: 43143 | F37: 6230848 | G37: 23918/3- 2.5X 8.0 TS42 HC20 | H37: 30000 | J37: 43164 | K37: 0 | L37: 16.38 | M37: 9000 | N37: 6 | O37: 17.704 | P37: =VLOOKUP(commandes!C37,Tableau1[],2,FALSE) -> 3
A38: 1 | B38: 9558430 | C38: TS TRIAG | D38: P | E38: 43144 | F38: 11339989 | G38: 50809-12.5X7.2X4.0 TS8 CTF24-BC | H38: 5000 | J38: 43160 | K38: 0 | L38: 21.052 | M38: 2100 | N38: 6 | O38: 19.101 | P38: =VLOOKUP(commandes!C38,Tableau1[],2,FALSE) -> 3
A39: 1 | B39: 9562692 | C39: TS CONT | D39: P | E39: 43144 | F39: 11948717 | G39: 10975- 8.5X 2.8X2.5 TS90 KCR05+ | H39: 6000 | J39: 43159 | K39: 0 | L39: 4.561 | M39: 2200 | N39: 6 | O39: 4.948 | P39: =VLOOKUP(commandes!C39,Tableau1[],2,FALSE) -> 3
A40: 1 | B40: 9478794 | C40: P ROBOTS | D40: P | E40: 43145 | F40: 12156914 | G40: 60701-25.8x3.0x1.0 R37.5 V2 TS8 KCR05+ | H40: 40000 | J40: 43157 | K40: 0 | L40: 49.77 | M40: 0100 | N40: 6 | O40: 48.19 | P40: =VLOOKUP(commandes!C40,Tableau1[],2,FALSE) -> 1
...
