Workbook

Sheet tableau
B5: TABLEAU RECAPITULATIF RETARDS
B9: Date | D9: Total | M9: Secteur 1 | V9: Secteur 2 | AE9: Secteur 3 | AN9: Secteur 4
D10: =+M10 -> Tot | E10: =+N10 -> P | F10: =+O10 -> RP | G10: =+P10 -> S | H10: =+Q10 -> RS | I10: =+R10 -> B | J10: =+S10 -> RB | K10: =+T10 -> T | L10: =+U10 -> H | M10: Tot | N10: P | O10: RP | P10: S | Q10: RS | R10: B | S10: RB | T10: T | U10: H | V10: Tot | W10: P | X10: RP | Y10: S | Z10: RS | AA10: B | AB10: RB | AC10: T | AD10: H | AE10: Tot | AF10: P | AG10: RP | AH10: S | AI10: RS | AJ10: B | AK10: RB | AL10: T | AM10: H | AN10: Tot | AO10: P | AP10: RP | AQ10: S | AR10: RS | AS10: B | AT10: RB | AU10: T | AV10: H
B11: 43164 | C11: Retards | D11: =+M11+V11+AE11+AN11 -> 515 | E11: =+N11+W11+AF11+AO11 -> 188 | F11: =+O11+X11+AG11+AP11 -> 22 | G11: =+P11+Y11+AH11+AQ11 -> 124 | H11: =+Q11+Z11+AI11+AR11 -> 6 | I11: =+R11+AA11+AJ11+AS11 -> 15 | J11: =+S11+AB11+AK11+AT11 -> 17 | K11: =+T11+AC11+AL11+AU11 -> 68 | L11: =+U11+AD11+AM11+AV11 -> 75 | M11: =+SUM(N11:U11) -> 47 | N11: =GETPIVOTDATA("commandes",'pivot table'!$A$3,"Division","P","Secteur",1) -> 18 | O11: =GETPIVOTDATA("commandes",'pivot table'!$A$3,"Division","RP","Secteur",1) -> 6 | P11: =GETPIVOTDATA("commandes",'pivot table'!$A$3,"Division","S","Secteur",1) -> 2 | Q11: =GETPIVOTDATA("commandes",'pivot table'!$A$3,"Division","RS","Secteur",1) -> 2 | R11: =GETPIVOTDATA("commandes",'pivot table'!$A$3,"Division","B","Secteur",1) -> 0 | S11: =GETPIVOTDATA("commandes",'pivot table'!$A$3,"Division","RB","Secteur",1) -> 6 | T11: =GETPIVOTDATA("commandes",'pivot table'!$A$3,"Division","T","Secteur",1) -> 0 | U11: =GETPIVOTDATA("commandes",'pivot table'!$A$3,"Division","H","Secteur",1) -> 13 | V11: =+SUM(W11:AD11) -> 94 | W11: =GETPIVOTDATA("commandes",'pivot table'!$A$3,"Division","P","Secteur",2) -> 24 | X11: =GETPIVOTDATA("commandes",'pivot table'!$A$3,"Division","RP","Secteur",2) -> 6 | Y11: =GETPIVOTDATA("commandes",'pivot table'!$A$3,"Division","S","Secteur",2) -> 20 | Z11: =GETPIVOTDATA("commandes",'pivot table'!$A$3,"Division","RS","Secteur",2) -> 0 | AA11: =GETPIVOTDATA("commandes",'pivot table'!$A$3,"Division","B","Secteur",2) -> 0 | AB11: =GETPIVOTDATA("commandes",'pivot table'!$A$3,"Division","RB","Secteur",2) -> 1 | AC11: =GETPIVOTDATA("commandes",'pivot table'!$A$3,"Division","T","Secteur",2) -> 2 | AD11: =GETPIVOTDATA("commandes",'pivot table'!$A$3,"Division","H","Secteur",2) -> 41 | AE11: =+SUM(AF11:AM11) -> 310 | AF11: =GETPIVOTDATA("commandes",'pivot table'!$A$3,"Division","P","Secteur",3) -> 134 | AG11: =GETPIVOTDATA("commandes",'pivot table'!$A$3,"Division","RP","Secteur",3) -> 8 | AH11: =GETPIVOTDATA("commandes",'pivot table'!$A$3,"Division","S","Secteur",3) -> 98 | AI11: =GETPIVOTDATA("commandes",'pivot table'!$A$3,"Division","RS","Secteur",3) -> 4 | AJ11: =GETPIVOTDATA("commandes",'pivot table'!$A$3,"Division","B","Secteur",3) -> 6 | AK11: =GETPIVOTDATA("commandes",'pivot table'!$A$3,"Division","RB","Secteur",3) -> 2 | AL11: =GETPIVOTDATA("commandes",'pivot table'!$A$3,"Division","T","Secteur",3) -> 48 | AM11: =GETPIVOTDATA("commandes",'pivot table'!$A$3,"Division","H","Secteur",3) -> 10 | AN11: =+SUM(AO11:AV11) -> 64 | AO11: =GETPIVOTDATA("commandes",'pivot table'!$A$3,"Division","P","Secteur",4) -> 12 | AP11: =GETPIVOTDATA("commandes",'pivot table'!$A$3,"Division","RP","Secteur",4) -> 2 | AQ11: =GETPIVOTDATA("commandes",'pivot table'!$A$3,"Division","S","Secteur",4) -> 4 | AR11: =GETPIVOTDATA("commandes",'pivot table'!$A$3,"Division","RS","Secteur",4) -> 0 | AS11: =GETPIVOTDATA("commandes",'pivot table'!$A$3,"Division","B","Secteur",4) -> 9 | AT11: =GETPIVOTDATA("commandes",'pivot table'!$A$3,"Division","RB","Secteur",4) -> 8 | AU11: =GETPIVOTDATA("commandes",'pivot table'!$A$3,"Division","T","Secteur",4) -> 18 | AV11: =GETPIVOTDATA("commandes",'pivot table'!$A$3,"Division","H","Secteur",4) -> 11

Sheet pivot table
A3: Nombre de commandes | C3: Division
A4: Secteur | B4: Work Center | C4: P | D4: RP | E4: S | F4: RS | G4: B | H4: RB | I4: T | J4: H | K4: (vide) | L4: Total Retards
A5: 1 | B5: FRIT MON | C5: 6 | D5: 3 | H5: 4 | J5: 3 | L5: 16
B6: P ELECT | J6: 2 | L6: 2
B7: P ROBOTS | C7: 12 | D7: 3 | L7: 15
B8: PB L 400 | J8: 4 | L8: 4
B9: PS FHD | F9: 2 | L9: 2
B10: S EP 70 | H10: 2 | L10: 2
B11: S TPA 20 | E11: 2 | L11: 2
B12: S TPA 30 | J12: 3 | L12: 3
B13: S TPA 50 | J13: 1 | L13: 1
A14: Total Retards Secteur 1 | C14: 18 | D14: 6 | E14: 2 | F14: 2 | H14: 6 | J14: 13 | L14: 47
A15: 2 | B15: A CON FI | I15: 2 | L15: 2
B16: CON REDR | C16: 4 | J16: 6 | L16: 10
B17: CONT INT | C17: 2 | L17: 2
B18: CONT MET | C18: 8 | D18: 6 | E18: 20 | H18: 1 | J18: 15 | L18: 50
B19: FRIT DEB | C19: 8 | J19: 16 | L19: 24
B20: FRITTAGE | J20: 4 | L20: 4
B21: SABLAGE | C21: 2 | L21: 2
A22: Total Retards Secteur 2 | C22: 24 | D22: 6 | E22: 20 | H22: 1 | I22: 2 | J22: 41 | L22: 94
A23: 3 | B23: DA TRIAG | C23: 4 | E23: 2 | I23: 22 | L23: 28
B24: ENVOI KE | C24: 2 | D24: 2 | E24: 2 | L24: 6
B25: M EN STO | F25: 2 | L25: 2
B26: TS CAMLO | E26: 13 | L26: 13
B27: TS CONT | C27: 4 | E27: 10 | I27: 2 | L27: 16
B28: TS DA | I28: 4 | L28: 4
B29: TS FHD8 | G29: 2 | H29: 2 | I29: 2 | L29: 6
B30: TS GA MT | C30: 6 | E30: 3 | G30: 2 | I30: 6 | L30: 17
B31: TS GALVA | C31: 8 | E31: 4 | J31: 1 | L31: 13
B32: TS LVZ01 | C32: 2 | L32: 2
B33: TS LVZ23 | C33: 2 | E33: 2 | I33: 2 | L33: 6
B34: TS MINOR | C34: 2 | E34: 10 | L34: 12
B35: TS MPFT | I35: 4 | L35: 4
B36: TS SABLA | C36: 4 | D36: 2 | E36: 6 | J36: 5 | L36: 17
B37: TS TISOM | C37: 7 | E37: 6 | J37: 2 | L37: 15
B38: TS TO AC | G38: 2 | L38: 2
B39: TS TO MT | C39: 4 | D39: 2 | E39: 2 | L39: 8
B40: TS TONNE | C40: 2 | E40: 12 | F40: 2 | L40: 16
B41: TS TR MT | I41: 2 | L41: 2
B42: TS TRIAG | C42: 87 | D42: 2 | E42: 26 | I42: 4 | J42: 2 | L42: 121
A43: Total Retards Secteur 3 | C43: 134 | D43: 8 | E43: 98 | F43: 4 | G43: 6 | H43: 2 | I43: 48 | J43: 10 | L43: 310
A44: 4 | B44: D REC MA | E44: 2 | I44: 14 | J44: 7 | L44: 23
B45: F MAC BL | H45: 8 | J45: 4 | L45: 12
B46: H REC PL | C46: 8 | L46: 8
B47: ST GENER | D47: 2 | E47: 2 | G47: 9 | I47: 4 | L47: 17
B48: U VIOTTO | C48: 4 | L48: 4
A49: Total Retards Secteur 4 | C49: 12 | D49: 2 | E49: 4 | G49: 9 | H49: 8 | I49: 18 | J49: 11 | L49: 64
A50: #N/A | B50: (vide)
A51: Total Retards Secteur #N/A
A52: Total Retards | C52: 188 | D52: 22 | E52: 124 | F52: 6 | G52: 15 | H52: 17 | I52: 68 | J52: 75 | L52: 515

Sheet Feuil1
B2: Work Center | C2: Secteur
B3: A CON FI | C3: 2
B4: CON REDR | C4: 2
B5: CONT INT | C5: 2
B6: CONT MET | C6: 2
B7: D REC MA | C7: 4
B8: DA TRIAG | C8: 3
B9: ENVOI KE | C9: 3
B10: F MAC BL | C10: 4
B11: FRIT DEB | C11: 2
B12: FRIT MON | C12: 1
B13: FRITTAGE | C13: 2
B14: H REC PL | C14: 4
... B43: U VIOTTO | C43: 4

Sheet commandes
A1: Colonne1 | B1: commandes | C1: Work Center | D1: Division | E1: Colonne2 | F1: Colonne3 | G1: Colonne4 | H1: Colonne5 | I1: Colonne6 | J1: Colonne7 | K1: Colonne8 | L1: Colonne9 | M1: Colonne10 | N1: Colonne11 | O1: Colonne12 | P1: Secteur
A2: 1 | B2: 9529785 | C2: ENVOI KE | D2: RP | E2: 43102 | F2: 12069554 | G2: 50973- 8.5X 3.7X2.6 TS90 KCR10 | H2: 10000 | J2: 43164 | K2: 0 | L2: 9.943 | M2: 9000 | N2: 6 | O2: 9.601 | P2: =VLOOKUP(C2,Tableau1[],2,FALSE) -> 3
A3: 1 | B3: 9577180 | C3: TS TO MT | D3: RP | E3: 43102 | F3: 11869098 | G3: 51960- 6.0X4.5X2.0 TS43 KCR05 | H3: 13000 | J3: 43158 | K3: 0 | L3: 10.511 | M3: 1600 | N3: 6 | O3: 11.157 | P3: =VLOOKUP(C3,Tableau1[],2,FALSE) -> 3
A4: 1 | B4: 9602697 | C4: CONT MET | D4: RP | E4: 43104 | F4: 11843393 | G4: 51964-10.5X5.5X3.0 TS43 KCR05 | H4: 5000 | J4: 43164 | K4: 0 | L4: 12.815 | M4: 0350 | N4: 6 | O4: 14.654 | P4: =VLOOKUP(C4,Tableau1[],2,FALSE) -> 2
A5: 1 | B5: 9505018 | C5: TS GA MT | D5: P | E5: 43111 | F5: 11523876 | G5: 51220 FALCON 35.0 TSN CTM17-BC | H5: 5000 | J5: 43160 | K5: 0 | L5: 189.284 | M5: 1900 | N5: 6 | O5: 177.23 | P5: =VLOOKUP(commandes!C5,Tableau1[],2,FALSE) -> 3
A6: 1 | B6: 9508013 | C6: ST GENER | D6: B | E6: 43112 | F6: 11733205 | G6: CTBA SI 2.31 GR TSN MG18 | H6: 500000 | J6: 43122 | K6: 0 | L6: 51.555 | M6: 1700 | N6: 6 | O6: 52.48 | P6: =VLOOKUP(commandes!C6,Tableau1[],2,FALSE) -> 4
A7: 1 | B7: 9480757 | C7: TS GA MT | D7: B | E7: 43117 | F7: 11733205 | G7: CTBA SI 2.31 GR TSN MG18 | H7: 525000 | J7: 43160 | K7: 7.4 | L7: 54.133 | M7: 1900 | N7: 6 | O7: 51.479 | P7: =VLOOKUP(commandes!C7,Tableau1[],2,FALSE) -> 3
A8: 1 | B8: 9508016 | C8: ST GENER | D8: B | F8: 11733205 | G8: CTBA SI 2.31 GR TSN MG18 | H8: 500000 | J8: 43119 | K8: 0 | L8: 51.555 | M8: 1700 | N8: 6 | O8: 60.488 | P8: =VLOOKUP(commandes!C8,Tableau1[],2,FALSE) -> 4
A9: 1 | B9: 9577088 | C9: CONT MET | D9: RP | E9: 43117 | F9: 11869019 | G9: 51960- 6.0X2.4X2.0 TS43 KCR05 | H9: 12000 | J9: 43161 | K9: 0 | L9: 5.166 | M9: 0500 | N9: 6 | O9: 6.318 | P9: =VLOOKUP(commandes!C9,Tableau1[],2,FALSE) -> 2
A10: 1 | B10: 9529726 | C10: TS GA MT | D10: T | E10: 43119 | F10: 11725675 | G10: CTBA ST 2.15 TO4 TSN19 CTS18D | H10: 1711445 | J10: 43150 | K10: 49.66 | L10: 136.573 | M10: 1900 | N10: 6 | O10: 136.573 | P10: =VLOOKUP(commandes!C10,Tableau1[],2,FALSE) -> 3
A11: 1 | B11: 9506462 | C11: TS LVZ23 | D11: S | E11: 43122 | F11: 12272351 | G11: WD 7150 PT KCR06 | H11: 4400 | J11: 43111 | K11: 9.06 | L11: 4.851 | M11: 3000 | N11: 6 | O11: 4.618 | P11: =VLOOKUP(commandes!C11,Tableau1[],2,FALSE) -> 3
A12: 1 | B12: 9501703 | C12: TS CONT | D12: S | E12: 43124 | F12: 12158830 | G12: WFC 7150 DPT GC32 | H12: 40000 | J12: 43164 | K12: 0 | L12: 85.89 | M12: 3300 | N12: 6 | O12: 77.772 | P12: =VLOOKUP(commandes!C12,Tableau1[],2,FALSE) -> 3
A13: 1 | B13: 9593962 | C13: M EN STO | D13: RS | E13: 43124 | F13: 6228641 | G13: DST R 0250-0195 TSX CTS20L | H13: 170000 | J13: 43164 | K13: 0 | L13: 26.24 | M13: 9000 | N13: 6 | O13: -1.265 | P13: =VLOOKUP(commandes!C13,Tableau1[],2,FALSE) -> 3
A14: 1 | B14: 9524408 | C14: TS FHD8 | D14: T | E14: 43129 | F14: 11725675 | G14: CTBA ST 2.15 TO4 TSN19 CTS18D | H14: 1788900 | J14: 43164 | K14: 0 | L14: 142.754 | M14: 2000 | N14: 6 | O14: 142.754 | P14: =VLOOKUP(commandes!C14,Tableau1[],2,FALSE) -> 3
A15: 1 | B15: 9594490 | C15: TS TRIAG | D15: RP | E15: 43129 | F15: 12287861 | G15: 51180-6.0 TSX GW14 Dcutmax Dia6.40-6.45 | H15: 500 | J15: 43161 | K15: 0 | L15: 0.442 | M15: 2100 | N15: 6 | O15: 0.479 | P15: =VLOOKUP(commandes!C15,Tableau1[],2,FALSE) -> 3
A16: 1 | B16: 9461466 | C16: ST GENER | D16: T | E16: 43130 | F16: 11915958 | G16: TERSAMESSER*1050-1055x10.6x2.3 CTOPP10 | H16: 982 | J16: 43129 | K16: 0 | L16: 235.68 | M16: 1230 | N16: 6 | O16: 243.439 | P16: =VLOOKUP(commandes!C16,Tableau1[],2,FALSE) -> 4
A17: 1 | B17: 9592564 | C17: PS FHD | D17: RS | E17: 43130 | F17: 12241103 | G17: DST R 0152-0412 (DET38-B) SB TSUS CTS20L | H17: 300000 | J17: 43154 | K17: 0 | L17: 36.54 | M17: 0300 | N17: 6 | O17: 38.01 | P17: =VLOOKUP(commandes!C17,Tableau1[],2,FALSE) -> 1
A18: 1 | B18: 9514292 | C18: S TPA 20 | D18: S | E18: 43133 | F18: 80359288 | G18: CTDT Ø08.0 LE TS8 MG18 CMT | H18: 1600 | J18: 43090 | K18: 0 | L18: 7.401 | M18: 0100 | N18: 6 | O18: -0.104 | P18: =VLOOKUP(commandes!C18,Tableau1[],2,FALSE) -> 1
A19: 1 | B19: 9461471 | C19: D REC MA | D19: T | E19: 43136 | F19: 11915958 | G19: TERSAMESSER*1050-1055x10.6x2.3 CTOPP10 | H19: 1000 | K19: 0 | L19: 252 | M19: 0010 | N19: 6 | O19: 0 | P19: =VLOOKUP(commandes!C19,Tableau1[],2,FALSE) -> 4
A20: 1 | B20: 9530001 | C20: TS LVZ23 | D20: P | F20: 12289746 | G20: WECV 7230 PT GC32 | H20: 3000 | J20: 43117 | K20: 6.34 | L20: 4.832 | M20: 3000 | N20: 6 | O20: 6.199 | P20: =VLOOKUP(commandes!C20,Tableau1[],2,FALSE) -> 3
A21: 1 | B21: 9550407 | C21: TS GALVA | D21: S | E21: 43136 | F21: 11738798 | G21: 51729-10.0 TSX CTF12-BC | H21: 15000 | J21: 43152 | K21: 0 | L21: 25.83 | M21: 1900 | N21: 6 | O21: 26.69 | P21: =VLOOKUP(commandes!C21,Tableau1[],2,FALSE) -> 3
A22: 1 | B22: 9591504 | C22: TS TONNE | D22: RS | E22: 43137 | F22: 6104039 | G22: DFR 4,80 x 4,13 mm KUD TSX CTF12E | H22: 10000 | J22: 43164 | K22: 0 | L22: 9.261 | M22: 1500 | N22: 6 | O22: -0.743 | P22: =VLOOKUP(commandes!C22,Tableau1[],2,FALSE) -> 3
A23: 1 | B23: 9535156 | C23: TS TRIAG | D23: P | E23: 43138 | F23: 11869099 | G23: 60088- 6.5X 6.5X2.0 TS43 KCR05 | H23: 10000 | J23: 43159 | K23: 0 | L23: 12.926 | M23: 2100 | N23: 6 | O23: 11.972 | P23: =VLOOKUP(commandes!C23,Tableau1[],2,FALSE) -> 3
A24: 1 | B24: 9505088 | C24: CONT MET | D24: P | E24: 43139 | F24: 6209844 | G24: §*073.689 E CTF08E | H24: 1500 | J24: 43164 | K24: 0 | L24: 3.882 | M24: 0500 | N24: 6 | O24: 5.04 | P24: =VLOOKUP(commandes!C24,Tableau1[],2,FALSE) -> 2
A25: 1 | B25: 9535113 | C25: TS TO MT | D25: P | F25: 11843391 | G25: 51962- 8.0X4.5X2.5 TS43 KCR05 | H25: 34000 | J25: 43160 | K25: 0 | L25: 42.84 | M25: 1600 | N25: 6 | O25: 42.496 | P25: =VLOOKUP(commandes!C25,Tableau1[],2,FALSE) -> 3
A26: 1 | B26: 9535144 | C26: TS TO MT | D26: P | F26: 11852509 | G26: 51962- 8.0X3.4X2.5 TS43 KCR05 | H26: 30000 | J26: 43161 | K26: 0 | L26: 29.295 | M26: 1600 | N26: 6 | O26: 28.522 | P26: =VLOOKUP(commandes!C26,Tableau1[],2,FALSE) -> 3
A27: 1 | B27: 9561609 | C27: TS SABLA | D27: S | E27: 43139 | F27: 11738790 | G27: 51729- 7.0 TSX CTF12-BC | H27: 12000 | J27: 43154 | K27: 0 | L27: 9.589 | M27: 1700 | N27: 6 | O27: 10.005 | P27: =VLOOKUP(commandes!C27,Tableau1[],2,FALSE) -> 3
A28: 1 | B28: 9527973 | C28: ST GENER | D28: T | E28: 43140 | F28: 12156749 | G28: CTK CP Ø3.0x33.5 KCR18+ | H28: 165 | J28: 43154 | K28: 0 | L28: 0.483 | M28: 0030 | N28: 6 | O28: 0.531 | P28: =VLOOKUP(commandes!C28,Tableau1[],2,FALSE) -> 4
A29: 1 | B29: 9550033 | C29: TS TRIAG | D29: P | F29: 80050671 | G29: CTDD Ø 8.0 LE HC35 | H29: 15000 | J29: 43160 | K29: 0 | L29: 33.894 | M29: 2100 | N29: 6 | O29: 17.042 | P29: =VLOOKUP(commandes!C29,Tableau1[],2,FALSE) -> 3
A30: 1 | B30: 9555062 | C30: TS GA MT | D30: T | E30: 43140 | F30: 11482059 | G30: CTBA ST 2.03 TO4 TSN19 CTS18D | H30: 1281660 | J30: 43161 | K30: 10.68 | L30: 86.128 | M30: 1900 | N30: 6 | O30: 86.128 | P30: =VLOOKUP(commandes!C30,Tableau1[],2,FALSE) -> 3
A31: 1 | B31: 9412254 | C31: P ROBOTS | D31: P | E31: 43143 | F31: 12124726 | G31: 60701-30.8x3.0x1.0 R37.5 TS8 KCR05+ | H31: 40000 | K31: 88 | L31: 58.59 | M31: 0100 | N31: 6 | O31: 0 | P31: =VLOOKUP(commandes!C31,Tableau1[],2,FALSE) -> 1
A32: 1 | B32: 9461472 | C32: D REC MA | D32: T | F32: 11915958 | G32: TERSAMESSER*1050-1055x10.6x2.3 CTOPP10 | H32: 476 | K32: 0 | L32: 120 | M32: 0010 | N32: 6 | O32: 0 | P32: =VLOOKUP(commandes!C32,Tableau1[],2,FALSE) -> 4
A33: 1 | B33: 9524424 | C33: ST GENER | D33: B | F33: 11733205 | G33: CTBA SI 2.31 GR TSN MG18 | H33: 500000 | J33: 43122 | K33: 0 | L33: 51.555 | M33: 1700 | N33: 6 | O33: 51.305 | P33: =VLOOKUP(commandes!C33,Tableau1[],2,FALSE) -> 4
A34: 1 | B34: 9525848 | C34: TS TRIAG | D34: P | F34: 11523894 | G34: 51220 FALCON 45.0 TSN CTM17-BC | H34: 1000 | J34: 43161 | K34: 0 | L34: 79.594 | M34: 2100 | N34: 6 | O34: 82.097 | P34: =VLOOKUP(commandes!C34,Tableau1[],2,FALSE) -> 3
A35: 1 | B35: 9550402 | C35: TS SABLA | D35: S | F35: 11738792 | G35: 51729- 8.0 TSX CTF12-BC | H35: 20000 | J35: 43154 | K35: 0 | L35: 21.819 | M35: 1700 | N35: 6 | O35: 22.673 | P35: =VLOOKUP(commandes!C35,Tableau1[],2,FALSE) -> 3
A36: 1 | B36: 9559969 | C36: TS SABLA | D36: P | F36: 12124726 | G36: 60701-30.8x3.0x1.0 R37.5 TS8 KCR05+ | H36: 26142 | J36: 43164 | K36: 0 | L36: 38.293 | M36: 1700 | N36: 6 | O36: 66.488 | P36: =VLOOKUP(commandes!C36,Tableau1[],2,FALSE) -> 3
A37: 1 | B37: 9561867 | C37: ENVOI KE | D37: S | E37: 43143 | F37: 6230848 | G37: 23918/3- 2.5X 8.0 TS42 HC20 | H37: 30000 | J37: 43164 | K37: 0 | L37: 16.38 | M37: 9000 | N37: 6 | O37: 17.704 | P37: =VLOOKUP(commandes!C37,Tableau1[],2,FALSE) -> 3
A38: 1 | B38: 9558430 | C38: TS TRIAG | D38: P | E38: 43144 | F38: 11339989 | G38: 50809-12.5X7.2X4.0 TS8 CTF24-BC | H38: 5000 | J38: 43160 | K38: 0 | L38: 21.052 | M38: 2100 | N38: 6 | O38: 19.101 | P38: =VLOOKUP(commandes!C38,Tableau1[],2,FALSE) -> 3
A39: 1 | B39: 9562692 | C39: TS CONT | D39: P | E39: 43144 | F39: 11948717 | G39: 10975- 8.5X 2.8X2.5 TS90 KCR05+ | H39: 6000 | J39: 43159 | K39: 0 | L39: 4.561 | M39: 2200 | N39: 6 | O39: 4.948 | P39: =VLOOKUP(commandes!C39,Tableau1[],2,FALSE) -> 3
A40: 1 | B40: 9478794 | C40: P ROBOTS | D40: P | E40: 43145 | F40: 12156914 | G40: 60701-25.8x3.0x1.0 R37.5 V2 TS8 KCR05+ | H40: 40000 | J40: 43157 | K40: 0 | L40: 49.77 | M40: 0100 | N40: 6 | O40: 48.19 | P40: =VLOOKUP(commandes!C40,Tableau1[],2,FALSE) -> 1
A41: 1 | B41: 9500363 | C41: CON REDR | D41: P | F41: 11608968 | G41: Büchse N3719W/03 CTS20L | H41: 35000 | J41: 43151 | K41: 0 | L41: 4.41 | M41: 0600 | N41: 6 | O41: 4.049 | P41: =VLOOKUP(commandes!C41,Tableau1[],2,FALSE) -> 2
A42: 1 | B42: 9536998 | C42: TS TO AC | D42: B | F42: 12279754 | G42: CTCY ST 1.98X2.30 TSN CTS30D | H42: 80000 | J42: 43144 | K42: 0 | L42: 8.4 | M42: 1500 | N42: 6 | O42: 12.628 | P42: =VLOOKUP(commandes!C42,Tableau1[],2,FALSE) -> 3
A43: 1 | B43: 9552546 | C43: TS FHD8 | D43: B | E43: 43145 | F43: 12293556 | G43: CTCY ST 1.32X1.60 TSN19 KCR32 | H43: 305000 | J43: 43164 | K43: 0 | L43: 16.012 | M43: 2000 | N43: 6 | O43: 24.658 | P43: =VLOOKUP(commandes!C43,Tableau1[],2,FALSE) -> 3
A44: 1 | B44: 9564790 | C44: TS TRIAG | D44: S | E44: 43146 | F44: 11267406 | G44: 26457-10.5X 4.6X3.5 TS90 KCR05 | H44: 40000 | J44: 43151 | K44: 0 | L44: 83.79 | M44: 2100 | N44: A | O44: 82.351 | P44: =VLOOKUP(commandes!C44,Tableau1[],2,FALSE) -> 3
A45: 1 | B45: 9564798 | C45: TS TRIAG | D45: P | F45: 11939165 | G45: 51805- 7.0 TSX CTM17-BC CT4 | H45: 6000 | J45: 43158 | K45: 0 | L45: 6.168 | M45: 2100 | N45: 6 | O45: 6.064 | P45: =VLOOKUP(commandes!C45,Tableau1[],2,FALSE) -> 3
A46: 1 | B46: 9596357 | C46: CONT MET | D46: RP | F46: 11952845 | G46: 17109-15.5X 6.4X5.0 TS90 SMG02 | H46: 1400 | J46: 43164 | K46: 0 | L46: 10.106 | M46: 0350 | N46: 6 | O46: 9.79 | P46: =VLOOKUP(commandes!C46,Tableau1[],2,FALSE) -> 2
A47: 1 | B47: 9596359 | C47: TS SABLA | D47: RP | E47: 43146 | F47: 11214312 | G47: 310703 AK TS8 KCR06 | H47: 1500 | J47: 43161 | K47: 0 | L47: 2.827 | M47: 1500 | N47: 6 | O47: 2.644 | P47: =VLOOKUP(commandes!C47,Tableau1[],2,FALSE) -> 3
A48: 1 | B48: 9478790 | C48: FRIT MON | D48: P | E48: 43147 | F48: 12156914 | G48: 60701-25.8x3.0x1.0 R37.5 V2 TS8 KCR05+ | H48: 40000 | J48: 43159 | K48: 0 | L48: 49.77 | M48: 0200 | N48: 6 | O48: 46.7 | P48: =VLOOKUP(commandes!C48,Tableau1[],2,FALSE) -> 1
A49: 1 | B49: 9534992 | C49: U VIOTTO | D49: P | F49: 11742957 | G49: NHF G 1490-0490-065 R1.25 AAG CTF24E | H49: 50000 | J49: 43125 | K49: 63.7 | L49: 21.64 | M49: 9010 | N49: 6 | O49: 23.509 | P49: =VLOOKUP(commandes!C49,Tableau1[],2,FALSE) -> 4
A50: 1 | B50: 9551787 | C50: TS GA MT | D50: T | F50: 11725674 | G50: CTBA ST 1.72 TO4 TSN19 CTS18D | H50: 2884400 | J50: 43157 | K50: 16.02 | L50: 117.972 | M50: 2000 | N50: 6 | O50: 117.972 | P50: =VLOOKUP(commandes!C50,Tableau1[],2,FALSE) -> 3
A51: 1 | B51: 9558248 | C51: TS DA | D51: T | E51: 43147 | F51: 12240844 | G51: CT SB00- 2,00X 6,00X 80,00 DA CTOPP10 | H51: 50 | J51: 43150 | K51: 0.59 | L51: 0.749 | M51: 0350 | N51: 6 | O51: 0.698 | P51: =VLOOKUP(commandes!C51,Tableau1[],2,FALSE) -> 3
A52: 1 | B52: 9412252 | C52: P ROBOTS | D52: P | E52: 43150 | F52: 12124726 | G52: 60701-30.8x3.0x1.0 R37.5 TS8 KCR05+ | H52: 40000 | K52: 88 | L52: 58.59 | M52: 0100 | N52: 6 | O52: 0 | P52: =VLOOKUP(commandes!C52,Tableau1[],2,FALSE) -> 1
A53: 1 | B53: 9461474 | C53: D REC MA | D53: T | F53: 11915958 | G53: TERSAMESSER*1050-1055x10.6x2.3 CTOPP10 | H53: 476 | K53: 0 | L53: 120 | M53: 0010 | N53: 6 | O53: 0 | P53: =VLOOKUP(commandes!C53,Tableau1[],2,FALSE) -> 4
A54: 1 | B54: 9518940 | C54: TS TRIAG | D54: P | F54: 12276191 | G54: 61029-012 Ø14.0 mm TSN CTM17-BC | H54: 3500 | J54: 43160 | K54: 0 | L54: 28.753 | M54: 2100 | N54: 6 | O54: 35.423 | P54: =VLOOKUP(commandes!C54,Tableau1[],2,FALSE) -> 3
A55: 1 | B55: 9555679 | C55: TS GALVA | D55: P | F55: 6101265 | G55: 41060-30.0 60054 TS8 HC35 | H55: 2000 | J55: 43164 | K55: 0 | L55: 54.18 | M55: 1900 | N55: 6 | O55: 54.641 | P55: =VLOOKUP(commandes!C55,Tableau1[],2,FALSE) -> 3
A56: 1 | B56: 9586526 | C56: TS TRIAG | D56: P | F56: 12111114 | G56: 61084-16.0 TSX CTM12A | H56: 21476 | J56: 43157 | K56: 0 | L56: 276.147 | M56: 2100 | N56: 6 | O56: 22.55 | P56: =VLOOKUP(commandes!C56,Tableau1[],2,FALSE) -> 3
A57: 1 | B57: 9607321 | C57: TS CONT | D57: S | E57: 43150 | F57: 6225396 | G57: 44913-HDA M12-288491/C TS8 BC20 | H57: 26115 | J57: 43160 | K57: 0 | L57: 8.5 | M57: 2200 | N57: A | O57: 27.42 | P57: =VLOOKUP(commandes!C57,Tableau1[],2,FALSE) -> 3
A58: 1 | B58: 9488888 | C58: P ROBOTS | D58: P | E58: 43151 | F58: 12156914 | G58: 60701-25.8x3.0x1.0 R37.5 V2 TS8 KCR05+ | H58: 40000 | K58: 47.17 | L58: 49.77 | M58: 0100 | N58: 6 | O58: 0 | P58: =VLOOKUP(commandes!C58,Tableau1[],2,FALSE) -> 1
A59: 1 | B59: 9525965 | C59: ST GENER | D59: S | F59: 6282565 | G59: CTBB 4,400 GRD CTF12E | H59: 15000 | J59: 43119 | K59: 0 | L59: 10.442 | M59: 6020 | N59: 6 | O59: 12.73 | P59: =VLOOKUP(commandes!C59,Tableau1[],2,FALSE) -> 4
A60: 1 | B60: 9555764 | C60: TS TRIAG | D60: P | F60: 11869019 | G60: 51960- 6.0X2.4X2.0 TS43 KCR05 | H60: 25000 | J60: 43164 | K60: 0 | L60: 10.762 | M60: 2100 | N60: 6 | O60: 10.508 | P60: =VLOOKUP(commandes!C60,Tableau1[],2,FALSE) -> 3
A61: 1 | B61: 9555809 | C61: TS MINOR | D61: P | F61: 11869098 | G61: 51960- 6.0X4.5X2.0 TS43 KCR05 | H61: 30000 | J61: 43161 | K61: 0 | L61: 24.255 | M61: 1500 | N61: 6 | O61: 23.745 | P61: =VLOOKUP(commandes!C61,Tableau1[],2,FALSE) -> 3
A62: 1 | B62: 9578636 | C62: TS MINOR | D62: S | F62: 11715041 | G62: 51729- 6.0 58006000 TSX CTF12-BC | H62: 34000 | J62: 43164 | K62: 0 | L62: 18.457 | M62: 1500 | N62: 6 | O62: 18.061 | P62: =VLOOKUP(commandes!C62,Tableau1[],2,FALSE) -> 3
A63: 1 | B63: 9579305 | C63: P ROBOTS | D63: P | E63: 43151 | F63: 11677195 | G63: 44246- 8.5X 6.2X3.2 TS90 KCR05+ | H63: 40000 | K63: 19.05 | L63: 89.124 | M63: 0100 | N63: 6 | O63: 0 | P63: =VLOOKUP(commandes!C63,Tableau1[],2,FALSE) -> 1
A64: 1 | B64: 9506283 | C64: DA TRIAG | D64: S | E64: 43152 | F64: 12231870 | G64: 31450- 6.5X 3.2X2.0 DA GC32 | H64: 23000 | J64: 43161 | K64: 0 | L64: 14.104 | M64: 3100 | N64: 6 | O64: 14.183 | P64: =VLOOKUP(commandes!C64,Tableau1[],2,FALSE) -> 3
A65: 1 | B65: 9518960 | C65: TS GALVA | D65: P | F65: 12278832 | G65: 51805-35.0 TSX CTM17-BC CT4 | H65: 700 | J65: 43161 | K65: 0 | L65: 43.779 | M65: 1900 | N65: 6 | O65: 46.192 | P65: =VLOOKUP(commandes!C65,Tableau1[],2,FALSE) -> 3
A66: 1 | B66: 9544703 | C66: TS LVZ23 | D66: T | F66: 11585379 | G66: WDC 7150 PT GC32 | H66: 1000 | J66: 43117 | K66: 2.35 | L66: 0.98 | M66: 0350 | N66: 6 | O66: 0.939 | P66: =VLOOKUP(commandes!C66,Tableau1[],2,FALSE) -> 3
A67: 1 | B67: 9555676 | C67: H REC PL | D67: P | F67: 6112478 | G67: 41060-22.0 205831 TS8 HC35 | H67: 2000 | J67: 43122 | K67: 7.6 | L67: 24.066 | M67: 6100 | N67: 6 | O67: 23.415 | P67: =VLOOKUP(commandes!C67,Tableau1[],2,FALSE) -> 4
A68: 1 | B68: 9555810 | C68: CONT MET | D68: P | E68: 43152 | F68: 11843391 | G68: 51962- 8.0X4.5X2.5 TS43 KCR05 | H68: 51000 | J68: 43158 | K68: 0 | L68: 64.26 | M68: 0350 | N68: 6 | O68: 67.302 | P68: =VLOOKUP(commandes!C68,Tableau1[],2,FALSE) -> 2
A69: 1 | B69: 9547118 | C69: TS DA | D69: T | E69: 43153 | F69: 11911256 | G69: CT SB00- 2,00x 2,00x 25,00 DA CTOPP10 | H69: 2800 | J69: 43162 | K69: 6.42 | L69: 4.636 | M69: 0350 | N69: 6 | O69: 4.358 | P69: =VLOOKUP(commandes!C69,Tableau1[],2,FALSE) -> 3
A70: 1 | B70: 9578566 | C70: TS TONNE | D70: S | E70: 43153 | F70: 11192381 | G70: 24323- 5.0 TS8* CTF12-BC | H70: 46000 | J70: 43164 | K70: 0 | L70: 13.572 | M70: 1500 | N70: 6 | O70: 12.668 | P70: =VLOOKUP(commandes!C70,Tableau1[],2,FALSE) -> 3
A71: 1 | B71: 9533292 | C71: ST GENER | D71: RP | E71: 43154 | F71: 6227533 | G71: Kugel 275480 A6 KR17 | H71: 6000 | J71: 43119 | K71: 0 | L71: 8.266 | M71: 1700 | N71: 6 | O71: 11.696 | P71: =VLOOKUP(commandes!C71,Tableau1[],2,FALSE) -> 4
A72: 1 | B72: 9552636 | C72: TS TRIAG | D72: P | F72: 11610322 | G72: 51043-10.0 TSX GW14 | H72: 86000 | J72: 43161 | K72: 0 | L72: 303.95 | M72: 2100 | N72: 6 | O72: 283.454 | P72: =VLOOKUP(commandes!C72,Tableau1[],2,FALSE) -> 3
A73: 1 | B73: 9555533 | C73: TS CAMLO | D73: S | F73: 6265388 | G73: 11400- 5.0 TS8 CTF12-BC | H73: 149500 | J73: 43161 | K73: 0 | L73: 46.158 | M73: 1800 | N73: 6 | O73: 44.291 | P73: =VLOOKUP(commandes!C73,Tableau1[],2,FALSE) -> 3
A74: 1 | B74: 9569851 | C74: DA TRIAG | D74: T | F74: 11965143 | G74: WDC 7165 PT CTOPP10 | H74: 1815 | J74: 43162 | K74: 0 | L74: 1.942 | M74: 3100 | N74: 6 | O74: 1.842 | P74: =VLOOKUP(commandes!C74,Tableau1[],2,FALSE) -> 3
A75: 1 | B75: 9577788 | C75: TS CAMLO | D75: S | F75: 80360773 | G75: S4-3G 5.5 JAPAN 229001 TS8 CTM17-BC | H75: 11200 | J75: 43159 | K75: 0 | L75: 5.245 | M75: 1800 | N75: 6 | O75: 5.685 | P75: =VLOOKUP(commandes!C75,Tableau1[],2,FALSE) -> 3
A76: 1 | B76: 9578825 | C76: TS SABLA | D76: S | F76: 6200836 | G76: 22000- 1/8" TS8 CTF12-BC | H76: 63000 | J76: 43161 | K76: 0 | L76: 10.253 | M76: 1700 | N76: 6 | O76: 21.028 | P76: =VLOOKUP(commandes!C76,Tableau1[],2,FALSE) -> 3
A77: 1 | B77: 9582239 | C77: TS TISOM | D77: S | F77: 11352457 | G77: 26014- 7.5X 4.7X2.5 TS90 KCR06 | H77: 20000 | J77: 43155 | K77: 0 | L77: 22.68 | M77: 2000 | N77: 6 | O77: 22.762 | P77: =VLOOKUP(commandes!C77,Tableau1[],2,FALSE) -> 3
A78: 1 | B78: 9591247 | C78: TS TRIAG | D78: S | F78: 12264222 | G78: CTRU W00- 10,30X 54,5 KCR05+ | H78: 5001 | J78: 43164 | K78: 0 | L78: 373.433 | M78: 2100 | N78: 6 | O78: 396.009 | P78: =VLOOKUP(commandes!C78,Tableau1[],2,FALSE) -> 3
A79: 1 | B79: 9594669 | C79: TS SABLA | D79: P | E79: 43154 | F79: 11572880 | G79: ALLIGATOR SET 50525-002 TS8 HC20 | H79: 28799 | J79: 43161 | K79: 0 | L79: 31.147 | M79: 1500 | N79: 6 | O79: 30.24 | P79: =VLOOKUP(commandes!C79,Tableau1[],2,FALSE) -> 3
A80: 1 | B80: 9582232 | C80: TS TRIAG | D80: P | E80: 43155 | F80: 11949699 | G80: 38376-13.0X 5.0X4.0 TS90 KCR10 | H80: 5000 | J80: 43160 | K80: 0 | L80: 17.325 | M80: 2100 | N80: 6 | O80: 17.223 | P80: =VLOOKUP(commandes!C80,Tableau1[],2,FALSE) -> 3
A81: 1 | B81: 9358361 | C81: TS TRIAG | D81: P | E81: 43157 | F81: 11683522 | G81: 00.15.0236A TS8 CTS18D | H81: 1000 | J81: 43161 | K81: 0 | L81: 11.459 | M81: 2100 | N81: 6 | O81: 13.886 | P81: =VLOOKUP(commandes!C81,Tableau1[],2,FALSE) -> 3
A82: 1 | B82: 9432919 | C82: FRIT MON | D82: P | F82: 6230868 | G82: 960403.03/RA RO 2 M.R.D.12 CC CTF16R | H82: 2000 | J82: 43146 | K82: 0 | L82: 25.263 | M82: 0300 | N82: 6 | O82: 23.153 | P82: =VLOOKUP(commandes!C82,Tableau1[],2,FALSE) -> 1
A83: 1 | B83: 9433399 | C83: FRIT DEB | D83: P | F83: 11854759 | G83: 9857.02 RA2 d.14 CTF16R | H83: 6000 | J83: 43159 | K83: 0 | L83: 96.831 | M83: 0590 | N83: 6 | O83: 101.451 | P83: =VLOOKUP(commandes!C83,Tableau1[],2,FALSE) -> 2
A84: 1 | B84: 9433410 | C84: TS TRIAG | D84: P | F84: 6228958 | G84: 960416.00/AN M.3 33-42-3 CTF16R | H84: 2000 | J84: 43159 | K84: 0 | L84: 41.265 | M84: 2100 | N84: 6 | O84: 40.686 | P84: =VLOOKUP(commandes!C84,Tableau1[],2,FALSE) -> 3
A85: 1 | B85: 9461475 | C85: D REC MA | D85: T | F85: 11915958 | G85: TERSAMESSER*1050-1055x10.6x2.3 CTOPP10 | H85: 476 | K85: 0 | L85: 120 | M85: 0010 | N85: 6 | O85: 0 | P85: =VLOOKUP(commandes!C85,Tableau1[],2,FALSE) -> 4
A86: 1 | B86: 9485265 | C86: DA TRIAG | D86: P | F86: 12272712 | G86: 60589-10.5X 5.5X4.0 PT KCR10 | H86: 5000 | J86: 43161 | K86: 0 | L86: 15.089 | M86: 3100 | N86: 6 | O86: 8.825 | P86: =VLOOKUP(commandes!C86,Tableau1[],2,FALSE) -> 3
A87: 1 | B87: 9542620 | C87: TS CONT | D87: S | F87: 12158830 | G87: WFC 7150 DPT GC32 | H87: 20000 | J87: 43161 | K87: 0 | L87: 42.945 | M87: 3300 | N87: 6 | O87: 43.858 | P87: =VLOOKUP(commandes!C87,Tableau1[],2,FALSE) -> 3
A88: 1 | B88: 9544745 | C88: TS CONT | D88: S | F88: 11191834 | G88: 58000-12.0 TS8 CTF12-BC | H88: 20000 | J88: 43154 | K88: 0 | L88: 54.621 | M88: 2200 | N88: 6 | O88: 53.595 | P88: =VLOOKUP(commandes!C88,Tableau1[],2,FALSE) -> 3
A89: 1 | B89: 9550010 | C89: TS GALVA | D89: P | F89: 80358740 | G89: CTDD Ø 5.0 RI MG18 Kanefusa | H89: 12000 | J89: 43161 | K89: 0 | L89: 10.506 | M89: 1900 | N89: 6 | O89: 7.424 | P89: =VLOOKUP(commandes!C89,Tableau1[],2,FALSE) -> 3
A90: 1 | B90: 9555465 | C90: TS TRIAG | D90: S | F90: 11188516 | G90: 58000- 8.0 TS8 CTF12-BC | H90: 150000 | J90: 43157 | K90: 0 | L90: 132.93 | M90: 2100 | N90: 6 | O90: 127.571 | P90: =VLOOKUP(commandes!C90,Tableau1[],2,FALSE) -> 3
A91: 1 | B91: 9555717 | C91: TS TRIAG | D91: P | F91: 12294607 | G91: 51689-238 Ø16 K150 TSX CTM16A | H91: 400 | J91: 43158 | K91: 0 | L91: 4.88 | M91: 2100 | N91: 6 | O91: 5.067 | P91: =VLOOKUP(commandes!C91,Tableau1[],2,FALSE) -> 3
A92: 1 | B92: 9568010 | C92: DA TRIAG | D92: P | F92: 12120974 | G92: CT SB00- 2,00x 5,20x 50,00 DA CTOPP10 | H92: 2000 | J92: 43154 | K92: 0 | L92: 17.816 | M92: 3100 | N92: 6 | O92: 17.124 | P92: =VLOOKUP(commandes!C92,Tableau1[],2,FALSE) -> 3
A93: 1 | B93: 9572964 | C93: FRIT DEB | D93: P | F93: 12141727 | G93: Pion pleins Ø6x5.2mm (PCB_0014) CTM16N | H93: 20000 | J93: 43164 | K93: 0 | L93: 47.481 | M93: 0590 | N93: 6 | O93: 45.719 | P93: =VLOOKUP(commandes!C93,Tableau1[],2,FALSE) -> 2
A94: 1 | B94: 9577688 | C94: TS TISOM | D94: P | F94: 11740298 | G94: 58800- 7/8" TS8 CTF12-BC | H94: 1500 | J94: 43164 | K94: 0 | L94: 15.626 | M94: 2000 | N94: 6 | O94: 16.88 | P94: =VLOOKUP(commandes!C94,Tableau1[],2,FALSE) -> 3
A95: 1 | B95: 9580286 | C95: TS TRIAG | D95: P | F95: 11378578 | G95: 2,0+0,1 x 2,5+0,1 x 12,05+/-0,1 TS8 HC10 | H95: 6000 | J95: 43159 | K95: 0 | L95: 5.909 | M95: 2100 | N95: 6 | O95: 5.848 | P95: =VLOOKUP(commandes!C95,Tableau1[],2,FALSE) -> 3
A96: 1 | B96: 9581924 | C96: TS TRIAG | D96: P | F96: 11243889 | G96: 50560-S4-2G 1800 TSN CTM17-BC | H96: 4000 | J96: 43160 | K96: 0 | L96: 28.615 | M96: 2100 | N96: 6 | O96: 26.203 | P96: =VLOOKUP(commandes!C96,Tableau1[],2,FALSE) -> 3
A97: 1 | B97: 9583589 | C97: TS TRIAG | D97: S | F97: 12307614 | G97: 22974- 9.0X 4.3X2.7 TS90 CTOPP10 | H97: 3500 | J97: 43164 | K97: 0 | L97: 5.108 | M97: 2100 | N97: 6 | O97: 6.303 | P97: =VLOOKUP(commandes!C97,Tableau1[],2,FALSE) -> 3
... A99: 1 | B99: 9587887 | C99: TS TRIAG | D99: S | F99: 6238353 | G99: 46000-11.0 TSX CTM17-BC | H99: 10000 | J99: 43160 | K99: 0 | L99: 22.533 | M99: 2100 | N99: 6 | O99: 21.94 | P99: =VLOOKUP(commandes!C99,Tableau1[],2,FALSE) -> 3
A100: 1 | B100: 9591129 | C100: TS TR MT | D100: T | F100: 12191134 | G100: CTCY MI 1.60X3.00 TSAN CTS24D | H100: 441400 | K100: 0 | L100: 39.726 | M100: 2100 | N100: 6 | O100: 0 | P100: =VLOOKUP(commandes!C100,Tableau1[],2,FALSE) -> 3
A101: 1 | B101: 9593552 | C101: TS CONT | D101: T | E101: 43157 | F101: 12276184 | G101: CT SB00- 2,00x 4,50x 60,00 TS42 CTOPP08 | H101: 5 | J101: 43151 | K101: 0 | L101: 0.047 | M101: 2200 | N101: 6 | O101: 0.047 | P101: =VLOOKUP(commandes!C101,Tableau1[],2,FALSE) -> 3
...
