Workbook
Name contact: Feuil2!$C$1:$C$5
Name OK: Feuil2!$E$1:$E$2
Name sites: Feuil2!$A$1:$A$9

Sheet Feuil1
A4: Paris15
A5: ACTIONS | B5: CONTACT | C5: STATUT
A6: Installation éléctrique | B6: =BDD!E31 -> 0 | C6: =BDD!F31 -> 0
A7: Sécu G | B7: =BDD!E32 -> 0 | C7: =BDD!F32 -> 0
A8: Arrivé | B8: =BDD!E33 -> 0 | C8: =BDD!F33 -> 0
A9: Test redondance r | B9: =BDD!E34 -> 0 | C9: =BDD!F34 -> 0
A10: Test redondance s | B10: =BDD!E35 -> 0 | C10: =BDD!F35 -> 0
A11: Suppresion configuration | B11: =BDD!E36 -> 0 | C11: =BDD!F36 -> 0
A12: Contact | B12: =BDD!E37 -> 0 | C12: =BDD!F37 -> 0
A13: Résiliation | B13: =BDD!E38 -> 0 | C13: =BDD!F38 -> 0
A14: Récupération | B14: =BDD!E39 -> 0 | C14: =BDD!F39 -> 0
A15: Annonce | B15: =BDD!E40 -> 0 | C15: =BDD!F40 -> 0
A16: Visit | B16: =BDD!E41 -> 0 | C16: =BDD!F41 -> 0
A17: Résiliation (ANESME & Visio) | B17: =BDD!E42 -> 0 | C17: =BDD!F42 -> 0
... A20: Etiquettage - | B20: =BDD!E45 -> 0 | C20: =BDD!F45 -> 0
B21: =BDD!E46 -> 0 | C21: =BDD!F46 -> 0
B22: =BDD!E47 -> 0 | C22: =BDD!F47 -> 0

Sheet BDD
A1: Paris | C1: Tableau data | D1: Installation éléctrique | E1: Sécu G | F1: Arrivé | G1: Test redondance r | H1: Test redondance s | I1: Suppresion configuration | J1: Contact | K1: Résiliation | L1: Récupération | M1: Annonce | N1: Visit | O1: Résiliation (ANESME & Visio) | P1: Visite de ste Ex- | Q1: Fiche de site | R1: Etiquettage -
A2: 15 | B2: 151 | C2: Contact
B3: 152 | C3: Statut
A4: 16 | B4: 161 | C4: Contact
B5: 162 | C5: Statut
A6: 17 | B6: 171 | C6: Contact
B7: 172 | C7: Statut
A8: 18 | B8: 181 | C8: Contact
B9: 182 | C9: Statut
A10: 19 | B10: 191 | C10: Contact
B11: 192 | C11: Statut
A12: 20 | B12: 201 | C12: Contact
B13: 202 | C13: Statut
A14: 21 | B14: 211 | C14: Contact
B15: 212 | C15: Statut
A16: 22 | B16: 221 | C16: Contact
B17: 222 | C17: Statut
A18: 23 | B18: 231 | C18: Contact
B19: 232 | C19: Statut
C22: Paris choisi : | D22: =VLOOKUP(Feuil1!A4,Feuil2!A1:B9,2,FALSE) -> 15 | E22: =D22*10+1 -> 151 | F22: =D22*10+2 -> 152
D23: Installation éléctrique | E23: Sécu G | F23: Arrivé | G23: Test redondance r | H23: Test redondance s | I23: Suppresion configuration | J23: Contact | K23: Résiliation | L23: Récupération | M23: Annonce | N23: Visit | O23: Résiliation (ANESME & Visio) | P23: Visite de ste Ex- | Q23: Fiche de site | R23: Etiquettage -
C24: Contact | D24: =VLOOKUP($E$22,$B$2:$R$19,D26,FALSE) -> 0 | E24: =VLOOKUP($E$22,$B$2:$R$19,E26,FALSE) -> 0 | F24: =VLOOKUP($E$22,$B$2:$R$19,F26,FALSE) -> 0 | G24: =VLOOKUP($E$22,$B$2:$R$19,G26,FALSE) -> 0 | H24: =VLOOKUP($E$22,$B$2:$R$19,H26,FALSE) -> 0 | I24: =VLOOKUP($E$22,$B$2:$R$19,I26,FALSE) -> 0 | J24: =VLOOKUP($E$22,$B$2:$R$19,J26,FALSE) -> 0 | K24: =VLOOKUP($E$22,$B$2:$R$19,K26,FALSE) -> 0 | ... R24: =VLOOKUP($E$22,$B$2:$R$19,R26,FALSE) -> 0
C25: Statut | D25: =VLOOKUP($F$22,$B$2:$R$19,D26,FALSE) -> 0 | E25: =VLOOKUP($F$22,$B$2:$R$19,E26,FALSE) -> 0 | F25: =VLOOKUP($F$22,$B$2:$R$19,F26,FALSE) -> 0 | G25: =VLOOKUP($F$22,$B$2:$R$19,G26,FALSE) -> 0 | H25: =VLOOKUP($F$22,$B$2:$R$19,H26,FALSE) -> 0 | I25: =VLOOKUP($F$22,$B$2:$R$19,I26,FALSE) -> 0 | J25: =VLOOKUP($F$22,$B$2:$R$19,J26,FALSE) -> 0 | K25: =VLOOKUP($F$22,$B$2:$R$19,K26,FALSE) -> 0 | ... R25: =VLOOKUP($F$22,$B$2:$R$19,R26,FALSE) -> 0
D26: 3 | E26: 4 | F26: 5 | G26: 6 | H26: 7 | I26: 8 | J26: 9 | K26: 10 | L26: 11 | M26: 12 | N26: 13 | O26: 14 | P26: 15 | Q26: 16 | R26: 17
D30: ACTIONS | E30: CONTACT | F30: STATUT
D31: Installation éléctrique | E31: =D24 -> 0 | F31: =D25 -> 0
D32: Sécu G | E32: =E24 -> 0 | F32: =E25 -> 0
D33: Arrivé | E33: =F24 -> 0 | F33: =F25 -> 0
D34: Test redondance r | E34: =G24 -> 0 | F34: =G25 -> 0
D35: Test redondance s | E35: =H24 -> 0 | F35: =H25 -> 0
D36: Suppresion configuration | E36: =I24 -> 0 | F36: =I25 -> 0
D37: Contact | E37: =J24 -> 0 | F37: =J25 -> 0
D38: Résiliation | E38: =K24 -> 0 | F38: =K25 -> 0
D39: Récupération | E39: =L24 -> 0 | F39: =L25 -> 0
D40: Annonce | E40: =M24 -> 0 | F40: =M25 -> 0
D41: Visit | E41: =N24 -> 0 | F41: =N25 -> 0
D42: Résiliation (ANESME & Visio) | E42: =O24 -> 0 | F42: =O25 -> 0
D43: Visite de ste Ex- | E43: =P24 -> 0 | F43: =P25 -> 0
D44: Fiche de site | E44: =Q24 -> 0 | F44: =Q25 -> 0
D45: Etiquettage - | E45: =R24 -> 0 | F45: =R25 -> 0

Sheet Feuil2
A1: Paris15 | B1: 15 | C1: PROD | E1: OK
A2: Paris16 | B2: 16 | C2: ORANGE | E2: NOK
A3: Paris17 | B3: 17 | C3: mini
A4: Paris18 | B4: 18 | C4: externe
A5: Paris19 | B5: 19 | C5: reseau
A6: Paris20 | B6: 20
A7: Paris21 | B7: 21
A8: Paris22 | B8: 22
A9: Paris23 | B9: 23
