Workbook
Name contact: Feuil2!$C$1:$C$5
Name OK: Feuil2!$E$1:$E$2
Name sites: Feuil2!$A$1:$A$9

Sheet Feuil1
A4: Paris15
A5: ACTIONS | B5: CONTACT | C5: STATUT
A6: Installation éléctrique | B6: =IF(BDD!H2="","",BDD!H2) -> PROD | C6: =IF(BDD!I2="","",BDD!I2) -> OK
A7: Sécu G | B7: =IF(BDD!H3="","",BDD!H3) -> ORANGE | C7: =IF(BDD!I3="","",BDD!I3) -> OK
A8: Arrivé | B8: =IF(BDD!H4="","",BDD!H4) -> PROD | C8: =IF(BDD!I4="","",BDD!I4) -> NOK
A9: Test redondance r | B9: =IF(BDD!H5="","",BDD!H5) -> externe | C9: =IF(BDD!I5="","",BDD!I5) -> NOK
A10: Test redondance s | B10: =IF(BDD!H6="","",BDD!H6) -> reseau | C10: =IF(BDD!I6="","",BDD!I6) -> OK
A11: Suppresion configuration | B11: =IF(BDD!H7="","",BDD!H7) -> PROD | C11: =IF(BDD!I7="","",BDD!I7) -> OK
A12: Contact | B12: =IF(BDD!H8="","",BDD!H8) -> ORANGE | C12: =IF(BDD!I8="","",BDD!I8) -> NOK
A13: Résiliation | B13: =IF(BDD!H9="","",BDD!H9) -> PROD | C13: =IF(BDD!I9="","",BDD!I9) -> NOK
A14: Récupération | B14: =IF(BDD!H10="","",BDD!H10) -> PROD | C14: =IF(BDD!I10="","",BDD!I10) -> OK
A15: Annonce | B15: =IF(BDD!H11="","",BDD!H11) -> ORANGE | C15: =IF(BDD!I11="","",BDD!I11) -> OK
A16: Visit | B16: =IF(BDD!H12="","",BDD!H12) -> PROD | C16: =IF(BDD!I12="","",BDD!I12) -> NOK
A17: Résiliation (ANESME & Visio) | B17: =IF(BDD!H13="","",BDD!H13) -> PROD | C17: =IF(BDD!I13="","",BDD!I13) -> NOK
... A20: Etiquettage - | B20: =IF(BDD!H16="","",BDD!H16) -> PROD | C20: =IF(BDD!I16="","",BDD!I16) -> NOK
B21: =IF(BDD!H17="","",BDD!H17) | C21: =IF(BDD!I17="","",BDD!I17)
B22: =IF(BDD!H18="","",BDD!H18) | C22: =IF(BDD!I18="","",BDD!I18)

Sheet Feuil2
A1: Paris15 | B1: 1 | C1: PROD | E1: OK
A2: Paris16 | B2: 2 | C2: ORANGE | E2: NOK
A3: Paris17 | B3: 3 | C3: mini
A4: Paris18 | B4: 4 | C4: externe
A5: Paris19 | B5: 5 | C5: reseau
A6: Paris20 | B6: 6
A7: Paris21 | B7: 7
A8: Paris22 | B8: 8
A9: Paris23 | B9: 9

Sheet BDD
A1: Paris15 | B1: 1 | E1: =VLOOKUP(Feuil1!A4,Feuil2!A1:B9,2,FALSE) -> 1 | G1: Retour Feuil 1
A2: Installation éléctrique | B2: PROD | C2: OK | G2: Installation éléctrique | H2: =IF($E$1=1,B2,IF($E$1=2,B19,"")) -> PROD | I2: =IF($E$1=1,C2,IF($E$1=2,C19,"")) -> OK
A3: Sécu G | B3: ORANGE | C3: OK | G3: Sécu G | H3: =IF($E$1=1,B3,IF($E$1=2,B20,"")) -> ORANGE | I3: =IF($E$1=1,C3,IF($E$1=2,C20,"")) -> OK
A4: Arrivé | B4: PROD | C4: NOK | G4: Arrivé | H4: =IF($E$1=1,B4,IF($E$1=2,B21,"")) -> PROD | I4: =IF($E$1=1,C4,IF($E$1=2,C21,"")) -> NOK
A5: Test redondance r | B5: externe | C5: NOK | G5: Test redondance r | H5: =IF($E$1=1,B5,IF($E$1=2,B22,"")) -> externe | I5: =IF($E$1=1,C5,IF($E$1=2,C22,"")) -> NOK
A6: Test redondance s | B6: reseau | C6: OK | G6: Test redondance s | H6: =IF($E$1=1,B6,IF($E$1=2,B23,"")) -> reseau | I6: =IF($E$1=1,C6,IF($E$1=2,C23,"")) -> OK
A7: Suppresion configuration | B7: PROD | C7: OK | G7: Suppresion configuration | H7: =IF($E$1=1,B7,IF($E$1=2,B24,"")) -> PROD | I7: =IF($E$1=1,C7,IF($E$1=2,C24,"")) -> OK
A8: Contact | B8: ORANGE | C8: NOK | G8: Contact | H8: =IF($E$1=1,B8,IF($E$1=2,B25,"")) -> ORANGE | I8: =IF($E$1=1,C8,IF($E$1=2,C25,"")) -> NOK
A9: Résiliation | B9: PROD | C9: NOK | G9: Résiliation | H9: =IF($E$1=1,B9,IF($E$1=2,B26,"")) -> PROD | I9: =IF($E$1=1,C9,IF($E$1=2,C26,"")) -> NOK
A10: Récupération | B10: PROD | C10: OK | G10: Récupération | H10: =IF($E$1=1,B10,IF($E$1=2,B27,"")) -> PROD | I10: =IF($E$1=1,C10,IF($E$1=2,C27,"")) -> OK
A11: Annonce | B11: ORANGE | C11: OK | G11: Annonce | H11: =IF($E$1=1,B11,IF($E$1=2,B28,"")) -> ORANGE | I11: =IF($E$1=1,C11,IF($E$1=2,C28,"")) -> OK
A12: Visit | B12: PROD | C12: NOK | G12: Visit | H12: =IF($E$1=1,B12,IF($E$1=2,B29,"")) -> PROD | I12: =IF($E$1=1,C12,IF($E$1=2,C29,"")) -> NOK
A13: Résiliation (ANESME & Visio) | B13: PROD | C13: NOK | G13: Résiliation (ANESME & Visio) | H13: =IF($E$1=1,B13,IF($E$1=2,B30,"")) -> PROD | I13: =IF($E$1=1,C13,IF($E$1=2,C30,"")) -> NOK
... A16: Etiquettage - | B16: PROD | C16: NOK | G16: Etiquettage - | H16: =IF($E$1=1,B16,IF($E$1=2,B33,"")) -> PROD | I16: =IF($E$1=1,C16,IF($E$1=2,C33,"")) -> NOK
A18: Paris16 | B18: 2
A19: Installation éléctrique | B19: ORANGE | C19: NOK
A20: Sécu G | B20: PROD | C20: NOK
A21: Arrivé | B21: externe | C21: OK
A22: Test redondance r | B22: reseau | C22: OK
A23: Test redondance s | B23: PROD | C23: NOK
A24: Suppresion configuration | B24: ORANGE | C24: NOK
A25: Contact | B25: ORANGE | C25: OK
A26: Résiliation | B26: PROD | C26: OK
A27: Récupération | B27: externe | C27: NOK
A28: Annonce | B28: reseau | C28: NOK
A29: Visit | B29: PROD | C29: NOK
A30: Résiliation (ANESME & Visio) | B30: ORANGE | C30: OK
... A33: Etiquettage - | B33: externe | C33: NOK
