Workbook
Name ElevesA: 'CE2 T1'!$B$1:$AE$1
Name ElevesB: #REF!

Sheet CE2 T1
A1: Trimeste 1 | B1: Achille | C1: Alexis | D1: Emma | E1: Eva | F1: Horkaïce | G1: Kelly | H1: Lucie | I1: Lya | J1: Maéva | K1: Manon | L1: Micky | M1: Naya | N1: Shana Bi. | O1: Shana Be.
B2: 1 | C2: 2 | D2: 3 | E2: 4 | F2: 5 | G2: 6 | H2: 7 | I2: 8 | J2: 9 | K2: 10 | L2: 11 | M2: 12 | N2: 13 | O2: 14 | P2: 15 | Q2: 16 | R2: 17 | S2: 18 | T2: 19 | U2: 20 | V2: 21 | W2: 22 | X2: 23 | Y2: 24 | Z2: 25 | AA2: 26 | AB2: 27 | AC2: 28 | AD2: 29 | AE2: 30
A3: Questionner le monde
A4: Découvrir le recyclage | B4: A | C4: A | D4: A | E4: A | F4: A | G4: PA | H4: A | I4: A | J4: A | K4: A | L4: A | M4: A | N4: A | O4: A
A5: Savoir nommer et reconnaitre les émotions principales | B5: A | C5: PA | D5: A | E5: PA | F5: PA | G5: PA | H5: PA | I5: A | J5: PA | K5: PA | L5: PA | M5: PA | N5: PA | O5: A
A6: Savoir gérer ses émotions. | B6: A | C6: A | D6: A | E6: pa | F6: A | G6: PA | H6: A | I6: A | J6: A | K6: A | L6: PA | M6: PA | N6: A | O6: A
A7: Connaitre les 3 états de l'eau | B7: A | C7: A | D7: A | E7: A | F7: A | G7: A | H7: A | I7: A | J7: A | K7: A | L7: A | M7: A | N7: A | O7: A
A11: Mathématiques
A12: Savoir mesurer des objets et des segments | B12: A | C12: A | D12: A | E12: PA | F12: A | G12: A | H12: A | I12: A | J12: PA | K12: PA | L12: PA | M12: A | N12: A | O12: A
A13: Savoir tracer un segment dont la mesure est donnée | B13: A | C13: A | D13: A | E13: PA | F13: PA | G13: NA | H13: A | I13: A | J13: PA | K13: PA | L13: PA | M13: A | N13: A | O13: A
A14: Connaitre le vocabulaire de géométrie | B14: A | C14: A | D14: A | E14: NA | F14: PA | G14: PA | H14: PA | I14: A | J14: A | K14: A | L14: A | M14: A | N14: A | O14: A
A15: Connaitre les tables de 2et 3 | B15: A | C15: A | D15: A | E15: PA | F15: PA | G15: A | H15: A | I15: A | J15: A | K15: A | L15: A | M15: A | N15: A | O15: A
A16: Décomposer les nombres jusqu'à 999 | B16: a | C16: a | D16: a | E16: a | F16: pa | G16: pa | H16: a | I16: a | J16: a | K16: a | L16: a | M16: a | N16: a | O16: a
A17: Lire et écrire les nombres jusqu'à 999 | B17: A | C17: A | D17: A | E17: A | F17: A | G17: A | H17: A | I17: A | J17: A | K17: A | L17: A | M17: A | N17: A | O17: A
A18: Connaitre la technique opératoire: addition | B18: A | C18: A | D18: A | E18: A | F18: A | G18: A | H18: A | I18: A | J18: A | K18: A | L18: pa | M18: A | N18: A | O18: A
A19: Connaitre la technique opératoire: soustraction sans retenues | B19: A | C19: A | D19: A | E19: A | F19: A | G19: PA | H19: A | I19: A | J19: A | K19: PA | L19: PA | M19: A | N19: A | O19: A
A20: Connaitre la technique opératoire: soustraction avec retenues | B20: PA | C20: A | D20: A | E20: PA | F20: PA | G20: PA | H20: PA | I20: A | J20: PA | K20: NA | L20: NA | M20: NA | N20: PA | O20: A
A21: Connaitre la technique opératoire: multiplication à 1 chiffre | B21: PA | C21: A | D21: A | E21: A | F21: A | G21: NA | H21: A | I21: A | J21: A | K21: A | L21: PA | M21: A | N21: A | O21: A
A22: Lire l'heure | B22: PA | C22: A | D22: A | E22: PA | F22: NA | G22: NA | H22: A | I22: A | J22: A | K22: PA | L22: A | M22: PA | N22: A | O22: A
A23: Résoudre des problèmes sur les durées | B23: pa | C23: pa | D23: a | E23: pa | F23: na | G23: na | H23: pa | I23: a | J23: a | K23: a | L23: a | M23: pa | N23: a | O23: a
A25: Français
A26: Identifier, constituer une phrase simple | B26: A | C26: D | D26: A | E26: A | F26: A | G26: PA | H26: A | I26: A | J26: A | K26: A | L26: A | M26: A | N26: A | O26: A
A27: Identifier le futur | B27: A | C27: a | D27: pa | E27: NA | F27: A | G27: NA | H27: A | I27: A | J27: PA | K27: A | L27: NA | M27: A | N27: pa | O27: A
A28: Identifier le présent | B28: A | C28: a | D28: A | E28: A | F28: A | G28: PA | H28: A | I28: A | J28: A | K28: A | L28: PA | M28: A | N28: A | O28: A
A29: Identifier le passé | B29: A | C29: A | D29: A | E29: NA | F29: A | G29: NA | H29: A | I29: A | J29: A | K29: A | L29: NA | M29: A | N29: A | O29: A
A30: Identifier le sujet dans une phrase simple | B30: A | C30: A | D30: A | E30: A | F30: PA | G30: PA | H30: PA | I30: A | J30: A | K30: PA | L30: A | M30: A | N30: A | O30: A
A31: Trouver le verbe dans une phrase simple | B31: PA | C31: A | D31: A | E31: PA | F31: PA | G31: PA | H31: A | I31: A | J31: A | K31: PA | L31: PA | M31: A | N31: A | O31: A
A32: Donner l'infinitif du verbe | B32: PA | C32: A | D32: A | E32: PA | F32: PA | G32: PA | H32: PA | I32: A | J32: A | K32: PA | L32: NA | M32: pa | N32: A | O32: A
A33: Conjuguer les verbes en -er au présent | B33: A | C33: PA | D33: A | E33: PA | F33: PA | G33: NA | H33: A | I33: A | J33: PA | K33: A | L33: PA | M33: PA | N33: A | O33: A
A34: Réaliser l'accord sujet verbe. | B34: PA | C34: PA | D34: A | E34: PA | F34: PA | G34: PA | H34: A | I34: A | J34: PA | K34: PA | L34: PA | M34: PA | N34: PA | O34: PA
A35: Transformer le sujet en pronom et inversement | B35: A | C35: A | D35: A | E35: NA | F35: PA | G35: PA | H35: A | I35: A | J35: A | K35: PA | L35: PA | M35: PA | N35: A | O35: A
A36: Copier un texte sous la dictée sans erreurs | B36: pa | C36: pa | D36: pa | E36: pa | F36: pa | G36: pa | H36: pa | I36: a | J36: pa | K36: a | L36: pa | M36: pa | N36: pa | O36: a
A37: Repérer le nom dans le groupe nominal | B37: a | C37: a | D37: a | E37: pa | F37: pa | G37: pa | H37: a | I37: a | J37: a | K37: pa | L37: a | M37: pa | N37: a | O37: a
... A41: Mémoriser des poésies | B41: a | C41: a | D41: a | E41: a | F41: a | G41: a | H41: a | I41: a | J41: a | K41: a | L41: a | M41: a | N41: a | O41: a
A44: EPS
A45: Se reconnaitre attaquant / défenseur. | B45: A | C45: A | D45: A | E45: A | F45: A | G45: A | H45: A | I45: A | J45: A | K45: A | L45: A | M45: A | N45: A | O45: A
A46: Coopérer pour attaquer et défendre. | B46: A | C46: A | D46: A | E46: A | F46: A | G46: A | H46: A | I46: A | J46: A | K46: A | L46: A | M46: A | N46: A | O46: A
A48: Anglais
A49: Se présenter | B49: a | C49: a | D49: a | E49: a | F49: a | G49: a | H49: a | I49: a | J49: a | K49: a | L49: a | M49: a | N49: a | O49: a
A50: Répondre à des questions sur des sujets familiers. | B50: a | C50: a | D50: a | E50: a | F50: a | G50: a | H50: a | I50: a | J50: a | K50: a | L50: a | M50: a | N50: a | O50: a
A53: Commentaire

Sheet Bilans CE2 T1
A1: Ecole A
A2: 1 Rue d'excel | D2: Bilan des compétences et connaissances
A3: xxxx Paris | D3: Trimeste 1
A4: 00 00 00 00 00 | D4: Année Scolaire : 2017/2018
A6: Classe de: | B6: Mm X | D6: Positionnement objectif d’apprentissage NA : Non Atteint PA : Partiellement Atteint A : Atteint D : Dépassé
A7: Elève : | B7: Achille
A8: Classe : | B8: CE2
A9: =HLOOKUP(B7,'CE2 T1'!B1:AE2,2,FALSE) -> 1 | D9: NA | E9: PA | F9: A | G9: D
A10: ='CE2 T1'!A3 -> Questionner le monde | B10: ='CE2 T1'!A4 -> Découvrir le recyclage | D10: =IF(I10="NA","O"," ") | E10: =IF(I10="PA","O"," ") | F10: =IF(I10="A","O"," ") -> O | G10: =IF(I10="D","O"," ") | I10: =INDEX('CE2 T1'!B4:AE4,1,$A$9) -> A
B11: ='CE2 T1'!A5 -> Savoir nommer et reconnaitre les émotions principales | D11: =IF(I11="NA","O"," ") | E11: =IF(I11="PA","O"," ") | F11: =IF(I11="A","O"," ") -> O | G11: =IF(I11="D","O"," ") | I11: =INDEX('CE2 T1'!B5:AE5,1,$A$9) -> A
B12: ='CE2 T1'!A6 -> Savoir gérer ses émotions. | D12: =IF(I12="NA","O"," ") | E12: =IF(I12="PA","O"," ") | F12: =IF(I12="A","O"," ") -> O | G12: =IF(I12="D","O"," ") | I12: =INDEX('CE2 T1'!B6:AE6,1,$A$9) -> A
B13: ='CE2 T1'!A7 -> Connaitre les 3 états de l'eau | D13: =IF(I13="NA","O"," ") | E13: =IF(I13="PA","O"," ") | F13: =IF(I13="A","O"," ") -> O | G13: =IF(I13="D","O"," ") | I13: =INDEX('CE2 T1'!B7:AE7,1,$A$9) -> A
A15: ='CE2 T1'!A11 -> Mathématiques | B15: ='CE2 T1'!A12 -> Savoir mesurer des objets et des segments | D15: =IF(I15="NA","O"," ") | E15: =IF(I15="PA","O"," ") | F15: =IF(I15="A","O"," ") -> O | G15: =IF(I15="D","O"," ") | I15: =INDEX('CE2 T1'!B12:AE12,1,$A$9) -> A
B16: ='CE2 T1'!A13 -> Savoir tracer un segment dont la mesure est donnée | D16: =IF(I16="NA","O"," ") | E16: =IF(I16="PA","O"," ") | F16: =IF(I16="A","O"," ") -> O | G16: =IF(I16="D","O"," ") | I16: =INDEX('CE2 T1'!B13:AE13,1,$A$9) -> A
B17: ='CE2 T1'!A14 -> Connaitre le vocabulaire de géométrie | D17: =IF(I17="NA","O"," ") | E17: =IF(I17="PA","O"," ") | F17: =IF(I17="A","O"," ") -> O | G17: =IF(I17="D","O"," ") | I17: =INDEX('CE2 T1'!B14:AE14,1,$A$9) -> A
B18: ='CE2 T1'!A15 -> Connaitre les tables de 2et 3 | D18: =IF(I18="NA","O"," ") | E18: =IF(I18="PA","O"," ") | F18: =IF(I18="A","O"," ") -> O | G18: =IF(I18="D","O"," ") | I18: =INDEX('CE2 T1'!B15:AE15,1,$A$9) -> A
B19: ='CE2 T1'!A16 -> Décomposer les nombres jusqu'à 999 | D19: =IF(I19="NA","O"," ") | E19: =IF(I19="PA","O"," ") | F19: =IF(I19="A","O"," ") -> O | G19: =IF(I19="D","O"," ") | I19: =INDEX('CE2 T1'!B16:AE16,1,$A$9) -> a
B20: ='CE2 T1'!A17 -> Lire et écrire les nombres jusqu'à 999 | D20: =IF(I20="NA","O"," ") | E20: =IF(I20="PA","O"," ") | F20: =IF(I20="A","O"," ") -> O | G20: =IF(I20="D","O"," ") | I20: =INDEX('CE2 T1'!B17:AE17,1,$A$9) -> A
B21: ='CE2 T1'!A18 -> Connaitre la technique opératoire: addition | D21: =IF(I21="NA","O"," ") | E21: =IF(I21="PA","O"," ") | F21: =IF(I21="A","O"," ") -> O | G21: =IF(I21="D","O"," ") | I21: =INDEX('CE2 T1'!B18:AE18,1,$A$9) -> A
B22: ='CE2 T1'!A19 -> Connaitre la technique opératoire: soustraction sans retenues | D22: =IF(I22="NA","O"," ") | E22: =IF(I22="PA","O"," ") | F22: =IF(I22="A","O"," ") -> O | G22: =IF(I22="D","O"," ") | I22: =INDEX('CE2 T1'!B19:AE19,1,$A$9) -> A
B23: ='CE2 T1'!A20 -> Connaitre la technique opératoire: soustraction avec retenues | D23: =IF(I23="NA","O"," ") | E23: =IF(I23="PA","O"," ") -> O | F23: =IF(I23="A","O"," ") | G23: =IF(I23="D","O"," ") | I23: =INDEX('CE2 T1'!B20:AE20,1,$A$9) -> PA
B24: ='CE2 T1'!A21 -> Connaitre la technique opératoire: multiplication à 1 chiffre | D24: =IF(I24="NA","O"," ") | E24: =IF(I24="PA","O"," ") -> O | F24: =IF(I24="A","O"," ") | G24: =IF(I24="D","O"," ") | I24: =INDEX('CE2 T1'!B21:AE21,1,$A$9) -> PA
B25: ='CE2 T1'!A22 -> Lire l'heure | D25: =IF(I25="NA","O"," ") | E25: =IF(I25="PA","O"," ") -> O | F25: =IF(I25="A","O"," ") | G25: =IF(I25="D","O"," ") | I25: =INDEX('CE2 T1'!B22:AE22,1,$A$9) -> PA
B26: ='CE2 T1'!A23 -> Résoudre des problèmes sur les durées | D26: =IF(I26="NA","O"," ") | E26: =IF(I26="PA","O"," ") -> O | F26: =IF(I26="A","O"," ") | G26: =IF(I26="D","O"," ") | I26: =INDEX('CE2 T1'!B23:AE23,1,$A$9) -> pa
A27: ='CE2 T1'!A25 -> Français | B27: ='CE2 T1'!A26 -> Identifier, constituer une phrase simple | D27: =IF(I27="NA","O"," ") | E27: =IF(I27="PA","O"," ") | F27: =IF(I27="A","O"," ") -> O | G27: =IF(I27="D","O"," ") | I27: =INDEX('CE2 T1'!B26:AE26,1,$A$9) -> A
B28: ='CE2 T1'!A27 -> Identifier le futur | D28: =IF(I28="NA","O"," ") | E28: =IF(I28="PA","O"," ") | F28: =IF(I28="A","O"," ") -> O | G28: =IF(I28="D","O"," ") | I28: =INDEX('CE2 T1'!B27:AE27,1,$A$9) -> A
B29: ='CE2 T1'!A28 -> Identifier le présent | D29: =IF(I29="NA","O"," ") | E29: =IF(I29="PA","O"," ") | F29: =IF(I29="A","O"," ") -> O | G29: =IF(I29="D","O"," ") | I29: =INDEX('CE2 T1'!B28:AE28,1,$A$9) -> A
B30: ='CE2 T1'!A29 -> Identifier le passé | D30: =IF(I30="NA","O"," ") | E30: =IF(I30="PA","O"," ") | F30: =IF(I30="A","O"," ") -> O | G30: =IF(I30="D","O"," ") | I30: =INDEX('CE2 T1'!B29:AE29,1,$A$9) -> A
B31: ='CE2 T1'!A30 -> Identifier le sujet dans une phrase simple | D31: =IF(I31="NA","O"," ") | E31: =IF(I31="PA","O"," ") | F31: =IF(I31="A","O"," ") -> O | G31: =IF(I31="D","O"," ") | I31: =INDEX('CE2 T1'!B30:AE30,1,$A$9) -> A
B32: ='CE2 T1'!A31 -> Trouver le verbe dans une phrase simple | D32: =IF(I32="NA","O"," ") | E32: =IF(I32="PA","O"," ") -> O | F32: =IF(I32="A","O"," ") | G32: =IF(I32="D","O"," ") | I32: =INDEX('CE2 T1'!B31:AE31,1,$A$9) -> PA
B33: ='CE2 T1'!A32 -> Donner l'infinitif du verbe | D33: =IF(I33="NA","O"," ") | E33: =IF(I33="PA","O"," ") -> O | F33: =IF(I33="A","O"," ") | G33: =IF(I33="D","O"," ") | I33: =INDEX('CE2 T1'!B32:AE32,1,$A$9) -> PA
B34: ='CE2 T1'!A33 -> Conjuguer les verbes en -er au présent | D34: =IF(I34="NA","O"," ") | E34: =IF(I34="PA","O"," ") | F34: =IF(I34="A","O"," ") -> O | G34: =IF(I34="D","O"," ") | I34: =INDEX('CE2 T1'!B33:AE33,1,$A$9) -> A
B35: ='CE2 T1'!A34 -> Réaliser l'accord sujet verbe. | D35: =IF(I35="NA","O"," ") | E35: =IF(I35="PA","O"," ") -> O | F35: =IF(I35="A","O"," ") | G35: =IF(I35="D","O"," ") | I35: =INDEX('CE2 T1'!B34:AE34,1,$A$9) -> PA
B36: ='CE2 T1'!A35 -> Transformer le sujet en pronom et inversement | D36: =IF(I36="NA","O"," ") | E36: =IF(I36="PA","O"," ") | F36: =IF(I36="A","O"," ") -> O | G36: =IF(I36="D","O"," ") | I36: =INDEX('CE2 T1'!B35:AE35,1,$A$9) -> A
B37: ='CE2 T1'!A36 -> Copier un texte sous la dictée sans erreurs | D37: =IF(I37="NA","O"," ") | E37: =IF(I37="PA","O"," ") -> O | F37: =IF(I37="A","O"," ") | G37: =IF(I37="D","O"," ") | I37: =INDEX('CE2 T1'!B36:AE36,1,$A$9) -> pa
B38: ='CE2 T1'!A37 -> Repérer le nom dans le groupe nominal | D38: =IF(I38="NA","O"," ") | E38: =IF(I38="PA","O"," ") | F38: =IF(I38="A","O"," ") -> O | G38: =IF(I38="D","O"," ") | I38: =INDEX('CE2 T1'!B37:AE37,1,$A$9) -> a
B39: ='CE2 T1'!A38 -> Repérer le genre et le nombre dans le groupe nominal | D39: =IF(I39="NA","O"," ") | E39: =IF(I39="PA","O"," ") | F39: =IF(I39="A","O"," ") -> O | G39: =IF(I39="D","O"," ") | I39: =INDEX('CE2 T1'!B38:AE38,1,$A$9) -> a
... B42: ='CE2 T1'!A41 -> Mémoriser des poésies | D42: =IF(I42="NA","O"," ") | E42: =IF(I42="PA","O"," ") | F42: =IF(I42="A","O"," ") -> O | G42: =IF(I42="D","O"," ") | I42: =INDEX('CE2 T1'!B41:AE41,1,$A$9) -> a
A43: ='CE2 T1'!A44 -> EPS | B43: ='CE2 T1'!A45 -> Se reconnaitre attaquant / défenseur. | D43: =IF(I43="NA","O"," ") | E43: =IF(I43="PA","O"," ") | F43: =IF(I43="A","O"," ") -> O | G43: =IF(I43="D","O"," ") | I43: =INDEX('CE2 T1'!B45:AE45,1,$A$9) -> A
B44: ='CE2 T1'!A46 -> Coopérer pour attaquer et défendre. | D44: =IF(I44="NA","O"," ") | E44: =IF(I44="PA","O"," ") | F44: =IF(I44="A","O"," ") -> O | G44: =IF(I44="D","O"," ") | I44: =INDEX('CE2 T1'!B46:AE46,1,$A$9) -> A
A45: ='CE2 T1'!A48 -> Anglais | B45: ='CE2 T1'!A49 -> Se présenter | D45: =IF(I45="NA","O"," ") | E45: =IF(I45="PA","O"," ") | F45: =IF(I45="A","O"," ") -> O | G45: =IF(I45="D","O"," ") | I45: =INDEX('CE2 T1'!B49:AE49,1,$A$9) -> a
B46: ='CE2 T1'!A50 -> Répondre à des questions sur des sujets familiers. | D46: =IF(I46="NA","O"," ") | E46: =IF(I46="PA","O"," ") | F46: =IF(I46="A","O"," ") -> O | G46: =IF(I46="D","O"," ") | I46: =INDEX('CE2 T1'!B50:AE50,1,$A$9) -> a
A47: ='CE2 T1'!A53 -> Commentaire | B47: =INDEX('CE2 T1'!B53:AE53, A9) -> 0
