Workbook
Name M.O: '[1]Gestion Culture'!$B$4:$B$6

Sheet Divers Travaux
B2: Travaux divers éxécuté par l'empoyé
B4: Date | D4: Heure | F4: Employé | H4: Travaux
B5: 43195 | D5: 2 | F5: Jean Michel | H5: Soudure
B6: 43195 | D6: 1 | F6: Jean Michel | H6: Nettoyage
B7: 43195 | D7: 6 | F7: Margot | H7: Soudure

Sheet JAN
A1: FICHE HORAIRE du MOIS de : | F1: Avril | I1: 2018
C3: Jean Michel
A11: Jour | C11: Date | D11: Heures | E11: Divers (1)
A12: =DATE(I1,MONTH("1/"&$F$1),1) -> 43191 | B12: =A12 -> 43191 | C12: =A12 -> 43191 | D12: =IF('Divers Travaux'!$F$5:$F$10049=$C$3,SUMPRODUCT(('Divers Travaux'!$B$5:$B$10049=B12)*('Divers Travaux'!$D$5:$D$10049))," ")
A13: =IFERROR(IF(WEEKDAY(A12+1,2)=1,"total semaine "&COUNTIF($A$11:A12,"total*")+1,A12+1),A11+1) -> total semaine 1 | B13: =IF(TEXT(A13,"jjj")="jjj",A13,IF(LEFT(A13,5)="total",SUM(D12:D12),A13)) -> 0 | C13: =A13 -> total semaine 1 | D13: =IF('Divers Travaux'!$F$5:$F$10049=$C$3,SUMPRODUCT(('Divers Travaux'!$B$5:$B$10049=B13)*('Divers Travaux'!$D$5:$D$10049))," ")
A14: =IFERROR(IF(WEEKDAY(A13+1,2)=1,"total semaine "&COUNTIF($A$11:A13,"total*")+1,A13+1),A12+1) -> 43192 | B14: =A14 -> 43192 | C14: =A14 -> 43192 | D14: =IF('Divers Travaux'!$F$5:$F$10049=$C$3,SUMPRODUCT(('Divers Travaux'!$B$5:$B$10049=B14)*('Divers Travaux'!$D$5:$D$10049))," ")
A15: =IFERROR(IF(WEEKDAY(A14+1,2)=1,"total semaine "&COUNTIF($A$11:A14,"total*")+1,A14+1),A13+1) -> 43193 | B15: =A15 -> 43193 | C15: =A15 -> 43193 | D15: =IF('Divers Travaux'!$F$5:$F$10049=$C$3,SUMPRODUCT(('Divers Travaux'!$B$5:$B$10049=B15)*('Divers Travaux'!$D$5:$D$10049))," ")
A16: =IFERROR(IF(WEEKDAY(A15+1,2)=1,"total semaine "&COUNTIF($A$11:A15,"total*")+1,A15+1),A14+1) -> 43194 | B16: 43195 | C16: =A16 -> 43194 | D16: =IF('Divers Travaux'!$F$5:$F$10049=$C$3,SUMPRODUCT(('Divers Travaux'!$B$5:$B$10049=B16)*('Divers Travaux'!$D$5:$D$10049))," ")
A17: =IFERROR(IF(WEEKDAY(A16+1,2)=1,"total semaine "&COUNTIF($A$11:A16,"total*")+1,A16+1),A15+1) -> 43195 | B17: =A17 -> 43195 | C17: =A17 -> 43195 | D17: =IF('Divers Travaux'!$F$5:$F$10049=$C$3,SUMPRODUCT(('Divers Travaux'!$B$5:$B$10049=B17)*('Divers Travaux'!$D$5:$D$10049))," ")
A18: =IFERROR(IF(WEEKDAY(A17+1,2)=1,"total semaine "&COUNTIF($A$11:A17,"total*")+1,A17+1),A16+1) -> 43196 | B18: =IF(LEFT(A18,5)="total",SUM(D12:D17),A18) -> 43196 | C18: =A18 -> 43196
A19: =IFERROR(IF(WEEKDAY(A18+1,2)=1,"total semaine "&COUNTIF($A$11:A18,"total*")+1,A18+1),A17+1) -> 43197 | B19: =A19 -> 43197 | C19: =A19 -> 43197
A20: =IFERROR(IF(WEEKDAY(A19+1,2)=1,"total semaine "&COUNTIF($A$11:A19,"total*")+1,A19+1),A18+1) -> 43198 | B20: =A20 -> 43198 | C20: =A20 -> 43198
A21: =IFERROR(IF(WEEKDAY(A20+1,2)=1,"total semaine "&COUNTIF($A$11:A20,"total*")+1,A20+1),A19+1) -> total semaine 2 | B21: =A21 -> total semaine 2 | C21: =A21 -> total semaine 2
A22: =IFERROR(IF(WEEKDAY(A21+1,2)=1,"total semaine "&COUNTIF($A$11:A21,"total*")+1,A21+1),A20+1) -> 43199 | B22: =A22 -> 43199 | C22: =A22 -> 43199
A23: =IFERROR(IF(WEEKDAY(A22+1,2)=1,"total semaine "&COUNTIF($A$11:A22,"total*")+1,A22+1),A21+1) -> 43200 | B23: =A23 -> 43200 | C23: =A23 -> 43200
A24: =IFERROR(IF(WEEKDAY(A23+1,2)=1,"total semaine "&COUNTIF($A$11:A23,"total*")+1,A23+1),A22+1) -> 43201 | B24: =A24 -> 43201 | C24: =A24 -> 43201
A25: =IFERROR(IF(WEEKDAY(A24+1,2)=1,"total semaine "&COUNTIF($A$11:A24,"total*")+1,A24+1),A23+1) -> 43202 | B25: =A25 -> 43202 | C25: =A25 -> 43202
A26: =IFERROR(IF(WEEKDAY(A25+1,2)=1,"total semaine "&COUNTIF($A$11:A25,"total*")+1,A25+1),A24+1) -> 43203 | B26: =IF(LEFT(A26,5)="total",SUM(D20:D25),"") | C26: =A26 -> 43203
A27: =IFERROR(IF(WEEKDAY(A26+1,2)=1,"total semaine "&COUNTIF($A$11:A26,"total*")+1,A26+1),A25+1) -> 43204 | B27: =A27 -> 43204 | C27: =A27 -> 43204
A28: =IFERROR(IF(WEEKDAY(A27+1,2)=1,"total semaine "&COUNTIF($A$11:A27,"total*")+1,A27+1),A26+1) -> 43205 | B28: =A28 -> 43205 | C28: =A28 -> 43205
A29: =IFERROR(IF(WEEKDAY(A28+1,2)=1,"total semaine "&COUNTIF($A$11:A28,"total*")+1,A28+1),A27+1) -> total semaine 3 | B29: =A29 -> total semaine 3 | C29: =A29 -> total semaine 3
A30: =IFERROR(IF(WEEKDAY(A29+1,2)=1,"total semaine "&COUNTIF($A$11:A29,"total*")+1,A29+1),A28+1) -> 43206 | B30: =A30 -> 43206 | C30: =A30 -> 43206
A31: =IFERROR(IF(WEEKDAY(A30+1,2)=1,"total semaine "&COUNTIF($A$11:A30,"total*")+1,A30+1),A29+1) -> 43207 | B31: =A31 -> 43207 | C31: =A31 -> 43207
A32: =IFERROR(IF(WEEKDAY(A31+1,2)=1,"total semaine "&COUNTIF($A$11:A31,"total*")+1,A31+1),A30+1) -> 43208 | B32: =A32 -> 43208 | C32: =A32 -> 43208
A33: =IFERROR(IF(WEEKDAY(A32+1,2)=1,"total semaine "&COUNTIF($A$11:A32,"total*")+1,A32+1),A31+1) -> 43209 | B33: =A33 -> 43209 | C33: =A33 -> 43209
A34: =IFERROR(IF(WEEKDAY(A33+1,2)=1,"total semaine "&COUNTIF($A$11:A33,"total*")+1,A33+1),A32+1) -> 43210 | B34: =A34 -> 43210 | C34: =A34 -> 43210
A35: =IFERROR(IF(WEEKDAY(A34+1,2)=1,"total semaine "&COUNTIF($A$11:A34,"total*")+1,A34+1),A33+1) -> 43211 | B35: =A35 -> 43211 | C35: =A35 -> 43211
A36: =IFERROR(IF(WEEKDAY(A35+1,2)=1,"total semaine "&COUNTIF($A$11:A35,"total*")+1,A35+1),A34+1) -> 43212 | B36: =A36 -> 43212 | C36: =A36 -> 43212
A37: =IFERROR(IF(WEEKDAY(A36+1,2)=1,"total semaine "&COUNTIF($A$11:A36,"total*")+1,A36+1),A35+1) -> total semaine 4 | B37: =A37 -> total semaine 4 | C37: =A37 -> total semaine 4
A38: =IFERROR(IF(WEEKDAY(A37+1,2)=1,"total semaine "&COUNTIF($A$11:A37,"total*")+1,A37+1),A36+1) -> 43213 | B38: =A38 -> 43213 | C38: =A38 -> 43213
... A44: =IFERROR(IF(WEEKDAY(A43+1,2)=1,"total semaine "&COUNTIF($A$11:A43,"total*")+1,A43+1),A42+1) -> 43219 | B44: =A44 -> 43219 | C44: =A44 -> 43219
A45: =IFERROR(IF(WEEKDAY(A44+1,2)=1,"total semaine "&COUNTIF($A$11:A44,"total*")+1,A44+1),A43+1) -> total semaine 5 | C45: =A45 -> total semaine 5
A46: =IFERROR(IF(WEEKDAY(A45+1,2)=1,"total semaine "&COUNTIF($A$11:A45,"total*")+1,A45+1),A44+1) -> 43220 | C46: =A46 -> 43220
