Workbook

Sheet Menu
A1: 3ème degré
A3: N° du menu | B3: 1 | C3: 2 | D3: 3 | E3: 4 | F3: 5 | G3: 6 | H3: 7 | I3: 8 | J3: 9 | K3: 10 | L3: 11 | M3: 12 | N3: 13 | O3: 14 | P3: 15 | Q3: 16 | R3: 17 | S3: 18 | T3: 19 | U3: 20 | V3: 21 | W3: 22 | X3: 23 | Y3: 24 | Z3: 25 | AA3: 26 | AB3: 27 | AC3: 28 | AD3: 29 | AE3: 30 | AF3: 31 | AG3: 32
A5: Formation commune et/ou optionnelle obligatoire
A6: Religion (2h) | B6: 2 | C6: 2 | D6: 2 | E6: 2 | F6: 2 | G6: 2 | H6: 2 | I6: 2 | J6: 2 | K6: 2 | L6: 2 | M6: 2 | N6: 2 | O6: 2 | P6: 2 | Q6: 2 | R6: 2 | S6: 2 | T6: 2 | U6: 2 | V6: 2 | W6: 2 | X6: 2 | Y6: 2 | Z6: 2 | AA6: 2 | AB6: 2 | AC6: 2 | AD6: 2 | AE6: 2 | AF6: 2 | AG6: 2
A7: Français (4h) | B7: 4 | C7: 4 | D7: 4 | E7: 4 | F7: 4 | G7: 4 | H7: 4 | I7: 4 | J7: 4 | K7: 4 | L7: 4 | M7: 4 | N7: 4 | O7: 4 | P7: 4 | Q7: 4 | R7: 4 | S7: 4 | T7: 4 | U7: 4 | V7: 4 | W7: 4 | X7: 4 | Y7: 4 | Z7: 4 | AA7: 4 | AB7: 4 | AC7: 4 | AD7: 4 | AE7: 4 | AF7: 4 | AG7: 4
A8: Géo.(2h) | B8: 2 | C8: 2 | D8: 2 | E8: 2 | F8: 2 | G8: 2 | H8: 2 | I8: 2 | J8: 2 | K8: 2 | L8: 2 | M8: 2 | N8: 2 | O8: 2 | P8: 2 | Q8: 2 | R8: 2 | S8: 2 | T8: 2 | U8: 2 | V8: 2 | W8: 2 | X8: 2 | Y8: 2 | Z8: 2 | AA8: 2 | AB8: 2 | AC8: 2 | AD8: 2 | AE8: 2 | AF8: 2 | AG8: 2
A9: Histoire (2h) | B9: 2 | C9: 2 | D9: 2 | E9: 2 | F9: 2 | G9: 2 | H9: 2 | I9: 2 | J9: 2 | K9: 2 | L9: 2 | M9: 2 | N9: 2 | O9: 2 | P9: 2 | Q9: 2 | R9: 2 | S9: 2 | T9: 2 | U9: 2 | V9: 2 | W9: 2 | X9: 2 | Y9: 2 | Z9: 2 | AA9: 2 | AB9: 2 | AC9: 2 | AD9: 2 | AE9: 2 | AF9: 2 | AG9: 2
A10: Ed. phys.(2h) | B10: 2 | C10: 2 | D10: 2 | E10: 2 | F10: 2 | G10: 2 | H10: 2 | I10: 2 | J10: 2 | K10: 2 | L10: 2 | M10: 2 | N10: 2 | O10: 2 | P10: 2 | Q10: 2 | R10: 2 | S10: 2 | T10: 2 | U10: 2 | V10: 2 | W10: 2 | X10: 2 | Y10: 2 | Z10: 2 | AA10: 2 | AB10: 2 | AC10: 2 | AD10: 2 | AE10: 2 | AF10: 2 | AG10: 2
A11: Langue 1 | AH11: Rentrer 2 ou 4
A12: Langue 2 | AH12: Rentrer 0, 2 ou 4
A13: AC Français | AH13: Rentrer 0 ou 1
A14: Math. | B14: 2 | C14: 2 | D14: 2 | E14: 2 | F14: 2 | G14: 2 | H14: 2 | I14: 2 | J14: 4 | K14: 4 | L14: 4 | M14: 4 | N14: 4 | O14: 4 | P14: 4 | Q14: 4 | R14: 4 | S14: 4 | T14: 4 | U14: 6 | V14: 6 | W14: 6 | X14: 6 | Y14: 6 | Z14: 6 | AA14: 6 | AB14: 6 | AC14: 8 | AD14: 8 | AE14: 8 | AF14: 8 | AG14: 8
A15: Sciences | B15: 3 | C15: 3 | D15: 3 | E15: 3 | F15: 3 | G15: 3 | H15: 3 | I15: 3 | J15: 3 | K15: 3 | L15: 3 | M15: 3 | N15: 3 | O15: 3 | P15: 3 | Q15: 3 | R15: 7 | S15: 7 | T15: 7 | U15: 3 | V15: 3 | W15: 3 | X15: 3 | Y15: 3 | Z15: 7 | AA15: 7 | AB15: 7 | AC15: 3 | AD15: 3 | AE15: 7 | AF15: 7 | AG15: 7
A16: Latin | B16: 4 | F16: 4 | K16: 4 | P16: 4 | T16: 4 | V16: 4 | X16: 4 | AB16: 4 | AG16: 4
A17: Economie | G17: 4 | H17: 4 | J17: 4 | N17: 4 | P17: 4 | U17: 4 | W17: 4 | X17: 4 | AD17: 4
A18: Allemand | C18: 4 | E18: 4 | G18: 4 | L18: 4 | N18: 4 | O18: 4 | S18: 4 | W18: 4 | AA18: 4 | AF18: 4
A19: AC Sciences | D19: 2 | E19: 2 | M19: 2 | O19: 2
A20: Sc. Soc. | B20: 4 | D20: 4 | E20: 4 | M20: 4 | O20: 4
A21: Art d’ex. | B21: 4
A22: Bio app | I22: 4 | Q22: 4 | Y22: 4
A23: Labo bio | I23: 4 | Q23: 4 | Y23: 4
A24: TOTAL | B24: 30 | C24: 21 | D24: 23 | E24: 27 | F24: 21 | G24: 25 | H24: 21 | I24: 25 | J24: 23 | K24: 23 | L24: 23 | M24: 25 | N24: 27 | O24: 29 | P24: 27 | Q24: 27 | R24: 23 | S24: 27 | T24: 27 | U24: 25 | V24: 25 | W24: 29 | X24: 29 | Y24: 29 | Z24: 25 | AA24: 29 | AB24: 29 | AC24: 23 | AD24: 27 | AE24: 27 | AF24: 31 | AG24: 31
A25: CHOIX
B26: =B24-(SUM(B14:B23)) -> 13 | C26: =C24-(SUM(C14:C23)) -> 12 | D26: =D24-(SUM(D14:D23)) -> 12 | E26: =E24-(SUM(E14:E23)) -> 12 | F26: =F24-(SUM(F14:F23)) -> 12 | G26: =G24-(SUM(G14:G23)) -> 12 | H26: =H24-(SUM(H14:H23)) -> 12 | I26: =I24-(SUM(I14:I23)) -> 12 | ... AG26: =AG24-(SUM(AG14:AG23)) -> 12
B28: erreur dans le menu 1 et 3

Sheet Feuil1
A1: Menu | B1: Religion (2h) | C1: Français (4h) | D1: Géo.(2h) | E1: Histoire (2h) | F1: Ed. phys.(2h) | G1: N1 | H1: A1 | I1: N2 | J1: A2 | K1: AC | L1: AC | M1: Math. | N1: Sciences | O1: Latin | P1: Economie | Q1: Allemand | R1: AC Sciences | S1: Sc. Soc. | T1: Art d’ex. | U1: Bio app | V1: Labo bio | W1: TOTAL
A2: 1 | B2: 2 | C2: 4 | D2: 2 | E2: 2 | F2: 2 | M2: 2 | N2: 3 | O2: 4 | S2: 4 | T2: 4 | W2: 30
A3: 2 | B3: 2 | C3: 4 | D3: 2 | E3: 2 | F3: 2 | M3: 2 | N3: 3 | Q3: 4 | W3: 21
A4: 3 | B4: 2 | C4: 4 | D4: 2 | E4: 2 | F4: 2 | M4: 2 | N4: 3 | R4: 2 | S4: 4 | W4: 23
A5: 4 | B5: 2 | C5: 4 | D5: 2 | E5: 2 | F5: 2 | M5: 2 | N5: 3 | Q5: 4 | R5: 2 | S5: 4 | W5: 27
A6: 5 | B6: 2 | C6: 4 | D6: 2 | E6: 2 | F6: 2 | M6: 2 | N6: 3 | O6: 4 | W6: 21
A7: 6 | B7: 2 | C7: 4 | D7: 2 | E7: 2 | F7: 2 | M7: 2 | N7: 3 | P7: 4 | Q7: 4 | W7: 25
A8: 7 | B8: 2 | C8: 4 | D8: 2 | E8: 2 | F8: 2 | M8: 2 | N8: 3 | P8: 4 | W8: 21
A9: 8 | B9: 2 | C9: 4 | D9: 2 | E9: 2 | F9: 2 | M9: 2 | N9: 3 | U9: 4 | V9: 4 | W9: 25
A10: 9 | B10: 2 | C10: 4 | D10: 2 | E10: 2 | F10: 2 | M10: 4 | N10: 3 | P10: 4 | W10: 23
A11: 10 | B11: 2 | C11: 4 | D11: 2 | E11: 2 | F11: 2 | M11: 4 | N11: 3 | O11: 4 | W11: 23
A12: 11 | B12: 2 | C12: 4 | D12: 2 | E12: 2 | F12: 2 | M12: 4 | N12: 3 | Q12: 4 | W12: 23
A13: 12 | B13: 2 | C13: 4 | D13: 2 | E13: 2 | F13: 2 | M13: 4 | N13: 3 | R13: 2 | S13: 4 | W13: 25
A14: 13 | B14: 2 | C14: 4 | D14: 2 | E14: 2 | F14: 2 | M14: 4 | N14: 3 | P14: 4 | Q14: 4 | W14: 27
A15: 14 | B15: 2 | C15: 4 | D15: 2 | E15: 2 | F15: 2 | M15: 4 | N15: 3 | Q15: 4 | R15: 2 | S15: 4 | W15: 29
A16: 15 | B16: 2 | C16: 4 | D16: 2 | E16: 2 | F16: 2 | M16: 4 | N16: 3 | O16: 4 | P16: 4 | W16: 27
A17: 16 | B17: 2 | C17: 4 | D17: 2 | E17: 2 | F17: 2 | M17: 4 | N17: 3 | U17: 4 | V17: 4 | W17: 27
A18: 17 | B18: 2 | C18: 4 | D18: 2 | E18: 2 | F18: 2 | M18: 4 | N18: 7 | W18: 23
A19: 18 | B19: 2 | C19: 4 | D19: 2 | E19: 2 | F19: 2 | M19: 4 | N19: 7 | Q19: 4 | W19: 27
A20: 19 | B20: 2 | C20: 4 | D20: 2 | E20: 2 | F20: 2 | M20: 4 | N20: 7 | O20: 4 | W20: 27
A21: 20 | B21: 2 | C21: 4 | D21: 2 | E21: 2 | F21: 2 | M21: 6 | N21: 3 | P21: 4 | W21: 25
A22: 21 | B22: 2 | C22: 4 | D22: 2 | E22: 2 | F22: 2 | M22: 6 | N22: 3 | O22: 4 | W22: 25
A23: 22 | B23: 2 | C23: 4 | D23: 2 | E23: 2 | F23: 2 | M23: 6 | N23: 3 | P23: 4 | Q23: 4 | W23: 29
A24: 23 | B24: 2 | C24: 4 | D24: 2 | E24: 2 | F24: 2 | M24: 6 | N24: 3 | O24: 4 | P24: 4 | W24: 29
A25: 24 | B25: 2 | C25: 4 | D25: 2 | E25: 2 | F25: 2 | M25: 6 | N25: 3 | U25: 4 | V25: 4 | W25: 29
A26: 25 | B26: 2 | C26: 4 | D26: 2 | E26: 2 | F26: 2 | M26: 6 | N26: 7 | W26: 25
A27: 26 | B27: 2 | C27: 4 | D27: 2 | E27: 2 | F27: 2 | M27: 6 | N27: 7 | Q27: 4 | W27: 29
A28: 27 | B28: 2 | C28: 4 | D28: 2 | E28: 2 | F28: 2 | M28: 6 | N28: 7 | O28: 4 | W28: 29
A29: 28 | B29: 2 | C29: 4 | D29: 2 | E29: 2 | F29: 2 | M29: 8 | N29: 3 | W29: 23
A30: 29 | B30: 2 | C30: 4 | D30: 2 | E30: 2 | F30: 2 | M30: 8 | N30: 3 | P30: 4 | W30: 27
A31: 30 | B31: 2 | C31: 4 | D31: 2 | E31: 2 | F31: 2 | M31: 8 | N31: 7 | W31: 27
A32: 31 | B32: 2 | C32: 4 | D32: 2 | E32: 2 | F32: 2 | M32: 8 | N32: 7 | Q32: 4 | W32: 31
A33: 32 | B33: 2 | C33: 4 | D33: 2 | E33: 2 | F33: 2 | M33: 8 | N33: 7 | O33: 4 | W33: 31

Sheet Elèves
B1: Noms | C1: Garçons | D1: Filles | E1: Menus | F1: Religion (2h) | G1: Français (4h) | H1: Géo.(2h) | I1: Histoire (2h) | J1: Ed. phys.(2h) | K1: Néerl 1 (4h) | L1: Anglais 1 (4h) | M1: Néerl 2 (4h) | N1: Anglais 2 (4h) | O1: AC Néerl 1 (2h) | P1: AC Neerl 2 (2h) | Q1: Math. | R1: Sciences | S1: Latin | T1: Economie | U1: Allemand | V1: AC Sciences | W1: Sc. Soc. | X1: Art d’ex. | Y1: Bio app | Z1: Labo bio | AA1: Total
A2: 1 | B2: Al-Bayati Zahraa | E2: 1 | F2: =IFERROR(VLOOKUP($E2,Feuil1!$A$2:$W$33,2,FALSE),"") -> 2 | G2: =IFERROR(VLOOKUP($E2,Feuil1!$A$2:$W$33,3,FALSE),"") -> 4 | H2: =IFERROR(VLOOKUP($E2,Feuil1!$A$2:$W$33,4,FALSE),"") -> 2 | I2: =IFERROR(VLOOKUP($E2,Feuil1!$A$2:$W$33,5,FALSE),"") -> 2 | J2: =IFERROR(VLOOKUP($E2,Feuil1!$A$2:$W$33,6,FALSE),"") -> 2 | Q2: =IFERROR(VLOOKUP($E2,Feuil1!$A$2:$W$33,13,FALSE),"") -> 2 | R2: =IFERROR(VLOOKUP($E2,Feuil1!$A$2:$W$33,14,FALSE),"") -> 3 | S2: =IFERROR(VLOOKUP($E2,Feuil1!$A$2:$W$33,15,FALSE),"") -> 4 | T2: =IFERROR(VLOOKUP($E2,Feuil1!$A$2:$W$33,16,FALSE),"") -> 0 | U2: =IFERROR(VLOOKUP($E2,Feuil1!$A$2:$W$33,17,FALSE),"") -> 0 | V2: =IFERROR(VLOOKUP($E2,Feuil1!$A$2:$W$33,18,FALSE),"") -> 0 | W2: =IFERROR(VLOOKUP($E2,Feuil1!$A$2:$W$33,19,FALSE),"") -> 4 | X2: =IFERROR(VLOOKUP($E2,Feuil1!$A$2:$W$33,20,FALSE),"") -> 4 | Y2: =IFERROR(VLOOKUP($E2,Feuil1!$A$2:$W$33,21,FALSE),"") -> 0 | Z2: =IFERROR(VLOOKUP($E2,Feuil1!$A$2:$W$33,22,FALSE),"") -> 0 | AA2: =SUM(F2:Z2) -> 29
A3: 1 | B3: Binet Romain | E3: 2 | F3: =IFERROR(VLOOKUP($E3,Feuil1!$A$2:$W$33,2,FALSE),"") -> 2 | G3: =IFERROR(VLOOKUP($E3,Feuil1!$A$2:$W$33,3,FALSE),"") -> 4 | H3: =IFERROR(VLOOKUP($E3,Feuil1!$A$2:$W$33,4,FALSE),"") -> 2 | I3: =IFERROR(VLOOKUP($E3,Feuil1!$A$2:$W$33,5,FALSE),"") -> 2 | J3: =IFERROR(VLOOKUP($E3,Feuil1!$A$2:$W$33,6,FALSE),"") -> 2 | Q3: =IFERROR(VLOOKUP($E3,Feuil1!$A$2:$W$33,13,FALSE),"") -> 2 | R3: =IFERROR(VLOOKUP($E3,Feuil1!$A$2:$W$33,14,FALSE),"") -> 3 | S3: =IFERROR(VLOOKUP($E3,Feuil1!$A$2:$W$33,15,FALSE),"") -> 0 | T3: =IFERROR(VLOOKUP($E3,Feuil1!$A$2:$W$33,16,FALSE),"") -> 0 | U3: =IFERROR(VLOOKUP($E3,Feuil1!$A$2:$W$33,17,FALSE),"") -> 4 | V3: =IFERROR(VLOOKUP($E3,Feuil1!$A$2:$W$33,18,FALSE),"") -> 0 | W3: =IFERROR(VLOOKUP($E3,Feuil1!$A$2:$W$33,19,FALSE),"") -> 0 | X3: =IFERROR(VLOOKUP($E3,Feuil1!$A$2:$W$33,20,FALSE),"") -> 0 | Y3: =IFERROR(VLOOKUP($E3,Feuil1!$A$2:$W$33,21,FALSE),"") -> 0 | Z3: =IFERROR(VLOOKUP($E3,Feuil1!$A$2:$W$33,22,FALSE),"") -> 0 | AA3: =SUM(F3:Z3) -> 21
A4: 1 | B4: Breithof Victor | E4: 3 | F4: =IFERROR(VLOOKUP($E4,Feuil1!$A$2:$W$33,2,FALSE),"") -> 2 | G4: =IFERROR(VLOOKUP($E4,Feuil1!$A$2:$W$33,3,FALSE),"") -> 4 | H4: =IFERROR(VLOOKUP($E4,Feuil1!$A$2:$W$33,4,FALSE),"") -> 2 | I4: =IFERROR(VLOOKUP($E4,Feuil1!$A$2:$W$33,5,FALSE),"") -> 2 | J4: =IFERROR(VLOOKUP($E4,Feuil1!$A$2:$W$33,6,FALSE),"") -> 2 | Q4: =IFERROR(VLOOKUP($E4,Feuil1!$A$2:$W$33,13,FALSE),"") -> 2 | R4: =IFERROR(VLOOKUP($E4,Feuil1!$A$2:$W$33,14,FALSE),"") -> 3 | S4: =IFERROR(VLOOKUP($E4,Feuil1!$A$2:$W$33,15,FALSE),"") -> 0 | T4: =IFERROR(VLOOKUP($E4,Feuil1!$A$2:$W$33,16,FALSE),"") -> 0 | U4: =IFERROR(VLOOKUP($E4,Feuil1!$A$2:$W$33,17,FALSE),"") -> 0 | V4: =IFERROR(VLOOKUP($E4,Feuil1!$A$2:$W$33,18,FALSE),"") -> 2 | W4: =IFERROR(VLOOKUP($E4,Feuil1!$A$2:$W$33,19,FALSE),"") -> 4 | X4: =IFERROR(VLOOKUP($E4,Feuil1!$A$2:$W$33,20,FALSE),"") -> 0 | Y4: =IFERROR(VLOOKUP($E4,Feuil1!$A$2:$W$33,21,FALSE),"") -> 0 | Z4: =IFERROR(VLOOKUP($E4,Feuil1!$A$2:$W$33,22,FALSE),"") -> 0 | AA4: =SUM(F4:Z4) -> 23
A5: 1 | B5: Arnould Clémence | E5: 4 | F5: =IFERROR(VLOOKUP($E5,Feuil1!$A$2:$W$33,2,FALSE),"") -> 2 | G5: =IFERROR(VLOOKUP($E5,Feuil1!$A$2:$W$33,3,FALSE),"") -> 4 | H5: =IFERROR(VLOOKUP($E5,Feuil1!$A$2:$W$33,4,FALSE),"") -> 2 | I5: =IFERROR(VLOOKUP($E5,Feuil1!$A$2:$W$33,5,FALSE),"") -> 2 | J5: =IFERROR(VLOOKUP($E5,Feuil1!$A$2:$W$33,6,FALSE),"") -> 2 | Q5: =IFERROR(VLOOKUP($E5,Feuil1!$A$2:$W$33,13,FALSE),"") -> 2 | R5: =IFERROR(VLOOKUP($E5,Feuil1!$A$2:$W$33,14,FALSE),"") -> 3 | S5: =IFERROR(VLOOKUP($E5,Feuil1!$A$2:$W$33,15,FALSE),"") -> 0 | T5: =IFERROR(VLOOKUP($E5,Feuil1!$A$2:$W$33,16,FALSE),"") -> 0 | U5: =IFERROR(VLOOKUP($E5,Feuil1!$A$2:$W$33,17,FALSE),"") -> 4 | V5: =IFERROR(VLOOKUP($E5,Feuil1!$A$2:$W$33,18,FALSE),"") -> 2 | W5: =IFERROR(VLOOKUP($E5,Feuil1!$A$2:$W$33,19,FALSE),"") -> 4 | X5: =IFERROR(VLOOKUP($E5,Feuil1!$A$2:$W$33,20,FALSE),"") -> 0 | Y5: =IFERROR(VLOOKUP($E5,Feuil1!$A$2:$W$33,21,FALSE),"") -> 0 | Z5: =IFERROR(VLOOKUP($E5,Feuil1!$A$2:$W$33,22,FALSE),"") -> 0 | AA5: =SUM(F5:Z5) -> 27
A6: 1 | B6: Arnould Charlotte | E6: 5 | F6: =IFERROR(VLOOKUP($E6,Feuil1!$A$2:$W$33,2,FALSE),"") -> 2 | G6: =IFERROR(VLOOKUP($E6,Feuil1!$A$2:$W$33,3,FALSE),"") -> 4 | H6: =IFERROR(VLOOKUP($E6,Feuil1!$A$2:$W$33,4,FALSE),"") -> 2 | I6: =IFERROR(VLOOKUP($E6,Feuil1!$A$2:$W$33,5,FALSE),"") -> 2 | J6: =IFERROR(VLOOKUP($E6,Feuil1!$A$2:$W$33,6,FALSE),"") -> 2 | Q6: =IFERROR(VLOOKUP($E6,Feuil1!$A$2:$W$33,13,FALSE),"") -> 2 | R6: =IFERROR(VLOOKUP($E6,Feuil1!$A$2:$W$33,14,FALSE),"") -> 3 | S6: =IFERROR(VLOOKUP($E6,Feuil1!$A$2:$W$33,15,FALSE),"") -> 4 | T6: =IFERROR(VLOOKUP($E6,Feuil1!$A$2:$W$33,16,FALSE),"") -> 0 | U6: =IFERROR(VLOOKUP($E6,Feuil1!$A$2:$W$33,17,FALSE),"") -> 0 | V6: =IFERROR(VLOOKUP($E6,Feuil1!$A$2:$W$33,18,FALSE),"") -> 0 | W6: =IFERROR(VLOOKUP($E6,Feuil1!$A$2:$W$33,19,FALSE),"") -> 0 | X6: =IFERROR(VLOOKUP($E6,Feuil1!$A$2:$W$33,20,FALSE),"") -> 0 | Y6: =IFERROR(VLOOKUP($E6,Feuil1!$A$2:$W$33,21,FALSE),"") -> 0 | Z6: =IFERROR(VLOOKUP($E6,Feuil1!$A$2:$W$33,22,FALSE),"") -> 0 | AA6: =SUM(F6:Z6) -> 21
A7: 1 | B7: Beghin Florette | E7: 6 | F7: =IFERROR(VLOOKUP($E7,Feuil1!$A$2:$W$33,2,FALSE),"") -> 2 | G7: =IFERROR(VLOOKUP($E7,Feuil1!$A$2:$W$33,3,FALSE),"") -> 4 | H7: =IFERROR(VLOOKUP($E7,Feuil1!$A$2:$W$33,4,FALSE),"") -> 2 | I7: =IFERROR(VLOOKUP($E7,Feuil1!$A$2:$W$33,5,FALSE),"") -> 2 | J7: =IFERROR(VLOOKUP($E7,Feuil1!$A$2:$W$33,6,FALSE),"") -> 2 | Q7: =IFERROR(VLOOKUP($E7,Feuil1!$A$2:$W$33,13,FALSE),"") -> 2 | R7: =IFERROR(VLOOKUP($E7,Feuil1!$A$2:$W$33,14,FALSE),"") -> 3 | S7: =IFERROR(VLOOKUP($E7,Feuil1!$A$2:$W$33,15,FALSE),"") -> 0 | T7: =IFERROR(VLOOKUP($E7,Feuil1!$A$2:$W$33,16,FALSE),"") -> 4 | U7: =IFERROR(VLOOKUP($E7,Feuil1!$A$2:$W$33,17,FALSE),"") -> 4 | V7: =IFERROR(VLOOKUP($E7,Feuil1!$A$2:$W$33,18,FALSE),"") -> 0 | W7: =IFERROR(VLOOKUP($E7,Feuil1!$A$2:$W$33,19,FALSE),"") -> 0 | X7: =IFERROR(VLOOKUP($E7,Feuil1!$A$2:$W$33,20,FALSE),"") -> 0 | Y7: =IFERROR(VLOOKUP($E7,Feuil1!$A$2:$W$33,21,FALSE),"") -> 0 | Z7: =IFERROR(VLOOKUP($E7,Feuil1!$A$2:$W$33,22,FALSE),"") -> 0 | AA7: =SUM(F7:Z7) -> 25
A8: 1 | B8: Bindels Marion | E8: 7 | F8: =IFERROR(VLOOKUP($E8,Feuil1!$A$2:$W$33,2,FALSE),"") -> 2 | G8: =IFERROR(VLOOKUP($E8,Feuil1!$A$2:$W$33,3,FALSE),"") -> 4 | H8: =IFERROR(VLOOKUP($E8,Feuil1!$A$2:$W$33,4,FALSE),"") -> 2 | I8: =IFERROR(VLOOKUP($E8,Feuil1!$A$2:$W$33,5,FALSE),"") -> 2 | J8: =IFERROR(VLOOKUP($E8,Feuil1!$A$2:$W$33,6,FALSE),"") -> 2 | Q8: =IFERROR(VLOOKUP($E8,Feuil1!$A$2:$W$33,13,FALSE),"") -> 2 | R8: =IFERROR(VLOOKUP($E8,Feuil1!$A$2:$W$33,14,FALSE),"") -> 3 | S8: =IFERROR(VLOOKUP($E8,Feuil1!$A$2:$W$33,15,FALSE),"") -> 0 | T8: =IFERROR(VLOOKUP($E8,Feuil1!$A$2:$W$33,16,FALSE),"") -> 4 | U8: =IFERROR(VLOOKUP($E8,Feuil1!$A$2:$W$33,17,FALSE),"") -> 0 | V8: =IFERROR(VLOOKUP($E8,Feuil1!$A$2:$W$33,18,FALSE),"") -> 0 | W8: =IFERROR(VLOOKUP($E8,Feuil1!$A$2:$W$33,19,FALSE),"") -> 0 | X8: =IFERROR(VLOOKUP($E8,Feuil1!$A$2:$W$33,20,FALSE),"") -> 0 | Y8: =IFERROR(VLOOKUP($E8,Feuil1!$A$2:$W$33,21,FALSE),"") -> 0 | Z8: =IFERROR(VLOOKUP($E8,Feuil1!$A$2:$W$33,22,FALSE),"") -> 0 | AA8: =SUM(F8:Z8) -> 21
A9: 1 | B9: Borlon Manon | E9: 8 | F9: =IFERROR(VLOOKUP($E9,Feuil1!$A$2:$W$33,2,FALSE),"") -> 2 | G9: =IFERROR(VLOOKUP($E9,Feuil1!$A$2:$W$33,3,FALSE),"") -> 4 | H9: =IFERROR(VLOOKUP($E9,Feuil1!$A$2:$W$33,4,FALSE),"") -> 2 | I9: =IFERROR(VLOOKUP($E9,Feuil1!$A$2:$W$33,5,FALSE),"") -> 2 | J9: =IFERROR(VLOOKUP($E9,Feuil1!$A$2:$W$33,6,FALSE),"") -> 2 | Q9: =IFERROR(VLOOKUP($E9,Feuil1!$A$2:$W$33,13,FALSE),"") -> 2 | R9: =IFERROR(VLOOKUP($E9,Feuil1!$A$2:$W$33,14,FALSE),"") -> 3 | S9: =IFERROR(VLOOKUP($E9,Feuil1!$A$2:$W$33,15,FALSE),"") -> 0 | T9: =IFERROR(VLOOKUP($E9,Feuil1!$A$2:$W$33,16,FALSE),"") -> 0 | U9: =IFERROR(VLOOKUP($E9,Feuil1!$A$2:$W$33,17,FALSE),"") -> 0 | V9: =IFERROR(VLOOKUP($E9,Feuil1!$A$2:$W$33,18,FALSE),"") -> 0 | W9: =IFERROR(VLOOKUP($E9,Feuil1!$A$2:$W$33,19,FALSE),"") -> 0 | X9: =IFERROR(VLOOKUP($E9,Feuil1!$A$2:$W$33,20,FALSE),"") -> 0 | Y9: =IFERROR(VLOOKUP($E9,Feuil1!$A$2:$W$33,21,FALSE),"") -> 4 | Z9: =IFERROR(VLOOKUP($E9,Feuil1!$A$2:$W$33,22,FALSE),"") -> 4 | AA9: =SUM(F9:Z9) -> 25
A10: 1 | B10: Boulard Valentine | E10: 9 | F10: =IFERROR(VLOOKUP($E10,Feuil1!$A$2:$W$33,2,FALSE),"") -> 2 | G10: =IFERROR(VLOOKUP($E10,Feuil1!$A$2:$W$33,3,FALSE),"") -> 4 | H10: =IFERROR(VLOOKUP($E10,Feuil1!$A$2:$W$33,4,FALSE),"") -> 2 | I10: =IFERROR(VLOOKUP($E10,Feuil1!$A$2:$W$33,5,FALSE),"") -> 2 | J10: =IFERROR(VLOOKUP($E10,Feuil1!$A$2:$W$33,6,FALSE),"") -> 2 | Q10: =IFERROR(VLOOKUP($E10,Feuil1!$A$2:$W$33,13,FALSE),"") -> 4 | R10: =IFERROR(VLOOKUP($E10,Feuil1!$A$2:$W$33,14,FALSE),"") -> 3 | S10: =IFERROR(VLOOKUP($E10,Feuil1!$A$2:$W$33,15,FALSE),"") -> 0 | T10: =IFERROR(VLOOKUP($E10,Feuil1!$A$2:$W$33,16,FALSE),"") -> 4 | U10: =IFERROR(VLOOKUP($E10,Feuil1!$A$2:$W$33,17,FALSE),"") -> 0 | V10: =IFERROR(VLOOKUP($E10,Feuil1!$A$2:$W$33,18,FALSE),"") -> 0 | W10: =IFERROR(VLOOKUP($E10,Feuil1!$A$2:$W$33,19,FALSE),"") -> 0 | X10: =IFERROR(VLOOKUP($E10,Feuil1!$A$2:$W$33,20,FALSE),"") -> 0 | Y10: =IFERROR(VLOOKUP($E10,Feuil1!$A$2:$W$33,21,FALSE),"") -> 0 | Z10: =IFERROR(VLOOKUP($E10,Feuil1!$A$2:$W$33,22,FALSE),"") -> 0 | AA10: =SUM(F10:Z10) -> 23
A11: 1 | B11: Bourguignon Juliette | E11: 10 | F11: =IFERROR(VLOOKUP($E11,Feuil1!$A$2:$W$33,2,FALSE),"") -> 2 | G11: =IFERROR(VLOOKUP($E11,Feuil1!$A$2:$W$33,3,FALSE),"") -> 4 | H11: =IFERROR(VLOOKUP($E11,Feuil1!$A$2:$W$33,4,FALSE),"") -> 2 | I11: =IFERROR(VLOOKUP($E11,Feuil1!$A$2:$W$33,5,FALSE),"") -> 2 | J11: =IFERROR(VLOOKUP($E11,Feuil1!$A$2:$W$33,6,FALSE),"") -> 2 | Q11: =IFERROR(VLOOKUP($E11,Feuil1!$A$2:$W$33,13,FALSE),"") -> 4 | R11: =IFERROR(VLOOKUP($E11,Feuil1!$A$2:$W$33,14,FALSE),"") -> 3 | S11: =IFERROR(VLOOKUP($E11,Feuil1!$A$2:$W$33,15,FALSE),"") -> 4 | T11: =IFERROR(VLOOKUP($E11,Feuil1!$A$2:$W$33,16,FALSE),"") -> 0 | U11: =IFERROR(VLOOKUP($E11,Feuil1!$A$2:$W$33,17,FALSE),"") -> 0 | V11: =IFERROR(VLOOKUP($E11,Feuil1!$A$2:$W$33,18,FALSE),"") -> 0 | W11: =IFERROR(VLOOKUP($E11,Feuil1!$A$2:$W$33,19,FALSE),"") -> 0 | X11: =IFERROR(VLOOKUP($E11,Feuil1!$A$2:$W$33,20,FALSE),"") -> 0 | Y11: =IFERROR(VLOOKUP($E11,Feuil1!$A$2:$W$33,21,FALSE),"") -> 0 | Z11: =IFERROR(VLOOKUP($E11,Feuil1!$A$2:$W$33,22,FALSE),"") -> 0 | AA11: =SUM(F11:Z11) -> 23
A12: 1 | B12: Antoine Hubert | E12: 11 | F12: =IFERROR(VLOOKUP($E12,Feuil1!$A$2:$W$33,2,FALSE),"") -> 2 | G12: =IFERROR(VLOOKUP($E12,Feuil1!$A$2:$W$33,3,FALSE),"") -> 4 | H12: =IFERROR(VLOOKUP($E12,Feuil1!$A$2:$W$33,4,FALSE),"") -> 2 | I12: =IFERROR(VLOOKUP($E12,Feuil1!$A$2:$W$33,5,FALSE),"") -> 2 | J12: =IFERROR(VLOOKUP($E12,Feuil1!$A$2:$W$33,6,FALSE),"") -> 2 | Q12: =IFERROR(VLOOKUP($E12,Feuil1!$A$2:$W$33,13,FALSE),"") -> 4 | R12: =IFERROR(VLOOKUP($E12,Feuil1!$A$2:$W$33,14,FALSE),"") -> 3 | S12: =IFERROR(VLOOKUP($E12,Feuil1!$A$2:$W$33,15,FALSE),"") -> 0 | T12: =IFERROR(VLOOKUP($E12,Feuil1!$A$2:$W$33,16,FALSE),"") -> 0 | U12: =IFERROR(VLOOKUP($E12,Feuil1!$A$2:$W$33,17,FALSE),"") -> 4 | V12: =IFERROR(VLOOKUP($E12,Feuil1!$A$2:$W$33,18,FALSE),"") -> 0 | W12: =IFERROR(VLOOKUP($E12,Feuil1!$A$2:$W$33,19,FALSE),"") -> 0 | X12: =IFERROR(VLOOKUP($E12,Feuil1!$A$2:$W$33,20,FALSE),"") -> 0 | Y12: =IFERROR(VLOOKUP($E12,Feuil1!$A$2:$W$33,21,FALSE),"") -> 0 | Z12: =IFERROR(VLOOKUP($E12,Feuil1!$A$2:$W$33,22,FALSE),"") -> 0 | AA12: =SUM(F12:Z12) -> 23
A13: 1 | B13: Bai Charlotte | E13: 12 | F13: =IFERROR(VLOOKUP($E13,Feuil1!$A$2:$W$33,2,FALSE),"") -> 2 | G13: =IFERROR(VLOOKUP($E13,Feuil1!$A$2:$W$33,3,FALSE),"") -> 4 | H13: =IFERROR(VLOOKUP($E13,Feuil1!$A$2:$W$33,4,FALSE),"") -> 2 | I13: =IFERROR(VLOOKUP($E13,Feuil1!$A$2:$W$33,5,FALSE),"") -> 2 | J13: =IFERROR(VLOOKUP($E13,Feuil1!$A$2:$W$33,6,FALSE),"") -> 2 | Q13: =IFERROR(VLOOKUP($E13,Feuil1!$A$2:$W$33,13,FALSE),"") -> 4 | R13: =IFERROR(VLOOKUP($E13,Feuil1!$A$2:$W$33,14,FALSE),"") -> 3 | S13: =IFERROR(VLOOKUP($E13,Feuil1!$A$2:$W$33,15,FALSE),"") -> 0 | T13: =IFERROR(VLOOKUP($E13,Feuil1!$A$2:$W$33,16,FALSE),"") -> 0 | U13: =IFERROR(VLOOKUP($E13,Feuil1!$A$2:$W$33,17,FALSE),"") -> 0 | V13: =IFERROR(VLOOKUP($E13,Feuil1!$A$2:$W$33,18,FALSE),"") -> 2 | W13: =IFERROR(VLOOKUP($E13,Feuil1!$A$2:$W$33,19,FALSE),"") -> 4 | X13: =IFERROR(VLOOKUP($E13,Feuil1!$A$2:$W$33,20,FALSE),"") -> 0 | Y13: =IFERROR(VLOOKUP($E13,Feuil1!$A$2:$W$33,21,FALSE),"") -> 0 | Z13: =IFERROR(VLOOKUP($E13,Feuil1!$A$2:$W$33,22,FALSE),"") -> 0 | AA13: =SUM(F13:Z13) -> 25
... A76: 1 | B76: VANGEYTE Océane | E76: 11 | F76: =IFERROR(VLOOKUP($E76,Feuil1!$A$2:$W$33,2,FALSE),"") -> 2 | G76: =IFERROR(VLOOKUP($E76,Feuil1!$A$2:$W$33,3,FALSE),"") -> 4 | H76: =IFERROR(VLOOKUP($E76,Feuil1!$A$2:$W$33,4,FALSE),"") -> 2 | I76: =IFERROR(VLOOKUP($E76,Feuil1!$A$2:$W$33,5,FALSE),"") -> 2 | J76: =IFERROR(VLOOKUP($E76,Feuil1!$A$2:$W$33,6,FALSE),"") -> 2 | Q76: =IFERROR(VLOOKUP($E76,Feuil1!$A$2:$W$33,13,FALSE),"") -> 4 | R76: =IFERROR(VLOOKUP($E76,Feuil1!$A$2:$W$33,14,FALSE),"") -> 3 | S76: =IFERROR(VLOOKUP($E76,Feuil1!$A$2:$W$33,15,FALSE),"") -> 0 | T76: =IFERROR(VLOOKUP($E76,Feuil1!$A$2:$W$33,16,FALSE),"") -> 0 | U76: =IFERROR(VLOOKUP($E76,Feuil1!$A$2:$W$33,17,FALSE),"") -> 4 | V76: =IFERROR(VLOOKUP($E76,Feuil1!$A$2:$W$33,18,FALSE),"") -> 0 | W76: =IFERROR(VLOOKUP($E76,Feuil1!$A$2:$W$33,19,FALSE),"") -> 0 | X76: =IFERROR(VLOOKUP($E76,Feuil1!$A$2:$W$33,20,FALSE),"") -> 0 | Y76: =IFERROR(VLOOKUP($E76,Feuil1!$A$2:$W$33,21,FALSE),"") -> 0 | Z76: =IFERROR(VLOOKUP($E76,Feuil1!$A$2:$W$33,22,FALSE),"") -> 0 | AA76: =SUM(F76:Z76) -> 23
E77: Total | F77: =COUNT(F2:F76) -> 75 | G77: =COUNT(G2:G76) -> 75 | H77: =COUNT(H2:H76) -> 75 | I77: =COUNT(I2:I76) -> 75 | J77: =COUNT(J2:J76) -> 75
W78: Totaux
J79: 4H | K79: Néerl 1 | M79: =SUMIF(K2:K76,"4",A2:A76) -> 0 | W79: Néerl 1 | Y79: =M79 -> 0
J80: 4H | K80: Anglais 1 | M80: =SUMIF(L2:L76,"4",A2:A76) -> 0 | W80: Anglais 1 | Y80: =M80 -> 0
J81: 4H | K81: Néerl 2 | M81: =SUMIF(M2:M76,"4",A2:A76) -> 0 | W81: Néerl 2 | Y81: =M81 -> 0
J82: 4H | K82: Anglais 2 | M82: =SUMIF(N2:N76,"4",A2:A76) -> 0 | W82: Anglais 2 | Y82: =M82 -> 0
J83: 2H | K83: AC Néerl 1 | M83: =SUMIF(O2:O76,"2",A2:A76) -> 0 | W83: AC Néerl 1 | Y83: =M83 -> 0
J84: 2H | K84: AC Neerl 2 | M84: =SUMIF(P2:P76,"2",A2:A76) -> 0 | W84: AC Neerl 2 | Y84: =M84 -> 0
K85: Math 2 | M85: =SUMIF(Q2:Q76,"2",A2:A76) -> 24 | N85: Math 4 | P85: =SUMIF(Q2:Q76,"4",A2:A76) -> 25 | Q85: Math 6 | S85: =SUMIF(Q2:Q76,"6",A2:A76) -> 16 | T85: Math 8 | V85: =SUMIF(Q2:Q76,"8",A2:A76) -> 10 | W85: Math | Y85: =V85+S85+P85+M85 -> 75
K86: Sciences 3 | M86: =SUMIF(R2:R76,"3",A2:A76) -> 57 | N86: Sciences 7 | P86: =SUMIF(R2:R76,"7",A2:A76) -> 18 | W86: Sciences | Y86: =V86+S86+P86+M86 -> 75
K87: Latin | M87: =SUMIF(S2:S76,"4",A2:A76) -> 21 | W87: Latin | Y87: =V87+S87+P87+M87 -> 21
K88: Economie | M88: =SUMIF(T2:T76,"4",A2:A76) -> 21 | W88: Economie | Y88: =V88+S88+P88+M88 -> 21
K89: Allemand | M89: =SUMIF(U2:U76,"4",A2:A76) -> 24 | Y89: =V89+S89+P89+M89 -> 24
K90: AC Sciences | M90: =SUMIF(V2:V76,"2",A2:A76) -> 10 | W90: AC Sciences | Y90: =V90+S90+P90+M90 -> 10
K91: Sc. Soc. | M91: =SUMIF(W2:W76,"4",A2:A76) -> 13 | W91: Sc. Soc. | Y91: =V91+S91+P91+M91 -> 13
K92: Art d’ex. | M92: =SUMIF(X2:X76,"4",A2:A76) -> 3 | W92: Art d’ex. | Y92: =V92+S92+P92+M92 -> 3
K93: Bio app | M93: =SUMIF(Y2:Y76,"4",A2:A76) -> 7 | W93: Bio app | Y93: =V93+S93+P93+M93 -> 7
K94: Labo bio | M94: =SUMIF(Z2:Z76,"4",A2:A76) -> 7 | W94: Labo bio | Y94: =V94+S94+P94+M94 -> 7
