Workbook
Name GANTT: #REF!,#REF!

Sheet RESOURCES' AVAILABILITY
B1: 2024 | C1: 2024 | D1: 2024 | E1: 2024 | F1: 2024 | G1: 2024 | H1: 2024 | I1: 2024 | J1: 2024 | K1: 2024 | L1: 2024 | M1: 2024 | N1: 2024 | O1: 2024 | P1: 2024 | Q1: 2024 | R1: 2024 | S1: 2024 | T1: 2024 | U1: 2024 | V1: 2024 | W1: 2024 | X1: 2024 | Y1: 2024 | Z1: 2024 | AA1: 2024 | AB1: 2024 | AC1: 2024 | AD1: 2024 | AE1: 2024 | AF1: 2024 | AG1: 2024 | AH1: 2024 | AI1: 2024 | AJ1: 2024 | AK1: 2024 | AL1: 2024 | AM1: 2024 | AN1: 2024 | AO1: 2024 | AP1: 2024 | AQ1: 2024 | AR1: 2024 | AS1: 2024 | AT1: 2024 | AU1: 2024 | AV1: 2024 | AW1: 2024 | AX1: 2024 | AY1: 2024 | AZ1: 2024 | BA1: 2024 | BB1: 2025 | BC1: 2025 | BD1: 2025 | BE1: 2025 | BF1: 2025 | BG1: 2025 | BH1: 2025 | BI1: 2025 | BJ1: 2025 | BK1: 2025 | BL1: 2025 | BM1: 2025 | BN1: 2025 | BO1: 2025 | BP1: 2025 | BQ1: 2025 | BR1: 2025 | BS1: 2025 | BT1: 2025 | BU1: 2025 | BV1: 2025 | BW1: 2025 | BX1: 2025 | BY1: 2025 | BZ1: 2025 | CA1: 2025 | CB1: 2025 | CC1: 2025 | CD1: 2025 | CE1: 2025 | CF1: 2025 | CG1: 2025 | CH1: 2025 | CI1: 2025 | CJ1: 2025 | CK1: 2025 | CL1: 2025 | CM1: 2025 | CN1: 2025 | CO1: 2025 | CP1: 2025 | CQ1: 2025 | CR1: 2025 | CS1: 2025 | CT1: 2025 | CU1: 2025 | CV1: 2025 | CW1: 2025 | CX1: 2025 | CY1: 2025 | CZ1: 2025 | DA1: 2025 | DB1: 2026 | DC1: 2026 | DD1: 2026 | DE1: 2026 | DF1: 2026 | DG1: 2026 | DH1: 2026 | DI1: 2026 | DJ1: 2026 | DK1: 2026 | DL1: 2026 | DM1: 2026 | DN1: 2026 | DO1: 2026 | DP1: 2026 | DQ1: 2026 | DR1: 2026 | DS1: 2026 | DT1: 2026 | DU1: 2026 | DV1: 2026 | DW1: 2026 | DX1: 2026 | DY1: 2026 | DZ1: 2026 | EA1: 2026 | EB1: 2026 | EC1: 2026 | ED1: 2026 | EE1: 2026 | EF1: 2026 | EG1: 2026 | EH1: 2026 | EI1: 2026 | EJ1: 2026 | EK1: 2026 | EL1: 2026 | EM1: 2026 | EN1: 2026 | EO1: 2026 | EP1: 2026 | EQ1: 2026 | ER1: 2026 | ES1: 2026 | ET1: 2026 | EU1: 2026 | EV1: 2026 | EW1: 2026 | EX1: 2026 | EY1: 2026 | EZ1: 2026 | FA1: 2026
A2: Assignee | B2: CW1 | C2: CW2 | D2: CW3 | E2: CW4 | F2: CW5 | G2: CW6 | H2: CW7 | I2: CW8 | J2: CW9 | K2: CW10 | L2: CW11 | M2: CW12 | N2: CW13 | O2: CW14 | P2: CW15 | Q2: CW16 | R2: CW17 | S2: CW18 | T2: CW19 | U2: CW20 | V2: CW21 | W2: CW22 | X2: CW23 | Y2: CW24 | Z2: CW25 | AA2: CW26 | AB2: CW27 | AC2: CW28 | AD2: CW29 | AE2: CW30 | AF2: CW31 | AG2: CW32 | AH2: CW33 | AI2: CW34 | AJ2: CW35 | AK2: CW36 | AL2: CW37 | AM2: CW38 | AN2: CW39 | AO2: CW40 | AP2: CW41 | AQ2: CW42 | AR2: CW43 | AS2: CW44 | AT2: CW45 | AU2: CW46 | AV2: CW47 | AW2: CW48 | AX2: CW49 | AY2: CW50 | AZ2: CW51 | BA2: CW52 | BB2: CW1 | BC2: CW2 | BD2: CW3 | BE2: CW4 | BF2: CW5 | BG2: CW6 | BH2: CW7 | BI2: CW8 | BJ2: CW9 | BK2: CW10 | BL2: CW11 | BM2: CW12 | BN2: CW13 | BO2: CW14 | BP2: CW15 | BQ2: CW16 | BR2: CW17 | BS2: CW18 | BT2: CW19 | BU2: CW20 | BV2: CW21 | BW2: CW22 | BX2: CW23 | BY2: CW24 | BZ2: CW25 | CA2: CW26 | CB2: CW27 | CC2: CW28 | CD2: CW29 | CE2: CW30 | CF2: CW31 | CG2: CW32 | CH2: CW33 | CI2: CW34 | CJ2: CW35 | CK2: CW36 | CL2: CW37 | CM2: CW38 | CN2: CW39 | CO2: CW40 | CP2: CW41 | CQ2: CW42 | CR2: CW43 | CS2: CW44 | CT2: CW45 | CU2: CW46 | CV2: CW47 | CW2: CW48 | CX2: CW49 | CY2: CW50 | CZ2: CW51 | DA2: CW52 | DB2: CW1 | DC2: CW2 | DD2: CW3 | DE2: CW4 | DF2: CW5 | DG2: CW6 | DH2: CW7 | DI2: CW8 | DJ2: CW9 | DK2: CW10 | DL2: CW11 | DM2: CW12 | DN2: CW13 | DO2: CW14 | DP2: CW15 | DQ2: CW16 | DR2: CW17 | DS2: CW18 | DT2: CW19 | DU2: CW20 | DV2: CW21 | DW2: CW22 | DX2: CW23 | DY2: CW24 | DZ2: CW25 | EA2: CW26 | EB2: CW27 | EC2: CW28 | ED2: CW29 | EE2: CW30 | EF2: CW31 | EG2: CW32 | EH2: CW33 | EI2: CW34 | EJ2: CW35 | EK2: CW36 | EL2: CW37 | EM2: CW38 | EN2: CW39 | EO2: CW40 | EP2: CW41 | EQ2: CW42 | ER2: CW43 | ES2: CW44 | ET2: CW45 | EU2: CW46 | EV2: CW47 | EW2: CW48 | EX2: CW49 | EY2: CW50 | EZ2: CW51 | FA2: CW52
A3: XXXXX XXXXXXXXXX | B3: {=IF(SUMPRODUCT(((B$1&MID(B$2,3,2))=('VACATION''S PLAN'!$M$2:$U$20))*1)=1,0,1)} -> 1 | C3: {=IF(SUMPRODUCT(((C$1&MID(C$2,3,2))=('VACATION''S PLAN'!$M$2:$U$20))*1)=1,0,1)} -> 1 | D3: {=IF(SUMPRODUCT(((D$1&MID(D$2,3,2))=('VACATION''S PLAN'!$M$2:$U$20))*1)=1,0,1)} -> 1 | E3: {=IF(SUMPRODUCT(((E$1&MID(E$2,3,2))=('VACATION''S PLAN'!$M$2:$U$20))*1)=1,0,1)} -> 1 | F3: {=IF(SUMPRODUCT(((F$1&MID(F$2,3,2))=('VACATION''S PLAN'!$M$2:$U$20))*1)=1,0,1)} -> 1 | G3: {=IF(SUMPRODUCT(((G$1&MID(G$2,3,2))=('VACATION''S PLAN'!$M$2:$U$20))*1)=1,0,1)} -> 1 | H3: {=IF(SUMPRODUCT(((H$1&MID(H$2,3,2))=('VACATION''S PLAN'!$M$2:$U$20))*1)=1,0,1)} -> 1 | I3: {=IF(SUMPRODUCT(((I$1&MID(I$2,3,2))=('VACATION''S PLAN'!$M$2:$U$20))*1)=1,0,1)} -> 1 | ... FA3: {=IF(SUMPRODUCT(((FA$1&MID(FA$2,3,2))=('VACATION''S PLAN'!$M$2:$U$20))*1)=1,0,1)} -> 1
A4: YYYYY YYYYYYYYYY | B4: {=IF(SUMPRODUCT(((B$1&MID(B$2,3,2))=('VACATION''S PLAN'!$M$2:$U$20))*1)=1,0,1)} -> 1 | C4: {=IF(SUMPRODUCT(((C$1&MID(C$2,3,2))=('VACATION''S PLAN'!$M$2:$U$20))*1)=1,0,1)} -> 1 | D4: {=IF(SUMPRODUCT(((D$1&MID(D$2,3,2))=('VACATION''S PLAN'!$M$2:$U$20))*1)=1,0,1)} -> 1 | E4: {=IF(SUMPRODUCT(((E$1&MID(E$2,3,2))=('VACATION''S PLAN'!$M$2:$U$20))*1)=1,0,1)} -> 1 | F4: {=IF(SUMPRODUCT(((F$1&MID(F$2,3,2))=('VACATION''S PLAN'!$M$2:$U$20))*1)=1,0,1)} -> 1 | G4: {=IF(SUMPRODUCT(((G$1&MID(G$2,3,2))=('VACATION''S PLAN'!$M$2:$U$20))*1)=1,0,1)} -> 1 | H4: {=IF(SUMPRODUCT(((H$1&MID(H$2,3,2))=('VACATION''S PLAN'!$M$2:$U$20))*1)=1,0,1)} -> 1 | I4: {=IF(SUMPRODUCT(((I$1&MID(I$2,3,2))=('VACATION''S PLAN'!$M$2:$U$20))*1)=1,0,1)} -> 1 | ... FA4: {=IF(SUMPRODUCT(((FA$1&MID(FA$2,3,2))=('VACATION''S PLAN'!$M$2:$U$20))*1)=1,0,1)} -> 1

Sheet VACATION'S PLAN
A1: Assignee | B1: Starting Vacation Date | C1: Starting Vacation's Year | D1: Starting Vacation's Week | E1: Total Days During The Starting Vacation's Week | F1: Testing 1 | G1: End Vacation Date | H1: End Vacation's Year | I1: End Vacation's Week | J1: Total Days During The End Vacation's Week | K1: Testing 2 | M1: Semaines de congés
A2: XXXXX XXXXXXXXXX | B2: 45826 | C2: =YEAR(B2) -> 2025 | D2: =CONCATENATE("CW",WEEKNUM(B2,2)) -> CW25 | E2: =IF(WEEKDAY(B2,2)<=5,5-WEEKDAY(B2,2),0)+1 -> 3 | F2: =CONCATENATE($A2,$C2,$D2) -> XXXXX XXXXXXXXXX2025CW25 | G2: 45854 | H2: =YEAR(G2) -> 2025 | I2: =CONCATENATE("CW",WEEKNUM(G2,2)) -> CW29 | J2: =5-(IF(WEEKDAY(G2,2)<=5,5-WEEKDAY(G2,2),0)) -> 3 | K2: =CONCATENATE($A2,$H2,$I2) -> XXXXX XXXXXXXXXX2025CW29 | M2: {=IFERROR($A2&YEAR($B2)&SMALL(IF(((ROW(1:52)*(ROW(1:52)>=WEEKNUM($B2,2))*(ROW(1:52)<=WEEKNUM($G2,2))))>0,ROW(1:52)),COLUMN()-12),"")} -> XXXXX XXXXXXXXXX202525 | N2: {=IFERROR($A2&YEAR($B2)&SMALL(IF(((ROW(1:52)*(ROW(1:52)>=WEEKNUM($B2,2))*(ROW(1:52)<=WEEKNUM($G2,2))))>0,ROW(1:52)),COLUMN()-12),"")} -> XXXXX XXXXXXXXXX202526 | O2: {=IFERROR($A2&YEAR($B2)&SMALL(IF(((ROW(1:52)*(ROW(1:52)>=WEEKNUM($B2,2))*(ROW(1:52)<=WEEKNUM($G2,2))))>0,ROW(1:52)),COLUMN()-12),"")} -> XXXXX XXXXXXXXXX202527 | P2: {=IFERROR($A2&YEAR($B2)&SMALL(IF(((ROW(1:52)*(ROW(1:52)>=WEEKNUM($B2,2))*(ROW(1:52)<=WEEKNUM($G2,2))))>0,ROW(1:52)),COLUMN()-12),"")} -> XXXXX XXXXXXXXXX202528 | Q2: {=IFERROR($A2&YEAR($B2)&SMALL(IF(((ROW(1:52)*(ROW(1:52)>=WEEKNUM($B2,2))*(ROW(1:52)<=WEEKNUM($G2,2))))>0,ROW(1:52)),COLUMN()-12),"")} -> XXXXX XXXXXXXXXX202529 | R2: {=IFERROR($A2&YEAR($B2)&SMALL(IF(((ROW(1:52)*(ROW(1:52)>=WEEKNUM($B2,2))*(ROW(1:52)<=WEEKNUM($G2,2))))>0,ROW(1:52)),COLUMN()-12),"")} | S2: {=IFERROR($A2&YEAR($B2)&SMALL(IF(((ROW(1:52)*(ROW(1:52)>=WEEKNUM($B2,2))*(ROW(1:52)<=WEEKNUM($G2,2))))>0,ROW(1:52)),COLUMN()-12),"")} | T2: {=IFERROR($A2&YEAR($B2)&SMALL(IF(((ROW(1:52)*(ROW(1:52)>=WEEKNUM($B2,2))*(ROW(1:52)<=WEEKNUM($G2,2))))>0,ROW(1:52)),COLUMN()-12),"")} | U2: {=IFERROR($A2&YEAR($B2)&SMALL(IF(((ROW(1:52)*(ROW(1:52)>=WEEKNUM($B2,2))*(ROW(1:52)<=WEEKNUM($G2,2))))>0,ROW(1:52)),COLUMN()-12),"")}
A3: XXXXX XXXXXXXXXX | B3: 45916 | C3: =YEAR(B3) -> 2025 | D3: =CONCATENATE("CW",WEEKNUM(B3,2)) -> CW38 | E3: =IF(WEEKDAY(B3,2)<=5,5-WEEKDAY(B3,2),0)+1 -> 4 | F3: =CONCATENATE($A3,$C3,$D3) -> XXXXX XXXXXXXXXX2025CW38 | G3: 45932 | H3: =YEAR(G3) -> 2025 | I3: =CONCATENATE("CW",WEEKNUM(G3,2)) -> CW40 | J3: =5-(IF(WEEKDAY(G3,2)<=5,5-WEEKDAY(G3,2),0)) -> 4 | K3: =CONCATENATE($A3,$H3,$I3) -> XXXXX XXXXXXXXXX2025CW40 | M3: {=IFERROR($A3&YEAR($B3)&SMALL(IF(((ROW(2:53)*(ROW(2:53)>=WEEKNUM($B3,2))*(ROW(2:53)<=WEEKNUM($G3,2))))>0,ROW(2:53)),COLUMN()-12),"")} -> XXXXX XXXXXXXXXX202538 | N3: {=IFERROR($A3&YEAR($B3)&SMALL(IF(((ROW(2:53)*(ROW(2:53)>=WEEKNUM($B3,2))*(ROW(2:53)<=WEEKNUM($G3,2))))>0,ROW(2:53)),COLUMN()-12),"")} -> XXXXX XXXXXXXXXX202539 | O3: {=IFERROR($A3&YEAR($B3)&SMALL(IF(((ROW(2:53)*(ROW(2:53)>=WEEKNUM($B3,2))*(ROW(2:53)<=WEEKNUM($G3,2))))>0,ROW(2:53)),COLUMN()-12),"")} -> XXXXX XXXXXXXXXX202540 | P3: {=IFERROR($A3&YEAR($B3)&SMALL(IF(((ROW(2:53)*(ROW(2:53)>=WEEKNUM($B3,2))*(ROW(2:53)<=WEEKNUM($G3,2))))>0,ROW(2:53)),COLUMN()-12),"")} | Q3: {=IFERROR($A3&YEAR($B3)&SMALL(IF(((ROW(2:53)*(ROW(2:53)>=WEEKNUM($B3,2))*(ROW(2:53)<=WEEKNUM($G3,2))))>0,ROW(2:53)),COLUMN()-12),"")} | R3: {=IFERROR($A3&YEAR($B3)&SMALL(IF(((ROW(2:53)*(ROW(2:53)>=WEEKNUM($B3,2))*(ROW(2:53)<=WEEKNUM($G3,2))))>0,ROW(2:53)),COLUMN()-12),"")} | S3: {=IFERROR($A3&YEAR($B3)&SMALL(IF(((ROW(2:53)*(ROW(2:53)>=WEEKNUM($B3,2))*(ROW(2:53)<=WEEKNUM($G3,2))))>0,ROW(2:53)),COLUMN()-12),"")} | T3: {=IFERROR($A3&YEAR($B3)&SMALL(IF(((ROW(2:53)*(ROW(2:53)>=WEEKNUM($B3,2))*(ROW(2:53)<=WEEKNUM($G3,2))))>0,ROW(2:53)),COLUMN()-12),"")} | U3: {=IFERROR($A3&YEAR($B3)&SMALL(IF(((ROW(2:53)*(ROW(2:53)>=WEEKNUM($B3,2))*(ROW(2:53)<=WEEKNUM($G3,2))))>0,ROW(2:53)),COLUMN()-12),"")}
A4: XXXXX XXXXXXXXXX | B4: 45971 | C4: =YEAR(B4) -> 2025 | D4: =CONCATENATE("CW",WEEKNUM(B4,2)) -> CW46 | E4: =IF(WEEKDAY(B4,2)<=5,5-WEEKDAY(B4,2),0)+1 -> 5 | F4: =CONCATENATE($A4,$C4,$D4) -> XXXXX XXXXXXXXXX2025CW46 | G4: 45982 | H4: =YEAR(G4) -> 2025 | I4: =CONCATENATE("CW",WEEKNUM(G4,2)) -> CW47 | J4: =5-(IF(WEEKDAY(G4,2)<=5,5-WEEKDAY(G4,2),0)) -> 5 | K4: =CONCATENATE($A4,$H4,$I4) -> XXXXX XXXXXXXXXX2025CW47 | M4: {=IFERROR($A4&YEAR($B4)&SMALL(IF(((ROW(3:54)*(ROW(3:54)>=WEEKNUM($B4,2))*(ROW(3:54)<=WEEKNUM($G4,2))))>0,ROW(3:54)),COLUMN()-12),"")} -> XXXXX XXXXXXXXXX202546 | N4: {=IFERROR($A4&YEAR($B4)&SMALL(IF(((ROW(3:54)*(ROW(3:54)>=WEEKNUM($B4,2))*(ROW(3:54)<=WEEKNUM($G4,2))))>0,ROW(3:54)),COLUMN()-12),"")} -> XXXXX XXXXXXXXXX202547 | O4: {=IFERROR($A4&YEAR($B4)&SMALL(IF(((ROW(3:54)*(ROW(3:54)>=WEEKNUM($B4,2))*(ROW(3:54)<=WEEKNUM($G4,2))))>0,ROW(3:54)),COLUMN()-12),"")} | P4: {=IFERROR($A4&YEAR($B4)&SMALL(IF(((ROW(3:54)*(ROW(3:54)>=WEEKNUM($B4,2))*(ROW(3:54)<=WEEKNUM($G4,2))))>0,ROW(3:54)),COLUMN()-12),"")} | Q4: {=IFERROR($A4&YEAR($B4)&SMALL(IF(((ROW(3:54)*(ROW(3:54)>=WEEKNUM($B4,2))*(ROW(3:54)<=WEEKNUM($G4,2))))>0,ROW(3:54)),COLUMN()-12),"")} | R4: {=IFERROR($A4&YEAR($B4)&SMALL(IF(((ROW(3:54)*(ROW(3:54)>=WEEKNUM($B4,2))*(ROW(3:54)<=WEEKNUM($G4,2))))>0,ROW(3:54)),COLUMN()-12),"")} | S4: {=IFERROR($A4&YEAR($B4)&SMALL(IF(((ROW(3:54)*(ROW(3:54)>=WEEKNUM($B4,2))*(ROW(3:54)<=WEEKNUM($G4,2))))>0,ROW(3:54)),COLUMN()-12),"")} | T4: {=IFERROR($A4&YEAR($B4)&SMALL(IF(((ROW(3:54)*(ROW(3:54)>=WEEKNUM($B4,2))*(ROW(3:54)<=WEEKNUM($G4,2))))>0,ROW(3:54)),COLUMN()-12),"")} | U4: {=IFERROR($A4&YEAR($B4)&SMALL(IF(((ROW(3:54)*(ROW(3:54)>=WEEKNUM($B4,2))*(ROW(3:54)<=WEEKNUM($G4,2))))>0,ROW(3:54)),COLUMN()-12),"")}
A5: YYYYY YYYYYYYYYY | B5: 45706 | C5: =YEAR(B5) -> 2025 | D5: =CONCATENATE("CW",WEEKNUM(B5,2)) -> CW8 | E5: =IF(WEEKDAY(B5,2)<=5,5-WEEKDAY(B5,2),0)+1 -> 4 | F5: =CONCATENATE($A5,$C5,$D5) -> YYYYY YYYYYYYYYY2025CW8 | G5: 45715 | H5: =YEAR(G5) -> 2025 | I5: =CONCATENATE("CW",WEEKNUM(G5,2)) -> CW9 | J5: =5-(IF(WEEKDAY(G5,2)<=5,5-WEEKDAY(G5,2),0)) -> 4 | K5: =CONCATENATE($A5,$H5,$I5) -> YYYYY YYYYYYYYYY2025CW9 | M5: {=IFERROR($A5&YEAR($B5)&SMALL(IF(((ROW(4:55)*(ROW(4:55)>=WEEKNUM($B5,2))*(ROW(4:55)<=WEEKNUM($G5,2))))>0,ROW(4:55)),COLUMN()-12),"")} -> YYYYY YYYYYYYYYY20258 | N5: {=IFERROR($A5&YEAR($B5)&SMALL(IF(((ROW(4:55)*(ROW(4:55)>=WEEKNUM($B5,2))*(ROW(4:55)<=WEEKNUM($G5,2))))>0,ROW(4:55)),COLUMN()-12),"")} -> YYYYY YYYYYYYYYY20259 | O5: {=IFERROR($A5&YEAR($B5)&SMALL(IF(((ROW(4:55)*(ROW(4:55)>=WEEKNUM($B5,2))*(ROW(4:55)<=WEEKNUM($G5,2))))>0,ROW(4:55)),COLUMN()-12),"")} | P5: {=IFERROR($A5&YEAR($B5)&SMALL(IF(((ROW(4:55)*(ROW(4:55)>=WEEKNUM($B5,2))*(ROW(4:55)<=WEEKNUM($G5,2))))>0,ROW(4:55)),COLUMN()-12),"")} | Q5: {=IFERROR($A5&YEAR($B5)&SMALL(IF(((ROW(4:55)*(ROW(4:55)>=WEEKNUM($B5,2))*(ROW(4:55)<=WEEKNUM($G5,2))))>0,ROW(4:55)),COLUMN()-12),"")} | R5: {=IFERROR($A5&YEAR($B5)&SMALL(IF(((ROW(4:55)*(ROW(4:55)>=WEEKNUM($B5,2))*(ROW(4:55)<=WEEKNUM($G5,2))))>0,ROW(4:55)),COLUMN()-12),"")} | S5: {=IFERROR($A5&YEAR($B5)&SMALL(IF(((ROW(4:55)*(ROW(4:55)>=WEEKNUM($B5,2))*(ROW(4:55)<=WEEKNUM($G5,2))))>0,ROW(4:55)),COLUMN()-12),"")} | T5: {=IFERROR($A5&YEAR($B5)&SMALL(IF(((ROW(4:55)*(ROW(4:55)>=WEEKNUM($B5,2))*(ROW(4:55)<=WEEKNUM($G5,2))))>0,ROW(4:55)),COLUMN()-12),"")} | U5: {=IFERROR($A5&YEAR($B5)&SMALL(IF(((ROW(4:55)*(ROW(4:55)>=WEEKNUM($B5,2))*(ROW(4:55)<=WEEKNUM($G5,2))))>0,ROW(4:55)),COLUMN()-12),"")}
M6: {=IFERROR(YEAR($B6)&SMALL(IF(((ROW(5:56)*(ROW(5:56)>=WEEKNUM($B6,2))*(ROW(5:56)<=WEEKNUM($G6,2))))>0,ROW(5:56)),COLUMN()-12),"")} | N6: {=IFERROR(YEAR($B6)&SMALL(IF(((ROW(5:56)*(ROW(5:56)>=WEEKNUM($B6,2))*(ROW(5:56)<=WEEKNUM($G6,2))))>0,ROW(5:56)),COLUMN()-12),"")} | O6: {=IFERROR(YEAR($B6)&SMALL(IF(((ROW(5:56)*(ROW(5:56)>=WEEKNUM($B6,2))*(ROW(5:56)<=WEEKNUM($G6,2))))>0,ROW(5:56)),COLUMN()-12),"")} | P6: {=IFERROR(YEAR($B6)&SMALL(IF(((ROW(5:56)*(ROW(5:56)>=WEEKNUM($B6,2))*(ROW(5:56)<=WEEKNUM($G6,2))))>0,ROW(5:56)),COLUMN()-12),"")} | Q6: {=IFERROR(YEAR($B6)&SMALL(IF(((ROW(5:56)*(ROW(5:56)>=WEEKNUM($B6,2))*(ROW(5:56)<=WEEKNUM($G6,2))))>0,ROW(5:56)),COLUMN()-12),"")} | R6: {=IFERROR(YEAR($B6)&SMALL(IF(((ROW(5:56)*(ROW(5:56)>=WEEKNUM($B6,2))*(ROW(5:56)<=WEEKNUM($G6,2))))>0,ROW(5:56)),COLUMN()-12),"")} | S6: {=IFERROR(YEAR($B6)&SMALL(IF(((ROW(5:56)*(ROW(5:56)>=WEEKNUM($B6,2))*(ROW(5:56)<=WEEKNUM($G6,2))))>0,ROW(5:56)),COLUMN()-12),"")} | T6: {=IFERROR(YEAR($B6)&SMALL(IF(((ROW(5:56)*(ROW(5:56)>=WEEKNUM($B6,2))*(ROW(5:56)<=WEEKNUM($G6,2))))>0,ROW(5:56)),COLUMN()-12),"")} | U6: {=IFERROR(YEAR($B6)&SMALL(IF(((ROW(5:56)*(ROW(5:56)>=WEEKNUM($B6,2))*(ROW(5:56)<=WEEKNUM($G6,2))))>0,ROW(5:56)),COLUMN()-12),"")}
M7: {=IFERROR(YEAR($B7)&SMALL(IF(((ROW(6:57)*(ROW(6:57)>=WEEKNUM($B7,2))*(ROW(6:57)<=WEEKNUM($G7,2))))>0,ROW(6:57)),COLUMN()-12),"")} | N7: {=IFERROR(YEAR($B7)&SMALL(IF(((ROW(6:57)*(ROW(6:57)>=WEEKNUM($B7,2))*(ROW(6:57)<=WEEKNUM($G7,2))))>0,ROW(6:57)),COLUMN()-12),"")} | O7: {=IFERROR(YEAR($B7)&SMALL(IF(((ROW(6:57)*(ROW(6:57)>=WEEKNUM($B7,2))*(ROW(6:57)<=WEEKNUM($G7,2))))>0,ROW(6:57)),COLUMN()-12),"")} | P7: {=IFERROR(YEAR($B7)&SMALL(IF(((ROW(6:57)*(ROW(6:57)>=WEEKNUM($B7,2))*(ROW(6:57)<=WEEKNUM($G7,2))))>0,ROW(6:57)),COLUMN()-12),"")} | Q7: {=IFERROR(YEAR($B7)&SMALL(IF(((ROW(6:57)*(ROW(6:57)>=WEEKNUM($B7,2))*(ROW(6:57)<=WEEKNUM($G7,2))))>0,ROW(6:57)),COLUMN()-12),"")} | R7: {=IFERROR(YEAR($B7)&SMALL(IF(((ROW(6:57)*(ROW(6:57)>=WEEKNUM($B7,2))*(ROW(6:57)<=WEEKNUM($G7,2))))>0,ROW(6:57)),COLUMN()-12),"")} | S7: {=IFERROR(YEAR($B7)&SMALL(IF(((ROW(6:57)*(ROW(6:57)>=WEEKNUM($B7,2))*(ROW(6:57)<=WEEKNUM($G7,2))))>0,ROW(6:57)),COLUMN()-12),"")} | T7: {=IFERROR(YEAR($B7)&SMALL(IF(((ROW(6:57)*(ROW(6:57)>=WEEKNUM($B7,2))*(ROW(6:57)<=WEEKNUM($G7,2))))>0,ROW(6:57)),COLUMN()-12),"")} | U7: {=IFERROR(YEAR($B7)&SMALL(IF(((ROW(6:57)*(ROW(6:57)>=WEEKNUM($B7,2))*(ROW(6:57)<=WEEKNUM($G7,2))))>0,ROW(6:57)),COLUMN()-12),"")}
M8: {=IFERROR(YEAR($B8)&SMALL(IF(((ROW(7:58)*(ROW(7:58)>=WEEKNUM($B8,2))*(ROW(7:58)<=WEEKNUM($G8,2))))>0,ROW(7:58)),COLUMN()-12),"")} | N8: {=IFERROR(YEAR($B8)&SMALL(IF(((ROW(7:58)*(ROW(7:58)>=WEEKNUM($B8,2))*(ROW(7:58)<=WEEKNUM($G8,2))))>0,ROW(7:58)),COLUMN()-12),"")} | O8: {=IFERROR(YEAR($B8)&SMALL(IF(((ROW(7:58)*(ROW(7:58)>=WEEKNUM($B8,2))*(ROW(7:58)<=WEEKNUM($G8,2))))>0,ROW(7:58)),COLUMN()-12),"")} | P8: {=IFERROR(YEAR($B8)&SMALL(IF(((ROW(7:58)*(ROW(7:58)>=WEEKNUM($B8,2))*(ROW(7:58)<=WEEKNUM($G8,2))))>0,ROW(7:58)),COLUMN()-12),"")} | Q8: {=IFERROR(YEAR($B8)&SMALL(IF(((ROW(7:58)*(ROW(7:58)>=WEEKNUM($B8,2))*(ROW(7:58)<=WEEKNUM($G8,2))))>0,ROW(7:58)),COLUMN()-12),"")} | R8: {=IFERROR(YEAR($B8)&SMALL(IF(((ROW(7:58)*(ROW(7:58)>=WEEKNUM($B8,2))*(ROW(7:58)<=WEEKNUM($G8,2))))>0,ROW(7:58)),COLUMN()-12),"")} | S8: {=IFERROR(YEAR($B8)&SMALL(IF(((ROW(7:58)*(ROW(7:58)>=WEEKNUM($B8,2))*(ROW(7:58)<=WEEKNUM($G8,2))))>0,ROW(7:58)),COLUMN()-12),"")} | T8: {=IFERROR(YEAR($B8)&SMALL(IF(((ROW(7:58)*(ROW(7:58)>=WEEKNUM($B8,2))*(ROW(7:58)<=WEEKNUM($G8,2))))>0,ROW(7:58)),COLUMN()-12),"")} | U8: {=IFERROR(YEAR($B8)&SMALL(IF(((ROW(7:58)*(ROW(7:58)>=WEEKNUM($B8,2))*(ROW(7:58)<=WEEKNUM($G8,2))))>0,ROW(7:58)),COLUMN()-12),"")}
M9: {=IFERROR(YEAR($B9)&SMALL(IF(((ROW(8:59)*(ROW(8:59)>=WEEKNUM($B9,2))*(ROW(8:59)<=WEEKNUM($G9,2))))>0,ROW(8:59)),COLUMN()-12),"")} | N9: {=IFERROR(YEAR($B9)&SMALL(IF(((ROW(8:59)*(ROW(8:59)>=WEEKNUM($B9,2))*(ROW(8:59)<=WEEKNUM($G9,2))))>0,ROW(8:59)),COLUMN()-12),"")} | O9: {=IFERROR(YEAR($B9)&SMALL(IF(((ROW(8:59)*(ROW(8:59)>=WEEKNUM($B9,2))*(ROW(8:59)<=WEEKNUM($G9,2))))>0,ROW(8:59)),COLUMN()-12),"")} | P9: {=IFERROR(YEAR($B9)&SMALL(IF(((ROW(8:59)*(ROW(8:59)>=WEEKNUM($B9,2))*(ROW(8:59)<=WEEKNUM($G9,2))))>0,ROW(8:59)),COLUMN()-12),"")} | Q9: {=IFERROR(YEAR($B9)&SMALL(IF(((ROW(8:59)*(ROW(8:59)>=WEEKNUM($B9,2))*(ROW(8:59)<=WEEKNUM($G9,2))))>0,ROW(8:59)),COLUMN()-12),"")} | R9: {=IFERROR(YEAR($B9)&SMALL(IF(((ROW(8:59)*(ROW(8:59)>=WEEKNUM($B9,2))*(ROW(8:59)<=WEEKNUM($G9,2))))>0,ROW(8:59)),COLUMN()-12),"")} | S9: {=IFERROR(YEAR($B9)&SMALL(IF(((ROW(8:59)*(ROW(8:59)>=WEEKNUM($B9,2))*(ROW(8:59)<=WEEKNUM($G9,2))))>0,ROW(8:59)),COLUMN()-12),"")} | T9: {=IFERROR(YEAR($B9)&SMALL(IF(((ROW(8:59)*(ROW(8:59)>=WEEKNUM($B9,2))*(ROW(8:59)<=WEEKNUM($G9,2))))>0,ROW(8:59)),COLUMN()-12),"")} | U9: {=IFERROR(YEAR($B9)&SMALL(IF(((ROW(8:59)*(ROW(8:59)>=WEEKNUM($B9,2))*(ROW(8:59)<=WEEKNUM($G9,2))))>0,ROW(8:59)),COLUMN()-12),"")}
M10: {=IFERROR(YEAR($B10)&SMALL(IF(((ROW(9:60)*(ROW(9:60)>=WEEKNUM($B10,2))*(ROW(9:60)<=WEEKNUM($G10,2))))>0,ROW(9:60)),COLUMN()-12),"")} | N10: {=IFERROR(YEAR($B10)&SMALL(IF(((ROW(9:60)*(ROW(9:60)>=WEEKNUM($B10,2))*(ROW(9:60)<=WEEKNUM($G10,2))))>0,ROW(9:60)),COLUMN()-12),"")} | O10: {=IFERROR(YEAR($B10)&SMALL(IF(((ROW(9:60)*(ROW(9:60)>=WEEKNUM($B10,2))*(ROW(9:60)<=WEEKNUM($G10,2))))>0,ROW(9:60)),COLUMN()-12),"")} | P10: {=IFERROR(YEAR($B10)&SMALL(IF(((ROW(9:60)*(ROW(9:60)>=WEEKNUM($B10,2))*(ROW(9:60)<=WEEKNUM($G10,2))))>0,ROW(9:60)),COLUMN()-12),"")} | Q10: {=IFERROR(YEAR($B10)&SMALL(IF(((ROW(9:60)*(ROW(9:60)>=WEEKNUM($B10,2))*(ROW(9:60)<=WEEKNUM($G10,2))))>0,ROW(9:60)),COLUMN()-12),"")} | R10: {=IFERROR(YEAR($B10)&SMALL(IF(((ROW(9:60)*(ROW(9:60)>=WEEKNUM($B10,2))*(ROW(9:60)<=WEEKNUM($G10,2))))>0,ROW(9:60)),COLUMN()-12),"")} | S10: {=IFERROR(YEAR($B10)&SMALL(IF(((ROW(9:60)*(ROW(9:60)>=WEEKNUM($B10,2))*(ROW(9:60)<=WEEKNUM($G10,2))))>0,ROW(9:60)),COLUMN()-12),"")} | T10: {=IFERROR(YEAR($B10)&SMALL(IF(((ROW(9:60)*(ROW(9:60)>=WEEKNUM($B10,2))*(ROW(9:60)<=WEEKNUM($G10,2))))>0,ROW(9:60)),COLUMN()-12),"")} | U10: {=IFERROR(YEAR($B10)&SMALL(IF(((ROW(9:60)*(ROW(9:60)>=WEEKNUM($B10,2))*(ROW(9:60)<=WEEKNUM($G10,2))))>0,ROW(9:60)),COLUMN()-12),"")}
M11: {=IFERROR(YEAR($B11)&SMALL(IF(((ROW(10:61)*(ROW(10:61)>=WEEKNUM($B11,2))*(ROW(10:61)<=WEEKNUM($G11,2))))>0,ROW(10:61)),COLUMN()-12),"")} | N11: {=IFERROR(YEAR($B11)&SMALL(IF(((ROW(10:61)*(ROW(10:61)>=WEEKNUM($B11,2))*(ROW(10:61)<=WEEKNUM($G11,2))))>0,ROW(10:61)),COLUMN()-12),"")} | O11: {=IFERROR(YEAR($B11)&SMALL(IF(((ROW(10:61)*(ROW(10:61)>=WEEKNUM($B11,2))*(ROW(10:61)<=WEEKNUM($G11,2))))>0,ROW(10:61)),COLUMN()-12),"")} | P11: {=IFERROR(YEAR($B11)&SMALL(IF(((ROW(10:61)*(ROW(10:61)>=WEEKNUM($B11,2))*(ROW(10:61)<=WEEKNUM($G11,2))))>0,ROW(10:61)),COLUMN()-12),"")} | Q11: {=IFERROR(YEAR($B11)&SMALL(IF(((ROW(10:61)*(ROW(10:61)>=WEEKNUM($B11,2))*(ROW(10:61)<=WEEKNUM($G11,2))))>0,ROW(10:61)),COLUMN()-12),"")} | R11: {=IFERROR(YEAR($B11)&SMALL(IF(((ROW(10:61)*(ROW(10:61)>=WEEKNUM($B11,2))*(ROW(10:61)<=WEEKNUM($G11,2))))>0,ROW(10:61)),COLUMN()-12),"")} | S11: {=IFERROR(YEAR($B11)&SMALL(IF(((ROW(10:61)*(ROW(10:61)>=WEEKNUM($B11,2))*(ROW(10:61)<=WEEKNUM($G11,2))))>0,ROW(10:61)),COLUMN()-12),"")} | T11: {=IFERROR(YEAR($B11)&SMALL(IF(((ROW(10:61)*(ROW(10:61)>=WEEKNUM($B11,2))*(ROW(10:61)<=WEEKNUM($G11,2))))>0,ROW(10:61)),COLUMN()-12),"")} | U11: {=IFERROR(YEAR($B11)&SMALL(IF(((ROW(10:61)*(ROW(10:61)>=WEEKNUM($B11,2))*(ROW(10:61)<=WEEKNUM($G11,2))))>0,ROW(10:61)),COLUMN()-12),"")}
M12: {=IFERROR(YEAR($B12)&SMALL(IF(((ROW(11:62)*(ROW(11:62)>=WEEKNUM($B12,2))*(ROW(11:62)<=WEEKNUM($G12,2))))>0,ROW(11:62)),COLUMN()-12),"")} | N12: {=IFERROR(YEAR($B12)&SMALL(IF(((ROW(11:62)*(ROW(11:62)>=WEEKNUM($B12,2))*(ROW(11:62)<=WEEKNUM($G12,2))))>0,ROW(11:62)),COLUMN()-12),"")} | O12: {=IFERROR(YEAR($B12)&SMALL(IF(((ROW(11:62)*(ROW(11:62)>=WEEKNUM($B12,2))*(ROW(11:62)<=WEEKNUM($G12,2))))>0,ROW(11:62)),COLUMN()-12),"")} | P12: {=IFERROR(YEAR($B12)&SMALL(IF(((ROW(11:62)*(ROW(11:62)>=WEEKNUM($B12,2))*(ROW(11:62)<=WEEKNUM($G12,2))))>0,ROW(11:62)),COLUMN()-12),"")} | Q12: {=IFERROR(YEAR($B12)&SMALL(IF(((ROW(11:62)*(ROW(11:62)>=WEEKNUM($B12,2))*(ROW(11:62)<=WEEKNUM($G12,2))))>0,ROW(11:62)),COLUMN()-12),"")} | R12: {=IFERROR(YEAR($B12)&SMALL(IF(((ROW(11:62)*(ROW(11:62)>=WEEKNUM($B12,2))*(ROW(11:62)<=WEEKNUM($G12,2))))>0,ROW(11:62)),COLUMN()-12),"")} | S12: {=IFERROR(YEAR($B12)&SMALL(IF(((ROW(11:62)*(ROW(11:62)>=WEEKNUM($B12,2))*(ROW(11:62)<=WEEKNUM($G12,2))))>0,ROW(11:62)),COLUMN()-12),"")} | T12: {=IFERROR(YEAR($B12)&SMALL(IF(((ROW(11:62)*(ROW(11:62)>=WEEKNUM($B12,2))*(ROW(11:62)<=WEEKNUM($G12,2))))>0,ROW(11:62)),COLUMN()-12),"")} | U12: {=IFERROR(YEAR($B12)&SMALL(IF(((ROW(11:62)*(ROW(11:62)>=WEEKNUM($B12,2))*(ROW(11:62)<=WEEKNUM($G12,2))))>0,ROW(11:62)),COLUMN()-12),"")}
M13: {=IFERROR(YEAR($B13)&SMALL(IF(((ROW(12:63)*(ROW(12:63)>=WEEKNUM($B13,2))*(ROW(12:63)<=WEEKNUM($G13,2))))>0,ROW(12:63)),COLUMN()-12),"")} | N13: {=IFERROR(YEAR($B13)&SMALL(IF(((ROW(12:63)*(ROW(12:63)>=WEEKNUM($B13,2))*(ROW(12:63)<=WEEKNUM($G13,2))))>0,ROW(12:63)),COLUMN()-12),"")} | O13: {=IFERROR(YEAR($B13)&SMALL(IF(((ROW(12:63)*(ROW(12:63)>=WEEKNUM($B13,2))*(ROW(12:63)<=WEEKNUM($G13,2))))>0,ROW(12:63)),COLUMN()-12),"")} | P13: {=IFERROR(YEAR($B13)&SMALL(IF(((ROW(12:63)*(ROW(12:63)>=WEEKNUM($B13,2))*(ROW(12:63)<=WEEKNUM($G13,2))))>0,ROW(12:63)),COLUMN()-12),"")} | Q13: {=IFERROR(YEAR($B13)&SMALL(IF(((ROW(12:63)*(ROW(12:63)>=WEEKNUM($B13,2))*(ROW(12:63)<=WEEKNUM($G13,2))))>0,ROW(12:63)),COLUMN()-12),"")} | R13: {=IFERROR(YEAR($B13)&SMALL(IF(((ROW(12:63)*(ROW(12:63)>=WEEKNUM($B13,2))*(ROW(12:63)<=WEEKNUM($G13,2))))>0,ROW(12:63)),COLUMN()-12),"")} | S13: {=IFERROR(YEAR($B13)&SMALL(IF(((ROW(12:63)*(ROW(12:63)>=WEEKNUM($B13,2))*(ROW(12:63)<=WEEKNUM($G13,2))))>0,ROW(12:63)),COLUMN()-12),"")} | T13: {=IFERROR(YEAR($B13)&SMALL(IF(((ROW(12:63)*(ROW(12:63)>=WEEKNUM($B13,2))*(ROW(12:63)<=WEEKNUM($G13,2))))>0,ROW(12:63)),COLUMN()-12),"")} | U13: {=IFERROR(YEAR($B13)&SMALL(IF(((ROW(12:63)*(ROW(12:63)>=WEEKNUM($B13,2))*(ROW(12:63)<=WEEKNUM($G13,2))))>0,ROW(12:63)),COLUMN()-12),"")}
M14: {=IFERROR(YEAR($B14)&SMALL(IF(((ROW(13:64)*(ROW(13:64)>=WEEKNUM($B14,2))*(ROW(13:64)<=WEEKNUM($G14,2))))>0,ROW(13:64)),COLUMN()-12),"")} | N14: {=IFERROR(YEAR($B14)&SMALL(IF(((ROW(13:64)*(ROW(13:64)>=WEEKNUM($B14,2))*(ROW(13:64)<=WEEKNUM($G14,2))))>0,ROW(13:64)),COLUMN()-12),"")} | O14: {=IFERROR(YEAR($B14)&SMALL(IF(((ROW(13:64)*(ROW(13:64)>=WEEKNUM($B14,2))*(ROW(13:64)<=WEEKNUM($G14,2))))>0,ROW(13:64)),COLUMN()-12),"")} | P14: {=IFERROR(YEAR($B14)&SMALL(IF(((ROW(13:64)*(ROW(13:64)>=WEEKNUM($B14,2))*(ROW(13:64)<=WEEKNUM($G14,2))))>0,ROW(13:64)),COLUMN()-12),"")} | Q14: {=IFERROR(YEAR($B14)&SMALL(IF(((ROW(13:64)*(ROW(13:64)>=WEEKNUM($B14,2))*(ROW(13:64)<=WEEKNUM($G14,2))))>0,ROW(13:64)),COLUMN()-12),"")} | R14: {=IFERROR(YEAR($B14)&SMALL(IF(((ROW(13:64)*(ROW(13:64)>=WEEKNUM($B14,2))*(ROW(13:64)<=WEEKNUM($G14,2))))>0,ROW(13:64)),COLUMN()-12),"")} | S14: {=IFERROR(YEAR($B14)&SMALL(IF(((ROW(13:64)*(ROW(13:64)>=WEEKNUM($B14,2))*(ROW(13:64)<=WEEKNUM($G14,2))))>0,ROW(13:64)),COLUMN()-12),"")} | T14: {=IFERROR(YEAR($B14)&SMALL(IF(((ROW(13:64)*(ROW(13:64)>=WEEKNUM($B14,2))*(ROW(13:64)<=WEEKNUM($G14,2))))>0,ROW(13:64)),COLUMN()-12),"")} | U14: {=IFERROR(YEAR($B14)&SMALL(IF(((ROW(13:64)*(ROW(13:64)>=WEEKNUM($B14,2))*(ROW(13:64)<=WEEKNUM($G14,2))))>0,ROW(13:64)),COLUMN()-12),"")}
M15: {=IFERROR(YEAR($B15)&SMALL(IF(((ROW(14:65)*(ROW(14:65)>=WEEKNUM($B15,2))*(ROW(14:65)<=WEEKNUM($G15,2))))>0,ROW(14:65)),COLUMN()-12),"")} | N15: {=IFERROR(YEAR($B15)&SMALL(IF(((ROW(14:65)*(ROW(14:65)>=WEEKNUM($B15,2))*(ROW(14:65)<=WEEKNUM($G15,2))))>0,ROW(14:65)),COLUMN()-12),"")} | O15: {=IFERROR(YEAR($B15)&SMALL(IF(((ROW(14:65)*(ROW(14:65)>=WEEKNUM($B15,2))*(ROW(14:65)<=WEEKNUM($G15,2))))>0,ROW(14:65)),COLUMN()-12),"")} | P15: {=IFERROR(YEAR($B15)&SMALL(IF(((ROW(14:65)*(ROW(14:65)>=WEEKNUM($B15,2))*(ROW(14:65)<=WEEKNUM($G15,2))))>0,ROW(14:65)),COLUMN()-12),"")} | Q15: {=IFERROR(YEAR($B15)&SMALL(IF(((ROW(14:65)*(ROW(14:65)>=WEEKNUM($B15,2))*(ROW(14:65)<=WEEKNUM($G15,2))))>0,ROW(14:65)),COLUMN()-12),"")} | R15: {=IFERROR(YEAR($B15)&SMALL(IF(((ROW(14:65)*(ROW(14:65)>=WEEKNUM($B15,2))*(ROW(14:65)<=WEEKNUM($G15,2))))>0,ROW(14:65)),COLUMN()-12),"")} | S15: {=IFERROR(YEAR($B15)&SMALL(IF(((ROW(14:65)*(ROW(14:65)>=WEEKNUM($B15,2))*(ROW(14:65)<=WEEKNUM($G15,2))))>0,ROW(14:65)),COLUMN()-12),"")} | T15: {=IFERROR(YEAR($B15)&SMALL(IF(((ROW(14:65)*(ROW(14:65)>=WEEKNUM($B15,2))*(ROW(14:65)<=WEEKNUM($G15,2))))>0,ROW(14:65)),COLUMN()-12),"")} | U15: {=IFERROR(YEAR($B15)&SMALL(IF(((ROW(14:65)*(ROW(14:65)>=WEEKNUM($B15,2))*(ROW(14:65)<=WEEKNUM($G15,2))))>0,ROW(14:65)),COLUMN()-12),"")}
M16: {=IFERROR(YEAR($B16)&SMALL(IF(((ROW(15:66)*(ROW(15:66)>=WEEKNUM($B16,2))*(ROW(15:66)<=WEEKNUM($G16,2))))>0,ROW(15:66)),COLUMN()-12),"")} | N16: {=IFERROR(YEAR($B16)&SMALL(IF(((ROW(15:66)*(ROW(15:66)>=WEEKNUM($B16,2))*(ROW(15:66)<=WEEKNUM($G16,2))))>0,ROW(15:66)),COLUMN()-12),"")} | O16: {=IFERROR(YEAR($B16)&SMALL(IF(((ROW(15:66)*(ROW(15:66)>=WEEKNUM($B16,2))*(ROW(15:66)<=WEEKNUM($G16,2))))>0,ROW(15:66)),COLUMN()-12),"")} | P16: {=IFERROR(YEAR($B16)&SMALL(IF(((ROW(15:66)*(ROW(15:66)>=WEEKNUM($B16,2))*(ROW(15:66)<=WEEKNUM($G16,2))))>0,ROW(15:66)),COLUMN()-12),"")} | Q16: {=IFERROR(YEAR($B16)&SMALL(IF(((ROW(15:66)*(ROW(15:66)>=WEEKNUM($B16,2))*(ROW(15:66)<=WEEKNUM($G16,2))))>0,ROW(15:66)),COLUMN()-12),"")} | R16: {=IFERROR(YEAR($B16)&SMALL(IF(((ROW(15:66)*(ROW(15:66)>=WEEKNUM($B16,2))*(ROW(15:66)<=WEEKNUM($G16,2))))>0,ROW(15:66)),COLUMN()-12),"")} | S16: {=IFERROR(YEAR($B16)&SMALL(IF(((ROW(15:66)*(ROW(15:66)>=WEEKNUM($B16,2))*(ROW(15:66)<=WEEKNUM($G16,2))))>0,ROW(15:66)),COLUMN()-12),"")} | T16: {=IFERROR(YEAR($B16)&SMALL(IF(((ROW(15:66)*(ROW(15:66)>=WEEKNUM($B16,2))*(ROW(15:66)<=WEEKNUM($G16,2))))>0,ROW(15:66)),COLUMN()-12),"")} | U16: {=IFERROR(YEAR($B16)&SMALL(IF(((ROW(15:66)*(ROW(15:66)>=WEEKNUM($B16,2))*(ROW(15:66)<=WEEKNUM($G16,2))))>0,ROW(15:66)),COLUMN()-12),"")}
M17: {=IFERROR(YEAR($B17)&SMALL(IF(((ROW(16:67)*(ROW(16:67)>=WEEKNUM($B17,2))*(ROW(16:67)<=WEEKNUM($G17,2))))>0,ROW(16:67)),COLUMN()-12),"")} | N17: {=IFERROR(YEAR($B17)&SMALL(IF(((ROW(16:67)*(ROW(16:67)>=WEEKNUM($B17,2))*(ROW(16:67)<=WEEKNUM($G17,2))))>0,ROW(16:67)),COLUMN()-12),"")} | O17: {=IFERROR(YEAR($B17)&SMALL(IF(((ROW(16:67)*(ROW(16:67)>=WEEKNUM($B17,2))*(ROW(16:67)<=WEEKNUM($G17,2))))>0,ROW(16:67)),COLUMN()-12),"")} | P17: {=IFERROR(YEAR($B17)&SMALL(IF(((ROW(16:67)*(ROW(16:67)>=WEEKNUM($B17,2))*(ROW(16:67)<=WEEKNUM($G17,2))))>0,ROW(16:67)),COLUMN()-12),"")} | Q17: {=IFERROR(YEAR($B17)&SMALL(IF(((ROW(16:67)*(ROW(16:67)>=WEEKNUM($B17,2))*(ROW(16:67)<=WEEKNUM($G17,2))))>0,ROW(16:67)),COLUMN()-12),"")} | R17: {=IFERROR(YEAR($B17)&SMALL(IF(((ROW(16:67)*(ROW(16:67)>=WEEKNUM($B17,2))*(ROW(16:67)<=WEEKNUM($G17,2))))>0,ROW(16:67)),COLUMN()-12),"")} | S17: {=IFERROR(YEAR($B17)&SMALL(IF(((ROW(16:67)*(ROW(16:67)>=WEEKNUM($B17,2))*(ROW(16:67)<=WEEKNUM($G17,2))))>0,ROW(16:67)),COLUMN()-12),"")} | T17: {=IFERROR(YEAR($B17)&SMALL(IF(((ROW(16:67)*(ROW(16:67)>=WEEKNUM($B17,2))*(ROW(16:67)<=WEEKNUM($G17,2))))>0,ROW(16:67)),COLUMN()-12),"")} | U17: {=IFERROR(YEAR($B17)&SMALL(IF(((ROW(16:67)*(ROW(16:67)>=WEEKNUM($B17,2))*(ROW(16:67)<=WEEKNUM($G17,2))))>0,ROW(16:67)),COLUMN()-12),"")}
M18: {=IFERROR(YEAR($B18)&SMALL(IF(((ROW(17:68)*(ROW(17:68)>=WEEKNUM($B18,2))*(ROW(17:68)<=WEEKNUM($G18,2))))>0,ROW(17:68)),COLUMN()-12),"")} | N18: {=IFERROR(YEAR($B18)&SMALL(IF(((ROW(17:68)*(ROW(17:68)>=WEEKNUM($B18,2))*(ROW(17:68)<=WEEKNUM($G18,2))))>0,ROW(17:68)),COLUMN()-12),"")} | O18: {=IFERROR(YEAR($B18)&SMALL(IF(((ROW(17:68)*(ROW(17:68)>=WEEKNUM($B18,2))*(ROW(17:68)<=WEEKNUM($G18,2))))>0,ROW(17:68)),COLUMN()-12),"")} | P18: {=IFERROR(YEAR($B18)&SMALL(IF(((ROW(17:68)*(ROW(17:68)>=WEEKNUM($B18,2))*(ROW(17:68)<=WEEKNUM($G18,2))))>0,ROW(17:68)),COLUMN()-12),"")} | Q18: {=IFERROR(YEAR($B18)&SMALL(IF(((ROW(17:68)*(ROW(17:68)>=WEEKNUM($B18,2))*(ROW(17:68)<=WEEKNUM($G18,2))))>0,ROW(17:68)),COLUMN()-12),"")} | R18: {=IFERROR(YEAR($B18)&SMALL(IF(((ROW(17:68)*(ROW(17:68)>=WEEKNUM($B18,2))*(ROW(17:68)<=WEEKNUM($G18,2))))>0,ROW(17:68)),COLUMN()-12),"")} | S18: {=IFERROR(YEAR($B18)&SMALL(IF(((ROW(17:68)*(ROW(17:68)>=WEEKNUM($B18,2))*(ROW(17:68)<=WEEKNUM($G18,2))))>0,ROW(17:68)),COLUMN()-12),"")} | T18: {=IFERROR(YEAR($B18)&SMALL(IF(((ROW(17:68)*(ROW(17:68)>=WEEKNUM($B18,2))*(ROW(17:68)<=WEEKNUM($G18,2))))>0,ROW(17:68)),COLUMN()-12),"")} | U18: {=IFERROR(YEAR($B18)&SMALL(IF(((ROW(17:68)*(ROW(17:68)>=WEEKNUM($B18,2))*(ROW(17:68)<=WEEKNUM($G18,2))))>0,ROW(17:68)),COLUMN()-12),"")}
M19: {=IFERROR(YEAR($B19)&SMALL(IF(((ROW(18:69)*(ROW(18:69)>=WEEKNUM($B19,2))*(ROW(18:69)<=WEEKNUM($G19,2))))>0,ROW(18:69)),COLUMN()-12),"")} | N19: {=IFERROR(YEAR($B19)&SMALL(IF(((ROW(18:69)*(ROW(18:69)>=WEEKNUM($B19,2))*(ROW(18:69)<=WEEKNUM($G19,2))))>0,ROW(18:69)),COLUMN()-12),"")} | O19: {=IFERROR(YEAR($B19)&SMALL(IF(((ROW(18:69)*(ROW(18:69)>=WEEKNUM($B19,2))*(ROW(18:69)<=WEEKNUM($G19,2))))>0,ROW(18:69)),COLUMN()-12),"")} | P19: {=IFERROR(YEAR($B19)&SMALL(IF(((ROW(18:69)*(ROW(18:69)>=WEEKNUM($B19,2))*(ROW(18:69)<=WEEKNUM($G19,2))))>0,ROW(18:69)),COLUMN()-12),"")} | Q19: {=IFERROR(YEAR($B19)&SMALL(IF(((ROW(18:69)*(ROW(18:69)>=WEEKNUM($B19,2))*(ROW(18:69)<=WEEKNUM($G19,2))))>0,ROW(18:69)),COLUMN()-12),"")} | R19: {=IFERROR(YEAR($B19)&SMALL(IF(((ROW(18:69)*(ROW(18:69)>=WEEKNUM($B19,2))*(ROW(18:69)<=WEEKNUM($G19,2))))>0,ROW(18:69)),COLUMN()-12),"")} | S19: {=IFERROR(YEAR($B19)&SMALL(IF(((ROW(18:69)*(ROW(18:69)>=WEEKNUM($B19,2))*(ROW(18:69)<=WEEKNUM($G19,2))))>0,ROW(18:69)),COLUMN()-12),"")} | T19: {=IFERROR(YEAR($B19)&SMALL(IF(((ROW(18:69)*(ROW(18:69)>=WEEKNUM($B19,2))*(ROW(18:69)<=WEEKNUM($G19,2))))>0,ROW(18:69)),COLUMN()-12),"")} | U19: {=IFERROR(YEAR($B19)&SMALL(IF(((ROW(18:69)*(ROW(18:69)>=WEEKNUM($B19,2))*(ROW(18:69)<=WEEKNUM($G19,2))))>0,ROW(18:69)),COLUMN()-12),"")}
M20: {=IFERROR(YEAR($B20)&SMALL(IF(((ROW(19:70)*(ROW(19:70)>=WEEKNUM($B20,2))*(ROW(19:70)<=WEEKNUM($G20,2))))>0,ROW(19:70)),COLUMN()-12),"")} | N20: {=IFERROR(YEAR($B20)&SMALL(IF(((ROW(19:70)*(ROW(19:70)>=WEEKNUM($B20,2))*(ROW(19:70)<=WEEKNUM($G20,2))))>0,ROW(19:70)),COLUMN()-12),"")} | O20: {=IFERROR(YEAR($B20)&SMALL(IF(((ROW(19:70)*(ROW(19:70)>=WEEKNUM($B20,2))*(ROW(19:70)<=WEEKNUM($G20,2))))>0,ROW(19:70)),COLUMN()-12),"")} | P20: {=IFERROR(YEAR($B20)&SMALL(IF(((ROW(19:70)*(ROW(19:70)>=WEEKNUM($B20,2))*(ROW(19:70)<=WEEKNUM($G20,2))))>0,ROW(19:70)),COLUMN()-12),"")} | Q20: {=IFERROR(YEAR($B20)&SMALL(IF(((ROW(19:70)*(ROW(19:70)>=WEEKNUM($B20,2))*(ROW(19:70)<=WEEKNUM($G20,2))))>0,ROW(19:70)),COLUMN()-12),"")} | R20: {=IFERROR(YEAR($B20)&SMALL(IF(((ROW(19:70)*(ROW(19:70)>=WEEKNUM($B20,2))*(ROW(19:70)<=WEEKNUM($G20,2))))>0,ROW(19:70)),COLUMN()-12),"")} | S20: {=IFERROR(YEAR($B20)&SMALL(IF(((ROW(19:70)*(ROW(19:70)>=WEEKNUM($B20,2))*(ROW(19:70)<=WEEKNUM($G20,2))))>0,ROW(19:70)),COLUMN()-12),"")} | T20: {=IFERROR(YEAR($B20)&SMALL(IF(((ROW(19:70)*(ROW(19:70)>=WEEKNUM($B20,2))*(ROW(19:70)<=WEEKNUM($G20,2))))>0,ROW(19:70)),COLUMN()-12),"")} | U20: {=IFERROR(YEAR($B20)&SMALL(IF(((ROW(19:70)*(ROW(19:70)>=WEEKNUM($B20,2))*(ROW(19:70)<=WEEKNUM($G20,2))))>0,ROW(19:70)),COLUMN()-12),"")}
