Workbook
Name CoffretBT: 'Base de donnée'!$A$3:$A$11
Name Typecoffret: OFFSET('Base de donnée'!$B$3,MATCH('Type enquête'!$A$57:$D$58,'Base de donnée'!$A$3:$A$11,0)-1,)

Sheet Listing
A1: Commentaires | B1: Coordonnées client | F1: Coordonnées propriétaire | J1: Suivi de l'enquête
J2: Non réalisée | K2: Réalisée | L2: Validée
B3: NOM | C3: ADRESSE | D3: TELEPHONE | E3: E-MAIL | F3: NOM | G3: ADRESSE | H3: TELEPHONE | I3: E-MAIL

Sheet Biblio
A1: REMBT 6P | D1: REMBT 9P | G1: REMBT 12P | J1: C200/P400 A | M1: Borne CIBE | P1: Coffret CIBE
J2: Version coffret
J16: Largeur
J17: Hauteur
A18: Largeur | B18: 35cm | D18: Largeur | E18: 53cm | J18: Epaisseur
A19: Hauteur | B19: 1m | D19: Hauteur | E19: 1m | P19: Largeur | Q19: 21,5cm
A20: Epaisseur | B20: 19,5cm | D20: Epaisseur | E20: 19,5cm | M20: Largeur | N20: 21,5cm | P20: Hauteur | Q20: 69,2cm
G21: Largeur | H21: 70cm | J21: Version Borne | M21: Hauteur | N21: 69,2cm | P21: Epaisseur | Q21: 15,8cm
G22: Hauteur | H22: 1m | M22: Epaisseur | N22: 15,8cm
G23: Epaisseur | H23: 19,5cm
M49: Borne CIBE

Sheet Base de donnée
A3: Coffret CIBE | B3: Largeur : 21,5cm Hauteur: 69,2cm Epaisseur: 15,8cm | C3: =CELL("adresse",B3) -> $B$3
A4: Coffret S22 | C4: =CELL("adresse",B4) -> $B$4
A5: Coffret S20 | C5: =CELL("adresse",B5) -> $B$5
A6: Coffret S15 | C6: =CELL("adresse",B6) -> $B$6
A7: Coffret 200A existant | C7: =CELL("adresse",B7) -> $B$7
A8: Coffret 200A | B8: Largeur : 21,5cm Hauteur: 69,2cm Epaisseur: 15,8cm | C8: =CELL("adresse",B8) -> $B$8
A9: REMBT 6 plages | B9: Largeur : 35 cm Hauteur: 1 m Epaisseur: 19,5 cm | C9: =CELL("adresse",B9) -> $B$9
A10: REMBT 9 plages | B10: Largeur : 53 cm Hauteur: 1 m Epaisseur: 19,5 cm | C10: =CELL("adresse",B10) -> $B$10
A11: REMBT 12 plages | B11: Largeur : xcm Hauteur: 1 m Epaisseur: xcm | C11: =CELL("adresse",B11) -> $B$11

Sheet Type enquête
A2: N° d'affaire : 3286 ENFOUISSEMENT DES RESEAUX Electriques, Téléphoniques & Vidéo
A3: Identification client | F3: Identification propriétaire | AC3: Oui
A4: Nom: | F4: Nom: | N4: Tranchée commune | P4: Oui | AC4: Non
A5: Adresse: | B5: Allée Victor Basch | F5: Adresse:
B6: 94 170 - LE PERREUX SUR MARNE | H6: 94 170 - LE PERREUX SUR MARNE
A7: Téléphone fixe: | F7: Téléphone fixe: | N7: Terrassement | Z7: BT | AA7: TEL/VID | AB7: Somme
A8: Téléphone portable: | F8: Téléphone portable: | N8: Terre, gravillons, bétons de propreté, enrobés ou de qualité équivalente, linéaire inférieur ou égal à 5m | Z8: =IF(AND(H23>0,H23<=5),1,0) -> 1 | AA8: =IF(AND(L23>0,L23<=5),1,0) -> 1 | AB8: =IF($P$4="Oui",Z8,SUM(Z8:AA8)) -> 1
A9: E-mail: | F9: E-mail: | N9: Terre, gravillons, bétons de propreté, enrobés ou de qualité équivalent, linéaire compris entre 5m et 10m | Z9: =IF(AND(H23>5,H23<=10),1,0) -> 0 | AA9: =IF(AND(L23>5,L23<=10),1,0) -> 0 | AB9: =IF($P$4="Oui",Z9,SUM(Z9:AA9)) -> 0
A10: Compteur | E10: Libellé | N10: Pierres, dallages, carrelages, marbres ou de qualité équivalente, linéaire inférieur ou égal à 5 m | Z10: =IF(AND(H24>0,H24<=5),1,0) -> 0 | AA10: =IF(AND(L24>0,L24<=5),1,0) -> 0 | AB10: =IF($P$4="Oui",Z10,SUM(Z10:AA10)) -> 0
A11: Individuel | E11: MATERIEL BT + DEPOSE : | G11: U | H11: Qte | J11: TELECOM : | K11: U | L11: Qte | N11: Pierres, dallages, carrelages, marbres ou de qualité équivalente, linéaire compris entre 5m et 10m | Z11: =IF(AND(H24>5,H24<=10),1,0) -> 0 | AA11: =IF(AND(L24>5,L24<=10),1,0) -> 0 | AB11: =IF($P$4="Oui",Z11,SUM(Z11:AA11)) -> 0
A12: Mono | E12: Câble 95²Alu | G12: ml | J12: Regard 30x30 | K12: u | N12: Terre, gravillons,bétons de propreté,enrobés ou de qualité équivalente,linéaire compris entre 10m et 20m | Z12: =IF(AND(H23>10,H23<=20),1,0) -> 0 | AA12: =IF(AND(L23>10,L23<=20),1,0) -> 0 | AB12: =IF($P$4="Oui",Z12,SUM(Z12:AA12)) -> 0
A13: Tri | E13: Câble 35²Alu ou 25²Cu | G13: ml | J13: Chambre L0T | K13: u | N13: Plus Value de terrassement supérieur à 20m en complément de l'article 2.3.5 | Z13: =IF(H23>20,H23-20,0) -> 0 | AA13: =IF(L23>20,L23-20,0) -> 0 | AB13: =IF($P$4="Oui",MAX(Z13:AA13),SUM(Z13:AA13)) -> 0
A14: Calibre disjoncteur | D14: A | E14: Câble 95²Alu en élévation | G14: ml | J14: Fourreau FT 42/45 | K14: ml | N14: Plus Value de terrassement supérieur à 20m en complément de l'article 2.3.6 | Z14: =IF(H24>20,H24-20,0) -> 0 | AA14: =IF(L24>20,L24-20,0) -> 0 | AB14: =IF($P$4="Oui",MAX(Z14:AA14),SUM(Z14:AA14)) -> 0
E15: Câble 35²Alu ou 25²Cu en élévation | G15: ml | J15: Fourreau FT 25/28 | K15: ml
A16: Collectif | E16: Remplacement disjoncteur | G16: u | J16: VIDEO : | K16: U | L16: Qte
A17: Légende | E17: Boite piano | G17: u | J17: Regard 30x30 | K17: u
A18: Basse tension | E18: Dépose branchement | G18: u | J18: Chambre L0T | K18: u
A19: Télécom | E19: Dépose poteau béton | G19: u | J19: Fourreau FT 42/45 | K19: ml
A20: Vidéo | E20: Dépose poteau bois | G20: u | J20: Fourreau FT 25/28 | K20: ml
A21: Percement
A22: Regard 30 x 30 | E22: TERRASSEMENTS BT : | G22: U | H22: Qte | J22: TERRASSEMENT TEL & VIDEO : | K22: U | L22: Qte
A23: Coffret BT | E23: Terre, gravillon, béton, enrobés | G23: ml | H23: 1 | J23: Terre, gravillon, béton, enrobés | K23: ml | L23: 1
A24: Compteur | E24: Pierre, dallages, carrelages, marbres | G24: ml | H24: 0 | J24: Pierre, dallages, carrelages, marbres | K24: ml | L24: 0 | N24: Coffrets
A25: Schéma du projet | F25: Photo montage | N25: REMBT 6 plages sur socle
N26: REMBT 9 à 12 plages sur socle
N27: Coffret 3 directions
N28: Coffret de coupure 200/400A
N29: Coffret CIBE sur socle ou borne
N30: Coffret CIBE Haut ou Bas à encastrer
A41: Coffret | E41: Prescriptions
E42: BASSE TENSION :
E45: TELECOM :
E48: VIDEO :
E51: Autorisation du propriétaire
E52: Date:
E53: NOM :
E54: SIGNATURE :
A57: Coffret 200A
A59: Cheminement des réseaux

Sheet Fin
A2: N° d'affaire : 3286 ENFOUISSEMENT DES RESEAUX Electriques, Téléphoniques & Vidéo
A3: Identification client | F3: Identification propriétaire (si différent du client)
A4: Nom: | F4: Nom:
A5: Adresse: | F5: Adresse:
A7: Téléphone fixe: | F7: Téléphone fixe:
A8: Téléphone portable: | F8: Téléphone portable:
A9: E-mail: | F9: E-mail:
A10: Compteur | E10: Libellé
A11: Individuel | E11: MATERIEL BT + DEPOSE : | G11: U | H11: Qte | J11: TELECOM : | K11: U | L11: Qte
A12: Mono | E12: Câble 95²Alu | G12: ml | J12: Regard 30x30 | K12: u
A13: Tri | E13: Câble 35²Alu ou 25²Cu | G13: ml | J13: Chambre L0T | K13: u
A14: Calibre disjoncteur | C14: 30 | D14: A | E14: Câble 95²Alu en élévation | G14: ml | J14: Fourreau FT 42/45 | K14: ml | N14: Terrassement
E15: Câble 35²Alu ou 25²Cu en élévation | G15: ml | J15: Fourreau FT 25/28 | K15: ml | N15: Terre, gravillons, bétons de propreté, enrobés ou de qualité équivalente, linéaire inférieur ou égal à 5m
A16: Collectif | E16: Remplacement disjoncteur | G16: u | J16: VIDEO : | K16: U | L16: Qte | N16: Terre, gravillons, bétons de propreté, enrobés ou de qualité équivalente, linéaire compris entre 5m et 10m
A17: Légende | E17: Boite piano | G17: u | J17: Regard 30x30 | K17: u | N17: Pierres, dallages, carrelages, marbres ou de qualité équivalente, linéaire inférieur ou égal à 5 m
A18: Basse tension | E18: Dépose branchement | G18: u | J18: Chambre L0T | K18: u | N18: Pierres, dallages, carrelages, marbres ou de qualité équivalente, linéaire compris entre 5m et 10m
A19: Télécom | E19: Dépose poteau béton | G19: u | J19: Fourreau FT 42/45 | K19: ml | N19: Terre, gravillons, bétons de propreté, enrobés ou de qualité équivalente, linéaire compris entre 10m et 20m
A20: Vidéo | E20: Dépose poteau bois | G20: u | J20: Fourreau FT 25/28 | K20: ml | N20: Pierres, dallages, carrelages, marbres ou de qualité équivalente, linéaire compris entre 10m et 20m
A21: Percement | N21: Plus Value de terrassement supérieur à 20m en complément de l'article 2.3.5
A22: Regard 30 x 30 | E22: TERRASSEMENTS BT : | G22: U | H22: Qte | J22: TERRASSEMENT TEL & VIDEO : | K22: U | L22: Qte | N22: Plus Value de terrassement supérieur à 20m en complément de l'article 2.3.6
A23: Coffret BT | E23: Terre, gravillon, béton, enrobés | G23: ml | J23: Terre, gravillon, béton, enrobés | K23: ml
A24: Compteur | E24: Pierre, dallages, carrelages, marbres | G24: ml | J24: Pierre, dallages, carrelages, marbres | K24: ml | N24: Coffrets
A25: Schéma du projet | F25: Photo montage | N25: REMBT 6 plages sur socle
N26: REMBT 9 à 12 plages sur socle
N27: Coffret 3 directions
N28: Coffret de coupure 200/400A
N29: Coffret CIBE sur socle ou borne
N30: Coffret CIBE Haut ou Bas à encastrer
A44: Coffret | E44: Prescriptions
E45: BASSE TENSION :
E48: TELECOM :
E51: VIDEO :
E54: Autorisation du propriétaire
E55: Date:
E56: NOM :
A57: Largeur | B57: 21,5cm | E57: SIGNATURE :
A58: Hauteur | B58: 69,2cm
A59: Epaisseur | B59: 15,8cm
A60: Borne CIBE

Sheet Bordereau
A3: POSTE N° | B3: DESIGNATION | C3: U | D3: Quantité
A5: 1 | B5: GENERALITES
A6: 1.1 | B6: Installation de chantier, cantonnement, stockage, signalisation, Constat huissier | C6: ft
A7: 1.1.1 | B7: Divers travaux courants sur la signalisation horizontale et verticale | C7: ft
A8: 1.2.0 | B8: DT/DICT + marquage piquetage | C8: ft
A9: 1.2.1 | B9: Plan d'exécution et plan de récolement pour l'électricité | C9: ft
A10: 1.2.2 | B10: Plans d'exécution, plans de récolement pour la téléphonie et documentation finale. | C10: ft
A11: 1.2.3 | B11: Plans d'exécution, plans de récolement pour la vidéocommunication, documentation finale | C11: ft
A12: 1.2.4 | B12: Plans d'exécution et plans de récolement pour le réseau Ville et EP | C12: ft
A13: 1.2.4.1 | B13: Cet article reprend le prix 1.1 ci-dessus si répartition différente entre réseaux. | C13: ft
A14: 1.2.4.2 | B14: Cet article reprend le prix 1.1.1 ci-dessus si répartition différente entre réseaux. | C14: ft
A15: 1.2.4.3 | B15: Cet article reprend le prix 1.2. ci-dessus si répartition différente entre réseaux. | C15: ft
A16: 1.2.5 | B16: Reconstitution de signalisations horizontale et verticale spécifique | C16: ml
A17: 1.2.6 | B17: Mise en sécurité du chantier personnes et des biens (GBA, passage piétons, feux tricolores, protection des arbres) | C17: ft
A18: 1.2.7 | B18: Divers travaux spécifiques élagage (unité d'arbres) | C18: u
A20: 2 | B20: TRANCHEES COMMUNES, TERRASSEMENTS GENERAUX
A21: 2.1 | B21: Tranchée sous trottoir
A22: 2.1.1 | B22: BT | C22: ml
A23: 2.1.2 | B23: TEL | C23: ml
A24: 2.1.3 | B24: VIDEO | C24: ml
A25: 2.1.4 | B25: VILLE | C25: ml
A26: 2.1.5 | B26: ECP | C26: ml
A27: 2.1.6 | B27: BT + TEL | C27: ml
A28: 2.1.6.1 | B28: BT + TEL avec séparateur | C28: ml
A29: 2.1.7 | B29: BT + VIDEO | C29: ml
A30: 2.1.8 | B30: BT + VILLE | C30: ml
A31: 2.1.9 | B31: BT + ECP | C31: ml
A32: 2.1.10 | B32: TEL + VIDEO | C32: ml
A33: 2.1.11 | B33: TEL + VILLE | C33: ml
... A67: 2.1.38 | B67: Plus value pour terrassement à plus de 1,30m jusqu'à 2 m (y compris blindage et +) | C67: ml
A69: 2.2 | B69: Tranchée sous chaussée
A70: 2.2.1 | B70: BT | C70: ml
A71: 2.2.2 | B71: TEL | C71: ml
A72: 2.2.3 | B72: VIDEO | C72: ml
A73: 2.2.4 | B73: VILLE | C73: ml
A74: 2.2.5 | B74: ECP | C74: ml
A75: 2.2.6 | B75: BT + TEL | C75: ml
A76: 2.2.6.1 | B76: BT + TEL avec séparateur | C76: ml
A77: 2.2.7 | B77: BT + VIDEO | C77: ml
A78: 2.2.8 | B78: BT + VILLE | C78: ml
A79: 2.2.9 | B79: BT + ECP | C79: ml
A80: 2.2.10 | B80: TEL + VIDEO | C80: ml
A81: 2.2.11 | B81: TEL + VILLE | C81: ml
... A113: 2.2.36 | B113: Cet article reprend un des prix ci-dessus si répartition différente entre réseaux à prévoir. | C113: ml
A115: 2.3 | B115: Terrassements sur domaine privé
A116: 2.3.1 | B116: Exécution des terrassements sur domaine privé en terre, gravillons, bétons de propreté, enrobés ou de qualité équivalente, linéaire inférieur ou égal à 5m | C116: ft | D116: =SUM('Type enquête:Fin'!AB8) -> 1
A117: 2.3.2 | B117: Exécution des terrassements sur domaine privé en terre, gravillons, bétons de propreté, enrobés ou de qualité équivalente, linéaire compris entre 5m et 10m | C117: ft | D117: =SUM('Type enquête:Fin'!AB9) -> 0
A118: 2.3.3 | B118: Exécution des terrassements sur domaine privé en revêtements pierres, dallages, carrelages, marbres ou de qualité équivalente, linéaire inférieur ou égal à 5 m | C118: ft | D118: =SUM('Type enquête:Fin'!AB10) -> 0
A119: 2.3.4 | B119: Exécution des terrassements sur domaine privé en revêtements pierres, dallages, carrelages, marbres ou de qualité équivalente, linéaire compris entre 5m et 10m | C119: ft | D119: =SUM('Type enquête:Fin'!AB11) -> 0
A120: 2.3.5 | B120: Exécution des terrassements sur domaine privé en terre, gravillons, bétons de propreté, enrobés ou de qualité équivalente, linéaire compris entre 10m et 20m | C120: ft | D120: =SUM('Type enquête:Fin'!AB12) -> 0
A121: 2.3.6 | B121: Exécution des terrassements sur domaine privé en revêtements pierres, dallages, carrelages, marbres ou de qualité équivalente, linéaire compris entre 10m et 20m | C121: ft | D121: =SUM('Type enquête:Fin'!AB13) -> 0
A122: 2.3.7 | B122: Cet article reprend un des prix ci-dessus si répartition différente entre réseaux à prévoir. | C122: ft | D122: =SUM('Type enquête:Fin'!AB14) -> 0
A123: 2.3.8 | B123: Cet article reprend un des prix ci-dessus si répartition différente entre réseaux à prévoir. | C123: ft | D123: =SUM('Type enquête:Fin'!AB15) -> 0
A124: 2.3.9 | B124: Plus Value de terrassement supérieur à 20m en complément de l'article 2.3.5 | C124: ml | D124: =SUM('Type enquête:Fin'!AB16) -> 0
A125: 2.3.10 | B125: Plus Value de terrassement supérieur à 20m en complément de l'article 2.3.6 | C125: ml | D125: =SUM('Type enquête:Fin'!AB17) -> 0
A127: 3 | B127: DISTRIBUTION ELECTRIQUE
A128: 3.1 | B128: Les coffrets et équipements sur domaine public
A129: 3.1.1.1 | B129: Fourniture de grille fausse coupure sur socle double | C129: u
A130: 3.1.1.1.1 | B130: Pose et raccordement de grille fausse coupure sur socle double | C130: u
A131: 3.1.1.2 | B131: Fourniture de grille fausse coupure S26 sur socle simple | C131: u
A132: 3.1.1.2.1 | B132: Pose et raccordement de grille fausse coupure S26 sur socle simple | C132: u
A133: 3.1.2 | B133: Fourniture de grille d'étoilement ou de repiquage sur socle | C133: u
A134: 3.1.2.1 | B134: Pose et raccordement de grille d'étoilement ou de repiquage sur socle | C134: u
A135: 3.1.3.1 | B135: Fourniture d'un REMBT 6 plages sur socle | C135: u
A136: 3.1.3.1.1 | B136: Pose et raccordement d'un REMBT 6 plages sur socle | C136: u
A137: 3.1.3.2 | B137: Fourniture d'un REMBT 9 à 12 plages sur socle | C137: u
A138: 3.1.3.2.1 | B138: Pose et raccordement d'un REMBT 9 à 12 plages sur socle | C138: u
A139: 3.1.4 | B139: Fourniture de coffret 3 directions HN 63S63 | C139: u
A140: 3.1.4.1 | B140: Pose et raccordement de coffret 3 directions HN 63S63 | C140: u
... A150: 3.1.10 | B150: Raccordement câble 240 ou 150 mm² sur tableau BT d'un poste | C150: u
A152: 3.2 | B152: Câbles électriques et boites de raccordement sur domaine public
A153: 3.2.1 | B153: Fourniture de câble BTA 3x240² + 1x95² ALU | C153: ml
A154: 3.2.1.1 | B154: Déroulage de câble BTA 3x240² + 1x95² ALU | C154: ml
A155: 3.2.2 | B155: Fourniture de câble BTA 3x150² + 1x70² ALU | C155: ml
A156: 3.2.2.1 | B156: Déroulage de câble BTA 3x150² + 1x70² ALU | C156: ml
A157: 3.2.3 | B157: Fourniture de câble BTA 3x95² + 1x50² ALU | C157: ml
A158: 3.2.3.1 | B158: Déroulage de câble BTA 3x95² + 1x50² ALU | C158: ml
A159: 3.2.4 | B159: Fourniture de câble 4x35² ALU | C159: ml
A160: 3.2.4.1 | B160: Déroulage de câble 4x35² ALU | C160: ml
A161: 3.2.5 | B161: Fourniture d'un fourreau TPC Ø110 mm | C161: ml
A162: 3.2.5.1 | B162: Pose d'un fourreau TPC Ø110 mm | C162: ml
A163: 3.2.6 | B163: Fourniture d'un fourreau TPC Ø 63 mm | C163: ml
A164: 3.2.6.1 | B164: Pose d'un fourreau TPC Ø 63 mm | C164: ml
... A169: 3.2.9 | B169: Plus value sur les prix 3.2.7 et 3.2.8 pour travaux effectués sur des câbles sous tension | C169: u
A171: 3.3 | B171: Câbles électriques sur domaine privé
A172: 3.3.1 | B172: Fourniture de câble BTA 3x95² + 1x50² ALU en tranchée ouverte ou sous fourreau | C172: ml
A173: 3.3.1.1 | B173: Déroulage de câble BTA 3x95² + 1x50² ALU en tranchée ouverte ou sous fourreau | C173: ml
A174: 3.3.2 | B174: Fourniture de câble 4 x 35² Alu ou 4 x 25² cuivre en tranchée ouverte ou sous fourreau | C174: ml
A175: 3.3.2.1 | B175: Déroulage de câble 4 x 35² Alu ou 4 x 25² cuivre en tranchée ouverte ou sous fourreau | C175: ml
A176: 3.3.3 | B176: Fourniture du câble BT 3x95² + 1x50² ALU en façade, chemin de câbles etc.. | C176: ml
A177: 3.3.3.1 | B177: Pose, fixation et raccordement du câble BT 3x95² + 1x50² ALU en façade, chemin de câbles etc.. | C177: ml
A178: 3.3.4 | B178: Fourniture du câble BT 4 x 35² Alu ou 4 x 25² cuivre en façade , chemin de câbles etc… | C178: ml
A179: 3.3.4.1 | B179: Pose, fixation et raccordement du câble BT 4 x 35² Alu ou 4 x 25² cuivre en façade , chemin de câbles etc… | C179: ml
A180: 3.3.5 | B180: Fourniture de câble de téléreport | C180: ml
A181: 3.3.5.1 | B181: Pose et raccordement de câble de téléreport | C181: ml
A183: 3.4 | B183: Les coffrets et équipements sur domaine privé
A184: 3.4.1 | B184: Remplacement de disjoncteur fourniture | C184: u
A185: 3.4.1.1 | B185: Remplacement de disjoncteur pose y inclus toutes sujétions | C185: u
A186: 3.4.2 | B186: Remplacement tableau pour compteur électronique et disjoncteur, fourniture . | C186: u
A187: 3.4.2.1 | B187: Remplacement tableau pour compteur électronique et disjoncteur, pose , y inclus toutes sujétions. | C187: u
...
