Workbook
Name Affec: #REF!
Name Affecte: #REF!
Name ok: #REF!
Name OKTip: #REF!
Name SUMMARYPL: #REF!

Sheet Initial
A1: Code Magasin | B1: N° Facture | C1: Date facture | D1: Date Livraison | E1: Marchandise | F1: Transport | G1: Palettes | H1: Q Palettes | I1: Credit Note
A2: 4005 | B2: 20014964 | C2: 43103 | D2: 43103 | I2: -345.33
A3: 4005 | B3: 3302543 | C3: 43105 | D3: 43109 | E3: 2358 | F3: 7784
A4: 4005 | B4: 3302652 | C4: 43105 | D4: 43109 | E4: 2854.08
A5: 4005 | B5: 3302667 | C5: 43105 | D5: 43109 | F5: 2696.28 | G5: 360

Sheet Résultat
A1: Num Ligne | B1: Num facture | C1: Date facture | D1: Type | E1: Montant
A2: 2 | B2: =+Initial!B2 -> 20014964 | C2: =+Initial!C2 -> 43103 | D2: =+Initial!I1 -> Credit Note | E2: =+Initial!I2 -> -345.33
A3: 3 | B3: =+Initial!B3 -> 3302543 | C3: =+Initial!C3 -> 43105 | D3: =+Initial!E1 -> Marchandise | E3: =+Initial!E3 -> 2358
A4: 3 | B4: =+Initial!B3 -> 3302543 | C4: =+Initial!C3 -> 43105 | D4: =+Initial!F1 -> Transport | E4: =+Initial!F3 -> 7784
A5: 4 | B5: =+Initial!B4 -> 3302652 | C5: =+Initial!C4 -> 43105 | D5: =+Initial!E1 -> Marchandise | E5: =+Initial!E4 -> 2854.08
A6: 5 | B6: =+Initial!B5 -> 3302667 | C6: =+Initial!C5 -> 43105 | D6: =+Initial!F1 -> Transport | E6: =+Initial!F5 -> 2696.28
A7: 5 | B7: =+Initial!B5 -> 3302667 | C7: =+Initial!C5 -> 43105 | D7: =+Initial!G1 -> Palettes | E7: =+Initial!G5 -> 360
