Workbook
Name _02_Edition: '[1]UA-TOTAL-04'!$B$25:$R$67,'[1]UA-TOTAL-04'!$B$68:$R$89,'[1]UA-TOTAL-04'!$B$90:$R$111,'[1]UA-TOTAL-04'!$B$112:$K$128
Name _06_07_Edition: '[1]UA-TOTAL-04'!$B$219:$R$246,'[1]UA-TOTAL-04'!$B$247:$R$280,'[1]UA-TOTAL-04'!$B$281:$R$317
Name _2019CUP: OFFSET('[3]Graphique HP'!$C$32,0,0,1,MATCH(SEJOURS!$B$1,'[3]Graphique HP'!$C$2:$N$2,0))
Name _2019CUPHC: OFFSET('[3]Graphique HC'!$B$69,0,0,1,MATCH(SEJOURS!$B$1,'[3]Graphique HC'!$C$5:$N$5,0))
Name _2019HUPC: OFFSET('[3]Graphique HP'!$C$33,0,0,1,MATCH(SEJOURS!$B$1,'[3]Graphique HP'!$C$2:$N$2,0))
Name _2019HUPCHC: OFFSET('[3]Graphique HC'!$C$31,0,0,1,MATCH(SEJOURS!$B$1,'[3]Graphique HC'!$C$5:$N$5,0))
Name _2019HUPO: OFFSET('[3]Graphique HP'!$C$37,0,0,1,MATCH(SEJOURS!$B$1,'[3]Graphique HP'!$C$2:$N$2,0))
Name _2019HUPOHC: OFFSET('[3]Graphique HC'!$C$35,0,0,1,MATCH(SEJOURS!$B$1,'[3]Graphique HC'!$C$5:$N$5,0))
Name _2019NECKER: OFFSET('[3]Graphique HP'!$C$41,0,0,1,MATCH(SEJOURS!$B$1,'[3]Graphique HP'!$C$2:$N$2,0))
Name _2019NECKERHC: OFFSET('[3]Graphique HC'!$C$39,0,0,1,MATCH(SEJOURS!$B$1,'[3]Graphique HC'!$C$5:$N$5,0))
Name _2020CUP: OFFSET('[3]Graphique HP'!$C$18,0,0,1,MATCH(SEJOURS!$B$1,'[3]Graphique HP'!$C$2:$N$2,0))
Name _2020CUPHC: OFFSET('[3]Graphique HC'!$B$70,0,0,1,MATCH(SEJOURS!$B$1,'[3]Graphique HC'!$C$5:$N$5,0))
Name _2020HUPC: OFFSET('[3]Graphique HP'!$C$19,0,0,1,MATCH(SEJOURS!$B$1,'[3]Graphique HP'!$C$2:$N$2,0))
Name _2020HUPCHC: OFFSET('[3]Graphique HC'!$C$19,0,0,1,MATCH(SEJOURS!$B$1,'[3]Graphique HC'!$C$5:$N$5,0))
Name _2020HUPO: OFFSET('[3]Graphique HP'!$C$23,0,0,1,MATCH(SEJOURS!$B$1,'[3]Graphique HP'!$C$2:$N$2,0))
Name _2020HUPOHC: OFFSET('[3]Graphique HC'!$C$23,0,0,1,MATCH(SEJOURS!$B$1,'[3]Graphique HC'!$C$5:$N$5,0))
Name _2020NECKER: OFFSET('[3]Graphique HP'!$C$27,0,0,1,MATCH(SEJOURS!$B$1,'[3]Graphique HP'!$C$2:$N$2,0))
Name _2020NECKERHC: OFFSET('[3]Graphique HC'!$C$27,0,0,1,MATCH(SEJOURS!$B$1,'[3]Graphique HC'!$C$5:$N$5,0))
Name _2021CUP: OFFSET('[3]Graphique HP'!$C$4,0,0,1,MATCH(SEJOURS!$B$1,'[3]Graphique HP'!$C$2:$N$2,0))
Name _2021CUPHC: OFFSET('[3]Graphique HC'!$B$71,0,0,1,MATCH(SEJOURS!$B$1,'[3]Graphique HC'!$C$5:$N$5,0))
Name _2021HUPC: OFFSET('[3]Graphique HP'!$C$5,0,0,1,MATCH(SEJOURS!$B$1,'[3]Graphique HP'!$C$2:$N$2,0))
Name _2021HUPCHC: OFFSET('[3]Graphique HC'!$C$7,0,0,1,MATCH(SEJOURS!$B$1,'[3]Graphique HC'!$C$5:$N$5,0))
Name _2021HUPO: OFFSET('[3]Graphique HP'!$C$9,0,0,1,MATCH(SEJOURS!$B$1,'[3]Graphique HP'!$C$2:$N$2,0))
Name _2021HUPOHC: OFFSET('[3]Graphique HC'!$C$11,0,0,1,MATCH(SEJOURS!$B$1,'[3]Graphique HC'!$C$5:$N$5,0))
Name _2021NECKER: OFFSET('[3]Graphique HP'!$C$13,0,0,1,MATCH(SEJOURS!$B$1,'[3]Graphique HP'!$C$2:$N$2,0))
Name _2021NECKERHC: OFFSET('[3]Graphique HC'!$C$15,0,0,1,MATCH(SEJOURS!$B$1,'[3]Graphique HC'!$C$5:$N$5,0))
Name BDD: #REF!:OFFSET(#REF!,COUNTA(#REF!)-6,COUNTA(#REF!)-1)
Name GES: #REF!
Name Hop: '[8]TABLEAU SAISIE'!$E$4
Name M: [9]table!$A$2:$A$13
Name Mois: #REF!
Name MONTH: [10]MOIS!$A$1:$A$12
Name SUP_GES: #REF!
Name tab_2015: #REF!
Name tab_2015_V2: #REF!

Sheet SEJOURS
A1: mois TBD | B1: 10 | J1: 2019 | K1: 2019 | L1: 2019 | M1: 2019 | N1: 2019 | O1: 2019 | P1: 2019 | Q1: 2019 | R1: 2019 | S1: 2019 | T1: 2019 | U1: 2019 | V1: 2020 | W1: 2020 | X1: 2020 | Y1: 2020 | Z1: 2020 | AA1: 2020 | AB1: 2020 | AC1: 2020 | AD1: 2020 | AE1: 2020 | AF1: 2020 | AG1: 2020 | AH1: 2021 | AI1: 2021 | AJ1: 2021 | AK1: 2021 | AL1: 2021 | AM1: 2021 | AN1: 2021 | AO1: 2021 | AP1: 2021 | AQ1: 2021 | AR1: 2021 | AS1: 2021 | AT1: 2022 | AU1: 2022 | AV1: 2022 | AW1: 2022 | AX1: 2022 | AY1: 2022 | AZ1: 2022 | BA1: 2022 | BB1: 2022 | BC1: 2022 | BD1: 2022 | BE1: 2022 | CH1: janvier | CI1: 1
J2: 1 | K2: 2 | L2: 3 | M2: 4 | N2: 5 | O2: 6 | P2: 7 | Q2: 8 | R2: 9 | S2: 10 | T2: 11 | U2: 12 | V2: 1 | W2: 2 | X2: 3 | Y2: 4 | Z2: 5 | AA2: 6 | AB2: 7 | AC2: 8 | AD2: 9 | AE2: 10 | AF2: 11 | AG2: 12 | AH2: 1 | AI2: 2 | AJ2: 3 | AK2: 4 | AL2: 5 | AM2: 6 | AN2: 7 | AO2: 8 | AP2: 9 | AQ2: 10 | AR2: 11 | AS2: 12 | AT2: 1 | AU2: 2 | AV2: 3 | AW2: 4 | AX2: 5 | AY2: 6 | AZ2: 7 | BA2: 8 | BB2: 9 | BC2: 10 | BD2: 11 | BE2: 12 | BF2: Formule pour avoir le cumul automatiquement | BJ2: Formules pour avoir le mois automatiquement | CH2: février | CI2: 2
J3: =IF(J2<=SEJOURS!$B$1,"1","0") -> 1 | K3: =IF(K2<=SEJOURS!$B$1,"1","0") -> 1 | L3: =IF(L2<=SEJOURS!$B$1,"1","0") -> 1 | M3: =IF(M2<=SEJOURS!$B$1,"1","0") -> 1 | N3: =IF(N2<=SEJOURS!$B$1,"1","0") -> 1 | O3: =IF(O2<=SEJOURS!$B$1,"1","0") -> 1 | P3: =IF(P2<=SEJOURS!$B$1,"1","0") -> 1 | Q3: =IF(Q2<=SEJOURS!$B$1,"1","0") -> 1 | ... BE3: =IF(BE2<=SEJOURS!$B$1,"1","0") -> 0 | BF3: 2019 | BG3: 2020 | BH3: 2021 | BI3: 2022 | CH3: mars | CI3: 3
A4: NIVEAU | B4: CODE | C4: LIBELLE | D4: TYPE | E4: a | F4: b | G4: c | H4: d | I4: e | J4: 2019M01 | K4: 2019M02 | L4: 2019M03 | M4: 2019M04 | N4: 2019M05 | O4: 2019M06 | P4: 2019M07 | Q4: 2019M08 | R4: 2019M09 | S4: 2019M10 | T4: 2019M11 | U4: 2019M12 | V4: 2020M01 | W4: 2020M02 | X4: 2020M03 | Y4: 2020M04 | Z4: 2020M05 | AA4: 2020M06 | AB4: 2020M07 | AC4: 2020M08 | AD4: 2020M09 | AE4: 2020M10 | AF4: 2020M11 | AG4: 2020M12 | AH4: 2021M01 | AI4: 2021M02 | AJ4: 2021M03 | AK4: 2021M04 | AL4: 2021M05 | AM4: 2021M06 | AN4: 2021M07 | AO4: 2021M08 | AP4: 2021M09 | AQ4: 2021M10 | AR4: 2021M11 | AS4: 2021M12 | AT4: 2022M01 | AU4: 2022M02 | AV4: 2022M03 | AW4: 2022M04 | AX4: 2022M05 | AY4: 2022M06 | AZ4: 2022M07 | BA4: 2022M08 | BB4: 2022M09 | BC4: 2022M10 | BD4: 2022M11 | BE4: 2022M12 | BF4: Cumul 2019 | BG4: Cumul 2020 | BH4: Cumul 2021 | BI4: cumul 2022 | BJ4: MOIS M 2019 | BK4: MOIS M 2020 | BL4: MOIS M 2021 | BM4: MOIS M 2022 | BN4: Var mois 19 vs 21 mensuel | BO4: Rang service mensuel | BW4: Vérification | BX4: Niveau | BY4: Mono-site/Bi-site | BZ4: Avoir le STXT des Bi-Sites | CA4: Code des bi-sites | CB4: Var 19 vs 21 mensuel | CC4: Var 19 vs 21 cumul | CH4: avril | CI4: 4
A5: SERVICE | B5: S08-abc | C5: poire | D5: hc | J5: 1 | K5: 2 | L5: 3 | M5: 4 | N5: 5 | O5: 6 | P5: 7 | Q5: 8 | R5: 9 | S5: 10 | T5: 11 | U5: 12 | V5: 13 | W5: 14 | X5: 15 | Y5: 16 | Z5: 17 | AA5: 18 | AB5: 19 | AC5: 20 | AD5: 21 | AE5: 22 | AF5: 23 | AG5: 24 | AH5: 25 | AI5: 26 | AJ5: 27 | AK5: 28 | AL5: 29 | AM5: 30 | AN5: 31 | AO5: 32 | AP5: 33 | AQ5: 34 | AR5: 35 | AS5: 36 | BF5: =SUMIFS($J5:$BE5,$J$1:$BE$1,BF$3,$J$3:$BE$3,1) -> 55 | BG5: =SUMIFS($J5:$BE5,$J$1:$BE$1,BG$3,$J$3:$BE$3,1) -> 175 | BH5: =SUMIFS($J5:$BE5,$J$1:$BE$1,BH$3,$J$3:$BE$3,1) -> 295 | BI5: =SUMIFS($J5:$BE5,$J$1:$BE$1,BI$3,$J$3:$BE$3,1) -> 0 | BJ5: =SUMIFS($J5:$BE5,$J$1:$BE$1,BF$3,$J$2:$BE$2,$B$1) -> 10 | BK5: =SUMIFS($J5:$BE5,$J$1:$BE$1,BG$3,$J$2:$BE$2,$B$1) -> 22 | BL5: =SUMIFS($J5:$BE5,$J$1:$BE$1,BH$3,$J$2:$BE$2,$B$1) -> 34 | BM5: =SUMIFS($J5:$BE5,$J$1:$BE$1,BI$3,$J$2:$BE$2,$B$1) -> 0 | BP5: =IF(TRIM(RIGHT(B5,3))="NCK","061",IF(TRIM(LEFT(B5,3))="061","061","-")) -> - | BQ5: =IF(TRIM(RIGHT(B5,3))="CCH","021",IF(TRIM(LEFT(B5,3))="021","021","-")) -> - | BR5: =IF(TRIM(RIGHT(B5,3))="HTD","041",IF(TRIM(LEFT(B5,3))="041","041","-")) -> - | BS5: =IF(TRIM(RIGHT(B5,3))="BRC","016",IF(TRIM(LEFT(B5,3))="016","016","-")) -> - | BT5: =IF(TRIM(RIGHT(B5,3))="EGP","075",IF(TRIM(LEFT(B5,3))="075","075","-")) -> - | BU5: =IF(TRIM(RIGHT(B5,3))="CCL","022",IF(TRIM(LEFT(B5,3))="022","022","-")) -> - | BV5: =IF(TRIM(RIGHT(B5,3))="VGR","090",IF(TRIM(LEFT(B5,3))="090","090","-")) -> - | BW5: =IF($BY5="BISITE",$CA5,IF(BQ5<>"-",BQ5,IF(BR5<>"-",BR5,IF(BS5<>"-",BS5,IF(BT5<>"-",BT5,IF(BU5<>"-",BU5,IF(BV5<>"-",BV5,IF(BP5<>"-",BP5,"-")))))))) -> - | BX5: =A5 -> SERVICE | BY5: =IF(BX5="SERVICE",IF(LEN(B5)>=15,"TRISITE",IF(LEN(B5)>=11,"BISITE","MONOSITE")),"-") -> MONOSITE | BZ5: =IF($BY5="BISITE",MID($B5,5,3),"-") -> - | CA5: =IF($BZ5="BRC","016",IF($BZ5="CCH","021",IF($BZ5="HTD","041",IF($BZ5="NCK","061",IF($BZ5="CCL","022",IF($BZ5="EGP","075",IF($BZ5="VGR","090","-"))))))) -> - | CB5: =BL5-BJ5 -> 24 | CC5: =BH5-BF5 -> 240 | CH5: mai | CI5: 5
A6: SERVICE | B6: S08-abc | C6: poire | D6: hj | J6: 10 | K6: 20 | L6: 30 | M6: 40 | N6: 50 | O6: 60 | P6: 70 | Q6: 80 | R6: 90 | S6: 100 | T6: 110 | U6: 120 | V6: 130 | W6: 140 | X6: 150 | Y6: 160 | Z6: 170 | AA6: 180 | AB6: 190 | AC6: 200 | AD6: 210 | AE6: 220 | AF6: 230 | AG6: 240 | AH6: 250 | AI6: 260 | AJ6: 270 | AK6: 280 | AL6: 290 | AM6: 300 | AN6: 310 | AO6: 320 | AP6: 330 | AQ6: 340 | AR6: 350 | AS6: 360 | BF6: =SUMIFS($J6:$BE6,$J$1:$BE$1,BF$3,$J$3:$BE$3,1) -> 550 | BG6: =SUMIFS($J6:$BE6,$J$1:$BE$1,BG$3,$J$3:$BE$3,1) -> 1750 | BH6: =SUMIFS($J6:$BE6,$J$1:$BE$1,BH$3,$J$3:$BE$3,1) -> 2950 | BI6: =SUMIFS($J6:$BE6,$J$1:$BE$1,BI$3,$J$3:$BE$3,1) -> 0 | BJ6: =SUMIFS($J6:$BE6,$J$1:$BE$1,BF$3,$J$2:$BE$2,$B$1) -> 100 | BK6: =SUMIFS($J6:$BE6,$J$1:$BE$1,BG$3,$J$2:$BE$2,$B$1) -> 220 | BL6: =SUMIFS($J6:$BE6,$J$1:$BE$1,BH$3,$J$2:$BE$2,$B$1) -> 340 | BM6: =SUMIFS($J6:$BE6,$J$1:$BE$1,BI$3,$J$2:$BE$2,$B$1) -> 0 | BP6: =IF(TRIM(RIGHT(B6,3))="NCK","061",IF(TRIM(LEFT(B6,3))="061","061","-")) -> - | BQ6: =IF(TRIM(RIGHT(B6,3))="CCH","021",IF(TRIM(LEFT(B6,3))="021","021","-")) -> - | BR6: =IF(TRIM(RIGHT(B6,3))="HTD","041",IF(TRIM(LEFT(B6,3))="041","041","-")) -> - | BS6: =IF(TRIM(RIGHT(B6,3))="BRC","016",IF(TRIM(LEFT(B6,3))="016","016","-")) -> - | BT6: =IF(TRIM(RIGHT(B6,3))="EGP","075",IF(TRIM(LEFT(B6,3))="075","075","-")) -> - | BU6: =IF(TRIM(RIGHT(B6,3))="CCL","022",IF(TRIM(LEFT(B6,3))="022","022","-")) -> - | BV6: =IF(TRIM(RIGHT(B6,3))="VGR","090",IF(TRIM(LEFT(B6,3))="090","090","-")) -> - | BW6: =IF($BY6="BISITE",$CA6,IF(BQ6<>"-",BQ6,IF(BR6<>"-",BR6,IF(BS6<>"-",BS6,IF(BT6<>"-",BT6,IF(BU6<>"-",BU6,IF(BV6<>"-",BV6,IF(BP6<>"-",BP6,"-")))))))) -> - | BX6: =A6 -> SERVICE | BY6: =IF(BX6="SERVICE",IF(LEN(B6)>=15,"TRISITE",IF(LEN(B6)>=11,"BISITE","MONOSITE")),"-") -> MONOSITE | BZ6: =IF($BY6="BISITE",MID($B6,5,3),"-") -> - | CA6: =IF($BZ6="BRC","016",IF($BZ6="CCH","021",IF($BZ6="HTD","041",IF($BZ6="NCK","061",IF($BZ6="CCL","022",IF($BZ6="EGP","075",IF($BZ6="VGR","090","-"))))))) -> - | CB6: =BL6-BJ6 -> 240 | CC6: =BH6-BF6 -> 2400 | CH6: juin | CI6: 6
CH7: juillet | CI7: 7
CH8: août | CI8: 8
CH9: septembre | CI9: 9
CH10: octobre | CI10: 10
CH11: novembre | CI11: 11
CH12: décembre | CI12: 12

Sheet Suivi site
G3: choix historique
G4: Année | H4: Type hospitalisation
G5: 2019 | H5: hc
H7: ="Historique : "&"année "&$G$5&" "&$H$5 -> Historique : année 2019 hc | T7: 2022 HC | AG7: 2022 HJ
A8: Clé 2019 | B8: Clé 2020 | C8: Clé 2021 | D8: Clé 2022 | E8: NIVEAU | F8: CHAMP | G8: Structure | H8: Janvier | I8: Février | J8: Mars | K8: Avril | L8: Mai | M8: Juin | N8: Juillet | O8: Août | P8: Septembre | Q8: Octobre | R8: Novembre | S8: Décembre | T8: Janvier | U8: Février | V8: Mars | W8: Avril | X8: Mai | Y8: Juin | Z8: Juillet | AA8: Août | AB8: Septembre | AC8: Octobre | AD8: Novembre | AE8: Décembre | AF8: commentaires | AG8: Janvier | AH8: Février | AI8: Mars | AJ8: Avril | AK8: Mai | AL8: Juin | AM8: Juillet | AN8: Août | AO8: Septembre | AP8: Octobre | AQ8: Novembre | AR8: Décembre | AS8: commentaires
A9: S08-abc | B9: S08-abc | C9: S08-abc | D9: S08-abc | E9: Service | G9: 08 - poire | H9: =SUMPRODUCT((SEJOURS!$B$5:$B$6='Suivi site'!$D9)*(SEJOURS!$J$1:$BE$1='Suivi site'!$G$5)*(SEJOURS!$D$5:$D$6='Suivi site'!$H$5)*(SEJOURS!$J$2:$BE$2=VLOOKUP(H8,SEJOURS!$CH$1:$CI$12,2,FALSE))*(SEJOURS!$J$5:$BE$6)) -> 0 | I9: =SUMPRODUCT((SEJOURS!$B$5:$B$6='Suivi site'!$D9)*(SEJOURS!$J$1:$BE$1='Suivi site'!$G$5)*(SEJOURS!$D$5:$D$6='Suivi site'!$H$5)*(SEJOURS!$J$2:$BE$2=VLOOKUP(I8,SEJOURS!$CH$1:$CI$12,2,FALSE))*(SEJOURS!$J$5:$BE$6)) -> 0 | J9: =SUMPRODUCT((SEJOURS!$B$5:$B$6='Suivi site'!$D9)*(SEJOURS!$J$1:$BE$1='Suivi site'!$G$5)*(SEJOURS!$D$5:$D$6='Suivi site'!$H$5)*(SEJOURS!$J$2:$BE$2=VLOOKUP(J8,SEJOURS!$CH$1:$CI$12,2,FALSE))*(SEJOURS!$J$5:$BE$6)) -> 0 | K9: =SUMPRODUCT((SEJOURS!$B$5:$B$6='Suivi site'!$D9)*(SEJOURS!$J$1:$BE$1='Suivi site'!$G$5)*(SEJOURS!$D$5:$D$6='Suivi site'!$H$5)*(SEJOURS!$J$2:$BE$2=VLOOKUP(K8,SEJOURS!$CH$1:$CI$12,2,FALSE))*(SEJOURS!$J$5:$BE$6)) -> 0 | L9: =SUMPRODUCT((SEJOURS!$B$5:$B$6='Suivi site'!$D9)*(SEJOURS!$J$1:$BE$1='Suivi site'!$G$5)*(SEJOURS!$D$5:$D$6='Suivi site'!$H$5)*(SEJOURS!$J$2:$BE$2=VLOOKUP(L8,SEJOURS!$CH$1:$CI$12,2,FALSE))*(SEJOURS!$J$5:$BE$6)) -> 0 | M9: =SUMPRODUCT((SEJOURS!$B$5:$B$6='Suivi site'!$D9)*(SEJOURS!$J$1:$BE$1='Suivi site'!$G$5)*(SEJOURS!$D$5:$D$6='Suivi site'!$H$5)*(SEJOURS!$J$2:$BE$2=VLOOKUP(M8,SEJOURS!$CH$1:$CI$12,2,FALSE))*(SEJOURS!$J$5:$BE$6)) -> 0 | N9: =SUMPRODUCT((SEJOURS!$B$5:$B$6='Suivi site'!$D9)*(SEJOURS!$J$1:$BE$1='Suivi site'!$G$5)*(SEJOURS!$D$5:$D$6='Suivi site'!$H$5)*(SEJOURS!$J$2:$BE$2=VLOOKUP(N8,SEJOURS!$CH$1:$CI$12,2,FALSE))*(SEJOURS!$J$5:$BE$6)) -> 0 | O9: =SUMPRODUCT((SEJOURS!$B$5:$B$6='Suivi site'!$D9)*(SEJOURS!$J$1:$BE$1='Suivi site'!$G$5)*(SEJOURS!$D$5:$D$6='Suivi site'!$H$5)*(SEJOURS!$J$2:$BE$2=VLOOKUP(O8,SEJOURS!$CH$1:$CI$12,2,FALSE))*(SEJOURS!$J$5:$BE$6)) -> 0 | ... S9: =SUMPRODUCT((SEJOURS!$B$5:$B$6='Suivi site'!$D9)*(SEJOURS!$J$1:$BE$1='Suivi site'!$G$5)*(SEJOURS!$D$5:$D$6='Suivi site'!$H$5)*(SEJOURS!$J$2:$BE$2=VLOOKUP(S8,SEJOURS!$CH$1:$CI$12,2,FALSE))*(SEJOURS!$J$5:$BE$6)) -> 0
G10: ="cible "&G9 -> cible 08 - poire
