Workbook

Sheet Feuil1
A1: No OF | B1: date début | C1: heure début | D1: Nb heures | E1: Durée | F1: date fin | G1: heure fin | H1: nb jours | I1: 2194 | J1: 23202 | K1: 2172 | L1: 2140 | M1: 1953
A2: 217 830 | B2: 43598 | C2: 0.83333333 | D2: 48 | E2: 2 | F2: 43601 | G2: 0.83333333 | H2: =D2/24 -> 2 | I2: 5 | J2: 0 | L2: 0 | M2: 10
A3: 217 831 | B3: 43602 | C3: 0.16666667 | D3: 48 | E3: 2 | F3: 43604 | G3: 0.16666667 | H3: =D3/24 -> 2 | I3: 0 | J3: 0 | K3: 0 | L3: 0 | M3: 11
A4: 217 832 | B4: 43604 | C4: 0.16666667 | D4: 48 | E4: 2 | F4: 43605 | G4: 0.91666667 | H4: =D4/24 -> 2 | I4: 5 | J4: 0 | K4: 5 | L4: 0 | M4: 0
A5: 218 682 | B5: 43605 | C5: 0.91666667 | D5: 27 | E5: 1.125 | F5: 43607 | G5: 0.041666667 | H5: =D5/24 -> 1.125 | I5: 0 | J5: 0 | K5: 0 | L5: 0 | M5: 14
A6: 218 537 | B6: 43607 | C6: 0.041666667 | D6: 30 | E6: 1.25 | F6: 43608 | G6: 0.29166667 | H6: =D6/24 -> 1.25 | I6: 0 | J6: 6 | K6: 0 | L6: 0 | M6: 0
A7: 218 556 | B7: 43608 | C7: 0.29166667 | D7: 42 | E7: 1.75 | F7: 43610 | G7: 0.041666667 | H7: =D7/24 -> 1.75 | I7: 0 | J7: 0 | K7: 0 | L7: 0 | M7: 0
A8: 217 833 | B8: 43610 | C8: 0.041666667 | D8: 48 | E8: 2 | F8: 43612 | G8: 0.041666667 | H8: =D8/24 -> 2 | I8: 0 | J8: 0 | K8: 5 | L8: 0 | M8: 0
A9: 217 834 | B9: 43612 | C9: 0.041666667 | D9: 48 | E9: 2 | F9: 43615 | G9: 0.70833333 | H9: =D9/24 -> 2 | I9: 0 | J9: 0 | K9: 0 | L9: 0 | M9: 0
A10: 217 835 | B10: 43615 | C10: 0.70833333 | D10: 48 | E10: 2 | F10: 43617 | G10: 0.70833333 | H10: =D10/24 -> 2 | I10: 0 | J10: 44 | K10: 0 | L10: 0 | M10: 0
A11: 217 836 | B11: 43617 | C11: 0.70833333 | D11: 48 | E11: 2 | F11: 43621 | G11: 0.375 | H11: =D11/24 -> 2 | I11: 0 | J11: 0 | K11: 0 | L11: 44 | M11: 0
A12: 218 538 | B12: 43621 | C12: 0.375 | D12: 32 | E12: 1.3333333 | F12: 43622 | G12: 0.70833333 | H12: =D12/24 -> 1.3333333 | I12: 0 | J12: 0 | K12: 1 | L12: 0 | M12: 0
A13: 218 881 | B13: 43622 | C13: 0.70833333 | D13: 48 | E13: 2 | F13: 43624 | G13: 0.70833333 | H13: =D13/24 -> 2 | I13: 0 | J13: 0 | K13: 5 | L13: 0 | M13: 0
A14: 218 950 | B14: 43624 | C14: 0.70833333 | D14: 48 | E14: 2 | F14: 43626 | G14: 0.70833333 | H14: =D14/24 -> 2 | I14: 0 | J14: 10 | K14: 0 | L14: 0 | M14: 0
... A22: 218 956 | B22: 43637 | C22: 0.29166667 | D22: 7 | E22: 0.29166667 | F22: 43637 | G22: 0.58333333 | H22: =D22/24 -> 0.29166667 | I22: 1 | J22: 0 | K22: 0 | L22: 0 | M22: 0

Sheet Feuil2
D1: 8 | E1: 9 | F1: 10 | G1: 11 | H1: 12
D2: 2194 | E2: 23202 | F2: 2172 | G2: 2140 | H2: 1953
B3: 43598 | D3: SIL1 | E3: 3 | F3: 3 | G3: SIL3 | H3: SIL4
D4: KG | E4: KG | F4: KG | G4: KG | H4: KG
B5: 43598 | C5: Sortie | D5: =IF(VLOOKUP($B5,Feuil1!$B:$M,7,FALSE)>1,VLOOKUP($B5,Feuil1!$B:$M,Feuil2!D$1,FALSE)/VLOOKUP(Feuil2!$B5,Feuil1!$B:$M,7,FALSE),VLOOKUP($B5,Feuil1!$B:$M,Feuil2!D$1,FALSE)) -> 2.5 | E5: =IF(VLOOKUP($B5,Feuil1!$B:$M,7,FALSE)>1,VLOOKUP($B5,Feuil1!$B:$M,Feuil2!E$1,FALSE)/VLOOKUP(Feuil2!$B5,Feuil1!$B:$M,7,FALSE),VLOOKUP($B5,Feuil1!$B:$M,Feuil2!E$1,FALSE)) -> 0 | F5: =IF(VLOOKUP($B5,Feuil1!$B:$M,7,FALSE)>1,VLOOKUP($B5,Feuil1!$B:$M,Feuil2!F$1,FALSE)/VLOOKUP(Feuil2!$B5,Feuil1!$B:$M,7,FALSE),VLOOKUP($B5,Feuil1!$B:$M,Feuil2!F$1,FALSE)) -> 0 | G5: =IF(VLOOKUP($B5,Feuil1!$B:$M,7,FALSE)>1,VLOOKUP($B5,Feuil1!$B:$M,Feuil2!G$1,FALSE)/VLOOKUP(Feuil2!$B5,Feuil1!$B:$M,7,FALSE),VLOOKUP($B5,Feuil1!$B:$M,Feuil2!G$1,FALSE)) -> 0 | H5: =IF(VLOOKUP($B5,Feuil1!$B:$M,7,FALSE)>1,VLOOKUP($B5,Feuil1!$B:$M,Feuil2!H$1,FALSE)/VLOOKUP(Feuil2!$B5,Feuil1!$B:$M,7,FALSE),VLOOKUP($B5,Feuil1!$B:$M,Feuil2!H$1,FALSE)) -> 5
B7: 43599 | C7: Sortie
B9: 43600 | C9: Sortie
B11: 43601 | C11: Sortie
B13: 43602 | C13: Sortie
B15: 43603 | C15: Sortie
B17: 43604 | C17: Sortie
B19: 43605 | C19: Sortie
B21: 43606 | C21: Sortie
B23: 43607 | C23: Sortie
B25: 43608 | C25: Sortie
B27: 43609 | C27: Sortie
B29: 43610 | C29: Sortie
... B46: 43618 | C46: Sortie
