Workbook
Name Tunnel_5_Prim: OFFSET(Calendrier!$A$1:$C$1,MATCH('Irrigation 2011-2017'!$B1,Calendrier!$C:$C,0)-1,,COUNTIF(Calendrier!$C:$C,'Irrigation 2011-2017'!$B1))

Sheet Calendrier
A1: tunnel | B1: espéce | C1: date semis | D1: date récolte
A2: Tunnel 5 Prim | B2: Laitue | C2: 40883 | D2: 40967
A3: Tunnel 5 Prim | B3: Tomate | C3: 40990 | D3: 41136
A4: Tunnel 5 Prim | B4: Laitue | C4: 41198 | D4: 41256
A5: Tunnel 5 Prim | B5: Laitue | C5: 41296 | D5: 41361
A6: Tunnel 5 Prim | B6: Concombre | C6: 41372 | D6: 41505
A7: Tunnel 5 Prim | B7: Laitue | C7: 41542 | D7: 41593
A8: Tunnel 5 Prim | B8: Laitue | C8: 41654 | D8: 41722
A9: Tunnel 5 Prim | B9: solarisation | C9: 41801 | D9: 41855
A10: Tunnel 5 Prim | B10: Sorgho | C10: 41856 | D10: 41901
A11: Tunnel 5 Prim | B11: laitue | C11: 41927 | D11: 41978
A12: Tunnel 5 Prim | B12: Laitue | C12: 42017 | D12: 42087
A13: Tunnel 5 Prim | B13: Tomate | C13: 42097 | D13: 42228
... A59: Tunnel 7 Prim | B59: Laitue | C59: 43027 | D59: 43089

Sheet Irrigation  2011-2017
A1: année | B1: JOUR | C1: Localisation | D1: apport en mm | E1: Tunnel 5 Prim | F1: Tunnel 6 Prim | G1: Tunnel 7 Prim | K1: exemple d'attente : pour Tunnel 5 Prim il y a une tomate du 22/03/2012 au 15/08/2012
A2: 2012 | B2: 40997 | C2: Tunnel 6 Prim | D2: 2.721875 | F2: =IFERROR(VLOOKUP(F$1,OFFSET(Calendrier!$A$1:$C$1,MATCH('Irrigation 2011-2017'!$B2,Calendrier!$C:$C,0)-1,,COUNTIF(Calendrier!$C:$C,'Irrigation 2011-2017'!$B2)),2,FALSE),"") | G2: =IFERROR(VLOOKUP(G$1,OFFSET(Calendrier!$A$1:$C$1,MATCH('Irrigation 2011-2017'!$B2,Calendrier!$C:$C,0)-1,,COUNTIF(Calendrier!$C:$C,'Irrigation 2011-2017'!$B2)),2,FALSE),"")
A3: 2012 | B3: 40997 | C3: Tunnel 7 Prim | D3: 2.721875 | F3: =IFERROR(VLOOKUP(F$1,OFFSET(Calendrier!$A$1:$C$1,MATCH('Irrigation 2011-2017'!$B3,Calendrier!$C:$C,0)-1,,COUNTIF(Calendrier!$C:$C,'Irrigation 2011-2017'!$B3)),2,FALSE),"") | G3: =IFERROR(VLOOKUP(G$1,OFFSET(Calendrier!$A$1:$C$1,MATCH('Irrigation 2011-2017'!$B3,Calendrier!$C:$C,0)-1,,COUNTIF(Calendrier!$C:$C,'Irrigation 2011-2017'!$B3)),2,FALSE),"")
A4: 2012 | B4: 40998 | C4: Tunnel 5 Prim | D4: 2.721875 | E4: tomate | G4: =IFERROR(VLOOKUP(G$1,OFFSET(Calendrier!$A$1:$C$1,MATCH('Irrigation 2011-2017'!$B4,Calendrier!$C:$C,0)-1,,COUNTIF(Calendrier!$C:$C,'Irrigation 2011-2017'!$B4)),2,FALSE),"")
A5: 2012 | B5: 40998 | C5: Tunnel 6 Prim | D5: 2.721875 | F5: =IFERROR(VLOOKUP(F$1,OFFSET(Calendrier!$A$1:$C$1,MATCH('Irrigation 2011-2017'!$B5,Calendrier!$C:$C,0)-1,,COUNTIF(Calendrier!$C:$C,'Irrigation 2011-2017'!$B5)),2,FALSE),"") | G5: =IFERROR(VLOOKUP(G$1,OFFSET(Calendrier!$A$1:$C$1,MATCH('Irrigation 2011-2017'!$B5,Calendrier!$C:$C,0)-1,,COUNTIF(Calendrier!$C:$C,'Irrigation 2011-2017'!$B5)),2,FALSE),"")
A6: 2012 | B6: 40998 | C6: Tunnel 7 Prim | D6: 2.721875 | F6: =IFERROR(VLOOKUP(F$1,OFFSET(Calendrier!$A$1:$C$1,MATCH('Irrigation 2011-2017'!$B6,Calendrier!$C:$C,0)-1,,COUNTIF(Calendrier!$C:$C,'Irrigation 2011-2017'!$B6)),2,FALSE),"") | G6: =IFERROR(VLOOKUP(G$1,OFFSET(Calendrier!$A$1:$C$1,MATCH('Irrigation 2011-2017'!$B6,Calendrier!$C:$C,0)-1,,COUNTIF(Calendrier!$C:$C,'Irrigation 2011-2017'!$B6)),2,FALSE),"")
A7: 2012 | B7: 40999 | C7: Tunnel 5 Prim | D7: 2.721875 | E7: tomate | G7: =IFERROR(VLOOKUP(G$1,OFFSET(Calendrier!$A$1:$C$1,MATCH('Irrigation 2011-2017'!$B7,Calendrier!$C:$C,0)-1,,COUNTIF(Calendrier!$C:$C,'Irrigation 2011-2017'!$B7)),2,FALSE),"")
A8: 2012 | B8: 40999 | C8: Tunnel 6 Prim | D8: 2.721875 | F8: =IFERROR(VLOOKUP(F$1,OFFSET(Calendrier!$A$1:$C$1,MATCH('Irrigation 2011-2017'!$B8,Calendrier!$C:$C,0)-1,,COUNTIF(Calendrier!$C:$C,'Irrigation 2011-2017'!$B8)),2,FALSE),"") | G8: =IFERROR(VLOOKUP(G$1,OFFSET(Calendrier!$A$1:$C$1,MATCH('Irrigation 2011-2017'!$B8,Calendrier!$C:$C,0)-1,,COUNTIF(Calendrier!$C:$C,'Irrigation 2011-2017'!$B8)),2,FALSE),"")
A9: 2012 | B9: 40999 | C9: Tunnel 7 Prim | D9: 2.721875 | F9: =IFERROR(VLOOKUP(F$1,OFFSET(Calendrier!$A$1:$C$1,MATCH('Irrigation 2011-2017'!$B9,Calendrier!$C:$C,0)-1,,COUNTIF(Calendrier!$C:$C,'Irrigation 2011-2017'!$B9)),2,FALSE),"") | G9: =IFERROR(VLOOKUP(G$1,OFFSET(Calendrier!$A$1:$C$1,MATCH('Irrigation 2011-2017'!$B9,Calendrier!$C:$C,0)-1,,COUNTIF(Calendrier!$C:$C,'Irrigation 2011-2017'!$B9)),2,FALSE),"")
A10: 2012 | B10: 41000 | C10: Tunnel 5 Prim | D10: 2.721875 | E10: tomate | G10: =IFERROR(VLOOKUP(G$1,OFFSET(Calendrier!$A$1:$C$1,MATCH('Irrigation 2011-2017'!$B10,Calendrier!$C:$C,0)-1,,COUNTIF(Calendrier!$C:$C,'Irrigation 2011-2017'!$B10)),2,FALSE),"")
A11: 2012 | B11: 41000 | C11: Tunnel 6 Prim | D11: 8.165625 | F11: =IFERROR(VLOOKUP(F$1,OFFSET(Calendrier!$A$1:$C$1,MATCH('Irrigation 2011-2017'!$B11,Calendrier!$C:$C,0)-1,,COUNTIF(Calendrier!$C:$C,'Irrigation 2011-2017'!$B11)),2,FALSE),"") | G11: =IFERROR(VLOOKUP(G$1,OFFSET(Calendrier!$A$1:$C$1,MATCH('Irrigation 2011-2017'!$B11,Calendrier!$C:$C,0)-1,,COUNTIF(Calendrier!$C:$C,'Irrigation 2011-2017'!$B11)),2,FALSE),"")
A12: 2012 | B12: 41000 | C12: Tunnel 7 Prim | D12: 8.165625 | F12: =IFERROR(VLOOKUP(F$1,OFFSET(Calendrier!$A$1:$C$1,MATCH('Irrigation 2011-2017'!$B12,Calendrier!$C:$C,0)-1,,COUNTIF(Calendrier!$C:$C,'Irrigation 2011-2017'!$B12)),2,FALSE),"") | G12: =IFERROR(VLOOKUP(G$1,OFFSET(Calendrier!$A$1:$C$1,MATCH('Irrigation 2011-2017'!$B12,Calendrier!$C:$C,0)-1,,COUNTIF(Calendrier!$C:$C,'Irrigation 2011-2017'!$B12)),2,FALSE),"")
A13: 2012 | B13: 41001 | C13: Tunnel 5 Prim | D13: 8.165625 | E13: tomate | G13: =IFERROR(VLOOKUP(G$1,OFFSET(Calendrier!$A$1:$C$1,MATCH('Irrigation 2011-2017'!$B13,Calendrier!$C:$C,0)-1,,COUNTIF(Calendrier!$C:$C,'Irrigation 2011-2017'!$B13)),2,FALSE),"")
A14: 2012 | B14: 41001 | C14: Tunnel 6 Prim | D14: 2.721875 | F14: =IFERROR(VLOOKUP(F$1,OFFSET(Calendrier!$A$1:$C$1,MATCH('Irrigation 2011-2017'!$B14,Calendrier!$C:$C,0)-1,,COUNTIF(Calendrier!$C:$C,'Irrigation 2011-2017'!$B14)),2,FALSE),"") | G14: =IFERROR(VLOOKUP(G$1,OFFSET(Calendrier!$A$1:$C$1,MATCH('Irrigation 2011-2017'!$B14,Calendrier!$C:$C,0)-1,,COUNTIF(Calendrier!$C:$C,'Irrigation 2011-2017'!$B14)),2,FALSE),"")
A15: 2012 | B15: 41001 | C15: Tunnel 7 Prim | D15: 2.721875 | F15: =IFERROR(VLOOKUP(F$1,OFFSET(Calendrier!$A$1:$C$1,MATCH('Irrigation 2011-2017'!$B15,Calendrier!$C:$C,0)-1,,COUNTIF(Calendrier!$C:$C,'Irrigation 2011-2017'!$B15)),2,FALSE),"") | G15: =IFERROR(VLOOKUP(G$1,OFFSET(Calendrier!$A$1:$C$1,MATCH('Irrigation 2011-2017'!$B15,Calendrier!$C:$C,0)-1,,COUNTIF(Calendrier!$C:$C,'Irrigation 2011-2017'!$B15)),2,FALSE),"")
A16: 2012 | B16: 41002 | C16: Tunnel 5 Prim | D16: 2.721875 | E16: tomate | G16: =IFERROR(VLOOKUP(G$1,OFFSET(Calendrier!$A$1:$C$1,MATCH('Irrigation 2011-2017'!$B16,Calendrier!$C:$C,0)-1,,COUNTIF(Calendrier!$C:$C,'Irrigation 2011-2017'!$B16)),2,FALSE),"")
A17: 2012 | B17: 41003 | C17: Tunnel 6 Prim | D17: 2.721875 | F17: =IFERROR(VLOOKUP(F$1,OFFSET(Calendrier!$A$1:$C$1,MATCH('Irrigation 2011-2017'!$B17,Calendrier!$C:$C,0)-1,,COUNTIF(Calendrier!$C:$C,'Irrigation 2011-2017'!$B17)),2,FALSE),"") | G17: =IFERROR(VLOOKUP(G$1,OFFSET(Calendrier!$A$1:$C$1,MATCH('Irrigation 2011-2017'!$B17,Calendrier!$C:$C,0)-1,,COUNTIF(Calendrier!$C:$C,'Irrigation 2011-2017'!$B17)),2,FALSE),"")
A18: 2012 | B18: 41003 | C18: Tunnel 7 Prim | D18: 2.721875 | F18: =IFERROR(VLOOKUP(F$1,OFFSET(Calendrier!$A$1:$C$1,MATCH('Irrigation 2011-2017'!$B18,Calendrier!$C:$C,0)-1,,COUNTIF(Calendrier!$C:$C,'Irrigation 2011-2017'!$B18)),2,FALSE),"") | G18: =IFERROR(VLOOKUP(G$1,OFFSET(Calendrier!$A$1:$C$1,MATCH('Irrigation 2011-2017'!$B18,Calendrier!$C:$C,0)-1,,COUNTIF(Calendrier!$C:$C,'Irrigation 2011-2017'!$B18)),2,FALSE),"")
A19: 2012 | B19: 41004 | C19: Tunnel 5 Prim | D19: 2.721875 | E19: tomate | G19: =IFERROR(VLOOKUP(G$1,OFFSET(Calendrier!$A$1:$C$1,MATCH('Irrigation 2011-2017'!$B19,Calendrier!$C:$C,0)-1,,COUNTIF(Calendrier!$C:$C,'Irrigation 2011-2017'!$B19)),2,FALSE),"")
A20: 2012 | B20: 41004 | C20: Tunnel 6 Prim | D20: 2.721875 | F20: =IFERROR(VLOOKUP(F$1,OFFSET(Calendrier!$A$1:$C$1,MATCH('Irrigation 2011-2017'!$B20,Calendrier!$C:$C,0)-1,,COUNTIF(Calendrier!$C:$C,'Irrigation 2011-2017'!$B20)),2,FALSE),"") | G20: =IFERROR(VLOOKUP(G$1,OFFSET(Calendrier!$A$1:$C$1,MATCH('Irrigation 2011-2017'!$B20,Calendrier!$C:$C,0)-1,,COUNTIF(Calendrier!$C:$C,'Irrigation 2011-2017'!$B20)),2,FALSE),"")
A21: 2012 | B21: 41004 | C21: Tunnel 7 Prim | D21: 2.721875 | F21: =IFERROR(VLOOKUP(F$1,OFFSET(Calendrier!$A$1:$C$1,MATCH('Irrigation 2011-2017'!$B21,Calendrier!$C:$C,0)-1,,COUNTIF(Calendrier!$C:$C,'Irrigation 2011-2017'!$B21)),2,FALSE),"") | G21: =IFERROR(VLOOKUP(G$1,OFFSET(Calendrier!$A$1:$C$1,MATCH('Irrigation 2011-2017'!$B21,Calendrier!$C:$C,0)-1,,COUNTIF(Calendrier!$C:$C,'Irrigation 2011-2017'!$B21)),2,FALSE),"")
A22: 2012 | B22: 41005 | C22: Tunnel 5 Prim | D22: 2.721875 | E22: tomate | G22: =IFERROR(VLOOKUP(G$1,OFFSET(Calendrier!$A$1:$C$1,MATCH('Irrigation 2011-2017'!$B22,Calendrier!$C:$C,0)-1,,COUNTIF(Calendrier!$C:$C,'Irrigation 2011-2017'!$B22)),2,FALSE),"")
A23: 2012 | B23: 41005 | C23: Tunnel 6 Prim | D23: 5.44375 | F23: =IFERROR(VLOOKUP(F$1,OFFSET(Calendrier!$A$1:$C$1,MATCH('Irrigation 2011-2017'!$B23,Calendrier!$C:$C,0)-1,,COUNTIF(Calendrier!$C:$C,'Irrigation 2011-2017'!$B23)),2,FALSE),"") | G23: =IFERROR(VLOOKUP(G$1,OFFSET(Calendrier!$A$1:$C$1,MATCH('Irrigation 2011-2017'!$B23,Calendrier!$C:$C,0)-1,,COUNTIF(Calendrier!$C:$C,'Irrigation 2011-2017'!$B23)),2,FALSE),"")
A24: 2012 | B24: 41005 | C24: Tunnel 7 Prim | D24: 5.44375 | F24: =IFERROR(VLOOKUP(F$1,OFFSET(Calendrier!$A$1:$C$1,MATCH('Irrigation 2011-2017'!$B24,Calendrier!$C:$C,0)-1,,COUNTIF(Calendrier!$C:$C,'Irrigation 2011-2017'!$B24)),2,FALSE),"") | G24: =IFERROR(VLOOKUP(G$1,OFFSET(Calendrier!$A$1:$C$1,MATCH('Irrigation 2011-2017'!$B24,Calendrier!$C:$C,0)-1,,COUNTIF(Calendrier!$C:$C,'Irrigation 2011-2017'!$B24)),2,FALSE),"")
A25: 2012 | B25: 41006 | C25: Tunnel 5 Prim | D25: 5.44375 | E25: tomate | G25: =IFERROR(VLOOKUP(G$1,OFFSET(Calendrier!$A$1:$C$1,MATCH('Irrigation 2011-2017'!$B25,Calendrier!$C:$C,0)-1,,COUNTIF(Calendrier!$C:$C,'Irrigation 2011-2017'!$B25)),2,FALSE),"")
A26: 2012 | B26: 41006 | C26: Tunnel 6 Prim | D26: 2.721875 | F26: =IFERROR(VLOOKUP(F$1,OFFSET(Calendrier!$A$1:$C$1,MATCH('Irrigation 2011-2017'!$B26,Calendrier!$C:$C,0)-1,,COUNTIF(Calendrier!$C:$C,'Irrigation 2011-2017'!$B26)),2,FALSE),"") | G26: =IFERROR(VLOOKUP(G$1,OFFSET(Calendrier!$A$1:$C$1,MATCH('Irrigation 2011-2017'!$B26,Calendrier!$C:$C,0)-1,,COUNTIF(Calendrier!$C:$C,'Irrigation 2011-2017'!$B26)),2,FALSE),"")
A27: 2012 | B27: 41006 | C27: Tunnel 7 Prim | D27: 2.721875 | F27: =IFERROR(VLOOKUP(F$1,OFFSET(Calendrier!$A$1:$C$1,MATCH('Irrigation 2011-2017'!$B27,Calendrier!$C:$C,0)-1,,COUNTIF(Calendrier!$C:$C,'Irrigation 2011-2017'!$B27)),2,FALSE),"") | G27: =IFERROR(VLOOKUP(G$1,OFFSET(Calendrier!$A$1:$C$1,MATCH('Irrigation 2011-2017'!$B27,Calendrier!$C:$C,0)-1,,COUNTIF(Calendrier!$C:$C,'Irrigation 2011-2017'!$B27)),2,FALSE),"")
A28: 2012 | B28: 41007 | C28: Tunnel 5 Prim | D28: 2.721875 | E28: tomate | G28: =IFERROR(VLOOKUP(G$1,OFFSET(Calendrier!$A$1:$C$1,MATCH('Irrigation 2011-2017'!$B28,Calendrier!$C:$C,0)-1,,COUNTIF(Calendrier!$C:$C,'Irrigation 2011-2017'!$B28)),2,FALSE),"")
A29: 2012 | B29: 41007 | C29: Tunnel 6 Prim | D29: 2.721875 | F29: =IFERROR(VLOOKUP(F$1,OFFSET(Calendrier!$A$1:$C$1,MATCH('Irrigation 2011-2017'!$B29,Calendrier!$C:$C,0)-1,,COUNTIF(Calendrier!$C:$C,'Irrigation 2011-2017'!$B29)),2,FALSE),"") | G29: =IFERROR(VLOOKUP(G$1,OFFSET(Calendrier!$A$1:$C$1,MATCH('Irrigation 2011-2017'!$B29,Calendrier!$C:$C,0)-1,,COUNTIF(Calendrier!$C:$C,'Irrigation 2011-2017'!$B29)),2,FALSE),"")
A30: 2012 | B30: 41007 | C30: Tunnel 7 Prim | D30: 2.721875 | F30: =IFERROR(VLOOKUP(F$1,OFFSET(Calendrier!$A$1:$C$1,MATCH('Irrigation 2011-2017'!$B30,Calendrier!$C:$C,0)-1,,COUNTIF(Calendrier!$C:$C,'Irrigation 2011-2017'!$B30)),2,FALSE),"") | G30: =IFERROR(VLOOKUP(G$1,OFFSET(Calendrier!$A$1:$C$1,MATCH('Irrigation 2011-2017'!$B30,Calendrier!$C:$C,0)-1,,COUNTIF(Calendrier!$C:$C,'Irrigation 2011-2017'!$B30)),2,FALSE),"")
A31: 2012 | B31: 41008 | C31: Tunnel 5 Prim | D31: 2.721875 | E31: tomate | G31: =IFERROR(VLOOKUP(G$1,OFFSET(Calendrier!$A$1:$C$1,MATCH('Irrigation 2011-2017'!$B31,Calendrier!$C:$C,0)-1,,COUNTIF(Calendrier!$C:$C,'Irrigation 2011-2017'!$B31)),2,FALSE),"")
A32: 2012 | B32: 41008 | C32: Tunnel 6 Prim | D32: 2.721875 | F32: =IFERROR(VLOOKUP(F$1,OFFSET(Calendrier!$A$1:$C$1,MATCH('Irrigation 2011-2017'!$B32,Calendrier!$C:$C,0)-1,,COUNTIF(Calendrier!$C:$C,'Irrigation 2011-2017'!$B32)),2,FALSE),"") | G32: =IFERROR(VLOOKUP(G$1,OFFSET(Calendrier!$A$1:$C$1,MATCH('Irrigation 2011-2017'!$B32,Calendrier!$C:$C,0)-1,,COUNTIF(Calendrier!$C:$C,'Irrigation 2011-2017'!$B32)),2,FALSE),"")
A33: 2012 | B33: 41008 | C33: Tunnel 7 Prim | D33: 2.721875 | F33: =IFERROR(VLOOKUP(F$1,OFFSET(Calendrier!$A$1:$C$1,MATCH('Irrigation 2011-2017'!$B33,Calendrier!$C:$C,0)-1,,COUNTIF(Calendrier!$C:$C,'Irrigation 2011-2017'!$B33)),2,FALSE),"") | G33: =IFERROR(VLOOKUP(G$1,OFFSET(Calendrier!$A$1:$C$1,MATCH('Irrigation 2011-2017'!$B33,Calendrier!$C:$C,0)-1,,COUNTIF(Calendrier!$C:$C,'Irrigation 2011-2017'!$B33)),2,FALSE),"")
A34: 2012 | B34: 41009 | C34: Tunnel 5 Prim | D34: 2.721875 | E34: tomate | G34: =IFERROR(VLOOKUP(G$1,OFFSET(Calendrier!$A$1:$C$1,MATCH('Irrigation 2011-2017'!$B34,Calendrier!$C:$C,0)-1,,COUNTIF(Calendrier!$C:$C,'Irrigation 2011-2017'!$B34)),2,FALSE),"")
A35: 2012 | B35: 41009 | C35: Tunnel 6 Prim | D35: 2.721875 | F35: =IFERROR(VLOOKUP(F$1,OFFSET(Calendrier!$A$1:$C$1,MATCH('Irrigation 2011-2017'!$B35,Calendrier!$C:$C,0)-1,,COUNTIF(Calendrier!$C:$C,'Irrigation 2011-2017'!$B35)),2,FALSE),"") | G35: =IFERROR(VLOOKUP(G$1,OFFSET(Calendrier!$A$1:$C$1,MATCH('Irrigation 2011-2017'!$B35,Calendrier!$C:$C,0)-1,,COUNTIF(Calendrier!$C:$C,'Irrigation 2011-2017'!$B35)),2,FALSE),"")
A36: 2012 | B36: 41009 | C36: Tunnel 7 Prim | D36: 2.721875 | F36: =IFERROR(VLOOKUP(F$1,OFFSET(Calendrier!$A$1:$C$1,MATCH('Irrigation 2011-2017'!$B36,Calendrier!$C:$C,0)-1,,COUNTIF(Calendrier!$C:$C,'Irrigation 2011-2017'!$B36)),2,FALSE),"") | G36: =IFERROR(VLOOKUP(G$1,OFFSET(Calendrier!$A$1:$C$1,MATCH('Irrigation 2011-2017'!$B36,Calendrier!$C:$C,0)-1,,COUNTIF(Calendrier!$C:$C,'Irrigation 2011-2017'!$B36)),2,FALSE),"")
A37: 2012 | B37: 41010 | C37: Tunnel 5 Prim | D37: 2.721875 | E37: tomate | G37: =IFERROR(VLOOKUP(G$1,OFFSET(Calendrier!$A$1:$C$1,MATCH('Irrigation 2011-2017'!$B37,Calendrier!$C:$C,0)-1,,COUNTIF(Calendrier!$C:$C,'Irrigation 2011-2017'!$B37)),2,FALSE),"")
A38: 2012 | B38: 41010 | C38: Tunnel 6 Prim | D38: 2.721875 | F38: =IFERROR(VLOOKUP(F$1,OFFSET(Calendrier!$A$1:$C$1,MATCH('Irrigation 2011-2017'!$B38,Calendrier!$C:$C,0)-1,,COUNTIF(Calendrier!$C:$C,'Irrigation 2011-2017'!$B38)),2,FALSE),"") | G38: =IFERROR(VLOOKUP(G$1,OFFSET(Calendrier!$A$1:$C$1,MATCH('Irrigation 2011-2017'!$B38,Calendrier!$C:$C,0)-1,,COUNTIF(Calendrier!$C:$C,'Irrigation 2011-2017'!$B38)),2,FALSE),"")
A39: 2012 | B39: 41010 | C39: Tunnel 7 Prim | D39: 2.721875 | F39: =IFERROR(VLOOKUP(F$1,OFFSET(Calendrier!$A$1:$C$1,MATCH('Irrigation 2011-2017'!$B39,Calendrier!$C:$C,0)-1,,COUNTIF(Calendrier!$C:$C,'Irrigation 2011-2017'!$B39)),2,FALSE),"") | G39: =IFERROR(VLOOKUP(G$1,OFFSET(Calendrier!$A$1:$C$1,MATCH('Irrigation 2011-2017'!$B39,Calendrier!$C:$C,0)-1,,COUNTIF(Calendrier!$C:$C,'Irrigation 2011-2017'!$B39)),2,FALSE),"")
A40: 2012 | B40: 41011 | C40: Tunnel 5 Prim | D40: 2.721875 | E40: tomate | G40: =IFERROR(VLOOKUP(G$1,OFFSET(Calendrier!$A$1:$C$1,MATCH('Irrigation 2011-2017'!$B40,Calendrier!$C:$C,0)-1,,COUNTIF(Calendrier!$C:$C,'Irrigation 2011-2017'!$B40)),2,FALSE),"")
A41: 2012 | B41: 41011 | C41: Tunnel 6 Prim | D41: 2.721875 | F41: =IFERROR(VLOOKUP(F$1,OFFSET(Calendrier!$A$1:$C$1,MATCH('Irrigation 2011-2017'!$B41,Calendrier!$C:$C,0)-1,,COUNTIF(Calendrier!$C:$C,'Irrigation 2011-2017'!$B41)),2,FALSE),"") | G41: =IFERROR(VLOOKUP(G$1,OFFSET(Calendrier!$A$1:$C$1,MATCH('Irrigation 2011-2017'!$B41,Calendrier!$C:$C,0)-1,,COUNTIF(Calendrier!$C:$C,'Irrigation 2011-2017'!$B41)),2,FALSE),"")
A42: 2012 | B42: 41011 | C42: Tunnel 7 Prim | D42: 2.721875 | F42: =IFERROR(VLOOKUP(F$1,OFFSET(Calendrier!$A$1:$C$1,MATCH('Irrigation 2011-2017'!$B42,Calendrier!$C:$C,0)-1,,COUNTIF(Calendrier!$C:$C,'Irrigation 2011-2017'!$B42)),2,FALSE),"") | G42: =IFERROR(VLOOKUP(G$1,OFFSET(Calendrier!$A$1:$C$1,MATCH('Irrigation 2011-2017'!$B42,Calendrier!$C:$C,0)-1,,COUNTIF(Calendrier!$C:$C,'Irrigation 2011-2017'!$B42)),2,FALSE),"")
A43: 2012 | B43: 41012 | C43: Tunnel 5 Prim | D43: 2.721875 | E43: tomate | G43: =IFERROR(VLOOKUP(G$1,OFFSET(Calendrier!$A$1:$C$1,MATCH('Irrigation 2011-2017'!$B43,Calendrier!$C:$C,0)-1,,COUNTIF(Calendrier!$C:$C,'Irrigation 2011-2017'!$B43)),2,FALSE),"")
A44: 2012 | B44: 41012 | C44: Tunnel 6 Prim | D44: 2.721875 | F44: =IFERROR(VLOOKUP(F$1,OFFSET(Calendrier!$A$1:$C$1,MATCH('Irrigation 2011-2017'!$B44,Calendrier!$C:$C,0)-1,,COUNTIF(Calendrier!$C:$C,'Irrigation 2011-2017'!$B44)),2,FALSE),"") | G44: =IFERROR(VLOOKUP(G$1,OFFSET(Calendrier!$A$1:$C$1,MATCH('Irrigation 2011-2017'!$B44,Calendrier!$C:$C,0)-1,,COUNTIF(Calendrier!$C:$C,'Irrigation 2011-2017'!$B44)),2,FALSE),"")
A45: 2012 | B45: 41012 | C45: Tunnel 7 Prim | D45: 2.721875 | F45: =IFERROR(VLOOKUP(F$1,OFFSET(Calendrier!$A$1:$C$1,MATCH('Irrigation 2011-2017'!$B45,Calendrier!$C:$C,0)-1,,COUNTIF(Calendrier!$C:$C,'Irrigation 2011-2017'!$B45)),2,FALSE),"") | G45: =IFERROR(VLOOKUP(G$1,OFFSET(Calendrier!$A$1:$C$1,MATCH('Irrigation 2011-2017'!$B45,Calendrier!$C:$C,0)-1,,COUNTIF(Calendrier!$C:$C,'Irrigation 2011-2017'!$B45)),2,FALSE),"")
A46: 2012 | B46: 41013 | C46: Tunnel 5 Prim | D46: 2.721875 | E46: tomate | G46: =IFERROR(VLOOKUP(G$1,OFFSET(Calendrier!$A$1:$C$1,MATCH('Irrigation 2011-2017'!$B46,Calendrier!$C:$C,0)-1,,COUNTIF(Calendrier!$C:$C,'Irrigation 2011-2017'!$B46)),2,FALSE),"")
A47: 2012 | B47: 41013 | C47: Tunnel 6 Prim | D47: 5.44375 | F47: =IFERROR(VLOOKUP(F$1,OFFSET(Calendrier!$A$1:$C$1,MATCH('Irrigation 2011-2017'!$B47,Calendrier!$C:$C,0)-1,,COUNTIF(Calendrier!$C:$C,'Irrigation 2011-2017'!$B47)),2,FALSE),"") | G47: =IFERROR(VLOOKUP(G$1,OFFSET(Calendrier!$A$1:$C$1,MATCH('Irrigation 2011-2017'!$B47,Calendrier!$C:$C,0)-1,,COUNTIF(Calendrier!$C:$C,'Irrigation 2011-2017'!$B47)),2,FALSE),"")
A48: 2012 | B48: 41013 | C48: Tunnel 7 Prim | D48: 5.44375 | F48: =IFERROR(VLOOKUP(F$1,OFFSET(Calendrier!$A$1:$C$1,MATCH('Irrigation 2011-2017'!$B48,Calendrier!$C:$C,0)-1,,COUNTIF(Calendrier!$C:$C,'Irrigation 2011-2017'!$B48)),2,FALSE),"") | G48: =IFERROR(VLOOKUP(G$1,OFFSET(Calendrier!$A$1:$C$1,MATCH('Irrigation 2011-2017'!$B48,Calendrier!$C:$C,0)-1,,COUNTIF(Calendrier!$C:$C,'Irrigation 2011-2017'!$B48)),2,FALSE),"")
A49: 2012 | B49: 41014 | C49: Tunnel 5 Prim | D49: 5.44375 | E49: tomate | G49: =IFERROR(VLOOKUP(G$1,OFFSET(Calendrier!$A$1:$C$1,MATCH('Irrigation 2011-2017'!$B49,Calendrier!$C:$C,0)-1,,COUNTIF(Calendrier!$C:$C,'Irrigation 2011-2017'!$B49)),2,FALSE),"")
A50: 2012 | B50: 41015 | C50: Tunnel 6 Prim | D50: 5.44375 | F50: =IFERROR(VLOOKUP(F$1,OFFSET(Calendrier!$A$1:$C$1,MATCH('Irrigation 2011-2017'!$B50,Calendrier!$C:$C,0)-1,,COUNTIF(Calendrier!$C:$C,'Irrigation 2011-2017'!$B50)),2,FALSE),"") | G50: =IFERROR(VLOOKUP(G$1,OFFSET(Calendrier!$A$1:$C$1,MATCH('Irrigation 2011-2017'!$B50,Calendrier!$C:$C,0)-1,,COUNTIF(Calendrier!$C:$C,'Irrigation 2011-2017'!$B50)),2,FALSE),"")
A51: 2012 | B51: 41015 | C51: Tunnel 7 Prim | D51: 5.44375 | F51: =IFERROR(VLOOKUP(F$1,OFFSET(Calendrier!$A$1:$C$1,MATCH('Irrigation 2011-2017'!$B51,Calendrier!$C:$C,0)-1,,COUNTIF(Calendrier!$C:$C,'Irrigation 2011-2017'!$B51)),2,FALSE),"") | G51: =IFERROR(VLOOKUP(G$1,OFFSET(Calendrier!$A$1:$C$1,MATCH('Irrigation 2011-2017'!$B51,Calendrier!$C:$C,0)-1,,COUNTIF(Calendrier!$C:$C,'Irrigation 2011-2017'!$B51)),2,FALSE),"")
A52: 2012 | B52: 41016 | C52: Tunnel 5 Prim | D52: 5.44375 | E52: tomate | G52: =IFERROR(VLOOKUP(G$1,OFFSET(Calendrier!$A$1:$C$1,MATCH('Irrigation 2011-2017'!$B52,Calendrier!$C:$C,0)-1,,COUNTIF(Calendrier!$C:$C,'Irrigation 2011-2017'!$B52)),2,FALSE),"")
A53: 2012 | B53: 41017 | C53: Tunnel 6 Prim | D53: 2.721875 | F53: =IFERROR(VLOOKUP(F$1,OFFSET(Calendrier!$A$1:$C$1,MATCH('Irrigation 2011-2017'!$B53,Calendrier!$C:$C,0)-1,,COUNTIF(Calendrier!$C:$C,'Irrigation 2011-2017'!$B53)),2,FALSE),"") | G53: =IFERROR(VLOOKUP(G$1,OFFSET(Calendrier!$A$1:$C$1,MATCH('Irrigation 2011-2017'!$B53,Calendrier!$C:$C,0)-1,,COUNTIF(Calendrier!$C:$C,'Irrigation 2011-2017'!$B53)),2,FALSE),"")
A54: 2012 | B54: 41017 | C54: Tunnel 7 Prim | D54: 2.721875 | F54: =IFERROR(VLOOKUP(F$1,OFFSET(Calendrier!$A$1:$C$1,MATCH('Irrigation 2011-2017'!$B54,Calendrier!$C:$C,0)-1,,COUNTIF(Calendrier!$C:$C,'Irrigation 2011-2017'!$B54)),2,FALSE),"") | G54: =IFERROR(VLOOKUP(G$1,OFFSET(Calendrier!$A$1:$C$1,MATCH('Irrigation 2011-2017'!$B54,Calendrier!$C:$C,0)-1,,COUNTIF(Calendrier!$C:$C,'Irrigation 2011-2017'!$B54)),2,FALSE),"")
A55: 2012 | B55: 41018 | C55: Tunnel 5 Prim | D55: 2.721875 | E55: tomate | G55: =IFERROR(VLOOKUP(G$1,OFFSET(Calendrier!$A$1:$C$1,MATCH('Irrigation 2011-2017'!$B55,Calendrier!$C:$C,0)-1,,COUNTIF(Calendrier!$C:$C,'Irrigation 2011-2017'!$B55)),2,FALSE),"")
A56: 2012 | B56: 41018 | C56: Tunnel 6 Prim | D56: 2.721875 | F56: =IFERROR(VLOOKUP(F$1,OFFSET(Calendrier!$A$1:$C$1,MATCH('Irrigation 2011-2017'!$B56,Calendrier!$C:$C,0)-1,,COUNTIF(Calendrier!$C:$C,'Irrigation 2011-2017'!$B56)),2,FALSE),"") | G56: =IFERROR(VLOOKUP(G$1,OFFSET(Calendrier!$A$1:$C$1,MATCH('Irrigation 2011-2017'!$B56,Calendrier!$C:$C,0)-1,,COUNTIF(Calendrier!$C:$C,'Irrigation 2011-2017'!$B56)),2,FALSE),"")
A57: 2012 | B57: 41018 | C57: Tunnel 7 Prim | D57: 2.721875 | F57: =IFERROR(VLOOKUP(F$1,OFFSET(Calendrier!$A$1:$C$1,MATCH('Irrigation 2011-2017'!$B57,Calendrier!$C:$C,0)-1,,COUNTIF(Calendrier!$C:$C,'Irrigation 2011-2017'!$B57)),2,FALSE),"") | G57: =IFERROR(VLOOKUP(G$1,OFFSET(Calendrier!$A$1:$C$1,MATCH('Irrigation 2011-2017'!$B57,Calendrier!$C:$C,0)-1,,COUNTIF(Calendrier!$C:$C,'Irrigation 2011-2017'!$B57)),2,FALSE),"")
A58: 2012 | B58: 41019 | C58: Tunnel 5 Prim | D58: 2.721875 | E58: tomate | G58: =IFERROR(VLOOKUP(G$1,OFFSET(Calendrier!$A$1:$C$1,MATCH('Irrigation 2011-2017'!$B58,Calendrier!$C:$C,0)-1,,COUNTIF(Calendrier!$C:$C,'Irrigation 2011-2017'!$B58)),2,FALSE),"")
A59: 2012 | B59: 41019 | C59: Tunnel 6 Prim | D59: 5.44375 | F59: =IFERROR(VLOOKUP(F$1,OFFSET(Calendrier!$A$1:$C$1,MATCH('Irrigation 2011-2017'!$B59,Calendrier!$C:$C,0)-1,,COUNTIF(Calendrier!$C:$C,'Irrigation 2011-2017'!$B59)),2,FALSE),"") | G59: =IFERROR(VLOOKUP(G$1,OFFSET(Calendrier!$A$1:$C$1,MATCH('Irrigation 2011-2017'!$B59,Calendrier!$C:$C,0)-1,,COUNTIF(Calendrier!$C:$C,'Irrigation 2011-2017'!$B59)),2,FALSE),"")
A60: 2012 | B60: 41019 | C60: Tunnel 7 Prim | D60: 5.44375 | F60: =IFERROR(VLOOKUP(F$1,OFFSET(Calendrier!$A$1:$C$1,MATCH('Irrigation 2011-2017'!$B60,Calendrier!$C:$C,0)-1,,COUNTIF(Calendrier!$C:$C,'Irrigation 2011-2017'!$B60)),2,FALSE),"") | G60: =IFERROR(VLOOKUP(G$1,OFFSET(Calendrier!$A$1:$C$1,MATCH('Irrigation 2011-2017'!$B60,Calendrier!$C:$C,0)-1,,COUNTIF(Calendrier!$C:$C,'Irrigation 2011-2017'!$B60)),2,FALSE),"")
A61: 2012 | B61: 41020 | C61: Tunnel 5 Prim | D61: 5.44375 | E61: tomate | G61: =IFERROR(VLOOKUP(G$1,OFFSET(Calendrier!$A$1:$C$1,MATCH('Irrigation 2011-2017'!$B61,Calendrier!$C:$C,0)-1,,COUNTIF(Calendrier!$C:$C,'Irrigation 2011-2017'!$B61)),2,FALSE),"")
A62: 2012 | B62: 41021 | C62: Tunnel 6 Prim | D62: 2.721875 | F62: =IFERROR(VLOOKUP(F$1,OFFSET(Calendrier!$A$1:$C$1,MATCH('Irrigation 2011-2017'!$B62,Calendrier!$C:$C,0)-1,,COUNTIF(Calendrier!$C:$C,'Irrigation 2011-2017'!$B62)),2,FALSE),"") | G62: =IFERROR(VLOOKUP(G$1,OFFSET(Calendrier!$A$1:$C$1,MATCH('Irrigation 2011-2017'!$B62,Calendrier!$C:$C,0)-1,,COUNTIF(Calendrier!$C:$C,'Irrigation 2011-2017'!$B62)),2,FALSE),"")
A63: 2012 | B63: 41021 | C63: Tunnel 7 Prim | D63: 2.721875 | F63: =IFERROR(VLOOKUP(F$1,OFFSET(Calendrier!$A$1:$C$1,MATCH('Irrigation 2011-2017'!$B63,Calendrier!$C:$C,0)-1,,COUNTIF(Calendrier!$C:$C,'Irrigation 2011-2017'!$B63)),2,FALSE),"") | G63: =IFERROR(VLOOKUP(G$1,OFFSET(Calendrier!$A$1:$C$1,MATCH('Irrigation 2011-2017'!$B63,Calendrier!$C:$C,0)-1,,COUNTIF(Calendrier!$C:$C,'Irrigation 2011-2017'!$B63)),2,FALSE),"")
A64: 2012 | B64: 41022 | C64: Tunnel 5 Prim | D64: 2.721875 | E64: tomate | G64: =IFERROR(VLOOKUP(G$1,OFFSET(Calendrier!$A$1:$C$1,MATCH('Irrigation 2011-2017'!$B64,Calendrier!$C:$C,0)-1,,COUNTIF(Calendrier!$C:$C,'Irrigation 2011-2017'!$B64)),2,FALSE),"")
A65: 2012 | B65: 41022 | C65: Tunnel 6 Prim | D65: 2.721875 | F65: =IFERROR(VLOOKUP(F$1,OFFSET(Calendrier!$A$1:$C$1,MATCH('Irrigation 2011-2017'!$B65,Calendrier!$C:$C,0)-1,,COUNTIF(Calendrier!$C:$C,'Irrigation 2011-2017'!$B65)),2,FALSE),"") | G65: =IFERROR(VLOOKUP(G$1,OFFSET(Calendrier!$A$1:$C$1,MATCH('Irrigation 2011-2017'!$B65,Calendrier!$C:$C,0)-1,,COUNTIF(Calendrier!$C:$C,'Irrigation 2011-2017'!$B65)),2,FALSE),"")
A66: 2012 | B66: 41022 | C66: Tunnel 7 Prim | D66: 2.721875 | F66: =IFERROR(VLOOKUP(F$1,OFFSET(Calendrier!$A$1:$C$1,MATCH('Irrigation 2011-2017'!$B66,Calendrier!$C:$C,0)-1,,COUNTIF(Calendrier!$C:$C,'Irrigation 2011-2017'!$B66)),2,FALSE),"") | G66: =IFERROR(VLOOKUP(G$1,OFFSET(Calendrier!$A$1:$C$1,MATCH('Irrigation 2011-2017'!$B66,Calendrier!$C:$C,0)-1,,COUNTIF(Calendrier!$C:$C,'Irrigation 2011-2017'!$B66)),2,FALSE),"")
A67: 2012 | B67: 41023 | C67: Tunnel 5 Prim | D67: 2.721875 | E67: tomate | G67: =IFERROR(VLOOKUP(G$1,OFFSET(Calendrier!$A$1:$C$1,MATCH('Irrigation 2011-2017'!$B67,Calendrier!$C:$C,0)-1,,COUNTIF(Calendrier!$C:$C,'Irrigation 2011-2017'!$B67)),2,FALSE),"")
A68: 2012 | B68: 41024 | C68: Tunnel 6 Prim | D68: 5.44375 | F68: =IFERROR(VLOOKUP(F$1,OFFSET(Calendrier!$A$1:$C$1,MATCH('Irrigation 2011-2017'!$B68,Calendrier!$C:$C,0)-1,,COUNTIF(Calendrier!$C:$C,'Irrigation 2011-2017'!$B68)),2,FALSE),"") | G68: =IFERROR(VLOOKUP(G$1,OFFSET(Calendrier!$A$1:$C$1,MATCH('Irrigation 2011-2017'!$B68,Calendrier!$C:$C,0)-1,,COUNTIF(Calendrier!$C:$C,'Irrigation 2011-2017'!$B68)),2,FALSE),"")
A69: 2012 | B69: 41024 | C69: Tunnel 7 Prim | D69: 5.44375 | F69: =IFERROR(VLOOKUP(F$1,OFFSET(Calendrier!$A$1:$C$1,MATCH('Irrigation 2011-2017'!$B69,Calendrier!$C:$C,0)-1,,COUNTIF(Calendrier!$C:$C,'Irrigation 2011-2017'!$B69)),2,FALSE),"") | G69: =IFERROR(VLOOKUP(G$1,OFFSET(Calendrier!$A$1:$C$1,MATCH('Irrigation 2011-2017'!$B69,Calendrier!$C:$C,0)-1,,COUNTIF(Calendrier!$C:$C,'Irrigation 2011-2017'!$B69)),2,FALSE),"")
A70: 2012 | B70: 41025 | C70: Tunnel 5 Prim | D70: 5.44375 | E70: tomate | G70: =IFERROR(VLOOKUP(G$1,OFFSET(Calendrier!$A$1:$C$1,MATCH('Irrigation 2011-2017'!$B70,Calendrier!$C:$C,0)-1,,COUNTIF(Calendrier!$C:$C,'Irrigation 2011-2017'!$B70)),2,FALSE),"")
A71: 2012 | B71: 41025 | C71: Tunnel 6 Prim | D71: 2.721875 | F71: =IFERROR(VLOOKUP(F$1,OFFSET(Calendrier!$A$1:$C$1,MATCH('Irrigation 2011-2017'!$B71,Calendrier!$C:$C,0)-1,,COUNTIF(Calendrier!$C:$C,'Irrigation 2011-2017'!$B71)),2,FALSE),"") | G71: =IFERROR(VLOOKUP(G$1,OFFSET(Calendrier!$A$1:$C$1,MATCH('Irrigation 2011-2017'!$B71,Calendrier!$C:$C,0)-1,,COUNTIF(Calendrier!$C:$C,'Irrigation 2011-2017'!$B71)),2,FALSE),"")
A72: 2012 | B72: 41025 | C72: Tunnel 7 Prim | D72: 2.721875 | F72: =IFERROR(VLOOKUP(F$1,OFFSET(Calendrier!$A$1:$C$1,MATCH('Irrigation 2011-2017'!$B72,Calendrier!$C:$C,0)-1,,COUNTIF(Calendrier!$C:$C,'Irrigation 2011-2017'!$B72)),2,FALSE),"") | G72: =IFERROR(VLOOKUP(G$1,OFFSET(Calendrier!$A$1:$C$1,MATCH('Irrigation 2011-2017'!$B72,Calendrier!$C:$C,0)-1,,COUNTIF(Calendrier!$C:$C,'Irrigation 2011-2017'!$B72)),2,FALSE),"")
A73: 2012 | B73: 41026 | C73: Tunnel 5 Prim | D73: 2.721875 | E73: tomate | G73: =IFERROR(VLOOKUP(G$1,OFFSET(Calendrier!$A$1:$C$1,MATCH('Irrigation 2011-2017'!$B73,Calendrier!$C:$C,0)-1,,COUNTIF(Calendrier!$C:$C,'Irrigation 2011-2017'!$B73)),2,FALSE),"")
A74: 2012 | B74: 41026 | C74: Tunnel 6 Prim | D74: 2.721875 | F74: =IFERROR(VLOOKUP(F$1,OFFSET(Calendrier!$A$1:$C$1,MATCH('Irrigation 2011-2017'!$B74,Calendrier!$C:$C,0)-1,,COUNTIF(Calendrier!$C:$C,'Irrigation 2011-2017'!$B74)),2,FALSE),"") | G74: =IFERROR(VLOOKUP(G$1,OFFSET(Calendrier!$A$1:$C$1,MATCH('Irrigation 2011-2017'!$B74,Calendrier!$C:$C,0)-1,,COUNTIF(Calendrier!$C:$C,'Irrigation 2011-2017'!$B74)),2,FALSE),"")
A75: 2012 | B75: 41026 | C75: Tunnel 7 Prim | D75: 2.721875 | F75: =IFERROR(VLOOKUP(F$1,OFFSET(Calendrier!$A$1:$C$1,MATCH('Irrigation 2011-2017'!$B75,Calendrier!$C:$C,0)-1,,COUNTIF(Calendrier!$C:$C,'Irrigation 2011-2017'!$B75)),2,FALSE),"") | G75: =IFERROR(VLOOKUP(G$1,OFFSET(Calendrier!$A$1:$C$1,MATCH('Irrigation 2011-2017'!$B75,Calendrier!$C:$C,0)-1,,COUNTIF(Calendrier!$C:$C,'Irrigation 2011-2017'!$B75)),2,FALSE),"")
A76: 2012 | B76: 41027 | C76: Tunnel 5 Prim | D76: 2.721875 | E76: tomate | G76: =IFERROR(VLOOKUP(G$1,OFFSET(Calendrier!$A$1:$C$1,MATCH('Irrigation 2011-2017'!$B76,Calendrier!$C:$C,0)-1,,COUNTIF(Calendrier!$C:$C,'Irrigation 2011-2017'!$B76)),2,FALSE),"")
A77: 2012 | B77: 41027 | C77: Tunnel 6 Prim | D77: 2.721875 | F77: =IFERROR(VLOOKUP(F$1,OFFSET(Calendrier!$A$1:$C$1,MATCH('Irrigation 2011-2017'!$B77,Calendrier!$C:$C,0)-1,,COUNTIF(Calendrier!$C:$C,'Irrigation 2011-2017'!$B77)),2,FALSE),"") | G77: =IFERROR(VLOOKUP(G$1,OFFSET(Calendrier!$A$1:$C$1,MATCH('Irrigation 2011-2017'!$B77,Calendrier!$C:$C,0)-1,,COUNTIF(Calendrier!$C:$C,'Irrigation 2011-2017'!$B77)),2,FALSE),"")
A78: 2012 | B78: 41027 | C78: Tunnel 7 Prim | D78: 2.721875 | F78: =IFERROR(VLOOKUP(F$1,OFFSET(Calendrier!$A$1:$C$1,MATCH('Irrigation 2011-2017'!$B78,Calendrier!$C:$C,0)-1,,COUNTIF(Calendrier!$C:$C,'Irrigation 2011-2017'!$B78)),2,FALSE),"") | G78: =IFERROR(VLOOKUP(G$1,OFFSET(Calendrier!$A$1:$C$1,MATCH('Irrigation 2011-2017'!$B78,Calendrier!$C:$C,0)-1,,COUNTIF(Calendrier!$C:$C,'Irrigation 2011-2017'!$B78)),2,FALSE),"")
A79: 2012 | B79: 41028 | C79: Tunnel 5 Prim | D79: 2.721875 | E79: tomate | G79: =IFERROR(VLOOKUP(G$1,OFFSET(Calendrier!$A$1:$C$1,MATCH('Irrigation 2011-2017'!$B79,Calendrier!$C:$C,0)-1,,COUNTIF(Calendrier!$C:$C,'Irrigation 2011-2017'!$B79)),2,FALSE),"")
A80: 2012 | B80: 41028 | C80: Tunnel 6 Prim | D80: 2.721875 | F80: =IFERROR(VLOOKUP(F$1,OFFSET(Calendrier!$A$1:$C$1,MATCH('Irrigation 2011-2017'!$B80,Calendrier!$C:$C,0)-1,,COUNTIF(Calendrier!$C:$C,'Irrigation 2011-2017'!$B80)),2,FALSE),"") | G80: =IFERROR(VLOOKUP(G$1,OFFSET(Calendrier!$A$1:$C$1,MATCH('Irrigation 2011-2017'!$B80,Calendrier!$C:$C,0)-1,,COUNTIF(Calendrier!$C:$C,'Irrigation 2011-2017'!$B80)),2,FALSE),"")
A81: 2012 | B81: 41028 | C81: Tunnel 7 Prim | D81: 2.721875 | F81: =IFERROR(VLOOKUP(F$1,OFFSET(Calendrier!$A$1:$C$1,MATCH('Irrigation 2011-2017'!$B81,Calendrier!$C:$C,0)-1,,COUNTIF(Calendrier!$C:$C,'Irrigation 2011-2017'!$B81)),2,FALSE),"") | G81: =IFERROR(VLOOKUP(G$1,OFFSET(Calendrier!$A$1:$C$1,MATCH('Irrigation 2011-2017'!$B81,Calendrier!$C:$C,0)-1,,COUNTIF(Calendrier!$C:$C,'Irrigation 2011-2017'!$B81)),2,FALSE),"")
A82: 2012 | B82: 41029 | C82: Tunnel 5 Prim | D82: 2.721875 | E82: tomate | G82: =IFERROR(VLOOKUP(G$1,OFFSET(Calendrier!$A$1:$C$1,MATCH('Irrigation 2011-2017'!$B82,Calendrier!$C:$C,0)-1,,COUNTIF(Calendrier!$C:$C,'Irrigation 2011-2017'!$B82)),2,FALSE),"")
A83: 2012 | B83: 41029 | C83: Tunnel 6 Prim | D83: 5.44375 | F83: =IFERROR(VLOOKUP(F$1,OFFSET(Calendrier!$A$1:$C$1,MATCH('Irrigation 2011-2017'!$B83,Calendrier!$C:$C,0)-1,,COUNTIF(Calendrier!$C:$C,'Irrigation 2011-2017'!$B83)),2,FALSE),"") | G83: =IFERROR(VLOOKUP(G$1,OFFSET(Calendrier!$A$1:$C$1,MATCH('Irrigation 2011-2017'!$B83,Calendrier!$C:$C,0)-1,,COUNTIF(Calendrier!$C:$C,'Irrigation 2011-2017'!$B83)),2,FALSE),"")
A84: 2012 | B84: 41029 | C84: Tunnel 7 Prim | D84: 5.44375 | F84: =IFERROR(VLOOKUP(F$1,OFFSET(Calendrier!$A$1:$C$1,MATCH('Irrigation 2011-2017'!$B84,Calendrier!$C:$C,0)-1,,COUNTIF(Calendrier!$C:$C,'Irrigation 2011-2017'!$B84)),2,FALSE),"") | G84: =IFERROR(VLOOKUP(G$1,OFFSET(Calendrier!$A$1:$C$1,MATCH('Irrigation 2011-2017'!$B84,Calendrier!$C:$C,0)-1,,COUNTIF(Calendrier!$C:$C,'Irrigation 2011-2017'!$B84)),2,FALSE),"")
A85: 2012 | B85: 41030 | C85: Tunnel 5 Prim | D85: 5.44375 | E85: tomate | G85: =IFERROR(VLOOKUP(G$1,OFFSET(Calendrier!$A$1:$C$1,MATCH('Irrigation 2011-2017'!$B85,Calendrier!$C:$C,0)-1,,COUNTIF(Calendrier!$C:$C,'Irrigation 2011-2017'!$B85)),2,FALSE),"")
A86: 2012 | B86: 41030 | C86: Tunnel 6 Prim | D86: 2.721875 | F86: =IFERROR(VLOOKUP(F$1,OFFSET(Calendrier!$A$1:$C$1,MATCH('Irrigation 2011-2017'!$B86,Calendrier!$C:$C,0)-1,,COUNTIF(Calendrier!$C:$C,'Irrigation 2011-2017'!$B86)),2,FALSE),"") | G86: =IFERROR(VLOOKUP(G$1,OFFSET(Calendrier!$A$1:$C$1,MATCH('Irrigation 2011-2017'!$B86,Calendrier!$C:$C,0)-1,,COUNTIF(Calendrier!$C:$C,'Irrigation 2011-2017'!$B86)),2,FALSE),"")
A87: 2012 | B87: 41030 | C87: Tunnel 7 Prim | D87: 2.721875 | F87: =IFERROR(VLOOKUP(F$1,OFFSET(Calendrier!$A$1:$C$1,MATCH('Irrigation 2011-2017'!$B87,Calendrier!$C:$C,0)-1,,COUNTIF(Calendrier!$C:$C,'Irrigation 2011-2017'!$B87)),2,FALSE),"") | G87: =IFERROR(VLOOKUP(G$1,OFFSET(Calendrier!$A$1:$C$1,MATCH('Irrigation 2011-2017'!$B87,Calendrier!$C:$C,0)-1,,COUNTIF(Calendrier!$C:$C,'Irrigation 2011-2017'!$B87)),2,FALSE),"")
A88: 2012 | B88: 41031 | C88: Tunnel 5 Prim | D88: 2.721875 | E88: tomate | G88: =IFERROR(VLOOKUP(G$1,OFFSET(Calendrier!$A$1:$C$1,MATCH('Irrigation 2011-2017'!$B88,Calendrier!$C:$C,0)-1,,COUNTIF(Calendrier!$C:$C,'Irrigation 2011-2017'!$B88)),2,FALSE),"")
A89: 2012 | B89: 41031 | C89: Tunnel 6 Prim | D89: 2.721875 | F89: =IFERROR(VLOOKUP(F$1,OFFSET(Calendrier!$A$1:$C$1,MATCH('Irrigation 2011-2017'!$B89,Calendrier!$C:$C,0)-1,,COUNTIF(Calendrier!$C:$C,'Irrigation 2011-2017'!$B89)),2,FALSE),"") | G89: =IFERROR(VLOOKUP(G$1,OFFSET(Calendrier!$A$1:$C$1,MATCH('Irrigation 2011-2017'!$B89,Calendrier!$C:$C,0)-1,,COUNTIF(Calendrier!$C:$C,'Irrigation 2011-2017'!$B89)),2,FALSE),"")
A90: 2012 | B90: 41031 | C90: Tunnel 7 Prim | D90: 2.721875 | F90: =IFERROR(VLOOKUP(F$1,OFFSET(Calendrier!$A$1:$C$1,MATCH('Irrigation 2011-2017'!$B90,Calendrier!$C:$C,0)-1,,COUNTIF(Calendrier!$C:$C,'Irrigation 2011-2017'!$B90)),2,FALSE),"") | G90: =IFERROR(VLOOKUP(G$1,OFFSET(Calendrier!$A$1:$C$1,MATCH('Irrigation 2011-2017'!$B90,Calendrier!$C:$C,0)-1,,COUNTIF(Calendrier!$C:$C,'Irrigation 2011-2017'!$B90)),2,FALSE),"")
A91: 2012 | B91: 41032 | C91: Tunnel 5 Prim | D91: 2.721875 | E91: tomate | G91: =IFERROR(VLOOKUP(G$1,OFFSET(Calendrier!$A$1:$C$1,MATCH('Irrigation 2011-2017'!$B91,Calendrier!$C:$C,0)-1,,COUNTIF(Calendrier!$C:$C,'Irrigation 2011-2017'!$B91)),2,FALSE),"")
A92: 2012 | B92: 41032 | C92: Tunnel 6 Prim | D92: 2.721875 | F92: =IFERROR(VLOOKUP(F$1,OFFSET(Calendrier!$A$1:$C$1,MATCH('Irrigation 2011-2017'!$B92,Calendrier!$C:$C,0)-1,,COUNTIF(Calendrier!$C:$C,'Irrigation 2011-2017'!$B92)),2,FALSE),"") | G92: =IFERROR(VLOOKUP(G$1,OFFSET(Calendrier!$A$1:$C$1,MATCH('Irrigation 2011-2017'!$B92,Calendrier!$C:$C,0)-1,,COUNTIF(Calendrier!$C:$C,'Irrigation 2011-2017'!$B92)),2,FALSE),"")
A93: 2012 | B93: 41032 | C93: Tunnel 7 Prim | D93: 2.721875 | F93: =IFERROR(VLOOKUP(F$1,OFFSET(Calendrier!$A$1:$C$1,MATCH('Irrigation 2011-2017'!$B93,Calendrier!$C:$C,0)-1,,COUNTIF(Calendrier!$C:$C,'Irrigation 2011-2017'!$B93)),2,FALSE),"") | G93: =IFERROR(VLOOKUP(G$1,OFFSET(Calendrier!$A$1:$C$1,MATCH('Irrigation 2011-2017'!$B93,Calendrier!$C:$C,0)-1,,COUNTIF(Calendrier!$C:$C,'Irrigation 2011-2017'!$B93)),2,FALSE),"")
A94: 2012 | B94: 41033 | C94: Tunnel 5 Prim | D94: 2.721875 | E94: tomate | G94: =IFERROR(VLOOKUP(G$1,OFFSET(Calendrier!$A$1:$C$1,MATCH('Irrigation 2011-2017'!$B94,Calendrier!$C:$C,0)-1,,COUNTIF(Calendrier!$C:$C,'Irrigation 2011-2017'!$B94)),2,FALSE),"")
A95: 2012 | B95: 41033 | C95: Tunnel 6 Prim | D95: 2.721875 | F95: =IFERROR(VLOOKUP(F$1,OFFSET(Calendrier!$A$1:$C$1,MATCH('Irrigation 2011-2017'!$B95,Calendrier!$C:$C,0)-1,,COUNTIF(Calendrier!$C:$C,'Irrigation 2011-2017'!$B95)),2,FALSE),"") | G95: =IFERROR(VLOOKUP(G$1,OFFSET(Calendrier!$A$1:$C$1,MATCH('Irrigation 2011-2017'!$B95,Calendrier!$C:$C,0)-1,,COUNTIF(Calendrier!$C:$C,'Irrigation 2011-2017'!$B95)),2,FALSE),"")
A96: 2012 | B96: 41033 | C96: Tunnel 7 Prim | D96: 2.721875 | F96: =IFERROR(VLOOKUP(F$1,OFFSET(Calendrier!$A$1:$C$1,MATCH('Irrigation 2011-2017'!$B96,Calendrier!$C:$C,0)-1,,COUNTIF(Calendrier!$C:$C,'Irrigation 2011-2017'!$B96)),2,FALSE),"") | G96: =IFERROR(VLOOKUP(G$1,OFFSET(Calendrier!$A$1:$C$1,MATCH('Irrigation 2011-2017'!$B96,Calendrier!$C:$C,0)-1,,COUNTIF(Calendrier!$C:$C,'Irrigation 2011-2017'!$B96)),2,FALSE),"")
A97: 2012 | B97: 41034 | C97: Tunnel 5 Prim | D97: 2.721875 | E97: tomate | G97: =IFERROR(VLOOKUP(G$1,OFFSET(Calendrier!$A$1:$C$1,MATCH('Irrigation 2011-2017'!$B97,Calendrier!$C:$C,0)-1,,COUNTIF(Calendrier!$C:$C,'Irrigation 2011-2017'!$B97)),2,FALSE),"")
A98: 2012 | B98: 41034 | C98: Tunnel 6 Prim | D98: 2.721875 | F98: =IFERROR(VLOOKUP(F$1,OFFSET(Calendrier!$A$1:$C$1,MATCH('Irrigation 2011-2017'!$B98,Calendrier!$C:$C,0)-1,,COUNTIF(Calendrier!$C:$C,'Irrigation 2011-2017'!$B98)),2,FALSE),"") | G98: =IFERROR(VLOOKUP(G$1,OFFSET(Calendrier!$A$1:$C$1,MATCH('Irrigation 2011-2017'!$B98,Calendrier!$C:$C,0)-1,,COUNTIF(Calendrier!$C:$C,'Irrigation 2011-2017'!$B98)),2,FALSE),"")
A99: 2012 | B99: 41034 | C99: Tunnel 7 Prim | D99: 2.721875 | F99: =IFERROR(VLOOKUP(F$1,OFFSET(Calendrier!$A$1:$C$1,MATCH('Irrigation 2011-2017'!$B99,Calendrier!$C:$C,0)-1,,COUNTIF(Calendrier!$C:$C,'Irrigation 2011-2017'!$B99)),2,FALSE),"") | G99: =IFERROR(VLOOKUP(G$1,OFFSET(Calendrier!$A$1:$C$1,MATCH('Irrigation 2011-2017'!$B99,Calendrier!$C:$C,0)-1,,COUNTIF(Calendrier!$C:$C,'Irrigation 2011-2017'!$B99)),2,FALSE),"")
A100: 2012 | B100: 41035 | C100: Tunnel 5 Prim | D100: 2.721875 | E100: tomate | G100: =IFERROR(VLOOKUP(G$1,OFFSET(Calendrier!$A$1:$C$1,MATCH('Irrigation 2011-2017'!$B100,Calendrier!$C:$C,0)-1,,COUNTIF(Calendrier!$C:$C,'Irrigation 2011-2017'!$B100)),2,FALSE),"")
...
