Workbook
Name Tunnel_5_Prim: OFFSET(Calendrier!$A$1:$C$1,MATCH('Irrigation 2011-2017'!$B1,Calendrier!$C:$C,0)-1,,COUNTIF(Calendrier!$C:$C,'Irrigation 2011-2017'!$B1))

Sheet Calendrier
A1: tunnel | B1: espéce | C1: date semis | D1: date récolte
A2: Tunnel 5 Prim | B2: Laitue | C2: 40883 | D2: 40967
A3: Tunnel 5 Prim | B3: Tomate | C3: 40990 | D3: 41136
A4: Tunnel 5 Prim | B4: Laitue | C4: 41198 | D4: 41256
A5: Tunnel 5 Prim | B5: Laitue | C5: 41296 | D5: 41361
A6: Tunnel 5 Prim | B6: Concombre | C6: 41372 | D6: 41505
A7: Tunnel 5 Prim | B7: Laitue | C7: 41542 | D7: 41593
A8: Tunnel 5 Prim | B8: Laitue | C8: 41654 | D8: 41722
A9: Tunnel 5 Prim | B9: solarisation | C9: 41801 | D9: 41855
A10: Tunnel 5 Prim | B10: Sorgho | C10: 41856 | D10: 41901
A11: Tunnel 5 Prim | B11: laitue | C11: 41927 | D11: 41978
A12: Tunnel 5 Prim | B12: Laitue | C12: 42017 | D12: 42087
A13: Tunnel 5 Prim | B13: Tomate | C13: 42097 | D13: 42228
... A59: Tunnel 7 Prim | B59: Laitue | C59: 43027 | D59: 43089

Sheet Irrigation  2011-2017
A1: année | B1: JOUR | C1: Localisation | D1: apport en mm | E1: Tunnel 5 Prim | F1: Tunnel 6 Prim | G1: Tunnel 7 Prim | K1: exemple d'attente : pour Tunnel 5 Prim il y a une tomate du 22/03/2012 au 15/08/2012
A2: 2012 | B2: 40997 | C2: Tunnel 6 Prim | D2: 2.721875 | F2: =IFERROR(VLOOKUP(F$1,OFFSET(Calendrier!$A$1:$C$1,MATCH('Irrigation 2011-2017'!$B2,Calendrier!$C:$C,0)-1,,COUNTIF(Calendrier!$C:$C,'Irrigation 2011-2017'!$B2)),2,FALSE),"") | G2: =IFERROR(VLOOKUP(G$1,OFFSET(Calendrier!$A$1:$C$1,MATCH('Irrigation 2011-2017'!$B2,Calendrier!$C:$C,0)-1,,COUNTIF(Calendrier!$C:$C,'Irrigation 2011-2017'!$B2)),2,FALSE),"")
A3: 2012 | B3: 40997 | C3: Tunnel 7 Prim | D3: 2.721875 | F3: =IFERROR(VLOOKUP(F$1,OFFSET(Calendrier!$A$1:$C$1,MATCH('Irrigation 2011-2017'!$B3,Calendrier!$C:$C,0)-1,,COUNTIF(Calendrier!$C:$C,'Irrigation 2011-2017'!$B3)),2,FALSE),"") | G3: =IFERROR(VLOOKUP(G$1,OFFSET(Calendrier!$A$1:$C$1,MATCH('Irrigation 2011-2017'!$B3,Calendrier!$C:$C,0)-1,,COUNTIF(Calendrier!$C:$C,'Irrigation 2011-2017'!$B3)),2,FALSE),"")
A4: 2012 | B4: 40998 | C4: Tunnel 5 Prim | D4: 2.721875 | E4: tomate | G4: =IFERROR(VLOOKUP(G$1,OFFSET(Calendrier!$A$1:$C$1,MATCH('Irrigation 2011-2017'!$B4,Calendrier!$C:$C,0)-1,,COUNTIF(Calendrier!$C:$C,'Irrigation 2011-2017'!$B4)),2,FALSE),"")
A5: 2012 | B5: 40998 | C5: Tunnel 6 Prim | D5: 2.721875 | F5: =IFERROR(VLOOKUP(F$1,OFFSET(Calendrier!$A$1:$C$1,MATCH('Irrigation 2011-2017'!$B5,Calendrier!$C:$C,0)-1,,COUNTIF(Calendrier!$C:$C,'Irrigation 2011-2017'!$B5)),2,FALSE),"") | G5: =IFERROR(VLOOKUP(G$1,OFFSET(Calendrier!$A$1:$C$1,MATCH('Irrigation 2011-2017'!$B5,Calendrier!$C:$C,0)-1,,COUNTIF(Calendrier!$C:$C,'Irrigation 2011-2017'!$B5)),2,FALSE),"")
A6: 2012 | B6: 40998 | C6: Tunnel 7 Prim | D6: 2.721875 | F6: =IFERROR(VLOOKUP(F$1,OFFSET(Calendrier!$A$1:$C$1,MATCH('Irrigation 2011-2017'!$B6,Calendrier!$C:$C,0)-1,,COUNTIF(Calendrier!$C:$C,'Irrigation 2011-2017'!$B6)),2,FALSE),"") | G6: =IFERROR(VLOOKUP(G$1,OFFSET(Calendrier!$A$1:$C$1,MATCH('Irrigation 2011-2017'!$B6,Calendrier!$C:$C,0)-1,,COUNTIF(Calendrier!$C:$C,'Irrigation 2011-2017'!$B6)),2,FALSE),"")
A7: 2012 | B7: 40999 | C7: Tunnel 5 Prim | D7: 2.721875 | E7: tomate | G7: =IFERROR(VLOOKUP(G$1,OFFSET(Calendrier!$A$1:$C$1,MATCH('Irrigation 2011-2017'!$B7,Calendrier!$C:$C,0)-1,,COUNTIF(Calendrier!$C:$C,'Irrigation 2011-2017'!$B7)),2,FALSE),"")
A8: 2012 | B8: 40999 | C8: Tunnel 6 Prim | D8: 2.721875 | F8: =IFERROR(VLOOKUP(F$1,OFFSET(Calendrier!$A$1:$C$1,MATCH('Irrigation 2011-2017'!$B8,Calendrier!$C:$C,0)-1,,COUNTIF(Calendrier!$C:$C,'Irrigation 2011-2017'!$B8)),2,FALSE),"") | G8: =IFERROR(VLOOKUP(G$1,OFFSET(Calendrier!$A$1:$C$1,MATCH('Irrigation 2011-2017'!$B8,Calendrier!$C:$C,0)-1,,COUNTIF(Calendrier!$C:$C,'Irrigation 2011-2017'!$B8)),2,FALSE),"")
A9: 2012 | B9: 40999 | C9: Tunnel 7 Prim | D9: 2.721875 | F9: =IFERROR(VLOOKUP(F$1,OFFSET(Calendrier!$A$1:$C$1,MATCH('Irrigation 2011-2017'!$B9,Calendrier!$C:$C,0)-1,,COUNTIF(Calendrier!$C:$C,'Irrigation 2011-2017'!$B9)),2,FALSE),"") | G9: =IFERROR(VLOOKUP(G$1,OFFSET(Calendrier!$A$1:$C$1,MATCH('Irrigation 2011-2017'!$B9,Calendrier!$C:$C,0)-1,,COUNTIF(Calendrier!$C:$C,'Irrigation 2011-2017'!$B9)),2,FALSE),"")
A10: 2012 | B10: 41000 | C10: Tunnel 5 Prim | D10: 2.721875 | E10: tomate | G10: =IFERROR(VLOOKUP(G$1,OFFSET(Calendrier!$A$1:$C$1,MATCH('Irrigation 2011-2017'!$B10,Calendrier!$C:$C,0)-1,,COUNTIF(Calendrier!$C:$C,'Irrigation 2011-2017'!$B10)),2,FALSE),"")
A11: 2012 | B11: 41000 | C11: Tunnel 6 Prim | D11: 8.165625 | F11: =IFERROR(VLOOKUP(F$1,OFFSET(Calendrier!$A$1:$C$1,MATCH('Irrigation 2011-2017'!$B11,Calendrier!$C:$C,0)-1,,COUNTIF(Calendrier!$C:$C,'Irrigation 2011-2017'!$B11)),2,FALSE),"") | G11: =IFERROR(VLOOKUP(G$1,OFFSET(Calendrier!$A$1:$C$1,MATCH('Irrigation 2011-2017'!$B11,Calendrier!$C:$C,0)-1,,COUNTIF(Calendrier!$C:$C,'Irrigation 2011-2017'!$B11)),2,FALSE),"")
A12: 2012 | B12: 41000 | C12: Tunnel 7 Prim | D12: 8.165625 | F12: =IFERROR(VLOOKUP(F$1,OFFSET(Calendrier!$A$1:$C$1,MATCH('Irrigation 2011-2017'!$B12,Calendrier!$C:$C,0)-1,,COUNTIF(Calendrier!$C:$C,'Irrigation 2011-2017'!$B12)),2,FALSE),"") | G12: =IFERROR(VLOOKUP(G$1,OFFSET(Calendrier!$A$1:$C$1,MATCH('Irrigation 2011-2017'!$B12,Calendrier!$C:$C,0)-1,,COUNTIF(Calendrier!$C:$C,'Irrigation 2011-2017'!$B12)),2,FALSE),"")
A13: 2012 | B13: 41001 | C13: Tunnel 5 Prim | D13: 8.165625 | E13: tomate | G13: =IFERROR(VLOOKUP(G$1,OFFSET(Calendrier!$A$1:$C$1,MATCH('Irrigation 2011-2017'!$B13,Calendrier!$C:$C,0)-1,,COUNTIF(Calendrier!$C:$C,'Irrigation 2011-2017'!$B13)),2,FALSE),"")
A14: 2012 | B14: 41001 | C14: Tunnel 6 Prim | D14: 2.721875 | F14: =IFERROR(VLOOKUP(F$1,OFFSET(Calendrier!$A$1:$C$1,MATCH('Irrigation 2011-2017'!$B14,Calendrier!$C:$C,0)-1,,COUNTIF(Calendrier!$C:$C,'Irrigation 2011-2017'!$B14)),2,FALSE),"") | G14: =IFERROR(VLOOKUP(G$1,OFFSET(Calendrier!$A$1:$C$1,MATCH('Irrigation 2011-2017'!$B14,Calendrier!$C:$C,0)-1,,COUNTIF(Calendrier!$C:$C,'Irrigation 2011-2017'!$B14)),2,FALSE),"")
A15: 2012 | B15: 41001 | C15: Tunnel 7 Prim | D15: 2.721875 | F15: =IFERROR(VLOOKUP(F$1,OFFSET(Calendrier!$A$1:$C$1,MATCH('Irrigation 2011-2017'!$B15,Calendrier!$C:$C,0)-1,,COUNTIF(Calendrier!$C:$C,'Irrigation 2011-2017'!$B15)),2,FALSE),"") | G15: =IFERROR(VLOOKUP(G$1,OFFSET(Calendrier!$A$1:$C$1,MATCH('Irrigation 2011-2017'!$B15,Calendrier!$C:$C,0)-1,,COUNTIF(Calendrier!$C:$C,'Irrigation 2011-2017'!$B15)),2,FALSE),"")
A16: 2012 | B16: 41002 | C16: Tunnel 5 Prim | D16: 2.721875 | E16: tomate | G16: =IFERROR(VLOOKUP(G$1,OFFSET(Calendrier!$A$1:$C$1,MATCH('Irrigation 2011-2017'!$B16,Calendrier!$C:$C,0)-1,,COUNTIF(Calendrier!$C:$C,'Irrigation 2011-2017'!$B16)),2,FALSE),"")
A17: 2012 | B17: 41003 | C17: Tunnel 6 Prim | D17: 2.721875 | F17: =IFERROR(VLOOKUP(F$1,OFFSET(Calendrier!$A$1:$C$1,MATCH('Irrigation 2011-2017'!$B17,Calendrier!$C:$C,0)-1,,COUNTIF(Calendrier!$C:$C,'Irrigation 2011-2017'!$B17)),2,FALSE),"") | G17: =IFERROR(VLOOKUP(G$1,OFFSET(Calendrier!$A$1:$C$1,MATCH('Irrigation 2011-2017'!$B17,Calendrier!$C:$C,0)-1,,COUNTIF(Calendrier!$C:$C,'Irrigation 2011-2017'!$B17)),2,FALSE),"")
A18: 2012 | B18: 41003 | C18: Tunnel 7 Prim | D18: 2.721875 | F18: =IFERROR(VLOOKUP(F$1,OFFSET(Calendrier!$A$1:$C$1,MATCH('Irrigation 2011-2017'!$B18,Calendrier!$C:$C,0)-1,,COUNTIF(Calendrier!$C:$C,'Irrigation 2011-2017'!$B18)),2,FALSE),"") | G18: =IFERROR(VLOOKUP(G$1,OFFSET(Calendrier!$A$1:$C$1,MATCH('Irrigation 2011-2017'!$B18,Calendrier!$C:$C,0)-1,,COUNTIF(Calendrier!$C:$C,'Irrigation 2011-2017'!$B18)),2,FALSE),"")
A19: 2012 | B19: 41004 | C19: Tunnel 5 Prim | D19: 2.721875 | E19: tomate | G19: =IFERROR(VLOOKUP(G$1,OFFSET(Calendrier!$A$1:$C$1,MATCH('Irrigation 2011-2017'!$B19,Calendrier!$C:$C,0)-1,,COUNTIF(Calendrier!$C:$C,'Irrigation 2011-2017'!$B19)),2,FALSE),"")
A20: 2012 | B20: 41004 | C20: Tunnel 6 Prim | D20: 2.721875 | F20: =IFERROR(VLOOKUP(F$1,OFFSET(Calendrier!$A$1:$C$1,MATCH('Irrigation 2011-2017'!$B20,Calendrier!$C:$C,0)-1,,COUNTIF(Calendrier!$C:$C,'Irrigation 2011-2017'!$B20)),2,FALSE),"") | G20: =IFERROR(VLOOKUP(G$1,OFFSET(Calendrier!$A$1:$C$1,MATCH('Irrigation 2011-2017'!$B20,Calendrier!$C:$C,0)-1,,COUNTIF(Calendrier!$C:$C,'Irrigation 2011-2017'!$B20)),2,FALSE),"")
A21: 2012 | B21: 41004 | C21: Tunnel 7 Prim | D21: 2.721875 | F21: =IFERROR(VLOOKUP(F$1,OFFSET(Calendrier!$A$1:$C$1,MATCH('Irrigation 2011-2017'!$B21,Calendrier!$C:$C,0)-1,,COUNTIF(Calendrier!$C:$C,'Irrigation 2011-2017'!$B21)),2,FALSE),"") | G21: =IFERROR(VLOOKUP(G$1,OFFSET(Calendrier!$A$1:$C$1,MATCH('Irrigation 2011-2017'!$B21,Calendrier!$C:$C,0)-1,,COUNTIF(Calendrier!$C:$C,'Irrigation 2011-2017'!$B21)),2,FALSE),"")
A22: 2012 | B22: 41005 | C22: Tunnel 5 Prim | D22: 2.721875 | E22: tomate | G22: =IFERROR(VLOOKUP(G$1,OFFSET(Calendrier!$A$1:$C$1,MATCH('Irrigation 2011-2017'!$B22,Calendrier!$C:$C,0)-1,,COUNTIF(Calendrier!$C:$C,'Irrigation 2011-2017'!$B22)),2,FALSE),"")
A23: 2012 | B23: 41005 | C23: Tunnel 6 Prim | D23: 5.44375 | F23: =IFERROR(VLOOKUP(F$1,OFFSET(Calendrier!$A$1:$C$1,MATCH('Irrigation 2011-2017'!$B23,Calendrier!$C:$C,0)-1,,COUNTIF(Calendrier!$C:$C,'Irrigation 2011-2017'!$B23)),2,FALSE),"") | G23: =IFERROR(VLOOKUP(G$1,OFFSET(Calendrier!$A$1:$C$1,MATCH('Irrigation 2011-2017'!$B23,Calendrier!$C:$C,0)-1,,COUNTIF(Calendrier!$C:$C,'Irrigation 2011-2017'!$B23)),2,FALSE),"")
A24: 2012 | B24: 41005 | C24: Tunnel 7 Prim | D24: 5.44375 | F24: =IFERROR(VLOOKUP(F$1,OFFSET(Calendrier!$A$1:$C$1,MATCH('Irrigation 2011-2017'!$B24,Calendrier!$C:$C,0)-1,,COUNTIF(Calendrier!$C:$C,'Irrigation 2011-2017'!$B24)),2,FALSE),"") | G24: =IFERROR(VLOOKUP(G$1,OFFSET(Calendrier!$A$1:$C$1,MATCH('Irrigation 2011-2017'!$B24,Calendrier!$C:$C,0)-1,,COUNTIF(Calendrier!$C:$C,'Irrigation 2011-2017'!$B24)),2,FALSE),"")
A25: 2012 | B25: 41006 | C25: Tunnel 5 Prim | D25: 5.44375 | E25: tomate | G25: =IFERROR(VLOOKUP(G$1,OFFSET(Calendrier!$A$1:$C$1,MATCH('Irrigation 2011-2017'!$B25,Calendrier!$C:$C,0)-1,,COUNTIF(Calendrier!$C:$C,'Irrigation 2011-2017'!$B25)),2,FALSE),"")
A26: 2012 | B26: 41006 | C26: Tunnel 6 Prim | D26: 2.721875 | F26: =IFERROR(VLOOKUP(F$1,OFFSET(Calendrier!$A$1:$C$1,MATCH('Irrigation 2011-2017'!$B26,Calendrier!$C:$C,0)-1,,COUNTIF(Calendrier!$C:$C,'Irrigation 2011-2017'!$B26)),2,FALSE),"") | G26: =IFERROR(VLOOKUP(G$1,OFFSET(Calendrier!$A$1:$C$1,MATCH('Irrigation 2011-2017'!$B26,Calendrier!$C:$C,0)-1,,COUNTIF(Calendrier!$C:$C,'Irrigation 2011-2017'!$B26)),2,FALSE),"")
A27: 2012 | B27: 41006 | C27: Tunnel 7 Prim | D27: 2.721875 | F27: =IFERROR(VLOOKUP(F$1,OFFSET(Calendrier!$A$1:$C$1,MATCH('Irrigation 2011-2017'!$B27,Calendrier!$C:$C,0)-1,,COUNTIF(Calendrier!$C:$C,'Irrigation 2011-2017'!$B27)),2,FALSE),"") | G27: =IFERROR(VLOOKUP(G$1,OFFSET(Calendrier!$A$1:$C$1,MATCH('Irrigation 2011-2017'!$B27,Calendrier!$C:$C,0)-1,,COUNTIF(Calendrier!$C:$C,'Irrigation 2011-2017'!$B27)),2,FALSE),"")
A28: 2012 | B28: 41007 | C28: Tunnel 5 Prim | D28: 2.721875 | E28: tomate | G28: =IFERROR(VLOOKUP(G$1,OFFSET(Calendrier!$A$1:$C$1,MATCH('Irrigation 2011-2017'!$B28,Calendrier!$C:$C,0)-1,,COUNTIF(Calendrier!$C:$C,'Irrigation 2011-2017'!$B28)),2,FALSE),"")
A29: 2012 | B29: 41007 | C29: Tunnel 6 Prim | D29: 2.721875 | F29: =IFERROR(VLOOKUP(F$1,OFFSET(Calendrier!$A$1:$C$1,MATCH('Irrigation 2011-2017'!$B29,Calendrier!$C:$C,0)-1,,COUNTIF(Calendrier!$C:$C,'Irrigation 2011-2017'!$B29)),2,FALSE),"") | G29: =IFERROR(VLOOKUP(G$1,OFFSET(Calendrier!$A$1:$C$1,MATCH('Irrigation 2011-2017'!$B29,Calendrier!$C:$C,0)-1,,COUNTIF(Calendrier!$C:$C,'Irrigation 2011-2017'!$B29)),2,FALSE),"")
A30: 2012 | B30: 41007 | C30: Tunnel 7 Prim | D30: 2.721875 | F30: =IFERROR(VLOOKUP(F$1,OFFSET(Calendrier!$A$1:$C$1,MATCH('Irrigation 2011-2017'!$B30,Calendrier!$C:$C,0)-1,,COUNTIF(Calendrier!$C:$C,'Irrigation 2011-2017'!$B30)),2,FALSE),"") | G30: =IFERROR(VLOOKUP(G$1,OFFSET(Calendrier!$A$1:$C$1,MATCH('Irrigation 2011-2017'!$B30,Calendrier!$C:$C,0)-1,,COUNTIF(Calendrier!$C:$C,'Irrigation 2011-2017'!$B30)),2,FALSE),"")
A31: 2012 | B31: 41008 | C31: Tunnel 5 Prim | D31: 2.721875 | E31: tomate | G31: =IFERROR(VLOOKUP(G$1,OFFSET(Calendrier!$A$1:$C$1,MATCH('Irrigation 2011-2017'!$B31,Calendrier!$C:$C,0)-1,,COUNTIF(Calendrier!$C:$C,'Irrigation 2011-2017'!$B31)),2,FALSE),"")
A32: 2012 | B32: 41008 | C32: Tunnel 6 Prim | D32: 2.721875 | F32: =IFERROR(VLOOKUP(F$1,OFFSET(Calendrier!$A$1:$C$1,MATCH('Irrigation 2011-2017'!$B32,Calendrier!$C:$C,0)-1,,COUNTIF(Calendrier!$C:$C,'Irrigation 2011-2017'!$B32)),2,FALSE),"") | G32: =IFERROR(VLOOKUP(G$1,OFFSET(Calendrier!$A$1:$C$1,MATCH('Irrigation 2011-2017'!$B32,Calendrier!$C:$C,0)-1,,COUNTIF(Calendrier!$C:$C,'Irrigation 2011-2017'!$B32)),2,FALSE),"")
A33: 2012 | B33: 41008 | C33: Tunnel 7 Prim | D33: 2.721875 | F33: =IFERROR(VLOOKUP(F$1,OFFSET(Calendrier!$A$1:$C$1,MATCH('Irrigation 2011-2017'!$B33,Calendrier!$C:$C,0)-1,,COUNTIF(Calendrier!$C:$C,'Irrigation 2011-2017'!$B33)),2,FALSE),"") | G33: =IFERROR(VLOOKUP(G$1,OFFSET(Calendrier!$A$1:$C$1,MATCH('Irrigation 2011-2017'!$B33,Calendrier!$C:$C,0)-1,,COUNTIF(Calendrier!$C:$C,'Irrigation 2011-2017'!$B33)),2,FALSE),"")
A34: 2012 | B34: 41009 | C34: Tunnel 5 Prim | D34: 2.721875 | E34: tomate | G34: =IFERROR(VLOOKUP(G$1,OFFSET(Calendrier!$A$1:$C$1,MATCH('Irrigation 2011-2017'!$B34,Calendrier!$C:$C,0)-1,,COUNTIF(Calendrier!$C:$C,'Irrigation 2011-2017'!$B34)),2,FALSE),"")
A35: 2012 | B35: 41009 | C35: Tunnel 6 Prim | D35: 2.721875 | F35: =IFERROR(VLOOKUP(F$1,OFFSET(Calendrier!$A$1:$C$1,MATCH('Irrigation 2011-2017'!$B35,Calendrier!$C:$C,0)-1,,COUNTIF(Calendrier!$C:$C,'Irrigation 2011-2017'!$B35)),2,FALSE),"") | G35: =IFERROR(VLOOKUP(G$1,OFFSET(Calendrier!$A$1:$C$1,MATCH('Irrigation 2011-2017'!$B35,Calendrier!$C:$C,0)-1,,COUNTIF(Calendrier!$C:$C,'Irrigation 2011-2017'!$B35)),2,FALSE),"")
A36: 2012 | B36: 41009 | C36: Tunnel 7 Prim | D36: 2.721875 | F36: =IFERROR(VLOOKUP(F$1,OFFSET(Calendrier!$A$1:$C$1,MATCH('Irrigation 2011-2017'!$B36,Calendrier!$C:$C,0)-1,,COUNTIF(Calendrier!$C:$C,'Irrigation 2011-2017'!$B36)),2,FALSE),"") | G36: =IFERROR(VLOOKUP(G$1,OFFSET(Calendrier!$A$1:$C$1,MATCH('Irrigation 2011-2017'!$B36,Calendrier!$C:$C,0)-1,,COUNTIF(Calendrier!$C:$C,'Irrigation 2011-2017'!$B36)),2,FALSE),"")
A37: 2012 | B37: 41010 | C37: Tunnel 5 Prim | D37: 2.721875 | E37: tomate | G37: =IFERROR(VLOOKUP(G$1,OFFSET(Calendrier!$A$1:$C$1,MATCH('Irrigation 2011-2017'!$B37,Calendrier!$C:$C,0)-1,,COUNTIF(Calendrier!$C:$C,'Irrigation 2011-2017'!$B37)),2,FALSE),"")
A38: 2012 | B38: 41010 | C38: Tunnel 6 Prim | D38: 2.721875 | F38: =IFERROR(VLOOKUP(F$1,OFFSET(Calendrier!$A$1:$C$1,MATCH('Irrigation 2011-2017'!$B38,Calendrier!$C:$C,0)-1,,COUNTIF(Calendrier!$C:$C,'Irrigation 2011-2017'!$B38)),2,FALSE),"") | G38: =IFERROR(VLOOKUP(G$1,OFFSET(Calendrier!$A$1:$C$1,MATCH('Irrigation 2011-2017'!$B38,Calendrier!$C:$C,0)-1,,COUNTIF(Calendrier!$C:$C,'Irrigation 2011-2017'!$B38)),2,FALSE),"")
A39: 2012 | B39: 41010 | C39: Tunnel 7 Prim | D39: 2.721875 | F39: =IFERROR(VLOOKUP(F$1,OFFSET(Calendrier!$A$1:$C$1,MATCH('Irrigation 2011-2017'!$B39,Calendrier!$C:$C,0)-1,,COUNTIF(Calendrier!$C:$C,'Irrigation 2011-2017'!$B39)),2,FALSE),"") | G39: =IFERROR(VLOOKUP(G$1,OFFSET(Calendrier!$A$1:$C$1,MATCH('Irrigation 2011-2017'!$B39,Calendrier!$C:$C,0)-1,,COUNTIF(Calendrier!$C:$C,'Irrigation 2011-2017'!$B39)),2,FALSE),"")
A40: 2012 | B40: 41011 | C40: Tunnel 5 Prim | D40: 2.721875 | E40: tomate | G40: =IFERROR(VLOOKUP(G$1,OFFSET(Calendrier!$A$1:$C$1,MATCH('Irrigation 2011-2017'!$B40,Calendrier!$C:$C,0)-1,,COUNTIF(Calendrier!$C:$C,'Irrigation 2011-2017'!$B40)),2,FALSE),"")
...
