Workbook

Sheet Liste clientèle
C1: N° société | D1: Nom de la société | E1: Nom du contact | F1: Adresse | G1: Ville | H1: CP
B2: =Listedesclients[[#This Row],[N° société]]& " - " &Listedesclients[[#This Row],[Nom de la société]] -> 1 - SARL Tartanpion | C2: 1 | D2: SARL Tartanpion | E2: Mme Dupond | F2: 35 Route des Champs | G2: Lyon | H2: 38000
B3: =Listedesclients[[#This Row],[N° société]]& " - " &Listedesclients[[#This Row],[Nom de la société]] -> 2 - | C3: 2
B4: =Listedesclients[[#This Row],[N° société]]& " - " &Listedesclients[[#This Row],[Nom de la société]] -> 3 - | C4: 3
B5: =Listedesclients[[#This Row],[N° société]]& " - " &Listedesclients[[#This Row],[Nom de la société]] -> 4 - | C5: 4
B6: =Listedesclients[[#This Row],[N° société]]& " - " &Listedesclients[[#This Row],[Nom de la société]] -> 5 - | C6: 5
B7: =Listedesclients[[#This Row],[N° société]]& " - " &Listedesclients[[#This Row],[Nom de la société]] -> 6 - | C7: 6
B8: =Listedesclients[[#This Row],[N° société]]& " - " &Listedesclients[[#This Row],[Nom de la société]] -> 7 - | C8: 7
B9: =Listedesclients[[#This Row],[N° société]]& " - " &Listedesclients[[#This Row],[Nom de la société]] -> 8 - | C9: 8
B10: =Listedesclients[[#This Row],[N° société]]& " - " &Listedesclients[[#This Row],[Nom de la société]] -> 9 - | C10: 9
B11: =Listedesclients[[#This Row],[N° société]]& " - " &Listedesclients[[#This Row],[Nom de la société]] -> 10 - | C11: 10
B12: =Listedesclients[[#This Row],[N° société]]& " - " &Listedesclients[[#This Row],[Nom de la société]] -> 11 - | C12: 11
B13: =Listedesclients[[#This Row],[N° société]]& " - " &Listedesclients[[#This Row],[Nom de la société]] -> 12 - | C13: 12
B14: =Listedesclients[[#This Row],[N° société]]& " - " &Listedesclients[[#This Row],[Nom de la société]] -> 13 - | C14: 13
... B171: =Listedesclients[[#This Row],[N° société]]& " - " &Listedesclients[[#This Row],[Nom de la société]] -> 170 - | C171: 170
C174: ="Total clients : "&SUBTOTAL(103,Listedesclients[N° société]) -> Total clients : 170

Sheet Récap Avoir
A1: N° Avoir | B1: Date | C1: N° client | D1: Nos réf. | E1: Vos réf. | F1: Désignation | G1: HT | H1: Taux TVA | I1: TVA | J1: TTC
A2: 18000 | B2: 43144 | C2: 1 - SARL Tartanpion | D2: Chantier 18000 | F2: Percement mur | G2: 150 | H2: 0.2 | I2: =G2*H2 -> 30 | J2: =G2+I2 -> 180
A3: 18001 | H3: 0.2 | I3: =G3*H3 -> 0 | J3: =G3+I3 -> 0
A4: 18002 | H4: 0.2 | I4: =G4*H4 -> 0 | J4: =G4+I4 -> 0
A5: 18003 | H5: 0.2 | I5: =G5*H5 -> 0 | J5: =G5+I5 -> 0
A6: 18004 | H6: 0.2 | I6: =G6*H6 -> 0 | J6: =G6+I6 -> 0
A7: 18005 | H7: 0.2 | I7: =G7*H7 -> 0 | J7: =G7+I7 -> 0
A8: 18006 | H8: 0.2 | I8: =G8*H8 -> 0 | J8: =G8+I8 -> 0
A9: 18007 | H9: 0.2 | I9: =G9*H9 -> 0 | J9: =G9+I9 -> 0
A10: 18008 | H10: 0.2 | I10: =G10*H10 -> 0 | J10: =G10+I10 -> 0
A11: 18009 | H11: 0.2 | I11: =G11*H11 -> 0 | J11: =G11+I11 -> 0
A12: 18010 | H12: 0.2 | I12: =G12*H12 -> 0 | J12: =G12+I12 -> 0
A13: 18011 | H13: 0.2 | I13: =G13*H13 -> 0 | J13: =G13+I13 -> 0
A14: 18012 | H14: 0.2 | I14: =G14*H14 -> 0 | J14: =G14+I14 -> 0
... A302: 18300 | H302: 0.2 | I302: =G302*H302 -> 0 | J302: =G302+I302 -> 0
A305: TOTAL | G305: =SUM(G2:G303) -> 150 | I305: =SUM(I2:I303) -> 30 | J305: =SUM(J2:J303) -> 180

Sheet Avoir
B7: AVOIR | C7: 18000
A10: Nos Réf. | B10: =IF(ISERROR(VLOOKUP(C7,'Récap Avoir'!A:A,'Récap Avoir'!D:D,FALSE)),"",VLOOKUP(C7,'Récap Avoir'!A:A,'Récap Avoir'!D:D,FALSE))
A12: Vos Réf. | B12: =IF(ISERROR(VLOOKUP(C7,'Récap Avoir'!A:A,'Récap Avoir'!E:E,FALSE)),"",VLOOKUP(C7,'Récap Avoir'!A:A,'Récap Avoir'!E:E,FALSE))
C14: =IF(ISERROR(VLOOKUP(C7,'Récap Avoir'!A:A,'Récap Avoir'!C:C,FALSE)),"",VLOOKUP(C7,'Récap Avoir'!A:A,'Récap Avoir'!C:C,FALSE))
C16: A l'attention de | E16: =IF(ISERROR(VLOOKUP(C14,'Liste clientèle'!B:B,'Liste clientèle'!E:E,FALSE)),"",VLOOKUP(C14,'Liste clientèle'!B:B,'Liste clientèle'!E:E,FALSE))
C17: =IF(ISERROR(VLOOKUP(C14='Liste clientèle'!B:B,'Liste clientèle'!F:F,FALSE)),"",VLOOKUP(C14='Liste clientèle'!B:B,'Liste clientèle'!F:F,FALSE))
C18: =IF(ISERROR(VLOOKUP(C14='Liste clientèle'!B:B,'Liste clientèle'!H:H,FALSE)),"",VLOOKUP(C14='Liste clientèle'!B:B,'Liste clientèle'!H:H,FALSE)) | E18: =IF(ISERROR(VLOOKUP(C14='Liste clientèle'!B:B,'Liste clientèle'!G:G,FALSE)),"",VLOOKUP(C14='Liste clientèle'!B:B,'Liste clientèle'!G:G,FALSE))
A19: Objet | B19: =IF(ISERROR(VLOOKUP(C7,'Récap Avoir'!A:A,'Récap Avoir'!F:F,FALSE)),"",VLOOKUP(C7,'Récap Avoir'!A:A,'Récap Avoir'!F:F,FALSE))
C20: Briançon, le | E20: =IF(ISERROR(VLOOKUP(C7,'Récap Avoir'!A:A,'Récap Avoir'!B:B,FALSE)),"",VLOOKUP(C7,'Récap Avoir'!A:A,'Récap Avoir'!B:B,FALSE))
A22: ARTICLE | B22: DÉSIGNATION | C22: U | D22: QTE | E22: P. U. HT | F22: TOTAL HT
E39: TOTAL HT | F39: =SUM(F23:F38) -> 0
E40: TAUX TVA | F40: 0.2
E41: MONTANT TVA | F41: =F39*F40 -> 0
E42: TOTAL TTC | F42: =F39+F41 -> 0
